{"text_format":"1","workbook":"xlsx","n_sheets":6,"sheets":["Input","Male","Female","Male - Rev","Female - Rev","Heat Maps"],"not_rendered":{"charts":2,"images":0,"macros":1,"external_links":0,"defined_names":14,"comments":1,"pivot_tables":0},"unopened":[],"bounds":{"document_bytes":16777216,"sheet_cells":100000,"rows_first":2000,"rows_last":500,"rows_between":2000,"halvings":0,"cell_chars":16384,"cell_head_chars":4096},"cells_cut":0,"cells_raw":0,"read":"whole","date_system":"1900"}

{"sheet":"Input","index":0,"n_rows":107,"n_cols":25,"rows_kept":107,"cut":false,"hidden":false,"merged":[]}
["The RPEC_2014_v2020 model to construct a mortality improvement scale",null,null,null,null,null,null,null,null,null,null,null,null,null,null,null,null,"Unrounded rates for MP-2020"]
["Written Oct, 2014 by Bob Howard & modified October, 2020",null,null,null,null,null,"bob@howardfamily.ca",null,null,null,null,null,null,null,null,null,null,"Male",null,"Female"]
[null,null,null,null,null,null,null,null,null,null,null,null,null,null,null,null,null,2015,2016,2015,2016]
["Name of improvement scale",null,null,"MP-2020",null,null,null,null,null,null,null,null,null,null,null,null,20,-1.3051080129806936E-2,-2.0246351466347567E-2,-1.6796322591150714E-2,-2.2634880886502895E-2]
["Long term rates",null,null,null,null,null,null,"Convergence",null,null,null,null,null,"Rounding",null,null,21,-1.4948585715506946E-2,-2.1402552083175985E-2,-1.8693244238921825E-2,-2.4236225758526686E-2,null,"Manual Ultimate"]
[null,null,"Age","Rate",null,null,null,"The rates for intervening years are obtained by",null,null,null,null,null,4,"decimals",null,22,-1.7468219235316829E-2,-2.3401052312139736E-2,-2.0842723550240416E-2,-2.6234467705948283E-2,null,null,"Male","Female"]
["Line segments",null,62,1.35E-2,null,null,null,"combining cubics running from historical to long term",null,null,null,null,null,"Calculations are done without",null,null,23,-2.0521086498606067E-2,-2.6147984059680995E-2,-2.3205785559604841E-2,-2.8574149356771494E-2,null,20]
[null,null,80,1.0999999999999999E-2,null,null,null,"1. by attained age",null,null,null,null,null,"rounding until the final",null,null,24,-2.396937434411206E-2,-2.9474707466619288E-2,-2.5726194971994909E-2,-3.117649580867865E-2,null,21]
[null,null,95,4.0000000000000001E-3,null,null,null,"2. by birth cohort",null,null,null,null,null,"numbers are displayed.",null,null,25,-2.7640657180215911E-2,-3.3158336024878832E-2,-2.8333110225661651E-2,-3.3944229409535787E-2,null,22]
[null,null,115,0,null,null,null,null,"Birth cohort proportion",null,null,null,null,null,null,null,26,-3.1351133565260758E-2,-3.6959389858624903E-2,-3.0947596312472347E-2,-3.6763226718675046E-2,null,23]
[null,null,null,null,null,null,null,"Male",0.5,null,null,null,null,null,null,null,27,-3.4929052968286856E-2,-4.0661348337273528E-2,-3.347909847783459E-2,-3.950276296088906E-2,null,24]
["The long term rates are developed as line segments.",null,null,null,null,null,null,"Female",0.5,null,null,null,null," ",null,null,28,-3.8231055484757137E-2,-4.4099652972804604E-2,-3.5817247128563823E-2,-4.2017054015780486E-2,null,25]
["The first line segment is flat from age 20 to the age specified.",null,null,null,null,null,null,null,null,null,null,null,null,null,null,null,29,-4.1151230792448423E-2,-4.7170081525820917E-2,-3.7832570803124854E-2,-4.4148903604900758E-2,null,26]
["Tne next segment begins there and ends at the next age and rate",null,null,null,null,null,null,"Convergence to ultimate in year",null,null,null,null,null,null,null,null,30,-4.3618006808612497E-2,-4.9817639443755057E-2,-3.9388169503530301E-2,-4.574031983196658E-2,null,27]
["specified, until all the age-rates are used. The ages must be ",null,null,null,null,null,null,"Age",2026,null,null,null,null,null,null,null,31,-4.55785322004576E-2,-5.2011232522137574E-2,-4.0353707615877532E-2,-4.6652072887906293E-2,null,28]
["ascending order. ",null,null,null,null,null,null,"Cohort",2036,null,null,null,null,null,null,null,32,-4.6979801661426457E-2,-5.3713818635280797E-2,-4.0622701038603326E-2,-4.6782397977473522E-2,null,29]
["Alternatively, cell C7 can be set to \"Manual\". In that case the ",null,null,null,null,null,null,null,null,null,null,null,null,null,null,null,33,-4.7754339697003934E-2,-5.4860046193594414E-2,-4.0128295395960967E-2,-4.6077712476550126E-2,null,30]
["values shown in cells X7:Y107 are used for the ultimate.",null,null,null,null,null,null,"Constraint on initial slope",null,null,null,null,null,null,null,null,34,-4.781699037247189E-2,-5.5348994873122725E-2,-3.8850462028388044E-2,-4.453387269683895E-2,null,31]
["Otherwise the values in cells X7:Y107 are ignored.",null,null,null,null,null,null,"Age",0,null,null,null,null,null,null,null,35,-4.7076426563704699E-2,-5.5058584762758711E-2,-3.6810683121398347E-2,-4.219158809430712E-2,null,32]
[null,null,null,null,null,null,null,"Cohort",0,null,null,null,null,null,null,null,36,-4.5457982988684753E-2,-5.3874993289742434E-2,-3.4065401093506198E-2,-3.9124738239036949E-2,null,33]
[null,null,null,null,null,null,null,null,null,null,null,null,null,null,null,null,37,-4.2930381331509837E-2,-5.1727039916928508E-2,-3.0698681887340928E-2,-3.5432348502448363E-2,null,34]
["About RPEC_2014_v2020",null,null,null,null,null,null,null,null,null,null,null,null,null,null,null,38,-3.9525370600702159E-2,-4.8613327005985196E-2,-2.681959793672406E-2,-3.1233736906245868E-2,null,35]
["This model includes historical data through 2018. Historical mortality improvement rates have been developed using Order 3 Whittaker-Henderson graduation.",null,null,null,null,null,null,null,null,null,null,null,null,null,null,null,39,-3.5344015208219171E-2,-4.4612835924498384E-2,-2.2560071314171815E-2,-2.666483283392207E-2,null,36]
[null,null,null,null,null,null,null,null,null,null,null,null,null,null,null,null,40,-3.0549224146818377E-2,-3.9876489209378585E-2,-1.8070765328311866E-2,-2.1874373202046549E-2,null,37]
[null,null,null,null,null,null,null,null,null,null,null,null,null,null,null,null,41,-2.5349298988946334E-2,-3.4607544661681144E-2,-1.3518261147585697E-2,-1.7019134663567748E-2,null,38]
["How to…",null,null,null,null,null,null,null,null,null,null,null,null,null,null,null,42,-1.9979697658299544E-2,-2.9037088068562644E-2,-9.0798980326909362E-3,-1.2258627501851249E-2,null,39]
["You can enter values in any of the cells with a pale yellow background. These fields provide the parameters for the RPEC_2014_v2020 model, which along with the historical",null,null,null,null,null,null,null,null,null,null,null,null,null,null,null,43,-1.4687276802211491E-2,-2.3401808212198283E-2,-4.9355248642140026E-3,-7.7497415206526643E-3,null,40]
["improvement rates, will be used to construct improvement scales in the worksheets \"Male\" and \"Female\". The rates in the new scales are the same as Scale MP-2020",null,null,null,null,null,null,null,null,null,null,null,null,null,null,null,44,-9.7120390742779783E-3,-1.7924790806795876E-2,-1.2585163668881183E-3,-3.6394423318952818E-3,null,41]
["through to year 2016 (with a light blue or pink background); projected rates are shown for year 2017 and later (with a yellow background). The name for your scale",null,null,null,null,null,null,null,null,null,null,null,null,null,null,null,45,-5.2664457464659531E-3,-1.2801836909064779E-2,1.7963743642378516E-3,-5.9359148397053474E-5,null,42]
["cannot include the text \"MP-2020\". Click on the button \"Calculate\" to calculate the new scale.",null,null,null,null,null,null,null,null,null,null,null,null,null,null,null,46,-1.5154258140293031E-3,-8.1928018110060119E-3,4.1053818708679524E-3,2.8785190484874601E-3,null,43]
["You can restore the parameters and rates for Scale MP-2020 by clicking on the button \"Calculate with input values for MP-2020\". ",null,null,null,null,null,null,null,null,null,null,null,null,null,null,null,47,1.4387652543191853E-3,-4.2189740851432678E-3,5.5862471400426328E-3,5.0844688035386332E-3,null,44]
[null,null,null,null,null,null,null,null,null,null,null,null,null,null,null,null,48,3.5625108471097899E-3,-9.6331327817966717E-4,6.2050522223496829E-3,6.4943413254943128E-3,null,45]
[null,null,null,null,null,null,null,null,null,null,null,null,null,null,null,null,49,4.8840846400268756E-3,1.5270105255342781E-3,5.9784923129645451E-3,7.0741189467924404E-3,null,46]
["Troubleshooting",null,null,null,null,null,null,null,null,null,null,null,null,null,null,null,50,5.4768440496052451E-3,3.2371496988539139E-3,4.9736238879346528E-3,6.8263096588678795E-3,null,47]
["Some when clicking on the buttons on this worksheet have received the error, “Can’t find project or library”. This is most likely caused by a missing",null,null,null,null,null,null,null,null,null,null,null,null,null,null,null,51,5.4379424674405596E-3,4.1815215036147269E-3,3.305488126752687E-3,5.7979569770442163E-3,null,48]
["reference. It can be fixed by the following steps:",null,null,null,null,null,null,null,null,null,null,null,null,null,null,null,52,4.8685509174342112E-3,4.402419711672545E-3,1.133424960383711E-3,4.088756456785303E-3,null,49]
[null,"Bring up the list of workbook macros (Alt + T + M + M)",null,null,null,null,null,null,null,null,null,null,null,null,null,null,53,3.8610844727700044E-3,3.9689695076539078E-3,-1.3449099693794153E-3,1.8531657794390588E-3,null,50]
[null,"Select “Edit”",null,null,null,null,null,null,null,null,null,null,null,null,null,null,54,2.4972184752707349E-3,2.9754968407275095E-3,-3.9050583103434899E-3,-7.0558836257017532E-4,null,51]
[null,"In the Visual Basic Window, select “Tools” -> “References”",null,null,null,null,null,null,null,null,null,null,null,null,null,null,55,8.561305151941756E-4,1.5391443959277273E-3,-6.3130070619454859E-3,-3.3506733247867793E-3,null,52]
[null,"Look at the list of available references.  If any have the text “MISSING” in front of them, uncheck the box for that reference",null,null,null,null,null,null,null,null,null,null,null,null,null,null,56,-9.7110881444262276E-4,-2.0277543474045423E-4,-8.3458916424679064E-3,-5.8333552837357416E-3,null,53]
[null,null,null,null,null,null,null,null,null,null,null,null,null,null,null,null,57,-2.8668834170981761E-3,-2.0953237622276522E-3,-9.8108851955007736E-3,-7.9150398623053508E-3,null,54]
["Disclaimer",null,null,null,null,null,null,null,null,null,null,null,null,null,null,null,58,-4.6805212316360922E-3,-3.9701404451664146E-3,-1.0560426429835568E-2,-9.3872684133526896E-3,null,55]
["This software is made available free of charge with the understanding that neither the author nor the Society of Actuaries accepts",null,null,null,null,null,null,null,null,null,null,null,null,null,null,null,59,-6.2361169466398358E-3,-5.654861666284372E-3,-1.0504793357316577E-2,-1.0091214683120242E-2,null,56]
["any liability for its use. It may be used for any personal, research or commercial use provided that the user does not represent it ",null,null,null,null,null,null,null,null,null,null,null,null,null,null,null,60,-7.3561844614935534E-3,-6.9880682205767375E-3,-9.6225129938827259E-3,-9.9365681565708464E-3,null,57]
["as his or her own work and does not distribute it to others for a fee.",null,null,null,null,null,null,null,null,null,null,null,null,null,null,null,61,-7.8945509237640099E-3,-7.8370954874922294E-3,-7.9679091511200006E-3,-8.917277036895932E-3,null,58]
[null,null,null,null,null,null,null,null,null,null,null,null,null,null,null,null,62,-7.7684970217610783E-3,-8.1152833967870208E-3,-5.674703830769845E-3,-7.1209768676063767E-3,null,59]
[null,null,null,null,null,null,null,null,null,null,null,null,null,null,null,null,63,-6.9789167486515868E-3,-7.7939485508158324E-3,-2.9489994923899143E-3,-4.7255549975502298E-3,null,60]
[null,null,null,null,null,null,null,null,null,null,null,null,null,null,null,null,64,-5.611119502503259E-3,-6.9051107491189256E-3,-4.5899245346925355E-5,-1.9767294034698235E-3,null,61]
[null,null,null,null,null,null,null,null,null,null,null,null,null,null,null,null,65,-3.8160379884280005E-3,-5.5345180878063616E-3,2.7686731324687575E-3,8.5098404009298356E-4,null,62]
[null,null,null,null,null,null,null,null,null,null,null,null,null,null,null,null,66,-1.7793182289465026E-3,-3.8083688421255424E-3,5.2612130589816397E-3,3.4989428061529271E-3,null,63]
[null,null,null,null,null,null,null,null,null,null,null,null,null,null,null,null,67,3.1130810169788248E-4,-1.8773025910245877E-3,7.2671858056805316E-3,5.7629318827860931E-3,null,64]
[null,null,null,null,null,null,null,null,null,null,null,null,null,null,null,null,68,2.2923054009107435E-3,1.001850840879337E-4,8.7098102476925732E-3,7.5159947820775397E-3,null,65]
[null,null,null,null,null,null,null,null,null,null,null,null,null,null,null,null,69,4.0405678845077952E-3,1.9748657389808688E-3,9.5961180716735983E-3,8.712749964223776E-3,null,66]
[null,null,null,null,null,null,null,null,null,null,null,null,null,null,null,null,70,5.4798629157092327E-3,3.6229322275501685E-3,9.993942791474808E-3,9.3769360225796072E-3,null,67]
[null,null,null,null,null,null,null,null,null,null,null,null,null,null,null,null,71,6.5784720025428012E-3,4.9578617078860354E-3,1.000430905545302E-2,9.5780269008906016E-3,null,68]
[null,null,null,null,null,null,null,null,null,null,null,null,null,null,null,null,72,7.3421709956649206E-3,5.9368478248530421E-3,9.7337696592162404E-3,9.4085056091303132E-3,null,69]
[null,null,null,null,null,null,null,null,null,null,null,null,null,null,null,null,73,7.805167072775232E-3,6.5610457625384644E-3,9.274438987215583E-3,8.9657329524870377E-3,null,70]
[null,null,null,null,null,null,null,null,null,null,null,null,null,null,null,null,74,8.0185071538357855E-3,6.8685112860300546E-3,8.6939533724649243E-3,8.3395103743921783E-3,null,71]
[null,null,null,null,null,null,null,null,null,null,null,null,null,null,null,null,75,8.0403958616047655E-3,6.9203646809431474E-3,8.0376850081478324E-3,7.6041005651453775E-3,null,72]
[null,null,null,null,null,null,null,null,null,null,null,null,null,null,null,null,76,7.927540370095576E-3,6.7867775237487882E-3,7.3364770599463336E-3,6.8170768863038411E-3,null,73]
[null,null,null,null,null,null,null,null,null,null,null,null,null,null,null,null,77,7.7282487118321974E-3,6.5339630329978027E-3,6.6147088802933629E-3,6.0208486967424646E-3,null,74]
[null,null,null,null,null,null,null,null,null,null,null,null,null,null,null,null,78,7.478344725429853E-3,6.2150986836214672E-3,5.8957859490081921E-3,5.2452620854772647E-3,null,75]
[null,null,null,null,null,null,null,null,null,null,null,null,null,null,null,null,79,7.2005532619386914E-3,5.8667073434689465E-3,5.2042665507037178E-3,4.5105372961232737E-3,null,76]
[null,null,null,null,null,null,null,null,null,null,null,null,null,null,null,null,80,6.9069451667560511E-3,5.509931003698787E-3,4.5645986385518533E-3,3.8298690392369883E-3,null,77]
[null,null,null,null,null,null,null,null,null,null,null,null,null,null,null,null,81,6.6028518199400255E-3,5.1547331003041208E-3,3.9976001531355498E-3,3.2115034044258861E-3,null,78]
[null,null,null,null,null,null,null,null,null,null,null,null,null,null,null,null,82,6.290665943520346E-3,4.8049627098315506E-3,3.5170046151460355E-3,2.6603720425328881E-3,null,79]
[null,null,null,null,null,null,null,null,null,null,null,null,null,null,null,null,83,5.9728455848853113E-3,4.4626540971374196E-3,3.1278708948448974E-3,2.1791570769762458E-3,null,80]
[null,null,null,null,null,null,null,null,null,null,null,null,null,null,null,null,84,5.6538585730612212E-3,4.1312007052078936E-3,2.8271176570395795E-3,1.769387270657119E-3,null,81]
[null,null,null,null,null,null,null,null,null,null,null,null,null,null,null,null,85,5.3412576668827594E-3,3.8172743686744059E-3,2.6060646176790936E-3,1.4323261820190503E-3,null,82]
[null,null,null,null,null,null,null,null,null,null,null,null,null,null,null,null,86,5.0458477119872391E-3,3.5314881318234681E-3,2.4539750234850999E-3,1.1696430194203522E-3,null,83]
[null,null,null,null,null,null,null,null,null,null,null,null,null,null,null,null,87,4.7811165822135848E-3,3.2880741962851845E-3,2.361483837811762E-3,9.8385612136941969E-4,null,84]
[null,null,null,null,null,null,null,null,null,null,null,null,null,null,null,null,88,4.5621818711428785E-3,3.1038526619342477E-3,2.3227636055976886E-3,8.7850151487467443E-4,null,85]
[null,null,null,null,null,null,null,null,null,null,null,null,null,null,null,null,89,4.4044481097862409E-3,2.9968900509854679E-3,2.3361173364948584E-3,8.581252271874229E-4,null,86]
[null,null,null,null,null,null,null,null,null,null,null,null,null,null,null,null,90,4.3223198713651101E-3,2.9850564041526972E-3,2.4033840657390337E-3,9.2807343953371646E-4,null,87]
[null,null,null,null,null,null,null,null,null,null,null,null,null,null,null,null,91,4.3282682367046243E-3,3.0845624788564674E-3,2.5286080225747076E-3,1.0939367604968497E-3,null,88]
[null,null,null,null,null,null,null,null,null,null,null,null,null,null,null,null,92,4.4322171015099832E-3,3.3088882841674216E-3,2.7164764675760011E-3,1.3609800003371308E-3,null,89]
[null,null,null,null,null,null,null,null,null,null,null,null,null,null,null,null,93,4.6413348091265405E-3,3.6682037214971208E-3,2.9711644073260324E-3,1.7335611870361589E-3,null,90]
[null,null,null,null,null,null,null,null,null,null,null,null,null,null,null,null,94,4.9602000217476849E-3,4.1692901111710645E-3,3.2957150406716096E-3,2.2147511150369947E-3,null,91]
[null,null,null,null,null,null,null,null,null,null,null,null,null,null,null,null,95,5.3912291725670691E-3,4.8159355643702106E-3,3.6918209802808688E-3,2.806340936644558E-3,null,92]
[null,null,null,null,null,null,null,null,null,null,null,null,null,null,null,null,{"$f":"Q79+1","v":96},5.1216677139387153E-3,4.5751387861517005E-3,3.5072299312668255E-3,2.6660238898123302E-3,null,93]
[null,null,null,null,null,null,null,null,null,null,null,null,null,null,null,null,{"$f":"Q80+1","v":97},4.8521062553103624E-3,4.3343420079331894E-3,3.3226388822527818E-3,2.5257068429801023E-3,null,94]
[null,null,null,null,null,null,null,null,null,null,null,null,null,null,null,null,98,4.5825447966820086E-3,4.0935452297146792E-3,3.1380478332387386E-3,2.3853897961478741E-3,null,95]
[null,null,null,null,null,null,null,null,null,null,null,null,null,null,null,null,99,4.3129833380536556E-3,3.8527484514961686E-3,2.9534567842246949E-3,2.2450727493156463E-3,null,96]
[null,null,null,null,null,null,null,null,null,null,null,null,null,null,null,null,100,4.0434218794253018E-3,3.611951673277658E-3,2.7688657352106516E-3,2.1047557024834185E-3,null,97]
[null,null,null,null,null,null,null,null,null,null,null,null,null,null,null,null,101,3.7738604207969485E-3,3.3711548950591474E-3,2.5842746861966083E-3,1.9644386556511907E-3,null,98]
[null,null,null,null,null,null,null,null,null,null,null,null,null,null,null,null,102,3.5042989621685951E-3,3.1303581168406367E-3,2.3996836371825646E-3,1.8241216088189626E-3,null,99]
[null,null,null,null,null,null,null,null,null,null,null,null,null,null,null,null,103,3.2347375035402413E-3,2.8895613386221266E-3,2.2150925881685214E-3,1.6838045619867348E-3,null,100]
[null,null,null,null,null,null,null,null,null,null,null,null,null,null,null,null,104,2.9651760449118879E-3,2.6487645604036159E-3,2.0305015391544777E-3,1.5434875151545068E-3,null,101]
[null,null,null,null,null,null,null,null,null,null,null,null,null,null,null,null,105,2.6956145862835346E-3,2.4079677821851053E-3,1.8459104901404344E-3,1.403170468322279E-3,null,102]
[null,null,null,null,null,null,null,null,null,null,null,null,null,null,null,null,106,2.4260531276551812E-3,2.1671710039665947E-3,1.6613194411263911E-3,1.2628534214900512E-3,null,103]
[null,null,null,null,null,null,null,null,null,null,null,null,null,null,null,null,107,2.1564916690268278E-3,1.9263742257480841E-3,1.4767283921123474E-3,1.1225363746578231E-3,null,104]
[null,null,null,null,null,null,null,null,null,null,null,null,null,null,null,null,108,1.886930210398474E-3,1.6855774475295739E-3,1.2921373430983042E-3,9.8221932782559533E-4,null,105]
[null,null,null,null,null,null,null,null,null,null,null,null,null,null,null,null,109,1.6173687517701207E-3,1.4447806693110633E-3,1.1075462940842605E-3,8.419022809933673E-4,null,106]
[null,null,null,null,null,null,null,null,null,null,null,null,null,null,null,null,110,1.3478072931417673E-3,1.2039838910925527E-3,9.229552450702172E-4,7.0158523416113949E-4,null,107]
[null,null,null,null,null,null,null,null,null,null,null,null,null,null,null,null,111,1.0782458345134135E-3,9.6318711287404204E-4,7.3836419605617393E-4,5.6126818732891168E-4,null,108]
[null,null,null,null,null,null,null,null,null,null,null,null,null,null,null,null,112,8.0868437588506054E-4,7.2239033465553142E-4,5.5377314704213023E-4,4.2095114049668387E-4,null,109]
[null,null,null,null,null,null,null,null,null,null,null,null,null,null,null,null,113,5.3912291725670674E-4,4.8159355643702124E-4,3.6918209802808697E-4,2.8063409366445562E-4,null,110]
[null,null,null,null,null,null,null,null,null,null,null,null,null,null,null,null,114,2.695614586283538E-4,2.4079677821851019E-4,1.8459104901404327E-4,1.4031704683222781E-4,null,111]
[null,null,null,null,null,null,null,null,null,null,null,null,null,null,null,null,115,0,0,0,0,null,112]
[null,null,null,null,null,null,null,null,null,null,null,null,null,null,null,null,116,0,0,0,0,null,113]
[null,null,null,null,null,null,null,null,null,null,null,null,null,null,null,null,117,0,0,0,0,null,114]
[null,null,null,null,null,null,null,null,null,null,null,null,null,null,null,null,118,0,0,0,0,null,115]
[null,null,null,null,null,null,null,null,null,null,null,null,null,null,null,null,119,0,0,0,0,null,116]
[null,null,null,null,null,null,null,null,null,null,null,null,null,null,null,null,120,0,0,0,0,null,117]
[null,null,null,null,null,null,null,null,null,null,null,null,null,null,null,null,null,null,null,null,null,null,118]
[null,null,null,null,null,null,null,null,null,null,null,null,null,null,null,null,null,null,null,null,null,null,119]
[null,null,null,null,null,null,null,null,null,null,null,null,null,null,null,null,null,null,null,null,null,null,120]

{"sheet":"Male","index":1,"n_rows":103,"n_cols":87,"rows_kept":103,"cut":false,"hidden":false,"merged":[]}
["MP-2020 - Male"]
[null,1951,1952,1953,1954,1955,1956,1957,1958,1959,1960,1961,1962,1963,1964,1965,1966,1967,1968,1969,1970,1971,1972,1973,1974,1975,1976,1977,1978,1979,1980,1981,1982,1983,1984,1985,1986,1987,1988,1989,1990,1991,1992,1993,1994,1995,1996,1997,1998,1999,2000,2001,2002,2003,2004,2005,2006,2007,2008,2009,2010,2011,2012,2013,2014,2015,2016,2017,2018,2019,2020,2021,2022,2023,2024,2025,2026,2027,2028,2029,2030,2031,2032,2033,2034,2035,"2036+"]
["≤ 20",-1.49E-2,-6.4000000000000003E-3,1.6999999999999999E-3,8.9999999999999993E-3,1.49E-2,1.9199999999999998E-2,2.1499999999999998E-2,2.1299999999999999E-2,1.83E-2,1.2500000000000001E-2,4.1999999999999997E-3,-5.7000000000000002E-3,-1.6199999999999999E-2,-2.5700000000000001E-2,-3.3099999999999997E-2,-3.7199999999999997E-2,-3.7100000000000001E-2,-3.2800000000000003E-2,-2.5000000000000001E-2,-1.5100000000000001E-2,-5.0000000000000001E-3,3.8999999999999998E-3,1.09E-2,1.5699999999999999E-2,1.8200000000000001E-2,1.9199999999999998E-2,0.02,2.1999999999999999E-2,2.5700000000000001E-2,3.0200000000000001E-2,3.3500000000000002E-2,3.3500000000000002E-2,2.9399999999999999E-2,2.1899999999999999E-2,1.2999999999999999E-2,4.7999999999999996E-3,-1.1999999999999999E-3,-4.4000000000000003E-3,-4.7999999999999996E-3,-2.7000000000000001E-3,1.8E-3,7.7999999999999996E-3,1.46E-2,2.1299999999999999E-2,2.6800000000000001E-2,2.9700000000000001E-2,2.9000000000000001E-2,2.47E-2,1.77E-2,9.5999999999999992E-3,2.3999999999999998E-3,-2.0999999999999999E-3,-2.8999999999999998E-3,2.0000000000000001E-4,6.8999999999999999E-3,1.6E-2,2.5700000000000001E-2,3.3500000000000002E-2,3.7100000000000001E-2,3.5799999999999998E-2,2.98E-2,2.0299999999999999E-2,8.8000000000000005E-3,-3.0000000000000001E-3,-1.3100000000000001E-2,-2.0199999999999999E-2,-1.9699999999999999E-2,-1.7999999999999999E-2,-1.5599999999999999E-2,-1.26E-2,-9.1999999999999998E-3,-5.7000000000000002E-3,-2.3E-3,8.0000000000000004E-4,3.3E-3,5.1000000000000004E-3,6.3E-3,7.6E-3,8.6999999999999994E-3,9.9000000000000008E-3,1.09E-2,1.17E-2,1.2500000000000001E-2,1.2999999999999999E-2,1.34E-2,1.35E-2]
[21,-1.4200000000000001E-2,-5.8999999999999999E-3,2.0999999999999999E-3,9.2999999999999992E-3,1.5100000000000001E-2,1.9300000000000001E-2,2.1399999999999999E-2,2.1000000000000001E-2,1.78E-2,1.1900000000000001E-2,3.7000000000000002E-3,-6.0000000000000001E-3,-1.6E-2,-2.52E-2,-3.2399999999999998E-2,-3.6299999999999999E-2,-3.6200000000000003E-2,-3.2000000000000001E-2,-2.4299999999999999E-2,-1.47E-2,-4.8999999999999998E-3,3.7000000000000002E-3,1.03E-2,1.47E-2,1.6799999999999999E-2,1.77E-2,1.84E-2,2.0400000000000001E-2,2.41E-2,2.87E-2,3.2300000000000002E-2,3.27E-2,2.9000000000000001E-2,2.1899999999999999E-2,1.34E-2,5.4999999999999997E-3,0,-2.8E-3,-2.8999999999999998E-3,-5.9999999999999995E-4,3.8E-3,9.5999999999999992E-3,1.6E-2,2.2200000000000001E-2,2.69E-2,2.9000000000000001E-2,2.75E-2,2.24E-2,1.47E-2,6.0000000000000001E-3,-1.6000000000000001E-3,-6.3E-3,-7.3000000000000001E-3,-4.3E-3,2.2000000000000001E-3,1.1299999999999999E-2,2.1100000000000001E-2,2.8899999999999999E-2,3.2800000000000003E-2,3.1699999999999999E-2,2.5999999999999999E-2,1.6899999999999998E-2,5.7999999999999996E-3,-5.4999999999999997E-3,-1.49E-2,-2.1399999999999999E-2,-2.0199999999999999E-2,-1.8499999999999999E-2,-1.6E-2,-1.29E-2,-9.4999999999999998E-3,-5.8999999999999999E-3,-2.3999999999999998E-3,8.0000000000000004E-4,3.3E-3,5.1000000000000004E-3,6.3E-3,7.6E-3,8.6999999999999994E-3,9.9000000000000008E-3,1.09E-2,1.17E-2,1.2500000000000001E-2,1.2999999999999999E-2,1.34E-2,1.35E-2]
[22,-1.18E-2,-3.8999999999999998E-3,3.5999999999999999E-3,1.04E-2,1.5699999999999999E-2,1.95E-2,2.1100000000000001E-2,2.0400000000000001E-2,1.7000000000000001E-2,1.0999999999999999E-2,3.0000000000000001E-3,-6.4000000000000003E-3,-1.5900000000000001E-2,-2.46E-2,-3.1300000000000001E-2,-3.49E-2,-3.4700000000000002E-2,-3.0499999999999999E-2,-2.3099999999999999E-2,-1.3899999999999999E-2,-4.4999999999999997E-3,3.5999999999999999E-3,9.7999999999999997E-3,1.37E-2,1.5599999999999999E-2,1.6199999999999999E-2,1.6799999999999999E-2,1.8700000000000001E-2,2.23E-2,2.6800000000000001E-2,3.0599999999999999E-2,3.1300000000000001E-2,2.7900000000000001E-2,2.1100000000000001E-2,1.29E-2,5.4000000000000003E-3,2.0000000000000001E-4,-2.3E-3,-1.9E-3,8.0000000000000004E-4,5.5999999999999999E-3,1.1599999999999999E-2,1.7999999999999999E-2,2.3900000000000001E-2,2.8299999999999999E-2,2.9700000000000001E-2,2.75E-2,2.1600000000000001E-2,1.2999999999999999E-2,3.5000000000000001E-3,-4.7000000000000002E-3,-9.9000000000000008E-3,-1.12E-2,-8.3999999999999995E-3,-2E-3,7.0000000000000001E-3,1.67E-2,2.46E-2,2.86E-2,2.76E-2,2.2100000000000002E-2,1.32E-2,2.3999999999999998E-3,-8.5000000000000006E-3,-1.7500000000000002E-2,-2.3400000000000001E-2,-2.18E-2,-1.9400000000000001E-2,-1.6799999999999999E-2,-1.3599999999999999E-2,-0.01,-6.1999999999999998E-3,-2.5999999999999999E-3,5.9999999999999995E-4,3.3E-3,5.1000000000000004E-3,6.3E-3,7.6E-3,8.6999999999999994E-3,9.9000000000000008E-3,1.09E-2,1.17E-2,1.2500000000000001E-2,1.2999999999999999E-2,1.34E-2,1.35E-2]
[23,-7.9000000000000008E-3,-8.0000000000000004E-4,6.0000000000000001E-3,1.2E-2,1.66E-2,1.9599999999999999E-2,2.07E-2,1.95E-2,1.5800000000000002E-2,9.7999999999999997E-3,2E-3,-6.8999999999999999E-3,-1.5900000000000001E-2,-2.3900000000000001E-2,-2.9899999999999999E-2,-3.3099999999999997E-2,-3.27E-2,-2.86E-2,-2.1499999999999998E-2,-1.2699999999999999E-2,-3.8999999999999998E-3,3.8E-3,9.4999999999999998E-3,1.2999999999999999E-2,1.4500000000000001E-2,1.49E-2,1.5299999999999999E-2,1.6899999999999998E-2,2.0299999999999999E-2,2.47E-2,2.8400000000000002E-2,2.92E-2,2.6100000000000002E-2,1.95E-2,1.15E-2,4.1999999999999997E-3,-8.0000000000000004E-4,-2.8E-3,-1.9E-3,1.5E-3,6.8999999999999999E-3,1.35E-2,2.0299999999999999E-2,2.6499999999999999E-2,3.0800000000000001E-2,3.1899999999999998E-2,2.9000000000000001E-2,2.2200000000000001E-2,1.26E-2,2.2000000000000001E-3,-6.8999999999999999E-3,-1.2699999999999999E-2,-1.44E-2,-1.1900000000000001E-2,-5.7000000000000002E-3,3.0999999999999999E-3,1.2699999999999999E-2,2.0500000000000001E-2,2.4500000000000001E-2,2.35E-2,1.8100000000000002E-2,9.4000000000000004E-3,-1.1999999999999999E-3,-1.18E-2,-2.0500000000000001E-2,-2.6100000000000002E-2,-2.41E-2,-2.12E-2,-1.7899999999999999E-2,-1.4500000000000001E-2,-1.06E-2,-6.7000000000000002E-3,-2.8999999999999998E-3,5.0000000000000001E-4,3.2000000000000002E-3,5.1000000000000004E-3,6.3E-3,7.6E-3,8.6999999999999994E-3,9.9000000000000008E-3,1.09E-2,1.17E-2,1.2500000000000001E-2,1.2999999999999999E-2,1.34E-2,1.35E-2]
[24,-2.8E-3,3.3E-3,9.1000000000000004E-3,1.4E-2,1.77E-2,1.9800000000000002E-2,2.01E-2,1.8200000000000001E-2,1.4200000000000001E-2,8.3000000000000001E-3,8.0000000000000004E-4,-7.6E-3,-1.5900000000000001E-2,-2.3099999999999999E-2,-2.8500000000000001E-2,-3.1099999999999999E-2,-3.04E-2,-2.63E-2,-1.95E-2,-1.1299999999999999E-2,-3.0000000000000001E-3,4.1000000000000003E-3,9.4000000000000004E-3,1.26E-2,1.38E-2,1.3899999999999999E-2,1.4E-2,1.52E-2,1.8200000000000001E-2,2.2200000000000001E-2,2.58E-2,2.6599999999999999E-2,2.3599999999999999E-2,1.72E-2,9.2999999999999992E-3,2.0999999999999999E-3,-2.7000000000000001E-3,-4.4000000000000003E-3,-2.8999999999999998E-3,1.2999999999999999E-3,7.7000000000000002E-3,1.52E-2,2.2800000000000001E-2,2.9600000000000001E-2,3.4200000000000001E-2,3.5299999999999998E-2,3.2000000000000001E-2,2.4400000000000002E-2,1.37E-2,2.2000000000000001E-3,-7.9000000000000008E-3,-1.4500000000000001E-2,-1.6799999999999999E-2,-1.4800000000000001E-2,-8.8000000000000005E-3,-2.0000000000000001E-4,9.1999999999999998E-3,1.67E-2,2.0500000000000001E-2,1.95E-2,1.41E-2,5.4000000000000003E-3,-5.0000000000000001E-3,-1.54E-2,-2.4E-2,-2.9499999999999998E-2,-2.7099999999999999E-2,-2.3699999999999999E-2,-1.9699999999999999E-2,-1.55E-2,-1.15E-2,-7.3000000000000001E-3,-3.3E-3,2.9999999999999997E-4,3.2000000000000002E-3,5.1000000000000004E-3,6.3E-3,7.6E-3,8.6999999999999994E-3,9.9000000000000008E-3,1.09E-2,1.17E-2,1.2500000000000001E-2,1.2999999999999999E-2,1.34E-2,1.35E-2]
[25,3.0000000000000001E-3,8.0000000000000002E-3,1.2500000000000001E-2,1.6299999999999999E-2,1.8800000000000001E-2,1.9800000000000002E-2,1.9199999999999998E-2,1.6799999999999999E-2,1.2500000000000001E-2,6.6E-3,-5.0000000000000001E-4,-8.3000000000000001E-3,-1.5900000000000001E-2,-2.24E-2,-2.69E-2,-2.8899999999999999E-2,-2.7900000000000001E-2,-2.3900000000000001E-2,-1.7500000000000002E-2,-9.7000000000000003E-3,-2E-3,4.7000000000000002E-3,9.5999999999999992E-3,1.2500000000000001E-2,1.35E-2,1.34E-2,1.3100000000000001E-2,1.38E-2,1.61E-2,1.9599999999999999E-2,2.2700000000000001E-2,2.3400000000000001E-2,2.0299999999999999E-2,1.4E-2,6.1999999999999998E-3,-8.9999999999999998E-4,-5.4999999999999997E-3,-6.8999999999999999E-3,-4.7999999999999996E-3,4.0000000000000002E-4,7.7999999999999996E-3,1.6400000000000001E-2,2.52E-2,3.2899999999999999E-2,3.8199999999999998E-2,3.9600000000000003E-2,3.61E-2,2.7900000000000001E-2,1.6199999999999999E-2,3.5000000000000001E-3,-7.6E-3,-1.52E-2,-1.83E-2,-1.6799999999999999E-2,-1.1299999999999999E-2,-3.0000000000000001E-3,6.0000000000000001E-3,1.32E-2,1.67E-2,1.5599999999999999E-2,1.01E-2,1.5E-3,-8.8000000000000005E-3,-1.9099999999999999E-2,-2.76E-2,-3.32E-2,-3.0499999999999999E-2,-2.6700000000000002E-2,-2.2100000000000002E-2,-1.7299999999999999E-2,-1.24E-2,-7.9000000000000008E-3,-3.7000000000000002E-3,1E-4,3.0999999999999999E-3,5.1000000000000004E-3,6.3E-3,7.6E-3,8.6999999999999994E-3,9.9000000000000008E-3,1.09E-2,1.17E-2,1.2500000000000001E-2,1.2999999999999999E-2,1.34E-2,1.35E-2]
[26,9.1999999999999998E-3,1.29E-2,1.61E-2,1.8599999999999998E-2,1.9800000000000002E-2,1.9699999999999999E-2,1.8200000000000001E-2,1.52E-2,1.0699999999999999E-2,4.8999999999999998E-3,-1.8E-3,-8.9999999999999993E-3,-1.5900000000000001E-2,-2.1600000000000001E-2,-2.5399999999999999E-2,-2.6800000000000001E-2,-2.5499999999999998E-2,-2.1499999999999998E-2,-1.54E-2,-8.0999999999999996E-3,-8.0000000000000004E-4,5.4999999999999997E-3,1.0200000000000001E-2,1.2999999999999999E-2,1.38E-2,1.35E-2,1.2699999999999999E-2,1.2800000000000001E-2,1.43E-2,1.7000000000000001E-2,1.9400000000000001E-2,1.9599999999999999E-2,1.6299999999999999E-2,9.9000000000000008E-3,2.2000000000000001E-3,-4.7000000000000002E-3,-9.1000000000000004E-3,-0.01,-7.3000000000000001E-3,-1.2999999999999999E-3,7.1999999999999998E-3,1.7000000000000001E-2,2.7E-2,3.5999999999999997E-2,4.24E-2,4.4499999999999998E-2,4.1200000000000001E-2,3.2500000000000001E-2,0.02,6.1999999999999998E-3,-6.1000000000000004E-3,-1.47E-2,-1.8599999999999998E-2,-1.78E-2,-1.29E-2,-5.1999999999999998E-3,3.3E-3,1.01E-2,1.32E-2,1.18E-2,6.3E-3,-2.3E-3,-1.26E-2,-2.2800000000000001E-2,-3.1399999999999997E-2,-3.6999999999999998E-2,-3.4200000000000001E-2,-0.03,-2.4899999999999999E-2,-1.9400000000000001E-2,-1.38E-2,-8.6E-3,-4.1000000000000003E-3,-1E-4,3.0999999999999999E-3,5.1000000000000004E-3,6.3E-3,7.6E-3,8.6999999999999994E-3,9.9000000000000008E-3,1.09E-2,1.17E-2,1.2500000000000001E-2,1.2999999999999999E-2,1.34E-2,1.35E-2]
[27,1.54E-2,1.77E-2,1.9599999999999999E-2,2.07E-2,2.06E-2,1.9400000000000001E-2,1.7100000000000001E-2,1.35E-2,8.8999999999999999E-3,3.3E-3,-3.0000000000000001E-3,-9.5999999999999992E-3,-1.5800000000000002E-2,-2.0799999999999999E-2,-2.4E-2,-2.4899999999999999E-2,-2.3300000000000001E-2,-1.9300000000000001E-2,-1.34E-2,-6.4999999999999997E-3,5.0000000000000001E-4,6.6E-3,1.12E-2,1.3899999999999999E-2,1.4800000000000001E-2,1.4200000000000001E-2,1.2999999999999999E-2,1.24E-2,1.29E-2,1.46E-2,1.5900000000000001E-2,1.54E-2,1.17E-2,5.1999999999999998E-3,-2.5000000000000001E-3,-9.1999999999999998E-3,-1.3100000000000001E-2,-1.3599999999999999E-2,-1.0200000000000001E-2,-3.3999999999999998E-3,6.0000000000000001E-3,1.6899999999999998E-2,2.8199999999999999E-2,3.8600000000000002E-2,4.6399999999999997E-2,4.9599999999999998E-2,4.6699999999999998E-2,3.7900000000000003E-2,2.47E-2,0.01,-3.3E-3,-1.2999999999999999E-2,-1.7899999999999999E-2,-1.7899999999999999E-2,-1.37E-2,-6.7000000000000002E-3,1.1000000000000001E-3,7.3000000000000001E-3,0.01,8.3000000000000001E-3,2.7000000000000001E-3,-6.0000000000000001E-3,-1.6199999999999999E-2,-2.64E-2,-3.49E-2,-4.07E-2,-3.7900000000000003E-2,-3.3399999999999999E-2,-2.7900000000000001E-2,-2.18E-2,-1.5599999999999999E-2,-9.7000000000000003E-3,-4.4999999999999997E-3,-2.9999999999999997E-4,3.0000000000000001E-3,5.1000000000000004E-3,6.3E-3,7.6E-3,8.6999999999999994E-3,9.9000000000000008E-3,1.09E-2,1.17E-2,1.2500000000000001E-2,1.2999999999999999E-2,1.34E-2,1.35E-2]
[28,2.1299999999999999E-2,2.2100000000000002E-2,2.2700000000000001E-2,2.24E-2,2.12E-2,1.9E-2,1.5800000000000002E-2,1.1900000000000001E-2,7.1999999999999998E-3,1.8E-3,-4.0000000000000001E-3,-1.01E-2,-1.5699999999999999E-2,-2.01E-2,-2.2599999999999999E-2,-2.3099999999999999E-2,-2.1299999999999999E-2,-1.7399999999999999E-2,-1.1599999999999999E-2,-4.8999999999999998E-3,1.8E-3,7.7999999999999996E-3,1.2500000000000001E-2,1.5299999999999999E-2,1.6299999999999999E-2,1.5599999999999999E-2,1.4E-2,1.26E-2,1.21E-2,1.24E-2,1.26E-2,1.11E-2,6.7000000000000002E-3,0,-7.6E-3,-1.41E-2,-1.7500000000000002E-2,-1.7399999999999999E-2,-1.35E-2,-6.0000000000000001E-3,4.1000000000000003E-3,1.6E-2,2.8500000000000001E-2,4.0399999999999998E-2,4.9799999999999997E-2,5.4300000000000001E-2,5.2299999999999999E-2,4.36E-2,3.0099999999999998E-2,1.46E-2,4.0000000000000002E-4,-1.0200000000000001E-2,-1.6E-2,-1.7000000000000001E-2,-1.3599999999999999E-2,-7.4999999999999997E-3,-5.0000000000000001E-4,5.0000000000000001E-3,7.1000000000000004E-3,5.1999999999999998E-3,-5.9999999999999995E-4,-9.2999999999999992E-3,-1.9400000000000001E-2,-2.9600000000000001E-2,-3.8199999999999998E-2,-4.41E-2,-4.1399999999999999E-2,-3.6799999999999999E-2,-3.1E-2,-2.4400000000000002E-2,-1.7600000000000001E-2,-1.11E-2,-5.3E-3,-4.0000000000000002E-4,3.0000000000000001E-3,5.1000000000000004E-3,6.3E-3,7.6E-3,8.6999999999999994E-3,9.9000000000000008E-3,1.09E-2,1.17E-2,1.2500000000000001E-2,1.2999999999999999E-2,1.34E-2,1.35E-2]
[29,2.6499999999999999E-2,2.5999999999999999E-2,2.53E-2,2.3800000000000002E-2,2.1499999999999998E-2,1.83E-2,1.46E-2,1.04E-2,5.7000000000000002E-3,5.9999999999999995E-4,-4.8999999999999998E-3,-1.0500000000000001E-2,-1.55E-2,-1.9300000000000001E-2,-2.1399999999999999E-2,-2.1600000000000001E-2,-1.9599999999999999E-2,-1.5699999999999999E-2,-1.01E-2,-3.5000000000000001E-3,3.2000000000000002E-3,9.2999999999999992E-3,1.41E-2,1.72E-2,1.83E-2,1.7600000000000001E-2,1.5599999999999999E-2,1.35E-2,1.1900000000000001E-2,1.09E-2,9.5999999999999992E-3,6.8999999999999999E-3,1.6999999999999999E-3,-5.4000000000000003E-3,-1.2999999999999999E-2,-1.9099999999999999E-2,-2.2100000000000002E-2,-2.1299999999999999E-2,-1.6799999999999999E-2,-8.8000000000000005E-3,1.8E-3,1.44E-2,2.81E-2,4.1500000000000002E-2,5.2499999999999998E-2,5.8400000000000001E-2,5.74E-2,4.9099999999999998E-2,3.5499999999999997E-2,1.9699999999999999E-2,4.7999999999999996E-3,-6.6E-3,-1.32E-2,-1.4999999999999999E-2,-1.26E-2,-7.4000000000000003E-3,-1.4E-3,3.3E-3,4.8999999999999998E-3,2.5999999999999999E-3,-3.3999999999999998E-3,-1.21E-2,-2.23E-2,-3.2500000000000001E-2,-4.1200000000000001E-2,-4.7199999999999999E-2,-4.4600000000000001E-2,-0.04,-3.4000000000000002E-2,-2.7099999999999999E-2,-1.9800000000000002E-2,-1.2699999999999999E-2,-6.3E-3,-1E-3,3.0000000000000001E-3,5.1000000000000004E-3,6.3E-3,7.6E-3,8.6999999999999994E-3,9.9000000000000008E-3,1.09E-2,1.17E-2,1.2500000000000001E-2,1.2999999999999999E-2,1.34E-2,1.35E-2]
[30,3.1E-2,2.93E-2,2.7300000000000001E-2,2.4799999999999999E-2,2.1499999999999998E-2,1.7600000000000001E-2,1.34E-2,8.9999999999999993E-3,4.4000000000000003E-3,-5.0000000000000001E-4,-5.5999999999999999E-3,-1.0699999999999999E-2,-1.52E-2,-1.8599999999999998E-2,-2.0400000000000001E-2,-2.0299999999999999E-2,-1.8200000000000001E-2,-1.43E-2,-8.8000000000000005E-3,-2.2000000000000001E-3,4.4999999999999997E-3,1.0800000000000001E-2,1.5900000000000001E-2,1.9300000000000001E-2,2.06E-2,0.02,1.78E-2,1.4999999999999999E-2,1.23E-2,0.01,7.3000000000000001E-3,3.2000000000000002E-3,-2.8999999999999998E-3,-1.0500000000000001E-2,-1.8200000000000001E-2,-2.4E-2,-2.6499999999999999E-2,-2.52E-2,-2.0199999999999999E-2,-1.18E-2,-8.0000000000000004E-4,1.24E-2,2.7E-2,4.1700000000000001E-2,5.4300000000000001E-2,6.1699999999999998E-2,6.1600000000000002E-2,5.3999999999999999E-2,4.0599999999999997E-2,2.46E-2,9.4000000000000004E-3,-2.3999999999999998E-3,-9.5999999999999992E-3,-1.2200000000000001E-2,-1.0800000000000001E-2,-6.6E-3,-1.5E-3,2.3E-3,3.3E-3,5.9999999999999995E-4,-5.5999999999999999E-3,-1.44E-2,-2.46E-2,-3.49E-2,-4.36E-2,-4.9799999999999997E-2,-4.7399999999999998E-2,-4.2900000000000001E-2,-3.6799999999999999E-2,-2.9600000000000001E-2,-2.1999999999999999E-2,-1.4500000000000001E-2,-7.6E-3,-1.6999999999999999E-3,2.5999999999999999E-3,5.1000000000000004E-3,6.3E-3,7.6E-3,8.6999999999999994E-3,9.9000000000000008E-3,1.09E-2,1.17E-2,1.2500000000000001E-2,1.2999999999999999E-2,1.34E-2,1.35E-2]
[31,3.4599999999999999E-2,3.1800000000000002E-2,2.8899999999999999E-2,2.5399999999999999E-2,2.1299999999999999E-2,1.6799999999999999E-2,1.23E-2,7.7999999999999996E-3,3.3E-3,-1.2999999999999999E-3,-6.1000000000000004E-3,-1.0800000000000001E-2,-1.49E-2,-1.7999999999999999E-2,-1.9400000000000001E-2,-1.9099999999999999E-2,-1.7000000000000001E-2,-1.3100000000000001E-2,-7.6E-3,-1E-3,5.7999999999999996E-3,1.23E-2,1.77E-2,2.1499999999999998E-2,2.3099999999999999E-2,2.2599999999999999E-2,2.0299999999999999E-2,1.7000000000000001E-2,1.34E-2,9.9000000000000008E-3,5.7999999999999996E-3,4.0000000000000002E-4,-6.7000000000000002E-3,-1.49E-2,-2.2800000000000001E-2,-2.8500000000000001E-2,-3.0599999999999999E-2,-2.8799999999999999E-2,-2.35E-2,-1.4800000000000001E-2,-3.5000000000000001E-3,1.01E-2,2.5499999999999998E-2,4.1300000000000003E-2,5.5100000000000003E-2,6.3799999999999996E-2,6.4699999999999994E-2,5.7700000000000001E-2,4.48E-2,2.9000000000000001E-2,1.3899999999999999E-2,1.9E-3,-5.5999999999999999E-3,-8.6999999999999994E-3,-8.0000000000000002E-3,-4.8999999999999998E-3,-8.0000000000000004E-4,2.2000000000000001E-3,2.5000000000000001E-3,-5.9999999999999995E-4,-7.0000000000000001E-3,-1.6E-2,-2.63E-2,-3.6700000000000003E-2,-4.5600000000000002E-2,-5.1999999999999998E-2,-4.9799999999999997E-2,-4.53E-2,-3.9199999999999999E-2,-3.2000000000000001E-2,-2.4199999999999999E-2,-1.6299999999999999E-2,-8.9999999999999993E-3,-2.8E-3,2E-3,4.7999999999999996E-3,6.3E-3,7.6E-3,8.6999999999999994E-3,9.9000000000000008E-3,1.09E-2,1.17E-2,1.2500000000000001E-2,1.2999999999999999E-2,1.34E-2,1.35E-2]
[32,3.7199999999999997E-2,3.3700000000000001E-2,2.9899999999999999E-2,2.58E-2,2.1100000000000001E-2,1.61E-2,1.1299999999999999E-2,6.7999999999999996E-3,2.3999999999999998E-3,-1.9E-3,-6.4000000000000003E-3,-1.0800000000000001E-2,-1.46E-2,-1.7299999999999999E-2,-1.8599999999999998E-2,-1.8200000000000001E-2,-1.6E-2,-1.21E-2,-6.4999999999999997E-3,1E-4,7.1000000000000004E-3,1.38E-2,1.95E-2,2.3599999999999999E-2,2.5499999999999998E-2,2.52E-2,2.29E-2,1.9300000000000001E-2,1.5100000000000001E-2,1.06E-2,5.3E-3,-1.2999999999999999E-3,-9.2999999999999992E-3,-1.83E-2,-2.6499999999999999E-2,-3.2199999999999999E-2,-3.4200000000000001E-2,-3.2199999999999999E-2,-2.6599999999999999E-2,-1.78E-2,-6.3E-3,7.7000000000000002E-3,2.3599999999999999E-2,4.02E-2,5.5E-2,6.4699999999999994E-2,6.6500000000000004E-2,6.0199999999999997E-2,4.7800000000000002E-2,3.2500000000000001E-2,1.78E-2,6.1000000000000004E-3,-1.4E-3,-4.7000000000000002E-3,-4.7000000000000002E-3,-2.3E-3,8.0000000000000004E-4,2.8999999999999998E-3,2.5999999999999999E-3,-1E-3,-7.7000000000000002E-3,-1.6799999999999999E-2,-2.7400000000000001E-2,-3.7900000000000003E-2,-4.7E-2,-5.3699999999999998E-2,-5.1700000000000003E-2,-4.7399999999999998E-2,-4.1300000000000003E-2,-3.4099999999999998E-2,-2.6200000000000001E-2,-1.8100000000000002E-2,-1.0500000000000001E-2,-3.8999999999999998E-3,1.1999999999999999E-3,4.3E-3,6.1000000000000004E-3,7.6E-3,8.6999999999999994E-3,9.9000000000000008E-3,1.09E-2,1.17E-2,1.2500000000000001E-2,1.2999999999999999E-2,1.34E-2,1.35E-2]
[33,3.9E-2,3.49E-2,3.0499999999999999E-2,2.5899999999999999E-2,2.0799999999999999E-2,1.55E-2,1.06E-2,6.0000000000000001E-3,1.8E-3,-2.3999999999999998E-3,-6.7000000000000002E-3,-1.0800000000000001E-2,-1.43E-2,-1.67E-2,-1.78E-2,-1.7299999999999999E-2,-1.5100000000000001E-2,-1.11E-2,-5.4999999999999997E-3,1.1999999999999999E-3,8.3000000000000001E-3,1.52E-2,2.12E-2,2.5499999999999998E-2,2.7699999999999999E-2,2.76E-2,2.5399999999999999E-2,2.18E-2,1.72E-2,1.2E-2,5.7999999999999996E-3,-1.6999999999999999E-3,-1.06E-2,-2.0199999999999999E-2,-2.8899999999999999E-2,-3.49E-2,-3.6999999999999998E-2,-3.5000000000000003E-2,-2.93E-2,-2.0500000000000001E-2,-8.8999999999999999E-3,5.3E-3,2.1499999999999998E-2,3.8600000000000002E-2,5.3999999999999999E-2,6.4299999999999996E-2,6.6799999999999998E-2,6.1100000000000002E-2,4.9399999999999999E-2,3.4799999999999998E-2,2.0799999999999999E-2,9.7999999999999997E-3,2.7000000000000001E-3,-5.0000000000000001E-4,-8.0000000000000004E-4,8.9999999999999998E-4,3.2000000000000002E-3,4.4999999999999997E-3,3.5000000000000001E-3,-4.0000000000000002E-4,-7.4000000000000003E-3,-1.6799999999999999E-2,-2.76E-2,-3.8300000000000001E-2,-4.7800000000000002E-2,-5.4899999999999997E-2,-5.3100000000000001E-2,-4.9000000000000002E-2,-4.2999999999999997E-2,-3.5799999999999998E-2,-2.7900000000000001E-2,-1.9800000000000002E-2,-1.2E-2,-5.1999999999999998E-3,2.0000000000000001E-4,3.5999999999999999E-3,5.7000000000000002E-3,7.4000000000000003E-3,8.6999999999999994E-3,9.9000000000000008E-3,1.09E-2,1.17E-2,1.2500000000000001E-2,1.2999999999999999E-2,1.34E-2,1.35E-2]
[34,0.04,3.5499999999999997E-2,3.0800000000000001E-2,2.58E-2,2.0500000000000001E-2,1.5100000000000001E-2,0.01,5.4999999999999997E-3,1.2999999999999999E-3,-2.8E-3,-6.7999999999999996E-3,-1.06E-2,-1.3899999999999999E-2,-1.61E-2,-1.7100000000000001E-2,-1.6500000000000001E-2,-1.43E-2,-1.03E-2,-4.5999999999999999E-3,2.2000000000000001E-3,9.4000000000000004E-3,1.6500000000000001E-2,2.2599999999999999E-2,2.7199999999999998E-2,2.9600000000000001E-2,2.98E-2,2.7799999999999998E-2,2.4299999999999999E-2,1.9699999999999999E-2,1.41E-2,7.3000000000000001E-3,-8.9999999999999998E-4,-1.0500000000000001E-2,-2.0799999999999999E-2,-0.03,-3.6400000000000002E-2,-3.8800000000000001E-2,-3.7100000000000001E-2,-3.1600000000000003E-2,-2.2800000000000001E-2,-1.12E-2,3.0000000000000001E-3,1.9300000000000001E-2,3.6499999999999998E-2,5.21E-2,6.2799999999999995E-2,6.5799999999999997E-2,6.0699999999999997E-2,4.9599999999999998E-2,3.5900000000000001E-2,2.2800000000000001E-2,1.2800000000000001E-2,6.4000000000000003E-3,3.5999999999999999E-3,3.2000000000000002E-3,4.4999999999999997E-3,6.1999999999999998E-3,6.8999999999999999E-3,5.4000000000000003E-3,1E-3,-6.3E-3,-1.6E-2,-2.7E-2,-3.8100000000000002E-2,-4.7800000000000002E-2,-5.5300000000000002E-2,-5.3900000000000003E-2,-0.05,-4.4299999999999999E-2,-3.7199999999999997E-2,-2.93E-2,-2.12E-2,-1.34E-2,-6.4000000000000003E-3,-8.9999999999999998E-4,2.8E-3,5.1000000000000004E-3,7.0000000000000001E-3,8.6E-3,9.9000000000000008E-3,1.09E-2,1.17E-2,1.2500000000000001E-2,1.2999999999999999E-2,1.34E-2,1.35E-2]
[35,4.02E-2,3.56E-2,3.0800000000000001E-2,2.5600000000000001E-2,2.0199999999999999E-2,1.4800000000000001E-2,9.7000000000000003E-3,5.1999999999999998E-3,1.1000000000000001E-3,-2.8999999999999998E-3,-6.7000000000000002E-3,-1.04E-2,-1.34E-2,-1.55E-2,-1.6400000000000001E-2,-1.5800000000000002E-2,-1.35E-2,-9.4000000000000004E-3,-3.7000000000000002E-3,3.0999999999999999E-3,1.0500000000000001E-2,1.7600000000000001E-2,2.3800000000000002E-2,2.8500000000000001E-2,3.1199999999999999E-2,3.15E-2,2.9899999999999999E-2,2.6700000000000002E-2,2.2200000000000001E-2,1.6500000000000001E-2,9.4999999999999998E-3,8.9999999999999998E-4,-9.1999999999999998E-3,-1.9900000000000001E-2,-2.9499999999999998E-2,-3.6400000000000002E-2,-3.9399999999999998E-2,-3.8199999999999998E-2,-3.3099999999999997E-2,-2.47E-2,-1.3299999999999999E-2,6.9999999999999999E-4,1.6799999999999999E-2,3.39E-2,4.9399999999999999E-2,6.0199999999999997E-2,6.3500000000000001E-2,5.8900000000000001E-2,4.8599999999999997E-2,3.5799999999999998E-2,2.3900000000000001E-2,1.49E-2,9.4999999999999998E-3,7.1999999999999998E-3,7.1999999999999998E-3,8.3000000000000001E-3,9.7000000000000003E-3,9.9000000000000008E-3,8.0000000000000002E-3,3.2000000000000002E-3,-4.4000000000000003E-3,-1.43E-2,-2.5600000000000001E-2,-3.6999999999999998E-2,-4.7100000000000003E-2,-5.5100000000000003E-2,-5.3999999999999999E-2,-5.04E-2,-4.4900000000000002E-2,-3.8100000000000002E-2,-3.04E-2,-2.23E-2,-1.46E-2,-7.6E-3,-2E-3,1.8E-3,4.4000000000000003E-3,6.4999999999999997E-3,8.3000000000000001E-3,9.7000000000000003E-3,1.09E-2,1.17E-2,1.2500000000000001E-2,1.2999999999999999E-2,1.34E-2,1.35E-2]
[36,3.9800000000000002E-2,3.5200000000000002E-2,3.0499999999999999E-2,2.5399999999999999E-2,0.02,1.47E-2,9.7000000000000003E-3,5.1999999999999998E-3,1.1000000000000001E-3,-2.8E-3,-6.4999999999999997E-3,-0.01,-1.29E-2,-1.49E-2,-1.5699999999999999E-2,-1.4999999999999999E-2,-1.2699999999999999E-2,-8.6999999999999994E-3,-2.8999999999999998E-3,4.0000000000000001E-3,1.14E-2,1.8499999999999999E-2,2.4799999999999999E-2,2.9499999999999998E-2,3.2300000000000002E-2,3.2899999999999999E-2,3.1600000000000003E-2,2.8799999999999999E-2,2.47E-2,1.9199999999999998E-2,1.2200000000000001E-2,3.5000000000000001E-3,-6.7999999999999996E-3,-1.77E-2,-2.7699999999999999E-2,-3.5000000000000003E-2,-3.8600000000000002E-2,-3.8100000000000002E-2,-3.3700000000000001E-2,-2.5899999999999999E-2,-1.5100000000000001E-2,-1.6000000000000001E-3,1.41E-2,3.0800000000000001E-2,4.5999999999999999E-2,5.67E-2,6.0199999999999997E-2,5.6099999999999997E-2,4.65E-2,3.4799999999999998E-2,2.4E-2,1.6199999999999999E-2,1.18E-2,1.03E-2,1.0699999999999999E-2,1.21E-2,1.3299999999999999E-2,1.34E-2,1.11E-2,6.1000000000000004E-3,-1.6999999999999999E-3,-1.1900000000000001E-2,-2.3400000000000001E-2,-3.5000000000000003E-2,-4.5499999999999999E-2,-5.3900000000000003E-2,-5.33E-2,-5.0099999999999999E-2,-4.4999999999999998E-2,-3.8399999999999997E-2,-3.1E-2,-2.3199999999999998E-2,-1.5599999999999999E-2,-8.6999999999999994E-3,-3.0000000000000001E-3,8.9999999999999998E-4,3.5999999999999999E-3,5.8999999999999999E-3,7.9000000000000008E-3,9.4999999999999998E-3,1.0800000000000001E-2,1.17E-2,1.2500000000000001E-2,1.2999999999999999E-2,1.34E-2,1.35E-2]
[37,3.8899999999999997E-2,3.4500000000000003E-2,2.9899999999999999E-2,2.5000000000000001E-2,1.9800000000000002E-2,1.47E-2,9.7000000000000003E-3,5.3E-3,1.2999999999999999E-3,-2.5000000000000001E-3,-6.1000000000000004E-3,-9.4000000000000004E-3,-1.2200000000000001E-2,-1.41E-2,-1.49E-2,-1.43E-2,-1.2E-2,-7.9000000000000008E-3,-2.2000000000000001E-3,4.7999999999999996E-3,1.21E-2,1.9199999999999998E-2,2.5399999999999999E-2,3.0200000000000001E-2,3.3000000000000002E-2,3.39E-2,3.3000000000000002E-2,3.0700000000000002E-2,2.7E-2,2.18E-2,1.5100000000000001E-2,6.6E-3,-3.5999999999999999E-3,-1.4500000000000001E-2,-2.4500000000000001E-2,-3.2199999999999999E-2,-3.6400000000000002E-2,-3.6700000000000003E-2,-3.32E-2,-2.64E-2,-1.66E-2,-3.8999999999999998E-3,1.11E-2,2.7199999999999998E-2,4.2000000000000003E-2,5.2499999999999998E-2,5.6099999999999997E-2,5.2499999999999998E-2,4.3700000000000003E-2,3.3000000000000002E-2,2.3300000000000001E-2,1.67E-2,1.3299999999999999E-2,1.2699999999999999E-2,1.37E-2,1.55E-2,1.6899999999999998E-2,1.6899999999999998E-2,1.46E-2,9.4999999999999998E-3,1.5E-3,-8.8000000000000005E-3,-2.0400000000000001E-2,-3.2199999999999999E-2,-4.2900000000000001E-2,-5.1700000000000003E-2,-5.16E-2,-4.9000000000000002E-2,-4.4400000000000002E-2,-3.8300000000000001E-2,-3.1199999999999999E-2,-2.3699999999999999E-2,-1.6299999999999999E-2,-9.4999999999999998E-3,-4.0000000000000001E-3,0,2.8E-3,5.3E-3,7.4000000000000003E-3,9.1999999999999998E-3,1.06E-2,1.17E-2,1.2500000000000001E-2,1.2999999999999999E-2,1.34E-2,1.35E-2]
[38,3.7499999999999999E-2,3.3399999999999999E-2,2.92E-2,2.46E-2,1.9699999999999999E-2,1.47E-2,9.9000000000000008E-3,5.7000000000000002E-3,1.6999999999999999E-3,-1.9E-3,-5.4000000000000003E-3,-8.6999999999999994E-3,-1.14E-2,-1.3299999999999999E-2,-1.41E-2,-1.35E-2,-1.1299999999999999E-2,-7.1999999999999998E-3,-1.5E-3,5.4000000000000003E-3,1.2699999999999999E-2,1.9800000000000002E-2,2.5899999999999999E-2,3.0499999999999999E-2,3.3500000000000002E-2,3.4599999999999999E-2,3.4099999999999998E-2,3.2199999999999999E-2,2.9000000000000001E-2,2.4299999999999999E-2,1.7899999999999999E-2,9.7999999999999997E-3,0,-1.0500000000000001E-2,-2.0400000000000001E-2,-2.81E-2,-3.2800000000000003E-2,-3.4000000000000002E-2,-3.1699999999999999E-2,-2.6200000000000001E-2,-1.7500000000000002E-2,-6.0000000000000001E-3,8.0999999999999996E-3,2.3300000000000001E-2,3.7499999999999999E-2,4.7699999999999999E-2,5.1400000000000001E-2,4.82E-2,4.0300000000000002E-2,3.0599999999999999E-2,2.1999999999999999E-2,1.6400000000000001E-2,1.4E-2,1.43E-2,1.6E-2,1.83E-2,2.01E-2,2.0400000000000001E-2,1.8200000000000001E-2,1.3100000000000001E-2,5.1000000000000004E-3,-5.1999999999999998E-3,-1.6899999999999998E-2,-2.87E-2,-3.95E-2,-4.8599999999999997E-2,-4.9099999999999998E-2,-4.7100000000000003E-2,-4.2999999999999997E-2,-3.7499999999999999E-2,-3.09E-2,-2.3800000000000002E-2,-1.67E-2,-1.0200000000000001E-2,-4.7999999999999996E-3,-8.9999999999999998E-4,2E-3,4.5999999999999999E-3,6.8999999999999999E-3,8.8999999999999999E-3,1.04E-2,1.1599999999999999E-2,1.24E-2,1.2999999999999999E-2,1.34E-2,1.35E-2]
[39,3.5799999999999998E-2,3.2199999999999999E-2,2.8400000000000002E-2,2.41E-2,1.95E-2,1.47E-2,1.0200000000000001E-2,6.1000000000000004E-3,2.3E-3,-1.2999999999999999E-3,-4.5999999999999999E-3,-7.7999999999999996E-3,-1.0500000000000001E-2,-1.24E-2,-1.32E-2,-1.2699999999999999E-2,-1.0500000000000001E-2,-6.4999999999999997E-3,-8.9999999999999998E-4,5.8999999999999999E-3,1.32E-2,2.01E-2,2.5999999999999999E-2,3.0599999999999999E-2,3.3599999999999998E-2,3.49E-2,3.4799999999999998E-2,3.3399999999999999E-2,3.0599999999999999E-2,2.64E-2,2.06E-2,1.2999999999999999E-2,3.8E-3,-6.1000000000000004E-3,-1.55E-2,-2.3199999999999998E-2,-2.8299999999999999E-2,-3.0300000000000001E-2,-2.92E-2,-2.5100000000000001E-2,-1.7999999999999999E-2,-7.7999999999999996E-3,5.1000000000000004E-3,1.9300000000000001E-2,3.2800000000000003E-2,4.2500000000000003E-2,4.6300000000000001E-2,4.36E-2,3.6400000000000002E-2,2.7799999999999998E-2,2.0199999999999999E-2,1.55E-2,1.4E-2,1.5100000000000001E-2,1.7600000000000001E-2,2.0500000000000001E-2,2.2800000000000001E-2,2.35E-2,2.1499999999999998E-2,1.66E-2,8.8000000000000005E-3,-1.4E-3,-1.2800000000000001E-2,-2.4500000000000001E-2,-3.5299999999999998E-2,-4.4600000000000001E-2,-4.5600000000000002E-2,-4.4200000000000003E-2,-4.0899999999999999E-2,-3.5999999999999997E-2,-3.0099999999999998E-2,-2.35E-2,-1.6899999999999998E-2,-1.0699999999999999E-2,-5.4999999999999997E-3,-1.6999999999999999E-3,1.2999999999999999E-3,4.0000000000000001E-3,6.4000000000000003E-3,8.5000000000000006E-3,1.01E-2,1.14E-2,1.24E-2,1.2999999999999999E-2,1.34E-2,1.35E-2]
[40,3.39E-2,3.0800000000000001E-2,2.7400000000000001E-2,2.35E-2,1.9199999999999998E-2,1.47E-2,1.04E-2,6.4999999999999997E-3,2.8999999999999998E-3,-5.0000000000000001E-4,-3.8E-3,-6.7999999999999996E-3,-9.4999999999999998E-3,-1.14E-2,-1.2200000000000001E-2,-1.18E-2,-9.7000000000000003E-3,-5.7999999999999996E-3,-4.0000000000000002E-4,6.3E-3,1.34E-2,2.01E-2,2.5999999999999999E-2,3.0499999999999999E-2,3.3500000000000002E-2,3.5099999999999999E-2,3.5200000000000002E-2,3.4200000000000001E-2,3.1899999999999998E-2,2.8199999999999999E-2,2.29E-2,1.6E-2,7.6E-3,-1.5E-3,-1.03E-2,-1.77E-2,-2.3E-2,-2.58E-2,-2.5899999999999999E-2,-2.3199999999999998E-2,-1.77E-2,-8.9999999999999993E-3,2.3999999999999998E-3,1.5599999999999999E-2,2.81E-2,3.73E-2,4.0899999999999999E-2,3.8699999999999998E-2,3.2300000000000002E-2,2.46E-2,1.8100000000000002E-2,1.4200000000000001E-2,1.35E-2,1.52E-2,1.84E-2,2.1999999999999999E-2,2.4799999999999999E-2,2.5899999999999999E-2,2.4400000000000002E-2,1.9800000000000002E-2,1.23E-2,2.5999999999999999E-3,-8.5000000000000006E-3,-1.9900000000000001E-2,-3.0499999999999999E-2,-3.9899999999999998E-2,-4.1300000000000003E-2,-4.0599999999999997E-2,-3.8100000000000002E-2,-3.4000000000000002E-2,-2.8799999999999999E-2,-2.29E-2,-1.6799999999999999E-2,-1.11E-2,-6.1000000000000004E-3,-2.3E-3,5.9999999999999995E-4,3.3999999999999998E-3,5.8999999999999999E-3,8.0999999999999996E-3,9.9000000000000008E-3,1.1299999999999999E-2,1.23E-2,1.2999999999999999E-2,1.34E-2,1.35E-2]
[41,3.2099999999999997E-2,2.93E-2,2.6200000000000001E-2,2.2800000000000001E-2,1.8800000000000001E-2,1.46E-2,1.06E-2,6.8999999999999999E-3,3.5000000000000001E-3,2.0000000000000001E-4,-2.8999999999999998E-3,-5.8999999999999999E-3,-8.3999999999999995E-3,-1.03E-2,-1.11E-2,-1.0699999999999999E-2,-8.8000000000000005E-3,-5.1000000000000004E-3,1E-4,6.6E-3,1.35E-2,0.02,2.5700000000000001E-2,3.0200000000000001E-2,3.3300000000000003E-2,3.5000000000000003E-2,3.5400000000000001E-2,3.4599999999999999E-2,3.27E-2,2.9499999999999998E-2,2.4899999999999999E-2,1.8700000000000001E-2,1.12E-2,3.0000000000000001E-3,-5.0000000000000001E-3,-1.2E-2,-1.7399999999999999E-2,-2.0899999999999998E-2,-2.1999999999999999E-2,-2.06E-2,-1.66E-2,-9.4999999999999998E-3,5.0000000000000001E-4,1.23E-2,2.3599999999999999E-2,3.2099999999999997E-2,3.5499999999999997E-2,3.3599999999999998E-2,2.8000000000000001E-2,2.1299999999999999E-2,1.5699999999999999E-2,1.26E-2,1.26E-2,1.49E-2,1.8599999999999998E-2,2.2700000000000001E-2,2.6100000000000002E-2,2.76E-2,2.6499999999999999E-2,2.2499999999999999E-2,1.55E-2,6.4000000000000003E-3,-4.1000000000000003E-3,-1.4999999999999999E-2,-2.53E-2,-3.4599999999999999E-2,-3.6400000000000002E-2,-3.6299999999999999E-2,-3.4500000000000003E-2,-3.1300000000000001E-2,-2.7E-2,-2.18E-2,-1.6400000000000001E-2,-1.12E-2,-6.4999999999999997E-3,-2.8999999999999998E-3,0,2.8E-3,5.4000000000000003E-3,7.7000000000000002E-3,9.5999999999999992E-3,1.11E-2,1.2200000000000001E-2,1.29E-2,1.34E-2,1.35E-2]
[42,3.0200000000000001E-2,2.7699999999999999E-2,2.5000000000000001E-2,2.1899999999999999E-2,1.83E-2,1.44E-2,1.0699999999999999E-2,7.1999999999999998E-3,4.0000000000000001E-3,8.9999999999999998E-4,-2.0999999999999999E-3,-4.8999999999999998E-3,-7.3000000000000001E-3,-9.1000000000000004E-3,-0.01,-9.5999999999999992E-3,-7.7999999999999996E-3,-4.3E-3,6.9999999999999999E-4,6.7999999999999996E-3,1.34E-2,1.9699999999999999E-2,2.53E-2,2.98E-2,3.2899999999999999E-2,3.4700000000000002E-2,3.5299999999999998E-2,3.4799999999999998E-2,3.3099999999999997E-2,3.04E-2,2.64E-2,2.1100000000000001E-2,1.4500000000000001E-2,7.3000000000000001E-3,0,-6.4999999999999997E-3,-1.1900000000000001E-2,-1.5699999999999999E-2,-1.77E-2,-1.7399999999999999E-2,-1.46E-2,-8.9999999999999993E-3,-5.0000000000000001E-4,9.7000000000000003E-3,1.9699999999999999E-2,2.7199999999999998E-2,3.0200000000000001E-2,2.8500000000000001E-2,2.3599999999999999E-2,1.78E-2,1.3100000000000001E-2,1.0800000000000001E-2,1.14E-2,1.4200000000000001E-2,1.83E-2,2.2700000000000001E-2,2.6499999999999999E-2,2.8400000000000002E-2,2.7799999999999998E-2,2.4400000000000002E-2,1.8200000000000001E-2,9.7999999999999997E-3,1E-4,-1.01E-2,-0.02,-2.9000000000000001E-2,-3.1099999999999999E-2,-3.15E-2,-3.0499999999999999E-2,-2.81E-2,-2.47E-2,-2.0400000000000001E-2,-1.5699999999999999E-2,-1.0999999999999999E-2,-6.7000000000000002E-3,-3.3E-3,-4.0000000000000002E-4,2.3999999999999998E-3,5.0000000000000001E-3,7.3000000000000001E-3,9.2999999999999992E-3,1.09E-2,1.21E-2,1.29E-2,1.34E-2,1.35E-2]
[43,2.8500000000000001E-2,2.6200000000000001E-2,2.3800000000000002E-2,2.0899999999999998E-2,1.7600000000000001E-2,1.41E-2,1.06E-2,7.3000000000000001E-3,4.3E-3,1.4E-3,-1.4E-3,-4.0000000000000001E-3,-6.3E-3,-7.9000000000000008E-3,-8.6999999999999994E-3,-8.3000000000000001E-3,-6.6E-3,-3.3999999999999998E-3,1.2999999999999999E-3,7.0000000000000001E-3,1.32E-2,1.9199999999999998E-2,2.47E-2,2.92E-2,3.2399999999999998E-2,3.4299999999999997E-2,3.5000000000000003E-2,3.4599999999999999E-2,3.32E-2,3.0800000000000001E-2,2.75E-2,2.3E-2,1.7399999999999999E-2,1.11E-2,4.7000000000000002E-3,-1.4E-3,-6.6E-3,-1.0699999999999999E-2,-1.32E-2,-1.37E-2,-1.1900000000000001E-2,-7.4999999999999997E-3,-5.9999999999999995E-4,8.0000000000000002E-3,1.6500000000000001E-2,2.2800000000000001E-2,2.53E-2,2.3699999999999999E-2,1.9300000000000001E-2,1.43E-2,1.04E-2,8.8999999999999999E-3,9.9000000000000008E-3,1.3100000000000001E-2,1.7500000000000002E-2,2.2200000000000001E-2,2.6100000000000002E-2,2.8299999999999999E-2,2.8199999999999999E-2,2.5399999999999999E-2,2.01E-2,1.2699999999999999E-2,4.0000000000000001E-3,-5.4000000000000003E-3,-1.47E-2,-2.3400000000000001E-2,-2.5499999999999998E-2,-2.64E-2,-2.5999999999999999E-2,-2.4500000000000001E-2,-2.1899999999999999E-2,-1.8599999999999998E-2,-1.47E-2,-1.06E-2,-6.7999999999999996E-3,-3.5999999999999999E-3,-8.0000000000000004E-4,2E-3,4.5999999999999999E-3,6.8999999999999999E-3,8.9999999999999993E-3,1.0699999999999999E-2,1.2E-2,1.2800000000000001E-2,1.3299999999999999E-2,1.35E-2]
[44,2.69E-2,2.4799999999999999E-2,2.2499999999999999E-2,1.9900000000000001E-2,1.6799999999999999E-2,1.3599999999999999E-2,1.03E-2,7.3000000000000001E-3,4.4000000000000003E-3,1.6999999999999999E-3,-8.9999999999999998E-4,-3.3E-3,-5.3E-3,-6.7000000000000002E-3,-7.4000000000000003E-3,-7.0000000000000001E-3,-5.4000000000000003E-3,-2.3999999999999998E-3,2E-3,7.3000000000000001E-3,1.2999999999999999E-2,1.8700000000000001E-2,2.4E-2,2.8500000000000001E-2,3.1800000000000002E-2,3.3700000000000001E-2,3.4500000000000003E-2,3.4200000000000001E-2,3.3000000000000002E-2,3.1E-2,2.8199999999999999E-2,2.4500000000000001E-2,1.9800000000000002E-2,1.44E-2,8.6999999999999994E-3,3.2000000000000002E-3,-1.8E-3,-5.8999999999999999E-3,-8.6E-3,-9.5999999999999992E-3,-8.6E-3,-5.1999999999999998E-3,2.9999999999999997E-4,7.3000000000000001E-3,1.41E-2,1.9199999999999998E-2,2.0899999999999998E-2,1.9199999999999998E-2,1.5299999999999999E-2,1.0999999999999999E-2,7.7999999999999996E-3,6.8999999999999999E-3,8.3000000000000001E-3,1.18E-2,1.6299999999999999E-2,2.1000000000000001E-2,2.5000000000000001E-2,2.75E-2,2.7799999999999998E-2,2.5700000000000001E-2,2.1299999999999999E-2,1.4999999999999999E-2,7.3000000000000001E-3,-1.1999999999999999E-3,-9.7000000000000003E-3,-1.7899999999999999E-2,-2.01E-2,-2.1299999999999999E-2,-2.1399999999999999E-2,-2.06E-2,-1.89E-2,-1.6400000000000001E-2,-1.3299999999999999E-2,-0.01,-6.6E-3,-3.7000000000000002E-3,-1E-3,1.6999999999999999E-3,4.3E-3,6.7000000000000002E-3,8.8000000000000005E-3,1.0500000000000001E-2,1.1900000000000001E-2,1.2800000000000001E-2,1.3299999999999999E-2,1.35E-2]
[45,2.5399999999999999E-2,2.3300000000000001E-2,2.12E-2,1.8800000000000001E-2,1.6E-2,1.2999999999999999E-2,0.01,7.1000000000000004E-3,4.4000000000000003E-3,1.8E-3,-5.0000000000000001E-4,-2.5999999999999999E-3,-4.4000000000000003E-3,-5.5999999999999999E-3,-6.1000000000000004E-3,-5.5999999999999999E-3,-4.0000000000000001E-3,-1.1999999999999999E-3,2.8E-3,7.7000000000000002E-3,1.29E-2,1.83E-2,2.3300000000000001E-2,2.7699999999999999E-2,3.1E-2,3.3000000000000002E-2,3.3700000000000001E-2,3.3500000000000002E-2,3.2500000000000001E-2,3.0800000000000001E-2,2.8500000000000001E-2,2.5499999999999998E-2,2.1600000000000001E-2,1.7100000000000001E-2,1.21E-2,7.1000000000000004E-3,2.5000000000000001E-3,-1.4E-3,-4.1000000000000003E-3,-5.4000000000000003E-3,-4.7999999999999996E-3,-2.3E-3,2E-3,7.4000000000000003E-3,1.2699999999999999E-2,1.6400000000000001E-2,1.7299999999999999E-2,1.55E-2,1.18E-2,7.9000000000000008E-3,5.3E-3,4.7999999999999996E-3,6.4999999999999997E-3,1.01E-2,1.47E-2,1.9400000000000001E-2,2.3400000000000001E-2,2.5999999999999999E-2,2.6700000000000002E-2,2.53E-2,2.18E-2,1.6500000000000001E-2,9.7999999999999997E-3,2.3999999999999998E-3,-5.3E-3,-1.2800000000000001E-2,-1.49E-2,-1.6199999999999999E-2,-1.6799999999999999E-2,-1.66E-2,-1.5599999999999999E-2,-1.3899999999999999E-2,-1.1599999999999999E-2,-8.9999999999999993E-3,-6.1999999999999998E-3,-3.5999999999999999E-3,-1.1000000000000001E-3,1.5E-3,4.0000000000000001E-3,6.4000000000000003E-3,8.6E-3,1.03E-2,1.18E-2,1.2699999999999999E-2,1.3299999999999999E-2,1.35E-2]
[46,2.4E-2,2.1999999999999999E-2,0.02,1.77E-2,1.5100000000000001E-2,1.23E-2,9.4999999999999998E-3,6.7000000000000002E-3,4.1999999999999997E-3,1.9E-3,-2.0000000000000001E-4,-2.0999999999999999E-3,-3.5999999999999999E-3,-4.4999999999999997E-3,-4.7999999999999996E-3,-4.1999999999999997E-3,-2.5999999999999999E-3,0,3.8E-3,8.2000000000000007E-3,1.2999999999999999E-2,1.7999999999999999E-2,2.2700000000000001E-2,2.69E-2,3.0099999999999998E-2,3.2000000000000001E-2,3.2800000000000003E-2,3.2599999999999997E-2,3.1699999999999999E-2,3.0300000000000001E-2,2.8500000000000001E-2,2.6100000000000002E-2,2.29E-2,1.9099999999999999E-2,1.4800000000000001E-2,1.04E-2,6.1999999999999998E-3,2.7000000000000001E-3,2.0000000000000001E-4,-1.1000000000000001E-3,-8.9999999999999998E-4,1E-3,4.1999999999999997E-3,8.2000000000000007E-3,1.2E-2,1.46E-2,1.4800000000000001E-2,1.26E-2,8.9999999999999993E-3,5.4000000000000003E-3,3.0000000000000001E-3,2.7000000000000001E-3,4.5999999999999999E-3,8.0999999999999996E-3,1.2699999999999999E-2,1.7399999999999999E-2,2.1399999999999999E-2,2.41E-2,2.5100000000000001E-2,2.4199999999999999E-2,2.1499999999999998E-2,1.72E-2,1.1599999999999999E-2,5.1999999999999998E-3,-1.5E-3,-8.2000000000000007E-3,-1.01E-2,-1.15E-2,-1.23E-2,-1.26E-2,-1.2200000000000001E-2,-1.12E-2,-9.7000000000000003E-3,-7.7999999999999996E-3,-5.4999999999999997E-3,-3.3E-3,-1.1000000000000001E-3,1.4E-3,3.8999999999999998E-3,6.1999999999999998E-3,8.3999999999999995E-3,1.0200000000000001E-2,1.17E-2,1.2699999999999999E-2,1.3299999999999999E-2,1.35E-2]
[47,2.2599999999999999E-2,2.07E-2,1.8800000000000001E-2,1.67E-2,1.43E-2,1.1599999999999999E-2,8.8999999999999999E-3,6.3E-3,3.8999999999999998E-3,1.8E-3,0,-1.6000000000000001E-3,-2.8999999999999998E-3,-3.5000000000000001E-3,-3.5999999999999999E-3,-2.8999999999999998E-3,-1.1999999999999999E-3,1.2999999999999999E-3,4.7999999999999996E-3,8.8999999999999999E-3,1.3299999999999999E-2,1.78E-2,2.2200000000000001E-2,2.6100000000000002E-2,2.9100000000000001E-2,3.09E-2,3.1600000000000003E-2,3.15E-2,3.0800000000000001E-2,2.9700000000000001E-2,2.8299999999999999E-2,2.63E-2,2.3699999999999999E-2,2.0400000000000001E-2,1.67E-2,1.2999999999999999E-2,9.4000000000000004E-3,6.4000000000000003E-3,4.1999999999999997E-3,3.0999999999999999E-3,3.0999999999999999E-3,4.4000000000000003E-3,6.6E-3,9.4999999999999998E-3,1.2200000000000001E-2,1.38E-2,1.3299999999999999E-2,1.0800000000000001E-2,7.1000000000000004E-3,3.3999999999999998E-3,1.1000000000000001E-3,6.9999999999999999E-4,2.5000000000000001E-3,6.0000000000000001E-3,1.04E-2,1.4999999999999999E-2,1.9099999999999999E-2,2.1899999999999999E-2,2.3199999999999998E-2,2.2700000000000001E-2,2.07E-2,1.7100000000000001E-2,1.2500000000000001E-2,7.1000000000000004E-3,1.4E-3,-4.1999999999999997E-3,-5.8999999999999999E-3,-7.1999999999999998E-3,-8.2000000000000007E-3,-8.8000000000000005E-3,-8.8999999999999999E-3,-8.5000000000000006E-3,-7.6E-3,-6.1999999999999998E-3,-4.5999999999999999E-3,-2.8E-3,-8.0000000000000004E-4,1.4E-3,3.8E-3,6.1000000000000004E-3,8.2000000000000007E-3,1.01E-2,1.1599999999999999E-2,1.2699999999999999E-2,1.3299999999999999E-2,1.35E-2]
[48,2.1299999999999999E-2,1.9599999999999999E-2,1.78E-2,1.5800000000000002E-2,1.35E-2,1.09E-2,8.3000000000000001E-3,5.8999999999999999E-3,3.5999999999999999E-3,1.6999999999999999E-3,1E-4,-1.2999999999999999E-3,-2.3E-3,-2.7000000000000001E-3,-2.5999999999999999E-3,-1.6999999999999999E-3,0,2.5999999999999999E-3,5.8999999999999999E-3,9.7000000000000003E-3,1.38E-2,1.7899999999999999E-2,2.1899999999999999E-2,2.5399999999999999E-2,2.81E-2,2.9700000000000001E-2,3.0300000000000001E-2,3.0300000000000001E-2,2.98E-2,2.8899999999999999E-2,2.7699999999999999E-2,2.6100000000000002E-2,2.3900000000000001E-2,2.12E-2,1.8100000000000002E-2,1.4999999999999999E-2,1.21E-2,9.7000000000000003E-3,7.9000000000000008E-3,6.8999999999999999E-3,6.7999999999999996E-3,7.6E-3,9.1999999999999998E-3,1.12E-2,1.2999999999999999E-2,1.38E-2,1.2800000000000001E-2,0.01,6.1000000000000004E-3,2.3E-3,-2.9999999999999997E-4,-1E-3,5.0000000000000001E-4,3.7000000000000002E-3,8.0000000000000002E-3,1.2500000000000001E-2,1.66E-2,1.95E-2,2.0899999999999998E-2,2.0799999999999999E-2,1.9199999999999998E-2,1.6400000000000001E-2,1.2500000000000001E-2,8.0999999999999996E-3,3.5999999999999999E-3,-1E-3,-2.3E-3,-3.5000000000000001E-3,-4.4999999999999997E-3,-5.3E-3,-5.7000000000000002E-3,-5.7000000000000002E-3,-5.3E-3,-4.4999999999999997E-3,-3.3999999999999998E-3,-2E-3,-4.0000000000000002E-4,1.6000000000000001E-3,3.8E-3,6.1000000000000004E-3,8.2000000000000007E-3,0.01,1.15E-2,1.26E-2,1.3299999999999999E-2,1.35E-2]
[49,2.01E-2,1.8499999999999999E-2,1.6899999999999998E-2,1.4999999999999999E-2,1.2800000000000001E-2,1.03E-2,7.7999999999999996E-3,5.4000000000000003E-3,3.3999999999999998E-3,1.6000000000000001E-3,2.0000000000000001E-4,-1E-3,-1.8E-3,-2.0999999999999999E-3,-1.6999999999999999E-3,-6.9999999999999999E-4,1.1000000000000001E-3,3.7000000000000002E-3,6.8999999999999999E-3,1.06E-2,1.44E-2,1.8200000000000001E-2,2.18E-2,2.4899999999999999E-2,2.7099999999999999E-2,2.8500000000000001E-2,2.9100000000000001E-2,2.9000000000000001E-2,2.86E-2,2.7900000000000001E-2,2.69E-2,2.5600000000000001E-2,2.3699999999999999E-2,2.1399999999999999E-2,1.89E-2,1.6400000000000001E-2,1.43E-2,1.2500000000000001E-2,1.12E-2,1.04E-2,1.0200000000000001E-2,1.06E-2,1.1599999999999999E-2,1.2999999999999999E-2,1.4200000000000001E-2,1.46E-2,1.32E-2,1.01E-2,6.0000000000000001E-3,1.9E-3,-1.1000000000000001E-3,-2.3E-3,-1.2999999999999999E-3,1.6000000000000001E-3,5.5999999999999999E-3,0.01,1.4E-2,1.7000000000000001E-2,1.8499999999999999E-2,1.8599999999999998E-2,1.7299999999999999E-2,1.4999999999999999E-2,1.1900000000000001E-2,8.3999999999999995E-3,4.8999999999999998E-3,1.5E-3,5.0000000000000001E-4,-5.0000000000000001E-4,-1.4E-3,-2.2000000000000001E-3,-2.8E-3,-3.0999999999999999E-3,-3.0999999999999999E-3,-2.7000000000000001E-3,-2E-3,-1E-3,2.9999999999999997E-4,2E-3,4.0000000000000001E-3,6.1000000000000004E-3,8.0999999999999996E-3,9.9000000000000008E-3,1.15E-2,1.26E-2,1.3299999999999999E-2,1.35E-2]
[50,1.9E-2,1.7600000000000001E-2,1.61E-2,1.43E-2,1.2200000000000001E-2,9.7000000000000003E-3,7.3000000000000001E-3,5.1000000000000004E-3,3.2000000000000002E-3,1.6000000000000001E-3,2.9999999999999997E-4,-6.9999999999999999E-4,-1.4E-3,-1.6000000000000001E-3,-1.1999999999999999E-3,0,1.9E-3,4.4999999999999997E-3,7.7999999999999996E-3,1.1299999999999999E-2,1.4999999999999999E-2,1.8599999999999998E-2,2.1899999999999999E-2,2.46E-2,2.6499999999999999E-2,2.75E-2,2.7900000000000001E-2,2.7799999999999998E-2,2.7400000000000001E-2,2.6800000000000001E-2,2.5899999999999999E-2,2.47E-2,2.3099999999999999E-2,2.12E-2,1.9199999999999998E-2,1.7500000000000002E-2,1.6E-2,1.49E-2,1.4E-2,1.34E-2,1.32E-2,1.3299999999999999E-2,1.3899999999999999E-2,1.49E-2,1.5699999999999999E-2,1.5699999999999999E-2,1.4200000000000001E-2,1.09E-2,6.6E-3,2.2000000000000001E-3,-1.1999999999999999E-3,-2.8999999999999998E-3,-2.3999999999999998E-3,-1E-4,3.5999999999999999E-3,7.7000000000000002E-3,1.15E-2,1.44E-2,1.5900000000000001E-2,1.61E-2,1.5100000000000001E-2,1.3100000000000001E-2,1.06E-2,8.0000000000000002E-3,5.4999999999999997E-3,3.2000000000000002E-3,2.5999999999999999E-3,1.9E-3,1.1000000000000001E-3,4.0000000000000002E-4,-2.0000000000000001E-4,-6.9999999999999999E-4,-8.9999999999999998E-4,-8.0000000000000004E-4,-5.0000000000000001E-4,2.0000000000000001E-4,1.1000000000000001E-3,2.5999999999999999E-3,4.3E-3,6.1999999999999998E-3,8.0999999999999996E-3,9.9000000000000008E-3,1.14E-2,1.26E-2,1.3299999999999999E-2,1.35E-2]
[51,1.8100000000000002E-2,1.6799999999999999E-2,1.54E-2,1.37E-2,1.1599999999999999E-2,9.2999999999999992E-3,6.8999999999999999E-3,4.7999999999999996E-3,3.0000000000000001E-3,1.6000000000000001E-3,4.0000000000000002E-4,-5.9999999999999995E-4,-1.1999999999999999E-3,-1.2999999999999999E-3,-8.0000000000000004E-4,4.0000000000000002E-4,2.3999999999999998E-3,5.0000000000000001E-3,8.3000000000000001E-3,1.1900000000000001E-2,1.5599999999999999E-2,1.9099999999999999E-2,2.2100000000000002E-2,2.4500000000000001E-2,2.6100000000000002E-2,2.69E-2,2.7E-2,2.6800000000000001E-2,2.63E-2,2.5600000000000001E-2,2.47E-2,2.35E-2,2.2200000000000001E-2,2.07E-2,1.9300000000000001E-2,1.8100000000000002E-2,1.7299999999999999E-2,1.67E-2,1.6299999999999999E-2,1.5900000000000001E-2,1.5699999999999999E-2,1.5599999999999999E-2,1.6E-2,1.67E-2,1.7299999999999999E-2,1.7100000000000001E-2,1.55E-2,1.2200000000000001E-2,7.7999999999999996E-3,3.3E-3,-5.0000000000000001E-4,-2.5999999999999999E-3,-2.7000000000000001E-3,-1E-3,2.0999999999999999E-3,5.7000000000000002E-3,9.1999999999999998E-3,1.18E-2,1.32E-2,1.34E-2,1.2500000000000001E-2,1.09E-2,8.9999999999999993E-3,7.1000000000000004E-3,5.4000000000000003E-3,4.1999999999999997E-3,3.8999999999999998E-3,3.5000000000000001E-3,3.0000000000000001E-3,2.5000000000000001E-3,2E-3,1.5E-3,1.1999999999999999E-3,1E-3,1.1000000000000001E-3,1.5E-3,2.2000000000000001E-3,3.3E-3,4.7000000000000002E-3,6.4999999999999997E-3,8.2000000000000007E-3,9.9000000000000008E-3,1.14E-2,1.2500000000000001E-2,1.3299999999999999E-2,1.35E-2]
[52,1.7399999999999999E-2,1.6199999999999999E-2,1.49E-2,1.32E-2,1.11E-2,8.8000000000000005E-3,6.4999999999999997E-3,4.5999999999999999E-3,2.8999999999999998E-3,1.6000000000000001E-3,5.0000000000000001E-4,-5.0000000000000001E-4,-1.1000000000000001E-3,-1.1999999999999999E-3,-8.0000000000000004E-4,5.0000000000000001E-4,2.5000000000000001E-3,5.1999999999999998E-3,8.6E-3,1.2200000000000001E-2,1.6E-2,1.95E-2,2.2499999999999999E-2,2.47E-2,2.6100000000000002E-2,2.6599999999999999E-2,2.64E-2,2.5899999999999999E-2,2.5100000000000001E-2,2.4199999999999999E-2,2.3300000000000001E-2,2.2200000000000001E-2,2.1000000000000001E-2,0.02,1.9099999999999999E-2,1.8499999999999999E-2,1.8200000000000001E-2,1.8100000000000002E-2,1.7999999999999999E-2,1.78E-2,1.7600000000000001E-2,1.7600000000000001E-2,1.78E-2,1.84E-2,1.8800000000000001E-2,1.8499999999999999E-2,1.6799999999999999E-2,1.3599999999999999E-2,9.4000000000000004E-3,4.8999999999999998E-3,1E-3,-1.4E-3,-2.0999999999999999E-3,-1E-3,1.2999999999999999E-3,4.1999999999999997E-3,7.1000000000000004E-3,9.2999999999999992E-3,1.0500000000000001E-2,1.06E-2,9.9000000000000008E-3,8.5000000000000006E-3,7.1000000000000004E-3,5.7999999999999996E-3,4.8999999999999998E-3,4.4000000000000003E-3,4.4000000000000003E-3,4.4000000000000003E-3,4.3E-3,4.0000000000000001E-3,3.7000000000000002E-3,3.3E-3,3.0000000000000001E-3,2.8E-3,2.7000000000000001E-3,2.8999999999999998E-3,3.3E-3,4.1000000000000003E-3,5.3E-3,6.7999999999999996E-3,8.3999999999999995E-3,0.01,1.14E-2,1.2500000000000001E-2,1.3299999999999999E-2,1.35E-2]
[53,1.6899999999999998E-2,1.5699999999999999E-2,1.43E-2,1.2699999999999999E-2,1.0699999999999999E-2,8.3999999999999995E-3,6.3E-3,4.4000000000000003E-3,2.8999999999999998E-3,1.6000000000000001E-3,5.0000000000000001E-4,-5.0000000000000001E-4,-1.1000000000000001E-3,-1.2999999999999999E-3,-8.9999999999999998E-4,2.9999999999999997E-4,2.3E-3,5.1000000000000004E-3,8.5000000000000006E-3,1.23E-2,1.6199999999999999E-2,1.9900000000000001E-2,2.29E-2,2.5100000000000001E-2,2.63E-2,2.6599999999999999E-2,2.6200000000000001E-2,2.52E-2,2.41E-2,2.29E-2,2.18E-2,2.07E-2,1.9800000000000002E-2,1.9099999999999999E-2,1.8700000000000001E-2,1.8499999999999999E-2,1.8700000000000001E-2,1.89E-2,1.9099999999999999E-2,1.9199999999999998E-2,1.9199999999999998E-2,1.9199999999999998E-2,1.9400000000000001E-2,1.9800000000000002E-2,2.01E-2,1.9699999999999999E-2,1.7999999999999999E-2,1.4999999999999999E-2,1.11E-2,6.8999999999999999E-3,3.2000000000000002E-3,5.9999999999999995E-4,-5.0000000000000001E-4,-2.0000000000000001E-4,1.2999999999999999E-3,3.3E-3,5.4000000000000003E-3,7.0000000000000001E-3,7.7999999999999996E-3,7.9000000000000008E-3,7.1999999999999998E-3,6.1000000000000004E-3,5.0000000000000001E-3,4.1999999999999997E-3,3.8999999999999998E-3,4.0000000000000001E-3,4.3E-3,4.7000000000000002E-3,4.8999999999999998E-3,5.0000000000000001E-3,5.0000000000000001E-3,4.7999999999999996E-3,4.5999999999999999E-3,4.4000000000000003E-3,4.3E-3,4.1999999999999997E-3,4.4999999999999997E-3,5.0000000000000001E-3,6.0000000000000001E-3,7.1999999999999998E-3,8.6E-3,1.01E-2,1.15E-2,1.2500000000000001E-2,1.3299999999999999E-2,1.35E-2]
[54,1.6400000000000001E-2,1.52E-2,1.3899999999999999E-2,1.2200000000000001E-2,1.0200000000000001E-2,8.0000000000000002E-3,6.0000000000000001E-3,4.1999999999999997E-3,2.8E-3,1.5E-3,4.0000000000000002E-4,-5.9999999999999995E-4,-1.2999999999999999E-3,-1.5E-3,-1.1999999999999999E-3,-1E-4,1.9E-3,4.7000000000000002E-3,8.3000000000000001E-3,1.23E-2,1.6299999999999999E-2,2.01E-2,2.3300000000000001E-2,2.5600000000000001E-2,2.6800000000000001E-2,2.69E-2,2.6200000000000001E-2,2.4799999999999999E-2,2.3199999999999998E-2,2.1700000000000001E-2,2.0299999999999999E-2,1.9300000000000001E-2,1.8599999999999998E-2,1.8200000000000001E-2,1.8100000000000002E-2,1.84E-2,1.8800000000000001E-2,1.9300000000000001E-2,1.9800000000000002E-2,2.01E-2,2.0299999999999999E-2,2.0400000000000001E-2,2.07E-2,2.1000000000000001E-2,2.1100000000000001E-2,2.06E-2,1.9E-2,1.6400000000000001E-2,1.29E-2,9.1999999999999998E-3,5.7999999999999996E-3,3.3E-3,1.9E-3,1.6000000000000001E-3,2.0999999999999999E-3,3.0999999999999999E-3,4.1999999999999997E-3,5.1000000000000004E-3,5.4000000000000003E-3,5.3E-3,4.5999999999999999E-3,3.7000000000000002E-3,2.8999999999999998E-3,2.5000000000000001E-3,2.5000000000000001E-3,3.0000000000000001E-3,3.5999999999999999E-3,4.3E-3,5.0000000000000001E-3,5.4000000000000003E-3,5.7000000000000002E-3,5.8999999999999999E-3,5.8999999999999999E-3,5.7999999999999996E-3,5.7000000000000002E-3,5.5999999999999999E-3,5.5999999999999999E-3,6.0000000000000001E-3,6.7000000000000002E-3,7.7000000000000002E-3,8.9999999999999993E-3,1.03E-2,1.15E-2,1.26E-2,1.3299999999999999E-2,1.35E-2]
[55,1.61E-2,1.4800000000000001E-2,1.34E-2,1.1599999999999999E-2,9.5999999999999992E-3,7.4999999999999997E-3,5.5999999999999999E-3,4.0000000000000001E-3,2.5999999999999999E-3,1.4E-3,2.0000000000000001E-4,-8.0000000000000004E-4,-1.5E-3,-1.8E-3,-1.6000000000000001E-3,-5.0000000000000001E-4,1.4E-3,4.3E-3,7.9000000000000008E-3,1.2E-2,1.6299999999999999E-2,2.0299999999999999E-2,2.3699999999999999E-2,2.6100000000000002E-2,2.7300000000000001E-2,2.7400000000000001E-2,2.64E-2,2.46E-2,2.2599999999999999E-2,2.07E-2,1.9099999999999999E-2,1.7999999999999999E-2,1.7399999999999999E-2,1.72E-2,1.7500000000000002E-2,1.7999999999999999E-2,1.8700000000000001E-2,1.9400000000000001E-2,0.02,2.06E-2,2.0899999999999998E-2,2.1299999999999999E-2,2.1600000000000001E-2,2.1899999999999999E-2,2.1899999999999999E-2,2.1299999999999999E-2,1.9900000000000001E-2,1.7600000000000001E-2,1.47E-2,1.1599999999999999E-2,8.6999999999999994E-3,6.4000000000000003E-3,4.7999999999999996E-3,4.0000000000000001E-3,3.5999999999999999E-3,3.5999999999999999E-3,3.8E-3,3.8E-3,3.5999999999999999E-3,3.0999999999999999E-3,2.3E-3,1.5E-3,8.9999999999999998E-4,5.9999999999999995E-4,8.9999999999999998E-4,1.5E-3,2.5000000000000001E-3,3.5000000000000001E-3,4.4999999999999997E-3,5.4000000000000003E-3,6.1000000000000004E-3,6.6E-3,6.8999999999999999E-3,7.0000000000000001E-3,7.0000000000000001E-3,6.7999999999999996E-3,6.7000000000000002E-3,7.0000000000000001E-3,7.4999999999999997E-3,8.3000000000000001E-3,9.2999999999999992E-3,1.0500000000000001E-2,1.1599999999999999E-2,1.26E-2,1.3299999999999999E-2,1.35E-2]
[56,1.5699999999999999E-2,1.43E-2,1.2800000000000001E-2,1.0999999999999999E-2,8.9999999999999993E-3,7.0000000000000001E-3,5.1000000000000004E-3,3.5000000000000001E-3,2.2000000000000001E-3,1E-3,-1E-4,-1.1000000000000001E-3,-1.9E-3,-2.2000000000000001E-3,-1.9E-3,-8.9999999999999998E-4,1E-3,3.8999999999999998E-3,7.6E-3,1.18E-2,1.6199999999999999E-2,2.0299999999999999E-2,2.3900000000000001E-2,2.64E-2,2.7799999999999998E-2,2.7699999999999999E-2,2.6599999999999999E-2,2.46E-2,2.2200000000000001E-2,1.9900000000000001E-2,1.8100000000000002E-2,1.6899999999999998E-2,1.6299999999999999E-2,1.6299999999999999E-2,1.67E-2,1.7500000000000002E-2,1.83E-2,1.9199999999999998E-2,0.02,2.07E-2,2.1299999999999999E-2,2.1700000000000001E-2,2.2100000000000002E-2,2.24E-2,2.23E-2,2.18E-2,2.06E-2,1.8700000000000001E-2,1.6400000000000001E-2,1.4E-2,1.1599999999999999E-2,9.5999999999999992E-3,8.0000000000000002E-3,6.7999999999999996E-3,5.7000000000000002E-3,4.7999999999999996E-3,4.1000000000000003E-3,3.3E-3,2.3999999999999998E-3,1.4E-3,4.0000000000000002E-4,-5.0000000000000001E-4,-1.1000000000000001E-3,-1.2999999999999999E-3,-1E-3,-2.0000000000000001E-4,8.9999999999999998E-4,2.2000000000000001E-3,3.5999999999999999E-3,4.8999999999999998E-3,6.0000000000000001E-3,6.8999999999999999E-3,7.6E-3,8.0000000000000002E-3,8.0999999999999996E-3,7.9000000000000008E-3,7.7999999999999996E-3,7.9000000000000008E-3,8.3000000000000001E-3,8.8999999999999999E-3,9.7000000000000003E-3,1.0699999999999999E-2,1.17E-2,1.26E-2,1.3299999999999999E-2,1.35E-2]
[57,1.52E-2,1.37E-2,1.21E-2,1.03E-2,8.3000000000000001E-3,6.3E-3,4.4999999999999997E-3,3.0000000000000001E-3,1.6999999999999999E-3,5.0000000000000001E-4,-5.9999999999999995E-4,-1.6000000000000001E-3,-2.3E-3,-2.5999999999999999E-3,-2.2000000000000001E-3,-1.1999999999999999E-3,8.0000000000000004E-4,3.7000000000000002E-3,7.4000000000000003E-3,1.1599999999999999E-2,1.6E-2,2.0199999999999999E-2,2.3900000000000001E-2,2.6499999999999999E-2,2.7900000000000001E-2,2.8000000000000001E-2,2.6700000000000002E-2,2.46E-2,2.2100000000000002E-2,1.95E-2,1.7500000000000002E-2,1.61E-2,1.54E-2,1.54E-2,1.5900000000000001E-2,1.6799999999999999E-2,1.78E-2,1.8800000000000001E-2,1.9699999999999999E-2,2.06E-2,2.1299999999999999E-2,2.18E-2,2.23E-2,2.2499999999999999E-2,2.2499999999999999E-2,2.2100000000000002E-2,2.1100000000000001E-2,1.9699999999999999E-2,1.7999999999999999E-2,1.6199999999999999E-2,1.44E-2,1.2699999999999999E-2,1.12E-2,9.7000000000000003E-3,8.2000000000000007E-3,6.7000000000000002E-3,5.1000000000000004E-3,3.5999999999999999E-3,2.0999999999999999E-3,5.0000000000000001E-4,-8.9999999999999998E-4,-2.2000000000000001E-3,-3.0000000000000001E-3,-3.2000000000000002E-3,-2.8999999999999998E-3,-2.0999999999999999E-3,-8.9999999999999998E-4,6.9999999999999999E-4,2.3999999999999998E-3,4.1000000000000003E-3,5.7000000000000002E-3,7.0000000000000001E-3,8.0000000000000002E-3,8.6E-3,8.8999999999999999E-3,8.8999999999999999E-3,8.6999999999999994E-3,8.6999999999999994E-3,8.9999999999999993E-3,9.4999999999999998E-3,1.0200000000000001E-2,1.0999999999999999E-2,1.1900000000000001E-2,1.2699999999999999E-2,1.3299999999999999E-2,1.35E-2]
[58,1.46E-2,1.2999999999999999E-2,1.1299999999999999E-2,9.4000000000000004E-3,7.4000000000000003E-3,5.4000000000000003E-3,3.7000000000000002E-3,2.2000000000000001E-3,1E-3,-1E-4,-1.1999999999999999E-3,-2.0999999999999999E-3,-2.8E-3,-2.8999999999999998E-3,-2.3999999999999998E-3,-1.1999999999999999E-3,8.0000000000000004E-4,3.7000000000000002E-3,7.4000000000000003E-3,1.15E-2,1.5900000000000001E-2,0.02,2.3599999999999999E-2,2.64E-2,2.7799999999999998E-2,2.7900000000000001E-2,2.6700000000000002E-2,2.47E-2,2.2100000000000002E-2,1.9400000000000001E-2,1.72E-2,1.5599999999999999E-2,1.4800000000000001E-2,1.47E-2,1.52E-2,1.61E-2,1.72E-2,1.83E-2,1.9300000000000001E-2,2.0299999999999999E-2,2.1100000000000001E-2,2.1600000000000001E-2,2.1999999999999999E-2,2.23E-2,2.24E-2,2.2200000000000001E-2,2.1600000000000001E-2,2.07E-2,1.95E-2,1.8200000000000001E-2,1.6899999999999998E-2,1.55E-2,1.4200000000000001E-2,1.26E-2,1.09E-2,8.9999999999999993E-3,6.8999999999999999E-3,4.7000000000000002E-3,2.5999999999999999E-3,4.0000000000000002E-4,-1.6000000000000001E-3,-3.3E-3,-4.4999999999999997E-3,-4.8999999999999998E-3,-4.7000000000000002E-3,-4.0000000000000001E-3,-2.7000000000000001E-3,-1E-3,1E-3,3.0000000000000001E-3,5.0000000000000001E-3,6.7000000000000002E-3,8.0999999999999996E-3,9.1000000000000004E-3,9.5999999999999992E-3,9.7000000000000003E-3,9.4999999999999998E-3,9.4999999999999998E-3,9.5999999999999992E-3,0.01,1.06E-2,1.1299999999999999E-2,1.2E-2,1.2800000000000001E-2,1.3299999999999999E-2,1.35E-2]
[59,1.38E-2,1.21E-2,1.04E-2,8.5000000000000006E-3,6.4999999999999997E-3,4.4999999999999997E-3,2.8E-3,1.4E-3,2.0000000000000001E-4,-8.9999999999999998E-4,-1.9E-3,-2.7000000000000001E-3,-3.2000000000000002E-3,-3.0999999999999999E-3,-2.5000000000000001E-3,-1.1000000000000001E-3,1E-3,3.8999999999999998E-3,7.4999999999999997E-3,1.15E-2,1.5699999999999999E-2,1.9699999999999999E-2,2.3199999999999998E-2,2.5899999999999999E-2,2.7300000000000001E-2,2.75E-2,2.6499999999999999E-2,2.46E-2,2.2200000000000001E-2,1.95E-2,1.72E-2,1.54E-2,1.44E-2,1.41E-2,1.4500000000000001E-2,1.54E-2,1.6500000000000001E-2,1.77E-2,1.89E-2,1.9800000000000002E-2,2.06E-2,2.1100000000000001E-2,2.1499999999999998E-2,2.18E-2,2.1999999999999999E-2,2.2100000000000002E-2,2.1999999999999999E-2,2.1499999999999998E-2,2.0799999999999999E-2,0.02,1.9E-2,1.7999999999999999E-2,1.6799999999999999E-2,1.54E-2,1.3599999999999999E-2,1.15E-2,9.1000000000000004E-3,6.4999999999999997E-3,3.8E-3,1E-3,-1.6999999999999999E-3,-3.8999999999999998E-3,-5.4999999999999997E-3,-6.3E-3,-6.1999999999999998E-3,-5.7000000000000002E-3,-4.4999999999999997E-3,-2.7000000000000001E-3,-5.0000000000000001E-4,1.8E-3,4.1000000000000003E-3,6.1999999999999998E-3,8.0000000000000002E-3,9.2999999999999992E-3,0.01,1.03E-2,1.0200000000000001E-2,1.0200000000000001E-2,1.0200000000000001E-2,1.0500000000000001E-2,1.09E-2,1.15E-2,1.2200000000000001E-2,1.2800000000000001E-2,1.3299999999999999E-2,1.35E-2]
[60,1.29E-2,1.12E-2,9.4000000000000004E-3,7.4000000000000003E-3,5.4000000000000003E-3,3.5000000000000001E-3,1.8E-3,4.0000000000000002E-4,-6.9999999999999999E-4,-1.6999999999999999E-3,-2.5999999999999999E-3,-3.2000000000000002E-3,-3.5000000000000001E-3,-3.2000000000000002E-3,-2.3999999999999998E-3,-8.0000000000000004E-4,1.4E-3,4.3E-3,7.7999999999999996E-3,1.1599999999999999E-2,1.55E-2,1.9199999999999998E-2,2.2499999999999999E-2,2.5100000000000001E-2,2.6499999999999999E-2,2.6800000000000001E-2,2.6100000000000002E-2,2.4400000000000002E-2,2.2200000000000001E-2,1.9699999999999999E-2,1.7399999999999999E-2,1.54E-2,1.4200000000000001E-2,1.37E-2,1.3899999999999999E-2,1.4800000000000001E-2,1.5900000000000001E-2,1.7100000000000001E-2,1.83E-2,1.9300000000000001E-2,0.02,2.0400000000000001E-2,2.0799999999999999E-2,2.1100000000000001E-2,2.1499999999999998E-2,2.1899999999999999E-2,2.2200000000000001E-2,2.2200000000000001E-2,2.1899999999999999E-2,2.1399999999999999E-2,2.0799999999999999E-2,0.02,1.9E-2,1.78E-2,1.6199999999999999E-2,1.41E-2,1.1599999999999999E-2,8.6999999999999994E-3,5.5999999999999999E-3,2.3E-3,-1E-3,-3.8999999999999998E-3,-6.0000000000000001E-3,-7.1000000000000004E-3,-7.4000000000000003E-3,-7.0000000000000001E-3,-6.0000000000000001E-3,-4.1999999999999997E-3,-1.9E-3,5.9999999999999995E-4,3.2000000000000002E-3,5.5999999999999999E-3,7.6E-3,9.1999999999999998E-3,1.03E-2,1.0699999999999999E-2,1.0699999999999999E-2,1.0699999999999999E-2,1.0800000000000001E-2,1.09E-2,1.1299999999999999E-2,1.17E-2,1.23E-2,1.29E-2,1.3299999999999999E-2,1.35E-2]
[61,1.1900000000000001E-2,1.01E-2,8.3000000000000001E-3,6.4000000000000003E-3,4.4000000000000003E-3,2.5000000000000001E-3,8.0000000000000004E-4,-5.0000000000000001E-4,-1.6000000000000001E-3,-2.5000000000000001E-3,-3.2000000000000002E-3,-3.7000000000000002E-3,-3.7000000000000002E-3,-3.2000000000000002E-3,-2.0999999999999999E-3,-4.0000000000000002E-4,1.9E-3,4.7999999999999996E-3,8.0999999999999996E-3,1.1599999999999999E-2,1.52E-2,1.8599999999999998E-2,2.1700000000000001E-2,2.41E-2,2.5499999999999998E-2,2.5899999999999999E-2,2.5399999999999999E-2,2.41E-2,2.2100000000000002E-2,1.9900000000000001E-2,1.7600000000000001E-2,1.5599999999999999E-2,1.41E-2,1.35E-2,1.3599999999999999E-2,1.43E-2,1.54E-2,1.66E-2,1.78E-2,1.8700000000000001E-2,1.9300000000000001E-2,1.9599999999999999E-2,1.9900000000000001E-2,2.0299999999999999E-2,2.0899999999999998E-2,2.1600000000000001E-2,2.2200000000000001E-2,2.2700000000000001E-2,2.2800000000000001E-2,2.2599999999999999E-2,2.2200000000000001E-2,2.1700000000000001E-2,2.1000000000000001E-2,0.02,1.8499999999999999E-2,1.66E-2,1.4200000000000001E-2,1.12E-2,7.7000000000000002E-3,4.0000000000000001E-3,2.0000000000000001E-4,-3.2000000000000002E-3,-5.7000000000000002E-3,-7.3000000000000001E-3,-7.9000000000000008E-3,-7.7999999999999996E-3,-7.0000000000000001E-3,-5.4000000000000003E-3,-3.0999999999999999E-3,-5.0000000000000001E-4,2.2000000000000001E-3,4.8999999999999998E-3,7.1999999999999998E-3,8.9999999999999993E-3,1.03E-2,1.09E-2,1.0999999999999999E-2,1.11E-2,1.12E-2,1.1299999999999999E-2,1.1599999999999999E-2,1.1900000000000001E-2,1.24E-2,1.29E-2,1.3299999999999999E-2,1.35E-2]
[62,1.09E-2,8.9999999999999993E-3,7.1999999999999998E-3,5.3E-3,3.3E-3,1.5E-3,-1E-4,-1.2999999999999999E-3,-2.3E-3,-3.0999999999999999E-3,-3.7000000000000002E-3,-4.0000000000000001E-3,-3.8E-3,-3.0999999999999999E-3,-1.8E-3,1E-4,2.3999999999999998E-3,5.1999999999999998E-3,8.3000000000000001E-3,1.15E-2,1.4800000000000001E-2,1.7899999999999999E-2,2.0799999999999999E-2,2.3E-2,2.4400000000000002E-2,2.4899999999999999E-2,2.4500000000000001E-2,2.35E-2,2.1899999999999999E-2,1.9800000000000002E-2,1.77E-2,1.5699999999999999E-2,1.4200000000000001E-2,1.35E-2,1.34E-2,1.41E-2,1.5100000000000001E-2,1.6199999999999999E-2,1.7299999999999999E-2,1.7999999999999999E-2,1.8499999999999999E-2,1.8700000000000001E-2,1.89E-2,1.9400000000000001E-2,2.0199999999999999E-2,2.1100000000000001E-2,2.2100000000000002E-2,2.29E-2,2.3300000000000001E-2,2.35E-2,2.3400000000000001E-2,2.3099999999999999E-2,2.2599999999999999E-2,2.18E-2,2.06E-2,1.89E-2,1.6500000000000001E-2,1.35E-2,0.01,6.1000000000000004E-3,2E-3,-1.8E-3,-4.7999999999999996E-3,-6.7000000000000002E-3,-7.7999999999999996E-3,-8.0999999999999996E-3,-7.6E-3,-6.1999999999999998E-3,-4.0000000000000001E-3,-1.4E-3,1.4E-3,4.1000000000000003E-3,6.6E-3,8.6999999999999994E-3,1.01E-2,1.09E-2,1.12E-2,1.1299999999999999E-2,1.15E-2,1.1599999999999999E-2,1.18E-2,1.21E-2,1.2500000000000001E-2,1.29E-2,1.3299999999999999E-2,1.35E-2]
[63,9.7999999999999997E-3,8.0000000000000002E-3,6.1999999999999998E-3,4.3E-3,2.3999999999999998E-3,5.9999999999999995E-4,-8.9999999999999998E-4,-2.0999999999999999E-3,-3.0000000000000001E-3,-3.5999999999999999E-3,-4.0000000000000001E-3,-4.1000000000000003E-3,-3.7000000000000002E-3,-2.8E-3,-1.4E-3,5.0000000000000001E-4,2.8E-3,5.4999999999999997E-3,8.3999999999999995E-3,1.1299999999999999E-2,1.43E-2,1.72E-2,1.9699999999999999E-2,2.18E-2,2.3099999999999999E-2,2.3699999999999999E-2,2.35E-2,2.2700000000000001E-2,2.1399999999999999E-2,1.9599999999999999E-2,1.77E-2,1.5900000000000001E-2,1.44E-2,1.3599999999999999E-2,1.35E-2,1.4E-2,1.49E-2,1.5900000000000001E-2,1.6799999999999999E-2,1.7399999999999999E-2,1.77E-2,1.78E-2,1.7999999999999999E-2,1.8499999999999999E-2,1.9300000000000001E-2,2.0500000000000001E-2,2.18E-2,2.29E-2,2.3599999999999999E-2,2.41E-2,2.4199999999999999E-2,2.4199999999999999E-2,2.3900000000000001E-2,2.3400000000000001E-2,2.24E-2,2.0799999999999999E-2,1.8599999999999998E-2,1.5699999999999999E-2,1.2200000000000001E-2,8.2000000000000007E-3,4.0000000000000001E-3,1E-4,-3.2000000000000002E-3,-5.4999999999999997E-3,-7.0000000000000001E-3,-7.7999999999999996E-3,-7.6E-3,-6.4999999999999997E-3,-4.5999999999999999E-3,-2.0999999999999999E-3,5.9999999999999995E-4,3.3999999999999998E-3,6.0000000000000001E-3,8.0999999999999996E-3,9.7999999999999997E-3,1.0699999999999999E-2,1.11E-2,1.14E-2,1.1599999999999999E-2,1.18E-2,1.1900000000000001E-2,1.2200000000000001E-2,1.2500000000000001E-2,1.29E-2,1.32E-2,1.34E-2]
[64,8.8999999999999999E-3,7.1000000000000004E-3,5.3E-3,3.3999999999999998E-3,1.6000000000000001E-3,-1E-4,-1.6000000000000001E-3,-2.5999999999999999E-3,-3.3999999999999998E-3,-4.0000000000000001E-3,-4.1999999999999997E-3,-4.1000000000000003E-3,-3.5999999999999999E-3,-2.5000000000000001E-3,-1E-3,8.9999999999999998E-4,3.0999999999999999E-3,5.5999999999999999E-3,8.3000000000000001E-3,1.0999999999999999E-2,1.37E-2,1.6299999999999999E-2,1.8700000000000001E-2,2.06E-2,2.1899999999999999E-2,2.2499999999999999E-2,2.24E-2,2.18E-2,2.06E-2,1.9099999999999999E-2,1.7500000000000002E-2,1.5900000000000001E-2,1.46E-2,1.38E-2,1.37E-2,1.41E-2,1.49E-2,1.5800000000000002E-2,1.6500000000000001E-2,1.6899999999999998E-2,1.7000000000000001E-2,1.7000000000000001E-2,1.7100000000000001E-2,1.7600000000000001E-2,1.8499999999999999E-2,1.9800000000000002E-2,2.12E-2,2.2599999999999999E-2,2.3699999999999999E-2,2.4400000000000002E-2,2.4899999999999999E-2,2.5100000000000001E-2,2.5000000000000001E-2,2.47E-2,2.3800000000000002E-2,2.24E-2,2.0299999999999999E-2,1.7600000000000001E-2,1.4200000000000001E-2,1.04E-2,6.1999999999999998E-3,2.3E-3,-1.1000000000000001E-3,-3.8E-3,-5.5999999999999999E-3,-6.8999999999999999E-3,-7.0000000000000001E-3,-6.1999999999999998E-3,-4.5999999999999999E-3,-2.5000000000000001E-3,1E-4,2.7000000000000001E-3,5.3E-3,7.4999999999999997E-3,9.2999999999999992E-3,1.03E-2,1.09E-2,1.1299999999999999E-2,1.1599999999999999E-2,1.18E-2,1.2E-2,1.2200000000000001E-2,1.2500000000000001E-2,1.2800000000000001E-2,1.3100000000000001E-2,1.32E-2]
[65,8.2000000000000007E-3,6.4000000000000003E-3,4.5999999999999999E-3,2.8E-3,1E-3,-6.9999999999999999E-4,-2E-3,-3.0000000000000001E-3,-3.7000000000000002E-3,-4.1000000000000003E-3,-4.1999999999999997E-3,-4.0000000000000001E-3,-3.3999999999999998E-3,-2.2000000000000001E-3,-6.9999999999999999E-4,1.1000000000000001E-3,3.2000000000000002E-3,5.5999999999999999E-3,8.0000000000000002E-3,1.06E-2,1.3100000000000001E-2,1.55E-2,1.77E-2,1.95E-2,2.07E-2,2.1299999999999999E-2,2.12E-2,2.07E-2,1.9699999999999999E-2,1.8499999999999999E-2,1.7100000000000001E-2,1.5699999999999999E-2,1.47E-2,1.4E-2,1.4E-2,1.43E-2,1.4999999999999999E-2,1.5699999999999999E-2,1.6299999999999999E-2,1.6500000000000001E-2,1.6500000000000001E-2,1.6299999999999999E-2,1.6299999999999999E-2,1.67E-2,1.7600000000000001E-2,1.89E-2,2.0500000000000001E-2,2.2100000000000002E-2,2.3400000000000001E-2,2.4500000000000001E-2,2.53E-2,2.58E-2,2.5899999999999999E-2,2.5700000000000001E-2,2.5000000000000001E-2,2.3699999999999999E-2,2.1700000000000001E-2,1.9199999999999998E-2,1.6E-2,1.24E-2,8.3999999999999995E-3,4.5999999999999999E-3,1.1999999999999999E-3,-1.6000000000000001E-3,-3.8E-3,-5.4999999999999997E-3,-5.8999999999999999E-3,-5.4999999999999997E-3,-4.3E-3,-2.5000000000000001E-3,-2.0000000000000001E-4,2.3E-3,4.7000000000000002E-3,6.8999999999999999E-3,8.6999999999999994E-3,9.9000000000000008E-3,1.06E-2,1.11E-2,1.15E-2,1.18E-2,1.2E-2,1.2200000000000001E-2,1.2500000000000001E-2,1.2699999999999999E-2,1.29E-2,1.3100000000000001E-2]
[66,7.7000000000000002E-3,5.8999999999999999E-3,4.1000000000000003E-3,2.3E-3,5.9999999999999995E-4,-1E-3,-2.3E-3,-3.0999999999999999E-3,-3.7000000000000002E-3,-4.0000000000000001E-3,-4.1000000000000003E-3,-3.8E-3,-3.0999999999999999E-3,-2E-3,-5.9999999999999995E-4,1.1999999999999999E-3,3.2000000000000002E-3,5.3E-3,7.7000000000000002E-3,0.01,1.24E-2,1.47E-2,1.67E-2,1.84E-2,1.9599999999999999E-2,2.01E-2,0.02,1.95E-2,1.8700000000000001E-2,1.7600000000000001E-2,1.6500000000000001E-2,1.54E-2,1.46E-2,1.4200000000000001E-2,1.4200000000000001E-2,1.46E-2,1.52E-2,1.5800000000000002E-2,1.6299999999999999E-2,1.6299999999999999E-2,1.61E-2,1.5800000000000002E-2,1.5699999999999999E-2,1.6E-2,1.6799999999999999E-2,1.8100000000000002E-2,1.9599999999999999E-2,2.1399999999999999E-2,2.3E-2,2.4400000000000002E-2,2.5499999999999998E-2,2.6200000000000001E-2,2.6599999999999999E-2,2.6499999999999999E-2,2.5899999999999999E-2,2.46E-2,2.2800000000000001E-2,2.0400000000000001E-2,1.7500000000000002E-2,1.41E-2,1.0500000000000001E-2,6.7999999999999996E-3,3.5000000000000001E-3,5.9999999999999995E-4,-1.8E-3,-3.8E-3,-4.4000000000000003E-3,-4.3E-3,-3.5000000000000001E-3,-2.0999999999999999E-3,-2.0000000000000001E-4,2E-3,4.1999999999999997E-3,6.3E-3,8.0999999999999996E-3,9.2999999999999992E-3,1.0200000000000001E-2,1.0800000000000001E-2,1.1299999999999999E-2,1.17E-2,1.2E-2,1.2200000000000001E-2,1.24E-2,1.26E-2,1.2800000000000001E-2,1.29E-2]
[67,7.4999999999999997E-3,5.7000000000000002E-3,3.8999999999999998E-3,2.0999999999999999E-3,4.0000000000000002E-4,-1.1000000000000001E-3,-2.3E-3,-3.0999999999999999E-3,-3.5999999999999999E-3,-3.8999999999999998E-3,-3.8999999999999998E-3,-3.5999999999999999E-3,-2.8999999999999998E-3,-1.8E-3,-5.0000000000000001E-4,1.1000000000000001E-3,2.8999999999999998E-3,5.0000000000000001E-3,7.1999999999999998E-3,9.4000000000000004E-3,1.17E-2,1.3899999999999999E-2,1.5900000000000001E-2,1.7500000000000002E-2,1.8499999999999999E-2,1.9E-2,1.89E-2,1.84E-2,1.7600000000000001E-2,1.66E-2,1.5699999999999999E-2,1.4999999999999999E-2,1.44E-2,1.4200000000000001E-2,1.44E-2,1.49E-2,1.55E-2,1.6E-2,1.6299999999999999E-2,1.6299999999999999E-2,1.5900000000000001E-2,1.54E-2,1.52E-2,1.5299999999999999E-2,1.6E-2,1.72E-2,1.8700000000000001E-2,2.0500000000000001E-2,2.23E-2,2.4E-2,2.5399999999999999E-2,2.6499999999999999E-2,2.7099999999999999E-2,2.7099999999999999E-2,2.6499999999999999E-2,2.5399999999999999E-2,2.3599999999999999E-2,2.1399999999999999E-2,1.8700000000000001E-2,1.55E-2,1.2200000000000001E-2,8.8000000000000005E-3,5.5999999999999999E-3,2.8E-3,2.9999999999999997E-4,-1.9E-3,-2.5999999999999999E-3,-2.7000000000000001E-3,-2.3E-3,-1.2999999999999999E-3,1E-4,1.9E-3,3.8999999999999998E-3,5.7999999999999996E-3,7.4999999999999997E-3,8.6999999999999994E-3,9.7000000000000003E-3,1.0500000000000001E-2,1.11E-2,1.15E-2,1.1900000000000001E-2,1.21E-2,1.23E-2,1.2500000000000001E-2,1.2699999999999999E-2,1.2800000000000001E-2]
[68,7.6E-3,5.7999999999999996E-3,4.0000000000000001E-3,2.2000000000000001E-3,5.0000000000000001E-4,-1E-3,-2.2000000000000001E-3,-2.8999999999999998E-3,-3.3999999999999998E-3,-3.5999999999999999E-3,-3.5999999999999999E-3,-3.3E-3,-2.7000000000000001E-3,-1.8E-3,-5.9999999999999995E-4,8.9999999999999998E-4,2.5999999999999999E-3,4.4999999999999997E-3,6.6E-3,8.8000000000000005E-3,1.11E-2,1.32E-2,1.5100000000000001E-2,1.67E-2,1.7600000000000001E-2,1.7999999999999999E-2,1.78E-2,1.72E-2,1.6500000000000001E-2,1.5599999999999999E-2,1.49E-2,1.43E-2,1.4E-2,1.4E-2,1.44E-2,1.5100000000000001E-2,1.5699999999999999E-2,1.6299999999999999E-2,1.6500000000000001E-2,1.6400000000000001E-2,1.5900000000000001E-2,1.5299999999999999E-2,1.4800000000000001E-2,1.4800000000000001E-2,1.5299999999999999E-2,1.6299999999999999E-2,1.78E-2,1.9599999999999999E-2,2.1600000000000001E-2,2.35E-2,2.52E-2,2.6499999999999999E-2,2.7300000000000001E-2,2.75E-2,2.7E-2,2.5899999999999999E-2,2.4299999999999999E-2,2.2100000000000002E-2,1.9599999999999999E-2,1.67E-2,1.35E-2,1.04E-2,7.4000000000000003E-3,4.7000000000000002E-3,2.3E-3,1E-4,-6.9999999999999999E-4,-1E-3,-8.9999999999999998E-4,-4.0000000000000002E-4,6.9999999999999999E-4,2E-3,3.5999999999999999E-3,5.4000000000000003E-3,6.8999999999999999E-3,8.2000000000000007E-3,9.1999999999999998E-3,0.01,1.0699999999999999E-2,1.1299999999999999E-2,1.17E-2,1.2E-2,1.2200000000000001E-2,1.24E-2,1.26E-2,1.2699999999999999E-2]
[69,7.9000000000000008E-3,6.1000000000000004E-3,4.1999999999999997E-3,2.3999999999999998E-3,6.9999999999999999E-4,-6.9999999999999999E-4,-1.8E-3,-2.5999999999999999E-3,-3.0999999999999999E-3,-3.3E-3,-3.3E-3,-3.0999999999999999E-3,-2.5999999999999999E-3,-1.8E-3,-8.0000000000000004E-4,5.0000000000000001E-4,2.0999999999999999E-3,4.0000000000000001E-3,6.1000000000000004E-3,8.3000000000000001E-3,1.0500000000000001E-2,1.26E-2,1.4500000000000001E-2,1.6E-2,1.6799999999999999E-2,1.7100000000000001E-2,1.6799999999999999E-2,1.6199999999999999E-2,1.54E-2,1.46E-2,1.3899999999999999E-2,1.35E-2,1.34E-2,1.37E-2,1.43E-2,1.5100000000000001E-2,1.5900000000000001E-2,1.6500000000000001E-2,1.6799999999999999E-2,1.66E-2,1.6E-2,1.52E-2,1.46E-2,1.44E-2,1.47E-2,1.55E-2,1.6799999999999999E-2,1.8599999999999998E-2,2.07E-2,2.2800000000000001E-2,2.4799999999999999E-2,2.63E-2,2.7400000000000001E-2,2.7699999999999999E-2,2.7400000000000001E-2,2.63E-2,2.4799999999999999E-2,2.2700000000000001E-2,2.0199999999999999E-2,1.7500000000000002E-2,1.46E-2,1.1599999999999999E-2,8.8999999999999999E-3,6.3E-3,4.0000000000000001E-3,2E-3,1.1999999999999999E-3,6.9999999999999999E-4,5.9999999999999995E-4,8.0000000000000004E-4,1.4E-3,2.3999999999999998E-3,3.5999999999999999E-3,5.0000000000000001E-3,6.4000000000000003E-3,7.6E-3,8.6999999999999994E-3,9.5999999999999992E-3,1.04E-2,1.0999999999999999E-2,1.15E-2,1.18E-2,1.21E-2,1.23E-2,1.24E-2,1.2500000000000001E-2]
[70,8.3999999999999995E-3,6.6E-3,4.7000000000000002E-3,2.8999999999999998E-3,1.1999999999999999E-3,-2.9999999999999997E-4,-1.4E-3,-2.2000000000000001E-3,-2.7000000000000001E-3,-2.8999999999999998E-3,-3.0000000000000001E-3,-2.8999999999999998E-3,-2.5000000000000001E-3,-1.9E-3,-1E-3,2.0000000000000001E-4,1.6999999999999999E-3,3.5000000000000001E-3,5.5999999999999999E-3,7.7999999999999996E-3,0.01,1.21E-2,1.4E-2,1.54E-2,1.6199999999999999E-2,1.6299999999999999E-2,1.6E-2,1.52E-2,1.44E-2,1.3599999999999999E-2,1.2999999999999999E-2,1.2699999999999999E-2,1.2699999999999999E-2,1.32E-2,1.4E-2,1.4999999999999999E-2,1.6E-2,1.67E-2,1.7000000000000001E-2,1.6799999999999999E-2,1.6199999999999999E-2,1.5299999999999999E-2,1.4500000000000001E-2,1.41E-2,1.4200000000000001E-2,1.4800000000000001E-2,1.6E-2,1.77E-2,1.9800000000000002E-2,2.2100000000000002E-2,2.4199999999999999E-2,2.5999999999999999E-2,2.7199999999999998E-2,2.7699999999999999E-2,2.75E-2,2.6599999999999999E-2,2.5100000000000001E-2,2.3099999999999999E-2,2.07E-2,1.8100000000000002E-2,1.5299999999999999E-2,1.2500000000000001E-2,9.9000000000000008E-3,7.6E-3,5.4999999999999997E-3,3.5999999999999999E-3,2.8999999999999998E-3,2.3999999999999998E-3,2.0999999999999999E-3,2.0999999999999999E-3,2.3E-3,2.8999999999999998E-3,3.8E-3,4.8999999999999998E-3,6.1000000000000004E-3,7.1999999999999998E-3,8.2000000000000007E-3,9.1000000000000004E-3,0.01,1.0699999999999999E-2,1.12E-2,1.17E-2,1.1900000000000001E-2,1.21E-2,1.23E-2,1.24E-2]
[71,8.9999999999999993E-3,7.1000000000000004E-3,5.1999999999999998E-3,3.3999999999999998E-3,1.6999999999999999E-3,2.9999999999999997E-4,-8.9999999999999998E-4,-1.6999999999999999E-3,-2.2000000000000001E-3,-2.5999999999999999E-3,-2.7000000000000001E-3,-2.8E-3,-2.5999999999999999E-3,-2.0999999999999999E-3,-1.2999999999999999E-3,-2.0000000000000001E-4,1.2999999999999999E-3,3.0999999999999999E-3,5.1999999999999998E-3,7.4000000000000003E-3,9.5999999999999992E-3,1.17E-2,1.3599999999999999E-2,1.49E-2,1.5599999999999999E-2,1.5699999999999999E-2,1.52E-2,1.44E-2,1.35E-2,1.26E-2,1.2E-2,1.18E-2,1.1900000000000001E-2,1.2500000000000001E-2,1.35E-2,1.47E-2,1.5900000000000001E-2,1.67E-2,1.7100000000000001E-2,1.7000000000000001E-2,1.6299999999999999E-2,1.54E-2,1.4500000000000001E-2,1.3899999999999999E-2,1.38E-2,1.4200000000000001E-2,1.52E-2,1.6899999999999998E-2,1.89E-2,2.12E-2,2.35E-2,2.5499999999999998E-2,2.69E-2,2.76E-2,2.75E-2,2.6700000000000002E-2,2.53E-2,2.3400000000000001E-2,2.1000000000000001E-2,1.84E-2,1.5699999999999999E-2,1.2999999999999999E-2,1.06E-2,8.3999999999999995E-3,6.6E-3,5.0000000000000001E-3,4.4000000000000003E-3,3.8999999999999998E-3,3.5000000000000001E-3,3.3E-3,3.3E-3,3.5999999999999999E-3,4.1000000000000003E-3,4.8999999999999998E-3,5.7999999999999996E-3,6.7999999999999996E-3,7.7999999999999996E-3,8.6999999999999994E-3,9.5999999999999992E-3,1.04E-2,1.0999999999999999E-2,1.14E-2,1.18E-2,1.2E-2,1.2200000000000001E-2,1.23E-2]
[72,9.5999999999999992E-3,7.7000000000000002E-3,5.7999999999999996E-3,4.0000000000000001E-3,2.3E-3,8.0000000000000004E-4,-2.9999999999999997E-4,-1.1999999999999999E-3,-1.8E-3,-2.3E-3,-2.5000000000000001E-3,-2.7000000000000001E-3,-2.5999999999999999E-3,-2.2000000000000001E-3,-1.6000000000000001E-3,-5.0000000000000001E-4,1E-3,2.8E-3,4.8999999999999998E-3,7.1000000000000004E-3,9.4000000000000004E-3,1.15E-2,1.32E-2,1.4500000000000001E-2,1.5100000000000001E-2,1.5100000000000001E-2,1.46E-2,1.37E-2,1.2699999999999999E-2,1.17E-2,1.11E-2,1.0800000000000001E-2,1.11E-2,1.18E-2,1.29E-2,1.43E-2,1.5599999999999999E-2,1.66E-2,1.7100000000000001E-2,1.7000000000000001E-2,1.6400000000000001E-2,1.55E-2,1.4500000000000001E-2,1.38E-2,1.35E-2,1.37E-2,1.46E-2,1.61E-2,1.8100000000000002E-2,2.0400000000000001E-2,2.2700000000000001E-2,2.4799999999999999E-2,2.64E-2,2.7300000000000001E-2,2.7400000000000001E-2,2.6700000000000002E-2,2.5399999999999999E-2,2.35E-2,2.12E-2,1.8599999999999998E-2,1.5900000000000001E-2,1.3299999999999999E-2,1.0999999999999999E-2,8.9999999999999993E-3,7.3000000000000001E-3,5.8999999999999999E-3,5.4999999999999997E-3,5.1000000000000004E-3,4.7999999999999996E-3,4.4999999999999997E-3,4.3E-3,4.4000000000000003E-3,4.5999999999999999E-3,5.1000000000000004E-3,5.7999999999999996E-3,6.4999999999999997E-3,7.4000000000000003E-3,8.3999999999999995E-3,9.2999999999999992E-3,0.01,1.0699999999999999E-2,1.12E-2,1.1599999999999999E-2,1.18E-2,1.2E-2,1.21E-2]
[73,1.01E-2,8.2000000000000007E-3,6.4000000000000003E-3,4.5999999999999999E-3,2.8999999999999998E-3,1.4E-3,2.0000000000000001E-4,-6.9999999999999999E-4,-1.4E-3,-2E-3,-2.3999999999999998E-3,-2.5999999999999999E-3,-2.7000000000000001E-3,-2.3999999999999998E-3,-1.6999999999999999E-3,-6.9999999999999999E-4,8.0000000000000004E-4,2.5999999999999999E-3,4.7000000000000002E-3,7.0000000000000001E-3,9.1999999999999998E-3,1.1299999999999999E-2,1.2999999999999999E-2,1.4200000000000001E-2,1.4800000000000001E-2,1.47E-2,1.4E-2,1.2999999999999999E-2,1.1900000000000001E-2,1.09E-2,1.0200000000000001E-2,9.9000000000000008E-3,1.0200000000000001E-2,1.0999999999999999E-2,1.2200000000000001E-2,1.37E-2,1.5100000000000001E-2,1.6299999999999999E-2,1.6899999999999998E-2,1.6899999999999998E-2,1.6400000000000001E-2,1.55E-2,1.4500000000000001E-2,1.37E-2,1.32E-2,1.34E-2,1.41E-2,1.55E-2,1.7399999999999999E-2,1.9599999999999999E-2,2.1899999999999999E-2,2.41E-2,2.58E-2,2.6800000000000001E-2,2.7099999999999999E-2,2.6599999999999999E-2,2.53E-2,2.35E-2,2.12E-2,1.8599999999999998E-2,1.6E-2,1.35E-2,1.12E-2,9.2999999999999992E-3,7.7999999999999996E-3,6.6E-3,6.3E-3,6.1000000000000004E-3,5.7999999999999996E-3,5.4999999999999997E-3,5.1999999999999998E-3,5.1000000000000004E-3,5.1999999999999998E-3,5.4000000000000003E-3,5.8999999999999999E-3,6.4000000000000003E-3,7.1999999999999998E-3,8.0000000000000002E-3,8.9999999999999993E-3,9.7000000000000003E-3,1.04E-2,1.0999999999999999E-2,1.14E-2,1.17E-2,1.1900000000000001E-2,1.2E-2]
[74,1.04E-2,8.6E-3,6.7999999999999996E-3,5.1000000000000004E-3,3.3999999999999998E-3,2E-3,6.9999999999999999E-4,-2.9999999999999997E-4,-1.1000000000000001E-3,-1.6999999999999999E-3,-2.3E-3,-2.5999999999999999E-3,-2.7000000000000001E-3,-2.3999999999999998E-3,-1.8E-3,-8.0000000000000004E-4,6.9999999999999999E-4,2.5000000000000001E-3,4.7000000000000002E-3,6.8999999999999999E-3,9.1000000000000004E-3,1.11E-2,1.2800000000000001E-2,1.4E-2,1.4500000000000001E-2,1.43E-2,1.3599999999999999E-2,1.2500000000000001E-2,1.1299999999999999E-2,1.0200000000000001E-2,9.4000000000000004E-3,9.1000000000000004E-3,9.2999999999999992E-3,1.01E-2,1.14E-2,1.29E-2,1.4500000000000001E-2,1.5699999999999999E-2,1.6500000000000001E-2,1.67E-2,1.6199999999999999E-2,1.5299999999999999E-2,1.44E-2,1.35E-2,1.2999999999999999E-2,1.3100000000000001E-2,1.37E-2,1.49E-2,1.67E-2,1.89E-2,2.12E-2,2.3300000000000001E-2,2.5100000000000001E-2,2.63E-2,2.6700000000000002E-2,2.63E-2,2.5100000000000001E-2,2.3300000000000001E-2,2.1100000000000001E-2,1.8599999999999998E-2,1.6E-2,1.35E-2,1.1299999999999999E-2,9.4999999999999998E-3,8.0000000000000002E-3,6.8999999999999999E-3,6.7999999999999996E-3,6.7000000000000002E-3,6.4999999999999997E-3,6.3E-3,6.0000000000000001E-3,5.8999999999999999E-3,5.7999999999999996E-3,5.8999999999999999E-3,6.1000000000000004E-3,6.4999999999999997E-3,7.0000000000000001E-3,7.7000000000000002E-3,8.6E-3,9.4999999999999998E-3,1.0200000000000001E-2,1.0800000000000001E-2,1.12E-2,1.15E-2,1.17E-2,1.18E-2]
[75,1.0500000000000001E-2,8.8000000000000005E-3,7.1000000000000004E-3,5.4000000000000003E-3,3.8E-3,2.3999999999999998E-3,1.1999999999999999E-3,1E-4,-8.0000000000000004E-4,-1.5E-3,-2.0999999999999999E-3,-2.5000000000000001E-3,-2.7000000000000001E-3,-2.3999999999999998E-3,-1.8E-3,-6.9999999999999999E-4,8.0000000000000004E-4,2.5999999999999999E-3,4.7000000000000002E-3,6.8999999999999999E-3,9.1000000000000004E-3,1.11E-2,1.2699999999999999E-2,1.38E-2,1.43E-2,1.4E-2,1.3299999999999999E-2,1.21E-2,1.0800000000000001E-2,9.5999999999999992E-3,8.8000000000000005E-3,8.3000000000000001E-3,8.5000000000000006E-3,9.1999999999999998E-3,1.0500000000000001E-2,1.21E-2,1.37E-2,1.4999999999999999E-2,1.5900000000000001E-2,1.6199999999999999E-2,1.5800000000000002E-2,1.4999999999999999E-2,1.41E-2,1.3299999999999999E-2,1.2800000000000001E-2,1.2800000000000001E-2,1.3299999999999999E-2,1.4500000000000001E-2,1.61E-2,1.8200000000000001E-2,2.0400000000000001E-2,2.2599999999999999E-2,2.4400000000000002E-2,2.5700000000000001E-2,2.6200000000000001E-2,2.5899999999999999E-2,2.4799999999999999E-2,2.3099999999999999E-2,2.0899999999999998E-2,1.84E-2,1.5800000000000002E-2,1.34E-2,1.12E-2,9.4999999999999998E-3,8.0000000000000002E-3,6.8999999999999999E-3,7.0000000000000001E-3,7.0000000000000001E-3,6.8999999999999999E-3,6.7999999999999996E-3,6.7000000000000002E-3,6.4999999999999997E-3,6.4000000000000003E-3,6.4000000000000003E-3,6.4000000000000003E-3,6.6E-3,7.0000000000000001E-3,7.6E-3,8.3000000000000001E-3,9.1000000000000004E-3,9.9000000000000008E-3,1.0500000000000001E-2,1.0999999999999999E-2,1.14E-2,1.1599999999999999E-2,1.17E-2]
[76,1.0500000000000001E-2,8.8000000000000005E-3,7.1999999999999998E-3,5.5999999999999999E-3,4.1000000000000003E-3,2.7000000000000001E-3,1.5E-3,4.0000000000000002E-4,-5.9999999999999995E-4,-1.4E-3,-2E-3,-2.3999999999999998E-3,-2.5999999999999999E-3,-2.3E-3,-1.6000000000000001E-3,-5.9999999999999995E-4,8.9999999999999998E-4,2.8E-3,4.7999999999999996E-3,7.0000000000000001E-3,9.1999999999999998E-3,1.11E-2,1.2699999999999999E-2,1.37E-2,1.41E-2,1.38E-2,1.2999999999999999E-2,1.18E-2,1.04E-2,9.1999999999999998E-3,8.2000000000000007E-3,7.7000000000000002E-3,7.7000000000000002E-3,8.3999999999999995E-3,9.5999999999999992E-3,1.11E-2,1.2699999999999999E-2,1.41E-2,1.5100000000000001E-2,1.54E-2,1.52E-2,1.4500000000000001E-2,1.37E-2,1.2999999999999999E-2,1.2500000000000001E-2,1.2500000000000001E-2,1.2999999999999999E-2,1.41E-2,1.5599999999999999E-2,1.7600000000000001E-2,1.9699999999999999E-2,2.18E-2,2.3699999999999999E-2,2.5000000000000001E-2,2.5600000000000001E-2,2.53E-2,2.4400000000000002E-2,2.2700000000000001E-2,2.06E-2,1.8200000000000001E-2,1.5699999999999999E-2,1.3299999999999999E-2,1.11E-2,9.4000000000000004E-3,7.9000000000000008E-3,6.7999999999999996E-3,6.8999999999999999E-3,7.0000000000000001E-3,7.1000000000000004E-3,7.1999999999999998E-3,7.1000000000000004E-3,7.0000000000000001E-3,6.8999999999999999E-3,6.7999999999999996E-3,6.7999999999999996E-3,6.8999999999999999E-3,7.1000000000000004E-3,7.4999999999999997E-3,8.0999999999999996E-3,8.8000000000000005E-3,9.5999999999999992E-3,1.03E-2,1.0800000000000001E-2,1.12E-2,1.14E-2,1.1599999999999999E-2]
[77,1.0200000000000001E-2,8.6999999999999994E-3,7.1999999999999998E-3,5.5999999999999999E-3,4.1999999999999997E-3,2.8E-3,1.6000000000000001E-3,5.0000000000000001E-4,-4.0000000000000002E-4,-1.2999999999999999E-3,-1.9E-3,-2.3E-3,-2.3999999999999998E-3,-2.0999999999999999E-3,-1.4E-3,-2.9999999999999997E-4,1.1999999999999999E-3,3.0000000000000001E-3,5.1000000000000004E-3,7.1999999999999998E-3,9.2999999999999992E-3,1.12E-2,1.2699999999999999E-2,1.37E-2,1.4E-2,1.37E-2,1.2800000000000001E-2,1.1599999999999999E-2,1.01E-2,8.8000000000000005E-3,7.7000000000000002E-3,7.1000000000000004E-3,7.0000000000000001E-3,7.6E-3,8.6999999999999994E-3,1.01E-2,1.17E-2,1.3100000000000001E-2,1.41E-2,1.4500000000000001E-2,1.44E-2,1.38E-2,1.3100000000000001E-2,1.2500000000000001E-2,1.21E-2,1.21E-2,1.26E-2,1.3599999999999999E-2,1.5100000000000001E-2,1.7000000000000001E-2,1.9099999999999999E-2,2.12E-2,2.3E-2,2.4299999999999999E-2,2.4899999999999999E-2,2.47E-2,2.3800000000000002E-2,2.23E-2,2.0199999999999999E-2,1.7899999999999999E-2,1.54E-2,1.3100000000000001E-2,1.0999999999999999E-2,9.1999999999999998E-3,7.7000000000000002E-3,6.4999999999999997E-3,6.7000000000000002E-3,6.8999999999999999E-3,7.1999999999999998E-3,7.3000000000000001E-3,7.4000000000000003E-3,7.4000000000000003E-3,7.4000000000000003E-3,7.3000000000000001E-3,7.1999999999999998E-3,7.1999999999999998E-3,7.3000000000000001E-3,7.4999999999999997E-3,8.0000000000000002E-3,8.6E-3,9.2999999999999992E-3,0.01,1.0699999999999999E-2,1.0999999999999999E-2,1.1299999999999999E-2,1.14E-2]
[78,9.7000000000000003E-3,8.3000000000000001E-3,6.8999999999999999E-3,5.4999999999999997E-3,4.1000000000000003E-3,2.8E-3,1.6000000000000001E-3,5.0000000000000001E-4,-4.0000000000000002E-4,-1.1999999999999999E-3,-1.8E-3,-2.0999999999999999E-3,-2.0999999999999999E-3,-1.8E-3,-1.1000000000000001E-3,1E-4,1.5E-3,3.3E-3,5.3E-3,7.4000000000000003E-3,9.4999999999999998E-3,1.1299999999999999E-2,1.2699999999999999E-2,1.37E-2,1.4E-2,1.3599999999999999E-2,1.2699999999999999E-2,1.14E-2,9.9000000000000008E-3,8.5000000000000006E-3,7.3000000000000001E-3,6.6E-3,6.4000000000000003E-3,6.8999999999999999E-3,7.7999999999999996E-3,9.1000000000000004E-3,1.06E-2,1.1900000000000001E-2,1.29E-2,1.34E-2,1.3299999999999999E-2,1.29E-2,1.24E-2,1.1900000000000001E-2,1.1599999999999999E-2,1.1599999999999999E-2,1.2200000000000001E-2,1.32E-2,1.47E-2,1.6500000000000001E-2,1.8499999999999999E-2,2.0500000000000001E-2,2.2200000000000001E-2,2.35E-2,2.41E-2,2.4E-2,2.3199999999999998E-2,2.1700000000000001E-2,1.9800000000000002E-2,1.7500000000000002E-2,1.5100000000000001E-2,1.2800000000000001E-2,1.0800000000000001E-2,8.9999999999999993E-3,7.4999999999999997E-3,6.1999999999999998E-3,6.4000000000000003E-3,6.7000000000000002E-3,7.0000000000000001E-3,7.3000000000000001E-3,7.4999999999999997E-3,7.7000000000000002E-3,7.7000000000000002E-3,7.7000000000000002E-3,7.6E-3,7.4999999999999997E-3,7.4999999999999997E-3,7.6E-3,8.0000000000000002E-3,8.5000000000000006E-3,9.1000000000000004E-3,9.7000000000000003E-3,1.03E-2,1.09E-2,1.11E-2,1.1299999999999999E-2]
[79,9.1000000000000004E-3,7.7999999999999996E-3,6.4999999999999997E-3,5.1999999999999998E-3,3.8E-3,2.5999999999999999E-3,1.4E-3,4.0000000000000002E-4,-5.0000000000000001E-4,-1.1999999999999999E-3,-1.6999999999999999E-3,-2E-3,-1.9E-3,-1.5E-3,-6.9999999999999999E-4,5.0000000000000001E-4,2E-3,3.7000000000000002E-3,5.7000000000000002E-3,7.7000000000000002E-3,9.7000000000000003E-3,1.14E-2,1.2800000000000001E-2,1.37E-2,1.4E-2,1.3599999999999999E-2,1.26E-2,1.1299999999999999E-2,9.7999999999999997E-3,8.3000000000000001E-3,7.1000000000000004E-3,6.1999999999999998E-3,5.8999999999999999E-3,6.1999999999999998E-3,7.0000000000000001E-3,8.0999999999999996E-3,9.4000000000000004E-3,1.06E-2,1.1599999999999999E-2,1.21E-2,1.21E-2,1.1900000000000001E-2,1.14E-2,1.0999999999999999E-2,1.09E-2,1.0999999999999999E-2,1.1599999999999999E-2,1.2699999999999999E-2,1.4200000000000001E-2,1.6E-2,1.7899999999999999E-2,1.9900000000000001E-2,2.1499999999999998E-2,2.2800000000000001E-2,2.3400000000000001E-2,2.3300000000000001E-2,2.2499999999999999E-2,2.1100000000000001E-2,1.9300000000000001E-2,1.7100000000000001E-2,1.4800000000000001E-2,1.26E-2,1.0500000000000001E-2,8.6999999999999994E-3,7.1999999999999998E-3,5.8999999999999999E-3,6.1000000000000004E-3,6.4000000000000003E-3,6.7999999999999996E-3,7.1999999999999998E-3,7.4999999999999997E-3,7.7000000000000002E-3,7.9000000000000008E-3,7.9000000000000008E-3,7.9000000000000008E-3,7.7999999999999996E-3,7.7000000000000002E-3,7.7000000000000002E-3,8.0000000000000002E-3,8.3999999999999995E-3,8.8999999999999999E-3,9.4999999999999998E-3,1.01E-2,1.06E-2,1.0999999999999999E-2,1.11E-2]
[80,8.3999999999999995E-3,7.1999999999999998E-3,5.8999999999999999E-3,4.7000000000000002E-3,3.3999999999999998E-3,2.2000000000000001E-3,1.1000000000000001E-3,1E-4,-6.9999999999999999E-4,-1.2999999999999999E-3,-1.6999999999999999E-3,-1.8E-3,-1.6000000000000001E-3,-1.1000000000000001E-3,-2.0000000000000001E-4,8.9999999999999998E-4,2.3999999999999998E-3,4.1000000000000003E-3,6.1000000000000004E-3,8.0000000000000002E-3,9.9000000000000008E-3,1.1599999999999999E-2,1.29E-2,1.37E-2,1.4E-2,1.35E-2,1.26E-2,1.12E-2,9.7000000000000003E-3,8.2000000000000007E-3,6.8999999999999999E-3,5.8999999999999999E-3,5.4999999999999997E-3,5.5999999999999999E-3,6.1999999999999998E-3,7.1000000000000004E-3,8.2000000000000007E-3,9.2999999999999992E-3,1.0200000000000001E-2,1.0699999999999999E-2,1.0800000000000001E-2,1.06E-2,1.03E-2,1.01E-2,0.01,1.03E-2,1.0999999999999999E-2,1.21E-2,1.3599999999999999E-2,1.54E-2,1.7299999999999999E-2,1.9199999999999998E-2,2.0799999999999999E-2,2.1999999999999999E-2,2.2599999999999999E-2,2.2499999999999999E-2,2.18E-2,2.0500000000000001E-2,1.8700000000000001E-2,1.66E-2,1.44E-2,1.23E-2,1.03E-2,8.5000000000000006E-3,6.8999999999999999E-3,5.4999999999999997E-3,5.7999999999999996E-3,6.1000000000000004E-3,6.4999999999999997E-3,7.0000000000000001E-3,7.4000000000000003E-3,7.7000000000000002E-3,8.0000000000000002E-3,8.0999999999999996E-3,8.0999999999999996E-3,8.0000000000000002E-3,7.9000000000000008E-3,7.9000000000000008E-3,8.0000000000000002E-3,8.3000000000000001E-3,8.6999999999999994E-3,9.1999999999999998E-3,9.7999999999999997E-3,1.03E-2,1.0699999999999999E-2,1.0999999999999999E-2]
[81,7.7000000000000002E-3,6.4999999999999997E-3,5.1999999999999998E-3,4.0000000000000001E-3,2.8E-3,1.6999999999999999E-3,5.9999999999999995E-4,-2.9999999999999997E-4,-1E-3,-1.5E-3,-1.6999999999999999E-3,-1.6999999999999999E-3,-1.4E-3,-8.0000000000000004E-4,2.0000000000000001E-4,1.4E-3,2.8999999999999998E-3,4.5999999999999999E-3,6.4999999999999997E-3,8.3999999999999995E-3,1.0200000000000001E-2,1.18E-2,1.2999999999999999E-2,1.38E-2,1.4E-2,1.35E-2,1.26E-2,1.12E-2,9.7000000000000003E-3,8.0999999999999996E-3,6.7999999999999996E-3,5.7000000000000002E-3,5.1000000000000004E-3,5.0000000000000001E-3,5.4000000000000003E-3,6.1000000000000004E-3,7.1000000000000004E-3,8.0000000000000002E-3,8.6999999999999994E-3,9.1999999999999998E-3,9.2999999999999992E-3,9.1999999999999998E-3,8.9999999999999993E-3,8.8999999999999999E-3,8.9999999999999993E-3,9.4000000000000004E-3,1.0200000000000001E-2,1.14E-2,1.2999999999999999E-2,1.4800000000000001E-2,1.67E-2,1.8499999999999999E-2,2.01E-2,2.12E-2,2.18E-2,2.1700000000000001E-2,2.1000000000000001E-2,1.9800000000000002E-2,1.8100000000000002E-2,1.61E-2,1.4E-2,1.1900000000000001E-2,0.01,8.2000000000000007E-3,6.6E-3,5.1999999999999998E-3,5.4000000000000003E-3,5.7999999999999996E-3,6.1999999999999998E-3,6.6E-3,7.1000000000000004E-3,7.4999999999999997E-3,7.7999999999999996E-3,8.0000000000000002E-3,8.0000000000000002E-3,8.0000000000000002E-3,7.9000000000000008E-3,7.7999999999999996E-3,7.9000000000000008E-3,8.0999999999999996E-3,8.3999999999999995E-3,8.8999999999999999E-3,9.2999999999999992E-3,9.7999999999999997E-3,1.0200000000000001E-2,1.0500000000000001E-2]
[82,6.7999999999999996E-3,5.5999999999999999E-3,4.4999999999999997E-3,3.3E-3,2.0999999999999999E-3,1E-3,0,-8.0000000000000004E-4,-1.4E-3,-1.8E-3,-1.9E-3,-1.6999999999999999E-3,-1.1999999999999999E-3,-4.0000000000000002E-4,5.9999999999999995E-4,1.9E-3,3.3999999999999998E-3,5.1000000000000004E-3,6.8999999999999999E-3,8.8000000000000005E-3,1.0500000000000001E-2,1.2E-2,1.32E-2,1.3899999999999999E-2,1.4E-2,1.35E-2,1.26E-2,1.1299999999999999E-2,9.7000000000000003E-3,8.2000000000000007E-3,6.7000000000000002E-3,5.5999999999999999E-3,4.8999999999999998E-3,4.5999999999999999E-3,4.7000000000000002E-3,5.1999999999999998E-3,5.8999999999999999E-3,6.6E-3,7.1999999999999998E-3,7.6E-3,7.7999999999999996E-3,7.7000000000000002E-3,7.7000000000000002E-3,7.7000000000000002E-3,7.9000000000000008E-3,8.3999999999999995E-3,9.2999999999999992E-3,1.06E-2,1.2200000000000001E-2,1.4E-2,1.6E-2,1.78E-2,1.9300000000000001E-2,2.0400000000000001E-2,2.1000000000000001E-2,2.0899999999999998E-2,2.0299999999999999E-2,1.9099999999999999E-2,1.7500000000000002E-2,1.5599999999999999E-2,1.3599999999999999E-2,1.15E-2,9.5999999999999992E-3,7.9000000000000008E-3,6.3E-3,4.7999999999999996E-3,5.0000000000000001E-3,5.4000000000000003E-3,5.7999999999999996E-3,6.3E-3,6.7999999999999996E-3,7.1999999999999998E-3,7.4999999999999997E-3,7.7999999999999996E-3,7.9000000000000008E-3,7.9000000000000008E-3,7.7999999999999996E-3,7.7000000000000002E-3,7.7999999999999996E-3,7.9000000000000008E-3,8.0999999999999996E-3,8.5000000000000006E-3,8.8999999999999999E-3,9.4000000000000004E-3,9.7999999999999997E-3,1.01E-2]
[83,5.8999999999999999E-3,4.7000000000000002E-3,3.5999999999999999E-3,2.3999999999999998E-3,1.2999999999999999E-3,2.0000000000000001E-4,-6.9999999999999999E-4,-1.4E-3,-1.9E-3,-2.0999999999999999E-3,-2.0999999999999999E-3,-1.6999999999999999E-3,-1.1000000000000001E-3,-2.0000000000000001E-4,1E-3,2.3999999999999998E-3,3.8999999999999998E-3,5.5999999999999999E-3,7.4000000000000003E-3,9.1999999999999998E-3,1.0800000000000001E-2,1.2200000000000001E-2,1.3299999999999999E-2,1.3899999999999999E-2,1.4E-2,1.35E-2,1.26E-2,1.1299999999999999E-2,9.7999999999999997E-3,8.2000000000000007E-3,6.7999999999999996E-3,5.4999999999999997E-3,4.5999999999999999E-3,4.1999999999999997E-3,4.1000000000000003E-3,4.3E-3,4.7999999999999996E-3,5.3E-3,5.7000000000000002E-3,6.1000000000000004E-3,6.1999999999999998E-3,6.1999999999999998E-3,6.1999999999999998E-3,6.3E-3,6.7000000000000002E-3,7.3000000000000001E-3,8.3000000000000001E-3,9.7000000000000003E-3,1.1299999999999999E-2,1.32E-2,1.5100000000000001E-2,1.7000000000000001E-2,1.8499999999999999E-2,1.9599999999999999E-2,2.01E-2,2.01E-2,1.95E-2,1.84E-2,1.6799999999999999E-2,1.4999999999999999E-2,1.3100000000000001E-2,1.12E-2,9.2999999999999992E-3,7.6E-3,6.0000000000000001E-3,4.4999999999999997E-3,4.7000000000000002E-3,5.0000000000000001E-3,5.4999999999999997E-3,5.8999999999999999E-3,6.4000000000000003E-3,6.7999999999999996E-3,7.1999999999999998E-3,7.4999999999999997E-3,7.7000000000000002E-3,7.7000000000000002E-3,7.6E-3,7.6E-3,7.6E-3,7.7000000000000002E-3,7.9000000000000008E-3,8.2000000000000007E-3,8.5000000000000006E-3,8.8999999999999999E-3,9.2999999999999992E-3,9.5999999999999992E-3]
[84,4.8999999999999998E-3,3.7000000000000002E-3,2.5999999999999999E-3,1.4E-3,2.9999999999999997E-4,-6.9999999999999999E-4,-1.5E-3,-2.0999999999999999E-3,-2.5000000000000001E-3,-2.5000000000000001E-3,-2.3E-3,-1.8E-3,-1E-3,1E-4,1.4E-3,2.8E-3,4.4999999999999997E-3,6.1999999999999998E-3,7.9000000000000008E-3,9.5999999999999992E-3,1.11E-2,1.24E-2,1.34E-2,1.3899999999999999E-2,1.4E-2,1.35E-2,1.26E-2,1.1299999999999999E-2,9.9000000000000008E-3,8.3000000000000001E-3,6.7999999999999996E-3,5.4999999999999997E-3,4.4999999999999997E-3,3.8E-3,3.5000000000000001E-3,3.5000000000000001E-3,3.7000000000000002E-3,4.0000000000000001E-3,4.3E-3,4.4999999999999997E-3,4.5999999999999999E-3,4.5999999999999999E-3,4.7000000000000002E-3,4.8999999999999998E-3,5.4000000000000003E-3,6.1000000000000004E-3,7.1999999999999998E-3,8.6E-3,1.03E-2,1.23E-2,1.4200000000000001E-2,1.6E-2,1.7600000000000001E-2,1.8599999999999998E-2,1.9199999999999998E-2,1.9199999999999998E-2,1.8599999999999998E-2,1.7600000000000001E-2,1.6199999999999999E-2,1.4500000000000001E-2,1.26E-2,1.0699999999999999E-2,8.8999999999999999E-3,7.3000000000000001E-3,5.7000000000000002E-3,4.1000000000000003E-3,4.4000000000000003E-3,4.7000000000000002E-3,5.1000000000000004E-3,5.5999999999999999E-3,6.0000000000000001E-3,6.4999999999999997E-3,6.8999999999999999E-3,7.1999999999999998E-3,7.3000000000000001E-3,7.4000000000000003E-3,7.4000000000000003E-3,7.4000000000000003E-3,7.4000000000000003E-3,7.4000000000000003E-3,7.6E-3,7.7999999999999996E-3,8.0999999999999996E-3,8.5000000000000006E-3,8.8000000000000005E-3,9.1000000000000004E-3]
[85,3.8E-3,2.5999999999999999E-3,1.5E-3,4.0000000000000002E-4,-6.9999999999999999E-4,-1.6000000000000001E-3,-2.3E-3,-2.8E-3,-3.0999999999999999E-3,-3.0000000000000001E-3,-2.5999999999999999E-3,-2E-3,-1E-3,2.0000000000000001E-4,1.6999999999999999E-3,3.2000000000000002E-3,4.8999999999999998E-3,6.6E-3,8.3999999999999995E-3,0.01,1.14E-2,1.26E-2,1.35E-2,1.4E-2,1.4E-2,1.35E-2,1.26E-2,1.14E-2,9.9000000000000008E-3,8.3999999999999995E-3,6.8999999999999999E-3,5.4999999999999997E-3,4.3E-3,3.5000000000000001E-3,2.8999999999999998E-3,2.7000000000000001E-3,2.5999999999999999E-3,2.7000000000000001E-3,2.8999999999999998E-3,2.8999999999999998E-3,3.0000000000000001E-3,3.0000000000000001E-3,3.0999999999999999E-3,3.3999999999999998E-3,4.0000000000000001E-3,4.7999999999999996E-3,6.0000000000000001E-3,7.4999999999999997E-3,9.2999999999999992E-3,1.12E-2,1.32E-2,1.4999999999999999E-2,1.6500000000000001E-2,1.77E-2,1.8200000000000001E-2,1.83E-2,1.78E-2,1.6799999999999999E-2,1.55E-2,1.3899999999999999E-2,1.21E-2,1.03E-2,8.6E-3,6.8999999999999999E-3,5.3E-3,3.8E-3,4.0000000000000001E-3,4.4000000000000003E-3,4.7999999999999996E-3,5.1999999999999998E-3,5.7000000000000002E-3,6.1000000000000004E-3,6.4999999999999997E-3,6.7999999999999996E-3,7.0000000000000001E-3,7.1000000000000004E-3,7.1000000000000004E-3,7.1000000000000004E-3,7.1000000000000004E-3,7.1999999999999998E-3,7.3000000000000001E-3,7.4999999999999997E-3,7.7000000000000002E-3,8.0999999999999996E-3,8.3999999999999995E-3,8.6999999999999994E-3]
[86,2.5000000000000001E-3,1.4E-3,2.9999999999999997E-4,-8.0000000000000004E-4,-1.8E-3,-2.5999999999999999E-3,-3.2000000000000002E-3,-3.5999999999999999E-3,-3.7000000000000002E-3,-3.5000000000000001E-3,-2.8999999999999998E-3,-2.0999999999999999E-3,-1E-3,4.0000000000000002E-4,2E-3,3.5999999999999999E-3,5.4000000000000003E-3,7.1000000000000004E-3,8.8000000000000005E-3,1.03E-2,1.17E-2,1.2800000000000001E-2,1.3599999999999999E-2,1.4E-2,1.4E-2,1.35E-2,1.26E-2,1.14E-2,0.01,8.5000000000000006E-3,6.8999999999999999E-3,5.4999999999999997E-3,4.1999999999999997E-3,3.2000000000000002E-3,2.3999999999999998E-3,1.9E-3,1.6999999999999999E-3,1.5E-3,1.5E-3,1.5E-3,1.4E-3,1.5E-3,1.6000000000000001E-3,2E-3,2.5999999999999999E-3,3.5000000000000001E-3,4.7999999999999996E-3,6.3E-3,8.0999999999999996E-3,0.01,1.2E-2,1.38E-2,1.54E-2,1.66E-2,1.72E-2,1.7299999999999999E-2,1.6899999999999998E-2,1.6E-2,1.4800000000000001E-2,1.3299999999999999E-2,1.1599999999999999E-2,9.9000000000000008E-3,8.2000000000000007E-3,6.6E-3,5.0000000000000001E-3,3.5000000000000001E-3,3.7000000000000002E-3,4.0000000000000001E-3,4.4000000000000003E-3,4.8999999999999998E-3,5.3E-3,5.7999999999999996E-3,6.1999999999999998E-3,6.4999999999999997E-3,6.7000000000000002E-3,6.7000000000000002E-3,6.7000000000000002E-3,6.7999999999999996E-3,6.7999999999999996E-3,6.8999999999999999E-3,7.0000000000000001E-3,7.1000000000000004E-3,7.4000000000000003E-3,7.6E-3,7.9000000000000008E-3,8.2000000000000007E-3]
[87,1E-3,-1E-4,-1.1000000000000001E-3,-2E-3,-2.8999999999999998E-3,-3.5999999999999999E-3,-4.1000000000000003E-3,-4.3E-3,-4.3E-3,-3.8999999999999998E-3,-3.2000000000000002E-3,-2.3E-3,-1E-3,5.0000000000000001E-4,2.2000000000000001E-3,4.0000000000000001E-3,5.7999999999999996E-3,7.4999999999999997E-3,9.1999999999999998E-3,1.0699999999999999E-2,1.2E-2,1.2999999999999999E-2,1.37E-2,1.4E-2,1.3899999999999999E-2,1.35E-2,1.26E-2,1.15E-2,1.01E-2,8.6E-3,7.0000000000000001E-3,5.4999999999999997E-3,4.1000000000000003E-3,2.8999999999999998E-3,2E-3,1.2999999999999999E-3,8.0000000000000004E-4,4.0000000000000002E-4,2.0000000000000001E-4,0,-1E-4,-1E-4,1E-4,5.0000000000000001E-4,1.1999999999999999E-3,2.2000000000000001E-3,3.5000000000000001E-3,5.0000000000000001E-3,6.7999999999999996E-3,8.8000000000000005E-3,1.0699999999999999E-2,1.26E-2,1.4200000000000001E-2,1.54E-2,1.61E-2,1.6299999999999999E-2,1.6E-2,1.52E-2,1.41E-2,1.2699999999999999E-2,1.11E-2,9.4999999999999998E-3,7.9000000000000008E-3,6.3E-3,4.7999999999999996E-3,3.3E-3,3.5000000000000001E-3,3.8E-3,4.1000000000000003E-3,4.5999999999999999E-3,5.0000000000000001E-3,5.4000000000000003E-3,5.7999999999999996E-3,6.1000000000000004E-3,6.3E-3,6.4000000000000003E-3,6.4000000000000003E-3,6.4000000000000003E-3,6.4000000000000003E-3,6.4999999999999997E-3,6.6E-3,6.7999999999999996E-3,7.0000000000000001E-3,7.1999999999999998E-3,7.4999999999999997E-3,7.7000000000000002E-3]
[88,-8.0000000000000004E-4,-1.6999999999999999E-3,-2.5000000000000001E-3,-3.3E-3,-4.1000000000000003E-3,-4.5999999999999999E-3,-5.0000000000000001E-3,-5.1000000000000004E-3,-4.7999999999999996E-3,-4.3E-3,-3.5000000000000001E-3,-2.3999999999999998E-3,-1E-3,5.9999999999999995E-4,2.3999999999999998E-3,4.1999999999999997E-3,6.1000000000000004E-3,7.9000000000000008E-3,9.4999999999999998E-3,1.09E-2,1.2200000000000001E-2,1.3100000000000001E-2,1.37E-2,1.4E-2,1.3899999999999999E-2,1.34E-2,1.26E-2,1.15E-2,1.01E-2,8.6E-3,7.1000000000000004E-3,5.4999999999999997E-3,4.0000000000000001E-3,2.7000000000000001E-3,1.6000000000000001E-3,5.9999999999999995E-4,-1E-4,-5.9999999999999995E-4,-1E-3,-1.2999999999999999E-3,-1.5E-3,-1.5E-3,-1.2999999999999999E-3,-8.9999999999999998E-4,-2.0000000000000001E-4,8.0000000000000004E-4,2.0999999999999999E-3,3.7000000000000002E-3,5.4999999999999997E-3,7.4000000000000003E-3,9.4000000000000004E-3,1.12E-2,1.29E-2,1.41E-2,1.49E-2,1.52E-2,1.4999999999999999E-2,1.43E-2,1.34E-2,1.21E-2,1.06E-2,9.1000000000000004E-3,7.6E-3,6.0000000000000001E-3,4.5999999999999999E-3,3.0999999999999999E-3,3.2000000000000002E-3,3.5000000000000001E-3,3.8999999999999998E-3,4.1999999999999997E-3,4.7000000000000002E-3,5.1000000000000004E-3,5.4000000000000003E-3,5.7000000000000002E-3,5.8999999999999999E-3,6.0000000000000001E-3,6.1000000000000004E-3,6.1000000000000004E-3,6.0000000000000001E-3,6.1000000000000004E-3,6.1999999999999998E-3,6.4000000000000003E-3,6.4999999999999997E-3,6.7999999999999996E-3,7.0000000000000001E-3,7.3000000000000001E-3]
[89,-2.7000000000000001E-3,-3.3999999999999998E-3,-4.1000000000000003E-3,-4.7999999999999996E-3,-5.3E-3,-5.7000000000000002E-3,-5.7999999999999996E-3,-5.7999999999999996E-3,-5.4000000000000003E-3,-4.7000000000000002E-3,-3.7000000000000002E-3,-2.5000000000000001E-3,-1E-3,8.0000000000000004E-4,2.5999999999999999E-3,4.4999999999999997E-3,6.4000000000000003E-3,8.0999999999999996E-3,9.7999999999999997E-3,1.12E-2,1.23E-2,1.32E-2,1.38E-2,1.4E-2,1.3899999999999999E-2,1.34E-2,1.26E-2,1.15E-2,1.0200000000000001E-2,8.6999999999999994E-3,7.1000000000000004E-3,5.4999999999999997E-3,3.8999999999999998E-3,2.5000000000000001E-3,1.1999999999999999E-3,1E-4,-8.0000000000000004E-4,-1.6000000000000001E-3,-2.0999999999999999E-3,-2.5999999999999999E-3,-2.8E-3,-2.8999999999999998E-3,-2.7000000000000001E-3,-2.3E-3,-1.6000000000000001E-3,-5.9999999999999995E-4,6.9999999999999999E-4,2.3E-3,4.1000000000000003E-3,6.0000000000000001E-3,8.0000000000000002E-3,9.7999999999999997E-3,1.14E-2,1.2699999999999999E-2,1.3599999999999999E-2,1.4E-2,1.3899999999999999E-2,1.34E-2,1.26E-2,1.15E-2,1.01E-2,8.6999999999999994E-3,7.3000000000000001E-3,5.7999999999999996E-3,4.4000000000000003E-3,3.0000000000000001E-3,3.0999999999999999E-3,3.3E-3,3.5999999999999999E-3,4.0000000000000001E-3,4.4000000000000003E-3,4.7000000000000002E-3,5.1000000000000004E-3,5.4000000000000003E-3,5.5999999999999999E-3,5.7000000000000002E-3,5.7000000000000002E-3,5.7000000000000002E-3,5.7000000000000002E-3,5.7000000000000002E-3,5.7999999999999996E-3,6.0000000000000001E-3,6.1000000000000004E-3,6.3E-3,6.6E-3,6.7999999999999996E-3]
[90,-4.8999999999999998E-3,-5.4000000000000003E-3,-5.7999999999999996E-3,-6.1999999999999998E-3,-6.6E-3,-6.7000000000000002E-3,-6.7000000000000002E-3,-6.4000000000000003E-3,-5.8999999999999999E-3,-5.0000000000000001E-3,-3.8999999999999998E-3,-2.5000000000000001E-3,-8.9999999999999998E-4,8.9999999999999998E-4,2.8E-3,4.7000000000000002E-3,6.6E-3,8.3999999999999995E-3,0.01,1.1299999999999999E-2,1.24E-2,1.32E-2,1.38E-2,1.3899999999999999E-2,1.38E-2,1.3299999999999999E-2,1.2500000000000001E-2,1.14E-2,1.01E-2,8.6999999999999994E-3,7.1000000000000004E-3,5.4000000000000003E-3,3.8E-3,2.2000000000000001E-3,8.0000000000000004E-4,-5.0000000000000001E-4,-1.5E-3,-2.3999999999999998E-3,-3.2000000000000002E-3,-3.7000000000000002E-3,-4.0000000000000001E-3,-4.1999999999999997E-3,-4.1000000000000003E-3,-3.7000000000000002E-3,-3.0000000000000001E-3,-2E-3,-6.9999999999999999E-4,8.9999999999999998E-4,2.7000000000000001E-3,4.4999999999999997E-3,6.4000000000000003E-3,8.3000000000000001E-3,9.9000000000000008E-3,1.12E-2,1.2200000000000001E-2,1.2699999999999999E-2,1.2800000000000001E-2,1.24E-2,1.18E-2,1.0800000000000001E-2,9.5999999999999992E-3,8.3999999999999995E-3,7.0000000000000001E-3,5.7000000000000002E-3,4.3E-3,3.0000000000000001E-3,3.0000000000000001E-3,3.2000000000000002E-3,3.3999999999999998E-3,3.8E-3,4.1000000000000003E-3,4.4000000000000003E-3,4.7000000000000002E-3,5.0000000000000001E-3,5.1999999999999998E-3,5.3E-3,5.3E-3,5.4000000000000003E-3,5.4000000000000003E-3,5.4000000000000003E-3,5.4000000000000003E-3,5.4999999999999997E-3,5.7000000000000002E-3,5.8999999999999999E-3,6.1000000000000004E-3,6.3E-3]
[91,-7.4000000000000003E-3,-7.4999999999999997E-3,-7.7000000000000002E-3,-7.7999999999999996E-3,-7.9000000000000008E-3,-7.7999999999999996E-3,-7.4999999999999997E-3,-7.0000000000000001E-3,-6.3E-3,-5.3E-3,-4.0000000000000001E-3,-2.5000000000000001E-3,-8.0000000000000004E-4,1E-3,3.0000000000000001E-3,4.8999999999999998E-3,6.7999999999999996E-3,8.5000000000000006E-3,1.01E-2,1.14E-2,1.2500000000000001E-2,1.32E-2,1.37E-2,1.3899999999999999E-2,1.37E-2,1.32E-2,1.24E-2,1.14E-2,1.01E-2,8.6999999999999994E-3,7.1000000000000004E-3,5.4000000000000003E-3,3.7000000000000002E-3,2E-3,5.0000000000000001E-4,-8.9999999999999998E-4,-2.2000000000000001E-3,-3.2000000000000002E-3,-4.1000000000000003E-3,-4.7000000000000002E-3,-5.1999999999999998E-3,-5.4000000000000003E-3,-5.3E-3,-5.0000000000000001E-3,-4.3E-3,-3.3E-3,-2E-3,-5.0000000000000001E-4,1.1999999999999999E-3,3.0000000000000001E-3,4.8999999999999998E-3,6.7000000000000002E-3,8.3000000000000001E-3,9.7000000000000003E-3,1.0699999999999999E-2,1.1299999999999999E-2,1.1599999999999999E-2,1.14E-2,1.09E-2,1.01E-2,9.1000000000000004E-3,8.0000000000000002E-3,6.7999999999999996E-3,5.5999999999999999E-3,4.3E-3,3.0999999999999999E-3,3.0999999999999999E-3,3.2000000000000002E-3,3.3E-3,3.5999999999999999E-3,3.8999999999999998E-3,4.1999999999999997E-3,4.4000000000000003E-3,4.7000000000000002E-3,4.7999999999999996E-3,4.8999999999999998E-3,5.0000000000000001E-3,5.0000000000000001E-3,5.0000000000000001E-3,5.1000000000000004E-3,5.1000000000000004E-3,5.1000000000000004E-3,5.1999999999999998E-3,5.4000000000000003E-3,5.5999999999999999E-3,5.8999999999999999E-3]
[92,-0.01,-9.9000000000000008E-3,-9.7000000000000003E-3,-9.4999999999999998E-3,-9.1999999999999998E-3,-8.8000000000000005E-3,-8.3000000000000001E-3,-7.6E-3,-6.6E-3,-5.4999999999999997E-3,-4.1000000000000003E-3,-2.5000000000000001E-3,-6.9999999999999999E-4,1.1999999999999999E-3,3.0999999999999999E-3,5.1000000000000004E-3,6.8999999999999999E-3,8.6E-3,1.01E-2,1.14E-2,1.2500000000000001E-2,1.32E-2,1.3599999999999999E-2,1.38E-2,1.3599999999999999E-2,1.3100000000000001E-2,1.23E-2,1.1299999999999999E-2,1.01E-2,8.6E-3,7.0000000000000001E-3,5.3E-3,3.5999999999999999E-3,1.8E-3,2.0000000000000001E-4,-1.2999999999999999E-3,-2.7000000000000001E-3,-3.8999999999999998E-3,-4.8999999999999998E-3,-5.7000000000000002E-3,-6.1999999999999998E-3,-6.4999999999999997E-3,-6.4999999999999997E-3,-6.1999999999999998E-3,-5.5999999999999999E-3,-4.5999999999999999E-3,-3.3999999999999998E-3,-2E-3,-4.0000000000000002E-4,1.4E-3,3.2000000000000002E-3,5.0000000000000001E-3,6.6E-3,8.0000000000000002E-3,9.1000000000000004E-3,9.9000000000000008E-3,1.03E-2,1.03E-2,0.01,9.4000000000000004E-3,8.6E-3,7.7000000000000002E-3,6.6E-3,5.5999999999999999E-3,4.4000000000000003E-3,3.3E-3,3.2000000000000002E-3,3.2000000000000002E-3,3.3E-3,3.5000000000000001E-3,3.7000000000000002E-3,3.8999999999999998E-3,4.1000000000000003E-3,4.3E-3,4.4999999999999997E-3,4.5999999999999999E-3,4.5999999999999999E-3,4.5999999999999999E-3,4.7000000000000002E-3,4.7000000000000002E-3,4.7000000000000002E-3,4.7999999999999996E-3,4.7999999999999996E-3,5.0000000000000001E-3,5.1999999999999998E-3,5.4000000000000003E-3]
[93,-1.29E-2,-1.23E-2,-1.18E-2,-1.12E-2,-1.06E-2,-9.9000000000000008E-3,-9.1000000000000004E-3,-8.0999999999999996E-3,-6.8999999999999999E-3,-5.5999999999999999E-3,-4.0000000000000001E-3,-2.3999999999999998E-3,-5.0000000000000001E-4,1.4E-3,3.3E-3,5.1999999999999998E-3,7.0000000000000001E-3,8.6999999999999994E-3,1.01E-2,1.14E-2,1.24E-2,1.3100000000000001E-2,1.35E-2,1.3599999999999999E-2,1.34E-2,1.2999999999999999E-2,1.2200000000000001E-2,1.12E-2,0.01,8.5000000000000006E-3,6.8999999999999999E-3,5.1999999999999998E-3,3.3999999999999998E-3,1.6000000000000001E-3,-1E-4,-1.6999999999999999E-3,-3.2000000000000002E-3,-4.4999999999999997E-3,-5.5999999999999999E-3,-6.4999999999999997E-3,-7.1000000000000004E-3,-7.4999999999999997E-3,-7.6E-3,-7.3000000000000001E-3,-6.7999999999999996E-3,-6.0000000000000001E-3,-4.7999999999999996E-3,-3.5000000000000001E-3,-1.9E-3,-2.9999999999999997E-4,1.5E-3,3.2000000000000002E-3,4.7999999999999996E-3,6.3E-3,7.4000000000000003E-3,8.3000000000000001E-3,8.8999999999999999E-3,9.1000000000000004E-3,8.9999999999999993E-3,8.6999999999999994E-3,8.0999999999999996E-3,7.4000000000000003E-3,6.4999999999999997E-3,5.5999999999999999E-3,4.5999999999999999E-3,3.7000000000000002E-3,3.5000000000000001E-3,3.3999999999999998E-3,3.3999999999999998E-3,3.5000000000000001E-3,3.5999999999999999E-3,3.7000000000000002E-3,3.8999999999999998E-3,4.0000000000000001E-3,4.1000000000000003E-3,4.1999999999999997E-3,4.1999999999999997E-3,4.3E-3,4.3E-3,4.4000000000000003E-3,4.4000000000000003E-3,4.4000000000000003E-3,4.4999999999999997E-3,4.4999999999999997E-3,4.7000000000000002E-3,4.8999999999999998E-3]
[94,-1.6E-2,-1.4999999999999999E-2,-1.41E-2,-1.3100000000000001E-2,-1.21E-2,-1.0999999999999999E-2,-9.7999999999999997E-3,-8.5000000000000006E-3,-7.1000000000000004E-3,-5.5999999999999999E-3,-4.0000000000000001E-3,-2.2000000000000001E-3,-2.9999999999999997E-4,1.5E-3,3.3999999999999998E-3,5.3E-3,7.0000000000000001E-3,8.6999999999999994E-3,1.01E-2,1.1299999999999999E-2,1.23E-2,1.29E-2,1.3299999999999999E-2,1.34E-2,1.3299999999999999E-2,1.2800000000000001E-2,1.21E-2,1.11E-2,9.7999999999999997E-3,8.3999999999999995E-3,6.7999999999999996E-3,5.1000000000000004E-3,3.3E-3,1.5E-3,-2.9999999999999997E-4,-2E-3,-3.5999999999999999E-3,-5.0000000000000001E-3,-6.1999999999999998E-3,-7.1999999999999998E-3,-7.9000000000000008E-3,-8.3999999999999995E-3,-8.6E-3,-8.3999999999999995E-3,-8.0000000000000002E-3,-7.1999999999999998E-3,-6.1999999999999998E-3,-5.0000000000000001E-3,-3.5999999999999999E-3,-2E-3,-2.9999999999999997E-4,1.4E-3,3.0000000000000001E-3,4.4000000000000003E-3,5.7000000000000002E-3,6.7000000000000002E-3,7.4999999999999997E-3,7.9000000000000008E-3,8.0000000000000002E-3,7.9000000000000008E-3,7.6E-3,7.1000000000000004E-3,6.4000000000000003E-3,5.7000000000000002E-3,5.0000000000000001E-3,4.1999999999999997E-3,3.8999999999999998E-3,3.7000000000000002E-3,3.5999999999999999E-3,3.5000000000000001E-3,3.5000000000000001E-3,3.5000000000000001E-3,3.5999999999999999E-3,3.7000000000000002E-3,3.8E-3,3.8E-3,3.8999999999999998E-3,3.8999999999999998E-3,4.0000000000000001E-3,4.0000000000000001E-3,4.0000000000000001E-3,4.1000000000000003E-3,4.1000000000000003E-3,4.1999999999999997E-3,4.1999999999999997E-3,4.4999999999999997E-3]
[95,-1.9300000000000001E-2,-1.78E-2,-1.6400000000000001E-2,-1.4999999999999999E-2,-1.3599999999999999E-2,-1.21E-2,-1.0500000000000001E-2,-8.9999999999999993E-3,-7.3000000000000001E-3,-5.5999999999999999E-3,-3.8E-3,-2E-3,-1E-4,1.8E-3,3.5999999999999999E-3,5.4000000000000003E-3,7.1000000000000004E-3,8.6E-3,0.01,1.11E-2,1.21E-2,1.2699999999999999E-2,1.3100000000000001E-2,1.32E-2,1.3100000000000001E-2,1.26E-2,1.1900000000000001E-2,1.09E-2,9.7000000000000003E-3,8.3000000000000001E-3,6.7000000000000002E-3,4.8999999999999998E-3,3.0999999999999999E-3,1.2999999999999999E-3,-5.9999999999999995E-4,-2.3E-3,-4.0000000000000001E-3,-5.4000000000000003E-3,-6.7000000000000002E-3,-7.7999999999999996E-3,-8.6E-3,-9.1999999999999998E-3,-9.4999999999999998E-3,-9.4000000000000004E-3,-9.1000000000000004E-3,-8.5000000000000006E-3,-7.6E-3,-6.4999999999999997E-3,-5.1999999999999998E-3,-3.7000000000000002E-3,-2.2000000000000001E-3,-5.0000000000000001E-4,1E-3,2.5000000000000001E-3,3.8999999999999998E-3,5.0000000000000001E-3,5.8999999999999999E-3,6.6E-3,7.0000000000000001E-3,7.1000000000000004E-3,7.0000000000000001E-3,6.7999999999999996E-3,6.4000000000000003E-3,5.8999999999999999E-3,5.4000000000000003E-3,4.7999999999999996E-3,4.4999999999999997E-3,4.1999999999999997E-3,3.8999999999999998E-3,3.7000000000000002E-3,3.5000000000000001E-3,3.3999999999999998E-3,3.3999999999999998E-3,3.3999999999999998E-3,3.3999999999999998E-3,3.5000000000000001E-3,3.5000000000000001E-3,3.5999999999999999E-3,3.5999999999999999E-3,3.7000000000000002E-3,3.7000000000000002E-3,3.7000000000000002E-3,3.8E-3,3.8E-3,3.8999999999999998E-3,4.0000000000000001E-3]
[96,-1.83E-2,-1.7000000000000001E-2,-1.5599999999999999E-2,-1.43E-2,-1.29E-2,-1.15E-2,-0.01,-8.5000000000000006E-3,-6.8999999999999999E-3,-5.3E-3,-3.5999999999999999E-3,-1.9E-3,-1E-4,1.6999999999999999E-3,3.3999999999999998E-3,5.1000000000000004E-3,6.7000000000000002E-3,8.2000000000000007E-3,9.4999999999999998E-3,1.06E-2,1.15E-2,1.21E-2,1.2500000000000001E-2,1.26E-2,1.24E-2,1.2E-2,1.1299999999999999E-2,1.04E-2,9.1999999999999998E-3,7.7999999999999996E-3,6.3E-3,4.7000000000000002E-3,3.0000000000000001E-3,1.1999999999999999E-3,-5.0000000000000001E-4,-2.2000000000000001E-3,-3.8E-3,-5.1999999999999998E-3,-6.4000000000000003E-3,-7.4000000000000003E-3,-8.2000000000000007E-3,-8.6999999999999994E-3,-8.9999999999999993E-3,-8.9999999999999993E-3,-8.6999999999999994E-3,-8.0999999999999996E-3,-7.3000000000000001E-3,-6.1999999999999998E-3,-4.8999999999999998E-3,-3.5000000000000001E-3,-2E-3,-5.0000000000000001E-4,1E-3,2.3999999999999998E-3,3.7000000000000002E-3,4.7999999999999996E-3,5.5999999999999999E-3,6.3E-3,6.6E-3,6.7999999999999996E-3,6.7000000000000002E-3,6.4999999999999997E-3,6.1000000000000004E-3,5.5999999999999999E-3,5.1000000000000004E-3,4.5999999999999999E-3,4.7000000000000002E-3,4.3E-3,3.8999999999999998E-3,3.7000000000000002E-3,3.5000000000000001E-3,3.3E-3,3.2000000000000002E-3,3.2000000000000002E-3,3.2000000000000002E-3,3.2000000000000002E-3,3.3E-3,3.3E-3,3.3999999999999998E-3,3.3999999999999998E-3,3.5000000000000001E-3,3.5000000000000001E-3,3.5999999999999999E-3,3.5999999999999999E-3,3.7000000000000002E-3,3.8E-3]
[97,-1.7299999999999999E-2,-1.61E-2,-1.4800000000000001E-2,-1.35E-2,-1.2200000000000001E-2,-1.09E-2,-9.4999999999999998E-3,-8.0999999999999996E-3,-6.6E-3,-5.0000000000000001E-3,-3.3999999999999998E-3,-1.8E-3,-1E-4,1.6000000000000001E-3,3.2000000000000002E-3,4.7999999999999996E-3,6.4000000000000003E-3,7.7000000000000002E-3,8.9999999999999993E-3,0.01,1.09E-2,1.15E-2,1.18E-2,1.1900000000000001E-2,1.18E-2,1.1299999999999999E-2,1.0699999999999999E-2,9.7999999999999997E-3,8.6999999999999994E-3,7.4000000000000003E-3,6.0000000000000001E-3,4.4000000000000003E-3,2.8E-3,1.1000000000000001E-3,-5.0000000000000001E-4,-2.0999999999999999E-3,-3.5999999999999999E-3,-4.8999999999999998E-3,-6.1000000000000004E-3,-7.0000000000000001E-3,-7.7999999999999996E-3,-8.3000000000000001E-3,-8.5000000000000006E-3,-8.5000000000000006E-3,-8.2000000000000007E-3,-7.7000000000000002E-3,-6.8999999999999999E-3,-5.8999999999999999E-3,-4.7000000000000002E-3,-3.3999999999999998E-3,-1.9E-3,-5.0000000000000001E-4,8.9999999999999998E-4,2.3E-3,3.5000000000000001E-3,4.4999999999999997E-3,5.3E-3,5.8999999999999999E-3,6.3E-3,6.4000000000000003E-3,6.3E-3,6.1000000000000004E-3,5.7999999999999996E-3,5.3E-3,4.8999999999999998E-3,4.3E-3,4.4000000000000003E-3,4.4999999999999997E-3,4.1000000000000003E-3,3.7000000000000002E-3,3.3999999999999998E-3,3.2000000000000002E-3,3.0999999999999999E-3,3.0000000000000001E-3,3.0000000000000001E-3,3.0000000000000001E-3,3.0999999999999999E-3,3.0999999999999999E-3,3.2000000000000002E-3,3.2000000000000002E-3,3.3E-3,3.3E-3,3.3999999999999998E-3,3.3999999999999998E-3,3.5000000000000001E-3,3.5999999999999999E-3]
[98,-1.6400000000000001E-2,-1.52E-2,-1.4E-2,-1.2800000000000001E-2,-1.15E-2,-1.03E-2,-8.9999999999999993E-3,-7.6E-3,-6.1999999999999998E-3,-4.7999999999999996E-3,-3.2000000000000002E-3,-1.6999999999999999E-3,-1E-4,1.5E-3,3.0999999999999999E-3,4.5999999999999999E-3,6.0000000000000001E-3,7.3000000000000001E-3,8.5000000000000006E-3,9.4999999999999998E-3,1.0200000000000001E-2,1.0800000000000001E-2,1.12E-2,1.12E-2,1.11E-2,1.0699999999999999E-2,1.01E-2,9.2999999999999992E-3,8.2000000000000007E-3,7.0000000000000001E-3,5.7000000000000002E-3,4.1999999999999997E-3,2.7000000000000001E-3,1.1000000000000001E-3,-5.0000000000000001E-4,-2E-3,-3.3999999999999998E-3,-4.5999999999999999E-3,-5.7000000000000002E-3,-6.6E-3,-7.3000000000000001E-3,-7.7999999999999996E-3,-8.0000000000000002E-3,-8.0000000000000002E-3,-7.7000000000000002E-3,-7.1999999999999998E-3,-6.4999999999999997E-3,-5.4999999999999997E-3,-4.4000000000000003E-3,-3.2000000000000002E-3,-1.8E-3,-5.0000000000000001E-4,8.9999999999999998E-4,2.2000000000000001E-3,3.3E-3,4.3E-3,5.0000000000000001E-3,5.5999999999999999E-3,5.8999999999999999E-3,6.1000000000000004E-3,6.0000000000000001E-3,5.7999999999999996E-3,5.4999999999999997E-3,5.0000000000000001E-3,4.5999999999999999E-3,4.1000000000000003E-3,4.1999999999999997E-3,4.1999999999999997E-3,4.1999999999999997E-3,3.8E-3,3.5000000000000001E-3,3.2000000000000002E-3,3.0000000000000001E-3,2.8999999999999998E-3,2.8E-3,2.8E-3,2.8999999999999998E-3,2.8999999999999998E-3,3.0000000000000001E-3,3.0000000000000001E-3,3.0999999999999999E-3,3.0999999999999999E-3,3.2000000000000002E-3,3.2000000000000002E-3,3.3E-3,3.3999999999999998E-3]
[99,-1.54E-2,-1.43E-2,-1.3100000000000001E-2,-1.2E-2,-1.0800000000000001E-2,-9.7000000000000003E-3,-8.3999999999999995E-3,-7.1999999999999998E-3,-5.7999999999999996E-3,-4.4999999999999997E-3,-3.0000000000000001E-3,-1.6000000000000001E-3,-1E-4,1.4E-3,2.8999999999999998E-3,4.3E-3,5.5999999999999999E-3,6.8999999999999999E-3,8.0000000000000002E-3,8.8999999999999999E-3,9.5999999999999992E-3,1.0200000000000001E-2,1.0500000000000001E-2,1.06E-2,1.04E-2,1.01E-2,9.4999999999999998E-3,8.6999999999999994E-3,7.7000000000000002E-3,6.6E-3,5.3E-3,4.0000000000000001E-3,2.5000000000000001E-3,1E-3,-4.0000000000000002E-4,-1.9E-3,-3.2000000000000002E-3,-4.4000000000000003E-3,-5.4000000000000003E-3,-6.1999999999999998E-3,-6.8999999999999999E-3,-7.3000000000000001E-3,-7.6E-3,-7.4999999999999997E-3,-7.3000000000000001E-3,-6.7999999999999996E-3,-6.1000000000000004E-3,-5.1999999999999998E-3,-4.1999999999999997E-3,-3.0000000000000001E-3,-1.6999999999999999E-3,-4.0000000000000002E-4,8.0000000000000004E-4,2E-3,3.0999999999999999E-3,4.0000000000000001E-3,4.7000000000000002E-3,5.3E-3,5.5999999999999999E-3,5.7000000000000002E-3,5.5999999999999999E-3,5.4000000000000003E-3,5.1000000000000004E-3,4.7000000000000002E-3,4.3E-3,3.8999999999999998E-3,3.8999999999999998E-3,4.0000000000000001E-3,4.0000000000000001E-3,4.0000000000000001E-3,3.5000000000000001E-3,3.2000000000000002E-3,2.8999999999999998E-3,2.8E-3,2.7000000000000001E-3,2.5999999999999999E-3,2.7000000000000001E-3,2.7000000000000001E-3,2.7000000000000001E-3,2.8E-3,2.8999999999999998E-3,2.8999999999999998E-3,3.0000000000000001E-3,3.0000000000000001E-3,3.0999999999999999E-3,3.2000000000000002E-3]
[100,-1.44E-2,-1.34E-2,-1.23E-2,-1.1299999999999999E-2,-1.0200000000000001E-2,-9.1000000000000004E-3,-7.9000000000000008E-3,-6.7000000000000002E-3,-5.4999999999999997E-3,-4.1999999999999997E-3,-2.8999999999999998E-3,-1.5E-3,-1E-4,1.2999999999999999E-3,2.7000000000000001E-3,4.0000000000000001E-3,5.3E-3,6.4999999999999997E-3,7.4999999999999997E-3,8.3000000000000001E-3,8.9999999999999993E-3,9.4999999999999998E-3,9.7999999999999997E-3,9.9000000000000008E-3,9.7999999999999997E-3,9.4999999999999998E-3,8.8999999999999999E-3,8.2000000000000007E-3,7.3000000000000001E-3,6.1999999999999998E-3,5.0000000000000001E-3,3.7000000000000002E-3,2.3E-3,1E-3,-4.0000000000000002E-4,-1.6999999999999999E-3,-3.0000000000000001E-3,-4.1000000000000003E-3,-5.1000000000000004E-3,-5.8999999999999999E-3,-6.4999999999999997E-3,-6.8999999999999999E-3,-7.1000000000000004E-3,-7.1000000000000004E-3,-6.7999999999999996E-3,-6.4000000000000003E-3,-5.7000000000000002E-3,-4.8999999999999998E-3,-3.8999999999999998E-3,-2.8E-3,-1.6000000000000001E-3,-4.0000000000000002E-4,8.0000000000000004E-4,1.9E-3,2.8999999999999998E-3,3.8E-3,4.4999999999999997E-3,4.8999999999999998E-3,5.1999999999999998E-3,5.3E-3,5.3E-3,5.1000000000000004E-3,4.7999999999999996E-3,4.4999999999999997E-3,4.0000000000000001E-3,3.5999999999999999E-3,3.7000000000000002E-3,3.8E-3,3.8E-3,3.7000000000000002E-3,3.7000000000000002E-3,3.3E-3,2.8999999999999998E-3,2.7000000000000001E-3,2.5999999999999999E-3,2.5000000000000001E-3,2.5000000000000001E-3,2.5000000000000001E-3,2.5000000000000001E-3,2.5999999999999999E-3,2.5999999999999999E-3,2.7000000000000001E-3,2.8E-3,2.8E-3,2.8999999999999998E-3,3.0000000000000001E-3]
[101,-1.35E-2,-1.2500000000000001E-2,-1.15E-2,-1.0500000000000001E-2,-9.4999999999999998E-3,-8.5000000000000006E-3,-7.4000000000000003E-3,-6.3E-3,-5.1000000000000004E-3,-3.8999999999999998E-3,-2.7000000000000001E-3,-1.4E-3,-1E-4,1.1999999999999999E-3,2.5000000000000001E-3,3.8E-3,4.8999999999999998E-3,6.0000000000000001E-3,7.0000000000000001E-3,7.7999999999999996E-3,8.3999999999999995E-3,8.8999999999999999E-3,9.1999999999999998E-3,9.2999999999999992E-3,9.1000000000000004E-3,8.8000000000000005E-3,8.3000000000000001E-3,7.6E-3,6.7999999999999996E-3,5.7999999999999996E-3,4.7000000000000002E-3,3.5000000000000001E-3,2.2000000000000001E-3,8.9999999999999998E-4,-4.0000000000000002E-4,-1.6000000000000001E-3,-2.8E-3,-3.8E-3,-4.7000000000000002E-3,-5.4999999999999997E-3,-6.0000000000000001E-3,-6.4000000000000003E-3,-6.6E-3,-6.6E-3,-6.4000000000000003E-3,-6.0000000000000001E-3,-5.3E-3,-4.5999999999999999E-3,-3.5999999999999999E-3,-2.5999999999999999E-3,-1.5E-3,-4.0000000000000002E-4,6.9999999999999999E-4,1.8E-3,2.7000000000000001E-3,3.5000000000000001E-3,4.1999999999999997E-3,4.5999999999999999E-3,4.8999999999999998E-3,5.0000000000000001E-3,4.8999999999999998E-3,4.7999999999999996E-3,4.4999999999999997E-3,4.1999999999999997E-3,3.8E-3,3.3999999999999998E-3,3.5000000000000001E-3,3.5000000000000001E-3,3.5000000000000001E-3,3.5000000000000001E-3,3.5000000000000001E-3,3.3999999999999998E-3,3.0000000000000001E-3,2.7000000000000001E-3,2.5000000000000001E-3,2.3999999999999998E-3,2.3E-3,2.3E-3,2.3E-3,2.3999999999999998E-3,2.3999999999999998E-3,2.5000000000000001E-3,2.5999999999999999E-3,2.5999999999999999E-3,2.7000000000000001E-3,2.8E-3]
[102,-1.2500000000000001E-2,-1.1599999999999999E-2,-1.0699999999999999E-2,-9.7999999999999997E-3,-8.8000000000000005E-3,-7.7999999999999996E-3,-6.8999999999999999E-3,-5.7999999999999996E-3,-4.7999999999999996E-3,-3.5999999999999999E-3,-2.5000000000000001E-3,-1.2999999999999999E-3,-1E-4,1.1000000000000001E-3,2.3E-3,3.5000000000000001E-3,4.5999999999999999E-3,5.5999999999999999E-3,6.4999999999999997E-3,7.1999999999999998E-3,7.7999999999999996E-3,8.3000000000000001E-3,8.5000000000000006E-3,8.6E-3,8.5000000000000006E-3,8.2000000000000007E-3,7.7000000000000002E-3,7.1000000000000004E-3,6.3E-3,5.4000000000000003E-3,4.3E-3,3.2000000000000002E-3,2E-3,8.0000000000000004E-4,-4.0000000000000002E-4,-1.5E-3,-2.5999999999999999E-3,-3.5000000000000001E-3,-4.4000000000000003E-3,-5.1000000000000004E-3,-5.5999999999999999E-3,-6.0000000000000001E-3,-6.1000000000000004E-3,-6.1000000000000004E-3,-5.8999999999999999E-3,-5.4999999999999997E-3,-5.0000000000000001E-3,-4.1999999999999997E-3,-3.3999999999999998E-3,-2.3999999999999998E-3,-1.4E-3,-4.0000000000000002E-4,6.9999999999999999E-4,1.6999999999999999E-3,2.5000000000000001E-3,3.3E-3,3.8999999999999998E-3,4.3E-3,4.4999999999999997E-3,4.5999999999999999E-3,4.5999999999999999E-3,4.4000000000000003E-3,4.1999999999999997E-3,3.8999999999999998E-3,3.5000000000000001E-3,3.0999999999999999E-3,3.2000000000000002E-3,3.3E-3,3.3E-3,3.3E-3,3.3E-3,3.2000000000000002E-3,3.0999999999999999E-3,2.7000000000000001E-3,2.3999999999999998E-3,2.3E-3,2.2000000000000001E-3,2.0999999999999999E-3,2.2000000000000001E-3,2.2000000000000001E-3,2.2000000000000001E-3,2.3E-3,2.3999999999999998E-3,2.3999999999999998E-3,2.5000000000000001E-3,2.5999999999999999E-3]
[103,-1.1599999999999999E-2,-1.0699999999999999E-2,-9.9000000000000008E-3,-8.9999999999999993E-3,-8.0999999999999996E-3,-7.1999999999999998E-3,-6.3E-3,-5.4000000000000003E-3,-4.4000000000000003E-3,-3.3999999999999998E-3,-2.3E-3,-1.1999999999999999E-3,-1E-4,1.1000000000000001E-3,2.2000000000000001E-3,3.2000000000000002E-3,4.1999999999999997E-3,5.1999999999999998E-3,6.0000000000000001E-3,6.7000000000000002E-3,7.1999999999999998E-3,7.6E-3,7.9000000000000008E-3,7.9000000000000008E-3,7.7999999999999996E-3,7.6E-3,7.1000000000000004E-3,6.4999999999999997E-3,5.7999999999999996E-3,5.0000000000000001E-3,4.0000000000000001E-3,3.0000000000000001E-3,1.9E-3,8.0000000000000004E-4,-2.9999999999999997E-4,-1.4E-3,-2.3999999999999998E-3,-3.3E-3,-4.0000000000000001E-3,-4.7000000000000002E-3,-5.1999999999999998E-3,-5.4999999999999997E-3,-5.7000000000000002E-3,-5.7000000000000002E-3,-5.4999999999999997E-3,-5.1000000000000004E-3,-4.5999999999999999E-3,-3.8999999999999998E-3,-3.0999999999999999E-3,-2.2000000000000001E-3,-1.2999999999999999E-3,-2.9999999999999997E-4,5.9999999999999995E-4,1.5E-3,2.3E-3,3.0000000000000001E-3,3.5999999999999999E-3,4.0000000000000001E-3,4.1999999999999997E-3,4.3E-3,4.1999999999999997E-3,4.1000000000000003E-3,3.8E-3,3.5999999999999999E-3,3.2000000000000002E-3,2.8999999999999998E-3,3.0000000000000001E-3,3.0999999999999999E-3,3.0999999999999999E-3,3.0999999999999999E-3,3.0000000000000001E-3,3.0000000000000001E-3,2.8999999999999998E-3,2.8E-3,2.3999999999999998E-3,2.2000000000000001E-3,2.0999999999999999E-3,2E-3,2E-3,2E-3,2E-3,2.0999999999999999E-3,2.2000000000000001E-3,2.2000000000000001E-3,2.3E-3,2.3999999999999998E-3]
[104,-1.06E-2,-9.7999999999999997E-3,-8.9999999999999993E-3,-8.3000000000000001E-3,-7.4999999999999997E-3,-6.6E-3,-5.7999999999999996E-3,-4.8999999999999998E-3,-4.0000000000000001E-3,-3.0999999999999999E-3,-2.0999999999999999E-3,-1.1000000000000001E-3,-1E-4,1E-3,2E-3,3.0000000000000001E-3,3.8999999999999998E-3,4.7000000000000002E-3,5.4999999999999997E-3,6.1000000000000004E-3,6.6E-3,7.0000000000000001E-3,7.1999999999999998E-3,7.3000000000000001E-3,7.1999999999999998E-3,6.8999999999999999E-3,6.4999999999999997E-3,6.0000000000000001E-3,5.3E-3,4.4999999999999997E-3,3.7000000000000002E-3,2.7000000000000001E-3,1.6999999999999999E-3,6.9999999999999999E-4,-2.9999999999999997E-4,-1.2999999999999999E-3,-2.2000000000000001E-3,-3.0000000000000001E-3,-3.7000000000000002E-3,-4.3E-3,-4.7000000000000002E-3,-5.0000000000000001E-3,-5.1999999999999998E-3,-5.1999999999999998E-3,-5.0000000000000001E-3,-4.7000000000000002E-3,-4.1999999999999997E-3,-3.5999999999999999E-3,-2.8999999999999998E-3,-2.0999999999999999E-3,-1.1999999999999999E-3,-2.9999999999999997E-4,5.9999999999999995E-4,1.4E-3,2.0999999999999999E-3,2.8E-3,3.3E-3,3.5999999999999999E-3,3.8E-3,3.8999999999999998E-3,3.8999999999999998E-3,3.7000000000000002E-3,3.5000000000000001E-3,3.3E-3,3.0000000000000001E-3,2.5999999999999999E-3,2.7000000000000001E-3,2.8E-3,2.8E-3,2.8999999999999998E-3,2.8E-3,2.8E-3,2.7000000000000001E-3,2.5999999999999999E-3,2.5000000000000001E-3,2.2000000000000001E-3,2E-3,1.9E-3,1.8E-3,1.8E-3,1.8E-3,1.9E-3,2E-3,2E-3,2.0999999999999999E-3,2.2000000000000001E-3]
[105,-9.5999999999999992E-3,-8.8999999999999999E-3,-8.2000000000000007E-3,-7.4999999999999997E-3,-6.7999999999999996E-3,-6.0000000000000001E-3,-5.3E-3,-4.4999999999999997E-3,-3.7000000000000002E-3,-2.8E-3,-1.9E-3,-1E-3,-1E-4,8.9999999999999998E-4,1.8E-3,2.7000000000000001E-3,3.5000000000000001E-3,4.3E-3,5.0000000000000001E-3,5.5999999999999999E-3,6.0000000000000001E-3,6.4000000000000003E-3,6.6E-3,6.6E-3,6.4999999999999997E-3,6.3E-3,5.8999999999999999E-3,5.4999999999999997E-3,4.7999999999999996E-3,4.1000000000000003E-3,3.3E-3,2.5000000000000001E-3,1.6000000000000001E-3,5.9999999999999995E-4,-2.9999999999999997E-4,-1.1999999999999999E-3,-2E-3,-2.7000000000000001E-3,-3.3999999999999998E-3,-3.8999999999999998E-3,-4.3E-3,-4.5999999999999999E-3,-4.7000000000000002E-3,-4.7000000000000002E-3,-4.5999999999999999E-3,-4.3E-3,-3.8E-3,-3.3E-3,-2.5999999999999999E-3,-1.9E-3,-1.1000000000000001E-3,-2.9999999999999997E-4,5.0000000000000001E-4,1.2999999999999999E-3,1.9E-3,2.5000000000000001E-3,3.0000000000000001E-3,3.3E-3,3.5000000000000001E-3,3.5999999999999999E-3,3.5000000000000001E-3,3.3999999999999998E-3,3.2000000000000002E-3,3.0000000000000001E-3,2.7000000000000001E-3,2.3999999999999998E-3,2.5000000000000001E-3,2.5999999999999999E-3,2.5999999999999999E-3,2.5999999999999999E-3,2.5999999999999999E-3,2.5999999999999999E-3,2.5000000000000001E-3,2.3999999999999998E-3,2.3E-3,2.2000000000000001E-3,1.9E-3,1.8E-3,1.6999999999999999E-3,1.6000000000000001E-3,1.6999999999999999E-3,1.6999999999999999E-3,1.8E-3,1.8E-3,1.9E-3,2E-3]
[106,-8.6999999999999994E-3,-8.0000000000000002E-3,-7.4000000000000003E-3,-6.7999999999999996E-3,-6.1000000000000004E-3,-5.4000000000000003E-3,-4.7000000000000002E-3,-4.0000000000000001E-3,-3.3E-3,-2.5000000000000001E-3,-1.6999999999999999E-3,-8.9999999999999998E-4,-1E-4,8.0000000000000004E-4,1.6000000000000001E-3,2.3999999999999998E-3,3.2000000000000002E-3,3.8999999999999998E-3,4.4999999999999997E-3,5.0000000000000001E-3,5.4000000000000003E-3,5.7000000000000002E-3,5.8999999999999999E-3,6.0000000000000001E-3,5.8999999999999999E-3,5.7000000000000002E-3,5.3E-3,4.8999999999999998E-3,4.4000000000000003E-3,3.7000000000000002E-3,3.0000000000000001E-3,2.2000000000000001E-3,1.4E-3,5.9999999999999995E-4,-2.0000000000000001E-4,-1E-3,-1.8E-3,-2.5000000000000001E-3,-3.0000000000000001E-3,-3.5000000000000001E-3,-3.8999999999999998E-3,-4.1000000000000003E-3,-4.3E-3,-4.1999999999999997E-3,-4.1000000000000003E-3,-3.8E-3,-3.3999999999999998E-3,-2.8999999999999998E-3,-2.3E-3,-1.6999999999999999E-3,-1E-3,-2.0000000000000001E-4,5.0000000000000001E-4,1.1000000000000001E-3,1.6999999999999999E-3,2.3E-3,2.7000000000000001E-3,3.0000000000000001E-3,3.0999999999999999E-3,3.2000000000000002E-3,3.2000000000000002E-3,3.0999999999999999E-3,2.8999999999999998E-3,2.7000000000000001E-3,2.3999999999999998E-3,2.2000000000000001E-3,2.3E-3,2.3E-3,2.3999999999999998E-3,2.3999999999999998E-3,2.3999999999999998E-3,2.3999999999999998E-3,2.3E-3,2.2000000000000001E-3,2.2000000000000001E-3,2E-3,1.9E-3,1.6999999999999999E-3,1.6000000000000001E-3,1.5E-3,1.5E-3,1.5E-3,1.6000000000000001E-3,1.6000000000000001E-3,1.6999999999999999E-3,1.8E-3]
[107,-7.7000000000000002E-3,-7.1000000000000004E-3,-6.6E-3,-6.0000000000000001E-3,-5.4000000000000003E-3,-4.7999999999999996E-3,-4.1999999999999997E-3,-3.5999999999999999E-3,-2.8999999999999998E-3,-2.2000000000000001E-3,-1.5E-3,-8.0000000000000004E-4,0,6.9999999999999999E-4,1.4E-3,2.2000000000000001E-3,2.8E-3,3.3999999999999998E-3,4.0000000000000001E-3,4.4999999999999997E-3,4.7999999999999996E-3,5.1000000000000004E-3,5.1999999999999998E-3,5.3E-3,5.1999999999999998E-3,5.0000000000000001E-3,4.7999999999999996E-3,4.4000000000000003E-3,3.8999999999999998E-3,3.3E-3,2.7000000000000001E-3,2E-3,1.1999999999999999E-3,5.0000000000000001E-4,-2.0000000000000001E-4,-8.9999999999999998E-4,-1.6000000000000001E-3,-2.2000000000000001E-3,-2.7000000000000001E-3,-3.0999999999999999E-3,-3.3999999999999998E-3,-3.7000000000000002E-3,-3.8E-3,-3.8E-3,-3.5999999999999999E-3,-3.3999999999999998E-3,-3.0999999999999999E-3,-2.5999999999999999E-3,-2.0999999999999999E-3,-1.5E-3,-8.9999999999999998E-4,-2.0000000000000001E-4,4.0000000000000002E-4,1E-3,1.6000000000000001E-3,2E-3,2.3999999999999998E-3,2.5999999999999999E-3,2.8E-3,2.8E-3,2.8E-3,2.7000000000000001E-3,2.5999999999999999E-3,2.3999999999999998E-3,2.2000000000000001E-3,1.9E-3,2E-3,2.0999999999999999E-3,2.0999999999999999E-3,2.0999999999999999E-3,2.2000000000000001E-3,2.0999999999999999E-3,2.0999999999999999E-3,2.0999999999999999E-3,2E-3,1.9E-3,1.8E-3,1.6000000000000001E-3,1.5E-3,1.4E-3,1.2999999999999999E-3,1.2999999999999999E-3,1.4E-3,1.4E-3,1.5E-3,1.6000000000000001E-3]
[108,-6.7000000000000002E-3,-6.1999999999999998E-3,-5.7000000000000002E-3,-5.3E-3,-4.7000000000000002E-3,-4.1999999999999997E-3,-3.7000000000000002E-3,-3.0999999999999999E-3,-2.5999999999999999E-3,-2E-3,-1.2999999999999999E-3,-6.9999999999999999E-4,0,5.9999999999999995E-4,1.2999999999999999E-3,1.9E-3,2.5000000000000001E-3,3.0000000000000001E-3,3.5000000000000001E-3,3.8999999999999998E-3,4.1999999999999997E-3,4.4999999999999997E-3,4.5999999999999999E-3,4.5999999999999999E-3,4.5999999999999999E-3,4.4000000000000003E-3,4.1999999999999997E-3,3.8E-3,3.3999999999999998E-3,2.8999999999999998E-3,2.3E-3,1.6999999999999999E-3,1.1000000000000001E-3,4.0000000000000002E-4,-2.0000000000000001E-4,-8.0000000000000004E-4,-1.4E-3,-1.9E-3,-2.3999999999999998E-3,-2.7000000000000001E-3,-3.0000000000000001E-3,-3.2000000000000002E-3,-3.3E-3,-3.3E-3,-3.2000000000000002E-3,-3.0000000000000001E-3,-2.7000000000000001E-3,-2.3E-3,-1.8E-3,-1.2999999999999999E-3,-8.0000000000000004E-4,-2.0000000000000001E-4,4.0000000000000002E-4,8.9999999999999998E-4,1.4E-3,1.8E-3,2.0999999999999999E-3,2.3E-3,2.3999999999999998E-3,2.5000000000000001E-3,2.5000000000000001E-3,2.3999999999999998E-3,2.2000000000000001E-3,2.0999999999999999E-3,1.9E-3,1.6999999999999999E-3,1.8E-3,1.9E-3,1.9E-3,1.9E-3,1.9E-3,1.9E-3,1.9E-3,1.9E-3,1.8E-3,1.6999999999999999E-3,1.6000000000000001E-3,1.5E-3,1.4E-3,1.1999999999999999E-3,1.1999999999999999E-3,1.1000000000000001E-3,1.1999999999999999E-3,1.1999999999999999E-3,1.2999999999999999E-3,1.4E-3]
[109,-5.7999999999999996E-3,-5.4000000000000003E-3,-4.8999999999999998E-3,-4.4999999999999997E-3,-4.1000000000000003E-3,-3.5999999999999999E-3,-3.2000000000000002E-3,-2.7000000000000001E-3,-2.2000000000000001E-3,-1.6999999999999999E-3,-1.1000000000000001E-3,-5.9999999999999995E-4,0,5.0000000000000001E-4,1.1000000000000001E-3,1.6000000000000001E-3,2.0999999999999999E-3,2.5999999999999999E-3,3.0000000000000001E-3,3.3E-3,3.5999999999999999E-3,3.8E-3,3.8999999999999998E-3,4.0000000000000001E-3,3.8999999999999998E-3,3.8E-3,3.5999999999999999E-3,3.3E-3,2.8999999999999998E-3,2.5000000000000001E-3,2E-3,1.5E-3,8.9999999999999998E-4,4.0000000000000002E-4,-2.0000000000000001E-4,-6.9999999999999999E-4,-1.1999999999999999E-3,-1.6000000000000001E-3,-2E-3,-2.3E-3,-2.5999999999999999E-3,-2.8E-3,-2.8E-3,-2.8E-3,-2.7000000000000001E-3,-2.5999999999999999E-3,-2.3E-3,-2E-3,-1.6000000000000001E-3,-1.1000000000000001E-3,-5.9999999999999995E-4,-2.0000000000000001E-4,2.9999999999999997E-4,8.0000000000000004E-4,1.1999999999999999E-3,1.5E-3,1.8E-3,2E-3,2.0999999999999999E-3,2.0999999999999999E-3,2.0999999999999999E-3,2E-3,1.9E-3,1.8E-3,1.6000000000000001E-3,1.4E-3,1.5E-3,1.6000000000000001E-3,1.6999999999999999E-3,1.6999999999999999E-3,1.6999999999999999E-3,1.6999999999999999E-3,1.6999999999999999E-3,1.6999999999999999E-3,1.6000000000000001E-3,1.6000000000000001E-3,1.5E-3,1.4E-3,1.1999999999999999E-3,1.1000000000000001E-3,1E-3,1E-3,1E-3,1E-3,1.1000000000000001E-3,1.1999999999999999E-3]
[110,-4.7999999999999996E-3,-4.4999999999999997E-3,-4.1000000000000003E-3,-3.8E-3,-3.3999999999999998E-3,-3.0000000000000001E-3,-2.5999999999999999E-3,-2.2000000000000001E-3,-1.8E-3,-1.4E-3,-1E-3,-5.0000000000000001E-4,0,4.0000000000000002E-4,8.9999999999999998E-4,1.2999999999999999E-3,1.8E-3,2.2000000000000001E-3,2.5000000000000001E-3,2.8E-3,3.0000000000000001E-3,3.2000000000000002E-3,3.3E-3,3.3E-3,3.3E-3,3.2000000000000002E-3,3.0000000000000001E-3,2.7000000000000001E-3,2.3999999999999998E-3,2.0999999999999999E-3,1.6999999999999999E-3,1.1999999999999999E-3,8.0000000000000004E-4,2.9999999999999997E-4,-1E-4,-5.9999999999999995E-4,-1E-3,-1.4E-3,-1.6999999999999999E-3,-2E-3,-2.2000000000000001E-3,-2.3E-3,-2.3999999999999998E-3,-2.3999999999999998E-3,-2.3E-3,-2.0999999999999999E-3,-1.9E-3,-1.6000000000000001E-3,-1.2999999999999999E-3,-8.9999999999999998E-4,-5.0000000000000001E-4,-1E-4,2.9999999999999997E-4,5.9999999999999995E-4,1E-3,1.2999999999999999E-3,1.5E-3,1.6000000000000001E-3,1.6999999999999999E-3,1.8E-3,1.8E-3,1.6999999999999999E-3,1.6000000000000001E-3,1.5E-3,1.2999999999999999E-3,1.1999999999999999E-3,1.2999999999999999E-3,1.4E-3,1.4E-3,1.4E-3,1.4E-3,1.4E-3,1.4E-3,1.4E-3,1.4E-3,1.4E-3,1.2999999999999999E-3,1.1999999999999999E-3,1.1000000000000001E-3,1E-3,8.9999999999999998E-4,8.0000000000000004E-4,8.0000000000000004E-4,8.0000000000000004E-4,8.9999999999999998E-4,1E-3]
[111,-3.8999999999999998E-3,-3.5999999999999999E-3,-3.3E-3,-3.0000000000000001E-3,-2.7000000000000001E-3,-2.3999999999999998E-3,-2.0999999999999999E-3,-1.8E-3,-1.5E-3,-1.1000000000000001E-3,-8.0000000000000004E-4,-4.0000000000000002E-4,0,4.0000000000000002E-4,6.9999999999999999E-4,1.1000000000000001E-3,1.4E-3,1.6999999999999999E-3,2E-3,2.2000000000000001E-3,2.3999999999999998E-3,2.5000000000000001E-3,2.5999999999999999E-3,2.5999999999999999E-3,2.5999999999999999E-3,2.5000000000000001E-3,2.3999999999999998E-3,2.2000000000000001E-3,1.9E-3,1.6999999999999999E-3,1.2999999999999999E-3,1E-3,5.9999999999999995E-4,2.9999999999999997E-4,-1E-4,-5.0000000000000001E-4,-8.0000000000000004E-4,-1.1000000000000001E-3,-1.2999999999999999E-3,-1.6000000000000001E-3,-1.6999999999999999E-3,-1.8E-3,-1.9E-3,-1.9E-3,-1.8E-3,-1.6999999999999999E-3,-1.5E-3,-1.2999999999999999E-3,-1E-3,-6.9999999999999999E-4,-4.0000000000000002E-4,-1E-4,2.0000000000000001E-4,5.0000000000000001E-4,8.0000000000000004E-4,1E-3,1.1999999999999999E-3,1.2999999999999999E-3,1.4E-3,1.4E-3,1.4E-3,1.4E-3,1.2999999999999999E-3,1.1999999999999999E-3,1.1000000000000001E-3,1E-3,1.1000000000000001E-3,1.1000000000000001E-3,1.1999999999999999E-3,1.1999999999999999E-3,1.1999999999999999E-3,1.1999999999999999E-3,1.1999999999999999E-3,1.1999999999999999E-3,1.1999999999999999E-3,1.1999999999999999E-3,1.1999999999999999E-3,1.1000000000000001E-3,1E-3,8.9999999999999998E-4,8.0000000000000004E-4,6.9999999999999999E-4,5.9999999999999995E-4,5.9999999999999995E-4,6.9999999999999999E-4,8.0000000000000004E-4]
[112,-2.8999999999999998E-3,-2.7000000000000001E-3,-2.5000000000000001E-3,-2.3E-3,-2E-3,-1.8E-3,-1.6000000000000001E-3,-1.2999999999999999E-3,-1.1000000000000001E-3,-8.0000000000000004E-4,-5.9999999999999995E-4,-2.9999999999999997E-4,0,2.9999999999999997E-4,5.0000000000000001E-4,8.0000000000000004E-4,1.1000000000000001E-3,1.2999999999999999E-3,1.5E-3,1.6999999999999999E-3,1.8E-3,1.9E-3,2E-3,2E-3,2E-3,1.9E-3,1.8E-3,1.6000000000000001E-3,1.5E-3,1.1999999999999999E-3,1E-3,6.9999999999999999E-4,5.0000000000000001E-4,2.0000000000000001E-4,-1E-4,-2.9999999999999997E-4,-5.9999999999999995E-4,-8.0000000000000004E-4,-1E-3,-1.1999999999999999E-3,-1.2999999999999999E-3,-1.4E-3,-1.4E-3,-1.4E-3,-1.4E-3,-1.2999999999999999E-3,-1.1000000000000001E-3,-1E-3,-8.0000000000000004E-4,-5.9999999999999995E-4,-2.9999999999999997E-4,-1E-4,2.0000000000000001E-4,4.0000000000000002E-4,5.9999999999999995E-4,8.0000000000000004E-4,8.9999999999999998E-4,1E-3,1E-3,1.1000000000000001E-3,1.1000000000000001E-3,1E-3,1E-3,8.9999999999999998E-4,8.0000000000000004E-4,6.9999999999999999E-4,8.0000000000000004E-4,8.9999999999999998E-4,8.9999999999999998E-4,1E-3,1E-3,1E-3,1E-3,1E-3,1E-3,1E-3,8.9999999999999998E-4,8.9999999999999998E-4,8.0000000000000004E-4,6.9999999999999999E-4,5.9999999999999995E-4,5.0000000000000001E-4,4.0000000000000002E-4,5.0000000000000001E-4,5.0000000000000001E-4,5.9999999999999995E-4]
[113,-1.9E-3,-1.8E-3,-1.6000000000000001E-3,-1.5E-3,-1.4E-3,-1.1999999999999999E-3,-1.1000000000000001E-3,-8.9999999999999998E-4,-6.9999999999999999E-4,-5.9999999999999995E-4,-4.0000000000000002E-4,-2.0000000000000001E-4,0,2.0000000000000001E-4,4.0000000000000002E-4,5.0000000000000001E-4,6.9999999999999999E-4,8.9999999999999998E-4,1E-3,1.1000000000000001E-3,1.1999999999999999E-3,1.2999999999999999E-3,1.2999999999999999E-3,1.2999999999999999E-3,1.2999999999999999E-3,1.2999999999999999E-3,1.1999999999999999E-3,1.1000000000000001E-3,1E-3,8.0000000000000004E-4,6.9999999999999999E-4,5.0000000000000001E-4,2.9999999999999997E-4,1E-4,-1E-4,-2.0000000000000001E-4,-4.0000000000000002E-4,-5.0000000000000001E-4,-6.9999999999999999E-4,-8.0000000000000004E-4,-8.9999999999999998E-4,-8.9999999999999998E-4,-8.9999999999999998E-4,-8.9999999999999998E-4,-8.9999999999999998E-4,-8.9999999999999998E-4,-8.0000000000000004E-4,-6.9999999999999999E-4,-5.0000000000000001E-4,-4.0000000000000002E-4,-2.0000000000000001E-4,-1E-4,1E-4,2.9999999999999997E-4,4.0000000000000002E-4,5.0000000000000001E-4,5.9999999999999995E-4,6.9999999999999999E-4,6.9999999999999999E-4,6.9999999999999999E-4,6.9999999999999999E-4,6.9999999999999999E-4,5.9999999999999995E-4,5.9999999999999995E-4,5.0000000000000001E-4,5.0000000000000001E-4,5.9999999999999995E-4,6.9999999999999999E-4,6.9999999999999999E-4,6.9999999999999999E-4,6.9999999999999999E-4,8.0000000000000004E-4,8.0000000000000004E-4,6.9999999999999999E-4,6.9999999999999999E-4,6.9999999999999999E-4,6.9999999999999999E-4,6.9999999999999999E-4,6.9999999999999999E-4,5.9999999999999995E-4,5.0000000000000001E-4,4.0000000000000002E-4,2.9999999999999997E-4,2.9999999999999997E-4,2.9999999999999997E-4,4.0000000000000002E-4]
[114,-1E-3,-8.9999999999999998E-4,-8.0000000000000004E-4,-8.0000000000000004E-4,-6.9999999999999999E-4,-5.9999999999999995E-4,-5.0000000000000001E-4,-4.0000000000000002E-4,-4.0000000000000002E-4,-2.9999999999999997E-4,-2.0000000000000001E-4,-1E-4,0,1E-4,2.0000000000000001E-4,2.9999999999999997E-4,4.0000000000000002E-4,4.0000000000000002E-4,5.0000000000000001E-4,5.9999999999999995E-4,5.9999999999999995E-4,5.9999999999999995E-4,6.9999999999999999E-4,6.9999999999999999E-4,6.9999999999999999E-4,5.9999999999999995E-4,5.9999999999999995E-4,5.0000000000000001E-4,5.0000000000000001E-4,4.0000000000000002E-4,2.9999999999999997E-4,2.0000000000000001E-4,2.0000000000000001E-4,1E-4,0,-1E-4,-2.0000000000000001E-4,-2.9999999999999997E-4,-2.9999999999999997E-4,-4.0000000000000002E-4,-4.0000000000000002E-4,-5.0000000000000001E-4,-5.0000000000000001E-4,-5.0000000000000001E-4,-5.0000000000000001E-4,-4.0000000000000002E-4,-4.0000000000000002E-4,-2.9999999999999997E-4,-2.9999999999999997E-4,-2.0000000000000001E-4,-1E-4,0,1E-4,1E-4,2.0000000000000001E-4,2.9999999999999997E-4,2.9999999999999997E-4,2.9999999999999997E-4,2.9999999999999997E-4,4.0000000000000002E-4,4.0000000000000002E-4,2.9999999999999997E-4,2.9999999999999997E-4,2.9999999999999997E-4,2.9999999999999997E-4,2.0000000000000001E-4,2.9999999999999997E-4,4.0000000000000002E-4,5.0000000000000001E-4,5.0000000000000001E-4,5.0000000000000001E-4,5.0000000000000001E-4,5.0000000000000001E-4,5.0000000000000001E-4,5.0000000000000001E-4,5.0000000000000001E-4,5.0000000000000001E-4,5.0000000000000001E-4,5.0000000000000001E-4,5.0000000000000001E-4,4.0000000000000002E-4,2.9999999999999997E-4,2.0000000000000001E-4,2.0000000000000001E-4,1E-4,2.0000000000000001E-4]
[115,0,0,0,0,0,0,0,0,0,0,0,0,0,0,0,0,0,0,0,0,0,0,0,0,0,0,0,0,0,0,0,0,0,0,0,0,0,0,0,0,0,0,0,0,0,0,0,0,0,0,0,0,0,0,0,0,0,0,0,0,0,0,0,0,0,0,1E-4,2.0000000000000001E-4,2.0000000000000001E-4,2.9999999999999997E-4,2.9999999999999997E-4,2.9999999999999997E-4,2.9999999999999997E-4,2.9999999999999997E-4,2.9999999999999997E-4,2.9999999999999997E-4,2.9999999999999997E-4,2.9999999999999997E-4,2.9999999999999997E-4,2.9999999999999997E-4,2.9999999999999997E-4,2.0000000000000001E-4,1E-4,1E-4,0,0]
[116,0,0,0,0,0,0,0,0,0,0,0,0,0,0,0,0,0,0,0,0,0,0,0,0,0,0,0,0,0,0,0,0,0,0,0,0,0,0,0,0,0,0,0,0,0,0,0,0,0,0,0,0,0,0,0,0,0,0,0,0,0,0,0,0,0,0,0,1E-4,1E-4,2.0000000000000001E-4,2.0000000000000001E-4,2.0000000000000001E-4,2.0000000000000001E-4,2.0000000000000001E-4,2.0000000000000001E-4,2.0000000000000001E-4,2.0000000000000001E-4,2.0000000000000001E-4,2.0000000000000001E-4,2.0000000000000001E-4,2.0000000000000001E-4,2.0000000000000001E-4,1E-4,1E-4,0,0]
[117,0,0,0,0,0,0,0,0,0,0,0,0,0,0,0,0,0,0,0,0,0,0,0,0,0,0,0,0,0,0,0,0,0,0,0,0,0,0,0,0,0,0,0,0,0,0,0,0,0,0,0,0,0,0,0,0,0,0,0,0,0,0,0,0,0,0,0,0,1E-4,1E-4,1E-4,1E-4,1E-4,1E-4,1E-4,1E-4,1E-4,1E-4,1E-4,1E-4,1E-4,1E-4,1E-4,1E-4,0,0]
[118,0,0,0,0,0,0,0,0,0,0,0,0,0,0,0,0,0,0,0,0,0,0,0,0,0,0,0,0,0,0,0,0,0,0,0,0,0,0,0,0,0,0,0,0,0,0,0,0,0,0,0,0,0,0,0,0,0,0,0,0,0,0,0,0,0,0,0,0,0,0,0,1E-4,1E-4,1E-4,1E-4,1E-4,1E-4,1E-4,1E-4,1E-4,1E-4,1E-4,1E-4,1E-4,0,0]
[119,0,0,0,0,0,0,0,0,0,0,0,0,0,0,0,0,0,0,0,0,0,0,0,0,0,0,0,0,0,0,0,0,0,0,0,0,0,0,0,0,0,0,0,0,0,0,0,0,0,0,0,0,0,0,0,0,0,0,0,0,0,0,0,0,0,0,0,0,0,0,0,0,0,0,0,0,0,0,0,0,0,0,0,0,0,0]
[120,0,0,0,0,0,0,0,0,0,0,0,0,0,0,0,0,0,0,0,0,0,0,0,0,0,0,0,0,0,0,0,0,0,0,0,0,0,0,0,0,0,0,0,0,0,0,0,0,0,0,0,0,0,0,0,0,0,0,0,0,0,0,0,0,0,0,0,0,0,0,0,0,0,0,0,0,0,0,0,0,0,0,0,0,0,0]

{"sheet":"Female","index":2,"n_rows":103,"n_cols":87,"rows_kept":103,"cut":false,"hidden":false,"merged":[]}
["MP-2020 - Female"]
[null,1951,1952,1953,1954,1955,1956,1957,1958,1959,1960,1961,1962,1963,1964,1965,1966,1967,1968,1969,1970,1971,1972,1973,1974,1975,1976,1977,1978,1979,1980,1981,1982,1983,1984,1985,1986,1987,1988,1989,1990,1991,1992,1993,1994,1995,1996,1997,1998,1999,2000,2001,2002,2003,2004,2005,2006,2007,2008,{"$f":"BG2+1","v":2009},2010,2011,2012,2013,2014,2015,2016,2017,2018,2019,2020,2021,2022,2023,2024,2025,2026,2027,2028,2029,2030,2031,2032,2033,2034,2035,"2036+"]
["≤ 20",6.6699999999999995E-2,6.0199999999999997E-2,5.3699999999999998E-2,4.6800000000000001E-2,3.9800000000000002E-2,3.3099999999999997E-2,2.69E-2,2.0899999999999998E-2,1.49E-2,8.8000000000000005E-3,2.5000000000000001E-3,-3.5000000000000001E-3,-8.8999999999999999E-3,-1.32E-2,-1.6E-2,-1.7299999999999999E-2,-1.6500000000000001E-2,-1.35E-2,-8.3999999999999995E-3,-1.9E-3,5.1000000000000004E-3,1.1599999999999999E-2,1.67E-2,1.9800000000000002E-2,2.1000000000000001E-2,2.0899999999999998E-2,2.07E-2,2.1499999999999998E-2,2.3099999999999999E-2,2.47E-2,2.52E-2,2.3599999999999999E-2,0.02,1.52E-2,1.0500000000000001E-2,7.0000000000000001E-3,5.4000000000000003E-3,5.7000000000000002E-3,7.4000000000000003E-3,9.5999999999999992E-3,1.17E-2,1.3599999999999999E-2,1.4800000000000001E-2,1.54E-2,1.52E-2,1.41E-2,1.1900000000000001E-2,8.8000000000000005E-3,5.1000000000000004E-3,1.6999999999999999E-3,-5.9999999999999995E-4,-8.9999999999999998E-4,1.1999999999999999E-3,5.7999999999999996E-3,1.21E-2,1.89E-2,2.4899999999999999E-2,2.87E-2,2.92E-2,2.6100000000000002E-2,1.9699999999999999E-2,1.0999999999999999E-2,1.1000000000000001E-3,-8.6E-3,-1.6799999999999999E-2,-2.2599999999999999E-2,-2.1999999999999999E-2,-2.0199999999999999E-2,-1.7600000000000001E-2,-1.44E-2,-1.0800000000000001E-2,-7.0000000000000001E-3,-3.3999999999999998E-3,-1E-4,2.5999999999999999E-3,4.4999999999999997E-3,5.7999999999999996E-3,7.1000000000000004E-3,8.3999999999999995E-3,9.5999999999999992E-3,1.0699999999999999E-2,1.1599999999999999E-2,1.24E-2,1.2999999999999999E-2,1.34E-2,1.35E-2]
[21,6.9099999999999995E-2,6.1800000000000001E-2,5.4399999999999997E-2,4.6800000000000001E-2,3.9300000000000002E-2,3.2199999999999999E-2,2.5600000000000001E-2,1.9599999999999999E-2,1.37E-2,7.9000000000000008E-3,2.3E-3,-3.0000000000000001E-3,-7.4999999999999997E-3,-1.11E-2,-1.34E-2,-1.43E-2,-1.35E-2,-1.0699999999999999E-2,-6.1000000000000004E-3,-1E-4,6.3E-3,1.23E-2,1.7100000000000001E-2,2.01E-2,2.12E-2,2.12E-2,2.1000000000000001E-2,2.1499999999999998E-2,2.29E-2,2.4299999999999999E-2,2.47E-2,2.3400000000000001E-2,2.01E-2,1.5699999999999999E-2,1.11E-2,7.6E-3,5.8999999999999999E-3,5.8999999999999999E-3,7.3000000000000001E-3,9.4000000000000004E-3,1.1599999999999999E-2,1.3599999999999999E-2,1.5100000000000001E-2,1.6E-2,1.6E-2,1.4800000000000001E-2,1.2200000000000001E-2,8.6E-3,4.3E-3,2.0000000000000001E-4,-2.7000000000000001E-3,-3.7000000000000002E-3,-2.3E-3,1.6000000000000001E-3,7.0000000000000001E-3,1.32E-2,1.8800000000000001E-2,2.24E-2,2.3099999999999999E-2,2.0500000000000001E-2,1.4999999999999999E-2,7.1000000000000004E-3,-2E-3,-1.0999999999999999E-2,-1.8700000000000001E-2,-2.4199999999999999E-2,-2.2800000000000001E-2,-2.1000000000000001E-2,-1.83E-2,-1.49E-2,-1.12E-2,-7.3000000000000001E-3,-3.5999999999999999E-3,-2.0000000000000001E-4,2.5999999999999999E-3,4.4999999999999997E-3,5.7999999999999996E-3,7.1000000000000004E-3,8.3999999999999995E-3,9.5999999999999992E-3,1.0699999999999999E-2,1.1599999999999999E-2,1.24E-2,1.2999999999999999E-2,1.34E-2,1.35E-2]
[22,7.0999999999999994E-2,6.3100000000000003E-2,5.5100000000000003E-2,4.6800000000000001E-2,3.8800000000000001E-2,3.1199999999999999E-2,2.4400000000000002E-2,1.8200000000000001E-2,1.2500000000000001E-2,7.1000000000000004E-3,2.2000000000000001E-3,-2.3E-3,-6.0000000000000001E-3,-8.8000000000000005E-3,-1.0500000000000001E-2,-1.11E-2,-1.03E-2,-7.9000000000000008E-3,-3.7000000000000002E-3,1.8E-3,7.7999999999999996E-3,1.35E-2,1.8100000000000002E-2,2.0899999999999998E-2,2.1999999999999999E-2,2.1899999999999999E-2,2.1499999999999998E-2,2.1700000000000001E-2,2.2599999999999999E-2,2.3699999999999999E-2,2.4E-2,2.2800000000000001E-2,1.9699999999999999E-2,1.54E-2,1.09E-2,7.3000000000000001E-3,5.4000000000000003E-3,5.3E-3,6.7000000000000002E-3,8.8000000000000005E-3,1.11E-2,1.34E-2,1.5299999999999999E-2,1.67E-2,1.7100000000000001E-2,1.61E-2,1.34E-2,9.2999999999999992E-3,4.4000000000000003E-3,-2.9999999999999997E-4,-4.0000000000000001E-3,-5.7999999999999996E-3,-5.1000000000000004E-3,-2.0999999999999999E-3,2.5000000000000001E-3,7.9000000000000008E-3,1.2999999999999999E-2,1.6500000000000001E-2,1.7399999999999999E-2,1.5299999999999999E-2,1.04E-2,3.3E-3,-5.0000000000000001E-3,-1.35E-2,-2.0799999999999999E-2,-2.6200000000000001E-2,-2.4500000000000001E-2,-2.1899999999999999E-2,-1.9E-2,-1.5599999999999999E-2,-1.17E-2,-7.7000000000000002E-3,-3.8E-3,-2.9999999999999997E-4,2.5999999999999999E-3,4.4999999999999997E-3,5.7999999999999996E-3,7.1000000000000004E-3,8.3999999999999995E-3,9.5999999999999992E-3,1.0699999999999999E-2,1.1599999999999999E-2,1.24E-2,1.2999999999999999E-2,1.34E-2,1.35E-2]
[23,7.2400000000000006E-2,6.4100000000000004E-2,5.5599999999999997E-2,4.6899999999999997E-2,3.8300000000000001E-2,3.0300000000000001E-2,2.3199999999999998E-2,1.6899999999999998E-2,1.1299999999999999E-2,6.4000000000000003E-3,2.0999999999999999E-3,-1.6000000000000001E-3,-4.4999999999999997E-3,-6.4999999999999997E-3,-7.7000000000000002E-3,-8.0999999999999996E-3,-7.3000000000000001E-3,-5.0000000000000001E-3,-1.1999999999999999E-3,4.0000000000000001E-3,9.5999999999999992E-3,1.5100000000000001E-2,1.9400000000000001E-2,2.2200000000000001E-2,2.3199999999999998E-2,2.3E-2,2.23E-2,2.1999999999999999E-2,2.2499999999999999E-2,2.3099999999999999E-2,2.3099999999999999E-2,2.18E-2,1.8800000000000001E-2,1.4500000000000001E-2,9.9000000000000008E-3,6.1000000000000004E-3,4.0000000000000001E-3,4.0000000000000001E-3,5.4000000000000003E-3,7.7000000000000002E-3,1.03E-2,1.2999999999999999E-2,1.54E-2,1.7399999999999999E-2,1.84E-2,1.78E-2,1.52E-2,1.09E-2,5.4999999999999997E-3,0,-4.4000000000000003E-3,-7.0000000000000001E-3,-7.1999999999999998E-3,-5.0000000000000001E-3,-1.2999999999999999E-3,3.3E-3,7.9000000000000008E-3,1.12E-2,1.2200000000000001E-2,1.06E-2,6.3E-3,-2.0000000000000001E-4,-8.0000000000000002E-3,-1.6E-2,-2.3199999999999998E-2,-2.86E-2,-2.6700000000000002E-2,-2.3699999999999999E-2,-0.02,-1.6299999999999999E-2,-1.23E-2,-8.0999999999999996E-3,-4.0000000000000001E-3,-4.0000000000000002E-4,2.5000000000000001E-3,4.4999999999999997E-3,5.7999999999999996E-3,7.1000000000000004E-3,8.3999999999999995E-3,9.5999999999999992E-3,1.0699999999999999E-2,1.1599999999999999E-2,1.24E-2,1.2999999999999999E-2,1.34E-2,1.35E-2]
[24,7.3200000000000001E-2,6.4600000000000005E-2,5.5899999999999998E-2,4.6800000000000001E-2,3.78E-2,2.9399999999999999E-2,2.1999999999999999E-2,1.5599999999999999E-2,1.0200000000000001E-2,5.7000000000000002E-3,2E-3,-8.9999999999999998E-4,-3.0000000000000001E-3,-4.4000000000000003E-3,-5.1999999999999998E-3,-5.1999999999999998E-3,-4.4000000000000003E-3,-2.3E-3,1.2999999999999999E-3,6.1999999999999998E-3,1.17E-2,1.6899999999999998E-2,2.12E-2,2.3900000000000001E-2,2.4799999999999999E-2,2.4400000000000002E-2,2.3400000000000001E-2,2.2599999999999999E-2,2.24E-2,2.2499999999999999E-2,2.2100000000000002E-2,2.0500000000000001E-2,1.7399999999999999E-2,1.29E-2,8.0999999999999996E-3,4.1000000000000003E-3,1.9E-3,1.9E-3,3.7000000000000002E-3,6.3E-3,9.2999999999999992E-3,1.23E-2,1.5299999999999999E-2,1.7899999999999999E-2,1.9699999999999999E-2,1.9699999999999999E-2,1.7500000000000002E-2,1.32E-2,7.3000000000000001E-3,1.1999999999999999E-3,-4.0000000000000001E-3,-7.3000000000000001E-3,-8.3999999999999995E-3,-7.1999999999999998E-3,-4.4000000000000003E-3,-5.9999999999999995E-4,3.5000000000000001E-3,6.6E-3,7.7000000000000002E-3,6.4000000000000003E-3,2.5000000000000001E-3,-3.5000000000000001E-3,-1.09E-2,-1.8700000000000001E-2,-2.5700000000000001E-2,-3.1199999999999999E-2,-2.9100000000000001E-2,-2.58E-2,-2.1700000000000001E-2,-1.72E-2,-1.29E-2,-8.5000000000000006E-3,-4.3E-3,-5.0000000000000001E-4,2.5000000000000001E-3,4.4999999999999997E-3,5.7999999999999996E-3,7.1000000000000004E-3,8.3999999999999995E-3,9.5999999999999992E-3,1.0699999999999999E-2,1.1599999999999999E-2,1.24E-2,1.2999999999999999E-2,1.34E-2,1.35E-2]
[25,7.3400000000000007E-2,6.4799999999999996E-2,5.5899999999999998E-2,4.6600000000000003E-2,3.73E-2,2.8500000000000001E-2,2.0799999999999999E-2,1.43E-2,9.1000000000000004E-3,5.0000000000000001E-3,1.9E-3,-4.0000000000000002E-4,-1.8E-3,-2.5999999999999999E-3,-2.8999999999999998E-3,-2.8E-3,-1.8E-3,2.9999999999999997E-4,3.7000000000000002E-3,8.3999999999999995E-3,1.38E-2,1.9099999999999999E-2,2.3300000000000001E-2,2.5999999999999999E-2,2.6800000000000001E-2,2.6200000000000001E-2,2.4799999999999999E-2,2.35E-2,2.2599999999999999E-2,2.1999999999999999E-2,2.1000000000000001E-2,1.9E-2,1.55E-2,1.0800000000000001E-2,5.7000000000000002E-3,1.4E-3,-8.0000000000000004E-4,-5.9999999999999995E-4,1.5E-3,4.5999999999999999E-3,8.0000000000000002E-3,1.14E-2,1.49E-2,1.8200000000000001E-2,2.0799999999999999E-2,2.1700000000000001E-2,2.01E-2,1.5900000000000001E-2,9.7999999999999997E-3,3.0999999999999999E-3,-2.8E-3,-6.8999999999999999E-3,-8.8000000000000005E-3,-8.5000000000000006E-3,-6.4999999999999997E-3,-3.5000000000000001E-3,-1E-4,2.7000000000000001E-3,3.8999999999999998E-3,2.8E-3,-8.0000000000000004E-4,-6.4999999999999997E-3,-1.37E-2,-2.1299999999999999E-2,-2.8299999999999999E-2,-3.39E-2,-3.1699999999999999E-2,-2.8199999999999999E-2,-2.3800000000000002E-2,-1.8800000000000001E-2,-1.3599999999999999E-2,-8.9999999999999993E-3,-4.5999999999999999E-3,-6.9999999999999999E-4,2.5000000000000001E-3,4.4999999999999997E-3,5.7999999999999996E-3,7.1000000000000004E-3,8.3999999999999995E-3,9.5999999999999992E-3,1.0699999999999999E-2,1.1599999999999999E-2,1.24E-2,1.2999999999999999E-2,1.34E-2,1.35E-2]
[26,7.3200000000000001E-2,6.4500000000000002E-2,5.5500000000000001E-2,4.6100000000000002E-2,3.6600000000000001E-2,2.75E-2,1.9599999999999999E-2,1.32E-2,8.2000000000000007E-3,4.4000000000000003E-3,1.8E-3,0,-8.9999999999999998E-4,-1.1999999999999999E-3,-1.1999999999999999E-3,-8.0000000000000004E-4,4.0000000000000002E-4,2.5999999999999999E-3,6.0000000000000001E-3,1.06E-2,1.6E-2,2.1299999999999999E-2,2.5600000000000001E-2,2.8299999999999999E-2,2.92E-2,2.8400000000000002E-2,2.6599999999999999E-2,2.47E-2,2.3099999999999999E-2,2.1600000000000001E-2,0.02,1.7399999999999999E-2,1.34E-2,8.2000000000000007E-3,2.8E-3,-1.6000000000000001E-3,-3.8E-3,-3.3999999999999998E-3,-8.9999999999999998E-4,2.5999999999999999E-3,6.4000000000000003E-3,1.0200000000000001E-2,1.4200000000000001E-2,1.8200000000000001E-2,2.1700000000000001E-2,2.3400000000000001E-2,2.2599999999999999E-2,1.8700000000000001E-2,1.2500000000000001E-2,5.4999999999999997E-3,-1E-3,-5.7000000000000002E-3,-8.3000000000000001E-3,-8.8999999999999999E-3,-7.7999999999999996E-3,-5.4999999999999997E-3,-2.7000000000000001E-3,-2.9999999999999997E-4,6.9999999999999999E-4,-2.0000000000000001E-4,-3.5999999999999999E-3,-9.1999999999999998E-3,-1.6299999999999999E-2,-2.3800000000000002E-2,-3.09E-2,-3.6799999999999999E-2,-3.4500000000000003E-2,-3.0700000000000002E-2,-2.5999999999999999E-2,-2.06E-2,-1.4999999999999999E-2,-9.4999999999999998E-3,-4.8999999999999998E-3,-8.0000000000000004E-4,2.3999999999999998E-3,4.4999999999999997E-3,5.7999999999999996E-3,7.1000000000000004E-3,8.3999999999999995E-3,9.5999999999999992E-3,1.0699999999999999E-2,1.1599999999999999E-2,1.24E-2,1.2999999999999999E-2,1.34E-2,1.35E-2]
[27,7.2499999999999995E-2,6.3799999999999996E-2,5.4800000000000001E-2,4.5400000000000003E-2,3.5700000000000003E-2,2.6499999999999999E-2,1.8599999999999998E-2,1.2200000000000001E-2,7.4000000000000003E-3,3.8999999999999998E-3,1.6000000000000001E-3,2.0000000000000001E-4,-4.0000000000000002E-4,-4.0000000000000002E-4,-1E-4,6.9999999999999999E-4,2.2000000000000001E-3,4.4999999999999997E-3,8.0999999999999996E-3,1.2800000000000001E-2,1.8200000000000001E-2,2.3599999999999999E-2,2.8000000000000001E-2,3.0800000000000001E-2,3.1699999999999999E-2,3.0800000000000001E-2,2.8799999999999999E-2,2.63E-2,2.3900000000000001E-2,2.1600000000000001E-2,1.9099999999999999E-2,1.5699999999999999E-2,1.11E-2,5.4000000000000003E-3,-2.9999999999999997E-4,-4.7999999999999996E-3,-6.8999999999999999E-3,-6.1999999999999998E-3,-3.3999999999999998E-3,5.0000000000000001E-4,4.5999999999999999E-3,8.8000000000000005E-3,1.32E-2,1.78E-2,2.2100000000000002E-2,2.47E-2,2.46E-2,2.1299999999999999E-2,1.5299999999999999E-2,8.2000000000000007E-3,1.4E-3,-3.8E-3,-7.1000000000000004E-3,-8.3999999999999995E-3,-8.0000000000000002E-3,-6.4999999999999997E-3,-4.3E-3,-2.3999999999999998E-3,-1.6999999999999999E-3,-2.7000000000000001E-3,-6.1000000000000004E-3,-1.1599999999999999E-2,-1.8599999999999998E-2,-2.6200000000000001E-2,-3.3500000000000002E-2,-3.95E-2,-3.7199999999999997E-2,-3.3300000000000003E-2,-2.8299999999999999E-2,-2.2499999999999999E-2,-1.6500000000000001E-2,-1.06E-2,-5.1999999999999998E-3,-1E-3,2.3999999999999998E-3,4.4999999999999997E-3,5.7999999999999996E-3,7.1000000000000004E-3,8.3999999999999995E-3,9.5999999999999992E-3,1.0699999999999999E-2,1.1599999999999999E-2,1.24E-2,1.2999999999999999E-2,1.34E-2,1.35E-2]
[28,7.1400000000000005E-2,6.2799999999999995E-2,5.3800000000000001E-2,4.4299999999999999E-2,3.4700000000000002E-2,2.5499999999999998E-2,1.7600000000000001E-2,1.14E-2,6.7999999999999996E-3,3.5999999999999999E-3,1.4E-3,1E-4,-2.9999999999999997E-4,-2.0000000000000001E-4,5.0000000000000001E-4,1.6000000000000001E-3,3.5000000000000001E-3,6.1999999999999998E-3,9.9000000000000008E-3,1.47E-2,2.0199999999999999E-2,2.5700000000000001E-2,3.0300000000000001E-2,3.3300000000000003E-2,3.4299999999999997E-2,3.3500000000000002E-2,3.1199999999999999E-2,2.8199999999999999E-2,2.5100000000000001E-2,2.1899999999999999E-2,1.84E-2,1.4200000000000001E-2,8.8000000000000005E-3,2.7000000000000001E-3,-3.3E-3,-7.7999999999999996E-3,-9.7000000000000003E-3,-8.8000000000000005E-3,-5.7999999999999996E-3,-1.8E-3,2.5999999999999999E-3,7.0000000000000001E-3,1.18E-2,1.6899999999999998E-2,2.1899999999999999E-2,2.5399999999999999E-2,2.6100000000000002E-2,2.3400000000000001E-2,1.7899999999999999E-2,1.09E-2,4.0000000000000001E-3,-1.5E-3,-5.1999999999999998E-3,-7.1000000000000004E-3,-7.4000000000000003E-3,-6.4999999999999997E-3,-5.0000000000000001E-3,-3.7000000000000002E-3,-3.3999999999999998E-3,-4.7000000000000002E-3,-8.0999999999999996E-3,-1.3599999999999999E-2,-2.06E-2,-2.8400000000000002E-2,-3.5799999999999998E-2,-4.2000000000000003E-2,-3.9800000000000002E-2,-3.5799999999999998E-2,-3.0499999999999999E-2,-2.4500000000000001E-2,-1.8100000000000002E-2,-1.18E-2,-6.0000000000000001E-3,-1.1000000000000001E-3,2.3E-3,4.4999999999999997E-3,5.7999999999999996E-3,7.1000000000000004E-3,8.3999999999999995E-3,9.5999999999999992E-3,1.0699999999999999E-2,1.1599999999999999E-2,1.24E-2,1.2999999999999999E-2,1.34E-2,1.35E-2]
[29,7.0099999999999996E-2,6.1400000000000003E-2,5.2499999999999998E-2,4.3099999999999999E-2,3.3500000000000002E-2,2.4500000000000001E-2,1.6799999999999999E-2,1.0800000000000001E-2,6.4000000000000003E-3,3.3E-3,1.1999999999999999E-3,-1E-4,-5.9999999999999995E-4,-4.0000000000000002E-4,5.0000000000000001E-4,2.0999999999999999E-3,4.4000000000000003E-3,7.4000000000000003E-3,1.15E-2,1.6500000000000001E-2,2.2100000000000002E-2,2.7699999999999999E-2,3.2500000000000001E-2,3.5700000000000003E-2,3.6999999999999998E-2,3.61E-2,3.3700000000000001E-2,3.0300000000000001E-2,2.6499999999999999E-2,2.2499999999999999E-2,1.8100000000000002E-2,1.2999999999999999E-2,6.8999999999999999E-3,2.9999999999999997E-4,-5.7999999999999996E-3,-1.03E-2,-1.2E-2,-1.11E-2,-8.0999999999999996E-3,-4.0000000000000001E-3,4.0000000000000002E-4,5.0000000000000001E-3,0.01,1.5599999999999999E-2,2.12E-2,2.5399999999999999E-2,2.6800000000000001E-2,2.4799999999999999E-2,1.9900000000000001E-2,1.3299999999999999E-2,6.7000000000000002E-3,1.1000000000000001E-3,-2.8999999999999998E-3,-5.1000000000000004E-3,-5.8999999999999999E-3,-5.5999999999999999E-3,-4.7000000000000002E-3,-4.1000000000000003E-3,-4.4000000000000003E-3,-6.1000000000000004E-3,-9.7999999999999997E-3,-1.5299999999999999E-2,-2.24E-2,-3.0200000000000001E-2,-3.78E-2,-4.41E-2,-4.2099999999999999E-2,-3.8100000000000002E-2,-3.27E-2,-2.64E-2,-1.9800000000000002E-2,-1.3100000000000001E-2,-7.0000000000000001E-3,-1.6999999999999999E-3,2.3E-3,4.4999999999999997E-3,5.7999999999999996E-3,7.1000000000000004E-3,8.3999999999999995E-3,9.5999999999999992E-3,1.0699999999999999E-2,1.1599999999999999E-2,1.24E-2,1.2999999999999999E-2,1.34E-2,1.35E-2]
[30,6.8400000000000002E-2,5.9799999999999999E-2,5.0999999999999997E-2,4.1799999999999997E-2,3.2399999999999998E-2,2.3599999999999999E-2,1.6199999999999999E-2,1.04E-2,6.1000000000000004E-3,3.0000000000000001E-3,8.0000000000000004E-4,-5.9999999999999995E-4,-1.1999999999999999E-3,-1E-3,1E-4,2.0999999999999999E-3,4.7999999999999996E-3,8.3000000000000001E-3,1.26E-2,1.7899999999999999E-2,2.3699999999999999E-2,2.9499999999999998E-2,3.4500000000000003E-2,3.7999999999999999E-2,3.9399999999999998E-2,3.8699999999999998E-2,3.6200000000000003E-2,3.2500000000000001E-2,2.8199999999999999E-2,2.3400000000000001E-2,1.8200000000000001E-2,1.23E-2,5.5999999999999999E-3,-1.5E-3,-7.7000000000000002E-3,-1.21E-2,-1.38E-2,-1.29E-2,-1.01E-2,-6.1999999999999998E-3,-1.8E-3,2.8E-3,8.0000000000000002E-3,1.38E-2,1.9800000000000002E-2,2.46E-2,2.6700000000000002E-2,2.5399999999999999E-2,2.1299999999999999E-2,1.5299999999999999E-2,9.1000000000000004E-3,3.8E-3,-2.0000000000000001E-4,-2.5999999999999999E-3,-3.7000000000000002E-3,-3.8E-3,-3.5999999999999999E-3,-3.5999999999999999E-3,-4.5999999999999999E-3,-6.8999999999999999E-3,-1.09E-2,-1.6500000000000001E-2,-2.3699999999999999E-2,-3.1699999999999999E-2,-3.9399999999999998E-2,-4.5699999999999998E-2,-4.3900000000000002E-2,-0.04,-3.4599999999999999E-2,-2.8199999999999999E-2,-2.1299999999999999E-2,-1.44E-2,-8.0000000000000002E-3,-2.5000000000000001E-3,1.8E-3,4.4999999999999997E-3,5.7999999999999996E-3,7.1000000000000004E-3,8.3999999999999995E-3,9.5999999999999992E-3,1.0699999999999999E-2,1.1599999999999999E-2,1.24E-2,1.2999999999999999E-2,1.34E-2,1.35E-2]
[31,6.6500000000000004E-2,5.8099999999999999E-2,4.9399999999999999E-2,4.0500000000000001E-2,3.1399999999999997E-2,2.3E-2,1.5699999999999999E-2,1.01E-2,5.8999999999999999E-3,2.8E-3,4.0000000000000002E-4,-1.1999999999999999E-3,-2E-3,-1.9E-3,-5.9999999999999995E-4,1.6999999999999999E-3,4.7999999999999996E-3,8.6E-3,1.34E-2,1.89E-2,2.4899999999999999E-2,3.09E-2,3.6200000000000003E-2,0.04,4.1599999999999998E-2,4.1099999999999998E-2,3.8600000000000002E-2,3.4700000000000002E-2,2.9899999999999999E-2,2.46E-2,1.8700000000000001E-2,1.2200000000000001E-2,5.0000000000000001E-3,-2.3999999999999998E-3,-8.6999999999999994E-3,-1.3100000000000001E-2,-1.49E-2,-1.4200000000000001E-2,-1.18E-2,-8.2000000000000007E-3,-4.1000000000000003E-3,5.0000000000000001E-4,5.7000000000000002E-3,1.17E-2,1.7899999999999999E-2,2.3099999999999999E-2,2.58E-2,2.52E-2,2.1700000000000001E-2,1.66E-2,1.0999999999999999E-2,6.1999999999999998E-3,2.5999999999999999E-3,2.9999999999999997E-4,-8.9999999999999998E-4,-1.4E-3,-1.6999999999999999E-3,-2.3999999999999998E-3,-4.1000000000000003E-3,-7.0000000000000001E-3,-1.14E-2,-1.7299999999999999E-2,-2.4500000000000001E-2,-3.2599999999999997E-2,-4.0399999999999998E-2,-4.6699999999999998E-2,-4.5100000000000001E-2,-4.1500000000000002E-2,-3.6200000000000003E-2,-2.9700000000000001E-2,-2.2700000000000001E-2,-1.5699999999999999E-2,-8.9999999999999993E-3,-3.3E-3,1.1999999999999999E-3,4.1000000000000003E-3,5.7999999999999996E-3,7.1000000000000004E-3,8.3999999999999995E-3,9.5999999999999992E-3,1.0699999999999999E-2,1.1599999999999999E-2,1.24E-2,1.2999999999999999E-2,1.34E-2,1.35E-2]
[32,6.4299999999999996E-2,5.62E-2,4.7899999999999998E-2,3.9300000000000002E-2,3.0599999999999999E-2,2.2499999999999999E-2,1.55E-2,1.01E-2,5.7999999999999996E-3,2.5000000000000001E-3,-1E-4,-1.9E-3,-2.8999999999999998E-3,-2.8E-3,-1.4E-3,1E-3,4.4000000000000003E-3,8.6E-3,1.37E-2,1.95E-2,2.58E-2,3.2099999999999997E-2,3.7600000000000001E-2,4.1599999999999998E-2,4.3499999999999997E-2,4.2999999999999997E-2,4.0599999999999997E-2,3.6600000000000001E-2,3.1600000000000003E-2,2.5899999999999999E-2,1.9699999999999999E-2,1.2699999999999999E-2,5.1999999999999998E-3,-2.3E-3,-8.6999999999999994E-3,-1.32E-2,-1.52E-2,-1.49E-2,-1.2999999999999999E-2,-9.9000000000000008E-3,-6.1999999999999998E-3,-1.9E-3,3.0999999999999999E-3,9.1999999999999998E-3,1.5599999999999999E-2,2.1000000000000001E-2,2.41E-2,2.4E-2,2.1299999999999999E-2,1.7000000000000001E-2,1.23E-2,8.3000000000000001E-3,5.3E-3,3.3E-3,2.2000000000000001E-3,1.6000000000000001E-3,8.9999999999999998E-4,-5.0000000000000001E-4,-2.8999999999999998E-3,-6.4999999999999997E-3,-1.1299999999999999E-2,-1.7500000000000002E-2,-2.4899999999999999E-2,-3.3000000000000002E-2,-4.0599999999999997E-2,-4.6800000000000001E-2,-4.5699999999999998E-2,-4.2299999999999997E-2,-3.7199999999999997E-2,-3.09E-2,-2.3900000000000001E-2,-1.6799999999999999E-2,-0.01,-4.1000000000000003E-3,5.9999999999999995E-4,3.5999999999999999E-3,5.4999999999999997E-3,7.1000000000000004E-3,8.3999999999999995E-3,9.5999999999999992E-3,1.0699999999999999E-2,1.1599999999999999E-2,1.24E-2,1.2999999999999999E-2,1.34E-2,1.35E-2]
[33,6.2E-2,5.4300000000000001E-2,4.6399999999999997E-2,3.8300000000000001E-2,3.0099999999999998E-2,2.23E-2,1.5599999999999999E-2,1.01E-2,5.7999999999999996E-3,2.2000000000000001E-3,-5.9999999999999995E-4,-2.7000000000000001E-3,-3.8E-3,-3.7000000000000002E-3,-2.3E-3,2.0000000000000001E-4,3.7000000000000002E-3,8.0999999999999996E-3,1.35E-2,1.9699999999999999E-2,2.63E-2,3.2800000000000003E-2,3.8600000000000002E-2,4.2799999999999998E-2,4.48E-2,4.4499999999999998E-2,4.2200000000000001E-2,3.8199999999999998E-2,3.32E-2,2.7400000000000001E-2,2.1000000000000001E-2,1.3899999999999999E-2,6.3E-3,-1.1999999999999999E-3,-7.7000000000000002E-3,-1.23E-2,-1.47E-2,-1.49E-2,-1.3599999999999999E-2,-1.12E-2,-8.0999999999999996E-3,-4.3E-3,5.9999999999999995E-4,6.4999999999999997E-3,1.29E-2,1.84E-2,2.1700000000000001E-2,2.1999999999999999E-2,0.02,1.6500000000000001E-2,1.29E-2,9.9000000000000008E-3,7.7000000000000002E-3,6.4000000000000003E-3,5.4999999999999997E-3,4.8999999999999998E-3,3.8E-3,1.9E-3,-1.1000000000000001E-3,-5.3E-3,-1.06E-2,-1.7100000000000001E-2,-2.47E-2,-3.27E-2,-4.0099999999999997E-2,-4.6100000000000002E-2,-4.5400000000000003E-2,-4.24E-2,-3.7699999999999997E-2,-3.1600000000000003E-2,-2.4799999999999999E-2,-1.78E-2,-1.0999999999999999E-2,-5.0000000000000001E-3,-2.0000000000000001E-4,3.0000000000000001E-3,5.1000000000000004E-3,6.8999999999999999E-3,8.3999999999999995E-3,9.5999999999999992E-3,1.0699999999999999E-2,1.1599999999999999E-2,1.24E-2,1.2999999999999999E-2,1.34E-2,1.35E-2]
[34,5.96E-2,5.2400000000000002E-2,4.5100000000000001E-2,3.7499999999999999E-2,2.98E-2,2.24E-2,1.5800000000000002E-2,1.04E-2,5.7999999999999996E-3,2E-3,-1.1000000000000001E-3,-3.3999999999999998E-3,-4.5999999999999999E-3,-4.4999999999999997E-3,-3.2000000000000002E-3,-6.9999999999999999E-4,2.8E-3,7.4000000000000003E-3,1.2999999999999999E-2,1.95E-2,2.64E-2,3.3099999999999997E-2,3.9100000000000003E-2,4.3499999999999997E-2,4.5699999999999998E-2,4.5600000000000002E-2,4.3299999999999998E-2,3.95E-2,3.4599999999999999E-2,2.8899999999999999E-2,2.2599999999999999E-2,1.5599999999999999E-2,8.0999999999999996E-3,6.9999999999999999E-4,-5.7999999999999996E-3,-1.06E-2,-1.34E-2,-1.4200000000000001E-2,-1.37E-2,-1.21E-2,-9.7000000000000003E-3,-6.4000000000000003E-3,-2E-3,3.7000000000000002E-3,0.01,1.55E-2,1.8800000000000001E-2,1.9400000000000001E-2,1.78E-2,1.52E-2,1.26E-2,1.0699999999999999E-2,9.5999999999999992E-3,9.1000000000000004E-3,8.6999999999999994E-3,8.2000000000000007E-3,7.0000000000000001E-3,4.7999999999999996E-3,1.2999999999999999E-3,-3.3999999999999998E-3,-9.2999999999999992E-3,-1.6199999999999999E-2,-2.3900000000000001E-2,-3.1699999999999999E-2,-3.8899999999999997E-2,-4.4499999999999998E-2,-4.4299999999999999E-2,-4.1799999999999997E-2,-3.7499999999999999E-2,-3.1800000000000002E-2,-2.53E-2,-1.8499999999999999E-2,-1.18E-2,-5.7999999999999996E-3,-8.9999999999999998E-4,2.3E-3,4.5999999999999999E-3,6.4999999999999997E-3,8.2000000000000007E-3,9.5999999999999992E-3,1.0699999999999999E-2,1.1599999999999999E-2,1.24E-2,1.2999999999999999E-2,1.34E-2,1.35E-2]
[35,5.7200000000000001E-2,5.0599999999999999E-2,4.3900000000000002E-2,3.6900000000000002E-2,2.9600000000000001E-2,2.2599999999999999E-2,1.6199999999999999E-2,1.0699999999999999E-2,5.8999999999999999E-3,1.8E-3,-1.5E-3,-3.8999999999999998E-3,-5.1999999999999998E-3,-5.1999999999999998E-3,-4.0000000000000001E-3,-1.6000000000000001E-3,1.8E-3,6.4000000000000003E-3,1.2200000000000001E-2,1.89E-2,2.5999999999999999E-2,3.3000000000000002E-2,3.9100000000000003E-2,4.3700000000000003E-2,4.5999999999999999E-2,4.6100000000000002E-2,4.41E-2,4.0500000000000001E-2,3.5799999999999998E-2,3.04E-2,2.4299999999999999E-2,1.77E-2,1.0500000000000001E-2,3.3E-3,-3.0999999999999999E-3,-8.0999999999999996E-3,-1.14E-2,-1.2800000000000001E-2,-1.2999999999999999E-2,-1.23E-2,-1.0800000000000001E-2,-8.2000000000000007E-3,-4.1999999999999997E-3,1E-3,7.0000000000000001E-3,1.2200000000000001E-2,1.54E-2,1.61E-2,1.4999999999999999E-2,1.32E-2,1.1599999999999999E-2,1.0800000000000001E-2,1.09E-2,1.1299999999999999E-2,1.1599999999999999E-2,1.14E-2,1.03E-2,7.9000000000000008E-3,4.1000000000000003E-3,-1.1000000000000001E-3,-7.4000000000000003E-3,-1.46E-2,-2.24E-2,-0.03,-3.6799999999999999E-2,-4.2200000000000001E-2,-4.24E-2,-4.0399999999999998E-2,-3.6600000000000001E-2,-3.15E-2,-2.5399999999999999E-2,-1.89E-2,-1.2500000000000001E-2,-6.6E-3,-1.6999999999999999E-3,1.6000000000000001E-3,4.0000000000000001E-3,6.1000000000000004E-3,7.9000000000000008E-3,9.4000000000000004E-3,1.0699999999999999E-2,1.1599999999999999E-2,1.24E-2,1.2999999999999999E-2,1.34E-2,1.35E-2]
[36,5.4800000000000001E-2,4.8899999999999999E-2,4.2799999999999998E-2,3.6299999999999999E-2,2.9600000000000001E-2,2.29E-2,1.67E-2,1.11E-2,6.1999999999999998E-3,1.8E-3,-1.6999999999999999E-3,-4.3E-3,-5.5999999999999999E-3,-5.7000000000000002E-3,-4.5999999999999999E-3,-2.5000000000000001E-3,6.9999999999999999E-4,5.3E-3,1.11E-2,1.7999999999999999E-2,2.53E-2,3.2399999999999998E-2,3.8699999999999998E-2,4.3299999999999998E-2,4.58E-2,4.6100000000000002E-2,4.4299999999999999E-2,4.1099999999999998E-2,3.6799999999999999E-2,3.1699999999999999E-2,2.6100000000000002E-2,1.9900000000000001E-2,1.3100000000000001E-2,6.3E-3,0,-5.0000000000000001E-3,-8.6999999999999994E-3,-1.0699999999999999E-2,-1.1599999999999999E-2,-1.1900000000000001E-2,-1.12E-2,-9.4000000000000004E-3,-6.1000000000000004E-3,-1.4E-3,4.0000000000000001E-3,8.8000000000000005E-3,1.18E-2,1.2500000000000001E-2,1.18E-2,1.06E-2,9.7999999999999997E-3,1.0200000000000001E-2,1.14E-2,1.2800000000000001E-2,1.38E-2,1.4200000000000001E-2,1.34E-2,1.11E-2,7.1000000000000004E-3,1.6999999999999999E-3,-4.8999999999999998E-3,-1.24E-2,-2.0199999999999999E-2,-2.7699999999999999E-2,-3.4099999999999998E-2,-3.9100000000000003E-2,-3.9699999999999999E-2,-3.8300000000000001E-2,-3.5099999999999999E-2,-3.0599999999999999E-2,-2.5000000000000001E-2,-1.9E-2,-1.29E-2,-7.1999999999999998E-3,-2.5000000000000001E-3,8.9999999999999998E-4,3.3999999999999998E-3,5.5999999999999999E-3,7.6E-3,9.1999999999999998E-3,1.06E-2,1.1599999999999999E-2,1.24E-2,1.2999999999999999E-2,1.34E-2,1.35E-2]
[37,5.2600000000000001E-2,4.7300000000000002E-2,4.1799999999999997E-2,3.5900000000000001E-2,2.9600000000000001E-2,2.3300000000000001E-2,1.72E-2,1.1599999999999999E-2,6.4999999999999997E-3,1.9E-3,-1.8E-3,-4.4000000000000003E-3,-5.7999999999999996E-3,-6.0000000000000001E-3,-5.1000000000000004E-3,-3.2000000000000002E-3,-2.0000000000000001E-4,4.1999999999999997E-3,0.01,1.6899999999999998E-2,2.4299999999999999E-2,3.15E-2,3.78E-2,4.2500000000000003E-2,4.5199999999999997E-2,4.5699999999999998E-2,4.4299999999999999E-2,4.1399999999999999E-2,3.7499999999999999E-2,3.3000000000000002E-2,2.7799999999999998E-2,2.1999999999999999E-2,1.5699999999999999E-2,9.2999999999999992E-3,3.3999999999999998E-3,-1.6000000000000001E-3,-5.4999999999999997E-3,-8.0000000000000002E-3,-9.5999999999999992E-3,-1.0699999999999999E-2,-1.09E-2,-0.01,-7.4999999999999997E-3,-3.5000000000000001E-3,1.1999999999999999E-3,5.4999999999999997E-3,8.0999999999999996E-3,8.8000000000000005E-3,8.3000000000000001E-3,7.4999999999999997E-3,7.4999999999999997E-3,8.8000000000000005E-3,1.11E-2,1.35E-2,1.54E-2,1.6299999999999999E-2,1.6E-2,1.4E-2,1.01E-2,4.7000000000000002E-3,-2E-3,-9.5999999999999992E-3,-1.7399999999999999E-2,-2.46E-2,-3.0700000000000002E-2,-3.5400000000000001E-2,-3.6400000000000002E-2,-3.5499999999999997E-2,-3.2899999999999999E-2,-2.9000000000000001E-2,-2.4199999999999999E-2,-1.8700000000000001E-2,-1.3100000000000001E-2,-7.7000000000000002E-3,-3.0999999999999999E-3,2.0000000000000001E-4,2.8E-3,5.1000000000000004E-3,7.1999999999999998E-3,8.9999999999999993E-3,1.04E-2,1.15E-2,1.24E-2,1.2999999999999999E-2,1.34E-2,1.35E-2]
[38,5.0599999999999999E-2,4.58E-2,4.0800000000000003E-2,3.5400000000000001E-2,2.9499999999999998E-2,2.35E-2,1.7600000000000001E-2,1.2E-2,6.7999999999999996E-3,2.2000000000000001E-3,-1.6000000000000001E-3,-4.3E-3,-5.7999999999999996E-3,-6.1999999999999998E-3,-5.4999999999999997E-3,-3.8E-3,-1E-3,3.2000000000000002E-3,8.8999999999999999E-3,1.5699999999999999E-2,2.3099999999999999E-2,3.0200000000000001E-2,3.6499999999999998E-2,4.1300000000000003E-2,4.41E-2,4.4900000000000002E-2,4.3799999999999999E-2,4.1399999999999999E-2,3.7999999999999999E-2,3.39E-2,2.92E-2,2.4E-2,1.8200000000000001E-2,1.23E-2,6.7999999999999996E-3,2E-3,-1.9E-3,-4.8999999999999998E-3,-7.1000000000000004E-3,-8.8999999999999999E-3,-9.9000000000000008E-3,-9.9000000000000008E-3,-8.2000000000000007E-3,-5.1000000000000004E-3,-1.1999999999999999E-3,2.5000000000000001E-3,4.7000000000000002E-3,5.1999999999999998E-3,4.7000000000000002E-3,4.3E-3,4.8999999999999998E-3,6.8999999999999999E-3,0.01,1.3299999999999999E-2,1.61E-2,1.78E-2,1.8100000000000002E-2,1.6500000000000001E-2,1.2999999999999999E-2,7.7000000000000002E-3,1E-3,-6.4999999999999997E-3,-1.41E-2,-2.1100000000000001E-2,-2.6800000000000001E-2,-3.1199999999999999E-2,-3.2500000000000001E-2,-3.2099999999999997E-2,-3.0200000000000001E-2,-2.7E-2,-2.2800000000000001E-2,-1.7999999999999999E-2,-1.29E-2,-8.0000000000000002E-3,-3.7000000000000002E-3,-4.0000000000000002E-4,2.2000000000000001E-3,4.7000000000000002E-3,6.7999999999999996E-3,8.6999999999999994E-3,1.0200000000000001E-2,1.14E-2,1.24E-2,1.2999999999999999E-2,1.34E-2,1.35E-2]
[39,4.8899999999999999E-2,4.4400000000000002E-2,3.9800000000000002E-2,3.4799999999999998E-2,2.93E-2,2.3599999999999999E-2,1.7899999999999999E-2,1.24E-2,7.1999999999999998E-3,2.5999999999999999E-3,-1.1999999999999999E-3,-4.0000000000000001E-3,-5.7000000000000002E-3,-6.1999999999999998E-3,-5.7999999999999996E-3,-4.3E-3,-1.6000000000000001E-3,2.3999999999999998E-3,7.9000000000000008E-3,1.4500000000000001E-2,2.1700000000000001E-2,2.8799999999999999E-2,3.5000000000000003E-2,3.9800000000000002E-2,4.2799999999999998E-2,4.3799999999999999E-2,4.3200000000000002E-2,4.1200000000000001E-2,3.8300000000000001E-2,3.4599999999999999E-2,3.04E-2,2.5600000000000001E-2,2.0299999999999999E-2,1.4999999999999999E-2,0.01,5.4999999999999997E-3,1.6999999999999999E-3,-1.5E-3,-4.1999999999999997E-3,-6.4999999999999997E-3,-8.3000000000000001E-3,-8.9999999999999993E-3,-8.3000000000000001E-3,-6.1000000000000004E-3,-3.0000000000000001E-3,-1E-4,1.6000000000000001E-3,1.8E-3,1.2999999999999999E-3,1E-3,1.9E-3,4.4000000000000003E-3,8.2000000000000007E-3,1.23E-2,1.5900000000000001E-2,1.8499999999999999E-2,1.95E-2,1.8499999999999999E-2,1.55E-2,1.06E-2,4.1999999999999997E-3,-3.0999999999999999E-3,-1.0500000000000001E-2,-1.72E-2,-2.2599999999999999E-2,-2.6700000000000002E-2,-2.8199999999999999E-2,-2.8299999999999999E-2,-2.7E-2,-2.4500000000000001E-2,-2.1000000000000001E-2,-1.6899999999999998E-2,-1.2500000000000001E-2,-8.0999999999999996E-3,-4.1000000000000003E-3,-8.9999999999999998E-4,1.6999999999999999E-3,4.1999999999999997E-3,6.4000000000000003E-3,8.3999999999999995E-3,0.01,1.1299999999999999E-2,1.23E-2,1.2999999999999999E-2,1.34E-2,1.35E-2]
[40,4.7500000000000001E-2,4.3299999999999998E-2,3.8899999999999997E-2,3.4099999999999998E-2,2.9000000000000001E-2,2.35E-2,1.7999999999999999E-2,1.26E-2,7.6E-3,3.0000000000000001E-3,-8.0000000000000004E-4,-3.5999999999999999E-3,-5.4000000000000003E-3,-6.1999999999999998E-3,-5.8999999999999999E-3,-4.4999999999999997E-3,-2.0999999999999999E-3,1.8E-3,7.0000000000000001E-3,1.34E-2,2.0400000000000001E-2,2.7199999999999998E-2,3.3399999999999999E-2,3.8199999999999998E-2,4.1300000000000003E-2,4.2599999999999999E-2,4.2200000000000001E-2,4.07E-2,3.8199999999999998E-2,3.49E-2,3.1099999999999999E-2,2.6700000000000002E-2,2.1999999999999999E-2,1.7299999999999999E-2,1.2800000000000001E-2,8.6999999999999994E-3,5.1000000000000004E-3,1.8E-3,-1.1000000000000001E-3,-3.8E-3,-6.1999999999999998E-3,-7.6E-3,-7.6E-3,-6.3E-3,-4.1000000000000003E-3,-2E-3,-8.9999999999999998E-4,-1E-3,-1.8E-3,-2.0999999999999999E-3,-1.1000000000000001E-3,1.6999999999999999E-3,5.8999999999999999E-3,1.06E-2,1.4999999999999999E-2,1.83E-2,2.01E-2,1.9800000000000002E-2,1.7500000000000002E-2,1.32E-2,7.1999999999999998E-3,2.9999999999999997E-4,-6.7000000000000002E-3,-1.2999999999999999E-2,-1.8100000000000002E-2,-2.1899999999999999E-2,-2.3599999999999999E-2,-2.41E-2,-2.3300000000000001E-2,-2.1499999999999998E-2,-1.8800000000000001E-2,-1.55E-2,-1.17E-2,-7.9000000000000008E-3,-4.3E-3,-1.2999999999999999E-3,1.1999999999999999E-3,3.7000000000000002E-3,6.0000000000000001E-3,8.0999999999999996E-3,9.7999999999999997E-3,1.12E-2,1.2200000000000001E-2,1.29E-2,1.34E-2,1.35E-2]
[41,4.6399999999999997E-2,4.2200000000000001E-2,3.7999999999999999E-2,3.3399999999999999E-2,2.8500000000000001E-2,2.3199999999999998E-2,1.7899999999999999E-2,1.2699999999999999E-2,7.7999999999999996E-3,3.3999999999999998E-3,-2.9999999999999997E-4,-3.2000000000000002E-3,-5.1000000000000004E-3,-6.0000000000000001E-3,-5.7999999999999996E-3,-4.5999999999999999E-3,-2.3E-3,1.4E-3,6.4000000000000003E-3,1.2500000000000001E-2,1.9099999999999999E-2,2.5700000000000001E-2,3.1699999999999999E-2,3.6499999999999998E-2,3.9699999999999999E-2,4.1200000000000001E-2,4.1099999999999998E-2,3.9899999999999998E-2,3.7699999999999997E-2,3.4799999999999998E-2,3.1300000000000001E-2,2.7400000000000001E-2,2.3199999999999998E-2,1.9099999999999999E-2,1.5100000000000001E-2,1.15E-2,8.2000000000000007E-3,5.0000000000000001E-3,1.9E-3,-1E-3,-3.7000000000000002E-3,-5.5999999999999999E-3,-6.1999999999999998E-3,-5.7000000000000002E-3,-4.3E-3,-3.0000000000000001E-3,-2.5999999999999999E-3,-3.2000000000000002E-3,-4.3E-3,-4.8999999999999998E-3,-4.0000000000000001E-3,-1.1000000000000001E-3,3.3E-3,8.3999999999999995E-3,1.3299999999999999E-2,1.7299999999999999E-2,1.9800000000000002E-2,2.0299999999999999E-2,1.8800000000000001E-2,1.52E-2,9.7999999999999997E-3,3.5000000000000001E-3,-3.0000000000000001E-3,-8.8000000000000005E-3,-1.35E-2,-1.7000000000000001E-2,-1.89E-2,-1.9699999999999999E-2,-1.95E-2,-1.83E-2,-1.6299999999999999E-2,-1.37E-2,-1.06E-2,-7.4000000000000003E-3,-4.3E-3,-1.5E-3,8.9999999999999998E-4,3.3999999999999998E-3,5.7000000000000002E-3,7.7999999999999996E-3,9.5999999999999992E-3,1.0999999999999999E-2,1.21E-2,1.29E-2,1.34E-2,1.35E-2]
[42,4.5499999999999999E-2,4.1399999999999999E-2,3.7100000000000001E-2,3.2599999999999997E-2,2.7799999999999998E-2,2.2700000000000001E-2,1.7600000000000001E-2,1.2699999999999999E-2,8.0000000000000002E-3,3.7000000000000002E-3,1E-4,-2.7000000000000001E-3,-4.7000000000000002E-3,-5.7000000000000002E-3,-5.7000000000000002E-3,-4.4999999999999997E-3,-2.3E-3,1.1999999999999999E-3,6.0000000000000001E-3,1.17E-2,1.8100000000000002E-2,2.4400000000000002E-2,3.0200000000000001E-2,3.4799999999999998E-2,3.8100000000000002E-2,3.9699999999999999E-2,3.9800000000000002E-2,3.8800000000000001E-2,3.6900000000000002E-2,3.4299999999999997E-2,3.1099999999999999E-2,2.76E-2,2.4E-2,2.0299999999999999E-2,1.6899999999999998E-2,1.38E-2,1.0800000000000001E-2,7.7000000000000002E-3,4.7000000000000002E-3,1.8E-3,-1E-3,-3.2000000000000002E-3,-4.3E-3,-4.3E-3,-3.7000000000000002E-3,-3.2000000000000002E-3,-3.3999999999999998E-3,-4.5999999999999999E-3,-6.1999999999999998E-3,-7.1999999999999998E-3,-6.4999999999999997E-3,-3.8999999999999998E-3,5.0000000000000001E-4,5.7999999999999996E-3,1.11E-2,1.5599999999999999E-2,1.8800000000000001E-2,0.02,1.9199999999999998E-2,1.6400000000000001E-2,1.1900000000000001E-2,6.3E-3,5.0000000000000001E-4,-4.7999999999999996E-3,-9.1000000000000004E-3,-1.23E-2,-1.4200000000000001E-2,-1.52E-2,-1.55E-2,-1.49E-2,-1.3599999999999999E-2,-1.17E-2,-9.2999999999999992E-3,-6.6E-3,-4.0000000000000001E-3,-1.6000000000000001E-3,6.9999999999999999E-4,3.0999999999999999E-3,5.4000000000000003E-3,7.4999999999999997E-3,9.4000000000000004E-3,1.09E-2,1.21E-2,1.29E-2,1.3299999999999999E-2,1.35E-2]
[43,4.4699999999999997E-2,4.0500000000000001E-2,3.6200000000000003E-2,3.1800000000000002E-2,2.7E-2,2.2100000000000002E-2,1.72E-2,1.2500000000000001E-2,8.0999999999999996E-3,4.0000000000000001E-3,5.0000000000000001E-4,-2.3E-3,-4.3E-3,-5.4000000000000003E-3,-5.4000000000000003E-3,-4.3E-3,-2.0999999999999999E-3,1.2999999999999999E-3,5.7999999999999996E-3,1.1299999999999999E-2,1.72E-2,2.3199999999999998E-2,2.8799999999999999E-2,3.3300000000000003E-2,3.6499999999999998E-2,3.8100000000000002E-2,3.8399999999999997E-2,3.7499999999999999E-2,3.5700000000000003E-2,3.3300000000000003E-2,3.0499999999999999E-2,2.7400000000000001E-2,2.4199999999999999E-2,2.1100000000000001E-2,1.8200000000000001E-2,1.54E-2,1.2800000000000001E-2,0.01,7.1999999999999998E-3,4.4000000000000003E-3,1.6999999999999999E-3,-5.0000000000000001E-4,-1.8E-3,-2.2000000000000001E-3,-2.2000000000000001E-3,-2.3999999999999998E-3,-3.3999999999999998E-3,-5.1999999999999998E-3,-7.4000000000000003E-3,-8.8000000000000005E-3,-8.6E-3,-6.4000000000000003E-3,-2.2000000000000001E-3,3.0999999999999999E-3,8.5000000000000006E-3,1.34E-2,1.7000000000000001E-2,1.89E-2,1.89E-2,1.7000000000000001E-2,1.3299999999999999E-2,8.6E-3,3.5000000000000001E-3,-1.1999999999999999E-3,-4.8999999999999998E-3,-7.7000000000000002E-3,-9.5999999999999992E-3,-1.09E-2,-1.14E-2,-1.14E-2,-1.0699999999999999E-2,-9.4000000000000004E-3,-7.7000000000000002E-3,-5.5999999999999999E-3,-3.5000000000000001E-3,-1.4E-3,6.9999999999999999E-4,2.8999999999999998E-3,5.1999999999999998E-3,7.3000000000000001E-3,9.1999999999999998E-3,1.0699999999999999E-2,1.2E-2,1.2800000000000001E-2,1.3299999999999999E-2,1.35E-2]
[44,4.3900000000000002E-2,3.9699999999999999E-2,3.5400000000000001E-2,3.09E-2,2.6200000000000001E-2,2.1499999999999998E-2,1.6799999999999999E-2,1.23E-2,8.0999999999999996E-3,4.1999999999999997E-3,8.0000000000000004E-4,-2E-3,-4.0000000000000001E-3,-5.0000000000000001E-3,-5.0000000000000001E-3,-3.8999999999999998E-3,-1.6999999999999999E-3,1.6000000000000001E-3,5.8999999999999999E-3,1.11E-2,1.67E-2,2.23E-2,2.75E-2,3.1899999999999998E-2,3.49E-2,3.6499999999999998E-2,3.6799999999999999E-2,3.5900000000000001E-2,3.4299999999999997E-2,3.2000000000000001E-2,2.9499999999999998E-2,2.6800000000000001E-2,2.41E-2,2.1399999999999999E-2,1.89E-2,1.6500000000000001E-2,1.4200000000000001E-2,1.17E-2,9.1999999999999998E-3,6.7000000000000002E-3,4.3E-3,2.3E-3,8.9999999999999998E-4,2.9999999999999997E-4,-1E-4,-8.9999999999999998E-4,-2.5000000000000001E-3,-4.8999999999999998E-3,-7.7000000000000002E-3,-9.7000000000000003E-3,-1.01E-2,-8.3000000000000001E-3,-4.5999999999999999E-3,4.0000000000000002E-4,5.7999999999999996E-3,1.0699999999999999E-2,1.47E-2,1.7100000000000001E-2,1.78E-2,1.67E-2,1.4E-2,1.0200000000000001E-2,5.8999999999999999E-3,2E-3,-1.2999999999999999E-3,-3.5999999999999999E-3,-5.4000000000000003E-3,-6.7000000000000002E-3,-7.6E-3,-7.9000000000000008E-3,-7.7000000000000002E-3,-7.1000000000000004E-3,-5.8999999999999999E-3,-4.4000000000000003E-3,-2.7000000000000001E-3,-1E-3,8.0000000000000004E-4,2.8999999999999998E-3,5.0000000000000001E-3,7.1000000000000004E-3,8.9999999999999993E-3,1.06E-2,1.1900000000000001E-2,1.2800000000000001E-2,1.3299999999999999E-2,1.35E-2]
[45,4.2900000000000001E-2,3.8699999999999998E-2,3.4500000000000003E-2,3.0099999999999998E-2,2.5499999999999998E-2,2.0899999999999998E-2,1.6400000000000001E-2,1.21E-2,8.0999999999999996E-3,4.3E-3,1E-3,-1.6999999999999999E-3,-3.5999999999999999E-3,-4.5999999999999999E-3,-4.4999999999999997E-3,-3.3999999999999998E-3,-1.1999999999999999E-3,2.0999999999999999E-3,6.3E-3,1.11E-2,1.6299999999999999E-2,2.1600000000000001E-2,2.6499999999999999E-2,3.0599999999999999E-2,3.3399999999999999E-2,3.49E-2,3.5000000000000003E-2,3.4200000000000001E-2,3.2599999999999997E-2,3.04E-2,2.8199999999999999E-2,2.58E-2,2.35E-2,2.12E-2,1.9E-2,1.7000000000000001E-2,1.4999999999999999E-2,1.2999999999999999E-2,1.09E-2,8.6999999999999994E-3,6.7000000000000002E-3,5.0000000000000001E-3,3.7000000000000002E-3,3.0000000000000001E-3,2.3999999999999998E-3,1.1999999999999999E-3,-8.9999999999999998E-4,-3.8999999999999998E-3,-7.1999999999999998E-3,-9.7999999999999997E-3,-1.0800000000000001E-2,-9.5999999999999992E-3,-6.4999999999999997E-3,-2E-3,3.0999999999999999E-3,7.9000000000000008E-3,1.1900000000000001E-2,1.47E-2,1.6E-2,1.5699999999999999E-2,1.38E-2,1.09E-2,7.6E-3,4.4000000000000003E-3,1.8E-3,-1E-4,-1.6000000000000001E-3,-2.8999999999999998E-3,-3.8999999999999998E-3,-4.5999999999999999E-3,-4.7999999999999996E-3,-4.5999999999999999E-3,-4.0000000000000001E-3,-3.0999999999999999E-3,-1.8E-3,-4.0000000000000002E-4,1.1999999999999999E-3,3.0000000000000001E-3,5.0000000000000001E-3,7.0000000000000001E-3,8.8999999999999999E-3,1.0500000000000001E-2,1.18E-2,1.2800000000000001E-2,1.3299999999999999E-2,1.35E-2]
[46,4.1500000000000002E-2,3.7600000000000001E-2,3.3599999999999998E-2,2.9399999999999999E-2,2.5000000000000001E-2,2.0500000000000001E-2,1.6199999999999999E-2,1.21E-2,8.0999999999999996E-3,4.4999999999999997E-3,1.1999999999999999E-3,-1.4E-3,-3.3E-3,-4.1000000000000003E-3,-4.0000000000000001E-3,-2.8E-3,-5.0000000000000001E-4,2.7000000000000001E-3,6.7000000000000002E-3,1.1299999999999999E-2,1.6199999999999999E-2,2.1100000000000001E-2,2.5700000000000001E-2,2.9399999999999999E-2,3.2000000000000001E-2,3.32E-2,3.32E-2,3.2300000000000002E-2,3.0700000000000002E-2,2.87E-2,2.6599999999999999E-2,2.46E-2,2.2499999999999999E-2,2.0500000000000001E-2,1.8599999999999998E-2,1.6899999999999998E-2,1.5299999999999999E-2,1.38E-2,1.21E-2,1.04E-2,8.8000000000000005E-3,7.4999999999999997E-3,6.4000000000000003E-3,5.7000000000000002E-3,5.0000000000000001E-3,3.5999999999999999E-3,1.1999999999999999E-3,-2.2000000000000001E-3,-5.8999999999999999E-3,-8.9999999999999993E-3,-1.06E-2,-1.01E-2,-7.7000000000000002E-3,-3.8999999999999998E-3,5.9999999999999995E-4,5.1999999999999998E-3,9.1000000000000004E-3,1.2E-2,1.3599999999999999E-2,1.4E-2,1.29E-2,1.09E-2,8.3999999999999995E-3,6.0000000000000001E-3,4.1000000000000003E-3,2.8999999999999998E-3,1.6000000000000001E-3,4.0000000000000002E-4,-5.9999999999999995E-4,-1.5E-3,-2E-3,-2.2000000000000001E-3,-2.0999999999999999E-3,-1.5E-3,-6.9999999999999999E-4,2.9999999999999997E-4,1.6999999999999999E-3,3.3E-3,5.1000000000000004E-3,7.0000000000000001E-3,8.8000000000000005E-3,1.04E-2,1.17E-2,1.2699999999999999E-2,1.3299999999999999E-2,1.35E-2]
[47,3.9800000000000002E-2,3.6200000000000003E-2,3.2599999999999997E-2,2.8799999999999999E-2,2.46E-2,2.0400000000000001E-2,1.6199999999999999E-2,1.2200000000000001E-2,8.3000000000000001E-3,4.7000000000000002E-3,1.5E-3,-1.1000000000000001E-3,-2.8999999999999998E-3,-3.7000000000000002E-3,-3.3999999999999998E-3,-2.0999999999999999E-3,1E-4,3.3E-3,7.1999999999999998E-3,1.1599999999999999E-2,1.6199999999999999E-2,2.0799999999999999E-2,2.4899999999999999E-2,2.8299999999999999E-2,3.0499999999999999E-2,3.15E-2,3.1399999999999997E-2,3.04E-2,2.8799999999999999E-2,2.69E-2,2.5000000000000001E-2,2.3099999999999999E-2,2.12E-2,1.9400000000000001E-2,1.78E-2,1.6500000000000001E-2,1.5299999999999999E-2,1.4200000000000001E-2,1.2999999999999999E-2,1.18E-2,1.0699999999999999E-2,9.7000000000000003E-3,8.8999999999999999E-3,8.2000000000000007E-3,7.4999999999999997E-3,6.1000000000000004E-3,3.5000000000000001E-3,0,-3.8999999999999998E-3,-7.4000000000000003E-3,-9.4999999999999998E-3,-9.7000000000000003E-3,-8.0999999999999996E-3,-5.1000000000000004E-3,-1.2999999999999999E-3,2.7000000000000001E-3,6.3E-3,9.1000000000000004E-3,1.0999999999999999E-2,1.17E-2,1.1299999999999999E-2,0.01,8.3000000000000001E-3,6.7000000000000002E-3,5.5999999999999999E-3,5.1000000000000004E-3,4.1000000000000003E-3,3.0999999999999999E-3,2.0999999999999999E-3,1.1999999999999999E-3,5.0000000000000001E-4,1E-4,-1E-4,0,5.0000000000000001E-4,1.2999999999999999E-3,2.3E-3,3.7000000000000002E-3,5.3E-3,7.1000000000000004E-3,8.8000000000000005E-3,1.04E-2,1.17E-2,1.2699999999999999E-2,1.3299999999999999E-2,1.35E-2]
[48,3.7699999999999997E-2,3.4700000000000002E-2,3.1600000000000003E-2,2.8199999999999999E-2,2.4500000000000001E-2,2.0400000000000001E-2,1.6400000000000001E-2,1.24E-2,8.6999999999999994E-3,5.1000000000000004E-3,1.9E-3,-6.9999999999999999E-4,-2.3999999999999998E-3,-3.0999999999999999E-3,-2.8E-3,-1.5E-3,8.0000000000000004E-4,3.8999999999999998E-3,7.7000000000000002E-3,1.1900000000000001E-2,1.6199999999999999E-2,2.0500000000000001E-2,2.4299999999999999E-2,2.7300000000000001E-2,2.9100000000000001E-2,2.98E-2,2.9499999999999998E-2,2.8500000000000001E-2,2.69E-2,2.5100000000000001E-2,2.3199999999999998E-2,2.1399999999999999E-2,1.9699999999999999E-2,1.7999999999999999E-2,1.67E-2,1.5699999999999999E-2,1.49E-2,1.43E-2,1.37E-2,1.29E-2,1.2200000000000001E-2,1.15E-2,1.09E-2,1.04E-2,9.7000000000000003E-3,8.3999999999999995E-3,5.8999999999999999E-3,2.5000000000000001E-3,-1.5E-3,-5.1000000000000004E-3,-7.6E-3,-8.5000000000000006E-3,-7.7000000000000002E-3,-5.4999999999999997E-3,-2.5999999999999999E-3,6.9999999999999999E-4,3.8E-3,6.3E-3,8.2000000000000007E-3,9.1000000000000004E-3,9.1000000000000004E-3,8.3999999999999995E-3,7.4000000000000003E-3,6.6E-3,6.1999999999999998E-3,6.4999999999999997E-3,5.8999999999999999E-3,5.1999999999999998E-3,4.4000000000000003E-3,3.5000000000000001E-3,2.8E-3,2.2000000000000001E-3,1.8E-3,1.6999999999999999E-3,1.9E-3,2.3E-3,3.0999999999999999E-3,4.1999999999999997E-3,5.7000000000000002E-3,7.1999999999999998E-3,8.8000000000000005E-3,1.04E-2,1.17E-2,1.2699999999999999E-2,1.3299999999999999E-2,1.35E-2]
[49,3.5499999999999997E-2,3.3099999999999997E-2,3.0599999999999999E-2,2.7699999999999999E-2,2.4400000000000002E-2,2.07E-2,1.6799999999999999E-2,1.29E-2,9.1999999999999998E-3,5.5999999999999999E-3,2.5000000000000001E-3,-1E-4,-1.9E-3,-2.5999999999999999E-3,-2.3E-3,-1E-3,1.2999999999999999E-3,4.3E-3,7.9000000000000008E-3,1.2E-2,1.6199999999999999E-2,2.0199999999999999E-2,2.3699999999999999E-2,2.63E-2,2.7900000000000001E-2,2.8299999999999999E-2,2.7799999999999998E-2,2.6700000000000002E-2,2.5100000000000001E-2,2.3300000000000001E-2,2.1499999999999998E-2,1.9699999999999999E-2,1.7999999999999999E-2,1.6500000000000001E-2,1.54E-2,1.47E-2,1.44E-2,1.4200000000000001E-2,1.4E-2,1.37E-2,1.3299999999999999E-2,1.29E-2,1.2500000000000001E-2,1.21E-2,1.1599999999999999E-2,1.04E-2,8.3000000000000001E-3,5.1000000000000004E-3,1.2999999999999999E-3,-2.3E-3,-5.1000000000000004E-3,-6.4999999999999997E-3,-6.4000000000000003E-3,-5.1000000000000004E-3,-3.0999999999999999E-3,-5.9999999999999995E-4,1.8E-3,3.8999999999999998E-3,5.4000000000000003E-3,6.3E-3,6.4999999999999997E-3,6.1999999999999998E-3,5.7000000000000002E-3,5.5999999999999999E-3,6.0000000000000001E-3,7.1000000000000004E-3,6.8999999999999999E-3,6.4999999999999997E-3,6.0000000000000001E-3,5.3E-3,4.5999999999999999E-3,4.0000000000000001E-3,3.5999999999999999E-3,3.3E-3,3.2000000000000002E-3,3.5000000000000001E-3,4.0000000000000001E-3,4.8999999999999998E-3,6.1000000000000004E-3,7.4999999999999997E-3,8.9999999999999993E-3,1.04E-2,1.17E-2,1.2699999999999999E-2,1.3299999999999999E-2,1.35E-2]
[50,3.3300000000000003E-2,3.15E-2,2.9600000000000001E-2,2.7199999999999998E-2,2.4299999999999999E-2,2.0899999999999998E-2,1.72E-2,1.35E-2,9.9000000000000008E-3,6.4000000000000003E-3,3.2000000000000002E-3,5.9999999999999995E-4,-1.1999999999999999E-3,-2E-3,-1.8E-3,-5.0000000000000001E-4,1.6000000000000001E-3,4.4000000000000003E-3,8.0000000000000002E-3,1.2E-2,1.61E-2,1.9900000000000001E-2,2.3199999999999998E-2,2.5499999999999998E-2,2.6700000000000002E-2,2.69E-2,2.63E-2,2.5000000000000001E-2,2.3400000000000001E-2,2.1499999999999998E-2,1.9699999999999999E-2,1.7899999999999999E-2,1.6199999999999999E-2,1.4800000000000001E-2,1.3899999999999999E-2,1.3599999999999999E-2,1.3599999999999999E-2,1.3899999999999999E-2,1.4200000000000001E-2,1.4200000000000001E-2,1.41E-2,1.3899999999999999E-2,1.3599999999999999E-2,1.34E-2,1.2999999999999999E-2,1.21E-2,1.03E-2,7.4999999999999997E-3,4.1000000000000003E-3,5.9999999999999995E-4,-2.0999999999999999E-3,-3.8E-3,-4.3E-3,-3.8E-3,-2.5999999999999999E-3,-1E-3,5.9999999999999995E-4,2E-3,3.0000000000000001E-3,3.5999999999999999E-3,3.7000000000000002E-3,3.5999999999999999E-3,3.5000000000000001E-3,3.8999999999999998E-3,5.0000000000000001E-3,6.7999999999999996E-3,7.1000000000000004E-3,7.1000000000000004E-3,6.8999999999999999E-3,6.6E-3,6.1000000000000004E-3,5.5999999999999999E-3,5.1000000000000004E-3,4.7999999999999996E-3,4.5999999999999999E-3,4.7000000000000002E-3,5.0000000000000001E-3,5.5999999999999999E-3,6.6E-3,7.7999999999999996E-3,9.1000000000000004E-3,1.0500000000000001E-2,1.17E-2,1.2699999999999999E-2,1.3299999999999999E-2,1.35E-2]
[51,3.1399999999999997E-2,3.0099999999999998E-2,2.86E-2,2.6700000000000002E-2,2.4199999999999999E-2,2.1100000000000001E-2,1.77E-2,1.4200000000000001E-2,1.0699999999999999E-2,7.3000000000000001E-3,4.1999999999999997E-3,1.5E-3,-4.0000000000000002E-4,-1.2999999999999999E-3,-1.2999999999999999E-3,-2.9999999999999997E-4,1.6000000000000001E-3,4.3E-3,7.7999999999999996E-3,1.17E-2,1.5699999999999999E-2,1.95E-2,2.2599999999999999E-2,2.4799999999999999E-2,2.58E-2,2.58E-2,2.5000000000000001E-2,2.35E-2,2.18E-2,1.9800000000000002E-2,1.7899999999999999E-2,1.6E-2,1.44E-2,1.32E-2,1.2500000000000001E-2,1.24E-2,1.2800000000000001E-2,1.34E-2,1.4E-2,1.44E-2,1.4500000000000001E-2,1.44E-2,1.43E-2,1.4200000000000001E-2,1.4E-2,1.3299999999999999E-2,1.1900000000000001E-2,9.5999999999999992E-3,6.6E-3,3.5999999999999999E-3,1E-3,-6.9999999999999999E-4,-1.6000000000000001E-3,-1.6999999999999999E-3,-1.1999999999999999E-3,-5.0000000000000001E-4,2.9999999999999997E-4,8.0000000000000004E-4,1.1000000000000001E-3,1.1999999999999999E-3,1E-3,8.0000000000000004E-4,8.9999999999999998E-4,1.6999999999999999E-3,3.3E-3,5.7999999999999996E-3,6.4000000000000003E-3,6.8999999999999999E-3,7.1999999999999998E-3,7.1999999999999998E-3,7.1000000000000004E-3,6.7999999999999996E-3,6.4999999999999997E-3,6.1999999999999998E-3,6.0000000000000001E-3,5.8999999999999999E-3,6.0000000000000001E-3,6.4000000000000003E-3,7.1999999999999998E-3,8.2000000000000007E-3,9.4000000000000004E-3,1.06E-2,1.17E-2,1.2699999999999999E-2,1.3299999999999999E-2,1.35E-2]
[52,0.03,2.9000000000000001E-2,2.7699999999999999E-2,2.6100000000000002E-2,2.3900000000000001E-2,2.1100000000000001E-2,1.7999999999999999E-2,1.4800000000000001E-2,1.15E-2,8.3000000000000001E-3,5.1999999999999998E-3,2.5999999999999999E-3,5.0000000000000001E-4,-5.9999999999999995E-4,-8.0000000000000004E-4,-1E-4,1.5E-3,4.0000000000000001E-3,7.3000000000000001E-3,1.12E-2,1.52E-2,1.9E-2,2.1999999999999999E-2,2.41E-2,2.5100000000000001E-2,2.5000000000000001E-2,2.3900000000000001E-2,2.23E-2,2.0299999999999999E-2,1.8200000000000001E-2,1.61E-2,1.43E-2,1.2699999999999999E-2,1.17E-2,1.12E-2,1.14E-2,1.2E-2,1.2800000000000001E-2,1.3599999999999999E-2,1.4200000000000001E-2,1.46E-2,1.47E-2,1.47E-2,1.47E-2,1.46E-2,1.41E-2,1.3100000000000001E-2,1.12E-2,8.8999999999999999E-3,6.4000000000000003E-3,4.1999999999999997E-3,2.5999999999999999E-3,1.6000000000000001E-3,1.1999999999999999E-3,1E-3,8.9999999999999998E-4,8.0000000000000004E-4,4.0000000000000002E-4,-1E-4,-8.0000000000000004E-4,-1.5E-3,-2E-3,-1.9E-3,-8.9999999999999998E-4,1.1000000000000001E-3,4.1000000000000003E-3,5.1000000000000004E-3,6.0000000000000001E-3,6.7999999999999996E-3,7.3000000000000001E-3,7.4999999999999997E-3,7.6E-3,7.6E-3,7.4000000000000003E-3,7.1999999999999998E-3,7.1000000000000004E-3,7.0000000000000001E-3,7.3000000000000001E-3,7.7999999999999996E-3,8.6999999999999994E-3,9.7000000000000003E-3,1.0800000000000001E-2,1.18E-2,1.2699999999999999E-2,1.3299999999999999E-2,1.35E-2]
[53,2.9100000000000001E-2,2.8199999999999999E-2,2.7E-2,2.5499999999999998E-2,2.35E-2,2.0899999999999998E-2,1.8100000000000002E-2,1.52E-2,1.23E-2,9.2999999999999992E-3,6.4000000000000003E-3,3.7000000000000002E-3,1.6000000000000001E-3,2.0000000000000001E-4,-4.0000000000000002E-4,0,1.2999999999999999E-3,3.5999999999999999E-3,6.7000000000000002E-3,1.0500000000000001E-2,1.4500000000000001E-2,1.83E-2,2.1399999999999999E-2,2.3599999999999999E-2,2.4500000000000001E-2,2.4299999999999999E-2,2.3099999999999999E-2,2.1299999999999999E-2,1.9E-2,1.66E-2,1.44E-2,1.2500000000000001E-2,1.11E-2,1.03E-2,1.01E-2,1.04E-2,1.12E-2,1.21E-2,1.3100000000000001E-2,1.38E-2,1.43E-2,1.46E-2,1.47E-2,1.4800000000000001E-2,1.4800000000000001E-2,1.4500000000000001E-2,1.38E-2,1.24E-2,1.0699999999999999E-2,8.8000000000000005E-3,7.1999999999999998E-3,6.0000000000000001E-3,5.1000000000000004E-3,4.4999999999999997E-3,3.8999999999999998E-3,3.2000000000000002E-3,2.2000000000000001E-3,8.9999999999999998E-4,-5.9999999999999995E-4,-2.0999999999999999E-3,-3.5000000000000001E-3,-4.4000000000000003E-3,-4.4999999999999997E-3,-3.5000000000000001E-3,-1.2999999999999999E-3,1.9E-3,3.2000000000000002E-3,4.4999999999999997E-3,5.7999999999999996E-3,6.7999999999999996E-3,7.6E-3,8.0999999999999996E-3,8.3000000000000001E-3,8.3999999999999995E-3,8.3999999999999995E-3,8.2000000000000007E-3,8.0000000000000002E-3,8.0999999999999996E-3,8.5000000000000006E-3,9.1999999999999998E-3,0.01,1.0999999999999999E-2,1.1900000000000001E-2,1.2699999999999999E-2,1.3299999999999999E-2,1.35E-2]
[54,2.8799999999999999E-2,2.7699999999999999E-2,2.64E-2,2.4899999999999999E-2,2.2800000000000001E-2,2.0500000000000001E-2,1.7899999999999999E-2,1.54E-2,1.2800000000000001E-2,1.0200000000000001E-2,7.4999999999999997E-3,4.8999999999999998E-3,2.5999999999999999E-3,1E-3,2.0000000000000001E-4,2.0000000000000001E-4,1.1000000000000001E-3,3.0999999999999999E-3,6.1000000000000004E-3,9.7000000000000003E-3,1.37E-2,1.7500000000000002E-2,2.0799999999999999E-2,2.3E-2,2.41E-2,2.3800000000000002E-2,2.2499999999999999E-2,2.0400000000000001E-2,1.78E-2,1.5100000000000001E-2,1.2800000000000001E-2,1.09E-2,9.7000000000000003E-3,9.1000000000000004E-3,9.1000000000000004E-3,9.4999999999999998E-3,1.04E-2,1.14E-2,1.24E-2,1.3299999999999999E-2,1.3899999999999999E-2,1.43E-2,1.4500000000000001E-2,1.47E-2,1.47E-2,1.4500000000000001E-2,1.4E-2,1.3100000000000001E-2,1.2E-2,1.0800000000000001E-2,9.9000000000000008E-3,9.1999999999999998E-3,8.6E-3,8.0999999999999996E-3,7.1999999999999998E-3,6.0000000000000001E-3,4.3E-3,2.2000000000000001E-3,-2.0000000000000001E-4,-2.7000000000000001E-3,-4.8999999999999998E-3,-6.4000000000000003E-3,-6.8999999999999999E-3,-6.0000000000000001E-3,-3.8999999999999998E-3,-6.9999999999999999E-4,8.0000000000000004E-4,2.5000000000000001E-3,4.3E-3,5.7999999999999996E-3,7.1999999999999998E-3,8.2000000000000007E-3,8.8000000000000005E-3,9.1999999999999998E-3,9.2999999999999992E-3,9.1000000000000004E-3,8.8999999999999999E-3,8.9999999999999993E-3,9.1999999999999998E-3,9.7000000000000003E-3,1.04E-2,1.12E-2,1.2E-2,1.2800000000000001E-2,1.3299999999999999E-2,1.35E-2]
[55,2.9000000000000001E-2,2.76E-2,2.5999999999999999E-2,2.4199999999999999E-2,2.2100000000000002E-2,1.9800000000000002E-2,1.7500000000000002E-2,1.5299999999999999E-2,1.3100000000000001E-2,1.0800000000000001E-2,8.3000000000000001E-3,5.8999999999999999E-3,3.7000000000000002E-3,2E-3,8.9999999999999998E-4,5.0000000000000001E-4,1.1999999999999999E-3,2.8E-3,5.5999999999999999E-3,9.1000000000000004E-3,1.2999999999999999E-2,1.6799999999999999E-2,2.01E-2,2.2499999999999999E-2,2.3599999999999999E-2,2.3400000000000001E-2,2.1899999999999999E-2,1.9599999999999999E-2,1.67E-2,1.38E-2,1.1299999999999999E-2,9.4999999999999998E-3,8.3999999999999995E-3,8.0000000000000002E-3,8.2000000000000007E-3,8.8000000000000005E-3,9.7000000000000003E-3,1.0699999999999999E-2,1.17E-2,1.26E-2,1.3299999999999999E-2,1.38E-2,1.41E-2,1.43E-2,1.43E-2,1.4200000000000001E-2,1.4E-2,1.35E-2,1.29E-2,1.24E-2,1.21E-2,1.2E-2,1.1900000000000001E-2,1.1599999999999999E-2,1.0699999999999999E-2,9.1999999999999998E-3,7.0000000000000001E-3,4.1000000000000003E-3,8.9999999999999998E-4,-2.3999999999999998E-3,-5.4000000000000003E-3,-7.6E-3,-8.6E-3,-8.2000000000000007E-3,-6.3E-3,-3.3999999999999998E-3,-1.6999999999999999E-3,2.9999999999999997E-4,2.3999999999999998E-3,4.4999999999999997E-3,6.4000000000000003E-3,7.9000000000000008E-3,8.9999999999999993E-3,9.7999999999999997E-3,1.01E-2,0.01,9.7999999999999997E-3,9.7000000000000003E-3,9.9000000000000008E-3,1.0200000000000001E-2,1.0699999999999999E-2,1.14E-2,1.21E-2,1.2800000000000001E-2,1.3299999999999999E-2,1.35E-2]
[56,2.9499999999999998E-2,2.76E-2,2.5700000000000001E-2,2.3599999999999999E-2,2.12E-2,1.89E-2,1.6799999999999999E-2,1.4800000000000001E-2,1.29E-2,1.0999999999999999E-2,8.8999999999999999E-3,6.7000000000000002E-3,4.7000000000000002E-3,3.0000000000000001E-3,1.8E-3,1.1999999999999999E-3,1.6000000000000001E-3,2.8999999999999998E-3,5.4000000000000003E-3,8.6E-3,1.24E-2,1.61E-2,1.9400000000000001E-2,2.18E-2,2.3E-2,2.2800000000000001E-2,2.1299999999999999E-2,1.8800000000000001E-2,1.5699999999999999E-2,1.26E-2,0.01,8.2000000000000007E-3,7.1999999999999998E-3,7.0000000000000001E-3,7.4000000000000003E-3,8.0999999999999996E-3,8.9999999999999993E-3,0.01,1.11E-2,1.2E-2,1.2699999999999999E-2,1.32E-2,1.35E-2,1.3599999999999999E-2,1.37E-2,1.37E-2,1.3599999999999999E-2,1.35E-2,1.35E-2,1.3599999999999999E-2,1.4E-2,1.4500000000000001E-2,1.49E-2,1.49E-2,1.41E-2,1.2500000000000001E-2,9.9000000000000008E-3,6.6E-3,2.7000000000000001E-3,-1.2999999999999999E-3,-5.1000000000000004E-3,-8.0000000000000002E-3,-9.5999999999999992E-3,-9.7000000000000003E-3,-8.3000000000000001E-3,-5.7999999999999996E-3,-4.3E-3,-2.0999999999999999E-3,4.0000000000000002E-4,2.8999999999999998E-3,5.3E-3,7.4000000000000003E-3,8.9999999999999993E-3,1.01E-2,1.0699999999999999E-2,1.0699999999999999E-2,1.0500000000000001E-2,1.04E-2,1.0500000000000001E-2,1.0699999999999999E-2,1.11E-2,1.17E-2,1.23E-2,1.29E-2,1.3299999999999999E-2,1.35E-2]
[57,3.0099999999999998E-2,2.7799999999999998E-2,2.5499999999999998E-2,2.3E-2,2.0400000000000001E-2,1.7899999999999999E-2,1.5800000000000002E-2,1.4E-2,1.24E-2,1.0800000000000001E-2,9.1000000000000004E-3,7.1999999999999998E-3,5.4999999999999997E-3,4.1000000000000003E-3,2.8999999999999998E-3,2.3E-3,2.3999999999999998E-3,3.5000000000000001E-3,5.5999999999999999E-3,8.6E-3,1.2E-2,1.55E-2,1.8700000000000001E-2,2.1100000000000001E-2,2.2200000000000001E-2,2.1999999999999999E-2,2.0500000000000001E-2,1.7899999999999999E-2,1.4800000000000001E-2,1.1599999999999999E-2,8.9999999999999993E-3,7.1000000000000004E-3,6.1999999999999998E-3,6.1000000000000004E-3,6.6E-3,7.4999999999999997E-3,8.3999999999999995E-3,9.4999999999999998E-3,1.0500000000000001E-2,1.14E-2,1.2E-2,1.24E-2,1.2699999999999999E-2,1.2800000000000001E-2,1.29E-2,1.2999999999999999E-2,1.3100000000000001E-2,1.3299999999999999E-2,1.37E-2,1.44E-2,1.5299999999999999E-2,1.6400000000000001E-2,1.7299999999999999E-2,1.7600000000000001E-2,1.7100000000000001E-2,1.5599999999999999E-2,1.2999999999999999E-2,9.4000000000000004E-3,5.1000000000000004E-3,5.9999999999999995E-4,-3.8E-3,-7.4000000000000003E-3,-9.7000000000000003E-3,-1.0500000000000001E-2,-9.7999999999999997E-3,-7.9000000000000008E-3,-6.4999999999999997E-3,-4.3E-3,-1.6000000000000001E-3,1.2999999999999999E-3,4.1000000000000003E-3,6.6E-3,8.6E-3,1.01E-2,1.0999999999999999E-2,1.12E-2,1.11E-2,1.0999999999999999E-2,1.0999999999999999E-2,1.12E-2,1.15E-2,1.1900000000000001E-2,1.24E-2,1.29E-2,1.3299999999999999E-2,1.35E-2]
[58,3.0599999999999999E-2,2.8000000000000001E-2,2.52E-2,2.24E-2,1.9599999999999999E-2,1.7000000000000001E-2,1.4800000000000001E-2,1.2999999999999999E-2,1.1599999999999999E-2,1.03E-2,8.8999999999999999E-3,7.4999999999999997E-3,6.3E-3,5.1999999999999998E-3,4.3E-3,3.7000000000000002E-3,3.7000000000000002E-3,4.5999999999999999E-3,6.4000000000000003E-3,8.8999999999999999E-3,1.2E-2,1.5100000000000001E-2,1.7999999999999999E-2,2.0199999999999999E-2,2.1299999999999999E-2,2.1000000000000001E-2,1.95E-2,1.7000000000000001E-2,1.3899999999999999E-2,1.0699999999999999E-2,8.0000000000000002E-3,6.1999999999999998E-3,5.3E-3,5.3E-3,5.8999999999999999E-3,6.8999999999999999E-3,8.0000000000000002E-3,9.1000000000000004E-3,1.01E-2,1.09E-2,1.14E-2,1.17E-2,1.18E-2,1.18E-2,1.1900000000000001E-2,1.21E-2,1.2500000000000001E-2,1.2999999999999999E-2,1.38E-2,1.49E-2,1.6299999999999999E-2,1.78E-2,1.9099999999999999E-2,1.9800000000000002E-2,1.9599999999999999E-2,1.83E-2,1.5800000000000002E-2,1.23E-2,7.9000000000000008E-3,3.0000000000000001E-3,-1.8E-3,-6.0000000000000001E-3,-8.9999999999999993E-3,-1.0500000000000001E-2,-1.06E-2,-9.4000000000000004E-3,-8.3000000000000001E-3,-6.1999999999999998E-3,-3.3999999999999998E-3,-4.0000000000000002E-4,2.7000000000000001E-3,5.5999999999999999E-3,8.0999999999999996E-3,0.01,1.11E-2,1.15E-2,1.15E-2,1.15E-2,1.14E-2,1.15E-2,1.18E-2,1.2200000000000001E-2,1.26E-2,1.2999999999999999E-2,1.34E-2,1.35E-2]
[59,3.09E-2,2.7900000000000001E-2,2.4899999999999999E-2,2.18E-2,1.8800000000000001E-2,1.6E-2,1.37E-2,1.1900000000000001E-2,1.06E-2,9.4999999999999998E-3,8.5000000000000006E-3,7.6E-3,6.8999999999999999E-3,6.3E-3,5.7000000000000002E-3,5.4000000000000003E-3,5.4999999999999997E-3,6.1000000000000004E-3,7.6E-3,9.7000000000000003E-3,1.2200000000000001E-2,1.49E-2,1.7399999999999999E-2,1.9300000000000001E-2,2.0199999999999999E-2,1.9800000000000002E-2,1.84E-2,1.5900000000000001E-2,1.29E-2,9.7999999999999997E-3,7.1999999999999998E-3,5.4000000000000003E-3,4.4999999999999997E-3,4.5999999999999999E-3,5.1999999999999998E-3,6.3E-3,7.4999999999999997E-3,8.6999999999999994E-3,9.7999999999999997E-3,1.0500000000000001E-2,1.0800000000000001E-2,1.09E-2,1.0800000000000001E-2,1.0800000000000001E-2,1.09E-2,1.12E-2,1.18E-2,1.2699999999999999E-2,1.38E-2,1.52E-2,1.6899999999999998E-2,1.8800000000000001E-2,2.0400000000000001E-2,2.1399999999999999E-2,2.1600000000000001E-2,2.06E-2,1.84E-2,1.4999999999999999E-2,1.0699999999999999E-2,5.7999999999999996E-3,6.9999999999999999E-4,-4.0000000000000001E-3,-7.4999999999999997E-3,-9.7000000000000003E-3,-1.0500000000000001E-2,-1.01E-2,-9.2999999999999992E-3,-7.4999999999999997E-3,-4.8999999999999998E-3,-1.8E-3,1.5E-3,4.5999999999999999E-3,7.4000000000000003E-3,9.5999999999999992E-3,1.0999999999999999E-2,1.17E-2,1.18E-2,1.18E-2,1.18E-2,1.1900000000000001E-2,1.2E-2,1.23E-2,1.2699999999999999E-2,1.3100000000000001E-2,1.34E-2,1.35E-2]
[60,3.09E-2,2.7699999999999999E-2,2.4500000000000001E-2,2.12E-2,1.7999999999999999E-2,1.5100000000000001E-2,1.2699999999999999E-2,1.09E-2,9.5999999999999992E-3,8.6E-3,8.0000000000000002E-3,7.6E-3,7.4000000000000003E-3,7.3000000000000001E-3,7.3000000000000001E-3,7.3000000000000001E-3,7.4000000000000003E-3,8.0000000000000002E-3,9.1000000000000004E-3,1.0800000000000001E-2,1.2800000000000001E-2,1.4999999999999999E-2,1.6899999999999998E-2,1.84E-2,1.9E-2,1.8499999999999999E-2,1.7000000000000001E-2,1.47E-2,1.1900000000000001E-2,8.9999999999999993E-3,6.4999999999999997E-3,4.7000000000000002E-3,3.8E-3,3.8999999999999998E-3,4.5999999999999999E-3,5.7999999999999996E-3,7.1999999999999998E-3,8.5000000000000006E-3,9.4999999999999998E-3,1.01E-2,1.03E-2,1.01E-2,9.7999999999999997E-3,9.7000000000000003E-3,9.7999999999999997E-3,1.0200000000000001E-2,1.0999999999999999E-2,1.2200000000000001E-2,1.3599999999999999E-2,1.5299999999999999E-2,1.7299999999999999E-2,1.9300000000000001E-2,2.12E-2,2.2499999999999999E-2,2.3E-2,2.24E-2,2.0500000000000001E-2,1.7399999999999999E-2,1.34E-2,8.6E-3,3.5000000000000001E-3,-1.4E-3,-5.4000000000000003E-3,-8.2000000000000007E-3,-9.5999999999999992E-3,-9.9000000000000008E-3,-9.5999999999999992E-3,-8.2000000000000007E-3,-5.7999999999999996E-3,-2.8999999999999998E-3,4.0000000000000002E-4,3.5999999999999999E-3,6.6E-3,8.9999999999999993E-3,1.0699999999999999E-2,1.1599999999999999E-2,1.1900000000000001E-2,1.2E-2,1.21E-2,1.21E-2,1.23E-2,1.2500000000000001E-2,1.2800000000000001E-2,1.3100000000000001E-2,1.34E-2,1.35E-2]
[61,3.0499999999999999E-2,2.7199999999999998E-2,2.3900000000000001E-2,2.0500000000000001E-2,1.72E-2,1.43E-2,1.18E-2,0.01,8.6999999999999994E-3,7.9000000000000008E-3,7.6E-3,7.6E-3,7.9000000000000008E-3,8.3000000000000001E-3,8.6999999999999994E-3,9.1000000000000004E-3,9.4999999999999998E-3,0.01,1.0999999999999999E-2,1.2200000000000001E-2,1.37E-2,1.52E-2,1.66E-2,1.7600000000000001E-2,1.78E-2,1.72E-2,1.5699999999999999E-2,1.35E-2,1.09E-2,8.2000000000000007E-3,5.7999999999999996E-3,4.1000000000000003E-3,3.2000000000000002E-3,3.3E-3,4.1000000000000003E-3,5.4000000000000003E-3,6.8999999999999999E-3,8.2000000000000007E-3,9.1999999999999998E-3,9.7000000000000003E-3,9.7000000000000003E-3,9.2999999999999992E-3,8.8999999999999999E-3,8.6E-3,8.6999999999999994E-3,9.2999999999999992E-3,1.0200000000000001E-2,1.1599999999999999E-2,1.3299999999999999E-2,1.52E-2,1.7399999999999999E-2,1.9599999999999999E-2,2.1600000000000001E-2,2.3199999999999998E-2,2.3900000000000001E-2,2.3599999999999999E-2,2.2100000000000002E-2,1.9400000000000001E-2,1.5699999999999999E-2,1.1299999999999999E-2,6.3E-3,1.4E-3,-2.8E-3,-6.0000000000000001E-3,-8.0000000000000002E-3,-8.8999999999999999E-3,-8.9999999999999993E-3,-8.0000000000000002E-3,-6.1000000000000004E-3,-3.5000000000000001E-3,-4.0000000000000002E-4,2.8E-3,5.7000000000000002E-3,8.3000000000000001E-3,1.0200000000000001E-2,1.1299999999999999E-2,1.18E-2,1.21E-2,1.2200000000000001E-2,1.23E-2,1.24E-2,1.26E-2,1.2800000000000001E-2,1.3100000000000001E-2,1.34E-2,1.35E-2]
[62,2.9600000000000001E-2,2.63E-2,2.3099999999999999E-2,1.9699999999999999E-2,1.6500000000000001E-2,1.3599999999999999E-2,1.11E-2,9.4000000000000004E-3,8.2000000000000007E-3,7.4999999999999997E-3,7.4000000000000003E-3,7.6E-3,8.3000000000000001E-3,9.1999999999999998E-3,0.01,1.0800000000000001E-2,1.15E-2,1.21E-2,1.29E-2,1.37E-2,1.47E-2,1.5699999999999999E-2,1.6500000000000001E-2,1.7000000000000001E-2,1.6799999999999999E-2,1.5900000000000001E-2,1.43E-2,1.2200000000000001E-2,9.7000000000000003E-3,7.1999999999999998E-3,5.0000000000000001E-3,3.3999999999999998E-3,2.7000000000000001E-3,2.8E-3,3.5999999999999999E-3,5.0000000000000001E-3,6.6E-3,8.0000000000000002E-3,8.9999999999999993E-3,9.4000000000000004E-3,9.1999999999999998E-3,8.6E-3,8.0000000000000002E-3,7.6E-3,7.7000000000000002E-3,8.3000000000000001E-3,9.4000000000000004E-3,1.09E-2,1.2800000000000001E-2,1.49E-2,1.7299999999999999E-2,1.9599999999999999E-2,2.18E-2,2.35E-2,2.4400000000000002E-2,2.4400000000000002E-2,2.3199999999999998E-2,2.0899999999999998E-2,1.7600000000000001E-2,1.35E-2,8.8999999999999999E-3,4.1999999999999997E-3,0,-3.3999999999999998E-3,-5.7000000000000002E-3,-7.1000000000000004E-3,-7.7000000000000002E-3,-7.1999999999999998E-3,-5.7000000000000002E-3,-3.5999999999999999E-3,-8.9999999999999998E-4,2.0999999999999999E-3,5.0000000000000001E-3,7.4999999999999997E-3,9.4999999999999998E-3,1.0800000000000001E-2,1.15E-2,1.2E-2,1.2200000000000001E-2,1.24E-2,1.2500000000000001E-2,1.2699999999999999E-2,1.29E-2,1.3100000000000001E-2,1.34E-2,1.35E-2]
[63,2.8400000000000002E-2,2.53E-2,2.2100000000000002E-2,1.89E-2,1.5900000000000001E-2,1.3100000000000001E-2,1.0800000000000001E-2,9.1000000000000004E-3,8.0000000000000002E-3,7.4000000000000003E-3,7.4000000000000003E-3,7.7999999999999996E-3,8.6999999999999994E-3,9.9000000000000008E-3,1.11E-2,1.23E-2,1.32E-2,1.4E-2,1.47E-2,1.5299999999999999E-2,1.5800000000000002E-2,1.6299999999999999E-2,1.67E-2,1.66E-2,1.61E-2,1.49E-2,1.3100000000000001E-2,1.0999999999999999E-2,8.6E-3,6.1999999999999998E-3,4.1999999999999997E-3,2.8E-3,2.0999999999999999E-3,2.3E-3,3.2000000000000002E-3,4.7000000000000002E-3,6.3E-3,7.7000000000000002E-3,8.6999999999999994E-3,8.9999999999999993E-3,8.6999999999999994E-3,7.9000000000000008E-3,7.1000000000000004E-3,6.7000000000000002E-3,6.7000000000000002E-3,7.4000000000000003E-3,8.6E-3,1.0200000000000001E-2,1.2200000000000001E-2,1.4500000000000001E-2,1.7000000000000001E-2,1.95E-2,2.1700000000000001E-2,2.35E-2,2.4500000000000001E-2,2.47E-2,2.3800000000000002E-2,2.18E-2,1.9E-2,1.5299999999999999E-2,1.11E-2,6.7999999999999996E-3,2.8E-3,-5.0000000000000001E-4,-2.8999999999999998E-3,-4.7000000000000002E-3,-5.5999999999999999E-3,-5.5999999999999999E-3,-4.7000000000000002E-3,-3.0999999999999999E-3,-8.9999999999999998E-4,1.6000000000000001E-3,4.3E-3,6.7000000000000002E-3,8.6999999999999994E-3,1.01E-2,1.0999999999999999E-2,1.17E-2,1.21E-2,1.24E-2,1.2500000000000001E-2,1.2699999999999999E-2,1.2800000000000001E-2,1.2999999999999999E-2,1.32E-2,1.34E-2]
[64,2.7099999999999999E-2,2.41E-2,2.1100000000000001E-2,1.8200000000000001E-2,1.5299999999999999E-2,1.2699999999999999E-2,1.06E-2,9.1000000000000004E-3,8.0999999999999996E-3,7.7000000000000002E-3,7.7000000000000002E-3,8.2000000000000007E-3,9.1999999999999998E-3,1.0500000000000001E-2,1.2E-2,1.34E-2,1.47E-2,1.5699999999999999E-2,1.6299999999999999E-2,1.67E-2,1.6899999999999998E-2,1.7000000000000001E-2,1.7000000000000001E-2,1.6500000000000001E-2,1.5599999999999999E-2,1.41E-2,1.21E-2,9.9000000000000008E-3,7.4999999999999997E-3,5.3E-3,3.5000000000000001E-3,2.2000000000000001E-3,1.6999999999999999E-3,2E-3,2.8999999999999998E-3,4.4000000000000003E-3,6.0000000000000001E-3,7.4999999999999997E-3,8.3999999999999995E-3,8.6E-3,8.2000000000000007E-3,7.3000000000000001E-3,6.4000000000000003E-3,5.8999999999999999E-3,5.8999999999999999E-3,6.4999999999999997E-3,7.7000000000000002E-3,9.4000000000000004E-3,1.15E-2,1.4E-2,1.66E-2,1.9199999999999998E-2,2.1499999999999998E-2,2.3300000000000001E-2,2.4400000000000002E-2,2.47E-2,2.4E-2,2.23E-2,1.9900000000000001E-2,1.66E-2,1.29E-2,9.1000000000000004E-3,5.4999999999999997E-3,2.3999999999999998E-3,0,-2E-3,-3.0999999999999999E-3,-3.5000000000000001E-3,-3.2000000000000002E-3,-2.2000000000000001E-3,-5.9999999999999995E-4,1.5E-3,3.7000000000000002E-3,6.0000000000000001E-3,7.9000000000000008E-3,9.4000000000000004E-3,1.04E-2,1.1299999999999999E-2,1.18E-2,1.2200000000000001E-2,1.24E-2,1.26E-2,1.2800000000000001E-2,1.29E-2,1.3100000000000001E-2,1.32E-2]
[65,2.5600000000000001E-2,2.29E-2,2.0199999999999999E-2,1.7500000000000002E-2,1.49E-2,1.26E-2,1.0800000000000001E-2,9.4000000000000004E-3,8.6E-3,8.2000000000000007E-3,8.2000000000000007E-3,8.6999999999999994E-3,9.7000000000000003E-3,1.11E-2,1.2699999999999999E-2,1.43E-2,1.5800000000000002E-2,1.6899999999999998E-2,1.7600000000000001E-2,1.7899999999999999E-2,1.7999999999999999E-2,1.7899999999999999E-2,1.7500000000000002E-2,1.6799999999999999E-2,1.55E-2,1.3599999999999999E-2,1.14E-2,8.9999999999999993E-3,6.6E-3,4.4000000000000003E-3,2.7000000000000001E-3,1.6999999999999999E-3,1.2999999999999999E-3,1.6999999999999999E-3,2.7000000000000001E-3,4.1999999999999997E-3,5.7999999999999996E-3,7.1999999999999998E-3,8.0999999999999996E-3,8.2000000000000007E-3,7.7000000000000002E-3,6.7999999999999996E-3,5.7999999999999996E-3,5.1999999999999998E-3,5.1000000000000004E-3,5.7000000000000002E-3,6.7999999999999996E-3,8.6E-3,1.0800000000000001E-2,1.3299999999999999E-2,1.61E-2,1.8800000000000001E-2,2.12E-2,2.3E-2,2.41E-2,2.4400000000000002E-2,2.3800000000000002E-2,2.24E-2,2.0299999999999999E-2,1.7500000000000002E-2,1.4200000000000001E-2,1.09E-2,7.7999999999999996E-3,5.1000000000000004E-3,2.8E-3,8.9999999999999998E-4,-4.0000000000000002E-4,-1.1000000000000001E-3,-1.2999999999999999E-3,-8.9999999999999998E-4,2.0000000000000001E-4,1.6000000000000001E-3,3.3999999999999998E-3,5.4000000000000003E-3,7.1999999999999998E-3,8.6E-3,9.7999999999999997E-3,1.0699999999999999E-2,1.15E-2,1.2E-2,1.23E-2,1.2500000000000001E-2,1.2699999999999999E-2,1.2800000000000001E-2,1.2999999999999999E-2,1.3100000000000001E-2]
[66,2.4299999999999999E-2,2.18E-2,1.9400000000000001E-2,1.7000000000000001E-2,1.46E-2,1.26E-2,1.11E-2,0.01,9.2999999999999992E-3,8.8999999999999999E-3,8.8999999999999999E-3,9.4000000000000004E-3,1.03E-2,1.1599999999999999E-2,1.3100000000000001E-2,1.4800000000000001E-2,1.6400000000000001E-2,1.77E-2,1.8499999999999999E-2,1.89E-2,1.89E-2,1.8700000000000001E-2,1.8200000000000001E-2,1.72E-2,1.5699999999999999E-2,1.3599999999999999E-2,1.11E-2,8.3999999999999995E-3,5.8999999999999999E-3,3.7000000000000002E-3,2.0999999999999999E-3,1.1999999999999999E-3,8.9999999999999998E-4,1.4E-3,2.5000000000000001E-3,4.0000000000000001E-3,5.7000000000000002E-3,7.0000000000000001E-3,7.9000000000000008E-3,8.0000000000000002E-3,7.4000000000000003E-3,6.4000000000000003E-3,5.3E-3,4.5999999999999999E-3,4.4999999999999997E-3,4.8999999999999998E-3,6.0000000000000001E-3,7.7000000000000002E-3,9.9000000000000008E-3,1.26E-2,1.54E-2,1.8200000000000001E-2,2.07E-2,2.2499999999999999E-2,2.3599999999999999E-2,2.3900000000000001E-2,2.35E-2,2.23E-2,2.0400000000000001E-2,1.7899999999999999E-2,1.5100000000000001E-2,1.23E-2,9.5999999999999992E-3,7.3000000000000001E-3,5.3E-3,3.5000000000000001E-3,2.3E-3,1.4E-3,8.0000000000000004E-4,6.9999999999999999E-4,1.1999999999999999E-3,2.0999999999999999E-3,3.3999999999999998E-3,4.8999999999999998E-3,6.4999999999999997E-3,7.9000000000000008E-3,9.1000000000000004E-3,1.0200000000000001E-2,1.0999999999999999E-2,1.17E-2,1.21E-2,1.24E-2,1.26E-2,1.2699999999999999E-2,1.2800000000000001E-2,1.29E-2]
[67,2.3199999999999998E-2,2.1000000000000001E-2,1.8800000000000001E-2,1.66E-2,1.46E-2,1.29E-2,1.15E-2,1.06E-2,0.01,9.7000000000000003E-3,9.7000000000000003E-3,1.01E-2,1.0800000000000001E-2,1.2E-2,1.34E-2,1.5100000000000001E-2,1.6799999999999999E-2,1.8200000000000001E-2,1.9099999999999999E-2,1.9599999999999999E-2,1.9699999999999999E-2,1.95E-2,1.9E-2,1.7899999999999999E-2,1.6199999999999999E-2,1.38E-2,1.11E-2,8.2000000000000007E-3,5.5999999999999999E-3,3.3E-3,1.6999999999999999E-3,8.0000000000000004E-4,5.9999999999999995E-4,1.1999999999999999E-3,2.3999999999999998E-3,3.8999999999999998E-3,5.5999999999999999E-3,6.8999999999999999E-3,7.7000000000000002E-3,7.7000000000000002E-3,7.1000000000000004E-3,6.1000000000000004E-3,5.0000000000000001E-3,4.1999999999999997E-3,3.8999999999999998E-3,4.1999999999999997E-3,5.1999999999999998E-3,6.8999999999999999E-3,9.1000000000000004E-3,1.18E-2,1.47E-2,1.7500000000000002E-2,0.02,2.1899999999999999E-2,2.3E-2,2.3400000000000001E-2,2.3E-2,2.1999999999999999E-2,2.0299999999999999E-2,1.8100000000000002E-2,1.5699999999999999E-2,1.32E-2,1.0999999999999999E-2,8.9999999999999993E-3,7.3000000000000001E-3,5.7999999999999996E-3,4.7000000000000002E-3,3.8E-3,3.0000000000000001E-3,2.5000000000000001E-3,2.3999999999999998E-3,2.8E-3,3.5999999999999999E-3,4.7000000000000002E-3,6.0000000000000001E-3,7.3000000000000001E-3,8.5000000000000006E-3,9.5999999999999992E-3,1.06E-2,1.1299999999999999E-2,1.18E-2,1.2200000000000001E-2,1.24E-2,1.26E-2,1.2699999999999999E-2,1.2800000000000001E-2]
[68,2.23E-2,2.0299999999999999E-2,1.84E-2,1.6500000000000001E-2,1.47E-2,1.32E-2,1.2E-2,1.12E-2,1.0699999999999999E-2,1.0500000000000001E-2,1.0500000000000001E-2,1.0699999999999999E-2,1.14E-2,1.23E-2,1.3599999999999999E-2,1.52E-2,1.6799999999999999E-2,1.8200000000000001E-2,1.9300000000000001E-2,0.02,2.0299999999999999E-2,2.0299999999999999E-2,1.9800000000000002E-2,1.8800000000000001E-2,1.6899999999999998E-2,1.44E-2,1.15E-2,8.3999999999999995E-3,5.5999999999999999E-3,3.2000000000000002E-3,1.5E-3,5.9999999999999995E-4,5.0000000000000001E-4,1.1000000000000001E-3,2.3E-3,3.8999999999999998E-3,5.4999999999999997E-3,6.7999999999999996E-3,7.6E-3,7.6E-3,7.0000000000000001E-3,5.8999999999999999E-3,4.7000000000000002E-3,3.8E-3,3.3999999999999998E-3,3.5999999999999999E-3,4.4999999999999997E-3,6.0000000000000001E-3,8.2000000000000007E-3,1.09E-2,1.38E-2,1.67E-2,1.9199999999999998E-2,2.1100000000000001E-2,2.23E-2,2.2700000000000001E-2,2.2499999999999999E-2,2.1499999999999998E-2,0.02,1.8100000000000002E-2,1.5900000000000001E-2,1.38E-2,1.18E-2,1.01E-2,8.6999999999999994E-3,7.4999999999999997E-3,6.7000000000000002E-3,5.7999999999999996E-3,5.0000000000000001E-3,4.3E-3,3.8E-3,3.7000000000000002E-3,4.1000000000000003E-3,4.7999999999999996E-3,5.7000000000000002E-3,6.7999999999999996E-3,7.9000000000000008E-3,9.1000000000000004E-3,1.01E-2,1.09E-2,1.15E-2,1.2E-2,1.23E-2,1.24E-2,1.26E-2,1.2699999999999999E-2]
[69,2.1700000000000001E-2,0.02,1.83E-2,1.66E-2,1.4999999999999999E-2,1.3599999999999999E-2,1.2500000000000001E-2,1.18E-2,1.14E-2,1.12E-2,1.11E-2,1.1299999999999999E-2,1.18E-2,1.26E-2,1.37E-2,1.5100000000000001E-2,1.66E-2,1.8100000000000002E-2,1.9300000000000001E-2,2.0199999999999999E-2,2.0799999999999999E-2,2.1000000000000001E-2,2.07E-2,1.9699999999999999E-2,1.7899999999999999E-2,1.5299999999999999E-2,1.2200000000000001E-2,8.9999999999999993E-3,5.8999999999999999E-3,3.3999999999999998E-3,1.6000000000000001E-3,5.9999999999999995E-4,4.0000000000000002E-4,1E-3,2.2000000000000001E-3,3.8999999999999998E-3,5.4999999999999997E-3,6.7999999999999996E-3,7.6E-3,7.6E-3,6.8999999999999999E-3,5.7000000000000002E-3,4.4999999999999997E-3,3.5999999999999999E-3,3.0000000000000001E-3,3.0999999999999999E-3,3.8999999999999998E-3,5.3E-3,7.4000000000000003E-3,0.01,1.29E-2,1.5800000000000002E-2,1.83E-2,2.0299999999999999E-2,2.1499999999999998E-2,2.2100000000000002E-2,2.1899999999999999E-2,2.1100000000000001E-2,1.9699999999999999E-2,1.7899999999999999E-2,1.5900000000000001E-2,1.4E-2,1.2200000000000001E-2,1.0699999999999999E-2,9.5999999999999992E-3,8.6999999999999994E-3,8.2000000000000007E-3,7.4999999999999997E-3,6.7000000000000002E-3,5.8999999999999999E-3,5.1999999999999998E-3,4.7999999999999996E-3,4.7000000000000002E-3,5.0000000000000001E-3,5.7000000000000002E-3,6.4999999999999997E-3,7.4999999999999997E-3,8.6E-3,9.5999999999999992E-3,1.0500000000000001E-2,1.12E-2,1.17E-2,1.21E-2,1.23E-2,1.24E-2,1.2500000000000001E-2]
[70,2.1299999999999999E-2,1.9800000000000002E-2,1.83E-2,1.6799999999999999E-2,1.5299999999999999E-2,1.4E-2,1.2999999999999999E-2,1.23E-2,1.1900000000000001E-2,1.17E-2,1.1599999999999999E-2,1.18E-2,1.2200000000000001E-2,1.2800000000000001E-2,1.38E-2,1.49E-2,1.6299999999999999E-2,1.77E-2,1.9099999999999999E-2,2.0299999999999999E-2,2.12E-2,2.1700000000000001E-2,2.1600000000000001E-2,2.07E-2,1.9E-2,1.6400000000000001E-2,1.32E-2,9.7999999999999997E-3,6.6E-3,3.8E-3,1.9E-3,6.9999999999999999E-4,4.0000000000000002E-4,1E-3,2.2000000000000001E-3,3.8999999999999998E-3,5.4999999999999997E-3,6.8999999999999999E-3,7.6E-3,7.6E-3,6.8999999999999999E-3,5.7000000000000002E-3,4.4000000000000003E-3,3.3999999999999998E-3,2.7000000000000001E-3,2.7000000000000001E-3,3.3E-3,4.5999999999999999E-3,6.6E-3,9.1999999999999998E-3,1.2E-2,1.4800000000000001E-2,1.7399999999999999E-2,1.9400000000000001E-2,2.07E-2,2.1399999999999999E-2,2.1299999999999999E-2,2.06E-2,1.9300000000000001E-2,1.7600000000000001E-2,1.5699999999999999E-2,1.3899999999999999E-2,1.2200000000000001E-2,1.09E-2,0.01,9.4000000000000004E-3,9.1000000000000004E-3,8.6E-3,8.0000000000000002E-3,7.1999999999999998E-3,6.4999999999999997E-3,5.8999999999999999E-3,5.4999999999999997E-3,5.4999999999999997E-3,5.7999999999999996E-3,6.4999999999999997E-3,7.1999999999999998E-3,8.2000000000000007E-3,9.1999999999999998E-3,1.01E-2,1.09E-2,1.15E-2,1.1900000000000001E-2,1.21E-2,1.23E-2,1.24E-2]
[71,2.1100000000000001E-2,1.9699999999999999E-2,1.83E-2,1.6899999999999998E-2,1.5599999999999999E-2,1.44E-2,1.34E-2,1.2699999999999999E-2,1.23E-2,1.21E-2,1.2E-2,1.21E-2,1.24E-2,1.29E-2,1.37E-2,1.47E-2,1.6E-2,1.7399999999999999E-2,1.89E-2,2.0299999999999999E-2,2.1399999999999999E-2,2.2200000000000001E-2,2.24E-2,2.18E-2,2.0199999999999999E-2,1.7600000000000001E-2,1.4500000000000001E-2,1.0999999999999999E-2,7.6E-3,4.5999999999999999E-3,2.3999999999999998E-3,1.1000000000000001E-3,5.9999999999999995E-4,1.1000000000000001E-3,2.3E-3,3.8999999999999998E-3,5.5999999999999999E-3,6.8999999999999999E-3,7.7000000000000002E-3,7.6E-3,6.8999999999999999E-3,5.7000000000000002E-3,4.4000000000000003E-3,3.2000000000000002E-3,2.5000000000000001E-3,2.3E-3,2.8E-3,4.0000000000000001E-3,5.8999999999999999E-3,8.3000000000000001E-3,1.11E-2,1.3899999999999999E-2,1.6500000000000001E-2,1.8499999999999999E-2,0.02,2.07E-2,2.07E-2,0.02,1.8800000000000001E-2,1.72E-2,1.54E-2,1.3599999999999999E-2,1.2E-2,1.0800000000000001E-2,0.01,9.5999999999999992E-3,9.4999999999999998E-3,9.2999999999999992E-3,8.8000000000000005E-3,8.2000000000000007E-3,7.6E-3,6.8999999999999999E-3,6.4000000000000003E-3,6.1000000000000004E-3,6.1999999999999998E-3,6.4999999999999997E-3,7.1999999999999998E-3,8.0000000000000002E-3,8.8999999999999999E-3,9.7000000000000003E-3,1.0500000000000001E-2,1.12E-2,1.17E-2,1.2E-2,1.2200000000000001E-2,1.23E-2]
[72,2.0899999999999998E-2,1.9599999999999999E-2,1.83E-2,1.7000000000000001E-2,1.5699999999999999E-2,1.46E-2,1.3599999999999999E-2,1.29E-2,1.2500000000000001E-2,1.2200000000000001E-2,1.21E-2,1.2200000000000001E-2,1.24E-2,1.29E-2,1.35E-2,1.44E-2,1.5699999999999999E-2,1.7100000000000001E-2,1.8700000000000001E-2,2.0299999999999999E-2,2.1700000000000001E-2,2.2700000000000001E-2,2.3099999999999999E-2,2.2700000000000001E-2,2.1299999999999999E-2,1.89E-2,1.5800000000000002E-2,1.2200000000000001E-2,8.6999999999999994E-3,5.5999999999999999E-3,3.2000000000000002E-3,1.6000000000000001E-3,1E-3,1.2999999999999999E-3,2.3999999999999998E-3,4.0000000000000001E-3,5.7000000000000002E-3,7.0000000000000001E-3,7.7000000000000002E-3,7.7000000000000002E-3,6.8999999999999999E-3,5.7000000000000002E-3,4.3E-3,3.0999999999999999E-3,2.3E-3,2E-3,2.3999999999999998E-3,3.3999999999999998E-3,5.1999999999999998E-3,7.6E-3,1.03E-2,1.2999999999999999E-2,1.5599999999999999E-2,1.77E-2,1.9199999999999998E-2,0.02,2.01E-2,1.9400000000000001E-2,1.83E-2,1.67E-2,1.49E-2,1.3100000000000001E-2,1.1599999999999999E-2,1.04E-2,9.7000000000000003E-3,9.4000000000000004E-3,9.4999999999999998E-3,9.4999999999999998E-3,9.2999999999999992E-3,8.8999999999999999E-3,8.3999999999999995E-3,7.7999999999999996E-3,7.3000000000000001E-3,6.8999999999999999E-3,6.7000000000000002E-3,6.7999999999999996E-3,7.1999999999999998E-3,7.9000000000000008E-3,8.6E-3,9.4999999999999998E-3,1.03E-2,1.09E-2,1.14E-2,1.18E-2,1.2E-2,1.21E-2]
[73,2.07E-2,1.95E-2,1.8200000000000001E-2,1.7000000000000001E-2,1.5699999999999999E-2,1.46E-2,1.37E-2,1.2999999999999999E-2,1.26E-2,1.23E-2,1.21E-2,1.21E-2,1.23E-2,1.2699999999999999E-2,1.34E-2,1.4200000000000001E-2,1.54E-2,1.6899999999999998E-2,1.8499999999999999E-2,2.0199999999999999E-2,2.18E-2,2.3099999999999999E-2,2.3800000000000002E-2,2.3599999999999999E-2,2.24E-2,2.0199999999999999E-2,1.7100000000000001E-2,1.3599999999999999E-2,0.01,6.7000000000000002E-3,4.1000000000000003E-3,2.3999999999999998E-3,1.5E-3,1.6999999999999999E-3,2.7000000000000001E-3,4.1000000000000003E-3,5.7000000000000002E-3,7.0000000000000001E-3,7.7999999999999996E-3,7.7000000000000002E-3,6.8999999999999999E-3,5.7000000000000002E-3,4.3E-3,3.0000000000000001E-3,2.0999999999999999E-3,1.6999999999999999E-3,2E-3,2.8999999999999998E-3,4.5999999999999999E-3,6.8999999999999999E-3,9.4999999999999998E-3,1.2200000000000001E-2,1.4800000000000001E-2,1.7000000000000001E-2,1.8499999999999999E-2,1.9300000000000001E-2,1.9400000000000001E-2,1.8800000000000001E-2,1.77E-2,1.61E-2,1.43E-2,1.26E-2,1.11E-2,0.01,9.2999999999999992E-3,8.9999999999999993E-3,9.1999999999999998E-3,9.4000000000000004E-3,9.4000000000000004E-3,9.2999999999999992E-3,8.9999999999999993E-3,8.6E-3,8.0999999999999996E-3,7.6E-3,7.3000000000000001E-3,7.1999999999999998E-3,7.4000000000000003E-3,7.7999999999999996E-3,8.5000000000000006E-3,9.2999999999999992E-3,0.01,1.0699999999999999E-2,1.12E-2,1.1599999999999999E-2,1.1900000000000001E-2,1.2E-2]
[74,2.0400000000000001E-2,1.9199999999999998E-2,1.7899999999999999E-2,1.67E-2,1.55E-2,1.44E-2,1.35E-2,1.29E-2,1.24E-2,1.21E-2,1.2E-2,1.1900000000000001E-2,1.21E-2,1.2500000000000001E-2,1.3100000000000001E-2,1.4E-2,1.5299999999999999E-2,1.6799999999999999E-2,1.8499999999999999E-2,2.0299999999999999E-2,2.1999999999999999E-2,2.3400000000000001E-2,2.4299999999999999E-2,2.4400000000000002E-2,2.3400000000000001E-2,2.1399999999999999E-2,1.84E-2,1.4999999999999999E-2,1.1299999999999999E-2,8.0000000000000002E-3,5.1999999999999998E-3,3.2000000000000002E-3,2.2000000000000001E-3,2.2000000000000001E-3,3.0000000000000001E-3,4.3E-3,5.7999999999999996E-3,7.1000000000000004E-3,7.7999999999999996E-3,7.7000000000000002E-3,6.8999999999999999E-3,5.5999999999999999E-3,4.1999999999999997E-3,2.8E-3,1.9E-3,1.5E-3,1.6000000000000001E-3,2.5000000000000001E-3,4.0000000000000001E-3,6.1999999999999998E-3,8.8000000000000005E-3,1.1599999999999999E-2,1.4200000000000001E-2,1.6400000000000001E-2,1.7899999999999999E-2,1.8700000000000001E-2,1.8800000000000001E-2,1.8200000000000001E-2,1.7000000000000001E-2,1.55E-2,1.37E-2,1.2E-2,1.0500000000000001E-2,9.4000000000000004E-3,8.6999999999999994E-3,8.3000000000000001E-3,8.6999999999999994E-3,8.9999999999999993E-3,9.1999999999999998E-3,9.2999999999999992E-3,9.2999999999999992E-3,8.9999999999999993E-3,8.6999999999999994E-3,8.3000000000000001E-3,8.0000000000000002E-3,7.7000000000000002E-3,7.7000000000000002E-3,7.9000000000000008E-3,8.3999999999999995E-3,9.1999999999999998E-3,9.7999999999999997E-3,1.0500000000000001E-2,1.0999999999999999E-2,1.15E-2,1.17E-2,1.18E-2]
[75,1.9800000000000002E-2,1.8599999999999998E-2,1.7399999999999999E-2,1.6199999999999999E-2,1.4999999999999999E-2,1.4E-2,1.3100000000000001E-2,1.2500000000000001E-2,1.21E-2,1.18E-2,1.1599999999999999E-2,1.1599999999999999E-2,1.18E-2,1.23E-2,1.2999999999999999E-2,1.3899999999999999E-2,1.52E-2,1.67E-2,1.8499999999999999E-2,2.0400000000000001E-2,2.2200000000000001E-2,2.3699999999999999E-2,2.4799999999999999E-2,2.5100000000000001E-2,2.4299999999999999E-2,2.24E-2,1.9599999999999999E-2,1.6299999999999999E-2,1.26E-2,9.1999999999999998E-3,6.3E-3,4.1999999999999997E-3,3.0000000000000001E-3,2.7000000000000001E-3,3.3E-3,4.4999999999999997E-3,5.8999999999999999E-3,7.1000000000000004E-3,7.7000000000000002E-3,7.6E-3,6.7999999999999996E-3,5.4999999999999997E-3,4.0000000000000001E-3,2.7000000000000001E-3,1.6000000000000001E-3,1.1999999999999999E-3,1.2999999999999999E-3,2E-3,3.5000000000000001E-3,5.7000000000000002E-3,8.2000000000000007E-3,1.0999999999999999E-2,1.37E-2,1.5900000000000001E-2,1.7399999999999999E-2,1.8200000000000001E-2,1.8200000000000001E-2,1.7600000000000001E-2,1.6400000000000001E-2,1.4800000000000001E-2,1.2999999999999999E-2,1.14E-2,9.9000000000000008E-3,8.8000000000000005E-3,8.0000000000000002E-3,7.6E-3,8.0000000000000002E-3,8.3999999999999995E-3,8.8000000000000005E-3,9.1000000000000004E-3,9.2999999999999992E-3,9.2999999999999992E-3,9.1000000000000004E-3,8.8999999999999999E-3,8.5000000000000006E-3,8.2000000000000007E-3,8.0999999999999996E-3,8.0999999999999996E-3,8.5000000000000006E-3,8.9999999999999993E-3,9.7000000000000003E-3,1.03E-2,1.09E-2,1.1299999999999999E-2,1.1599999999999999E-2,1.17E-2]
[76,1.9099999999999999E-2,1.78E-2,1.66E-2,1.54E-2,1.43E-2,1.3299999999999999E-2,1.2500000000000001E-2,1.1900000000000001E-2,1.1599999999999999E-2,1.1299999999999999E-2,1.12E-2,1.1299999999999999E-2,1.15E-2,1.2E-2,1.2800000000000001E-2,1.38E-2,1.52E-2,1.6799999999999999E-2,1.8599999999999998E-2,2.0500000000000001E-2,2.24E-2,2.4E-2,2.52E-2,2.5600000000000001E-2,2.5000000000000001E-2,2.3300000000000001E-2,2.07E-2,1.7399999999999999E-2,1.3899999999999999E-2,1.0500000000000001E-2,7.4999999999999997E-3,5.1999999999999998E-3,3.8E-3,3.3999999999999998E-3,3.8E-3,4.7999999999999996E-3,6.0000000000000001E-3,7.1000000000000004E-3,7.7000000000000002E-3,7.4999999999999997E-3,6.7000000000000002E-3,5.4000000000000003E-3,3.8E-3,2.3999999999999998E-3,1.4E-3,8.0000000000000004E-4,8.9999999999999998E-4,1.6000000000000001E-3,3.0000000000000001E-3,5.1999999999999998E-3,7.7999999999999996E-3,1.06E-2,1.32E-2,1.54E-2,1.6899999999999998E-2,1.77E-2,1.77E-2,1.7000000000000001E-2,1.5699999999999999E-2,1.41E-2,1.24E-2,1.0699999999999999E-2,9.2999999999999992E-3,8.0999999999999996E-3,7.3000000000000001E-3,6.7999999999999996E-3,7.3000000000000001E-3,7.7999999999999996E-3,8.3000000000000001E-3,8.6999999999999994E-3,9.1000000000000004E-3,9.2999999999999992E-3,9.4000000000000004E-3,9.1999999999999998E-3,8.9999999999999993E-3,8.6999999999999994E-3,8.3999999999999995E-3,8.3999999999999995E-3,8.6E-3,8.9999999999999993E-3,9.4999999999999998E-3,1.0200000000000001E-2,1.0699999999999999E-2,1.11E-2,1.14E-2,1.1599999999999999E-2]
[77,1.7999999999999999E-2,1.6799999999999999E-2,1.5599999999999999E-2,1.44E-2,1.3299999999999999E-2,1.24E-2,1.17E-2,1.12E-2,1.09E-2,1.0699999999999999E-2,1.0699999999999999E-2,1.0800000000000001E-2,1.12E-2,1.18E-2,1.2699999999999999E-2,1.38E-2,1.5299999999999999E-2,1.6899999999999998E-2,1.8700000000000001E-2,2.07E-2,2.2499999999999999E-2,2.4199999999999999E-2,2.5499999999999998E-2,2.5999999999999999E-2,2.5499999999999998E-2,2.4E-2,2.1600000000000001E-2,1.8499999999999999E-2,1.4999999999999999E-2,1.1599999999999999E-2,8.6E-3,6.3E-3,4.7000000000000002E-3,4.1000000000000003E-3,4.3E-3,5.1000000000000004E-3,6.1000000000000004E-3,7.1000000000000004E-3,7.6E-3,7.4000000000000003E-3,6.4999999999999997E-3,5.1000000000000004E-3,3.5000000000000001E-3,2.0999999999999999E-3,1E-3,4.0000000000000002E-4,4.0000000000000002E-4,1.1000000000000001E-3,2.5999999999999999E-3,4.7000000000000002E-3,7.3000000000000001E-3,1.0200000000000001E-2,1.29E-2,1.5100000000000001E-2,1.66E-2,1.7299999999999999E-2,1.72E-2,1.6400000000000001E-2,1.5100000000000001E-2,1.35E-2,1.17E-2,0.01,8.6E-3,7.4999999999999997E-3,6.6E-3,6.0000000000000001E-3,6.4999999999999997E-3,7.0000000000000001E-3,7.6E-3,8.2000000000000007E-3,8.8000000000000005E-3,9.1000000000000004E-3,9.4000000000000004E-3,9.4000000000000004E-3,9.2999999999999992E-3,9.1000000000000004E-3,8.8000000000000005E-3,8.6999999999999994E-3,8.6999999999999994E-3,8.9999999999999993E-3,9.4000000000000004E-3,0.01,1.06E-2,1.0999999999999999E-2,1.1299999999999999E-2,1.14E-2]
[78,1.66E-2,1.55E-2,1.43E-2,1.32E-2,1.2200000000000001E-2,1.1299999999999999E-2,1.06E-2,1.0200000000000001E-2,0.01,9.9000000000000008E-3,1.01E-2,1.04E-2,1.09E-2,1.17E-2,1.26E-2,1.3899999999999999E-2,1.5299999999999999E-2,1.7000000000000001E-2,1.89E-2,2.0799999999999999E-2,2.2700000000000001E-2,2.4400000000000002E-2,2.5700000000000001E-2,2.6200000000000001E-2,2.5899999999999999E-2,2.4500000000000001E-2,2.2200000000000001E-2,1.9300000000000001E-2,1.6E-2,1.26E-2,9.7000000000000003E-3,7.3000000000000001E-3,5.5999999999999999E-3,4.7999999999999996E-3,4.7999999999999996E-3,5.4000000000000003E-3,6.3E-3,7.1000000000000004E-3,7.4000000000000003E-3,7.1999999999999998E-3,6.3E-3,4.7999999999999996E-3,3.2000000000000002E-3,1.6999999999999999E-3,5.0000000000000001E-4,-1E-4,-1E-4,5.9999999999999995E-4,2.0999999999999999E-3,4.3E-3,6.8999999999999999E-3,9.7999999999999997E-3,1.26E-2,1.4800000000000001E-2,1.6299999999999999E-2,1.6899999999999998E-2,1.6799999999999999E-2,1.5900000000000001E-2,1.46E-2,1.29E-2,1.11E-2,9.4000000000000004E-3,7.9000000000000008E-3,6.7999999999999996E-3,5.8999999999999999E-3,5.1999999999999998E-3,5.7000000000000002E-3,6.3E-3,7.0000000000000001E-3,7.7000000000000002E-3,8.3000000000000001E-3,8.8000000000000005E-3,9.2999999999999992E-3,9.4999999999999998E-3,9.4999999999999998E-3,9.2999999999999992E-3,9.1000000000000004E-3,8.8999999999999999E-3,8.8999999999999999E-3,8.9999999999999993E-3,9.2999999999999992E-3,9.7999999999999997E-3,1.03E-2,1.0800000000000001E-2,1.11E-2,1.1299999999999999E-2]
[79,1.5100000000000001E-2,1.4E-2,1.29E-2,1.18E-2,1.0800000000000001E-2,0.01,9.4000000000000004E-3,8.9999999999999993E-3,8.9999999999999993E-3,9.1000000000000004E-3,9.4000000000000004E-3,9.9000000000000008E-3,1.06E-2,1.15E-2,1.26E-2,1.3899999999999999E-2,1.55E-2,1.72E-2,1.9099999999999999E-2,2.1000000000000001E-2,2.29E-2,2.4500000000000001E-2,2.58E-2,2.64E-2,2.6100000000000002E-2,2.4799999999999999E-2,2.2700000000000001E-2,1.9900000000000001E-2,1.67E-2,1.35E-2,1.06E-2,8.2000000000000007E-3,6.4999999999999997E-3,5.5999999999999999E-3,5.4000000000000003E-3,5.7999999999999996E-3,6.4000000000000003E-3,7.0000000000000001E-3,7.3000000000000001E-3,7.0000000000000001E-3,6.0000000000000001E-3,4.4999999999999997E-3,2.8E-3,1.1999999999999999E-3,0,-5.9999999999999995E-4,-6.9999999999999999E-4,0,1.6000000000000001E-3,3.8E-3,6.6E-3,9.4999999999999998E-3,1.23E-2,1.4500000000000001E-2,1.6E-2,1.66E-2,1.6400000000000001E-2,1.55E-2,1.41E-2,1.24E-2,1.0500000000000001E-2,8.8000000000000005E-3,7.3000000000000001E-3,6.1000000000000004E-3,5.1999999999999998E-3,4.4999999999999997E-3,5.0000000000000001E-3,5.5999999999999999E-3,6.3E-3,7.0000000000000001E-3,7.7999999999999996E-3,8.5000000000000006E-3,8.9999999999999993E-3,9.4000000000000004E-3,9.4999999999999998E-3,9.4000000000000004E-3,9.2999999999999992E-3,9.1000000000000004E-3,8.9999999999999993E-3,9.1000000000000004E-3,9.2999999999999992E-3,9.5999999999999992E-3,1.01E-2,1.06E-2,1.0999999999999999E-2,1.11E-2]
[80,1.3299999999999999E-2,1.23E-2,1.12E-2,1.0200000000000001E-2,9.2999999999999992E-3,8.6E-3,8.0000000000000002E-3,7.7999999999999996E-3,7.7999999999999996E-3,8.0999999999999996E-3,8.6999999999999994E-3,9.4000000000000004E-3,1.03E-2,1.1299999999999999E-2,1.26E-2,1.4E-2,1.5599999999999999E-2,1.7399999999999999E-2,1.9300000000000001E-2,2.12E-2,2.3E-2,2.46E-2,2.58E-2,2.64E-2,2.6100000000000002E-2,2.5000000000000001E-2,2.3E-2,2.0299999999999999E-2,1.7299999999999999E-2,1.4200000000000001E-2,1.14E-2,8.9999999999999993E-3,7.3000000000000001E-3,6.1999999999999998E-3,5.8999999999999999E-3,6.1000000000000004E-3,6.6E-3,7.0000000000000001E-3,7.1000000000000004E-3,6.7000000000000002E-3,5.5999999999999999E-3,4.1000000000000003E-3,2.3E-3,6.9999999999999999E-4,-5.0000000000000001E-4,-1.2999999999999999E-3,-1.2999999999999999E-3,-5.0000000000000001E-4,1E-3,3.3E-3,6.1000000000000004E-3,9.1000000000000004E-3,1.1900000000000001E-2,1.4200000000000001E-2,1.5699999999999999E-2,1.6299999999999999E-2,1.61E-2,1.52E-2,1.37E-2,1.1900000000000001E-2,0.01,8.2000000000000007E-3,6.7000000000000002E-3,5.4999999999999997E-3,4.5999999999999999E-3,3.8E-3,4.3E-3,4.8999999999999998E-3,5.5999999999999999E-3,6.4000000000000003E-3,7.1999999999999998E-3,8.0000000000000002E-3,8.6E-3,9.1000000000000004E-3,9.4000000000000004E-3,9.4000000000000004E-3,9.2999999999999992E-3,9.1999999999999998E-3,9.1000000000000004E-3,9.1000000000000004E-3,9.1999999999999998E-3,9.4999999999999998E-3,9.9000000000000008E-3,1.03E-2,1.0699999999999999E-2,1.0999999999999999E-2]
[81,1.14E-2,1.04E-2,9.4999999999999998E-3,8.6E-3,7.7000000000000002E-3,7.1000000000000004E-3,6.6E-3,6.4999999999999997E-3,6.7000000000000002E-3,7.1000000000000004E-3,7.9000000000000008E-3,8.8000000000000005E-3,9.9000000000000008E-3,1.12E-2,1.26E-2,1.41E-2,1.5800000000000002E-2,1.7600000000000001E-2,1.95E-2,2.1399999999999999E-2,2.3099999999999999E-2,2.47E-2,2.58E-2,2.63E-2,2.5999999999999999E-2,2.4899999999999999E-2,2.3E-2,2.06E-2,1.77E-2,1.4800000000000001E-2,1.21E-2,9.7000000000000003E-3,8.0000000000000002E-3,6.7999999999999996E-3,6.4000000000000003E-3,6.4000000000000003E-3,6.7000000000000002E-3,7.0000000000000001E-3,6.8999999999999999E-3,6.4000000000000003E-3,5.1999999999999998E-3,3.5999999999999999E-3,1.8E-3,1E-4,-1.1999999999999999E-3,-1.9E-3,-1.9E-3,-1.1999999999999999E-3,5.0000000000000001E-4,2.8E-3,5.7000000000000002E-3,8.6999999999999994E-3,1.1599999999999999E-2,1.3899999999999999E-2,1.54E-2,1.6E-2,1.5800000000000002E-2,1.49E-2,1.34E-2,1.15E-2,9.5999999999999992E-3,7.7999999999999996E-3,6.1999999999999998E-3,5.0000000000000001E-3,4.0000000000000001E-3,3.2000000000000002E-3,3.5999999999999999E-3,4.1999999999999997E-3,5.0000000000000001E-3,5.7999999999999996E-3,6.6E-3,7.4000000000000003E-3,8.0999999999999996E-3,8.6999999999999994E-3,8.9999999999999993E-3,9.1000000000000004E-3,9.1000000000000004E-3,8.9999999999999993E-3,8.8999999999999999E-3,8.8999999999999999E-3,8.9999999999999993E-3,9.1999999999999998E-3,9.4999999999999998E-3,9.9000000000000008E-3,1.0200000000000001E-2,1.0500000000000001E-2]
[82,9.2999999999999992E-3,8.5000000000000006E-3,7.6E-3,6.7999999999999996E-3,6.1000000000000004E-3,5.4999999999999997E-3,5.1999999999999998E-3,5.1999999999999998E-3,5.4999999999999997E-3,6.1000000000000004E-3,7.0000000000000001E-3,8.2000000000000007E-3,9.4999999999999998E-3,1.09E-2,1.2500000000000001E-2,1.4200000000000001E-2,1.6E-2,1.78E-2,1.9699999999999999E-2,2.1600000000000001E-2,2.3199999999999998E-2,2.46E-2,2.5600000000000001E-2,2.6100000000000002E-2,2.58E-2,2.47E-2,2.29E-2,2.06E-2,1.7899999999999999E-2,1.5100000000000001E-2,1.2500000000000001E-2,1.03E-2,8.5000000000000006E-3,7.4000000000000003E-3,6.7999999999999996E-3,6.7000000000000002E-3,6.7999999999999996E-3,6.8999999999999999E-3,6.7000000000000002E-3,6.0000000000000001E-3,4.7999999999999996E-3,3.0999999999999999E-3,1.1999999999999999E-3,-5.0000000000000001E-4,-1.8E-3,-2.5999999999999999E-3,-2.5999999999999999E-3,-1.8E-3,-2.0000000000000001E-4,2.3E-3,5.1999999999999998E-3,8.2000000000000007E-3,1.11E-2,1.35E-2,1.4999999999999999E-2,1.5699999999999999E-2,1.55E-2,1.46E-2,1.3100000000000001E-2,1.12E-2,9.2999999999999992E-3,7.4999999999999997E-3,5.8999999999999999E-3,4.5999999999999999E-3,3.5000000000000001E-3,2.7000000000000001E-3,3.0000000000000001E-3,3.5999999999999999E-3,4.3E-3,5.1999999999999998E-3,6.0000000000000001E-3,6.7999999999999996E-3,7.4999999999999997E-3,8.0999999999999996E-3,8.6E-3,8.6999999999999994E-3,8.8000000000000005E-3,8.6999999999999994E-3,8.6999999999999994E-3,8.6999999999999994E-3,8.6999999999999994E-3,8.8999999999999999E-3,9.1000000000000004E-3,9.4000000000000004E-3,9.7999999999999997E-3,1.01E-2]
[83,7.1999999999999998E-3,6.4999999999999997E-3,5.7000000000000002E-3,5.0000000000000001E-3,4.4000000000000003E-3,4.0000000000000001E-3,3.8E-3,3.8999999999999998E-3,4.3E-3,5.1000000000000004E-3,6.1999999999999998E-3,7.4999999999999997E-3,8.9999999999999993E-3,1.0699999999999999E-2,1.2500000000000001E-2,1.43E-2,1.6199999999999999E-2,1.8100000000000002E-2,1.9900000000000001E-2,2.1700000000000001E-2,2.3199999999999998E-2,2.4500000000000001E-2,2.5399999999999999E-2,2.5700000000000001E-2,2.5399999999999999E-2,2.4400000000000002E-2,2.2700000000000001E-2,2.0500000000000001E-2,1.7899999999999999E-2,1.5299999999999999E-2,1.29E-2,1.0699999999999999E-2,8.9999999999999993E-3,7.7999999999999996E-3,7.1000000000000004E-3,6.7999999999999996E-3,6.7999999999999996E-3,6.7999999999999996E-3,6.4000000000000003E-3,5.5999999999999999E-3,4.3E-3,2.5000000000000001E-3,5.9999999999999995E-4,-1.1000000000000001E-3,-2.5000000000000001E-3,-3.3E-3,-3.3E-3,-2.5000000000000001E-3,-8.0000000000000004E-4,1.6000000000000001E-3,4.5999999999999999E-3,7.7000000000000002E-3,1.06E-2,1.2999999999999999E-2,1.46E-2,1.5299999999999999E-2,1.52E-2,1.43E-2,1.29E-2,1.0999999999999999E-2,9.1000000000000004E-3,7.1999999999999998E-3,5.5999999999999999E-3,4.3E-3,3.0999999999999999E-3,2.2000000000000001E-3,2.5000000000000001E-3,3.0999999999999999E-3,3.8E-3,4.5999999999999999E-3,5.4000000000000003E-3,6.1999999999999998E-3,7.0000000000000001E-3,7.6E-3,8.0000000000000002E-3,8.3000000000000001E-3,8.3999999999999995E-3,8.3999999999999995E-3,8.3999999999999995E-3,8.3999999999999995E-3,8.5000000000000006E-3,8.6E-3,8.8000000000000005E-3,8.9999999999999993E-3,9.2999999999999992E-3,9.5999999999999992E-3]
[84,5.1000000000000004E-3,4.4999999999999997E-3,3.8E-3,3.3E-3,2.8E-3,2.5000000000000001E-3,2.3999999999999998E-3,2.7000000000000001E-3,3.3E-3,4.1999999999999997E-3,5.4000000000000003E-3,6.8999999999999999E-3,8.6E-3,1.04E-2,1.24E-2,1.44E-2,1.6400000000000001E-2,1.83E-2,2.01E-2,2.18E-2,2.3199999999999998E-2,2.4400000000000002E-2,2.5100000000000001E-2,2.53E-2,2.5000000000000001E-2,2.3900000000000001E-2,2.23E-2,2.0199999999999999E-2,1.78E-2,1.5299999999999999E-2,1.2999999999999999E-2,1.09E-2,9.2999999999999992E-3,8.0000000000000002E-3,7.3000000000000001E-3,6.8999999999999999E-3,6.7999999999999996E-3,6.6E-3,6.1000000000000004E-3,5.1999999999999998E-3,3.8E-3,2E-3,0,-1.8E-3,-3.0999999999999999E-3,-3.8999999999999998E-3,-3.8999999999999998E-3,-3.0999999999999999E-3,-1.4E-3,1E-3,3.8999999999999998E-3,7.0000000000000001E-3,0.01,1.24E-2,1.41E-2,1.49E-2,1.4800000000000001E-2,1.4E-2,1.26E-2,1.0800000000000001E-2,8.8999999999999999E-3,7.1000000000000004E-3,5.4999999999999997E-3,4.0000000000000001E-3,2.8E-3,1.8E-3,2.0999999999999999E-3,2.5999999999999999E-3,3.3E-3,4.1000000000000003E-3,4.8999999999999998E-3,5.7000000000000002E-3,6.4000000000000003E-3,7.1000000000000004E-3,7.4999999999999997E-3,7.7999999999999996E-3,7.9000000000000008E-3,8.0000000000000002E-3,8.0000000000000002E-3,8.0999999999999996E-3,8.0999999999999996E-3,8.2000000000000007E-3,8.3999999999999995E-3,8.6E-3,8.8999999999999999E-3,9.1000000000000004E-3]
[85,2.8999999999999998E-3,2.3999999999999998E-3,2E-3,1.5E-3,1.1999999999999999E-3,1E-3,1.1000000000000001E-3,1.5E-3,2.2000000000000001E-3,3.3E-3,4.5999999999999999E-3,6.3E-3,8.0999999999999996E-3,1.0200000000000001E-2,1.23E-2,1.44E-2,1.6500000000000001E-2,1.8499999999999999E-2,2.0299999999999999E-2,2.18E-2,2.3099999999999999E-2,2.41E-2,2.47E-2,2.4799999999999999E-2,2.4400000000000002E-2,2.3400000000000001E-2,2.18E-2,1.9800000000000002E-2,1.7500000000000002E-2,1.52E-2,1.2999999999999999E-2,1.11E-2,9.4000000000000004E-3,8.2000000000000007E-3,7.4000000000000003E-3,7.0000000000000001E-3,6.7000000000000002E-3,6.3E-3,5.7000000000000002E-3,4.7000000000000002E-3,3.2000000000000002E-3,1.2999999999999999E-3,-5.9999999999999995E-4,-2.3999999999999998E-3,-3.8E-3,-4.4999999999999997E-3,-4.5999999999999999E-3,-3.8E-3,-2.0999999999999999E-3,2.9999999999999997E-4,3.2000000000000002E-3,6.3E-3,9.2999999999999992E-3,1.17E-2,1.35E-2,1.44E-2,1.44E-2,1.37E-2,1.24E-2,1.0699999999999999E-2,8.8000000000000005E-3,7.0000000000000001E-3,5.4000000000000003E-3,3.8999999999999998E-3,2.5999999999999999E-3,1.4E-3,1.6999999999999999E-3,2.2000000000000001E-3,2.8E-3,3.5999999999999999E-3,4.4000000000000003E-3,5.1999999999999998E-3,5.8999999999999999E-3,6.4999999999999997E-3,7.0000000000000001E-3,7.1999999999999998E-3,7.4000000000000003E-3,7.4999999999999997E-3,7.6E-3,7.7000000000000002E-3,7.7000000000000002E-3,7.7999999999999996E-3,8.0000000000000002E-3,8.2000000000000007E-3,8.3999999999999995E-3,8.6999999999999994E-3]
[86,6.9999999999999999E-4,4.0000000000000002E-4,1E-4,-2.0000000000000001E-4,-2.9999999999999997E-4,-2.9999999999999997E-4,-1E-4,5.0000000000000001E-4,1.2999999999999999E-3,2.5000000000000001E-3,4.0000000000000001E-3,5.7000000000000002E-3,7.7000000000000002E-3,9.9000000000000008E-3,1.2200000000000001E-2,1.44E-2,1.66E-2,1.8599999999999998E-2,2.0299999999999999E-2,2.18E-2,2.3E-2,2.3800000000000002E-2,2.4299999999999999E-2,2.4299999999999999E-2,2.3699999999999999E-2,2.2700000000000001E-2,2.12E-2,1.9300000000000001E-2,1.7100000000000001E-2,1.4999999999999999E-2,1.29E-2,1.0999999999999999E-2,9.4000000000000004E-3,8.2000000000000007E-3,7.4000000000000003E-3,6.7999999999999996E-3,6.4000000000000003E-3,6.0000000000000001E-3,5.1999999999999998E-3,4.1000000000000003E-3,2.5999999999999999E-3,6.9999999999999999E-4,-1.1999999999999999E-3,-3.0000000000000001E-3,-4.4000000000000003E-3,-5.1000000000000004E-3,-5.1999999999999998E-3,-4.4000000000000003E-3,-2.7000000000000001E-3,-4.0000000000000002E-4,2.5000000000000001E-3,5.5999999999999999E-3,8.5000000000000006E-3,1.0999999999999999E-2,1.2800000000000001E-2,1.37E-2,1.3899999999999999E-2,1.3299999999999999E-2,1.21E-2,1.0500000000000001E-2,8.8000000000000005E-3,7.0000000000000001E-3,5.3E-3,3.8E-3,2.5000000000000001E-3,1.1999999999999999E-3,1.4E-3,1.8E-3,2.3999999999999998E-3,3.0999999999999999E-3,3.8999999999999998E-3,4.7000000000000002E-3,5.4000000000000003E-3,6.0000000000000001E-3,6.4999999999999997E-3,6.7999999999999996E-3,6.8999999999999999E-3,7.0000000000000001E-3,7.1000000000000004E-3,7.1999999999999998E-3,7.3000000000000001E-3,7.4000000000000003E-3,7.6E-3,7.7000000000000002E-3,8.0000000000000002E-3,8.2000000000000007E-3]
[87,-1.4E-3,-1.6000000000000001E-3,-1.6999999999999999E-3,-1.6999999999999999E-3,-1.6999999999999999E-3,-1.5E-3,-1.1000000000000001E-3,-4.0000000000000002E-4,5.9999999999999995E-4,1.9E-3,3.3999999999999998E-3,5.3E-3,7.4000000000000003E-3,9.7000000000000003E-3,1.21E-2,1.44E-2,1.66E-2,1.8599999999999998E-2,2.0299999999999999E-2,2.1700000000000001E-2,2.2700000000000001E-2,2.3400000000000001E-2,2.3699999999999999E-2,2.3599999999999999E-2,2.3E-2,2.1899999999999999E-2,2.0400000000000001E-2,1.8599999999999998E-2,1.66E-2,1.46E-2,1.26E-2,1.09E-2,9.2999999999999992E-3,8.0999999999999996E-3,7.3000000000000001E-3,6.6E-3,6.1000000000000004E-3,5.4999999999999997E-3,4.7000000000000002E-3,3.5000000000000001E-3,1.9E-3,1E-4,-1.9E-3,-3.5999999999999999E-3,-4.8999999999999998E-3,-5.7000000000000002E-3,-5.7000000000000002E-3,-4.8999999999999998E-3,-3.3E-3,-1E-3,1.8E-3,4.7999999999999996E-3,7.7000000000000002E-3,1.01E-2,1.2E-2,1.2999999999999999E-2,1.3299999999999999E-2,1.29E-2,1.18E-2,1.04E-2,8.6999999999999994E-3,7.0000000000000001E-3,5.4000000000000003E-3,3.8E-3,2.3999999999999998E-3,1E-3,1.1999999999999999E-3,1.6000000000000001E-3,2.0999999999999999E-3,2.8E-3,3.5000000000000001E-3,4.1999999999999997E-3,4.8999999999999998E-3,5.4999999999999997E-3,6.0000000000000001E-3,6.3E-3,6.4000000000000003E-3,6.4999999999999997E-3,6.6E-3,6.7999999999999996E-3,6.8999999999999999E-3,7.0000000000000001E-3,7.1000000000000004E-3,7.3000000000000001E-3,7.4999999999999997E-3,7.7000000000000002E-3]
[88,-3.5000000000000001E-3,-3.5000000000000001E-3,-3.3999999999999998E-3,-3.2000000000000002E-3,-3.0000000000000001E-3,-2.5999999999999999E-3,-2E-3,-1.1999999999999999E-3,0,1.2999999999999999E-3,3.0000000000000001E-3,5.0000000000000001E-3,7.1999999999999998E-3,9.4999999999999998E-3,1.2E-2,1.43E-2,1.66E-2,1.8499999999999999E-2,2.0199999999999999E-2,2.1499999999999998E-2,2.24E-2,2.29E-2,2.3099999999999999E-2,2.29E-2,2.2200000000000001E-2,2.1100000000000001E-2,1.9699999999999999E-2,1.7899999999999999E-2,1.61E-2,1.41E-2,1.23E-2,1.06E-2,9.1000000000000004E-3,7.9000000000000008E-3,7.0000000000000001E-3,6.3E-3,5.7000000000000002E-3,5.0000000000000001E-3,4.1000000000000003E-3,2.8999999999999998E-3,1.2999999999999999E-3,-5.9999999999999995E-4,-2.5000000000000001E-3,-4.1999999999999997E-3,-5.4999999999999997E-3,-6.1999999999999998E-3,-6.1999999999999998E-3,-5.4999999999999997E-3,-3.8999999999999998E-3,-1.6999999999999999E-3,1E-3,3.8999999999999998E-3,6.7999999999999996E-3,9.1999999999999998E-3,1.11E-2,1.23E-2,1.2699999999999999E-2,1.24E-2,1.15E-2,1.0200000000000001E-2,8.6E-3,7.0000000000000001E-3,5.4000000000000003E-3,3.8E-3,2.3E-3,8.9999999999999998E-4,1E-3,1.4E-3,1.9E-3,2.5000000000000001E-3,3.0999999999999999E-3,3.8E-3,4.4999999999999997E-3,5.1000000000000004E-3,5.4999999999999997E-3,5.7999999999999996E-3,5.8999999999999999E-3,6.1000000000000004E-3,6.1000000000000004E-3,6.3E-3,6.4000000000000003E-3,6.4999999999999997E-3,6.7000000000000002E-3,6.7999999999999996E-3,7.0000000000000001E-3,7.3000000000000001E-3]
[89,-5.5999999999999999E-3,-5.3E-3,-5.0000000000000001E-3,-4.5999999999999999E-3,-4.1000000000000003E-3,-3.5000000000000001E-3,-2.8E-3,-1.8E-3,-5.0000000000000001E-4,1E-3,2.8E-3,4.7999999999999996E-3,7.1000000000000004E-3,9.4999999999999998E-3,1.1900000000000001E-2,1.43E-2,1.6400000000000001E-2,1.84E-2,0.02,2.12E-2,2.1999999999999999E-2,2.24E-2,2.24E-2,2.2100000000000002E-2,2.1299999999999999E-2,2.0199999999999999E-2,1.8800000000000001E-2,1.72E-2,1.54E-2,1.3599999999999999E-2,1.18E-2,1.0200000000000001E-2,8.8000000000000005E-3,7.6E-3,6.6E-3,5.7999999999999996E-3,5.1000000000000004E-3,4.4000000000000003E-3,3.3999999999999998E-3,2.0999999999999999E-3,5.9999999999999995E-4,-1.1999999999999999E-3,-3.0999999999999999E-3,-4.7000000000000002E-3,-5.8999999999999999E-3,-6.6E-3,-6.6E-3,-5.8999999999999999E-3,-4.4999999999999997E-3,-2.3E-3,2.9999999999999997E-4,3.0999999999999999E-3,5.8999999999999999E-3,8.3000000000000001E-3,1.0200000000000001E-2,1.14E-2,1.1900000000000001E-2,1.18E-2,1.11E-2,9.9000000000000008E-3,8.5000000000000006E-3,7.0000000000000001E-3,5.4000000000000003E-3,3.8999999999999998E-3,2.3E-3,8.9999999999999998E-4,1E-3,1.1999999999999999E-3,1.6999999999999999E-3,2.2000000000000001E-3,2.8E-3,3.5000000000000001E-3,4.1000000000000003E-3,4.5999999999999999E-3,5.1000000000000004E-3,5.3E-3,5.4999999999999997E-3,5.5999999999999999E-3,5.7000000000000002E-3,5.7999999999999996E-3,5.8999999999999999E-3,6.1000000000000004E-3,6.1999999999999998E-3,6.4000000000000003E-3,6.6E-3,6.7999999999999996E-3]
[90,-7.6E-3,-7.0000000000000001E-3,-6.4999999999999997E-3,-5.7999999999999996E-3,-5.1000000000000004E-3,-4.3E-3,-3.3E-3,-2.2000000000000001E-3,-8.0000000000000004E-4,8.0000000000000004E-4,2.7000000000000001E-3,4.7999999999999996E-3,7.0000000000000001E-3,9.4000000000000004E-3,1.18E-2,1.4200000000000001E-2,1.6299999999999999E-2,1.8100000000000002E-2,1.9599999999999999E-2,2.07E-2,2.1399999999999999E-2,2.1700000000000001E-2,2.1700000000000001E-2,2.12E-2,2.0400000000000001E-2,1.9300000000000001E-2,1.7899999999999999E-2,1.6299999999999999E-2,1.46E-2,1.29E-2,1.1299999999999999E-2,9.7000000000000003E-3,8.3000000000000001E-3,7.1000000000000004E-3,6.1000000000000004E-3,5.3E-3,4.4999999999999997E-3,3.7000000000000002E-3,2.5999999999999999E-3,1.4E-3,-2.0000000000000001E-4,-1.9E-3,-3.5999999999999999E-3,-5.1999999999999998E-3,-6.3E-3,-7.0000000000000001E-3,-7.0000000000000001E-3,-6.3E-3,-4.8999999999999998E-3,-2.8999999999999998E-3,-4.0000000000000002E-4,2.3E-3,5.0000000000000001E-3,7.3000000000000001E-3,9.1999999999999998E-3,1.0500000000000001E-2,1.12E-2,1.12E-2,1.06E-2,9.5999999999999992E-3,8.3000000000000001E-3,6.8999999999999999E-3,5.4000000000000003E-3,3.8999999999999998E-3,2.3999999999999998E-3,8.9999999999999998E-4,1E-3,1.1999999999999999E-3,1.6000000000000001E-3,2E-3,2.5999999999999999E-3,3.0999999999999999E-3,3.7000000000000002E-3,4.1999999999999997E-3,4.5999999999999999E-3,4.8999999999999998E-3,5.0000000000000001E-3,5.1999999999999998E-3,5.3E-3,5.4000000000000003E-3,5.4000000000000003E-3,5.5999999999999999E-3,5.7999999999999996E-3,5.8999999999999999E-3,6.1000000000000004E-3,6.3E-3]
[91,-9.4999999999999998E-3,-8.6999999999999994E-3,-7.7999999999999996E-3,-6.8999999999999999E-3,-6.0000000000000001E-3,-4.8999999999999998E-3,-3.8E-3,-2.3999999999999998E-3,-8.9999999999999998E-4,8.0000000000000004E-4,2.7000000000000001E-3,4.8999999999999998E-3,7.1000000000000004E-3,9.4999999999999998E-3,1.18E-2,1.4E-2,1.61E-2,1.78E-2,1.9199999999999998E-2,2.0199999999999999E-2,2.0799999999999999E-2,2.1000000000000001E-2,2.0799999999999999E-2,2.0299999999999999E-2,1.9400000000000001E-2,1.83E-2,1.6899999999999998E-2,1.54E-2,1.38E-2,1.2200000000000001E-2,1.06E-2,9.1000000000000004E-3,7.7999999999999996E-3,6.6E-3,5.4999999999999997E-3,4.5999999999999999E-3,3.8E-3,2.8999999999999998E-3,1.8E-3,5.9999999999999995E-4,-8.9999999999999998E-4,-2.5000000000000001E-3,-4.1999999999999997E-3,-5.5999999999999999E-3,-6.7000000000000002E-3,-7.3000000000000001E-3,-7.3000000000000001E-3,-6.7000000000000002E-3,-5.3E-3,-3.3999999999999998E-3,-1.1000000000000001E-3,1.5E-3,4.0000000000000001E-3,6.3E-3,8.2000000000000007E-3,9.4999999999999998E-3,1.03E-2,1.0500000000000001E-2,1.01E-2,9.2999999999999992E-3,8.0999999999999996E-3,6.7999999999999996E-3,5.4000000000000003E-3,4.0000000000000001E-3,2.5000000000000001E-3,1.1000000000000001E-3,1.1000000000000001E-3,1.1999999999999999E-3,1.5E-3,1.9E-3,2.3999999999999998E-3,2.8999999999999998E-3,3.3999999999999998E-3,3.8E-3,4.1999999999999997E-3,4.4000000000000003E-3,4.5999999999999999E-3,4.7999999999999996E-3,4.8999999999999998E-3,5.0000000000000001E-3,5.1000000000000004E-3,5.1000000000000004E-3,5.3E-3,5.4999999999999997E-3,5.5999999999999999E-3,5.8999999999999999E-3]
[92,-1.1299999999999999E-2,-1.0200000000000001E-2,-8.9999999999999993E-3,-7.9000000000000008E-3,-6.7000000000000002E-3,-5.4000000000000003E-3,-4.0000000000000001E-3,-2.5000000000000001E-3,-8.0000000000000004E-4,1E-3,3.0000000000000001E-3,5.1000000000000004E-3,7.3000000000000001E-3,9.5999999999999992E-3,1.18E-2,1.3899999999999999E-2,1.5800000000000002E-2,1.7399999999999999E-2,1.8700000000000001E-2,1.95E-2,0.02,2.01E-2,1.9900000000000001E-2,1.9300000000000001E-2,1.84E-2,1.7299999999999999E-2,1.5900000000000001E-2,1.4500000000000001E-2,1.2999999999999999E-2,1.14E-2,9.9000000000000008E-3,8.5000000000000006E-3,7.1000000000000004E-3,5.8999999999999999E-3,4.7999999999999996E-3,3.8999999999999998E-3,3.0000000000000001E-3,2E-3,1E-3,-2.9999999999999997E-4,-1.6999999999999999E-3,-3.2000000000000002E-3,-4.7000000000000002E-3,-6.0000000000000001E-3,-7.0000000000000001E-3,-7.4999999999999997E-3,-7.4999999999999997E-3,-6.8999999999999999E-3,-5.7000000000000002E-3,-3.8999999999999998E-3,-1.6999999999999999E-3,6.9999999999999999E-4,3.0999999999999999E-3,5.3E-3,7.1999999999999998E-3,8.5000000000000006E-3,9.4000000000000004E-3,9.7000000000000003E-3,9.4999999999999998E-3,8.8000000000000005E-3,7.9000000000000008E-3,6.7000000000000002E-3,5.4000000000000003E-3,4.1000000000000003E-3,2.7000000000000001E-3,1.4E-3,1.2999999999999999E-3,1.4E-3,1.6000000000000001E-3,1.9E-3,2.2000000000000001E-3,2.5999999999999999E-3,3.0999999999999999E-3,3.5000000000000001E-3,3.8E-3,4.0000000000000001E-3,4.1999999999999997E-3,4.3E-3,4.4999999999999997E-3,4.5999999999999999E-3,4.7000000000000002E-3,4.7999999999999996E-3,4.7999999999999996E-3,5.0000000000000001E-3,5.1999999999999998E-3,5.4000000000000003E-3]
[93,-1.2999999999999999E-2,-1.1599999999999999E-2,-1.01E-2,-8.6999999999999994E-3,-7.1999999999999998E-3,-5.7000000000000002E-3,-4.1000000000000003E-3,-2.3999999999999998E-3,-5.9999999999999995E-4,1.2999999999999999E-3,3.3999999999999998E-3,5.4999999999999997E-3,7.6E-3,9.7999999999999997E-3,1.18E-2,1.38E-2,1.55E-2,1.6899999999999998E-2,1.7999999999999999E-2,1.8800000000000001E-2,1.9099999999999999E-2,1.9099999999999999E-2,1.8800000000000001E-2,1.8200000000000001E-2,1.7299999999999999E-2,1.6199999999999999E-2,1.49E-2,1.35E-2,1.2E-2,1.06E-2,9.1000000000000004E-3,7.7000000000000002E-3,6.4000000000000003E-3,5.1000000000000004E-3,4.0000000000000001E-3,3.0000000000000001E-3,2.0999999999999999E-3,1.1000000000000001E-3,1E-4,-1.1000000000000001E-3,-2.3999999999999998E-3,-3.8E-3,-5.1999999999999998E-3,-6.4000000000000003E-3,-7.1999999999999998E-3,-7.7000000000000002E-3,-7.7000000000000002E-3,-7.1000000000000004E-3,-5.8999999999999999E-3,-4.3E-3,-2.3E-3,0,2.2000000000000001E-3,4.3E-3,6.1000000000000004E-3,7.4999999999999997E-3,8.3999999999999995E-3,8.8000000000000005E-3,8.8000000000000005E-3,8.3000000000000001E-3,7.4999999999999997E-3,6.4999999999999997E-3,5.4000000000000003E-3,4.1999999999999997E-3,3.0000000000000001E-3,1.6999999999999999E-3,1.6000000000000001E-3,1.6000000000000001E-3,1.6999999999999999E-3,1.9E-3,2.0999999999999999E-3,2.5000000000000001E-3,2.8E-3,3.0999999999999999E-3,3.3999999999999998E-3,3.5999999999999999E-3,3.8E-3,3.8999999999999998E-3,4.1000000000000003E-3,4.1999999999999997E-3,4.3E-3,4.4000000000000003E-3,4.4999999999999997E-3,4.4999999999999997E-3,4.7000000000000002E-3,4.8999999999999998E-3]
[94,-1.46E-2,-1.2800000000000001E-2,-1.11E-2,-9.4000000000000004E-3,-7.6E-3,-5.7999999999999996E-3,-4.0000000000000001E-3,-2.0999999999999999E-3,-1E-4,1.9E-3,3.8999999999999998E-3,5.8999999999999999E-3,8.0000000000000002E-3,0.01,1.1900000000000001E-2,1.3599999999999999E-2,1.5100000000000001E-2,1.6400000000000001E-2,1.7299999999999999E-2,1.7899999999999999E-2,1.8100000000000002E-2,1.8100000000000002E-2,1.77E-2,1.7000000000000001E-2,1.61E-2,1.4999999999999999E-2,1.38E-2,1.2500000000000001E-2,1.11E-2,9.5999999999999992E-3,8.2000000000000007E-3,6.7999999999999996E-3,5.4999999999999997E-3,4.3E-3,3.0999999999999999E-3,2.0999999999999999E-3,1.1000000000000001E-3,1E-4,-8.9999999999999998E-4,-2E-3,-3.2000000000000002E-3,-4.4999999999999997E-3,-5.7000000000000002E-3,-6.7000000000000002E-3,-7.4000000000000003E-3,-7.7999999999999996E-3,-7.7000000000000002E-3,-7.1999999999999998E-3,-6.1000000000000004E-3,-4.5999999999999999E-3,-2.8E-3,-6.9999999999999999E-4,1.2999999999999999E-3,3.3E-3,5.0000000000000001E-3,6.4000000000000003E-3,7.4000000000000003E-3,7.9000000000000008E-3,8.0000000000000002E-3,7.7000000000000002E-3,7.1000000000000004E-3,6.3E-3,5.4000000000000003E-3,4.4000000000000003E-3,3.3E-3,2.2000000000000001E-3,2E-3,1.9E-3,1.9E-3,2E-3,2.0999999999999999E-3,2.3E-3,2.5999999999999999E-3,2.8E-3,3.0000000000000001E-3,3.2000000000000002E-3,3.3999999999999998E-3,3.5000000000000001E-3,3.7000000000000002E-3,3.8E-3,3.8999999999999998E-3,4.0000000000000001E-3,4.1000000000000003E-3,4.1999999999999997E-3,4.1999999999999997E-3,4.4999999999999997E-3]
[95,-1.6E-2,-1.4E-2,-1.1900000000000001E-2,-9.9000000000000008E-3,-7.7999999999999996E-3,-5.7000000000000002E-3,-3.7000000000000002E-3,-1.6000000000000001E-3,5.0000000000000001E-4,2.5000000000000001E-3,4.5999999999999999E-3,6.6E-3,8.5000000000000006E-3,1.03E-2,1.2E-2,1.35E-2,1.47E-2,1.5699999999999999E-2,1.6500000000000001E-2,1.6899999999999998E-2,1.7000000000000001E-2,1.6899999999999998E-2,1.6500000000000001E-2,1.5800000000000002E-2,1.49E-2,1.3899999999999999E-2,1.2699999999999999E-2,1.14E-2,0.01,8.6999999999999994E-3,7.3000000000000001E-3,5.8999999999999999E-3,4.5999999999999999E-3,3.3E-3,2.2000000000000001E-3,1.1000000000000001E-3,1E-4,-8.9999999999999998E-4,-1.9E-3,-3.0000000000000001E-3,-4.0000000000000001E-3,-5.1000000000000004E-3,-6.1000000000000004E-3,-7.0000000000000001E-3,-7.6E-3,-7.7999999999999996E-3,-7.7000000000000002E-3,-7.1999999999999998E-3,-6.1999999999999998E-3,-4.8999999999999998E-3,-3.2000000000000002E-3,-1.4E-3,5.0000000000000001E-4,2.3E-3,3.8999999999999998E-3,5.3E-3,6.3E-3,6.8999999999999999E-3,7.1999999999999998E-3,7.1000000000000004E-3,6.7000000000000002E-3,6.1000000000000004E-3,5.4000000000000003E-3,4.5999999999999999E-3,3.7000000000000002E-3,2.8E-3,2.5000000000000001E-3,2.3E-3,2.2000000000000001E-3,2.0999999999999999E-3,2.2000000000000001E-3,2.3E-3,2.3999999999999998E-3,2.5000000000000001E-3,2.7000000000000001E-3,2.8999999999999998E-3,3.0000000000000001E-3,3.2000000000000002E-3,3.3E-3,3.3999999999999998E-3,3.5999999999999999E-3,3.7000000000000002E-3,3.8E-3,3.8E-3,3.8999999999999998E-3,4.0000000000000001E-3]
[96,-1.52E-2,-1.3299999999999999E-2,-1.1299999999999999E-2,-9.4000000000000004E-3,-7.4000000000000003E-3,-5.4999999999999997E-3,-3.5000000000000001E-3,-1.5E-3,5.0000000000000001E-4,2.3999999999999998E-3,4.3E-3,6.1999999999999998E-3,8.0999999999999996E-3,9.7999999999999997E-3,1.14E-2,1.2800000000000001E-2,1.4E-2,1.49E-2,1.5599999999999999E-2,1.61E-2,1.6199999999999999E-2,1.61E-2,1.5599999999999999E-2,1.4999999999999999E-2,1.4200000000000001E-2,1.32E-2,1.2E-2,1.0800000000000001E-2,9.4999999999999998E-3,8.2000000000000007E-3,6.8999999999999999E-3,5.5999999999999999E-3,4.3E-3,3.2000000000000002E-3,2.0999999999999999E-3,1E-3,1E-4,-8.9999999999999998E-4,-1.8E-3,-2.8E-3,-3.8E-3,-4.7999999999999996E-3,-5.7999999999999996E-3,-6.6E-3,-7.1999999999999998E-3,-7.4000000000000003E-3,-7.3000000000000001E-3,-6.7999999999999996E-3,-5.8999999999999999E-3,-4.5999999999999999E-3,-3.0999999999999999E-3,-1.2999999999999999E-3,5.0000000000000001E-4,2.2000000000000001E-3,3.7000000000000002E-3,5.0000000000000001E-3,6.0000000000000001E-3,6.6E-3,6.7999999999999996E-3,6.7000000000000002E-3,6.4000000000000003E-3,5.7999999999999996E-3,5.1000000000000004E-3,4.3E-3,3.5000000000000001E-3,2.7000000000000001E-3,2.7000000000000001E-3,2.5000000000000001E-3,2.3E-3,2.2000000000000001E-3,2.0999999999999999E-3,2.2000000000000001E-3,2.3E-3,2.3999999999999998E-3,2.5000000000000001E-3,2.5999999999999999E-3,2.8E-3,2.8999999999999998E-3,3.0999999999999999E-3,3.2000000000000002E-3,3.3E-3,3.3999999999999998E-3,3.5000000000000001E-3,3.5999999999999999E-3,3.7000000000000002E-3,3.8E-3]
[97,-1.44E-2,-1.26E-2,-1.0699999999999999E-2,-8.8999999999999999E-3,-7.0000000000000001E-3,-5.1999999999999998E-3,-3.3E-3,-1.4E-3,4.0000000000000002E-4,2.3E-3,4.1000000000000003E-3,5.8999999999999999E-3,7.6E-3,9.2999999999999992E-3,1.0800000000000001E-2,1.21E-2,1.3299999999999999E-2,1.4200000000000001E-2,1.4800000000000001E-2,1.52E-2,1.5299999999999999E-2,1.52E-2,1.4800000000000001E-2,1.4200000000000001E-2,1.34E-2,1.2500000000000001E-2,1.14E-2,1.03E-2,8.9999999999999993E-3,7.7999999999999996E-3,6.4999999999999997E-3,5.3E-3,4.1000000000000003E-3,3.0000000000000001E-3,1.9E-3,1E-3,1E-4,-8.0000000000000004E-4,-1.6999999999999999E-3,-2.7000000000000001E-3,-3.5999999999999999E-3,-4.5999999999999999E-3,-5.4999999999999997E-3,-6.3E-3,-6.7999999999999996E-3,-7.1000000000000004E-3,-6.8999999999999999E-3,-6.4999999999999997E-3,-5.5999999999999999E-3,-4.4000000000000003E-3,-2.8999999999999998E-3,-1.1999999999999999E-3,4.0000000000000002E-4,2.0999999999999999E-3,3.5000000000000001E-3,4.7000000000000002E-3,5.5999999999999999E-3,6.1999999999999998E-3,6.4000000000000003E-3,6.4000000000000003E-3,6.0000000000000001E-3,5.4999999999999997E-3,4.7999999999999996E-3,4.1000000000000003E-3,3.3E-3,2.5000000000000001E-3,2.5999999999999999E-3,2.7000000000000001E-3,2.3999999999999998E-3,2.2000000000000001E-3,2.2000000000000001E-3,2.0999999999999999E-3,2.2000000000000001E-3,2.2000000000000001E-3,2.3E-3,2.3999999999999998E-3,2.5999999999999999E-3,2.7000000000000001E-3,2.8E-3,3.0000000000000001E-3,3.0999999999999999E-3,3.2000000000000002E-3,3.3E-3,3.3999999999999998E-3,3.5000000000000001E-3,3.5999999999999999E-3]
[98,-1.3599999999999999E-2,-1.1900000000000001E-2,-1.01E-2,-8.3999999999999995E-3,-6.6E-3,-4.8999999999999998E-3,-3.0999999999999999E-3,-1.4E-3,4.0000000000000002E-4,2.2000000000000001E-3,3.8999999999999998E-3,5.5999999999999999E-3,7.1999999999999998E-3,8.8000000000000005E-3,1.0200000000000001E-2,1.14E-2,1.2500000000000001E-2,1.34E-2,1.4E-2,1.44E-2,1.4500000000000001E-2,1.44E-2,1.4E-2,1.34E-2,1.2699999999999999E-2,1.18E-2,1.0800000000000001E-2,9.7000000000000003E-3,8.5000000000000006E-3,7.4000000000000003E-3,6.1999999999999998E-3,5.0000000000000001E-3,3.8999999999999998E-3,2.8E-3,1.8E-3,8.9999999999999998E-4,1E-4,-8.0000000000000004E-4,-1.6000000000000001E-3,-2.5000000000000001E-3,-3.3999999999999998E-3,-4.3E-3,-5.1999999999999998E-3,-5.8999999999999999E-3,-6.4000000000000003E-3,-6.7000000000000002E-3,-6.6E-3,-6.1000000000000004E-3,-5.3E-3,-4.1000000000000003E-3,-2.7000000000000001E-3,-1.1999999999999999E-3,4.0000000000000002E-4,2E-3,3.3E-3,4.4999999999999997E-3,5.3E-3,5.8999999999999999E-3,6.1000000000000004E-3,6.0000000000000001E-3,5.7000000000000002E-3,5.1999999999999998E-3,4.5999999999999999E-3,3.8999999999999998E-3,3.0999999999999999E-3,2.3999999999999998E-3,2.5000000000000001E-3,2.5000000000000001E-3,2.5999999999999999E-3,2.3999999999999998E-3,2.2000000000000001E-3,2.0999999999999999E-3,2.0999999999999999E-3,2.0999999999999999E-3,2.2000000000000001E-3,2.3E-3,2.3999999999999998E-3,2.5000000000000001E-3,2.5999999999999999E-3,2.8E-3,2.8999999999999998E-3,3.0000000000000001E-3,3.0999999999999999E-3,3.2000000000000002E-3,3.3E-3,3.3999999999999998E-3]
[99,-1.2800000000000001E-2,-1.12E-2,-9.4999999999999998E-3,-7.9000000000000008E-3,-6.1999999999999998E-3,-4.5999999999999999E-3,-2.8999999999999998E-3,-1.2999999999999999E-3,4.0000000000000002E-4,2E-3,3.7000000000000002E-3,5.3E-3,6.7999999999999996E-3,8.2000000000000007E-3,9.5999999999999992E-3,1.0800000000000001E-2,1.18E-2,1.26E-2,1.32E-2,1.35E-2,1.3599999999999999E-2,1.35E-2,1.32E-2,1.26E-2,1.1900000000000001E-2,1.11E-2,1.01E-2,9.1000000000000004E-3,8.0000000000000002E-3,6.8999999999999999E-3,5.7999999999999996E-3,4.7000000000000002E-3,3.7000000000000002E-3,2.7000000000000001E-3,1.6999999999999999E-3,8.9999999999999998E-4,1E-4,-6.9999999999999999E-4,-1.5E-3,-2.3999999999999998E-3,-3.2000000000000002E-3,-4.1000000000000003E-3,-4.8999999999999998E-3,-5.5999999999999999E-3,-6.1000000000000004E-3,-6.3E-3,-6.1999999999999998E-3,-5.7000000000000002E-3,-5.0000000000000001E-3,-3.8999999999999998E-3,-2.5999999999999999E-3,-1.1000000000000001E-3,4.0000000000000002E-4,1.8E-3,3.0999999999999999E-3,4.1999999999999997E-3,5.0000000000000001E-3,5.4999999999999997E-3,5.7000000000000002E-3,5.7000000000000002E-3,5.4000000000000003E-3,4.8999999999999998E-3,4.3E-3,3.5999999999999999E-3,3.0000000000000001E-3,2.2000000000000001E-3,2.3E-3,2.3999999999999998E-3,2.5000000000000001E-3,2.5000000000000001E-3,2.3E-3,2.2000000000000001E-3,2.0999999999999999E-3,2E-3,2.0999999999999999E-3,2.0999999999999999E-3,2.2000000000000001E-3,2.3E-3,2.3999999999999998E-3,2.5000000000000001E-3,2.7000000000000001E-3,2.8E-3,2.8999999999999998E-3,3.0000000000000001E-3,3.0999999999999999E-3,3.2000000000000002E-3]
[100,-1.2E-2,-1.0500000000000001E-2,-8.8999999999999999E-3,-7.4000000000000003E-3,-5.8999999999999999E-3,-4.3E-3,-2.8E-3,-1.1999999999999999E-3,4.0000000000000002E-4,1.9E-3,3.3999999999999998E-3,4.8999999999999998E-3,6.4000000000000003E-3,7.7000000000000002E-3,8.9999999999999993E-3,1.01E-2,1.0999999999999999E-2,1.18E-2,1.24E-2,1.2699999999999999E-2,1.2800000000000001E-2,1.2699999999999999E-2,1.24E-2,1.1900000000000001E-2,1.12E-2,1.04E-2,9.4999999999999998E-3,8.5000000000000006E-3,7.4999999999999997E-3,6.4999999999999997E-3,5.4999999999999997E-3,4.4000000000000003E-3,3.3999999999999998E-3,2.5000000000000001E-3,1.6000000000000001E-3,8.0000000000000004E-4,1E-4,-6.9999999999999999E-4,-1.4E-3,-2.2000000000000001E-3,-3.0000000000000001E-3,-3.8E-3,-4.5999999999999999E-3,-5.1999999999999998E-3,-5.7000000000000002E-3,-5.8999999999999999E-3,-5.7999999999999996E-3,-5.4000000000000003E-3,-4.7000000000000002E-3,-3.5999999999999999E-3,-2.3999999999999998E-3,-1E-3,4.0000000000000002E-4,1.6999999999999999E-3,2.8999999999999998E-3,3.8999999999999998E-3,4.7000000000000002E-3,5.1999999999999998E-3,5.4000000000000003E-3,5.3E-3,5.0000000000000001E-3,4.5999999999999999E-3,4.0000000000000001E-3,3.3999999999999998E-3,2.8E-3,2.0999999999999999E-3,2.2000000000000001E-3,2.3E-3,2.3E-3,2.3999999999999998E-3,2.5000000000000001E-3,2.2000000000000001E-3,2.0999999999999999E-3,2E-3,2E-3,2E-3,2E-3,2.0999999999999999E-3,2.2000000000000001E-3,2.3E-3,2.5000000000000001E-3,2.5999999999999999E-3,2.7000000000000001E-3,2.8E-3,2.8999999999999998E-3,3.0000000000000001E-3]
[101,-1.12E-2,-9.7999999999999997E-3,-8.3000000000000001E-3,-6.8999999999999999E-3,-5.4999999999999997E-3,-4.0000000000000001E-3,-2.5999999999999999E-3,-1.1000000000000001E-3,2.9999999999999997E-4,1.8E-3,3.2000000000000002E-3,4.5999999999999999E-3,5.8999999999999999E-3,7.1999999999999998E-3,8.3999999999999995E-3,9.4000000000000004E-3,1.03E-2,1.0999999999999999E-2,1.15E-2,1.18E-2,1.1900000000000001E-2,1.18E-2,1.15E-2,1.11E-2,1.04E-2,9.7000000000000003E-3,8.8999999999999999E-3,8.0000000000000002E-3,7.0000000000000001E-3,6.1000000000000004E-3,5.1000000000000004E-3,4.1000000000000003E-3,3.2000000000000002E-3,2.3E-3,1.5E-3,8.0000000000000004E-4,0,-5.9999999999999995E-4,-1.2999999999999999E-3,-2.0999999999999999E-3,-2.8E-3,-3.5999999999999999E-3,-4.3E-3,-4.8999999999999998E-3,-5.3E-3,-5.4999999999999997E-3,-5.4000000000000003E-3,-5.0000000000000001E-3,-4.3E-3,-3.3999999999999998E-3,-2.3E-3,-1E-3,2.9999999999999997E-4,1.6000000000000001E-3,2.7000000000000001E-3,3.7000000000000002E-3,4.4000000000000003E-3,4.7999999999999996E-3,5.0000000000000001E-3,4.8999999999999998E-3,4.7000000000000002E-3,4.3E-3,3.8E-3,3.2000000000000002E-3,2.5999999999999999E-3,2E-3,2E-3,2.0999999999999999E-3,2.2000000000000001E-3,2.3E-3,2.3E-3,2.3999999999999998E-3,2.0999999999999999E-3,2E-3,1.9E-3,1.9E-3,1.9E-3,1.9E-3,2E-3,2.0999999999999999E-3,2.3E-3,2.3999999999999998E-3,2.5000000000000001E-3,2.5999999999999999E-3,2.7000000000000001E-3,2.8E-3]
[102,-1.04E-2,-9.1000000000000004E-3,-7.7000000000000002E-3,-6.4000000000000003E-3,-5.1000000000000004E-3,-3.7000000000000002E-3,-2.3999999999999998E-3,-1E-3,2.9999999999999997E-4,1.6999999999999999E-3,3.0000000000000001E-3,4.3E-3,5.4999999999999997E-3,6.7000000000000002E-3,7.7999999999999996E-3,8.6999999999999994E-3,9.5999999999999992E-3,1.0200000000000001E-2,1.0699999999999999E-2,1.0999999999999999E-2,1.11E-2,1.0999999999999999E-2,1.0699999999999999E-2,1.03E-2,9.7000000000000003E-3,8.9999999999999993E-3,8.2000000000000007E-3,7.4000000000000003E-3,6.4999999999999997E-3,5.5999999999999999E-3,4.7000000000000002E-3,3.8E-3,3.0000000000000001E-3,2.2000000000000001E-3,1.4E-3,6.9999999999999999E-4,0,-5.9999999999999995E-4,-1.2999999999999999E-3,-1.9E-3,-2.5999999999999999E-3,-3.3E-3,-4.0000000000000001E-3,-4.4999999999999997E-3,-4.8999999999999998E-3,-5.1000000000000004E-3,-5.0000000000000001E-3,-4.7000000000000002E-3,-4.0000000000000001E-3,-3.2000000000000002E-3,-2.0999999999999999E-3,-8.9999999999999998E-4,2.9999999999999997E-4,1.5E-3,2.5999999999999999E-3,3.3999999999999998E-3,4.1000000000000003E-3,4.4999999999999997E-3,4.7000000000000002E-3,4.5999999999999999E-3,4.4000000000000003E-3,4.0000000000000001E-3,3.5000000000000001E-3,3.0000000000000001E-3,2.3999999999999998E-3,1.8E-3,1.9E-3,2E-3,2.0999999999999999E-3,2.0999999999999999E-3,2.2000000000000001E-3,2.2000000000000001E-3,2.2000000000000001E-3,2E-3,1.9E-3,1.8E-3,1.8E-3,1.8E-3,1.9E-3,1.9E-3,2.0999999999999999E-3,2.2000000000000001E-3,2.3E-3,2.3999999999999998E-3,2.5000000000000001E-3,2.5999999999999999E-3]
[103,-9.5999999999999992E-3,-8.3999999999999995E-3,-7.1000000000000004E-3,-5.8999999999999999E-3,-4.7000000000000002E-3,-3.3999999999999998E-3,-2.2000000000000001E-3,-1E-3,2.9999999999999997E-4,1.5E-3,2.7000000000000001E-3,3.8999999999999998E-3,5.1000000000000004E-3,6.1999999999999998E-3,7.1999999999999998E-3,8.0999999999999996E-3,8.8000000000000005E-3,9.4000000000000004E-3,9.9000000000000008E-3,1.01E-2,1.0200000000000001E-2,1.01E-2,9.9000000000000008E-3,9.4999999999999998E-3,8.9999999999999993E-3,8.3000000000000001E-3,7.6E-3,6.7999999999999996E-3,6.0000000000000001E-3,5.1999999999999998E-3,4.4000000000000003E-3,3.5000000000000001E-3,2.7000000000000001E-3,2E-3,1.2999999999999999E-3,6.9999999999999999E-4,0,-5.9999999999999995E-4,-1.1999999999999999E-3,-1.8E-3,-2.3999999999999998E-3,-3.0999999999999999E-3,-3.7000000000000002E-3,-4.1999999999999997E-3,-4.4999999999999997E-3,-4.7000000000000002E-3,-4.5999999999999999E-3,-4.3E-3,-3.7000000000000002E-3,-2.8999999999999998E-3,-1.9E-3,-8.0000000000000004E-4,2.9999999999999997E-4,1.4E-3,2.3999999999999998E-3,3.2000000000000002E-3,3.8E-3,4.1000000000000003E-3,4.3E-3,4.1999999999999997E-3,4.0000000000000001E-3,3.7000000000000002E-3,3.2000000000000002E-3,2.7000000000000001E-3,2.2000000000000001E-3,1.6999999999999999E-3,1.8E-3,1.8E-3,1.9E-3,2E-3,2E-3,2.0999999999999999E-3,2.0999999999999999E-3,2.0999999999999999E-3,1.9E-3,1.6999999999999999E-3,1.6999999999999999E-3,1.6999999999999999E-3,1.6999999999999999E-3,1.8E-3,1.9E-3,2E-3,2.0999999999999999E-3,2.2000000000000001E-3,2.3E-3,2.3999999999999998E-3]
[104,-8.8000000000000005E-3,-7.7000000000000002E-3,-6.6E-3,-5.4000000000000003E-3,-4.3E-3,-3.2000000000000002E-3,-2E-3,-8.9999999999999998E-4,2.9999999999999997E-4,1.4E-3,2.5000000000000001E-3,3.5999999999999999E-3,4.7000000000000002E-3,5.7000000000000002E-3,6.6E-3,7.4000000000000003E-3,8.0999999999999996E-3,8.6999999999999994E-3,9.1000000000000004E-3,9.2999999999999992E-3,9.4000000000000004E-3,9.2999999999999992E-3,9.1000000000000004E-3,8.6999999999999994E-3,8.2000000000000007E-3,7.6E-3,7.0000000000000001E-3,6.3E-3,5.4999999999999997E-3,4.7999999999999996E-3,4.0000000000000001E-3,3.2000000000000002E-3,2.5000000000000001E-3,1.8E-3,1.1999999999999999E-3,5.9999999999999995E-4,0,-5.0000000000000001E-4,-1.1000000000000001E-3,-1.6000000000000001E-3,-2.2000000000000001E-3,-2.8E-3,-3.3999999999999998E-3,-3.8E-3,-4.1999999999999997E-3,-4.3E-3,-4.1999999999999997E-3,-3.8999999999999998E-3,-3.3999999999999998E-3,-2.7000000000000001E-3,-1.8E-3,-8.0000000000000004E-4,2.9999999999999997E-4,1.2999999999999999E-3,2.2000000000000001E-3,2.8999999999999998E-3,3.3999999999999998E-3,3.8E-3,3.8999999999999998E-3,3.8999999999999998E-3,3.7000000000000002E-3,3.3999999999999998E-3,3.0000000000000001E-3,2.5000000000000001E-3,2E-3,1.5E-3,1.6000000000000001E-3,1.6999999999999999E-3,1.8E-3,1.8E-3,1.9E-3,1.9E-3,1.9E-3,1.9E-3,1.9E-3,1.6999999999999999E-3,1.6000000000000001E-3,1.5E-3,1.5E-3,1.6000000000000001E-3,1.6999999999999999E-3,1.8E-3,1.9E-3,2E-3,2.0999999999999999E-3,2.2000000000000001E-3]
[105,-8.0000000000000002E-3,-7.0000000000000001E-3,-6.0000000000000001E-3,-4.8999999999999998E-3,-3.8999999999999998E-3,-2.8999999999999998E-3,-1.8E-3,-8.0000000000000004E-4,2.0000000000000001E-4,1.2999999999999999E-3,2.3E-3,3.3E-3,4.1999999999999997E-3,5.1999999999999998E-3,6.0000000000000001E-3,6.7000000000000002E-3,7.4000000000000003E-3,7.9000000000000008E-3,8.2000000000000007E-3,8.5000000000000006E-3,8.5000000000000006E-3,8.3999999999999995E-3,8.2000000000000007E-3,7.9000000000000008E-3,7.4999999999999997E-3,6.8999999999999999E-3,6.3E-3,5.7000000000000002E-3,5.0000000000000001E-3,4.3E-3,3.5999999999999999E-3,2.8999999999999998E-3,2.3E-3,1.6999999999999999E-3,1.1000000000000001E-3,5.0000000000000001E-4,0,-5.0000000000000001E-4,-1E-3,-1.5E-3,-2E-3,-2.5999999999999999E-3,-3.0999999999999999E-3,-3.5000000000000001E-3,-3.8E-3,-3.8999999999999998E-3,-3.8999999999999998E-3,-3.5999999999999999E-3,-3.0999999999999999E-3,-2.3999999999999998E-3,-1.6000000000000001E-3,-6.9999999999999999E-4,2.0000000000000001E-4,1.1999999999999999E-3,2E-3,2.5999999999999999E-3,3.0999999999999999E-3,3.5000000000000001E-3,3.5999999999999999E-3,3.5000000000000001E-3,3.3E-3,3.0999999999999999E-3,2.7000000000000001E-3,2.3E-3,1.8E-3,1.4E-3,1.5E-3,1.5E-3,1.6000000000000001E-3,1.6999999999999999E-3,1.6999999999999999E-3,1.8E-3,1.8E-3,1.8E-3,1.8E-3,1.6999999999999999E-3,1.5E-3,1.4E-3,1.4E-3,1.4E-3,1.5E-3,1.6000000000000001E-3,1.6999999999999999E-3,1.8E-3,1.9E-3,2E-3]
[106,-7.1999999999999998E-3,-6.3E-3,-5.4000000000000003E-3,-4.4000000000000003E-3,-3.5000000000000001E-3,-2.5999999999999999E-3,-1.6999999999999999E-3,-6.9999999999999999E-4,2.0000000000000001E-4,1.1000000000000001E-3,2.0999999999999999E-3,3.0000000000000001E-3,3.8E-3,4.5999999999999999E-3,5.4000000000000003E-3,6.1000000000000004E-3,6.6E-3,7.1000000000000004E-3,7.4000000000000003E-3,7.6E-3,7.7000000000000002E-3,7.6E-3,7.4000000000000003E-3,7.1000000000000004E-3,6.7000000000000002E-3,6.1999999999999998E-3,5.7000000000000002E-3,5.1000000000000004E-3,4.4999999999999997E-3,3.8999999999999998E-3,3.3E-3,2.7000000000000001E-3,2.0999999999999999E-3,1.5E-3,1E-3,5.0000000000000001E-4,0,-4.0000000000000002E-4,-8.9999999999999998E-4,-1.2999999999999999E-3,-1.8E-3,-2.3E-3,-2.8E-3,-3.0999999999999999E-3,-3.3999999999999998E-3,-3.5000000000000001E-3,-3.5000000000000001E-3,-3.2000000000000002E-3,-2.8E-3,-2.2000000000000001E-3,-1.4E-3,-5.9999999999999995E-4,2.0000000000000001E-4,1E-3,1.8E-3,2.3999999999999998E-3,2.8E-3,3.0999999999999999E-3,3.2000000000000002E-3,3.2000000000000002E-3,3.0000000000000001E-3,2.8E-3,2.3999999999999998E-3,2.0999999999999999E-3,1.6999999999999999E-3,1.2999999999999999E-3,1.2999999999999999E-3,1.4E-3,1.5E-3,1.5E-3,1.6000000000000001E-3,1.6000000000000001E-3,1.6000000000000001E-3,1.6000000000000001E-3,1.6000000000000001E-3,1.6000000000000001E-3,1.5E-3,1.4E-3,1.2999999999999999E-3,1.2999999999999999E-3,1.2999999999999999E-3,1.4E-3,1.5E-3,1.6000000000000001E-3,1.6999999999999999E-3,1.8E-3]
[107,-6.4000000000000003E-3,-5.5999999999999999E-3,-4.7999999999999996E-3,-3.8999999999999998E-3,-3.0999999999999999E-3,-2.3E-3,-1.5E-3,-5.9999999999999995E-4,2.0000000000000001E-4,1E-3,1.8E-3,2.5999999999999999E-3,3.3999999999999998E-3,4.1000000000000003E-3,4.7999999999999996E-3,5.4000000000000003E-3,5.8999999999999999E-3,6.3E-3,6.6E-3,6.7999999999999996E-3,6.7999999999999996E-3,6.7999999999999996E-3,6.6E-3,6.3E-3,6.0000000000000001E-3,5.4999999999999997E-3,5.1000000000000004E-3,4.5999999999999999E-3,4.0000000000000001E-3,3.5000000000000001E-3,2.8999999999999998E-3,2.3999999999999998E-3,1.8E-3,1.2999999999999999E-3,8.9999999999999998E-4,4.0000000000000002E-4,0,-4.0000000000000002E-4,-8.0000000000000004E-4,-1.1999999999999999E-3,-1.6000000000000001E-3,-2E-3,-2.3999999999999998E-3,-2.8E-3,-3.0000000000000001E-3,-3.0999999999999999E-3,-3.0999999999999999E-3,-2.8999999999999998E-3,-2.5000000000000001E-3,-1.9E-3,-1.2999999999999999E-3,-5.9999999999999995E-4,2.0000000000000001E-4,8.9999999999999998E-4,1.6000000000000001E-3,2.0999999999999999E-3,2.5000000000000001E-3,2.8E-3,2.8999999999999998E-3,2.8E-3,2.7000000000000001E-3,2.3999999999999998E-3,2.2000000000000001E-3,1.8E-3,1.5E-3,1.1000000000000001E-3,1.1999999999999999E-3,1.2999999999999999E-3,1.2999999999999999E-3,1.4E-3,1.4E-3,1.5E-3,1.5E-3,1.5E-3,1.5E-3,1.4E-3,1.4E-3,1.2999999999999999E-3,1.1999999999999999E-3,1.1000000000000001E-3,1.1999999999999999E-3,1.1999999999999999E-3,1.2999999999999999E-3,1.4E-3,1.5E-3,1.6000000000000001E-3]
[108,-5.5999999999999999E-3,-4.8999999999999998E-3,-4.1999999999999997E-3,-3.5000000000000001E-3,-2.7000000000000001E-3,-2E-3,-1.2999999999999999E-3,-5.9999999999999995E-4,2.0000000000000001E-4,8.9999999999999998E-4,1.6000000000000001E-3,2.3E-3,3.0000000000000001E-3,3.5999999999999999E-3,4.1999999999999997E-3,4.7000000000000002E-3,5.1999999999999998E-3,5.4999999999999997E-3,5.7999999999999996E-3,5.8999999999999999E-3,6.0000000000000001E-3,5.8999999999999999E-3,5.7999999999999996E-3,5.4999999999999997E-3,5.1999999999999998E-3,4.8999999999999998E-3,4.4000000000000003E-3,4.0000000000000001E-3,3.5000000000000001E-3,3.0000000000000001E-3,2.5000000000000001E-3,2.0999999999999999E-3,1.6000000000000001E-3,1.1999999999999999E-3,8.0000000000000004E-4,4.0000000000000002E-4,0,-2.9999999999999997E-4,-6.9999999999999999E-4,-1E-3,-1.4E-3,-1.8E-3,-2.0999999999999999E-3,-2.3999999999999998E-3,-2.5999999999999999E-3,-2.7000000000000001E-3,-2.7000000000000001E-3,-2.5000000000000001E-3,-2.2000000000000001E-3,-1.6999999999999999E-3,-1.1000000000000001E-3,-5.0000000000000001E-4,2.0000000000000001E-4,8.0000000000000004E-4,1.4E-3,1.8E-3,2.2000000000000001E-3,2.3999999999999998E-3,2.5000000000000001E-3,2.5000000000000001E-3,2.3E-3,2.0999999999999999E-3,1.9E-3,1.6000000000000001E-3,1.2999999999999999E-3,1E-3,1E-3,1.1000000000000001E-3,1.1999999999999999E-3,1.1999999999999999E-3,1.2999999999999999E-3,1.2999999999999999E-3,1.2999999999999999E-3,1.4E-3,1.2999999999999999E-3,1.2999999999999999E-3,1.1999999999999999E-3,1.1999999999999999E-3,1.1000000000000001E-3,1E-3,1E-3,1E-3,1.1000000000000001E-3,1.1999999999999999E-3,1.2999999999999999E-3,1.4E-3]
[109,-4.7999999999999996E-3,-4.1999999999999997E-3,-3.5999999999999999E-3,-3.0000000000000001E-3,-2.3E-3,-1.6999999999999999E-3,-1.1000000000000001E-3,-5.0000000000000001E-4,1E-4,8.0000000000000004E-4,1.4E-3,2E-3,2.5000000000000001E-3,3.0999999999999999E-3,3.5999999999999999E-3,4.0000000000000001E-3,4.4000000000000003E-3,4.7000000000000002E-3,4.8999999999999998E-3,5.1000000000000004E-3,5.1000000000000004E-3,5.1000000000000004E-3,4.8999999999999998E-3,4.7000000000000002E-3,4.4999999999999997E-3,4.1999999999999997E-3,3.8E-3,3.3999999999999998E-3,3.0000000000000001E-3,2.5999999999999999E-3,2.2000000000000001E-3,1.8E-3,1.4E-3,1E-3,5.9999999999999995E-4,2.9999999999999997E-4,0,-2.9999999999999997E-4,-5.9999999999999995E-4,-8.9999999999999998E-4,-1.1999999999999999E-3,-1.5E-3,-1.8E-3,-2.0999999999999999E-3,-2.3E-3,-2.3999999999999998E-3,-2.3E-3,-2.2000000000000001E-3,-1.9E-3,-1.5E-3,-1E-3,-4.0000000000000002E-4,1E-4,6.9999999999999999E-4,1.1999999999999999E-3,1.6000000000000001E-3,1.9E-3,2.0999999999999999E-3,2.0999999999999999E-3,2.0999999999999999E-3,2E-3,1.8E-3,1.6000000000000001E-3,1.4E-3,1.1000000000000001E-3,8.0000000000000004E-4,8.9999999999999998E-4,1E-3,1E-3,1.1000000000000001E-3,1.1000000000000001E-3,1.1000000000000001E-3,1.1999999999999999E-3,1.1999999999999999E-3,1.1999999999999999E-3,1.1999999999999999E-3,1.1000000000000001E-3,1E-3,1E-3,8.9999999999999998E-4,8.9999999999999998E-4,8.9999999999999998E-4,8.9999999999999998E-4,1E-3,1.1000000000000001E-3,1.1999999999999999E-3]
[110,-4.0000000000000001E-3,-3.5000000000000001E-3,-3.0000000000000001E-3,-2.5000000000000001E-3,-2E-3,-1.4E-3,-8.9999999999999998E-4,-4.0000000000000002E-4,1E-4,5.9999999999999995E-4,1.1000000000000001E-3,1.6000000000000001E-3,2.0999999999999999E-3,2.5999999999999999E-3,3.0000000000000001E-3,3.3999999999999998E-3,3.7000000000000002E-3,3.8999999999999998E-3,4.1000000000000003E-3,4.1999999999999997E-3,4.3E-3,4.1999999999999997E-3,4.1000000000000003E-3,4.0000000000000001E-3,3.7000000000000002E-3,3.5000000000000001E-3,3.2000000000000002E-3,2.8E-3,2.5000000000000001E-3,2.2000000000000001E-3,1.8E-3,1.5E-3,1.1000000000000001E-3,8.0000000000000004E-4,5.0000000000000001E-4,2.9999999999999997E-4,0,-2.0000000000000001E-4,-5.0000000000000001E-4,-6.9999999999999999E-4,-1E-3,-1.2999999999999999E-3,-1.5E-3,-1.6999999999999999E-3,-1.9E-3,-2E-3,-1.9E-3,-1.8E-3,-1.6000000000000001E-3,-1.1999999999999999E-3,-8.0000000000000004E-4,-2.9999999999999997E-4,1E-4,5.9999999999999995E-4,1E-3,1.2999999999999999E-3,1.6000000000000001E-3,1.6999999999999999E-3,1.8E-3,1.8E-3,1.6999999999999999E-3,1.5E-3,1.2999999999999999E-3,1.1000000000000001E-3,8.9999999999999998E-4,6.9999999999999999E-4,8.0000000000000004E-4,8.0000000000000004E-4,8.9999999999999998E-4,8.9999999999999998E-4,8.9999999999999998E-4,1E-3,1E-3,1E-3,1E-3,1E-3,1E-3,8.9999999999999998E-4,8.9999999999999998E-4,8.0000000000000004E-4,6.9999999999999999E-4,6.9999999999999999E-4,6.9999999999999999E-4,8.0000000000000004E-4,8.9999999999999998E-4,1E-3]
[111,-3.2000000000000002E-3,-2.8E-3,-2.3999999999999998E-3,-2E-3,-1.6000000000000001E-3,-1.1000000000000001E-3,-6.9999999999999999E-4,-2.9999999999999997E-4,1E-4,5.0000000000000001E-4,8.9999999999999998E-4,1.2999999999999999E-3,1.6999999999999999E-3,2.0999999999999999E-3,2.3999999999999998E-3,2.7000000000000001E-3,2.8999999999999998E-3,3.0999999999999999E-3,3.3E-3,3.3999999999999998E-3,3.3999999999999998E-3,3.3999999999999998E-3,3.3E-3,3.2000000000000002E-3,3.0000000000000001E-3,2.8E-3,2.5000000000000001E-3,2.3E-3,2E-3,1.6999999999999999E-3,1.5E-3,1.1999999999999999E-3,8.9999999999999998E-4,6.9999999999999999E-4,4.0000000000000002E-4,2.0000000000000001E-4,0,-2.0000000000000001E-4,-4.0000000000000002E-4,-5.9999999999999995E-4,-8.0000000000000004E-4,-1E-3,-1.1999999999999999E-3,-1.4E-3,-1.5E-3,-1.6000000000000001E-3,-1.5E-3,-1.4E-3,-1.1999999999999999E-3,-1E-3,-5.9999999999999995E-4,-2.9999999999999997E-4,1E-4,5.0000000000000001E-4,8.0000000000000004E-4,1.1000000000000001E-3,1.2999999999999999E-3,1.4E-3,1.4E-3,1.4E-3,1.2999999999999999E-3,1.1999999999999999E-3,1.1000000000000001E-3,8.9999999999999998E-4,6.9999999999999999E-4,5.9999999999999995E-4,5.9999999999999995E-4,6.9999999999999999E-4,6.9999999999999999E-4,8.0000000000000004E-4,8.0000000000000004E-4,8.0000000000000004E-4,8.0000000000000004E-4,8.0000000000000004E-4,8.9999999999999998E-4,8.9999999999999998E-4,8.0000000000000004E-4,8.0000000000000004E-4,6.9999999999999999E-4,6.9999999999999999E-4,5.9999999999999995E-4,5.0000000000000001E-4,5.9999999999999995E-4,5.9999999999999995E-4,6.9999999999999999E-4,8.0000000000000004E-4]
[112,-2.3999999999999998E-3,-2.0999999999999999E-3,-1.8E-3,-1.5E-3,-1.1999999999999999E-3,-8.9999999999999998E-4,-5.9999999999999995E-4,-2.0000000000000001E-4,1E-4,4.0000000000000002E-4,6.9999999999999999E-4,1E-3,1.2999999999999999E-3,1.5E-3,1.8E-3,2E-3,2.2000000000000001E-3,2.3999999999999998E-3,2.5000000000000001E-3,2.5000000000000001E-3,2.5999999999999999E-3,2.5000000000000001E-3,2.5000000000000001E-3,2.3999999999999998E-3,2.2000000000000001E-3,2.0999999999999999E-3,1.9E-3,1.6999999999999999E-3,1.5E-3,1.2999999999999999E-3,1.1000000000000001E-3,8.9999999999999998E-4,6.9999999999999999E-4,5.0000000000000001E-4,2.9999999999999997E-4,2.0000000000000001E-4,0,-1E-4,-2.9999999999999997E-4,-4.0000000000000002E-4,-5.9999999999999995E-4,-8.0000000000000004E-4,-8.9999999999999998E-4,-1E-3,-1.1000000000000001E-3,-1.1999999999999999E-3,-1.1999999999999999E-3,-1.1000000000000001E-3,-8.9999999999999998E-4,-6.9999999999999999E-4,-5.0000000000000001E-4,-2.0000000000000001E-4,1E-4,2.9999999999999997E-4,5.9999999999999995E-4,8.0000000000000004E-4,8.9999999999999998E-4,1E-3,1.1000000000000001E-3,1.1000000000000001E-3,1E-3,8.9999999999999998E-4,8.0000000000000004E-4,6.9999999999999999E-4,5.9999999999999995E-4,4.0000000000000002E-4,5.0000000000000001E-4,5.0000000000000001E-4,5.9999999999999995E-4,5.9999999999999995E-4,5.9999999999999995E-4,6.9999999999999999E-4,6.9999999999999999E-4,6.9999999999999999E-4,6.9999999999999999E-4,6.9999999999999999E-4,6.9999999999999999E-4,6.9999999999999999E-4,5.9999999999999995E-4,5.9999999999999995E-4,5.0000000000000001E-4,4.0000000000000002E-4,4.0000000000000002E-4,4.0000000000000002E-4,5.0000000000000001E-4,5.9999999999999995E-4]
[113,-1.6000000000000001E-3,-1.4E-3,-1.1999999999999999E-3,-1E-3,-8.0000000000000004E-4,-5.9999999999999995E-4,-4.0000000000000002E-4,-2.0000000000000001E-4,0,2.9999999999999997E-4,5.0000000000000001E-4,6.9999999999999999E-4,8.0000000000000004E-4,1E-3,1.1999999999999999E-3,1.2999999999999999E-3,1.5E-3,1.6000000000000001E-3,1.6000000000000001E-3,1.6999999999999999E-3,1.6999999999999999E-3,1.6999999999999999E-3,1.6000000000000001E-3,1.6000000000000001E-3,1.5E-3,1.4E-3,1.2999999999999999E-3,1.1000000000000001E-3,1E-3,8.9999999999999998E-4,6.9999999999999999E-4,5.9999999999999995E-4,5.0000000000000001E-4,2.9999999999999997E-4,2.0000000000000001E-4,1E-4,0,-1E-4,-2.0000000000000001E-4,-2.9999999999999997E-4,-4.0000000000000002E-4,-5.0000000000000001E-4,-5.9999999999999995E-4,-6.9999999999999999E-4,-8.0000000000000004E-4,-8.0000000000000004E-4,-8.0000000000000004E-4,-6.9999999999999999E-4,-5.9999999999999995E-4,-5.0000000000000001E-4,-2.9999999999999997E-4,-1E-4,0,2.0000000000000001E-4,4.0000000000000002E-4,5.0000000000000001E-4,5.9999999999999995E-4,6.9999999999999999E-4,6.9999999999999999E-4,6.9999999999999999E-4,6.9999999999999999E-4,5.9999999999999995E-4,5.0000000000000001E-4,5.0000000000000001E-4,4.0000000000000002E-4,2.9999999999999997E-4,2.9999999999999997E-4,4.0000000000000002E-4,4.0000000000000002E-4,5.0000000000000001E-4,5.0000000000000001E-4,5.0000000000000001E-4,5.0000000000000001E-4,5.0000000000000001E-4,5.0000000000000001E-4,5.0000000000000001E-4,5.0000000000000001E-4,5.0000000000000001E-4,5.0000000000000001E-4,4.0000000000000002E-4,4.0000000000000002E-4,2.9999999999999997E-4,2.9999999999999997E-4,2.0000000000000001E-4,2.9999999999999997E-4,4.0000000000000002E-4]
[114,-8.0000000000000004E-4,-6.9999999999999999E-4,-5.9999999999999995E-4,-5.0000000000000001E-4,-4.0000000000000002E-4,-2.9999999999999997E-4,-2.0000000000000001E-4,-1E-4,0,1E-4,2.0000000000000001E-4,2.9999999999999997E-4,4.0000000000000002E-4,5.0000000000000001E-4,5.9999999999999995E-4,6.9999999999999999E-4,6.9999999999999999E-4,8.0000000000000004E-4,8.0000000000000004E-4,8.0000000000000004E-4,8.9999999999999998E-4,8.0000000000000004E-4,8.0000000000000004E-4,8.0000000000000004E-4,6.9999999999999999E-4,6.9999999999999999E-4,5.9999999999999995E-4,5.9999999999999995E-4,5.0000000000000001E-4,4.0000000000000002E-4,4.0000000000000002E-4,2.9999999999999997E-4,2.0000000000000001E-4,2.0000000000000001E-4,1E-4,1E-4,0,0,-1E-4,-1E-4,-2.0000000000000001E-4,-2.9999999999999997E-4,-2.9999999999999997E-4,-2.9999999999999997E-4,-4.0000000000000002E-4,-4.0000000000000002E-4,-4.0000000000000002E-4,-4.0000000000000002E-4,-2.9999999999999997E-4,-2.0000000000000001E-4,-2.0000000000000001E-4,-1E-4,0,1E-4,2.0000000000000001E-4,2.9999999999999997E-4,2.9999999999999997E-4,2.9999999999999997E-4,4.0000000000000002E-4,4.0000000000000002E-4,2.9999999999999997E-4,2.9999999999999997E-4,2.9999999999999997E-4,2.0000000000000001E-4,2.0000000000000001E-4,1E-4,2.0000000000000001E-4,2.9999999999999997E-4,2.9999999999999997E-4,2.9999999999999997E-4,2.9999999999999997E-4,2.9999999999999997E-4,2.9999999999999997E-4,2.9999999999999997E-4,2.9999999999999997E-4,2.9999999999999997E-4,2.9999999999999997E-4,2.9999999999999997E-4,2.9999999999999997E-4,2.9999999999999997E-4,2.9999999999999997E-4,2.0000000000000001E-4,2.0000000000000001E-4,1E-4,1E-4,2.0000000000000001E-4]
[115,0,0,0,0,0,0,0,0,0,0,0,0,0,0,0,0,0,0,0,0,0,0,0,0,0,0,0,0,0,0,0,0,0,0,0,0,0,0,0,0,0,0,0,0,0,0,0,0,0,0,0,0,0,0,0,0,0,0,0,0,0,0,0,0,0,0,1E-4,1E-4,1E-4,2.0000000000000001E-4,2.0000000000000001E-4,2.0000000000000001E-4,2.0000000000000001E-4,2.0000000000000001E-4,2.0000000000000001E-4,2.0000000000000001E-4,2.0000000000000001E-4,2.0000000000000001E-4,2.0000000000000001E-4,2.0000000000000001E-4,2.0000000000000001E-4,1E-4,1E-4,0,0,0]
[116,0,0,0,0,0,0,0,0,0,0,0,0,0,0,0,0,0,0,0,0,0,0,0,0,0,0,0,0,0,0,0,0,0,0,0,0,0,0,0,0,0,0,0,0,0,0,0,0,0,0,0,0,0,0,0,0,0,0,0,0,0,0,0,0,0,0,0,1E-4,1E-4,1E-4,1E-4,1E-4,1E-4,1E-4,1E-4,1E-4,1E-4,1E-4,1E-4,1E-4,1E-4,1E-4,1E-4,0,0,0]
[117,0,0,0,0,0,0,0,0,0,0,0,0,0,0,0,0,0,0,0,0,0,0,0,0,0,0,0,0,0,0,0,0,0,0,0,0,0,0,0,0,0,0,0,0,0,0,0,0,0,0,0,0,0,0,0,0,0,0,0,0,0,0,0,0,0,0,0,0,0,1E-4,1E-4,1E-4,1E-4,1E-4,1E-4,1E-4,1E-4,1E-4,1E-4,1E-4,1E-4,1E-4,1E-4,0,0,0]
[118,0,0,0,0,0,0,0,0,0,0,0,0,0,0,0,0,0,0,0,0,0,0,0,0,0,0,0,0,0,0,0,0,0,0,0,0,0,0,0,0,0,0,0,0,0,0,0,0,0,0,0,0,0,0,0,0,0,0,0,0,0,0,0,0,0,0,0,0,0,0,0,0,0,0,0,0,0,0,0,0,0,0,0,0,0,0]
[119,0,0,0,0,0,0,0,0,0,0,0,0,0,0,0,0,0,0,0,0,0,0,0,0,0,0,0,0,0,0,0,0,0,0,0,0,0,0,0,0,0,0,0,0,0,0,0,0,0,0,0,0,0,0,0,0,0,0,0,0,0,0,0,0,0,0,0,0,0,0,0,0,0,0,0,0,0,0,0,0,0,0,0,0,0,0]
[120,0,0,0,0,0,0,0,0,0,0,0,0,0,0,0,0,0,0,0,0,0,0,0,0,0,0,0,0,0,0,0,0,0,0,0,0,0,0,0,0,0,0,0,0,0,0,0,0,0,0,0,0,0,0,0,0,0,0,0,0,0,0,0,0,0,0,0,0,0,0,0,0,0,0,0,0,0,0,0,0,0,0,0,0,0,0]

{"sheet":"Male - Rev","index":3,"n_rows":63,"n_cols":90,"rows_kept":63,"cut":false,"hidden":true,"merged":[]}
[null,"MP-2019 - Male"]
[null,null,1951,null,null,null,null,null,null,null,null,1960,null,null,null,null,null,null,null,null,null,1970,null,null,null,null,null,null,null,null,null,1980,null,null,null,null,null,null,null,null,null,1990,null,null,null,null,null,null,null,null,null,2000,null,null,null,null,null,null,null,null,null,2010,null,null,null,null,null,null,null,null,null,2020,null,null,null,null,null,null,null,null,null,2030]
[95,95,{"$f":"OFFSET(Male!B$18,'Male - Rev'!$A3-35,0)","v":-1.9300000000000001E-2},{"$f":"OFFSET(Male!C$18,'Male - Rev'!$A3-35,0)","v":-1.78E-2},{"$f":"OFFSET(Male!D$18,'Male - Rev'!$A3-35,0)","v":-1.6400000000000001E-2},{"$f":"OFFSET(Male!E$18,'Male - Rev'!$A3-35,0)","v":-1.4999999999999999E-2},{"$f":"OFFSET(Male!F$18,'Male - Rev'!$A3-35,0)","v":-1.3599999999999999E-2},{"$f":"OFFSET(Male!G$18,'Male - Rev'!$A3-35,0)","v":-1.21E-2},{"$f":"OFFSET(Male!H$18,'Male - Rev'!$A3-35,0)","v":-1.0500000000000001E-2},{"$f":"OFFSET(Male!I$18,'Male - Rev'!$A3-35,0)","v":-8.9999999999999993E-3},{"$f":"OFFSET(Male!J$18,'Male - Rev'!$A3-35,0)","v":-7.3000000000000001E-3},{"$f":"OFFSET(Male!K$18,'Male - Rev'!$A3-35,0)","v":-5.5999999999999999E-3},{"$f":"OFFSET(Male!L$18,'Male - Rev'!$A3-35,0)","v":-3.8E-3},{"$f":"OFFSET(Male!M$18,'Male - Rev'!$A3-35,0)","v":-2E-3},{"$f":"OFFSET(Male!N$18,'Male - Rev'!$A3-35,0)","v":-1E-4},{"$f":"OFFSET(Male!O$18,'Male - Rev'!$A3-35,0)","v":1.8E-3},{"$f":"OFFSET(Male!P$18,'Male - Rev'!$A3-35,0)","v":3.5999999999999999E-3},{"$f":"OFFSET(Male!Q$18,'Male - Rev'!$A3-35,0)","v":5.4000000000000003E-3},{"$f":"OFFSET(Male!R$18,'Male - Rev'!$A3-35,0)","v":7.1000000000000004E-3},{"$f":"OFFSET(Male!S$18,'Male - Rev'!$A3-35,0)","v":8.6E-3},{"$f":"OFFSET(Male!T$18,'Male - Rev'!$A3-35,0)","v":0.01},{"$f":"OFFSET(Male!U$18,'Male - Rev'!$A3-35,0)","v":1.11E-2},{"$f":"OFFSET(Male!V$18,'Male - Rev'!$A3-35,0)","v":1.21E-2},{"$f":"OFFSET(Male!W$18,'Male - Rev'!$A3-35,0)","v":1.2699999999999999E-2},{"$f":"OFFSET(Male!X$18,'Male - Rev'!$A3-35,0)","v":1.3100000000000001E-2},{"$f":"OFFSET(Male!Y$18,'Male - Rev'!$A3-35,0)","v":1.32E-2},{"$f":"OFFSET(Male!Z$18,'Male - Rev'!$A3-35,0)","v":1.3100000000000001E-2},{"$f":"OFFSET(Male!AA$18,'Male - Rev'!$A3-35,0)","v":1.26E-2},{"$f":"OFFSET(Male!AB$18,'Male - Rev'!$A3-35,0)","v":1.1900000000000001E-2},{"$f":"OFFSET(Male!AC$18,'Male - Rev'!$A3-35,0)","v":1.09E-2},{"$f":"OFFSET(Male!AD$18,'Male - Rev'!$A3-35,0)","v":9.7000000000000003E-3},{"$f":"OFFSET(Male!AE$18,'Male - Rev'!$A3-35,0)","v":8.3000000000000001E-3},{"$f":"OFFSET(Male!AF$18,'Male - Rev'!$A3-35,0)","v":6.7000000000000002E-3},{"$f":"OFFSET(Male!AG$18,'Male - Rev'!$A3-35,0)","v":4.8999999999999998E-3},{"$f":"OFFSET(Male!AH$18,'Male - Rev'!$A3-35,0)","v":3.0999999999999999E-3},{"$f":"OFFSET(Male!AI$18,'Male - Rev'!$A3-35,0)","v":1.2999999999999999E-3},{"$f":"OFFSET(Male!AJ$18,'Male - Rev'!$A3-35,0)","v":-5.9999999999999995E-4},{"$f":"OFFSET(Male!AK$18,'Male - Rev'!$A3-35,0)","v":-2.3E-3},{"$f":"OFFSET(Male!AL$18,'Male - Rev'!$A3-35,0)","v":-4.0000000000000001E-3},{"$f":"OFFSET(Male!AM$18,'Male - Rev'!$A3-35,0)","v":-5.4000000000000003E-3},{"$f":"OFFSET(Male!AN$18,'Male - Rev'!$A3-35,0)","v":-6.7000000000000002E-3},{"$f":"OFFSET(Male!AO$18,'Male - Rev'!$A3-35,0)","v":-7.7999999999999996E-3},{"$f":"OFFSET(Male!AP$18,'Male - Rev'!$A3-35,0)","v":-8.6E-3},{"$f":"OFFSET(Male!AQ$18,'Male - Rev'!$A3-35,0)","v":-9.1999999999999998E-3},{"$f":"OFFSET(Male!AR$18,'Male - Rev'!$A3-35,0)","v":-9.4999999999999998E-3},{"$f":"OFFSET(Male!AS$18,'Male - Rev'!$A3-35,0)","v":-9.4000000000000004E-3},{"$f":"OFFSET(Male!AT$18,'Male - Rev'!$A3-35,0)","v":-9.1000000000000004E-3},{"$f":"OFFSET(Male!AU$18,'Male - Rev'!$A3-35,0)","v":-8.5000000000000006E-3},{"$f":"OFFSET(Male!AV$18,'Male - Rev'!$A3-35,0)","v":-7.6E-3},{"$f":"OFFSET(Male!AW$18,'Male - Rev'!$A3-35,0)","v":-6.4999999999999997E-3},{"$f":"OFFSET(Male!AX$18,'Male - Rev'!$A3-35,0)","v":-5.1999999999999998E-3},{"$f":"OFFSET(Male!AY$18,'Male - Rev'!$A3-35,0)","v":-3.7000000000000002E-3},{"$f":"OFFSET(Male!AZ$18,'Male - Rev'!$A3-35,0)","v":-2.2000000000000001E-3},{"$f":"OFFSET(Male!BA$18,'Male - Rev'!$A3-35,0)","v":-5.0000000000000001E-4},{"$f":"OFFSET(Male!BB$18,'Male - Rev'!$A3-35,0)","v":1E-3},{"$f":"OFFSET(Male!BC$18,'Male - Rev'!$A3-35,0)","v":2.5000000000000001E-3},{"$f":"OFFSET(Male!BD$18,'Male - Rev'!$A3-35,0)","v":3.8999999999999998E-3},{"$f":"OFFSET(Male!BE$18,'Male - Rev'!$A3-35,0)","v":5.0000000000000001E-3},{"$f":"OFFSET(Male!BF$18,'Male - Rev'!$A3-35,0)","v":5.8999999999999999E-3},{"$f":"OFFSET(Male!BG$18,'Male - Rev'!$A3-35,0)","v":6.6E-3},{"$f":"OFFSET(Male!BH$18,'Male - Rev'!$A3-35,0)","v":7.0000000000000001E-3},{"$f":"OFFSET(Male!BI$18,'Male - Rev'!$A3-35,0)","v":7.1000000000000004E-3},{"$f":"OFFSET(Male!BJ$18,'Male - Rev'!$A3-35,0)","v":7.0000000000000001E-3},{"$f":"OFFSET(Male!BK$18,'Male - Rev'!$A3-35,0)","v":6.7999999999999996E-3},{"$f":"OFFSET(Male!BL$18,'Male - Rev'!$A3-35,0)","v":6.4000000000000003E-3},{"$f":"OFFSET(Male!BM$18,'Male - Rev'!$A3-35,0)","v":5.8999999999999999E-3},{"$f":"OFFSET(Male!BN$18,'Male - Rev'!$A3-35,0)","v":5.4000000000000003E-3},{"$f":"OFFSET(Male!BO$18,'Male - Rev'!$A3-35,0)","v":4.7999999999999996E-3},{"$f":"OFFSET(Male!BP$18,'Male - Rev'!$A3-35,0)","v":4.4999999999999997E-3},{"$f":"OFFSET(Male!BQ$18,'Male - Rev'!$A3-35,0)","v":4.1999999999999997E-3},{"$f":"OFFSET(Male!BR$18,'Male - Rev'!$A3-35,0)","v":3.8999999999999998E-3},{"$f":"OFFSET(Male!BS$18,'Male - Rev'!$A3-35,0)","v":3.7000000000000002E-3},{"$f":"OFFSET(Male!BT$18,'Male - Rev'!$A3-35,0)","v":3.5000000000000001E-3},{"$f":"OFFSET(Male!BU$18,'Male - Rev'!$A3-35,0)","v":3.3999999999999998E-3},{"$f":"OFFSET(Male!BV$18,'Male - Rev'!$A3-35,0)","v":3.3999999999999998E-3},{"$f":"OFFSET(Male!BW$18,'Male - Rev'!$A3-35,0)","v":3.3999999999999998E-3},{"$f":"OFFSET(Male!BX$18,'Male - Rev'!$A3-35,0)","v":3.3999999999999998E-3},{"$f":"OFFSET(Male!BY$18,'Male - Rev'!$A3-35,0)","v":3.5000000000000001E-3},{"$f":"OFFSET(Male!BZ$18,'Male - Rev'!$A3-35,0)","v":3.5000000000000001E-3},{"$f":"OFFSET(Male!CA$18,'Male - Rev'!$A3-35,0)","v":3.5999999999999999E-3},{"$f":"OFFSET(Male!CB$18,'Male - Rev'!$A3-35,0)","v":3.5999999999999999E-3},{"$f":"OFFSET(Male!CC$18,'Male - Rev'!$A3-35,0)","v":3.7000000000000002E-3},{"$f":"OFFSET(Male!CD$18,'Male - Rev'!$A3-35,0)","v":3.7000000000000002E-3},{"$f":"OFFSET(Male!CE$18,'Male - Rev'!$A3-35,0)","v":3.7000000000000002E-3},{"$f":"OFFSET(Male!CF$18,'Male - Rev'!$A3-35,0)","v":3.8E-3},{"$f":"OFFSET(Male!CG$18,'Male - Rev'!$A3-35,0)","v":3.8E-3},{"$f":"OFFSET(Male!CH$18,'Male - Rev'!$A3-35,0)","v":3.8999999999999998E-3},{"$f":"OFFSET(Male!CI$18,'Male - Rev'!$A3-35,0)","v":4.0000000000000001E-3},{"$f":"CJ3","v":4.0000000000000001E-3},{"$f":"CK3","v":4.0000000000000001E-3}]
[{"$f":"A3-1","v":94},{"$f":"B3-1","v":94},{"$f":"OFFSET(Male!B$18,'Male - Rev'!$A4-35,0)","v":-1.6E-2},{"$f":"OFFSET(Male!C$18,'Male - Rev'!$A4-35,0)","v":-1.4999999999999999E-2},{"$f":"OFFSET(Male!D$18,'Male - Rev'!$A4-35,0)","v":-1.41E-2},{"$f":"OFFSET(Male!E$18,'Male - Rev'!$A4-35,0)","v":-1.3100000000000001E-2},{"$f":"OFFSET(Male!F$18,'Male - Rev'!$A4-35,0)","v":-1.21E-2},{"$f":"OFFSET(Male!G$18,'Male - Rev'!$A4-35,0)","v":-1.0999999999999999E-2},{"$f":"OFFSET(Male!H$18,'Male - Rev'!$A4-35,0)","v":-9.7999999999999997E-3},{"$f":"OFFSET(Male!I$18,'Male - Rev'!$A4-35,0)","v":-8.5000000000000006E-3},{"$f":"OFFSET(Male!J$18,'Male - Rev'!$A4-35,0)","v":-7.1000000000000004E-3},{"$f":"OFFSET(Male!K$18,'Male - Rev'!$A4-35,0)","v":-5.5999999999999999E-3},{"$f":"OFFSET(Male!L$18,'Male - Rev'!$A4-35,0)","v":-4.0000000000000001E-3},{"$f":"OFFSET(Male!M$18,'Male - Rev'!$A4-35,0)","v":-2.2000000000000001E-3},{"$f":"OFFSET(Male!N$18,'Male - Rev'!$A4-35,0)","v":-2.9999999999999997E-4},{"$f":"OFFSET(Male!O$18,'Male - Rev'!$A4-35,0)","v":1.5E-3},{"$f":"OFFSET(Male!P$18,'Male - Rev'!$A4-35,0)","v":3.3999999999999998E-3},{"$f":"OFFSET(Male!Q$18,'Male - Rev'!$A4-35,0)","v":5.3E-3},{"$f":"OFFSET(Male!R$18,'Male - Rev'!$A4-35,0)","v":7.0000000000000001E-3},{"$f":"OFFSET(Male!S$18,'Male - Rev'!$A4-35,0)","v":8.6999999999999994E-3},{"$f":"OFFSET(Male!T$18,'Male - Rev'!$A4-35,0)","v":1.01E-2},{"$f":"OFFSET(Male!U$18,'Male - Rev'!$A4-35,0)","v":1.1299999999999999E-2},{"$f":"OFFSET(Male!V$18,'Male - Rev'!$A4-35,0)","v":1.23E-2},{"$f":"OFFSET(Male!W$18,'Male - Rev'!$A4-35,0)","v":1.29E-2},{"$f":"OFFSET(Male!X$18,'Male - Rev'!$A4-35,0)","v":1.3299999999999999E-2},{"$f":"OFFSET(Male!Y$18,'Male - Rev'!$A4-35,0)","v":1.34E-2},{"$f":"OFFSET(Male!Z$18,'Male - Rev'!$A4-35,0)","v":1.3299999999999999E-2},{"$f":"OFFSET(Male!AA$18,'Male - Rev'!$A4-35,0)","v":1.2800000000000001E-2},{"$f":"OFFSET(Male!AB$18,'Male - Rev'!$A4-35,0)","v":1.21E-2},{"$f":"OFFSET(Male!AC$18,'Male - Rev'!$A4-35,0)","v":1.11E-2},{"$f":"OFFSET(Male!AD$18,'Male - Rev'!$A4-35,0)","v":9.7999999999999997E-3},{"$f":"OFFSET(Male!AE$18,'Male - Rev'!$A4-35,0)","v":8.3999999999999995E-3},{"$f":"OFFSET(Male!AF$18,'Male - Rev'!$A4-35,0)","v":6.7999999999999996E-3},{"$f":"OFFSET(Male!AG$18,'Male - Rev'!$A4-35,0)","v":5.1000000000000004E-3},{"$f":"OFFSET(Male!AH$18,'Male - Rev'!$A4-35,0)","v":3.3E-3},{"$f":"OFFSET(Male!AI$18,'Male - Rev'!$A4-35,0)","v":1.5E-3},{"$f":"OFFSET(Male!AJ$18,'Male - Rev'!$A4-35,0)","v":-2.9999999999999997E-4},{"$f":"OFFSET(Male!AK$18,'Male - Rev'!$A4-35,0)","v":-2E-3},{"$f":"OFFSET(Male!AL$18,'Male - Rev'!$A4-35,0)","v":-3.5999999999999999E-3},{"$f":"OFFSET(Male!AM$18,'Male - Rev'!$A4-35,0)","v":-5.0000000000000001E-3},{"$f":"OFFSET(Male!AN$18,'Male - Rev'!$A4-35,0)","v":-6.1999999999999998E-3},{"$f":"OFFSET(Male!AO$18,'Male - Rev'!$A4-35,0)","v":-7.1999999999999998E-3},{"$f":"OFFSET(Male!AP$18,'Male - Rev'!$A4-35,0)","v":-7.9000000000000008E-3},{"$f":"OFFSET(Male!AQ$18,'Male - Rev'!$A4-35,0)","v":-8.3999999999999995E-3},{"$f":"OFFSET(Male!AR$18,'Male - Rev'!$A4-35,0)","v":-8.6E-3},{"$f":"OFFSET(Male!AS$18,'Male - Rev'!$A4-35,0)","v":-8.3999999999999995E-3},{"$f":"OFFSET(Male!AT$18,'Male - Rev'!$A4-35,0)","v":-8.0000000000000002E-3},{"$f":"OFFSET(Male!AU$18,'Male - Rev'!$A4-35,0)","v":-7.1999999999999998E-3},{"$f":"OFFSET(Male!AV$18,'Male - Rev'!$A4-35,0)","v":-6.1999999999999998E-3},{"$f":"OFFSET(Male!AW$18,'Male - Rev'!$A4-35,0)","v":-5.0000000000000001E-3},{"$f":"OFFSET(Male!AX$18,'Male - Rev'!$A4-35,0)","v":-3.5999999999999999E-3},{"$f":"OFFSET(Male!AY$18,'Male - Rev'!$A4-35,0)","v":-2E-3},{"$f":"OFFSET(Male!AZ$18,'Male - Rev'!$A4-35,0)","v":-2.9999999999999997E-4},{"$f":"OFFSET(Male!BA$18,'Male - Rev'!$A4-35,0)","v":1.4E-3},{"$f":"OFFSET(Male!BB$18,'Male - Rev'!$A4-35,0)","v":3.0000000000000001E-3},{"$f":"OFFSET(Male!BC$18,'Male - Rev'!$A4-35,0)","v":4.4000000000000003E-3},{"$f":"OFFSET(Male!BD$18,'Male - Rev'!$A4-35,0)","v":5.7000000000000002E-3},{"$f":"OFFSET(Male!BE$18,'Male - Rev'!$A4-35,0)","v":6.7000000000000002E-3},{"$f":"OFFSET(Male!BF$18,'Male - Rev'!$A4-35,0)","v":7.4999999999999997E-3},{"$f":"OFFSET(Male!BG$18,'Male - Rev'!$A4-35,0)","v":7.9000000000000008E-3},{"$f":"OFFSET(Male!BH$18,'Male - Rev'!$A4-35,0)","v":8.0000000000000002E-3},{"$f":"OFFSET(Male!BI$18,'Male - Rev'!$A4-35,0)","v":7.9000000000000008E-3},{"$f":"OFFSET(Male!BJ$18,'Male - Rev'!$A4-35,0)","v":7.6E-3},{"$f":"OFFSET(Male!BK$18,'Male - Rev'!$A4-35,0)","v":7.1000000000000004E-3},{"$f":"OFFSET(Male!BL$18,'Male - Rev'!$A4-35,0)","v":6.4000000000000003E-3},{"$f":"OFFSET(Male!BM$18,'Male - Rev'!$A4-35,0)","v":5.7000000000000002E-3},{"$f":"OFFSET(Male!BN$18,'Male - Rev'!$A4-35,0)","v":5.0000000000000001E-3},{"$f":"OFFSET(Male!BO$18,'Male - Rev'!$A4-35,0)","v":4.1999999999999997E-3},{"$f":"OFFSET(Male!BP$18,'Male - Rev'!$A4-35,0)","v":3.8999999999999998E-3},{"$f":"OFFSET(Male!BQ$18,'Male - Rev'!$A4-35,0)","v":3.7000000000000002E-3},{"$f":"OFFSET(Male!BR$18,'Male - Rev'!$A4-35,0)","v":3.5999999999999999E-3},{"$f":"OFFSET(Male!BS$18,'Male - Rev'!$A4-35,0)","v":3.5000000000000001E-3},{"$f":"OFFSET(Male!BT$18,'Male - Rev'!$A4-35,0)","v":3.5000000000000001E-3},{"$f":"OFFSET(Male!BU$18,'Male - Rev'!$A4-35,0)","v":3.5000000000000001E-3},{"$f":"OFFSET(Male!BV$18,'Male - Rev'!$A4-35,0)","v":3.5999999999999999E-3},{"$f":"OFFSET(Male!BW$18,'Male - Rev'!$A4-35,0)","v":3.7000000000000002E-3},{"$f":"OFFSET(Male!BX$18,'Male - Rev'!$A4-35,0)","v":3.8E-3},{"$f":"OFFSET(Male!BY$18,'Male - Rev'!$A4-35,0)","v":3.8E-3},{"$f":"OFFSET(Male!BZ$18,'Male - Rev'!$A4-35,0)","v":3.8999999999999998E-3},{"$f":"OFFSET(Male!CA$18,'Male - Rev'!$A4-35,0)","v":3.8999999999999998E-3},{"$f":"OFFSET(Male!CB$18,'Male - Rev'!$A4-35,0)","v":4.0000000000000001E-3},{"$f":"OFFSET(Male!CC$18,'Male - Rev'!$A4-35,0)","v":4.0000000000000001E-3},{"$f":"OFFSET(Male!CD$18,'Male - Rev'!$A4-35,0)","v":4.0000000000000001E-3},{"$f":"OFFSET(Male!CE$18,'Male - Rev'!$A4-35,0)","v":4.1000000000000003E-3},{"$f":"OFFSET(Male!CF$18,'Male - Rev'!$A4-35,0)","v":4.1000000000000003E-3},{"$f":"OFFSET(Male!CG$18,'Male - Rev'!$A4-35,0)","v":4.1999999999999997E-3},{"$f":"OFFSET(Male!CH$18,'Male - Rev'!$A4-35,0)","v":4.1999999999999997E-3},{"$f":"OFFSET(Male!CI$18,'Male - Rev'!$A4-35,0)","v":4.4999999999999997E-3},{"$f":"CJ4","v":4.4999999999999997E-3},4.4999999999999997E-3]
[{"$f":"A4-1","v":93},93,{"$f":"OFFSET(Male!B$18,'Male - Rev'!$A5-35,0)","v":-1.29E-2},{"$f":"OFFSET(Male!C$18,'Male - Rev'!$A5-35,0)","v":-1.23E-2},{"$f":"OFFSET(Male!D$18,'Male - Rev'!$A5-35,0)","v":-1.18E-2},{"$f":"OFFSET(Male!E$18,'Male - Rev'!$A5-35,0)","v":-1.12E-2},{"$f":"OFFSET(Male!F$18,'Male - Rev'!$A5-35,0)","v":-1.06E-2},{"$f":"OFFSET(Male!G$18,'Male - Rev'!$A5-35,0)","v":-9.9000000000000008E-3},{"$f":"OFFSET(Male!H$18,'Male - Rev'!$A5-35,0)","v":-9.1000000000000004E-3},{"$f":"OFFSET(Male!I$18,'Male - Rev'!$A5-35,0)","v":-8.0999999999999996E-3},{"$f":"OFFSET(Male!J$18,'Male - Rev'!$A5-35,0)","v":-6.8999999999999999E-3},{"$f":"OFFSET(Male!K$18,'Male - Rev'!$A5-35,0)","v":-5.5999999999999999E-3},{"$f":"OFFSET(Male!L$18,'Male - Rev'!$A5-35,0)","v":-4.0000000000000001E-3},{"$f":"OFFSET(Male!M$18,'Male - Rev'!$A5-35,0)","v":-2.3999999999999998E-3},{"$f":"OFFSET(Male!N$18,'Male - Rev'!$A5-35,0)","v":-5.0000000000000001E-4},{"$f":"OFFSET(Male!O$18,'Male - Rev'!$A5-35,0)","v":1.4E-3},{"$f":"OFFSET(Male!P$18,'Male - Rev'!$A5-35,0)","v":3.3E-3},{"$f":"OFFSET(Male!Q$18,'Male - Rev'!$A5-35,0)","v":5.1999999999999998E-3},{"$f":"OFFSET(Male!R$18,'Male - Rev'!$A5-35,0)","v":7.0000000000000001E-3},{"$f":"OFFSET(Male!S$18,'Male - Rev'!$A5-35,0)","v":8.6999999999999994E-3},{"$f":"OFFSET(Male!T$18,'Male - Rev'!$A5-35,0)","v":1.01E-2},{"$f":"OFFSET(Male!U$18,'Male - Rev'!$A5-35,0)","v":1.14E-2},{"$f":"OFFSET(Male!V$18,'Male - Rev'!$A5-35,0)","v":1.24E-2},{"$f":"OFFSET(Male!W$18,'Male - Rev'!$A5-35,0)","v":1.3100000000000001E-2},{"$f":"OFFSET(Male!X$18,'Male - Rev'!$A5-35,0)","v":1.35E-2},{"$f":"OFFSET(Male!Y$18,'Male - Rev'!$A5-35,0)","v":1.3599999999999999E-2},{"$f":"OFFSET(Male!Z$18,'Male - Rev'!$A5-35,0)","v":1.34E-2},{"$f":"OFFSET(Male!AA$18,'Male - Rev'!$A5-35,0)","v":1.2999999999999999E-2},{"$f":"OFFSET(Male!AB$18,'Male - Rev'!$A5-35,0)","v":1.2200000000000001E-2},{"$f":"OFFSET(Male!AC$18,'Male - Rev'!$A5-35,0)","v":1.12E-2},{"$f":"OFFSET(Male!AD$18,'Male - Rev'!$A5-35,0)","v":0.01},{"$f":"OFFSET(Male!AE$18,'Male - Rev'!$A5-35,0)","v":8.5000000000000006E-3},{"$f":"OFFSET(Male!AF$18,'Male - Rev'!$A5-35,0)","v":6.8999999999999999E-3},{"$f":"OFFSET(Male!AG$18,'Male - Rev'!$A5-35,0)","v":5.1999999999999998E-3},{"$f":"OFFSET(Male!AH$18,'Male - Rev'!$A5-35,0)","v":3.3999999999999998E-3},{"$f":"OFFSET(Male!AI$18,'Male - Rev'!$A5-35,0)","v":1.6000000000000001E-3},{"$f":"OFFSET(Male!AJ$18,'Male - Rev'!$A5-35,0)","v":-1E-4},{"$f":"OFFSET(Male!AK$18,'Male - Rev'!$A5-35,0)","v":-1.6999999999999999E-3},{"$f":"OFFSET(Male!AL$18,'Male - Rev'!$A5-35,0)","v":-3.2000000000000002E-3},{"$f":"OFFSET(Male!AM$18,'Male - Rev'!$A5-35,0)","v":-4.4999999999999997E-3},{"$f":"OFFSET(Male!AN$18,'Male - Rev'!$A5-35,0)","v":-5.5999999999999999E-3},{"$f":"OFFSET(Male!AO$18,'Male - Rev'!$A5-35,0)","v":-6.4999999999999997E-3},{"$f":"OFFSET(Male!AP$18,'Male - Rev'!$A5-35,0)","v":-7.1000000000000004E-3},{"$f":"OFFSET(Male!AQ$18,'Male - Rev'!$A5-35,0)","v":-7.4999999999999997E-3},{"$f":"OFFSET(Male!AR$18,'Male - Rev'!$A5-35,0)","v":-7.6E-3},{"$f":"OFFSET(Male!AS$18,'Male - Rev'!$A5-35,0)","v":-7.3000000000000001E-3},{"$f":"OFFSET(Male!AT$18,'Male - Rev'!$A5-35,0)","v":-6.7999999999999996E-3},{"$f":"OFFSET(Male!AU$18,'Male - Rev'!$A5-35,0)","v":-6.0000000000000001E-3},{"$f":"OFFSET(Male!AV$18,'Male - Rev'!$A5-35,0)","v":-4.7999999999999996E-3},{"$f":"OFFSET(Male!AW$18,'Male - Rev'!$A5-35,0)","v":-3.5000000000000001E-3},{"$f":"OFFSET(Male!AX$18,'Male - Rev'!$A5-35,0)","v":-1.9E-3},{"$f":"OFFSET(Male!AY$18,'Male - Rev'!$A5-35,0)","v":-2.9999999999999997E-4},{"$f":"OFFSET(Male!AZ$18,'Male - Rev'!$A5-35,0)","v":1.5E-3},{"$f":"OFFSET(Male!BA$18,'Male - Rev'!$A5-35,0)","v":3.2000000000000002E-3},{"$f":"OFFSET(Male!BB$18,'Male - Rev'!$A5-35,0)","v":4.7999999999999996E-3},{"$f":"OFFSET(Male!BC$18,'Male - Rev'!$A5-35,0)","v":6.3E-3},{"$f":"OFFSET(Male!BD$18,'Male - Rev'!$A5-35,0)","v":7.4000000000000003E-3},{"$f":"OFFSET(Male!BE$18,'Male - Rev'!$A5-35,0)","v":8.3000000000000001E-3},{"$f":"OFFSET(Male!BF$18,'Male - Rev'!$A5-35,0)","v":8.8999999999999999E-3},{"$f":"OFFSET(Male!BG$18,'Male - Rev'!$A5-35,0)","v":9.1000000000000004E-3},{"$f":"OFFSET(Male!BH$18,'Male - Rev'!$A5-35,0)","v":8.9999999999999993E-3},{"$f":"OFFSET(Male!BI$18,'Male - Rev'!$A5-35,0)","v":8.6999999999999994E-3},{"$f":"OFFSET(Male!BJ$18,'Male - Rev'!$A5-35,0)","v":8.0999999999999996E-3},{"$f":"OFFSET(Male!BK$18,'Male - Rev'!$A5-35,0)","v":7.4000000000000003E-3},{"$f":"OFFSET(Male!BL$18,'Male - Rev'!$A5-35,0)","v":6.4999999999999997E-3},{"$f":"OFFSET(Male!BM$18,'Male - Rev'!$A5-35,0)","v":5.5999999999999999E-3},{"$f":"OFFSET(Male!BN$18,'Male - Rev'!$A5-35,0)","v":4.5999999999999999E-3},{"$f":"OFFSET(Male!BO$18,'Male - Rev'!$A5-35,0)","v":3.7000000000000002E-3},{"$f":"OFFSET(Male!BP$18,'Male - Rev'!$A5-35,0)","v":3.5000000000000001E-3},{"$f":"OFFSET(Male!BQ$18,'Male - Rev'!$A5-35,0)","v":3.3999999999999998E-3},{"$f":"OFFSET(Male!BR$18,'Male - Rev'!$A5-35,0)","v":3.3999999999999998E-3},{"$f":"OFFSET(Male!BS$18,'Male - Rev'!$A5-35,0)","v":3.5000000000000001E-3},{"$f":"OFFSET(Male!BT$18,'Male - Rev'!$A5-35,0)","v":3.5999999999999999E-3},{"$f":"OFFSET(Male!BU$18,'Male - Rev'!$A5-35,0)","v":3.7000000000000002E-3},{"$f":"OFFSET(Male!BV$18,'Male - Rev'!$A5-35,0)","v":3.8999999999999998E-3},{"$f":"OFFSET(Male!BW$18,'Male - Rev'!$A5-35,0)","v":4.0000000000000001E-3},{"$f":"OFFSET(Male!BX$18,'Male - Rev'!$A5-35,0)","v":4.1000000000000003E-3},{"$f":"OFFSET(Male!BY$18,'Male - Rev'!$A5-35,0)","v":4.1999999999999997E-3},{"$f":"OFFSET(Male!BZ$18,'Male - Rev'!$A5-35,0)","v":4.1999999999999997E-3},{"$f":"OFFSET(Male!CA$18,'Male - Rev'!$A5-35,0)","v":4.3E-3},{"$f":"OFFSET(Male!CB$18,'Male - Rev'!$A5-35,0)","v":4.3E-3},{"$f":"OFFSET(Male!CC$18,'Male - Rev'!$A5-35,0)","v":4.4000000000000003E-3},{"$f":"OFFSET(Male!CD$18,'Male - Rev'!$A5-35,0)","v":4.4000000000000003E-3},{"$f":"OFFSET(Male!CE$18,'Male - Rev'!$A5-35,0)","v":4.4000000000000003E-3},{"$f":"OFFSET(Male!CF$18,'Male - Rev'!$A5-35,0)","v":4.4999999999999997E-3},{"$f":"OFFSET(Male!CG$18,'Male - Rev'!$A5-35,0)","v":4.4999999999999997E-3},{"$f":"OFFSET(Male!CH$18,'Male - Rev'!$A5-35,0)","v":4.7000000000000002E-3},{"$f":"OFFSET(Male!CI$18,'Male - Rev'!$A5-35,0)","v":4.8999999999999998E-3},{"$f":"CJ5","v":4.8999999999999998E-3},4.8999999999999998E-3]
[92,92,{"$f":"OFFSET(Male!B$18,'Male - Rev'!$A6-35,0)","v":-0.01},{"$f":"OFFSET(Male!C$18,'Male - Rev'!$A6-35,0)","v":-9.9000000000000008E-3},{"$f":"OFFSET(Male!D$18,'Male - Rev'!$A6-35,0)","v":-9.7000000000000003E-3},{"$f":"OFFSET(Male!E$18,'Male - Rev'!$A6-35,0)","v":-9.4999999999999998E-3},{"$f":"OFFSET(Male!F$18,'Male - Rev'!$A6-35,0)","v":-9.1999999999999998E-3},{"$f":"OFFSET(Male!G$18,'Male - Rev'!$A6-35,0)","v":-8.8000000000000005E-3},{"$f":"OFFSET(Male!H$18,'Male - Rev'!$A6-35,0)","v":-8.3000000000000001E-3},{"$f":"OFFSET(Male!I$18,'Male - Rev'!$A6-35,0)","v":-7.6E-3},{"$f":"OFFSET(Male!J$18,'Male - Rev'!$A6-35,0)","v":-6.6E-3},{"$f":"OFFSET(Male!K$18,'Male - Rev'!$A6-35,0)","v":-5.4999999999999997E-3},{"$f":"OFFSET(Male!L$18,'Male - Rev'!$A6-35,0)","v":-4.1000000000000003E-3},{"$f":"OFFSET(Male!M$18,'Male - Rev'!$A6-35,0)","v":-2.5000000000000001E-3},{"$f":"OFFSET(Male!N$18,'Male - Rev'!$A6-35,0)","v":-6.9999999999999999E-4},{"$f":"OFFSET(Male!O$18,'Male - Rev'!$A6-35,0)","v":1.1999999999999999E-3},{"$f":"OFFSET(Male!P$18,'Male - Rev'!$A6-35,0)","v":3.0999999999999999E-3},{"$f":"OFFSET(Male!Q$18,'Male - Rev'!$A6-35,0)","v":5.1000000000000004E-3},{"$f":"OFFSET(Male!R$18,'Male - Rev'!$A6-35,0)","v":6.8999999999999999E-3},{"$f":"OFFSET(Male!S$18,'Male - Rev'!$A6-35,0)","v":8.6E-3},{"$f":"OFFSET(Male!T$18,'Male - Rev'!$A6-35,0)","v":1.01E-2},{"$f":"OFFSET(Male!U$18,'Male - Rev'!$A6-35,0)","v":1.14E-2},{"$f":"OFFSET(Male!V$18,'Male - Rev'!$A6-35,0)","v":1.2500000000000001E-2},{"$f":"OFFSET(Male!W$18,'Male - Rev'!$A6-35,0)","v":1.32E-2},{"$f":"OFFSET(Male!X$18,'Male - Rev'!$A6-35,0)","v":1.3599999999999999E-2},{"$f":"OFFSET(Male!Y$18,'Male - Rev'!$A6-35,0)","v":1.38E-2},{"$f":"OFFSET(Male!Z$18,'Male - Rev'!$A6-35,0)","v":1.3599999999999999E-2},{"$f":"OFFSET(Male!AA$18,'Male - Rev'!$A6-35,0)","v":1.3100000000000001E-2},{"$f":"OFFSET(Male!AB$18,'Male - Rev'!$A6-35,0)","v":1.23E-2},{"$f":"OFFSET(Male!AC$18,'Male - Rev'!$A6-35,0)","v":1.1299999999999999E-2},{"$f":"OFFSET(Male!AD$18,'Male - Rev'!$A6-35,0)","v":1.01E-2},{"$f":"OFFSET(Male!AE$18,'Male - Rev'!$A6-35,0)","v":8.6E-3},{"$f":"OFFSET(Male!AF$18,'Male - Rev'!$A6-35,0)","v":7.0000000000000001E-3},{"$f":"OFFSET(Male!AG$18,'Male - Rev'!$A6-35,0)","v":5.3E-3},{"$f":"OFFSET(Male!AH$18,'Male - Rev'!$A6-35,0)","v":3.5999999999999999E-3},{"$f":"OFFSET(Male!AI$18,'Male - Rev'!$A6-35,0)","v":1.8E-3},{"$f":"OFFSET(Male!AJ$18,'Male - Rev'!$A6-35,0)","v":2.0000000000000001E-4},{"$f":"OFFSET(Male!AK$18,'Male - Rev'!$A6-35,0)","v":-1.2999999999999999E-3},{"$f":"OFFSET(Male!AL$18,'Male - Rev'!$A6-35,0)","v":-2.7000000000000001E-3},{"$f":"OFFSET(Male!AM$18,'Male - Rev'!$A6-35,0)","v":-3.8999999999999998E-3},{"$f":"OFFSET(Male!AN$18,'Male - Rev'!$A6-35,0)","v":-4.8999999999999998E-3},{"$f":"OFFSET(Male!AO$18,'Male - Rev'!$A6-35,0)","v":-5.7000000000000002E-3},{"$f":"OFFSET(Male!AP$18,'Male - Rev'!$A6-35,0)","v":-6.1999999999999998E-3},{"$f":"OFFSET(Male!AQ$18,'Male - Rev'!$A6-35,0)","v":-6.4999999999999997E-3},{"$f":"OFFSET(Male!AR$18,'Male - Rev'!$A6-35,0)","v":-6.4999999999999997E-3},{"$f":"OFFSET(Male!AS$18,'Male - Rev'!$A6-35,0)","v":-6.1999999999999998E-3},{"$f":"OFFSET(Male!AT$18,'Male - Rev'!$A6-35,0)","v":-5.5999999999999999E-3},{"$f":"OFFSET(Male!AU$18,'Male - Rev'!$A6-35,0)","v":-4.5999999999999999E-3},{"$f":"OFFSET(Male!AV$18,'Male - Rev'!$A6-35,0)","v":-3.3999999999999998E-3},{"$f":"OFFSET(Male!AW$18,'Male - Rev'!$A6-35,0)","v":-2E-3},{"$f":"OFFSET(Male!AX$18,'Male - Rev'!$A6-35,0)","v":-4.0000000000000002E-4},{"$f":"OFFSET(Male!AY$18,'Male - Rev'!$A6-35,0)","v":1.4E-3},{"$f":"OFFSET(Male!AZ$18,'Male - Rev'!$A6-35,0)","v":3.2000000000000002E-3},{"$f":"OFFSET(Male!BA$18,'Male - Rev'!$A6-35,0)","v":5.0000000000000001E-3},{"$f":"OFFSET(Male!BB$18,'Male - Rev'!$A6-35,0)","v":6.6E-3},{"$f":"OFFSET(Male!BC$18,'Male - Rev'!$A6-35,0)","v":8.0000000000000002E-3},{"$f":"OFFSET(Male!BD$18,'Male - Rev'!$A6-35,0)","v":9.1000000000000004E-3},{"$f":"OFFSET(Male!BE$18,'Male - Rev'!$A6-35,0)","v":9.9000000000000008E-3},{"$f":"OFFSET(Male!BF$18,'Male - Rev'!$A6-35,0)","v":1.03E-2},{"$f":"OFFSET(Male!BG$18,'Male - Rev'!$A6-35,0)","v":1.03E-2},{"$f":"OFFSET(Male!BH$18,'Male - Rev'!$A6-35,0)","v":0.01},{"$f":"OFFSET(Male!BI$18,'Male - Rev'!$A6-35,0)","v":9.4000000000000004E-3},{"$f":"OFFSET(Male!BJ$18,'Male - Rev'!$A6-35,0)","v":8.6E-3},{"$f":"OFFSET(Male!BK$18,'Male - Rev'!$A6-35,0)","v":7.7000000000000002E-3},{"$f":"OFFSET(Male!BL$18,'Male - Rev'!$A6-35,0)","v":6.6E-3},{"$f":"OFFSET(Male!BM$18,'Male - Rev'!$A6-35,0)","v":5.5999999999999999E-3},{"$f":"OFFSET(Male!BN$18,'Male - Rev'!$A6-35,0)","v":4.4000000000000003E-3},{"$f":"OFFSET(Male!BO$18,'Male - Rev'!$A6-35,0)","v":3.3E-3},{"$f":"OFFSET(Male!BP$18,'Male - Rev'!$A6-35,0)","v":3.2000000000000002E-3},{"$f":"OFFSET(Male!BQ$18,'Male - Rev'!$A6-35,0)","v":3.2000000000000002E-3},{"$f":"OFFSET(Male!BR$18,'Male - Rev'!$A6-35,0)","v":3.3E-3},{"$f":"OFFSET(Male!BS$18,'Male - Rev'!$A6-35,0)","v":3.5000000000000001E-3},{"$f":"OFFSET(Male!BT$18,'Male - Rev'!$A6-35,0)","v":3.7000000000000002E-3},{"$f":"OFFSET(Male!BU$18,'Male - Rev'!$A6-35,0)","v":3.8999999999999998E-3},{"$f":"OFFSET(Male!BV$18,'Male - Rev'!$A6-35,0)","v":4.1000000000000003E-3},{"$f":"OFFSET(Male!BW$18,'Male - Rev'!$A6-35,0)","v":4.3E-3},{"$f":"OFFSET(Male!BX$18,'Male - Rev'!$A6-35,0)","v":4.4999999999999997E-3},{"$f":"OFFSET(Male!BY$18,'Male - Rev'!$A6-35,0)","v":4.5999999999999999E-3},{"$f":"OFFSET(Male!BZ$18,'Male - Rev'!$A6-35,0)","v":4.5999999999999999E-3},{"$f":"OFFSET(Male!CA$18,'Male - Rev'!$A6-35,0)","v":4.5999999999999999E-3},{"$f":"OFFSET(Male!CB$18,'Male - Rev'!$A6-35,0)","v":4.7000000000000002E-3},{"$f":"OFFSET(Male!CC$18,'Male - Rev'!$A6-35,0)","v":4.7000000000000002E-3},{"$f":"OFFSET(Male!CD$18,'Male - Rev'!$A6-35,0)","v":4.7000000000000002E-3},{"$f":"OFFSET(Male!CE$18,'Male - Rev'!$A6-35,0)","v":4.7999999999999996E-3},{"$f":"OFFSET(Male!CF$18,'Male - Rev'!$A6-35,0)","v":4.7999999999999996E-3},{"$f":"OFFSET(Male!CG$18,'Male - Rev'!$A6-35,0)","v":5.0000000000000001E-3},{"$f":"OFFSET(Male!CH$18,'Male - Rev'!$A6-35,0)","v":5.1999999999999998E-3},{"$f":"OFFSET(Male!CI$18,'Male - Rev'!$A6-35,0)","v":5.4000000000000003E-3},{"$f":"CJ6","v":5.4000000000000003E-3},5.4000000000000003E-3]
[91,91,{"$f":"OFFSET(Male!B$18,'Male - Rev'!$A7-35,0)","v":-7.4000000000000003E-3},{"$f":"OFFSET(Male!C$18,'Male - Rev'!$A7-35,0)","v":-7.4999999999999997E-3},{"$f":"OFFSET(Male!D$18,'Male - Rev'!$A7-35,0)","v":-7.7000000000000002E-3},{"$f":"OFFSET(Male!E$18,'Male - Rev'!$A7-35,0)","v":-7.7999999999999996E-3},{"$f":"OFFSET(Male!F$18,'Male - Rev'!$A7-35,0)","v":-7.9000000000000008E-3},{"$f":"OFFSET(Male!G$18,'Male - Rev'!$A7-35,0)","v":-7.7999999999999996E-3},{"$f":"OFFSET(Male!H$18,'Male - Rev'!$A7-35,0)","v":-7.4999999999999997E-3},{"$f":"OFFSET(Male!I$18,'Male - Rev'!$A7-35,0)","v":-7.0000000000000001E-3},{"$f":"OFFSET(Male!J$18,'Male - Rev'!$A7-35,0)","v":-6.3E-3},{"$f":"OFFSET(Male!K$18,'Male - Rev'!$A7-35,0)","v":-5.3E-3},{"$f":"OFFSET(Male!L$18,'Male - Rev'!$A7-35,0)","v":-4.0000000000000001E-3},{"$f":"OFFSET(Male!M$18,'Male - Rev'!$A7-35,0)","v":-2.5000000000000001E-3},{"$f":"OFFSET(Male!N$18,'Male - Rev'!$A7-35,0)","v":-8.0000000000000004E-4},{"$f":"OFFSET(Male!O$18,'Male - Rev'!$A7-35,0)","v":1E-3},{"$f":"OFFSET(Male!P$18,'Male - Rev'!$A7-35,0)","v":3.0000000000000001E-3},{"$f":"OFFSET(Male!Q$18,'Male - Rev'!$A7-35,0)","v":4.8999999999999998E-3},{"$f":"OFFSET(Male!R$18,'Male - Rev'!$A7-35,0)","v":6.7999999999999996E-3},{"$f":"OFFSET(Male!S$18,'Male - Rev'!$A7-35,0)","v":8.5000000000000006E-3},{"$f":"OFFSET(Male!T$18,'Male - Rev'!$A7-35,0)","v":1.01E-2},{"$f":"OFFSET(Male!U$18,'Male - Rev'!$A7-35,0)","v":1.14E-2},{"$f":"OFFSET(Male!V$18,'Male - Rev'!$A7-35,0)","v":1.2500000000000001E-2},{"$f":"OFFSET(Male!W$18,'Male - Rev'!$A7-35,0)","v":1.32E-2},{"$f":"OFFSET(Male!X$18,'Male - Rev'!$A7-35,0)","v":1.37E-2},{"$f":"OFFSET(Male!Y$18,'Male - Rev'!$A7-35,0)","v":1.3899999999999999E-2},{"$f":"OFFSET(Male!Z$18,'Male - Rev'!$A7-35,0)","v":1.37E-2},{"$f":"OFFSET(Male!AA$18,'Male - Rev'!$A7-35,0)","v":1.32E-2},{"$f":"OFFSET(Male!AB$18,'Male - Rev'!$A7-35,0)","v":1.24E-2},{"$f":"OFFSET(Male!AC$18,'Male - Rev'!$A7-35,0)","v":1.14E-2},{"$f":"OFFSET(Male!AD$18,'Male - Rev'!$A7-35,0)","v":1.01E-2},{"$f":"OFFSET(Male!AE$18,'Male - Rev'!$A7-35,0)","v":8.6999999999999994E-3},{"$f":"OFFSET(Male!AF$18,'Male - Rev'!$A7-35,0)","v":7.1000000000000004E-3},{"$f":"OFFSET(Male!AG$18,'Male - Rev'!$A7-35,0)","v":5.4000000000000003E-3},{"$f":"OFFSET(Male!AH$18,'Male - Rev'!$A7-35,0)","v":3.7000000000000002E-3},{"$f":"OFFSET(Male!AI$18,'Male - Rev'!$A7-35,0)","v":2E-3},{"$f":"OFFSET(Male!AJ$18,'Male - Rev'!$A7-35,0)","v":5.0000000000000001E-4},{"$f":"OFFSET(Male!AK$18,'Male - Rev'!$A7-35,0)","v":-8.9999999999999998E-4},{"$f":"OFFSET(Male!AL$18,'Male - Rev'!$A7-35,0)","v":-2.2000000000000001E-3},{"$f":"OFFSET(Male!AM$18,'Male - Rev'!$A7-35,0)","v":-3.2000000000000002E-3},{"$f":"OFFSET(Male!AN$18,'Male - Rev'!$A7-35,0)","v":-4.1000000000000003E-3},{"$f":"OFFSET(Male!AO$18,'Male - Rev'!$A7-35,0)","v":-4.7000000000000002E-3},{"$f":"OFFSET(Male!AP$18,'Male - Rev'!$A7-35,0)","v":-5.1999999999999998E-3},{"$f":"OFFSET(Male!AQ$18,'Male - Rev'!$A7-35,0)","v":-5.4000000000000003E-3},{"$f":"OFFSET(Male!AR$18,'Male - Rev'!$A7-35,0)","v":-5.3E-3},{"$f":"OFFSET(Male!AS$18,'Male - Rev'!$A7-35,0)","v":-5.0000000000000001E-3},{"$f":"OFFSET(Male!AT$18,'Male - Rev'!$A7-35,0)","v":-4.3E-3},{"$f":"OFFSET(Male!AU$18,'Male - Rev'!$A7-35,0)","v":-3.3E-3},{"$f":"OFFSET(Male!AV$18,'Male - Rev'!$A7-35,0)","v":-2E-3},{"$f":"OFFSET(Male!AW$18,'Male - Rev'!$A7-35,0)","v":-5.0000000000000001E-4},{"$f":"OFFSET(Male!AX$18,'Male - Rev'!$A7-35,0)","v":1.1999999999999999E-3},{"$f":"OFFSET(Male!AY$18,'Male - Rev'!$A7-35,0)","v":3.0000000000000001E-3},{"$f":"OFFSET(Male!AZ$18,'Male - Rev'!$A7-35,0)","v":4.8999999999999998E-3},{"$f":"OFFSET(Male!BA$18,'Male - Rev'!$A7-35,0)","v":6.7000000000000002E-3},{"$f":"OFFSET(Male!BB$18,'Male - Rev'!$A7-35,0)","v":8.3000000000000001E-3},{"$f":"OFFSET(Male!BC$18,'Male - Rev'!$A7-35,0)","v":9.7000000000000003E-3},{"$f":"OFFSET(Male!BD$18,'Male - Rev'!$A7-35,0)","v":1.0699999999999999E-2},{"$f":"OFFSET(Male!BE$18,'Male - Rev'!$A7-35,0)","v":1.1299999999999999E-2},{"$f":"OFFSET(Male!BF$18,'Male - Rev'!$A7-35,0)","v":1.1599999999999999E-2},{"$f":"OFFSET(Male!BG$18,'Male - Rev'!$A7-35,0)","v":1.14E-2},{"$f":"OFFSET(Male!BH$18,'Male - Rev'!$A7-35,0)","v":1.09E-2},{"$f":"OFFSET(Male!BI$18,'Male - Rev'!$A7-35,0)","v":1.01E-2},{"$f":"OFFSET(Male!BJ$18,'Male - Rev'!$A7-35,0)","v":9.1000000000000004E-3},{"$f":"OFFSET(Male!BK$18,'Male - Rev'!$A7-35,0)","v":8.0000000000000002E-3},{"$f":"OFFSET(Male!BL$18,'Male - Rev'!$A7-35,0)","v":6.7999999999999996E-3},{"$f":"OFFSET(Male!BM$18,'Male - Rev'!$A7-35,0)","v":5.5999999999999999E-3},{"$f":"OFFSET(Male!BN$18,'Male - Rev'!$A7-35,0)","v":4.3E-3},{"$f":"OFFSET(Male!BO$18,'Male - Rev'!$A7-35,0)","v":3.0999999999999999E-3},{"$f":"OFFSET(Male!BP$18,'Male - Rev'!$A7-35,0)","v":3.0999999999999999E-3},{"$f":"OFFSET(Male!BQ$18,'Male - Rev'!$A7-35,0)","v":3.2000000000000002E-3},{"$f":"OFFSET(Male!BR$18,'Male - Rev'!$A7-35,0)","v":3.3E-3},{"$f":"OFFSET(Male!BS$18,'Male - Rev'!$A7-35,0)","v":3.5999999999999999E-3},{"$f":"OFFSET(Male!BT$18,'Male - Rev'!$A7-35,0)","v":3.8999999999999998E-3},{"$f":"OFFSET(Male!BU$18,'Male - Rev'!$A7-35,0)","v":4.1999999999999997E-3},{"$f":"OFFSET(Male!BV$18,'Male - Rev'!$A7-35,0)","v":4.4000000000000003E-3},{"$f":"OFFSET(Male!BW$18,'Male - Rev'!$A7-35,0)","v":4.7000000000000002E-3},{"$f":"OFFSET(Male!BX$18,'Male - Rev'!$A7-35,0)","v":4.7999999999999996E-3},{"$f":"OFFSET(Male!BY$18,'Male - Rev'!$A7-35,0)","v":4.8999999999999998E-3},{"$f":"OFFSET(Male!BZ$18,'Male - Rev'!$A7-35,0)","v":5.0000000000000001E-3},{"$f":"OFFSET(Male!CA$18,'Male - Rev'!$A7-35,0)","v":5.0000000000000001E-3},{"$f":"OFFSET(Male!CB$18,'Male - Rev'!$A7-35,0)","v":5.0000000000000001E-3},{"$f":"OFFSET(Male!CC$18,'Male - Rev'!$A7-35,0)","v":5.1000000000000004E-3},{"$f":"OFFSET(Male!CD$18,'Male - Rev'!$A7-35,0)","v":5.1000000000000004E-3},{"$f":"OFFSET(Male!CE$18,'Male - Rev'!$A7-35,0)","v":5.1000000000000004E-3},{"$f":"OFFSET(Male!CF$18,'Male - Rev'!$A7-35,0)","v":5.1999999999999998E-3},{"$f":"OFFSET(Male!CG$18,'Male - Rev'!$A7-35,0)","v":5.4000000000000003E-3},{"$f":"OFFSET(Male!CH$18,'Male - Rev'!$A7-35,0)","v":5.5999999999999999E-3},{"$f":"OFFSET(Male!CI$18,'Male - Rev'!$A7-35,0)","v":5.8999999999999999E-3},{"$f":"CJ7","v":5.8999999999999999E-3},5.8999999999999999E-3]
[90,90,{"$f":"OFFSET(Male!B$18,'Male - Rev'!$A8-35,0)","v":-4.8999999999999998E-3},{"$f":"OFFSET(Male!C$18,'Male - Rev'!$A8-35,0)","v":-5.4000000000000003E-3},{"$f":"OFFSET(Male!D$18,'Male - Rev'!$A8-35,0)","v":-5.7999999999999996E-3},{"$f":"OFFSET(Male!E$18,'Male - Rev'!$A8-35,0)","v":-6.1999999999999998E-3},{"$f":"OFFSET(Male!F$18,'Male - Rev'!$A8-35,0)","v":-6.6E-3},{"$f":"OFFSET(Male!G$18,'Male - Rev'!$A8-35,0)","v":-6.7000000000000002E-3},{"$f":"OFFSET(Male!H$18,'Male - Rev'!$A8-35,0)","v":-6.7000000000000002E-3},{"$f":"OFFSET(Male!I$18,'Male - Rev'!$A8-35,0)","v":-6.4000000000000003E-3},{"$f":"OFFSET(Male!J$18,'Male - Rev'!$A8-35,0)","v":-5.8999999999999999E-3},{"$f":"OFFSET(Male!K$18,'Male - Rev'!$A8-35,0)","v":-5.0000000000000001E-3},{"$f":"OFFSET(Male!L$18,'Male - Rev'!$A8-35,0)","v":-3.8999999999999998E-3},{"$f":"OFFSET(Male!M$18,'Male - Rev'!$A8-35,0)","v":-2.5000000000000001E-3},{"$f":"OFFSET(Male!N$18,'Male - Rev'!$A8-35,0)","v":-8.9999999999999998E-4},{"$f":"OFFSET(Male!O$18,'Male - Rev'!$A8-35,0)","v":8.9999999999999998E-4},{"$f":"OFFSET(Male!P$18,'Male - Rev'!$A8-35,0)","v":2.8E-3},{"$f":"OFFSET(Male!Q$18,'Male - Rev'!$A8-35,0)","v":4.7000000000000002E-3},{"$f":"OFFSET(Male!R$18,'Male - Rev'!$A8-35,0)","v":6.6E-3},{"$f":"OFFSET(Male!S$18,'Male - Rev'!$A8-35,0)","v":8.3999999999999995E-3},{"$f":"OFFSET(Male!T$18,'Male - Rev'!$A8-35,0)","v":0.01},{"$f":"OFFSET(Male!U$18,'Male - Rev'!$A8-35,0)","v":1.1299999999999999E-2},{"$f":"OFFSET(Male!V$18,'Male - Rev'!$A8-35,0)","v":1.24E-2},{"$f":"OFFSET(Male!W$18,'Male - Rev'!$A8-35,0)","v":1.32E-2},{"$f":"OFFSET(Male!X$18,'Male - Rev'!$A8-35,0)","v":1.38E-2},{"$f":"OFFSET(Male!Y$18,'Male - Rev'!$A8-35,0)","v":1.3899999999999999E-2},{"$f":"OFFSET(Male!Z$18,'Male - Rev'!$A8-35,0)","v":1.38E-2},{"$f":"OFFSET(Male!AA$18,'Male - Rev'!$A8-35,0)","v":1.3299999999999999E-2},{"$f":"OFFSET(Male!AB$18,'Male - Rev'!$A8-35,0)","v":1.2500000000000001E-2},{"$f":"OFFSET(Male!AC$18,'Male - Rev'!$A8-35,0)","v":1.14E-2},{"$f":"OFFSET(Male!AD$18,'Male - Rev'!$A8-35,0)","v":1.01E-2},{"$f":"OFFSET(Male!AE$18,'Male - Rev'!$A8-35,0)","v":8.6999999999999994E-3},{"$f":"OFFSET(Male!AF$18,'Male - Rev'!$A8-35,0)","v":7.1000000000000004E-3},{"$f":"OFFSET(Male!AG$18,'Male - Rev'!$A8-35,0)","v":5.4000000000000003E-3},{"$f":"OFFSET(Male!AH$18,'Male - Rev'!$A8-35,0)","v":3.8E-3},{"$f":"OFFSET(Male!AI$18,'Male - Rev'!$A8-35,0)","v":2.2000000000000001E-3},{"$f":"OFFSET(Male!AJ$18,'Male - Rev'!$A8-35,0)","v":8.0000000000000004E-4},{"$f":"OFFSET(Male!AK$18,'Male - Rev'!$A8-35,0)","v":-5.0000000000000001E-4},{"$f":"OFFSET(Male!AL$18,'Male - Rev'!$A8-35,0)","v":-1.5E-3},{"$f":"OFFSET(Male!AM$18,'Male - Rev'!$A8-35,0)","v":-2.3999999999999998E-3},{"$f":"OFFSET(Male!AN$18,'Male - Rev'!$A8-35,0)","v":-3.2000000000000002E-3},{"$f":"OFFSET(Male!AO$18,'Male - Rev'!$A8-35,0)","v":-3.7000000000000002E-3},{"$f":"OFFSET(Male!AP$18,'Male - Rev'!$A8-35,0)","v":-4.0000000000000001E-3},{"$f":"OFFSET(Male!AQ$18,'Male - Rev'!$A8-35,0)","v":-4.1999999999999997E-3},{"$f":"OFFSET(Male!AR$18,'Male - Rev'!$A8-35,0)","v":-4.1000000000000003E-3},{"$f":"OFFSET(Male!AS$18,'Male - Rev'!$A8-35,0)","v":-3.7000000000000002E-3},{"$f":"OFFSET(Male!AT$18,'Male - Rev'!$A8-35,0)","v":-3.0000000000000001E-3},{"$f":"OFFSET(Male!AU$18,'Male - Rev'!$A8-35,0)","v":-2E-3},{"$f":"OFFSET(Male!AV$18,'Male - Rev'!$A8-35,0)","v":-6.9999999999999999E-4},{"$f":"OFFSET(Male!AW$18,'Male - Rev'!$A8-35,0)","v":8.9999999999999998E-4},{"$f":"OFFSET(Male!AX$18,'Male - Rev'!$A8-35,0)","v":2.7000000000000001E-3},{"$f":"OFFSET(Male!AY$18,'Male - Rev'!$A8-35,0)","v":4.4999999999999997E-3},{"$f":"OFFSET(Male!AZ$18,'Male - Rev'!$A8-35,0)","v":6.4000000000000003E-3},{"$f":"OFFSET(Male!BA$18,'Male - Rev'!$A8-35,0)","v":8.3000000000000001E-3},{"$f":"OFFSET(Male!BB$18,'Male - Rev'!$A8-35,0)","v":9.9000000000000008E-3},{"$f":"OFFSET(Male!BC$18,'Male - Rev'!$A8-35,0)","v":1.12E-2},{"$f":"OFFSET(Male!BD$18,'Male - Rev'!$A8-35,0)","v":1.2200000000000001E-2},{"$f":"OFFSET(Male!BE$18,'Male - Rev'!$A8-35,0)","v":1.2699999999999999E-2},{"$f":"OFFSET(Male!BF$18,'Male - Rev'!$A8-35,0)","v":1.2800000000000001E-2},{"$f":"OFFSET(Male!BG$18,'Male - Rev'!$A8-35,0)","v":1.24E-2},{"$f":"OFFSET(Male!BH$18,'Male - Rev'!$A8-35,0)","v":1.18E-2},{"$f":"OFFSET(Male!BI$18,'Male - Rev'!$A8-35,0)","v":1.0800000000000001E-2},{"$f":"OFFSET(Male!BJ$18,'Male - Rev'!$A8-35,0)","v":9.5999999999999992E-3},{"$f":"OFFSET(Male!BK$18,'Male - Rev'!$A8-35,0)","v":8.3999999999999995E-3},{"$f":"OFFSET(Male!BL$18,'Male - Rev'!$A8-35,0)","v":7.0000000000000001E-3},{"$f":"OFFSET(Male!BM$18,'Male - Rev'!$A8-35,0)","v":5.7000000000000002E-3},{"$f":"OFFSET(Male!BN$18,'Male - Rev'!$A8-35,0)","v":4.3E-3},{"$f":"OFFSET(Male!BO$18,'Male - Rev'!$A8-35,0)","v":3.0000000000000001E-3},{"$f":"OFFSET(Male!BP$18,'Male - Rev'!$A8-35,0)","v":3.0000000000000001E-3},{"$f":"OFFSET(Male!BQ$18,'Male - Rev'!$A8-35,0)","v":3.2000000000000002E-3},{"$f":"OFFSET(Male!BR$18,'Male - Rev'!$A8-35,0)","v":3.3999999999999998E-3},{"$f":"OFFSET(Male!BS$18,'Male - Rev'!$A8-35,0)","v":3.8E-3},{"$f":"OFFSET(Male!BT$18,'Male - Rev'!$A8-35,0)","v":4.1000000000000003E-3},{"$f":"OFFSET(Male!BU$18,'Male - Rev'!$A8-35,0)","v":4.4000000000000003E-3},{"$f":"OFFSET(Male!BV$18,'Male - Rev'!$A8-35,0)","v":4.7000000000000002E-3},{"$f":"OFFSET(Male!BW$18,'Male - Rev'!$A8-35,0)","v":5.0000000000000001E-3},{"$f":"OFFSET(Male!BX$18,'Male - Rev'!$A8-35,0)","v":5.1999999999999998E-3},{"$f":"OFFSET(Male!BY$18,'Male - Rev'!$A8-35,0)","v":5.3E-3},{"$f":"OFFSET(Male!BZ$18,'Male - Rev'!$A8-35,0)","v":5.3E-3},{"$f":"OFFSET(Male!CA$18,'Male - Rev'!$A8-35,0)","v":5.4000000000000003E-3},{"$f":"OFFSET(Male!CB$18,'Male - Rev'!$A8-35,0)","v":5.4000000000000003E-3},{"$f":"OFFSET(Male!CC$18,'Male - Rev'!$A8-35,0)","v":5.4000000000000003E-3},{"$f":"OFFSET(Male!CD$18,'Male - Rev'!$A8-35,0)","v":5.4000000000000003E-3},{"$f":"OFFSET(Male!CE$18,'Male - Rev'!$A8-35,0)","v":5.4999999999999997E-3},{"$f":"OFFSET(Male!CF$18,'Male - Rev'!$A8-35,0)","v":5.7000000000000002E-3},{"$f":"OFFSET(Male!CG$18,'Male - Rev'!$A8-35,0)","v":5.8999999999999999E-3},{"$f":"OFFSET(Male!CH$18,'Male - Rev'!$A8-35,0)","v":6.1000000000000004E-3},{"$f":"OFFSET(Male!CI$18,'Male - Rev'!$A8-35,0)","v":6.3E-3},{"$f":"CJ8","v":6.3E-3},6.3E-3]
[89,89,{"$f":"OFFSET(Male!B$18,'Male - Rev'!$A9-35,0)","v":-2.7000000000000001E-3},{"$f":"OFFSET(Male!C$18,'Male - Rev'!$A9-35,0)","v":-3.3999999999999998E-3},{"$f":"OFFSET(Male!D$18,'Male - Rev'!$A9-35,0)","v":-4.1000000000000003E-3},{"$f":"OFFSET(Male!E$18,'Male - Rev'!$A9-35,0)","v":-4.7999999999999996E-3},{"$f":"OFFSET(Male!F$18,'Male - Rev'!$A9-35,0)","v":-5.3E-3},{"$f":"OFFSET(Male!G$18,'Male - Rev'!$A9-35,0)","v":-5.7000000000000002E-3},{"$f":"OFFSET(Male!H$18,'Male - Rev'!$A9-35,0)","v":-5.7999999999999996E-3},{"$f":"OFFSET(Male!I$18,'Male - Rev'!$A9-35,0)","v":-5.7999999999999996E-3},{"$f":"OFFSET(Male!J$18,'Male - Rev'!$A9-35,0)","v":-5.4000000000000003E-3},{"$f":"OFFSET(Male!K$18,'Male - Rev'!$A9-35,0)","v":-4.7000000000000002E-3},{"$f":"OFFSET(Male!L$18,'Male - Rev'!$A9-35,0)","v":-3.7000000000000002E-3},{"$f":"OFFSET(Male!M$18,'Male - Rev'!$A9-35,0)","v":-2.5000000000000001E-3},{"$f":"OFFSET(Male!N$18,'Male - Rev'!$A9-35,0)","v":-1E-3},{"$f":"OFFSET(Male!O$18,'Male - Rev'!$A9-35,0)","v":8.0000000000000004E-4},{"$f":"OFFSET(Male!P$18,'Male - Rev'!$A9-35,0)","v":2.5999999999999999E-3},{"$f":"OFFSET(Male!Q$18,'Male - Rev'!$A9-35,0)","v":4.4999999999999997E-3},{"$f":"OFFSET(Male!R$18,'Male - Rev'!$A9-35,0)","v":6.4000000000000003E-3},{"$f":"OFFSET(Male!S$18,'Male - Rev'!$A9-35,0)","v":8.0999999999999996E-3},{"$f":"OFFSET(Male!T$18,'Male - Rev'!$A9-35,0)","v":9.7999999999999997E-3},{"$f":"OFFSET(Male!U$18,'Male - Rev'!$A9-35,0)","v":1.12E-2},{"$f":"OFFSET(Male!V$18,'Male - Rev'!$A9-35,0)","v":1.23E-2},{"$f":"OFFSET(Male!W$18,'Male - Rev'!$A9-35,0)","v":1.32E-2},{"$f":"OFFSET(Male!X$18,'Male - Rev'!$A9-35,0)","v":1.38E-2},{"$f":"OFFSET(Male!Y$18,'Male - Rev'!$A9-35,0)","v":1.4E-2},{"$f":"OFFSET(Male!Z$18,'Male - Rev'!$A9-35,0)","v":1.3899999999999999E-2},{"$f":"OFFSET(Male!AA$18,'Male - Rev'!$A9-35,0)","v":1.34E-2},{"$f":"OFFSET(Male!AB$18,'Male - Rev'!$A9-35,0)","v":1.26E-2},{"$f":"OFFSET(Male!AC$18,'Male - Rev'!$A9-35,0)","v":1.15E-2},{"$f":"OFFSET(Male!AD$18,'Male - Rev'!$A9-35,0)","v":1.0200000000000001E-2},{"$f":"OFFSET(Male!AE$18,'Male - Rev'!$A9-35,0)","v":8.6999999999999994E-3},{"$f":"OFFSET(Male!AF$18,'Male - Rev'!$A9-35,0)","v":7.1000000000000004E-3},{"$f":"OFFSET(Male!AG$18,'Male - Rev'!$A9-35,0)","v":5.4999999999999997E-3},{"$f":"OFFSET(Male!AH$18,'Male - Rev'!$A9-35,0)","v":3.8999999999999998E-3},{"$f":"OFFSET(Male!AI$18,'Male - Rev'!$A9-35,0)","v":2.5000000000000001E-3},{"$f":"OFFSET(Male!AJ$18,'Male - Rev'!$A9-35,0)","v":1.1999999999999999E-3},{"$f":"OFFSET(Male!AK$18,'Male - Rev'!$A9-35,0)","v":1E-4},{"$f":"OFFSET(Male!AL$18,'Male - Rev'!$A9-35,0)","v":-8.0000000000000004E-4},{"$f":"OFFSET(Male!AM$18,'Male - Rev'!$A9-35,0)","v":-1.6000000000000001E-3},{"$f":"OFFSET(Male!AN$18,'Male - Rev'!$A9-35,0)","v":-2.0999999999999999E-3},{"$f":"OFFSET(Male!AO$18,'Male - Rev'!$A9-35,0)","v":-2.5999999999999999E-3},{"$f":"OFFSET(Male!AP$18,'Male - Rev'!$A9-35,0)","v":-2.8E-3},{"$f":"OFFSET(Male!AQ$18,'Male - Rev'!$A9-35,0)","v":-2.8999999999999998E-3},{"$f":"OFFSET(Male!AR$18,'Male - Rev'!$A9-35,0)","v":-2.7000000000000001E-3},{"$f":"OFFSET(Male!AS$18,'Male - Rev'!$A9-35,0)","v":-2.3E-3},{"$f":"OFFSET(Male!AT$18,'Male - Rev'!$A9-35,0)","v":-1.6000000000000001E-3},{"$f":"OFFSET(Male!AU$18,'Male - Rev'!$A9-35,0)","v":-5.9999999999999995E-4},{"$f":"OFFSET(Male!AV$18,'Male - Rev'!$A9-35,0)","v":6.9999999999999999E-4},{"$f":"OFFSET(Male!AW$18,'Male - Rev'!$A9-35,0)","v":2.3E-3},{"$f":"OFFSET(Male!AX$18,'Male - Rev'!$A9-35,0)","v":4.1000000000000003E-3},{"$f":"OFFSET(Male!AY$18,'Male - Rev'!$A9-35,0)","v":6.0000000000000001E-3},{"$f":"OFFSET(Male!AZ$18,'Male - Rev'!$A9-35,0)","v":8.0000000000000002E-3},{"$f":"OFFSET(Male!BA$18,'Male - Rev'!$A9-35,0)","v":9.7999999999999997E-3},{"$f":"OFFSET(Male!BB$18,'Male - Rev'!$A9-35,0)","v":1.14E-2},{"$f":"OFFSET(Male!BC$18,'Male - Rev'!$A9-35,0)","v":1.2699999999999999E-2},{"$f":"OFFSET(Male!BD$18,'Male - Rev'!$A9-35,0)","v":1.3599999999999999E-2},{"$f":"OFFSET(Male!BE$18,'Male - Rev'!$A9-35,0)","v":1.4E-2},{"$f":"OFFSET(Male!BF$18,'Male - Rev'!$A9-35,0)","v":1.3899999999999999E-2},{"$f":"OFFSET(Male!BG$18,'Male - Rev'!$A9-35,0)","v":1.34E-2},{"$f":"OFFSET(Male!BH$18,'Male - Rev'!$A9-35,0)","v":1.26E-2},{"$f":"OFFSET(Male!BI$18,'Male - Rev'!$A9-35,0)","v":1.15E-2},{"$f":"OFFSET(Male!BJ$18,'Male - Rev'!$A9-35,0)","v":1.01E-2},{"$f":"OFFSET(Male!BK$18,'Male - Rev'!$A9-35,0)","v":8.6999999999999994E-3},{"$f":"OFFSET(Male!BL$18,'Male - Rev'!$A9-35,0)","v":7.3000000000000001E-3},{"$f":"OFFSET(Male!BM$18,'Male - Rev'!$A9-35,0)","v":5.7999999999999996E-3},{"$f":"OFFSET(Male!BN$18,'Male - Rev'!$A9-35,0)","v":4.4000000000000003E-3},{"$f":"OFFSET(Male!BO$18,'Male - Rev'!$A9-35,0)","v":3.0000000000000001E-3},{"$f":"OFFSET(Male!BP$18,'Male - Rev'!$A9-35,0)","v":3.0999999999999999E-3},{"$f":"OFFSET(Male!BQ$18,'Male - Rev'!$A9-35,0)","v":3.3E-3},{"$f":"OFFSET(Male!BR$18,'Male - Rev'!$A9-35,0)","v":3.5999999999999999E-3},{"$f":"OFFSET(Male!BS$18,'Male - Rev'!$A9-35,0)","v":4.0000000000000001E-3},{"$f":"OFFSET(Male!BT$18,'Male - Rev'!$A9-35,0)","v":4.4000000000000003E-3},{"$f":"OFFSET(Male!BU$18,'Male - Rev'!$A9-35,0)","v":4.7000000000000002E-3},{"$f":"OFFSET(Male!BV$18,'Male - Rev'!$A9-35,0)","v":5.1000000000000004E-3},{"$f":"OFFSET(Male!BW$18,'Male - Rev'!$A9-35,0)","v":5.4000000000000003E-3},{"$f":"OFFSET(Male!BX$18,'Male - Rev'!$A9-35,0)","v":5.5999999999999999E-3},{"$f":"OFFSET(Male!BY$18,'Male - Rev'!$A9-35,0)","v":5.7000000000000002E-3},{"$f":"OFFSET(Male!BZ$18,'Male - Rev'!$A9-35,0)","v":5.7000000000000002E-3},{"$f":"OFFSET(Male!CA$18,'Male - Rev'!$A9-35,0)","v":5.7000000000000002E-3},{"$f":"OFFSET(Male!CB$18,'Male - Rev'!$A9-35,0)","v":5.7000000000000002E-3},{"$f":"OFFSET(Male!CC$18,'Male - Rev'!$A9-35,0)","v":5.7000000000000002E-3},{"$f":"OFFSET(Male!CD$18,'Male - Rev'!$A9-35,0)","v":5.7999999999999996E-3},{"$f":"OFFSET(Male!CE$18,'Male - Rev'!$A9-35,0)","v":6.0000000000000001E-3},{"$f":"OFFSET(Male!CF$18,'Male - Rev'!$A9-35,0)","v":6.1000000000000004E-3},{"$f":"OFFSET(Male!CG$18,'Male - Rev'!$A9-35,0)","v":6.3E-3},{"$f":"OFFSET(Male!CH$18,'Male - Rev'!$A9-35,0)","v":6.6E-3},{"$f":"OFFSET(Male!CI$18,'Male - Rev'!$A9-35,0)","v":6.7999999999999996E-3},{"$f":"CJ9","v":6.7999999999999996E-3},6.7999999999999996E-3]
[88,88,{"$f":"OFFSET(Male!B$18,'Male - Rev'!$A10-35,0)","v":-8.0000000000000004E-4},{"$f":"OFFSET(Male!C$18,'Male - Rev'!$A10-35,0)","v":-1.6999999999999999E-3},{"$f":"OFFSET(Male!D$18,'Male - Rev'!$A10-35,0)","v":-2.5000000000000001E-3},{"$f":"OFFSET(Male!E$18,'Male - Rev'!$A10-35,0)","v":-3.3E-3},{"$f":"OFFSET(Male!F$18,'Male - Rev'!$A10-35,0)","v":-4.1000000000000003E-3},{"$f":"OFFSET(Male!G$18,'Male - Rev'!$A10-35,0)","v":-4.5999999999999999E-3},{"$f":"OFFSET(Male!H$18,'Male - Rev'!$A10-35,0)","v":-5.0000000000000001E-3},{"$f":"OFFSET(Male!I$18,'Male - Rev'!$A10-35,0)","v":-5.1000000000000004E-3},{"$f":"OFFSET(Male!J$18,'Male - Rev'!$A10-35,0)","v":-4.7999999999999996E-3},{"$f":"OFFSET(Male!K$18,'Male - Rev'!$A10-35,0)","v":-4.3E-3},{"$f":"OFFSET(Male!L$18,'Male - Rev'!$A10-35,0)","v":-3.5000000000000001E-3},{"$f":"OFFSET(Male!M$18,'Male - Rev'!$A10-35,0)","v":-2.3999999999999998E-3},{"$f":"OFFSET(Male!N$18,'Male - Rev'!$A10-35,0)","v":-1E-3},{"$f":"OFFSET(Male!O$18,'Male - Rev'!$A10-35,0)","v":5.9999999999999995E-4},{"$f":"OFFSET(Male!P$18,'Male - Rev'!$A10-35,0)","v":2.3999999999999998E-3},{"$f":"OFFSET(Male!Q$18,'Male - Rev'!$A10-35,0)","v":4.1999999999999997E-3},{"$f":"OFFSET(Male!R$18,'Male - Rev'!$A10-35,0)","v":6.1000000000000004E-3},{"$f":"OFFSET(Male!S$18,'Male - Rev'!$A10-35,0)","v":7.9000000000000008E-3},{"$f":"OFFSET(Male!T$18,'Male - Rev'!$A10-35,0)","v":9.4999999999999998E-3},{"$f":"OFFSET(Male!U$18,'Male - Rev'!$A10-35,0)","v":1.09E-2},{"$f":"OFFSET(Male!V$18,'Male - Rev'!$A10-35,0)","v":1.2200000000000001E-2},{"$f":"OFFSET(Male!W$18,'Male - Rev'!$A10-35,0)","v":1.3100000000000001E-2},{"$f":"OFFSET(Male!X$18,'Male - Rev'!$A10-35,0)","v":1.37E-2},{"$f":"OFFSET(Male!Y$18,'Male - Rev'!$A10-35,0)","v":1.4E-2},{"$f":"OFFSET(Male!Z$18,'Male - Rev'!$A10-35,0)","v":1.3899999999999999E-2},{"$f":"OFFSET(Male!AA$18,'Male - Rev'!$A10-35,0)","v":1.34E-2},{"$f":"OFFSET(Male!AB$18,'Male - Rev'!$A10-35,0)","v":1.26E-2},{"$f":"OFFSET(Male!AC$18,'Male - Rev'!$A10-35,0)","v":1.15E-2},{"$f":"OFFSET(Male!AD$18,'Male - Rev'!$A10-35,0)","v":1.01E-2},{"$f":"OFFSET(Male!AE$18,'Male - Rev'!$A10-35,0)","v":8.6E-3},{"$f":"OFFSET(Male!AF$18,'Male - Rev'!$A10-35,0)","v":7.1000000000000004E-3},{"$f":"OFFSET(Male!AG$18,'Male - Rev'!$A10-35,0)","v":5.4999999999999997E-3},{"$f":"OFFSET(Male!AH$18,'Male - Rev'!$A10-35,0)","v":4.0000000000000001E-3},{"$f":"OFFSET(Male!AI$18,'Male - Rev'!$A10-35,0)","v":2.7000000000000001E-3},{"$f":"OFFSET(Male!AJ$18,'Male - Rev'!$A10-35,0)","v":1.6000000000000001E-3},{"$f":"OFFSET(Male!AK$18,'Male - Rev'!$A10-35,0)","v":5.9999999999999995E-4},{"$f":"OFFSET(Male!AL$18,'Male - Rev'!$A10-35,0)","v":-1E-4},{"$f":"OFFSET(Male!AM$18,'Male - Rev'!$A10-35,0)","v":-5.9999999999999995E-4},{"$f":"OFFSET(Male!AN$18,'Male - Rev'!$A10-35,0)","v":-1E-3},{"$f":"OFFSET(Male!AO$18,'Male - Rev'!$A10-35,0)","v":-1.2999999999999999E-3},{"$f":"OFFSET(Male!AP$18,'Male - Rev'!$A10-35,0)","v":-1.5E-3},{"$f":"OFFSET(Male!AQ$18,'Male - Rev'!$A10-35,0)","v":-1.5E-3},{"$f":"OFFSET(Male!AR$18,'Male - Rev'!$A10-35,0)","v":-1.2999999999999999E-3},{"$f":"OFFSET(Male!AS$18,'Male - Rev'!$A10-35,0)","v":-8.9999999999999998E-4},{"$f":"OFFSET(Male!AT$18,'Male - Rev'!$A10-35,0)","v":-2.0000000000000001E-4},{"$f":"OFFSET(Male!AU$18,'Male - Rev'!$A10-35,0)","v":8.0000000000000004E-4},{"$f":"OFFSET(Male!AV$18,'Male - Rev'!$A10-35,0)","v":2.0999999999999999E-3},{"$f":"OFFSET(Male!AW$18,'Male - Rev'!$A10-35,0)","v":3.7000000000000002E-3},{"$f":"OFFSET(Male!AX$18,'Male - Rev'!$A10-35,0)","v":5.4999999999999997E-3},{"$f":"OFFSET(Male!AY$18,'Male - Rev'!$A10-35,0)","v":7.4000000000000003E-3},{"$f":"OFFSET(Male!AZ$18,'Male - Rev'!$A10-35,0)","v":9.4000000000000004E-3},{"$f":"OFFSET(Male!BA$18,'Male - Rev'!$A10-35,0)","v":1.12E-2},{"$f":"OFFSET(Male!BB$18,'Male - Rev'!$A10-35,0)","v":1.29E-2},{"$f":"OFFSET(Male!BC$18,'Male - Rev'!$A10-35,0)","v":1.41E-2},{"$f":"OFFSET(Male!BD$18,'Male - Rev'!$A10-35,0)","v":1.49E-2},{"$f":"OFFSET(Male!BE$18,'Male - Rev'!$A10-35,0)","v":1.52E-2},{"$f":"OFFSET(Male!BF$18,'Male - Rev'!$A10-35,0)","v":1.4999999999999999E-2},{"$f":"OFFSET(Male!BG$18,'Male - Rev'!$A10-35,0)","v":1.43E-2},{"$f":"OFFSET(Male!BH$18,'Male - Rev'!$A10-35,0)","v":1.34E-2},{"$f":"OFFSET(Male!BI$18,'Male - Rev'!$A10-35,0)","v":1.21E-2},{"$f":"OFFSET(Male!BJ$18,'Male - Rev'!$A10-35,0)","v":1.06E-2},{"$f":"OFFSET(Male!BK$18,'Male - Rev'!$A10-35,0)","v":9.1000000000000004E-3},{"$f":"OFFSET(Male!BL$18,'Male - Rev'!$A10-35,0)","v":7.6E-3},{"$f":"OFFSET(Male!BM$18,'Male - Rev'!$A10-35,0)","v":6.0000000000000001E-3},{"$f":"OFFSET(Male!BN$18,'Male - Rev'!$A10-35,0)","v":4.5999999999999999E-3},{"$f":"OFFSET(Male!BO$18,'Male - Rev'!$A10-35,0)","v":3.0999999999999999E-3},{"$f":"OFFSET(Male!BP$18,'Male - Rev'!$A10-35,0)","v":3.2000000000000002E-3},{"$f":"OFFSET(Male!BQ$18,'Male - Rev'!$A10-35,0)","v":3.5000000000000001E-3},{"$f":"OFFSET(Male!BR$18,'Male - Rev'!$A10-35,0)","v":3.8999999999999998E-3},{"$f":"OFFSET(Male!BS$18,'Male - Rev'!$A10-35,0)","v":4.1999999999999997E-3},{"$f":"OFFSET(Male!BT$18,'Male - Rev'!$A10-35,0)","v":4.7000000000000002E-3},{"$f":"OFFSET(Male!BU$18,'Male - Rev'!$A10-35,0)","v":5.1000000000000004E-3},{"$f":"OFFSET(Male!BV$18,'Male - Rev'!$A10-35,0)","v":5.4000000000000003E-3},{"$f":"OFFSET(Male!BW$18,'Male - Rev'!$A10-35,0)","v":5.7000000000000002E-3},{"$f":"OFFSET(Male!BX$18,'Male - Rev'!$A10-35,0)","v":5.8999999999999999E-3},{"$f":"OFFSET(Male!BY$18,'Male - Rev'!$A10-35,0)","v":6.0000000000000001E-3},{"$f":"OFFSET(Male!BZ$18,'Male - Rev'!$A10-35,0)","v":6.1000000000000004E-3},{"$f":"OFFSET(Male!CA$18,'Male - Rev'!$A10-35,0)","v":6.1000000000000004E-3},{"$f":"OFFSET(Male!CB$18,'Male - Rev'!$A10-35,0)","v":6.0000000000000001E-3},{"$f":"OFFSET(Male!CC$18,'Male - Rev'!$A10-35,0)","v":6.1000000000000004E-3},{"$f":"OFFSET(Male!CD$18,'Male - Rev'!$A10-35,0)","v":6.1999999999999998E-3},{"$f":"OFFSET(Male!CE$18,'Male - Rev'!$A10-35,0)","v":6.4000000000000003E-3},{"$f":"OFFSET(Male!CF$18,'Male - Rev'!$A10-35,0)","v":6.4999999999999997E-3},{"$f":"OFFSET(Male!CG$18,'Male - Rev'!$A10-35,0)","v":6.7999999999999996E-3},{"$f":"OFFSET(Male!CH$18,'Male - Rev'!$A10-35,0)","v":7.0000000000000001E-3},{"$f":"OFFSET(Male!CI$18,'Male - Rev'!$A10-35,0)","v":7.3000000000000001E-3},{"$f":"CJ10","v":7.3000000000000001E-3},7.3000000000000001E-3]
[87,87,{"$f":"OFFSET(Male!B$18,'Male - Rev'!$A11-35,0)","v":1E-3},{"$f":"OFFSET(Male!C$18,'Male - Rev'!$A11-35,0)","v":-1E-4},{"$f":"OFFSET(Male!D$18,'Male - Rev'!$A11-35,0)","v":-1.1000000000000001E-3},{"$f":"OFFSET(Male!E$18,'Male - Rev'!$A11-35,0)","v":-2E-3},{"$f":"OFFSET(Male!F$18,'Male - Rev'!$A11-35,0)","v":-2.8999999999999998E-3},{"$f":"OFFSET(Male!G$18,'Male - Rev'!$A11-35,0)","v":-3.5999999999999999E-3},{"$f":"OFFSET(Male!H$18,'Male - Rev'!$A11-35,0)","v":-4.1000000000000003E-3},{"$f":"OFFSET(Male!I$18,'Male - Rev'!$A11-35,0)","v":-4.3E-3},{"$f":"OFFSET(Male!J$18,'Male - Rev'!$A11-35,0)","v":-4.3E-3},{"$f":"OFFSET(Male!K$18,'Male - Rev'!$A11-35,0)","v":-3.8999999999999998E-3},{"$f":"OFFSET(Male!L$18,'Male - Rev'!$A11-35,0)","v":-3.2000000000000002E-3},{"$f":"OFFSET(Male!M$18,'Male - Rev'!$A11-35,0)","v":-2.3E-3},{"$f":"OFFSET(Male!N$18,'Male - Rev'!$A11-35,0)","v":-1E-3},{"$f":"OFFSET(Male!O$18,'Male - Rev'!$A11-35,0)","v":5.0000000000000001E-4},{"$f":"OFFSET(Male!P$18,'Male - Rev'!$A11-35,0)","v":2.2000000000000001E-3},{"$f":"OFFSET(Male!Q$18,'Male - Rev'!$A11-35,0)","v":4.0000000000000001E-3},{"$f":"OFFSET(Male!R$18,'Male - Rev'!$A11-35,0)","v":5.7999999999999996E-3},{"$f":"OFFSET(Male!S$18,'Male - Rev'!$A11-35,0)","v":7.4999999999999997E-3},{"$f":"OFFSET(Male!T$18,'Male - Rev'!$A11-35,0)","v":9.1999999999999998E-3},{"$f":"OFFSET(Male!U$18,'Male - Rev'!$A11-35,0)","v":1.0699999999999999E-2},{"$f":"OFFSET(Male!V$18,'Male - Rev'!$A11-35,0)","v":1.2E-2},{"$f":"OFFSET(Male!W$18,'Male - Rev'!$A11-35,0)","v":1.2999999999999999E-2},{"$f":"OFFSET(Male!X$18,'Male - Rev'!$A11-35,0)","v":1.37E-2},{"$f":"OFFSET(Male!Y$18,'Male - Rev'!$A11-35,0)","v":1.4E-2},{"$f":"OFFSET(Male!Z$18,'Male - Rev'!$A11-35,0)","v":1.3899999999999999E-2},{"$f":"OFFSET(Male!AA$18,'Male - Rev'!$A11-35,0)","v":1.35E-2},{"$f":"OFFSET(Male!AB$18,'Male - Rev'!$A11-35,0)","v":1.26E-2},{"$f":"OFFSET(Male!AC$18,'Male - Rev'!$A11-35,0)","v":1.15E-2},{"$f":"OFFSET(Male!AD$18,'Male - Rev'!$A11-35,0)","v":1.01E-2},{"$f":"OFFSET(Male!AE$18,'Male - Rev'!$A11-35,0)","v":8.6E-3},{"$f":"OFFSET(Male!AF$18,'Male - Rev'!$A11-35,0)","v":7.0000000000000001E-3},{"$f":"OFFSET(Male!AG$18,'Male - Rev'!$A11-35,0)","v":5.4999999999999997E-3},{"$f":"OFFSET(Male!AH$18,'Male - Rev'!$A11-35,0)","v":4.1000000000000003E-3},{"$f":"OFFSET(Male!AI$18,'Male - Rev'!$A11-35,0)","v":2.8999999999999998E-3},{"$f":"OFFSET(Male!AJ$18,'Male - Rev'!$A11-35,0)","v":2E-3},{"$f":"OFFSET(Male!AK$18,'Male - Rev'!$A11-35,0)","v":1.2999999999999999E-3},{"$f":"OFFSET(Male!AL$18,'Male - Rev'!$A11-35,0)","v":8.0000000000000004E-4},{"$f":"OFFSET(Male!AM$18,'Male - Rev'!$A11-35,0)","v":4.0000000000000002E-4},{"$f":"OFFSET(Male!AN$18,'Male - Rev'!$A11-35,0)","v":2.0000000000000001E-4},{"$f":"OFFSET(Male!AO$18,'Male - Rev'!$A11-35,0)","v":0},{"$f":"OFFSET(Male!AP$18,'Male - Rev'!$A11-35,0)","v":-1E-4},{"$f":"OFFSET(Male!AQ$18,'Male - Rev'!$A11-35,0)","v":-1E-4},{"$f":"OFFSET(Male!AR$18,'Male - Rev'!$A11-35,0)","v":1E-4},{"$f":"OFFSET(Male!AS$18,'Male - Rev'!$A11-35,0)","v":5.0000000000000001E-4},{"$f":"OFFSET(Male!AT$18,'Male - Rev'!$A11-35,0)","v":1.1999999999999999E-3},{"$f":"OFFSET(Male!AU$18,'Male - Rev'!$A11-35,0)","v":2.2000000000000001E-3},{"$f":"OFFSET(Male!AV$18,'Male - Rev'!$A11-35,0)","v":3.5000000000000001E-3},{"$f":"OFFSET(Male!AW$18,'Male - Rev'!$A11-35,0)","v":5.0000000000000001E-3},{"$f":"OFFSET(Male!AX$18,'Male - Rev'!$A11-35,0)","v":6.7999999999999996E-3},{"$f":"OFFSET(Male!AY$18,'Male - Rev'!$A11-35,0)","v":8.8000000000000005E-3},{"$f":"OFFSET(Male!AZ$18,'Male - Rev'!$A11-35,0)","v":1.0699999999999999E-2},{"$f":"OFFSET(Male!BA$18,'Male - Rev'!$A11-35,0)","v":1.26E-2},{"$f":"OFFSET(Male!BB$18,'Male - Rev'!$A11-35,0)","v":1.4200000000000001E-2},{"$f":"OFFSET(Male!BC$18,'Male - Rev'!$A11-35,0)","v":1.54E-2},{"$f":"OFFSET(Male!BD$18,'Male - Rev'!$A11-35,0)","v":1.61E-2},{"$f":"OFFSET(Male!BE$18,'Male - Rev'!$A11-35,0)","v":1.6299999999999999E-2},{"$f":"OFFSET(Male!BF$18,'Male - Rev'!$A11-35,0)","v":1.6E-2},{"$f":"OFFSET(Male!BG$18,'Male - Rev'!$A11-35,0)","v":1.52E-2},{"$f":"OFFSET(Male!BH$18,'Male - Rev'!$A11-35,0)","v":1.41E-2},{"$f":"OFFSET(Male!BI$18,'Male - Rev'!$A11-35,0)","v":1.2699999999999999E-2},{"$f":"OFFSET(Male!BJ$18,'Male - Rev'!$A11-35,0)","v":1.11E-2},{"$f":"OFFSET(Male!BK$18,'Male - Rev'!$A11-35,0)","v":9.4999999999999998E-3},{"$f":"OFFSET(Male!BL$18,'Male - Rev'!$A11-35,0)","v":7.9000000000000008E-3},{"$f":"OFFSET(Male!BM$18,'Male - Rev'!$A11-35,0)","v":6.3E-3},{"$f":"OFFSET(Male!BN$18,'Male - Rev'!$A11-35,0)","v":4.7999999999999996E-3},{"$f":"OFFSET(Male!BO$18,'Male - Rev'!$A11-35,0)","v":3.3E-3},{"$f":"OFFSET(Male!BP$18,'Male - Rev'!$A11-35,0)","v":3.5000000000000001E-3},{"$f":"OFFSET(Male!BQ$18,'Male - Rev'!$A11-35,0)","v":3.8E-3},{"$f":"OFFSET(Male!BR$18,'Male - Rev'!$A11-35,0)","v":4.1000000000000003E-3},{"$f":"OFFSET(Male!BS$18,'Male - Rev'!$A11-35,0)","v":4.5999999999999999E-3},{"$f":"OFFSET(Male!BT$18,'Male - Rev'!$A11-35,0)","v":5.0000000000000001E-3},{"$f":"OFFSET(Male!BU$18,'Male - Rev'!$A11-35,0)","v":5.4000000000000003E-3},{"$f":"OFFSET(Male!BV$18,'Male - Rev'!$A11-35,0)","v":5.7999999999999996E-3},{"$f":"OFFSET(Male!BW$18,'Male - Rev'!$A11-35,0)","v":6.1000000000000004E-3},{"$f":"OFFSET(Male!BX$18,'Male - Rev'!$A11-35,0)","v":6.3E-3},{"$f":"OFFSET(Male!BY$18,'Male - Rev'!$A11-35,0)","v":6.4000000000000003E-3},{"$f":"OFFSET(Male!BZ$18,'Male - Rev'!$A11-35,0)","v":6.4000000000000003E-3},{"$f":"OFFSET(Male!CA$18,'Male - Rev'!$A11-35,0)","v":6.4000000000000003E-3},{"$f":"OFFSET(Male!CB$18,'Male - Rev'!$A11-35,0)","v":6.4000000000000003E-3},{"$f":"OFFSET(Male!CC$18,'Male - Rev'!$A11-35,0)","v":6.4999999999999997E-3},{"$f":"OFFSET(Male!CD$18,'Male - Rev'!$A11-35,0)","v":6.6E-3},{"$f":"OFFSET(Male!CE$18,'Male - Rev'!$A11-35,0)","v":6.7999999999999996E-3},{"$f":"OFFSET(Male!CF$18,'Male - Rev'!$A11-35,0)","v":7.0000000000000001E-3},{"$f":"OFFSET(Male!CG$18,'Male - Rev'!$A11-35,0)","v":7.1999999999999998E-3},{"$f":"OFFSET(Male!CH$18,'Male - Rev'!$A11-35,0)","v":7.4999999999999997E-3},{"$f":"OFFSET(Male!CI$18,'Male - Rev'!$A11-35,0)","v":7.7000000000000002E-3},{"$f":"CJ11","v":7.7000000000000002E-3},7.7000000000000002E-3]
[86,86,{"$f":"OFFSET(Male!B$18,'Male - Rev'!$A12-35,0)","v":2.5000000000000001E-3},{"$f":"OFFSET(Male!C$18,'Male - Rev'!$A12-35,0)","v":1.4E-3},{"$f":"OFFSET(Male!D$18,'Male - Rev'!$A12-35,0)","v":2.9999999999999997E-4},{"$f":"OFFSET(Male!E$18,'Male - Rev'!$A12-35,0)","v":-8.0000000000000004E-4},{"$f":"OFFSET(Male!F$18,'Male - Rev'!$A12-35,0)","v":-1.8E-3},{"$f":"OFFSET(Male!G$18,'Male - Rev'!$A12-35,0)","v":-2.5999999999999999E-3},{"$f":"OFFSET(Male!H$18,'Male - Rev'!$A12-35,0)","v":-3.2000000000000002E-3},{"$f":"OFFSET(Male!I$18,'Male - Rev'!$A12-35,0)","v":-3.5999999999999999E-3},{"$f":"OFFSET(Male!J$18,'Male - Rev'!$A12-35,0)","v":-3.7000000000000002E-3},{"$f":"OFFSET(Male!K$18,'Male - Rev'!$A12-35,0)","v":-3.5000000000000001E-3},{"$f":"OFFSET(Male!L$18,'Male - Rev'!$A12-35,0)","v":-2.8999999999999998E-3},{"$f":"OFFSET(Male!M$18,'Male - Rev'!$A12-35,0)","v":-2.0999999999999999E-3},{"$f":"OFFSET(Male!N$18,'Male - Rev'!$A12-35,0)","v":-1E-3},{"$f":"OFFSET(Male!O$18,'Male - Rev'!$A12-35,0)","v":4.0000000000000002E-4},{"$f":"OFFSET(Male!P$18,'Male - Rev'!$A12-35,0)","v":2E-3},{"$f":"OFFSET(Male!Q$18,'Male - Rev'!$A12-35,0)","v":3.5999999999999999E-3},{"$f":"OFFSET(Male!R$18,'Male - Rev'!$A12-35,0)","v":5.4000000000000003E-3},{"$f":"OFFSET(Male!S$18,'Male - Rev'!$A12-35,0)","v":7.1000000000000004E-3},{"$f":"OFFSET(Male!T$18,'Male - Rev'!$A12-35,0)","v":8.8000000000000005E-3},{"$f":"OFFSET(Male!U$18,'Male - Rev'!$A12-35,0)","v":1.03E-2},{"$f":"OFFSET(Male!V$18,'Male - Rev'!$A12-35,0)","v":1.17E-2},{"$f":"OFFSET(Male!W$18,'Male - Rev'!$A12-35,0)","v":1.2800000000000001E-2},{"$f":"OFFSET(Male!X$18,'Male - Rev'!$A12-35,0)","v":1.3599999999999999E-2},{"$f":"OFFSET(Male!Y$18,'Male - Rev'!$A12-35,0)","v":1.4E-2},{"$f":"OFFSET(Male!Z$18,'Male - Rev'!$A12-35,0)","v":1.4E-2},{"$f":"OFFSET(Male!AA$18,'Male - Rev'!$A12-35,0)","v":1.35E-2},{"$f":"OFFSET(Male!AB$18,'Male - Rev'!$A12-35,0)","v":1.26E-2},{"$f":"OFFSET(Male!AC$18,'Male - Rev'!$A12-35,0)","v":1.14E-2},{"$f":"OFFSET(Male!AD$18,'Male - Rev'!$A12-35,0)","v":0.01},{"$f":"OFFSET(Male!AE$18,'Male - Rev'!$A12-35,0)","v":8.5000000000000006E-3},{"$f":"OFFSET(Male!AF$18,'Male - Rev'!$A12-35,0)","v":6.8999999999999999E-3},{"$f":"OFFSET(Male!AG$18,'Male - Rev'!$A12-35,0)","v":5.4999999999999997E-3},{"$f":"OFFSET(Male!AH$18,'Male - Rev'!$A12-35,0)","v":4.1999999999999997E-3},{"$f":"OFFSET(Male!AI$18,'Male - Rev'!$A12-35,0)","v":3.2000000000000002E-3},{"$f":"OFFSET(Male!AJ$18,'Male - Rev'!$A12-35,0)","v":2.3999999999999998E-3},{"$f":"OFFSET(Male!AK$18,'Male - Rev'!$A12-35,0)","v":1.9E-3},{"$f":"OFFSET(Male!AL$18,'Male - Rev'!$A12-35,0)","v":1.6999999999999999E-3},{"$f":"OFFSET(Male!AM$18,'Male - Rev'!$A12-35,0)","v":1.5E-3},{"$f":"OFFSET(Male!AN$18,'Male - Rev'!$A12-35,0)","v":1.5E-3},{"$f":"OFFSET(Male!AO$18,'Male - Rev'!$A12-35,0)","v":1.5E-3},{"$f":"OFFSET(Male!AP$18,'Male - Rev'!$A12-35,0)","v":1.4E-3},{"$f":"OFFSET(Male!AQ$18,'Male - Rev'!$A12-35,0)","v":1.5E-3},{"$f":"OFFSET(Male!AR$18,'Male - Rev'!$A12-35,0)","v":1.6000000000000001E-3},{"$f":"OFFSET(Male!AS$18,'Male - Rev'!$A12-35,0)","v":2E-3},{"$f":"OFFSET(Male!AT$18,'Male - Rev'!$A12-35,0)","v":2.5999999999999999E-3},{"$f":"OFFSET(Male!AU$18,'Male - Rev'!$A12-35,0)","v":3.5000000000000001E-3},{"$f":"OFFSET(Male!AV$18,'Male - Rev'!$A12-35,0)","v":4.7999999999999996E-3},{"$f":"OFFSET(Male!AW$18,'Male - Rev'!$A12-35,0)","v":6.3E-3},{"$f":"OFFSET(Male!AX$18,'Male - Rev'!$A12-35,0)","v":8.0999999999999996E-3},{"$f":"OFFSET(Male!AY$18,'Male - Rev'!$A12-35,0)","v":0.01},{"$f":"OFFSET(Male!AZ$18,'Male - Rev'!$A12-35,0)","v":1.2E-2},{"$f":"OFFSET(Male!BA$18,'Male - Rev'!$A12-35,0)","v":1.38E-2},{"$f":"OFFSET(Male!BB$18,'Male - Rev'!$A12-35,0)","v":1.54E-2},{"$f":"OFFSET(Male!BC$18,'Male - Rev'!$A12-35,0)","v":1.66E-2},{"$f":"OFFSET(Male!BD$18,'Male - Rev'!$A12-35,0)","v":1.72E-2},{"$f":"OFFSET(Male!BE$18,'Male - Rev'!$A12-35,0)","v":1.7299999999999999E-2},{"$f":"OFFSET(Male!BF$18,'Male - Rev'!$A12-35,0)","v":1.6899999999999998E-2},{"$f":"OFFSET(Male!BG$18,'Male - Rev'!$A12-35,0)","v":1.6E-2},{"$f":"OFFSET(Male!BH$18,'Male - Rev'!$A12-35,0)","v":1.4800000000000001E-2},{"$f":"OFFSET(Male!BI$18,'Male - Rev'!$A12-35,0)","v":1.3299999999999999E-2},{"$f":"OFFSET(Male!BJ$18,'Male - Rev'!$A12-35,0)","v":1.1599999999999999E-2},{"$f":"OFFSET(Male!BK$18,'Male - Rev'!$A12-35,0)","v":9.9000000000000008E-3},{"$f":"OFFSET(Male!BL$18,'Male - Rev'!$A12-35,0)","v":8.2000000000000007E-3},{"$f":"OFFSET(Male!BM$18,'Male - Rev'!$A12-35,0)","v":6.6E-3},{"$f":"OFFSET(Male!BN$18,'Male - Rev'!$A12-35,0)","v":5.0000000000000001E-3},{"$f":"OFFSET(Male!BO$18,'Male - Rev'!$A12-35,0)","v":3.5000000000000001E-3},{"$f":"OFFSET(Male!BP$18,'Male - Rev'!$A12-35,0)","v":3.7000000000000002E-3},{"$f":"OFFSET(Male!BQ$18,'Male - Rev'!$A12-35,0)","v":4.0000000000000001E-3},{"$f":"OFFSET(Male!BR$18,'Male - Rev'!$A12-35,0)","v":4.4000000000000003E-3},{"$f":"OFFSET(Male!BS$18,'Male - Rev'!$A12-35,0)","v":4.8999999999999998E-3},{"$f":"OFFSET(Male!BT$18,'Male - Rev'!$A12-35,0)","v":5.3E-3},{"$f":"OFFSET(Male!BU$18,'Male - Rev'!$A12-35,0)","v":5.7999999999999996E-3},{"$f":"OFFSET(Male!BV$18,'Male - Rev'!$A12-35,0)","v":6.1999999999999998E-3},{"$f":"OFFSET(Male!BW$18,'Male - Rev'!$A12-35,0)","v":6.4999999999999997E-3},{"$f":"OFFSET(Male!BX$18,'Male - Rev'!$A12-35,0)","v":6.7000000000000002E-3},{"$f":"OFFSET(Male!BY$18,'Male - Rev'!$A12-35,0)","v":6.7000000000000002E-3},{"$f":"OFFSET(Male!BZ$18,'Male - Rev'!$A12-35,0)","v":6.7000000000000002E-3},{"$f":"OFFSET(Male!CA$18,'Male - Rev'!$A12-35,0)","v":6.7999999999999996E-3},{"$f":"OFFSET(Male!CB$18,'Male - Rev'!$A12-35,0)","v":6.7999999999999996E-3},{"$f":"OFFSET(Male!CC$18,'Male - Rev'!$A12-35,0)","v":6.8999999999999999E-3},{"$f":"OFFSET(Male!CD$18,'Male - Rev'!$A12-35,0)","v":7.0000000000000001E-3},{"$f":"OFFSET(Male!CE$18,'Male - Rev'!$A12-35,0)","v":7.1000000000000004E-3},{"$f":"OFFSET(Male!CF$18,'Male - Rev'!$A12-35,0)","v":7.4000000000000003E-3},{"$f":"OFFSET(Male!CG$18,'Male - Rev'!$A12-35,0)","v":7.6E-3},{"$f":"OFFSET(Male!CH$18,'Male - Rev'!$A12-35,0)","v":7.9000000000000008E-3},{"$f":"OFFSET(Male!CI$18,'Male - Rev'!$A12-35,0)","v":8.2000000000000007E-3},{"$f":"CJ12","v":8.2000000000000007E-3},8.2000000000000007E-3]
[85,85,{"$f":"OFFSET(Male!B$18,'Male - Rev'!$A13-35,0)","v":3.8E-3},{"$f":"OFFSET(Male!C$18,'Male - Rev'!$A13-35,0)","v":2.5999999999999999E-3},{"$f":"OFFSET(Male!D$18,'Male - Rev'!$A13-35,0)","v":1.5E-3},{"$f":"OFFSET(Male!E$18,'Male - Rev'!$A13-35,0)","v":4.0000000000000002E-4},{"$f":"OFFSET(Male!F$18,'Male - Rev'!$A13-35,0)","v":-6.9999999999999999E-4},{"$f":"OFFSET(Male!G$18,'Male - Rev'!$A13-35,0)","v":-1.6000000000000001E-3},{"$f":"OFFSET(Male!H$18,'Male - Rev'!$A13-35,0)","v":-2.3E-3},{"$f":"OFFSET(Male!I$18,'Male - Rev'!$A13-35,0)","v":-2.8E-3},{"$f":"OFFSET(Male!J$18,'Male - Rev'!$A13-35,0)","v":-3.0999999999999999E-3},{"$f":"OFFSET(Male!K$18,'Male - Rev'!$A13-35,0)","v":-3.0000000000000001E-3},{"$f":"OFFSET(Male!L$18,'Male - Rev'!$A13-35,0)","v":-2.5999999999999999E-3},{"$f":"OFFSET(Male!M$18,'Male - Rev'!$A13-35,0)","v":-2E-3},{"$f":"OFFSET(Male!N$18,'Male - Rev'!$A13-35,0)","v":-1E-3},{"$f":"OFFSET(Male!O$18,'Male - Rev'!$A13-35,0)","v":2.0000000000000001E-4},{"$f":"OFFSET(Male!P$18,'Male - Rev'!$A13-35,0)","v":1.6999999999999999E-3},{"$f":"OFFSET(Male!Q$18,'Male - Rev'!$A13-35,0)","v":3.2000000000000002E-3},{"$f":"OFFSET(Male!R$18,'Male - Rev'!$A13-35,0)","v":4.8999999999999998E-3},{"$f":"OFFSET(Male!S$18,'Male - Rev'!$A13-35,0)","v":6.6E-3},{"$f":"OFFSET(Male!T$18,'Male - Rev'!$A13-35,0)","v":8.3999999999999995E-3},{"$f":"OFFSET(Male!U$18,'Male - Rev'!$A13-35,0)","v":0.01},{"$f":"OFFSET(Male!V$18,'Male - Rev'!$A13-35,0)","v":1.14E-2},{"$f":"OFFSET(Male!W$18,'Male - Rev'!$A13-35,0)","v":1.26E-2},{"$f":"OFFSET(Male!X$18,'Male - Rev'!$A13-35,0)","v":1.35E-2},{"$f":"OFFSET(Male!Y$18,'Male - Rev'!$A13-35,0)","v":1.4E-2},{"$f":"OFFSET(Male!Z$18,'Male - Rev'!$A13-35,0)","v":1.4E-2},{"$f":"OFFSET(Male!AA$18,'Male - Rev'!$A13-35,0)","v":1.35E-2},{"$f":"OFFSET(Male!AB$18,'Male - Rev'!$A13-35,0)","v":1.26E-2},{"$f":"OFFSET(Male!AC$18,'Male - Rev'!$A13-35,0)","v":1.14E-2},{"$f":"OFFSET(Male!AD$18,'Male - Rev'!$A13-35,0)","v":9.9000000000000008E-3},{"$f":"OFFSET(Male!AE$18,'Male - Rev'!$A13-35,0)","v":8.3999999999999995E-3},{"$f":"OFFSET(Male!AF$18,'Male - Rev'!$A13-35,0)","v":6.8999999999999999E-3},{"$f":"OFFSET(Male!AG$18,'Male - Rev'!$A13-35,0)","v":5.4999999999999997E-3},{"$f":"OFFSET(Male!AH$18,'Male - Rev'!$A13-35,0)","v":4.3E-3},{"$f":"OFFSET(Male!AI$18,'Male - Rev'!$A13-35,0)","v":3.5000000000000001E-3},{"$f":"OFFSET(Male!AJ$18,'Male - Rev'!$A13-35,0)","v":2.8999999999999998E-3},{"$f":"OFFSET(Male!AK$18,'Male - Rev'!$A13-35,0)","v":2.7000000000000001E-3},{"$f":"OFFSET(Male!AL$18,'Male - Rev'!$A13-35,0)","v":2.5999999999999999E-3},{"$f":"OFFSET(Male!AM$18,'Male - Rev'!$A13-35,0)","v":2.7000000000000001E-3},{"$f":"OFFSET(Male!AN$18,'Male - Rev'!$A13-35,0)","v":2.8999999999999998E-3},{"$f":"OFFSET(Male!AO$18,'Male - Rev'!$A13-35,0)","v":2.8999999999999998E-3},{"$f":"OFFSET(Male!AP$18,'Male - Rev'!$A13-35,0)","v":3.0000000000000001E-3},{"$f":"OFFSET(Male!AQ$18,'Male - Rev'!$A13-35,0)","v":3.0000000000000001E-3},{"$f":"OFFSET(Male!AR$18,'Male - Rev'!$A13-35,0)","v":3.0999999999999999E-3},{"$f":"OFFSET(Male!AS$18,'Male - Rev'!$A13-35,0)","v":3.3999999999999998E-3},{"$f":"OFFSET(Male!AT$18,'Male - Rev'!$A13-35,0)","v":4.0000000000000001E-3},{"$f":"OFFSET(Male!AU$18,'Male - Rev'!$A13-35,0)","v":4.7999999999999996E-3},{"$f":"OFFSET(Male!AV$18,'Male - Rev'!$A13-35,0)","v":6.0000000000000001E-3},{"$f":"OFFSET(Male!AW$18,'Male - Rev'!$A13-35,0)","v":7.4999999999999997E-3},{"$f":"OFFSET(Male!AX$18,'Male - Rev'!$A13-35,0)","v":9.2999999999999992E-3},{"$f":"OFFSET(Male!AY$18,'Male - Rev'!$A13-35,0)","v":1.12E-2},{"$f":"OFFSET(Male!AZ$18,'Male - Rev'!$A13-35,0)","v":1.32E-2},{"$f":"OFFSET(Male!BA$18,'Male - Rev'!$A13-35,0)","v":1.4999999999999999E-2},{"$f":"OFFSET(Male!BB$18,'Male - Rev'!$A13-35,0)","v":1.6500000000000001E-2},{"$f":"OFFSET(Male!BC$18,'Male - Rev'!$A13-35,0)","v":1.77E-2},{"$f":"OFFSET(Male!BD$18,'Male - Rev'!$A13-35,0)","v":1.8200000000000001E-2},{"$f":"OFFSET(Male!BE$18,'Male - Rev'!$A13-35,0)","v":1.83E-2},{"$f":"OFFSET(Male!BF$18,'Male - Rev'!$A13-35,0)","v":1.78E-2},{"$f":"OFFSET(Male!BG$18,'Male - Rev'!$A13-35,0)","v":1.6799999999999999E-2},{"$f":"OFFSET(Male!BH$18,'Male - Rev'!$A13-35,0)","v":1.55E-2},{"$f":"OFFSET(Male!BI$18,'Male - Rev'!$A13-35,0)","v":1.3899999999999999E-2},{"$f":"OFFSET(Male!BJ$18,'Male - Rev'!$A13-35,0)","v":1.21E-2},{"$f":"OFFSET(Male!BK$18,'Male - Rev'!$A13-35,0)","v":1.03E-2},{"$f":"OFFSET(Male!BL$18,'Male - Rev'!$A13-35,0)","v":8.6E-3},{"$f":"OFFSET(Male!BM$18,'Male - Rev'!$A13-35,0)","v":6.8999999999999999E-3},{"$f":"OFFSET(Male!BN$18,'Male - Rev'!$A13-35,0)","v":5.3E-3},{"$f":"OFFSET(Male!BO$18,'Male - Rev'!$A13-35,0)","v":3.8E-3},{"$f":"OFFSET(Male!BP$18,'Male - Rev'!$A13-35,0)","v":4.0000000000000001E-3},{"$f":"OFFSET(Male!BQ$18,'Male - Rev'!$A13-35,0)","v":4.4000000000000003E-3},{"$f":"OFFSET(Male!BR$18,'Male - Rev'!$A13-35,0)","v":4.7999999999999996E-3},{"$f":"OFFSET(Male!BS$18,'Male - Rev'!$A13-35,0)","v":5.1999999999999998E-3},{"$f":"OFFSET(Male!BT$18,'Male - Rev'!$A13-35,0)","v":5.7000000000000002E-3},{"$f":"OFFSET(Male!BU$18,'Male - Rev'!$A13-35,0)","v":6.1000000000000004E-3},{"$f":"OFFSET(Male!BV$18,'Male - Rev'!$A13-35,0)","v":6.4999999999999997E-3},{"$f":"OFFSET(Male!BW$18,'Male - Rev'!$A13-35,0)","v":6.7999999999999996E-3},{"$f":"OFFSET(Male!BX$18,'Male - Rev'!$A13-35,0)","v":7.0000000000000001E-3},{"$f":"OFFSET(Male!BY$18,'Male - Rev'!$A13-35,0)","v":7.1000000000000004E-3},{"$f":"OFFSET(Male!BZ$18,'Male - Rev'!$A13-35,0)","v":7.1000000000000004E-3},{"$f":"OFFSET(Male!CA$18,'Male - Rev'!$A13-35,0)","v":7.1000000000000004E-3},{"$f":"OFFSET(Male!CB$18,'Male - Rev'!$A13-35,0)","v":7.1000000000000004E-3},{"$f":"OFFSET(Male!CC$18,'Male - Rev'!$A13-35,0)","v":7.1999999999999998E-3},{"$f":"OFFSET(Male!CD$18,'Male - Rev'!$A13-35,0)","v":7.3000000000000001E-3},{"$f":"OFFSET(Male!CE$18,'Male - Rev'!$A13-35,0)","v":7.4999999999999997E-3},{"$f":"OFFSET(Male!CF$18,'Male - Rev'!$A13-35,0)","v":7.7000000000000002E-3},{"$f":"OFFSET(Male!CG$18,'Male - Rev'!$A13-35,0)","v":8.0999999999999996E-3},{"$f":"OFFSET(Male!CH$18,'Male - Rev'!$A13-35,0)","v":8.3999999999999995E-3},{"$f":"OFFSET(Male!CI$18,'Male - Rev'!$A13-35,0)","v":8.6999999999999994E-3},{"$f":"CJ13","v":8.6999999999999994E-3},8.6999999999999994E-3]
[84,84,{"$f":"OFFSET(Male!B$18,'Male - Rev'!$A14-35,0)","v":4.8999999999999998E-3},{"$f":"OFFSET(Male!C$18,'Male - Rev'!$A14-35,0)","v":3.7000000000000002E-3},{"$f":"OFFSET(Male!D$18,'Male - Rev'!$A14-35,0)","v":2.5999999999999999E-3},{"$f":"OFFSET(Male!E$18,'Male - Rev'!$A14-35,0)","v":1.4E-3},{"$f":"OFFSET(Male!F$18,'Male - Rev'!$A14-35,0)","v":2.9999999999999997E-4},{"$f":"OFFSET(Male!G$18,'Male - Rev'!$A14-35,0)","v":-6.9999999999999999E-4},{"$f":"OFFSET(Male!H$18,'Male - Rev'!$A14-35,0)","v":-1.5E-3},{"$f":"OFFSET(Male!I$18,'Male - Rev'!$A14-35,0)","v":-2.0999999999999999E-3},{"$f":"OFFSET(Male!J$18,'Male - Rev'!$A14-35,0)","v":-2.5000000000000001E-3},{"$f":"OFFSET(Male!K$18,'Male - Rev'!$A14-35,0)","v":-2.5000000000000001E-3},{"$f":"OFFSET(Male!L$18,'Male - Rev'!$A14-35,0)","v":-2.3E-3},{"$f":"OFFSET(Male!M$18,'Male - Rev'!$A14-35,0)","v":-1.8E-3},{"$f":"OFFSET(Male!N$18,'Male - Rev'!$A14-35,0)","v":-1E-3},{"$f":"OFFSET(Male!O$18,'Male - Rev'!$A14-35,0)","v":1E-4},{"$f":"OFFSET(Male!P$18,'Male - Rev'!$A14-35,0)","v":1.4E-3},{"$f":"OFFSET(Male!Q$18,'Male - Rev'!$A14-35,0)","v":2.8E-3},{"$f":"OFFSET(Male!R$18,'Male - Rev'!$A14-35,0)","v":4.4999999999999997E-3},{"$f":"OFFSET(Male!S$18,'Male - Rev'!$A14-35,0)","v":6.1999999999999998E-3},{"$f":"OFFSET(Male!T$18,'Male - Rev'!$A14-35,0)","v":7.9000000000000008E-3},{"$f":"OFFSET(Male!U$18,'Male - Rev'!$A14-35,0)","v":9.5999999999999992E-3},{"$f":"OFFSET(Male!V$18,'Male - Rev'!$A14-35,0)","v":1.11E-2},{"$f":"OFFSET(Male!W$18,'Male - Rev'!$A14-35,0)","v":1.24E-2},{"$f":"OFFSET(Male!X$18,'Male - Rev'!$A14-35,0)","v":1.34E-2},{"$f":"OFFSET(Male!Y$18,'Male - Rev'!$A14-35,0)","v":1.3899999999999999E-2},{"$f":"OFFSET(Male!Z$18,'Male - Rev'!$A14-35,0)","v":1.4E-2},{"$f":"OFFSET(Male!AA$18,'Male - Rev'!$A14-35,0)","v":1.35E-2},{"$f":"OFFSET(Male!AB$18,'Male - Rev'!$A14-35,0)","v":1.26E-2},{"$f":"OFFSET(Male!AC$18,'Male - Rev'!$A14-35,0)","v":1.1299999999999999E-2},{"$f":"OFFSET(Male!AD$18,'Male - Rev'!$A14-35,0)","v":9.9000000000000008E-3},{"$f":"OFFSET(Male!AE$18,'Male - Rev'!$A14-35,0)","v":8.3000000000000001E-3},{"$f":"OFFSET(Male!AF$18,'Male - Rev'!$A14-35,0)","v":6.7999999999999996E-3},{"$f":"OFFSET(Male!AG$18,'Male - Rev'!$A14-35,0)","v":5.4999999999999997E-3},{"$f":"OFFSET(Male!AH$18,'Male - Rev'!$A14-35,0)","v":4.4999999999999997E-3},{"$f":"OFFSET(Male!AI$18,'Male - Rev'!$A14-35,0)","v":3.8E-3},{"$f":"OFFSET(Male!AJ$18,'Male - Rev'!$A14-35,0)","v":3.5000000000000001E-3},{"$f":"OFFSET(Male!AK$18,'Male - Rev'!$A14-35,0)","v":3.5000000000000001E-3},{"$f":"OFFSET(Male!AL$18,'Male - Rev'!$A14-35,0)","v":3.7000000000000002E-3},{"$f":"OFFSET(Male!AM$18,'Male - Rev'!$A14-35,0)","v":4.0000000000000001E-3},{"$f":"OFFSET(Male!AN$18,'Male - Rev'!$A14-35,0)","v":4.3E-3},{"$f":"OFFSET(Male!AO$18,'Male - Rev'!$A14-35,0)","v":4.4999999999999997E-3},{"$f":"OFFSET(Male!AP$18,'Male - Rev'!$A14-35,0)","v":4.5999999999999999E-3},{"$f":"OFFSET(Male!AQ$18,'Male - Rev'!$A14-35,0)","v":4.5999999999999999E-3},{"$f":"OFFSET(Male!AR$18,'Male - Rev'!$A14-35,0)","v":4.7000000000000002E-3},{"$f":"OFFSET(Male!AS$18,'Male - Rev'!$A14-35,0)","v":4.8999999999999998E-3},{"$f":"OFFSET(Male!AT$18,'Male - Rev'!$A14-35,0)","v":5.4000000000000003E-3},{"$f":"OFFSET(Male!AU$18,'Male - Rev'!$A14-35,0)","v":6.1000000000000004E-3},{"$f":"OFFSET(Male!AV$18,'Male - Rev'!$A14-35,0)","v":7.1999999999999998E-3},{"$f":"OFFSET(Male!AW$18,'Male - Rev'!$A14-35,0)","v":8.6E-3},{"$f":"OFFSET(Male!AX$18,'Male - Rev'!$A14-35,0)","v":1.03E-2},{"$f":"OFFSET(Male!AY$18,'Male - Rev'!$A14-35,0)","v":1.23E-2},{"$f":"OFFSET(Male!AZ$18,'Male - Rev'!$A14-35,0)","v":1.4200000000000001E-2},{"$f":"OFFSET(Male!BA$18,'Male - Rev'!$A14-35,0)","v":1.6E-2},{"$f":"OFFSET(Male!BB$18,'Male - Rev'!$A14-35,0)","v":1.7600000000000001E-2},{"$f":"OFFSET(Male!BC$18,'Male - Rev'!$A14-35,0)","v":1.8599999999999998E-2},{"$f":"OFFSET(Male!BD$18,'Male - Rev'!$A14-35,0)","v":1.9199999999999998E-2},{"$f":"OFFSET(Male!BE$18,'Male - Rev'!$A14-35,0)","v":1.9199999999999998E-2},{"$f":"OFFSET(Male!BF$18,'Male - Rev'!$A14-35,0)","v":1.8599999999999998E-2},{"$f":"OFFSET(Male!BG$18,'Male - Rev'!$A14-35,0)","v":1.7600000000000001E-2},{"$f":"OFFSET(Male!BH$18,'Male - Rev'!$A14-35,0)","v":1.6199999999999999E-2},{"$f":"OFFSET(Male!BI$18,'Male - Rev'!$A14-35,0)","v":1.4500000000000001E-2},{"$f":"OFFSET(Male!BJ$18,'Male - Rev'!$A14-35,0)","v":1.26E-2},{"$f":"OFFSET(Male!BK$18,'Male - Rev'!$A14-35,0)","v":1.0699999999999999E-2},{"$f":"OFFSET(Male!BL$18,'Male - Rev'!$A14-35,0)","v":8.8999999999999999E-3},{"$f":"OFFSET(Male!BM$18,'Male - Rev'!$A14-35,0)","v":7.3000000000000001E-3},{"$f":"OFFSET(Male!BN$18,'Male - Rev'!$A14-35,0)","v":5.7000000000000002E-3},{"$f":"OFFSET(Male!BO$18,'Male - Rev'!$A14-35,0)","v":4.1000000000000003E-3},{"$f":"OFFSET(Male!BP$18,'Male - Rev'!$A14-35,0)","v":4.4000000000000003E-3},{"$f":"OFFSET(Male!BQ$18,'Male - Rev'!$A14-35,0)","v":4.7000000000000002E-3},{"$f":"OFFSET(Male!BR$18,'Male - Rev'!$A14-35,0)","v":5.1000000000000004E-3},{"$f":"OFFSET(Male!BS$18,'Male - Rev'!$A14-35,0)","v":5.5999999999999999E-3},{"$f":"OFFSET(Male!BT$18,'Male - Rev'!$A14-35,0)","v":6.0000000000000001E-3},{"$f":"OFFSET(Male!BU$18,'Male - Rev'!$A14-35,0)","v":6.4999999999999997E-3},{"$f":"OFFSET(Male!BV$18,'Male - Rev'!$A14-35,0)","v":6.8999999999999999E-3},{"$f":"OFFSET(Male!BW$18,'Male - Rev'!$A14-35,0)","v":7.1999999999999998E-3},{"$f":"OFFSET(Male!BX$18,'Male - Rev'!$A14-35,0)","v":7.3000000000000001E-3},{"$f":"OFFSET(Male!BY$18,'Male - Rev'!$A14-35,0)","v":7.4000000000000003E-3},{"$f":"OFFSET(Male!BZ$18,'Male - Rev'!$A14-35,0)","v":7.4000000000000003E-3},{"$f":"OFFSET(Male!CA$18,'Male - Rev'!$A14-35,0)","v":7.4000000000000003E-3},{"$f":"OFFSET(Male!CB$18,'Male - Rev'!$A14-35,0)","v":7.4000000000000003E-3},{"$f":"OFFSET(Male!CC$18,'Male - Rev'!$A14-35,0)","v":7.4000000000000003E-3},{"$f":"OFFSET(Male!CD$18,'Male - Rev'!$A14-35,0)","v":7.6E-3},{"$f":"OFFSET(Male!CE$18,'Male - Rev'!$A14-35,0)","v":7.7999999999999996E-3},{"$f":"OFFSET(Male!CF$18,'Male - Rev'!$A14-35,0)","v":8.0999999999999996E-3},{"$f":"OFFSET(Male!CG$18,'Male - Rev'!$A14-35,0)","v":8.5000000000000006E-3},{"$f":"OFFSET(Male!CH$18,'Male - Rev'!$A14-35,0)","v":8.8000000000000005E-3},{"$f":"OFFSET(Male!CI$18,'Male - Rev'!$A14-35,0)","v":9.1000000000000004E-3},{"$f":"CJ14","v":9.1000000000000004E-3},9.1000000000000004E-3]
[83,83,{"$f":"OFFSET(Male!B$18,'Male - Rev'!$A15-35,0)","v":5.8999999999999999E-3},{"$f":"OFFSET(Male!C$18,'Male - Rev'!$A15-35,0)","v":4.7000000000000002E-3},{"$f":"OFFSET(Male!D$18,'Male - Rev'!$A15-35,0)","v":3.5999999999999999E-3},{"$f":"OFFSET(Male!E$18,'Male - Rev'!$A15-35,0)","v":2.3999999999999998E-3},{"$f":"OFFSET(Male!F$18,'Male - Rev'!$A15-35,0)","v":1.2999999999999999E-3},{"$f":"OFFSET(Male!G$18,'Male - Rev'!$A15-35,0)","v":2.0000000000000001E-4},{"$f":"OFFSET(Male!H$18,'Male - Rev'!$A15-35,0)","v":-6.9999999999999999E-4},{"$f":"OFFSET(Male!I$18,'Male - Rev'!$A15-35,0)","v":-1.4E-3},{"$f":"OFFSET(Male!J$18,'Male - Rev'!$A15-35,0)","v":-1.9E-3},{"$f":"OFFSET(Male!K$18,'Male - Rev'!$A15-35,0)","v":-2.0999999999999999E-3},{"$f":"OFFSET(Male!L$18,'Male - Rev'!$A15-35,0)","v":-2.0999999999999999E-3},{"$f":"OFFSET(Male!M$18,'Male - Rev'!$A15-35,0)","v":-1.6999999999999999E-3},{"$f":"OFFSET(Male!N$18,'Male - Rev'!$A15-35,0)","v":-1.1000000000000001E-3},{"$f":"OFFSET(Male!O$18,'Male - Rev'!$A15-35,0)","v":-2.0000000000000001E-4},{"$f":"OFFSET(Male!P$18,'Male - Rev'!$A15-35,0)","v":1E-3},{"$f":"OFFSET(Male!Q$18,'Male - Rev'!$A15-35,0)","v":2.3999999999999998E-3},{"$f":"OFFSET(Male!R$18,'Male - Rev'!$A15-35,0)","v":3.8999999999999998E-3},{"$f":"OFFSET(Male!S$18,'Male - Rev'!$A15-35,0)","v":5.5999999999999999E-3},{"$f":"OFFSET(Male!T$18,'Male - Rev'!$A15-35,0)","v":7.4000000000000003E-3},{"$f":"OFFSET(Male!U$18,'Male - Rev'!$A15-35,0)","v":9.1999999999999998E-3},{"$f":"OFFSET(Male!V$18,'Male - Rev'!$A15-35,0)","v":1.0800000000000001E-2},{"$f":"OFFSET(Male!W$18,'Male - Rev'!$A15-35,0)","v":1.2200000000000001E-2},{"$f":"OFFSET(Male!X$18,'Male - Rev'!$A15-35,0)","v":1.3299999999999999E-2},{"$f":"OFFSET(Male!Y$18,'Male - Rev'!$A15-35,0)","v":1.3899999999999999E-2},{"$f":"OFFSET(Male!Z$18,'Male - Rev'!$A15-35,0)","v":1.4E-2},{"$f":"OFFSET(Male!AA$18,'Male - Rev'!$A15-35,0)","v":1.35E-2},{"$f":"OFFSET(Male!AB$18,'Male - Rev'!$A15-35,0)","v":1.26E-2},{"$f":"OFFSET(Male!AC$18,'Male - Rev'!$A15-35,0)","v":1.1299999999999999E-2},{"$f":"OFFSET(Male!AD$18,'Male - Rev'!$A15-35,0)","v":9.7999999999999997E-3},{"$f":"OFFSET(Male!AE$18,'Male - Rev'!$A15-35,0)","v":8.2000000000000007E-3},{"$f":"OFFSET(Male!AF$18,'Male - Rev'!$A15-35,0)","v":6.7999999999999996E-3},{"$f":"OFFSET(Male!AG$18,'Male - Rev'!$A15-35,0)","v":5.4999999999999997E-3},{"$f":"OFFSET(Male!AH$18,'Male - Rev'!$A15-35,0)","v":4.5999999999999999E-3},{"$f":"OFFSET(Male!AI$18,'Male - Rev'!$A15-35,0)","v":4.1999999999999997E-3},{"$f":"OFFSET(Male!AJ$18,'Male - Rev'!$A15-35,0)","v":4.1000000000000003E-3},{"$f":"OFFSET(Male!AK$18,'Male - Rev'!$A15-35,0)","v":4.3E-3},{"$f":"OFFSET(Male!AL$18,'Male - Rev'!$A15-35,0)","v":4.7999999999999996E-3},{"$f":"OFFSET(Male!AM$18,'Male - Rev'!$A15-35,0)","v":5.3E-3},{"$f":"OFFSET(Male!AN$18,'Male - Rev'!$A15-35,0)","v":5.7000000000000002E-3},{"$f":"OFFSET(Male!AO$18,'Male - Rev'!$A15-35,0)","v":6.1000000000000004E-3},{"$f":"OFFSET(Male!AP$18,'Male - Rev'!$A15-35,0)","v":6.1999999999999998E-3},{"$f":"OFFSET(Male!AQ$18,'Male - Rev'!$A15-35,0)","v":6.1999999999999998E-3},{"$f":"OFFSET(Male!AR$18,'Male - Rev'!$A15-35,0)","v":6.1999999999999998E-3},{"$f":"OFFSET(Male!AS$18,'Male - Rev'!$A15-35,0)","v":6.3E-3},{"$f":"OFFSET(Male!AT$18,'Male - Rev'!$A15-35,0)","v":6.7000000000000002E-3},{"$f":"OFFSET(Male!AU$18,'Male - Rev'!$A15-35,0)","v":7.3000000000000001E-3},{"$f":"OFFSET(Male!AV$18,'Male - Rev'!$A15-35,0)","v":8.3000000000000001E-3},{"$f":"OFFSET(Male!AW$18,'Male - Rev'!$A15-35,0)","v":9.7000000000000003E-3},{"$f":"OFFSET(Male!AX$18,'Male - Rev'!$A15-35,0)","v":1.1299999999999999E-2},{"$f":"OFFSET(Male!AY$18,'Male - Rev'!$A15-35,0)","v":1.32E-2},{"$f":"OFFSET(Male!AZ$18,'Male - Rev'!$A15-35,0)","v":1.5100000000000001E-2},{"$f":"OFFSET(Male!BA$18,'Male - Rev'!$A15-35,0)","v":1.7000000000000001E-2},{"$f":"OFFSET(Male!BB$18,'Male - Rev'!$A15-35,0)","v":1.8499999999999999E-2},{"$f":"OFFSET(Male!BC$18,'Male - Rev'!$A15-35,0)","v":1.9599999999999999E-2},{"$f":"OFFSET(Male!BD$18,'Male - Rev'!$A15-35,0)","v":2.01E-2},{"$f":"OFFSET(Male!BE$18,'Male - Rev'!$A15-35,0)","v":2.01E-2},{"$f":"OFFSET(Male!BF$18,'Male - Rev'!$A15-35,0)","v":1.95E-2},{"$f":"OFFSET(Male!BG$18,'Male - Rev'!$A15-35,0)","v":1.84E-2},{"$f":"OFFSET(Male!BH$18,'Male - Rev'!$A15-35,0)","v":1.6799999999999999E-2},{"$f":"OFFSET(Male!BI$18,'Male - Rev'!$A15-35,0)","v":1.4999999999999999E-2},{"$f":"OFFSET(Male!BJ$18,'Male - Rev'!$A15-35,0)","v":1.3100000000000001E-2},{"$f":"OFFSET(Male!BK$18,'Male - Rev'!$A15-35,0)","v":1.12E-2},{"$f":"OFFSET(Male!BL$18,'Male - Rev'!$A15-35,0)","v":9.2999999999999992E-3},{"$f":"OFFSET(Male!BM$18,'Male - Rev'!$A15-35,0)","v":7.6E-3},{"$f":"OFFSET(Male!BN$18,'Male - Rev'!$A15-35,0)","v":6.0000000000000001E-3},{"$f":"OFFSET(Male!BO$18,'Male - Rev'!$A15-35,0)","v":4.4999999999999997E-3},{"$f":"OFFSET(Male!BP$18,'Male - Rev'!$A15-35,0)","v":4.7000000000000002E-3},{"$f":"OFFSET(Male!BQ$18,'Male - Rev'!$A15-35,0)","v":5.0000000000000001E-3},{"$f":"OFFSET(Male!BR$18,'Male - Rev'!$A15-35,0)","v":5.4999999999999997E-3},{"$f":"OFFSET(Male!BS$18,'Male - Rev'!$A15-35,0)","v":5.8999999999999999E-3},{"$f":"OFFSET(Male!BT$18,'Male - Rev'!$A15-35,0)","v":6.4000000000000003E-3},{"$f":"OFFSET(Male!BU$18,'Male - Rev'!$A15-35,0)","v":6.7999999999999996E-3},{"$f":"OFFSET(Male!BV$18,'Male - Rev'!$A15-35,0)","v":7.1999999999999998E-3},{"$f":"OFFSET(Male!BW$18,'Male - Rev'!$A15-35,0)","v":7.4999999999999997E-3},{"$f":"OFFSET(Male!BX$18,'Male - Rev'!$A15-35,0)","v":7.7000000000000002E-3},{"$f":"OFFSET(Male!BY$18,'Male - Rev'!$A15-35,0)","v":7.7000000000000002E-3},{"$f":"OFFSET(Male!BZ$18,'Male - Rev'!$A15-35,0)","v":7.6E-3},{"$f":"OFFSET(Male!CA$18,'Male - Rev'!$A15-35,0)","v":7.6E-3},{"$f":"OFFSET(Male!CB$18,'Male - Rev'!$A15-35,0)","v":7.6E-3},{"$f":"OFFSET(Male!CC$18,'Male - Rev'!$A15-35,0)","v":7.7000000000000002E-3},{"$f":"OFFSET(Male!CD$18,'Male - Rev'!$A15-35,0)","v":7.9000000000000008E-3},{"$f":"OFFSET(Male!CE$18,'Male - Rev'!$A15-35,0)","v":8.2000000000000007E-3},{"$f":"OFFSET(Male!CF$18,'Male - Rev'!$A15-35,0)","v":8.5000000000000006E-3},{"$f":"OFFSET(Male!CG$18,'Male - Rev'!$A15-35,0)","v":8.8999999999999999E-3},{"$f":"OFFSET(Male!CH$18,'Male - Rev'!$A15-35,0)","v":9.2999999999999992E-3},{"$f":"OFFSET(Male!CI$18,'Male - Rev'!$A15-35,0)","v":9.5999999999999992E-3},{"$f":"CJ15","v":9.5999999999999992E-3},9.5999999999999992E-3]
[82,82,{"$f":"OFFSET(Male!B$18,'Male - Rev'!$A16-35,0)","v":6.7999999999999996E-3},{"$f":"OFFSET(Male!C$18,'Male - Rev'!$A16-35,0)","v":5.5999999999999999E-3},{"$f":"OFFSET(Male!D$18,'Male - Rev'!$A16-35,0)","v":4.4999999999999997E-3},{"$f":"OFFSET(Male!E$18,'Male - Rev'!$A16-35,0)","v":3.3E-3},{"$f":"OFFSET(Male!F$18,'Male - Rev'!$A16-35,0)","v":2.0999999999999999E-3},{"$f":"OFFSET(Male!G$18,'Male - Rev'!$A16-35,0)","v":1E-3},{"$f":"OFFSET(Male!H$18,'Male - Rev'!$A16-35,0)","v":0},{"$f":"OFFSET(Male!I$18,'Male - Rev'!$A16-35,0)","v":-8.0000000000000004E-4},{"$f":"OFFSET(Male!J$18,'Male - Rev'!$A16-35,0)","v":-1.4E-3},{"$f":"OFFSET(Male!K$18,'Male - Rev'!$A16-35,0)","v":-1.8E-3},{"$f":"OFFSET(Male!L$18,'Male - Rev'!$A16-35,0)","v":-1.9E-3},{"$f":"OFFSET(Male!M$18,'Male - Rev'!$A16-35,0)","v":-1.6999999999999999E-3},{"$f":"OFFSET(Male!N$18,'Male - Rev'!$A16-35,0)","v":-1.1999999999999999E-3},{"$f":"OFFSET(Male!O$18,'Male - Rev'!$A16-35,0)","v":-4.0000000000000002E-4},{"$f":"OFFSET(Male!P$18,'Male - Rev'!$A16-35,0)","v":5.9999999999999995E-4},{"$f":"OFFSET(Male!Q$18,'Male - Rev'!$A16-35,0)","v":1.9E-3},{"$f":"OFFSET(Male!R$18,'Male - Rev'!$A16-35,0)","v":3.3999999999999998E-3},{"$f":"OFFSET(Male!S$18,'Male - Rev'!$A16-35,0)","v":5.1000000000000004E-3},{"$f":"OFFSET(Male!T$18,'Male - Rev'!$A16-35,0)","v":6.8999999999999999E-3},{"$f":"OFFSET(Male!U$18,'Male - Rev'!$A16-35,0)","v":8.8000000000000005E-3},{"$f":"OFFSET(Male!V$18,'Male - Rev'!$A16-35,0)","v":1.0500000000000001E-2},{"$f":"OFFSET(Male!W$18,'Male - Rev'!$A16-35,0)","v":1.2E-2},{"$f":"OFFSET(Male!X$18,'Male - Rev'!$A16-35,0)","v":1.32E-2},{"$f":"OFFSET(Male!Y$18,'Male - Rev'!$A16-35,0)","v":1.3899999999999999E-2},{"$f":"OFFSET(Male!Z$18,'Male - Rev'!$A16-35,0)","v":1.4E-2},{"$f":"OFFSET(Male!AA$18,'Male - Rev'!$A16-35,0)","v":1.35E-2},{"$f":"OFFSET(Male!AB$18,'Male - Rev'!$A16-35,0)","v":1.26E-2},{"$f":"OFFSET(Male!AC$18,'Male - Rev'!$A16-35,0)","v":1.1299999999999999E-2},{"$f":"OFFSET(Male!AD$18,'Male - Rev'!$A16-35,0)","v":9.7000000000000003E-3},{"$f":"OFFSET(Male!AE$18,'Male - Rev'!$A16-35,0)","v":8.2000000000000007E-3},{"$f":"OFFSET(Male!AF$18,'Male - Rev'!$A16-35,0)","v":6.7000000000000002E-3},{"$f":"OFFSET(Male!AG$18,'Male - Rev'!$A16-35,0)","v":5.5999999999999999E-3},{"$f":"OFFSET(Male!AH$18,'Male - Rev'!$A16-35,0)","v":4.8999999999999998E-3},{"$f":"OFFSET(Male!AI$18,'Male - Rev'!$A16-35,0)","v":4.5999999999999999E-3},{"$f":"OFFSET(Male!AJ$18,'Male - Rev'!$A16-35,0)","v":4.7000000000000002E-3},{"$f":"OFFSET(Male!AK$18,'Male - Rev'!$A16-35,0)","v":5.1999999999999998E-3},{"$f":"OFFSET(Male!AL$18,'Male - Rev'!$A16-35,0)","v":5.8999999999999999E-3},{"$f":"OFFSET(Male!AM$18,'Male - Rev'!$A16-35,0)","v":6.6E-3},{"$f":"OFFSET(Male!AN$18,'Male - Rev'!$A16-35,0)","v":7.1999999999999998E-3},{"$f":"OFFSET(Male!AO$18,'Male - Rev'!$A16-35,0)","v":7.6E-3},{"$f":"OFFSET(Male!AP$18,'Male - Rev'!$A16-35,0)","v":7.7999999999999996E-3},{"$f":"OFFSET(Male!AQ$18,'Male - Rev'!$A16-35,0)","v":7.7000000000000002E-3},{"$f":"OFFSET(Male!AR$18,'Male - Rev'!$A16-35,0)","v":7.7000000000000002E-3},{"$f":"OFFSET(Male!AS$18,'Male - Rev'!$A16-35,0)","v":7.7000000000000002E-3},{"$f":"OFFSET(Male!AT$18,'Male - Rev'!$A16-35,0)","v":7.9000000000000008E-3},{"$f":"OFFSET(Male!AU$18,'Male - Rev'!$A16-35,0)","v":8.3999999999999995E-3},{"$f":"OFFSET(Male!AV$18,'Male - Rev'!$A16-35,0)","v":9.2999999999999992E-3},{"$f":"OFFSET(Male!AW$18,'Male - Rev'!$A16-35,0)","v":1.06E-2},{"$f":"OFFSET(Male!AX$18,'Male - Rev'!$A16-35,0)","v":1.2200000000000001E-2},{"$f":"OFFSET(Male!AY$18,'Male - Rev'!$A16-35,0)","v":1.4E-2},{"$f":"OFFSET(Male!AZ$18,'Male - Rev'!$A16-35,0)","v":1.6E-2},{"$f":"OFFSET(Male!BA$18,'Male - Rev'!$A16-35,0)","v":1.78E-2},{"$f":"OFFSET(Male!BB$18,'Male - Rev'!$A16-35,0)","v":1.9300000000000001E-2},{"$f":"OFFSET(Male!BC$18,'Male - Rev'!$A16-35,0)","v":2.0400000000000001E-2},{"$f":"OFFSET(Male!BD$18,'Male - Rev'!$A16-35,0)","v":2.1000000000000001E-2},{"$f":"OFFSET(Male!BE$18,'Male - Rev'!$A16-35,0)","v":2.0899999999999998E-2},{"$f":"OFFSET(Male!BF$18,'Male - Rev'!$A16-35,0)","v":2.0299999999999999E-2},{"$f":"OFFSET(Male!BG$18,'Male - Rev'!$A16-35,0)","v":1.9099999999999999E-2},{"$f":"OFFSET(Male!BH$18,'Male - Rev'!$A16-35,0)","v":1.7500000000000002E-2},{"$f":"OFFSET(Male!BI$18,'Male - Rev'!$A16-35,0)","v":1.5599999999999999E-2},{"$f":"OFFSET(Male!BJ$18,'Male - Rev'!$A16-35,0)","v":1.3599999999999999E-2},{"$f":"OFFSET(Male!BK$18,'Male - Rev'!$A16-35,0)","v":1.15E-2},{"$f":"OFFSET(Male!BL$18,'Male - Rev'!$A16-35,0)","v":9.5999999999999992E-3},{"$f":"OFFSET(Male!BM$18,'Male - Rev'!$A16-35,0)","v":7.9000000000000008E-3},{"$f":"OFFSET(Male!BN$18,'Male - Rev'!$A16-35,0)","v":6.3E-3},{"$f":"OFFSET(Male!BO$18,'Male - Rev'!$A16-35,0)","v":4.7999999999999996E-3},{"$f":"OFFSET(Male!BP$18,'Male - Rev'!$A16-35,0)","v":5.0000000000000001E-3},{"$f":"OFFSET(Male!BQ$18,'Male - Rev'!$A16-35,0)","v":5.4000000000000003E-3},{"$f":"OFFSET(Male!BR$18,'Male - Rev'!$A16-35,0)","v":5.7999999999999996E-3},{"$f":"OFFSET(Male!BS$18,'Male - Rev'!$A16-35,0)","v":6.3E-3},{"$f":"OFFSET(Male!BT$18,'Male - Rev'!$A16-35,0)","v":6.7999999999999996E-3},{"$f":"OFFSET(Male!BU$18,'Male - Rev'!$A16-35,0)","v":7.1999999999999998E-3},{"$f":"OFFSET(Male!BV$18,'Male - Rev'!$A16-35,0)","v":7.4999999999999997E-3},{"$f":"OFFSET(Male!BW$18,'Male - Rev'!$A16-35,0)","v":7.7999999999999996E-3},{"$f":"OFFSET(Male!BX$18,'Male - Rev'!$A16-35,0)","v":7.9000000000000008E-3},{"$f":"OFFSET(Male!BY$18,'Male - Rev'!$A16-35,0)","v":7.9000000000000008E-3},{"$f":"OFFSET(Male!BZ$18,'Male - Rev'!$A16-35,0)","v":7.7999999999999996E-3},{"$f":"OFFSET(Male!CA$18,'Male - Rev'!$A16-35,0)","v":7.7000000000000002E-3},{"$f":"OFFSET(Male!CB$18,'Male - Rev'!$A16-35,0)","v":7.7999999999999996E-3},{"$f":"OFFSET(Male!CC$18,'Male - Rev'!$A16-35,0)","v":7.9000000000000008E-3},{"$f":"OFFSET(Male!CD$18,'Male - Rev'!$A16-35,0)","v":8.0999999999999996E-3},{"$f":"OFFSET(Male!CE$18,'Male - Rev'!$A16-35,0)","v":8.5000000000000006E-3},{"$f":"OFFSET(Male!CF$18,'Male - Rev'!$A16-35,0)","v":8.8999999999999999E-3},{"$f":"OFFSET(Male!CG$18,'Male - Rev'!$A16-35,0)","v":9.4000000000000004E-3},{"$f":"OFFSET(Male!CH$18,'Male - Rev'!$A16-35,0)","v":9.7999999999999997E-3},{"$f":"OFFSET(Male!CI$18,'Male - Rev'!$A16-35,0)","v":1.01E-2},{"$f":"CJ16","v":1.01E-2},1.01E-2]
[81,81,{"$f":"OFFSET(Male!B$18,'Male - Rev'!$A17-35,0)","v":7.7000000000000002E-3},{"$f":"OFFSET(Male!C$18,'Male - Rev'!$A17-35,0)","v":6.4999999999999997E-3},{"$f":"OFFSET(Male!D$18,'Male - Rev'!$A17-35,0)","v":5.1999999999999998E-3},{"$f":"OFFSET(Male!E$18,'Male - Rev'!$A17-35,0)","v":4.0000000000000001E-3},{"$f":"OFFSET(Male!F$18,'Male - Rev'!$A17-35,0)","v":2.8E-3},{"$f":"OFFSET(Male!G$18,'Male - Rev'!$A17-35,0)","v":1.6999999999999999E-3},{"$f":"OFFSET(Male!H$18,'Male - Rev'!$A17-35,0)","v":5.9999999999999995E-4},{"$f":"OFFSET(Male!I$18,'Male - Rev'!$A17-35,0)","v":-2.9999999999999997E-4},{"$f":"OFFSET(Male!J$18,'Male - Rev'!$A17-35,0)","v":-1E-3},{"$f":"OFFSET(Male!K$18,'Male - Rev'!$A17-35,0)","v":-1.5E-3},{"$f":"OFFSET(Male!L$18,'Male - Rev'!$A17-35,0)","v":-1.6999999999999999E-3},{"$f":"OFFSET(Male!M$18,'Male - Rev'!$A17-35,0)","v":-1.6999999999999999E-3},{"$f":"OFFSET(Male!N$18,'Male - Rev'!$A17-35,0)","v":-1.4E-3},{"$f":"OFFSET(Male!O$18,'Male - Rev'!$A17-35,0)","v":-8.0000000000000004E-4},{"$f":"OFFSET(Male!P$18,'Male - Rev'!$A17-35,0)","v":2.0000000000000001E-4},{"$f":"OFFSET(Male!Q$18,'Male - Rev'!$A17-35,0)","v":1.4E-3},{"$f":"OFFSET(Male!R$18,'Male - Rev'!$A17-35,0)","v":2.8999999999999998E-3},{"$f":"OFFSET(Male!S$18,'Male - Rev'!$A17-35,0)","v":4.5999999999999999E-3},{"$f":"OFFSET(Male!T$18,'Male - Rev'!$A17-35,0)","v":6.4999999999999997E-3},{"$f":"OFFSET(Male!U$18,'Male - Rev'!$A17-35,0)","v":8.3999999999999995E-3},{"$f":"OFFSET(Male!V$18,'Male - Rev'!$A17-35,0)","v":1.0200000000000001E-2},{"$f":"OFFSET(Male!W$18,'Male - Rev'!$A17-35,0)","v":1.18E-2},{"$f":"OFFSET(Male!X$18,'Male - Rev'!$A17-35,0)","v":1.2999999999999999E-2},{"$f":"OFFSET(Male!Y$18,'Male - Rev'!$A17-35,0)","v":1.38E-2},{"$f":"OFFSET(Male!Z$18,'Male - Rev'!$A17-35,0)","v":1.4E-2},{"$f":"OFFSET(Male!AA$18,'Male - Rev'!$A17-35,0)","v":1.35E-2},{"$f":"OFFSET(Male!AB$18,'Male - Rev'!$A17-35,0)","v":1.26E-2},{"$f":"OFFSET(Male!AC$18,'Male - Rev'!$A17-35,0)","v":1.12E-2},{"$f":"OFFSET(Male!AD$18,'Male - Rev'!$A17-35,0)","v":9.7000000000000003E-3},{"$f":"OFFSET(Male!AE$18,'Male - Rev'!$A17-35,0)","v":8.0999999999999996E-3},{"$f":"OFFSET(Male!AF$18,'Male - Rev'!$A17-35,0)","v":6.7999999999999996E-3},{"$f":"OFFSET(Male!AG$18,'Male - Rev'!$A17-35,0)","v":5.7000000000000002E-3},{"$f":"OFFSET(Male!AH$18,'Male - Rev'!$A17-35,0)","v":5.1000000000000004E-3},{"$f":"OFFSET(Male!AI$18,'Male - Rev'!$A17-35,0)","v":5.0000000000000001E-3},{"$f":"OFFSET(Male!AJ$18,'Male - Rev'!$A17-35,0)","v":5.4000000000000003E-3},{"$f":"OFFSET(Male!AK$18,'Male - Rev'!$A17-35,0)","v":6.1000000000000004E-3},{"$f":"OFFSET(Male!AL$18,'Male - Rev'!$A17-35,0)","v":7.1000000000000004E-3},{"$f":"OFFSET(Male!AM$18,'Male - Rev'!$A17-35,0)","v":8.0000000000000002E-3},{"$f":"OFFSET(Male!AN$18,'Male - Rev'!$A17-35,0)","v":8.6999999999999994E-3},{"$f":"OFFSET(Male!AO$18,'Male - Rev'!$A17-35,0)","v":9.1999999999999998E-3},{"$f":"OFFSET(Male!AP$18,'Male - Rev'!$A17-35,0)","v":9.2999999999999992E-3},{"$f":"OFFSET(Male!AQ$18,'Male - Rev'!$A17-35,0)","v":9.1999999999999998E-3},{"$f":"OFFSET(Male!AR$18,'Male - Rev'!$A17-35,0)","v":8.9999999999999993E-3},{"$f":"OFFSET(Male!AS$18,'Male - Rev'!$A17-35,0)","v":8.8999999999999999E-3},{"$f":"OFFSET(Male!AT$18,'Male - Rev'!$A17-35,0)","v":8.9999999999999993E-3},{"$f":"OFFSET(Male!AU$18,'Male - Rev'!$A17-35,0)","v":9.4000000000000004E-3},{"$f":"OFFSET(Male!AV$18,'Male - Rev'!$A17-35,0)","v":1.0200000000000001E-2},{"$f":"OFFSET(Male!AW$18,'Male - Rev'!$A17-35,0)","v":1.14E-2},{"$f":"OFFSET(Male!AX$18,'Male - Rev'!$A17-35,0)","v":1.2999999999999999E-2},{"$f":"OFFSET(Male!AY$18,'Male - Rev'!$A17-35,0)","v":1.4800000000000001E-2},{"$f":"OFFSET(Male!AZ$18,'Male - Rev'!$A17-35,0)","v":1.67E-2},{"$f":"OFFSET(Male!BA$18,'Male - Rev'!$A17-35,0)","v":1.8499999999999999E-2},{"$f":"OFFSET(Male!BB$18,'Male - Rev'!$A17-35,0)","v":2.01E-2},{"$f":"OFFSET(Male!BC$18,'Male - Rev'!$A17-35,0)","v":2.12E-2},{"$f":"OFFSET(Male!BD$18,'Male - Rev'!$A17-35,0)","v":2.18E-2},{"$f":"OFFSET(Male!BE$18,'Male - Rev'!$A17-35,0)","v":2.1700000000000001E-2},{"$f":"OFFSET(Male!BF$18,'Male - Rev'!$A17-35,0)","v":2.1000000000000001E-2},{"$f":"OFFSET(Male!BG$18,'Male - Rev'!$A17-35,0)","v":1.9800000000000002E-2},{"$f":"OFFSET(Male!BH$18,'Male - Rev'!$A17-35,0)","v":1.8100000000000002E-2},{"$f":"OFFSET(Male!BI$18,'Male - Rev'!$A17-35,0)","v":1.61E-2},{"$f":"OFFSET(Male!BJ$18,'Male - Rev'!$A17-35,0)","v":1.4E-2},{"$f":"OFFSET(Male!BK$18,'Male - Rev'!$A17-35,0)","v":1.1900000000000001E-2},{"$f":"OFFSET(Male!BL$18,'Male - Rev'!$A17-35,0)","v":0.01},{"$f":"OFFSET(Male!BM$18,'Male - Rev'!$A17-35,0)","v":8.2000000000000007E-3},{"$f":"OFFSET(Male!BN$18,'Male - Rev'!$A17-35,0)","v":6.6E-3},{"$f":"OFFSET(Male!BO$18,'Male - Rev'!$A17-35,0)","v":5.1999999999999998E-3},{"$f":"OFFSET(Male!BP$18,'Male - Rev'!$A17-35,0)","v":5.4000000000000003E-3},{"$f":"OFFSET(Male!BQ$18,'Male - Rev'!$A17-35,0)","v":5.7999999999999996E-3},{"$f":"OFFSET(Male!BR$18,'Male - Rev'!$A17-35,0)","v":6.1999999999999998E-3},{"$f":"OFFSET(Male!BS$18,'Male - Rev'!$A17-35,0)","v":6.6E-3},{"$f":"OFFSET(Male!BT$18,'Male - Rev'!$A17-35,0)","v":7.1000000000000004E-3},{"$f":"OFFSET(Male!BU$18,'Male - Rev'!$A17-35,0)","v":7.4999999999999997E-3},{"$f":"OFFSET(Male!BV$18,'Male - Rev'!$A17-35,0)","v":7.7999999999999996E-3},{"$f":"OFFSET(Male!BW$18,'Male - Rev'!$A17-35,0)","v":8.0000000000000002E-3},{"$f":"OFFSET(Male!BX$18,'Male - Rev'!$A17-35,0)","v":8.0000000000000002E-3},{"$f":"OFFSET(Male!BY$18,'Male - Rev'!$A17-35,0)","v":8.0000000000000002E-3},{"$f":"OFFSET(Male!BZ$18,'Male - Rev'!$A17-35,0)","v":7.9000000000000008E-3},{"$f":"OFFSET(Male!CA$18,'Male - Rev'!$A17-35,0)","v":7.7999999999999996E-3},{"$f":"OFFSET(Male!CB$18,'Male - Rev'!$A17-35,0)","v":7.9000000000000008E-3},{"$f":"OFFSET(Male!CC$18,'Male - Rev'!$A17-35,0)","v":8.0999999999999996E-3},{"$f":"OFFSET(Male!CD$18,'Male - Rev'!$A17-35,0)","v":8.3999999999999995E-3},{"$f":"OFFSET(Male!CE$18,'Male - Rev'!$A17-35,0)","v":8.8999999999999999E-3},{"$f":"OFFSET(Male!CF$18,'Male - Rev'!$A17-35,0)","v":9.2999999999999992E-3},{"$f":"OFFSET(Male!CG$18,'Male - Rev'!$A17-35,0)","v":9.7999999999999997E-3},{"$f":"OFFSET(Male!CH$18,'Male - Rev'!$A17-35,0)","v":1.0200000000000001E-2},{"$f":"OFFSET(Male!CI$18,'Male - Rev'!$A17-35,0)","v":1.0500000000000001E-2},{"$f":"CJ17","v":1.0500000000000001E-2},1.0500000000000001E-2]
[80,80,{"$f":"OFFSET(Male!B$18,'Male - Rev'!$A18-35,0)","v":8.3999999999999995E-3},{"$f":"OFFSET(Male!C$18,'Male - Rev'!$A18-35,0)","v":7.1999999999999998E-3},{"$f":"OFFSET(Male!D$18,'Male - Rev'!$A18-35,0)","v":5.8999999999999999E-3},{"$f":"OFFSET(Male!E$18,'Male - Rev'!$A18-35,0)","v":4.7000000000000002E-3},{"$f":"OFFSET(Male!F$18,'Male - Rev'!$A18-35,0)","v":3.3999999999999998E-3},{"$f":"OFFSET(Male!G$18,'Male - Rev'!$A18-35,0)","v":2.2000000000000001E-3},{"$f":"OFFSET(Male!H$18,'Male - Rev'!$A18-35,0)","v":1.1000000000000001E-3},{"$f":"OFFSET(Male!I$18,'Male - Rev'!$A18-35,0)","v":1E-4},{"$f":"OFFSET(Male!J$18,'Male - Rev'!$A18-35,0)","v":-6.9999999999999999E-4},{"$f":"OFFSET(Male!K$18,'Male - Rev'!$A18-35,0)","v":-1.2999999999999999E-3},{"$f":"OFFSET(Male!L$18,'Male - Rev'!$A18-35,0)","v":-1.6999999999999999E-3},{"$f":"OFFSET(Male!M$18,'Male - Rev'!$A18-35,0)","v":-1.8E-3},{"$f":"OFFSET(Male!N$18,'Male - Rev'!$A18-35,0)","v":-1.6000000000000001E-3},{"$f":"OFFSET(Male!O$18,'Male - Rev'!$A18-35,0)","v":-1.1000000000000001E-3},{"$f":"OFFSET(Male!P$18,'Male - Rev'!$A18-35,0)","v":-2.0000000000000001E-4},{"$f":"OFFSET(Male!Q$18,'Male - Rev'!$A18-35,0)","v":8.9999999999999998E-4},{"$f":"OFFSET(Male!R$18,'Male - Rev'!$A18-35,0)","v":2.3999999999999998E-3},{"$f":"OFFSET(Male!S$18,'Male - Rev'!$A18-35,0)","v":4.1000000000000003E-3},{"$f":"OFFSET(Male!T$18,'Male - Rev'!$A18-35,0)","v":6.1000000000000004E-3},{"$f":"OFFSET(Male!U$18,'Male - Rev'!$A18-35,0)","v":8.0000000000000002E-3},{"$f":"OFFSET(Male!V$18,'Male - Rev'!$A18-35,0)","v":9.9000000000000008E-3},{"$f":"OFFSET(Male!W$18,'Male - Rev'!$A18-35,0)","v":1.1599999999999999E-2},{"$f":"OFFSET(Male!X$18,'Male - Rev'!$A18-35,0)","v":1.29E-2},{"$f":"OFFSET(Male!Y$18,'Male - Rev'!$A18-35,0)","v":1.37E-2},{"$f":"OFFSET(Male!Z$18,'Male - Rev'!$A18-35,0)","v":1.4E-2},{"$f":"OFFSET(Male!AA$18,'Male - Rev'!$A18-35,0)","v":1.35E-2},{"$f":"OFFSET(Male!AB$18,'Male - Rev'!$A18-35,0)","v":1.26E-2},{"$f":"OFFSET(Male!AC$18,'Male - Rev'!$A18-35,0)","v":1.12E-2},{"$f":"OFFSET(Male!AD$18,'Male - Rev'!$A18-35,0)","v":9.7000000000000003E-3},{"$f":"OFFSET(Male!AE$18,'Male - Rev'!$A18-35,0)","v":8.2000000000000007E-3},{"$f":"OFFSET(Male!AF$18,'Male - Rev'!$A18-35,0)","v":6.8999999999999999E-3},{"$f":"OFFSET(Male!AG$18,'Male - Rev'!$A18-35,0)","v":5.8999999999999999E-3},{"$f":"OFFSET(Male!AH$18,'Male - Rev'!$A18-35,0)","v":5.4999999999999997E-3},{"$f":"OFFSET(Male!AI$18,'Male - Rev'!$A18-35,0)","v":5.5999999999999999E-3},{"$f":"OFFSET(Male!AJ$18,'Male - Rev'!$A18-35,0)","v":6.1999999999999998E-3},{"$f":"OFFSET(Male!AK$18,'Male - Rev'!$A18-35,0)","v":7.1000000000000004E-3},{"$f":"OFFSET(Male!AL$18,'Male - Rev'!$A18-35,0)","v":8.2000000000000007E-3},{"$f":"OFFSET(Male!AM$18,'Male - Rev'!$A18-35,0)","v":9.2999999999999992E-3},{"$f":"OFFSET(Male!AN$18,'Male - Rev'!$A18-35,0)","v":1.0200000000000001E-2},{"$f":"OFFSET(Male!AO$18,'Male - Rev'!$A18-35,0)","v":1.0699999999999999E-2},{"$f":"OFFSET(Male!AP$18,'Male - Rev'!$A18-35,0)","v":1.0800000000000001E-2},{"$f":"OFFSET(Male!AQ$18,'Male - Rev'!$A18-35,0)","v":1.06E-2},{"$f":"OFFSET(Male!AR$18,'Male - Rev'!$A18-35,0)","v":1.03E-2},{"$f":"OFFSET(Male!AS$18,'Male - Rev'!$A18-35,0)","v":1.01E-2},{"$f":"OFFSET(Male!AT$18,'Male - Rev'!$A18-35,0)","v":0.01},{"$f":"OFFSET(Male!AU$18,'Male - Rev'!$A18-35,0)","v":1.03E-2},{"$f":"OFFSET(Male!AV$18,'Male - Rev'!$A18-35,0)","v":1.0999999999999999E-2},{"$f":"OFFSET(Male!AW$18,'Male - Rev'!$A18-35,0)","v":1.21E-2},{"$f":"OFFSET(Male!AX$18,'Male - Rev'!$A18-35,0)","v":1.3599999999999999E-2},{"$f":"OFFSET(Male!AY$18,'Male - Rev'!$A18-35,0)","v":1.54E-2},{"$f":"OFFSET(Male!AZ$18,'Male - Rev'!$A18-35,0)","v":1.7299999999999999E-2},{"$f":"OFFSET(Male!BA$18,'Male - Rev'!$A18-35,0)","v":1.9199999999999998E-2},{"$f":"OFFSET(Male!BB$18,'Male - Rev'!$A18-35,0)","v":2.0799999999999999E-2},{"$f":"OFFSET(Male!BC$18,'Male - Rev'!$A18-35,0)","v":2.1999999999999999E-2},{"$f":"OFFSET(Male!BD$18,'Male - Rev'!$A18-35,0)","v":2.2599999999999999E-2},{"$f":"OFFSET(Male!BE$18,'Male - Rev'!$A18-35,0)","v":2.2499999999999999E-2},{"$f":"OFFSET(Male!BF$18,'Male - Rev'!$A18-35,0)","v":2.18E-2},{"$f":"OFFSET(Male!BG$18,'Male - Rev'!$A18-35,0)","v":2.0500000000000001E-2},{"$f":"OFFSET(Male!BH$18,'Male - Rev'!$A18-35,0)","v":1.8700000000000001E-2},{"$f":"OFFSET(Male!BI$18,'Male - Rev'!$A18-35,0)","v":1.66E-2},{"$f":"OFFSET(Male!BJ$18,'Male - Rev'!$A18-35,0)","v":1.44E-2},{"$f":"OFFSET(Male!BK$18,'Male - Rev'!$A18-35,0)","v":1.23E-2},{"$f":"OFFSET(Male!BL$18,'Male - Rev'!$A18-35,0)","v":1.03E-2},{"$f":"OFFSET(Male!BM$18,'Male - Rev'!$A18-35,0)","v":8.5000000000000006E-3},{"$f":"OFFSET(Male!BN$18,'Male - Rev'!$A18-35,0)","v":6.8999999999999999E-3},{"$f":"OFFSET(Male!BO$18,'Male - Rev'!$A18-35,0)","v":5.4999999999999997E-3},{"$f":"OFFSET(Male!BP$18,'Male - Rev'!$A18-35,0)","v":5.7999999999999996E-3},{"$f":"OFFSET(Male!BQ$18,'Male - Rev'!$A18-35,0)","v":6.1000000000000004E-3},{"$f":"OFFSET(Male!BR$18,'Male - Rev'!$A18-35,0)","v":6.4999999999999997E-3},{"$f":"OFFSET(Male!BS$18,'Male - Rev'!$A18-35,0)","v":7.0000000000000001E-3},{"$f":"OFFSET(Male!BT$18,'Male - Rev'!$A18-35,0)","v":7.4000000000000003E-3},{"$f":"OFFSET(Male!BU$18,'Male - Rev'!$A18-35,0)","v":7.7000000000000002E-3},{"$f":"OFFSET(Male!BV$18,'Male - Rev'!$A18-35,0)","v":8.0000000000000002E-3},{"$f":"OFFSET(Male!BW$18,'Male - Rev'!$A18-35,0)","v":8.0999999999999996E-3},{"$f":"OFFSET(Male!BX$18,'Male - Rev'!$A18-35,0)","v":8.0999999999999996E-3},{"$f":"OFFSET(Male!BY$18,'Male - Rev'!$A18-35,0)","v":8.0000000000000002E-3},{"$f":"OFFSET(Male!BZ$18,'Male - Rev'!$A18-35,0)","v":7.9000000000000008E-3},{"$f":"OFFSET(Male!CA$18,'Male - Rev'!$A18-35,0)","v":7.9000000000000008E-3},{"$f":"OFFSET(Male!CB$18,'Male - Rev'!$A18-35,0)","v":8.0000000000000002E-3},{"$f":"OFFSET(Male!CC$18,'Male - Rev'!$A18-35,0)","v":8.3000000000000001E-3},{"$f":"OFFSET(Male!CD$18,'Male - Rev'!$A18-35,0)","v":8.6999999999999994E-3},{"$f":"OFFSET(Male!CE$18,'Male - Rev'!$A18-35,0)","v":9.1999999999999998E-3},{"$f":"OFFSET(Male!CF$18,'Male - Rev'!$A18-35,0)","v":9.7999999999999997E-3},{"$f":"OFFSET(Male!CG$18,'Male - Rev'!$A18-35,0)","v":1.03E-2},{"$f":"OFFSET(Male!CH$18,'Male - Rev'!$A18-35,0)","v":1.0699999999999999E-2},{"$f":"OFFSET(Male!CI$18,'Male - Rev'!$A18-35,0)","v":1.0999999999999999E-2},{"$f":"CJ18","v":1.0999999999999999E-2},1.0999999999999999E-2]
[79,79,{"$f":"OFFSET(Male!B$18,'Male - Rev'!$A19-35,0)","v":9.1000000000000004E-3},{"$f":"OFFSET(Male!C$18,'Male - Rev'!$A19-35,0)","v":7.7999999999999996E-3},{"$f":"OFFSET(Male!D$18,'Male - Rev'!$A19-35,0)","v":6.4999999999999997E-3},{"$f":"OFFSET(Male!E$18,'Male - Rev'!$A19-35,0)","v":5.1999999999999998E-3},{"$f":"OFFSET(Male!F$18,'Male - Rev'!$A19-35,0)","v":3.8E-3},{"$f":"OFFSET(Male!G$18,'Male - Rev'!$A19-35,0)","v":2.5999999999999999E-3},{"$f":"OFFSET(Male!H$18,'Male - Rev'!$A19-35,0)","v":1.4E-3},{"$f":"OFFSET(Male!I$18,'Male - Rev'!$A19-35,0)","v":4.0000000000000002E-4},{"$f":"OFFSET(Male!J$18,'Male - Rev'!$A19-35,0)","v":-5.0000000000000001E-4},{"$f":"OFFSET(Male!K$18,'Male - Rev'!$A19-35,0)","v":-1.1999999999999999E-3},{"$f":"OFFSET(Male!L$18,'Male - Rev'!$A19-35,0)","v":-1.6999999999999999E-3},{"$f":"OFFSET(Male!M$18,'Male - Rev'!$A19-35,0)","v":-2E-3},{"$f":"OFFSET(Male!N$18,'Male - Rev'!$A19-35,0)","v":-1.9E-3},{"$f":"OFFSET(Male!O$18,'Male - Rev'!$A19-35,0)","v":-1.5E-3},{"$f":"OFFSET(Male!P$18,'Male - Rev'!$A19-35,0)","v":-6.9999999999999999E-4},{"$f":"OFFSET(Male!Q$18,'Male - Rev'!$A19-35,0)","v":5.0000000000000001E-4},{"$f":"OFFSET(Male!R$18,'Male - Rev'!$A19-35,0)","v":2E-3},{"$f":"OFFSET(Male!S$18,'Male - Rev'!$A19-35,0)","v":3.7000000000000002E-3},{"$f":"OFFSET(Male!T$18,'Male - Rev'!$A19-35,0)","v":5.7000000000000002E-3},{"$f":"OFFSET(Male!U$18,'Male - Rev'!$A19-35,0)","v":7.7000000000000002E-3},{"$f":"OFFSET(Male!V$18,'Male - Rev'!$A19-35,0)","v":9.7000000000000003E-3},{"$f":"OFFSET(Male!W$18,'Male - Rev'!$A19-35,0)","v":1.14E-2},{"$f":"OFFSET(Male!X$18,'Male - Rev'!$A19-35,0)","v":1.2800000000000001E-2},{"$f":"OFFSET(Male!Y$18,'Male - Rev'!$A19-35,0)","v":1.37E-2},{"$f":"OFFSET(Male!Z$18,'Male - Rev'!$A19-35,0)","v":1.4E-2},{"$f":"OFFSET(Male!AA$18,'Male - Rev'!$A19-35,0)","v":1.3599999999999999E-2},{"$f":"OFFSET(Male!AB$18,'Male - Rev'!$A19-35,0)","v":1.26E-2},{"$f":"OFFSET(Male!AC$18,'Male - Rev'!$A19-35,0)","v":1.1299999999999999E-2},{"$f":"OFFSET(Male!AD$18,'Male - Rev'!$A19-35,0)","v":9.7999999999999997E-3},{"$f":"OFFSET(Male!AE$18,'Male - Rev'!$A19-35,0)","v":8.3000000000000001E-3},{"$f":"OFFSET(Male!AF$18,'Male - Rev'!$A19-35,0)","v":7.1000000000000004E-3},{"$f":"OFFSET(Male!AG$18,'Male - Rev'!$A19-35,0)","v":6.1999999999999998E-3},{"$f":"OFFSET(Male!AH$18,'Male - Rev'!$A19-35,0)","v":5.8999999999999999E-3},{"$f":"OFFSET(Male!AI$18,'Male - Rev'!$A19-35,0)","v":6.1999999999999998E-3},{"$f":"OFFSET(Male!AJ$18,'Male - Rev'!$A19-35,0)","v":7.0000000000000001E-3},{"$f":"OFFSET(Male!AK$18,'Male - Rev'!$A19-35,0)","v":8.0999999999999996E-3},{"$f":"OFFSET(Male!AL$18,'Male - Rev'!$A19-35,0)","v":9.4000000000000004E-3},{"$f":"OFFSET(Male!AM$18,'Male - Rev'!$A19-35,0)","v":1.06E-2},{"$f":"OFFSET(Male!AN$18,'Male - Rev'!$A19-35,0)","v":1.1599999999999999E-2},{"$f":"OFFSET(Male!AO$18,'Male - Rev'!$A19-35,0)","v":1.21E-2},{"$f":"OFFSET(Male!AP$18,'Male - Rev'!$A19-35,0)","v":1.21E-2},{"$f":"OFFSET(Male!AQ$18,'Male - Rev'!$A19-35,0)","v":1.1900000000000001E-2},{"$f":"OFFSET(Male!AR$18,'Male - Rev'!$A19-35,0)","v":1.14E-2},{"$f":"OFFSET(Male!AS$18,'Male - Rev'!$A19-35,0)","v":1.0999999999999999E-2},{"$f":"OFFSET(Male!AT$18,'Male - Rev'!$A19-35,0)","v":1.09E-2},{"$f":"OFFSET(Male!AU$18,'Male - Rev'!$A19-35,0)","v":1.0999999999999999E-2},{"$f":"OFFSET(Male!AV$18,'Male - Rev'!$A19-35,0)","v":1.1599999999999999E-2},{"$f":"OFFSET(Male!AW$18,'Male - Rev'!$A19-35,0)","v":1.2699999999999999E-2},{"$f":"OFFSET(Male!AX$18,'Male - Rev'!$A19-35,0)","v":1.4200000000000001E-2},{"$f":"OFFSET(Male!AY$18,'Male - Rev'!$A19-35,0)","v":1.6E-2},{"$f":"OFFSET(Male!AZ$18,'Male - Rev'!$A19-35,0)","v":1.7899999999999999E-2},{"$f":"OFFSET(Male!BA$18,'Male - Rev'!$A19-35,0)","v":1.9900000000000001E-2},{"$f":"OFFSET(Male!BB$18,'Male - Rev'!$A19-35,0)","v":2.1499999999999998E-2},{"$f":"OFFSET(Male!BC$18,'Male - Rev'!$A19-35,0)","v":2.2800000000000001E-2},{"$f":"OFFSET(Male!BD$18,'Male - Rev'!$A19-35,0)","v":2.3400000000000001E-2},{"$f":"OFFSET(Male!BE$18,'Male - Rev'!$A19-35,0)","v":2.3300000000000001E-2},{"$f":"OFFSET(Male!BF$18,'Male - Rev'!$A19-35,0)","v":2.2499999999999999E-2},{"$f":"OFFSET(Male!BG$18,'Male - Rev'!$A19-35,0)","v":2.1100000000000001E-2},{"$f":"OFFSET(Male!BH$18,'Male - Rev'!$A19-35,0)","v":1.9300000000000001E-2},{"$f":"OFFSET(Male!BI$18,'Male - Rev'!$A19-35,0)","v":1.7100000000000001E-2},{"$f":"OFFSET(Male!BJ$18,'Male - Rev'!$A19-35,0)","v":1.4800000000000001E-2},{"$f":"OFFSET(Male!BK$18,'Male - Rev'!$A19-35,0)","v":1.26E-2},{"$f":"OFFSET(Male!BL$18,'Male - Rev'!$A19-35,0)","v":1.0500000000000001E-2},{"$f":"OFFSET(Male!BM$18,'Male - Rev'!$A19-35,0)","v":8.6999999999999994E-3},{"$f":"OFFSET(Male!BN$18,'Male - Rev'!$A19-35,0)","v":7.1999999999999998E-3},{"$f":"OFFSET(Male!BO$18,'Male - Rev'!$A19-35,0)","v":5.8999999999999999E-3},{"$f":"OFFSET(Male!BP$18,'Male - Rev'!$A19-35,0)","v":6.1000000000000004E-3},{"$f":"OFFSET(Male!BQ$18,'Male - Rev'!$A19-35,0)","v":6.4000000000000003E-3},{"$f":"OFFSET(Male!BR$18,'Male - Rev'!$A19-35,0)","v":6.7999999999999996E-3},{"$f":"OFFSET(Male!BS$18,'Male - Rev'!$A19-35,0)","v":7.1999999999999998E-3},{"$f":"OFFSET(Male!BT$18,'Male - Rev'!$A19-35,0)","v":7.4999999999999997E-3},{"$f":"OFFSET(Male!BU$18,'Male - Rev'!$A19-35,0)","v":7.7000000000000002E-3},{"$f":"OFFSET(Male!BV$18,'Male - Rev'!$A19-35,0)","v":7.9000000000000008E-3},{"$f":"OFFSET(Male!BW$18,'Male - Rev'!$A19-35,0)","v":7.9000000000000008E-3},{"$f":"OFFSET(Male!BX$18,'Male - Rev'!$A19-35,0)","v":7.9000000000000008E-3},{"$f":"OFFSET(Male!BY$18,'Male - Rev'!$A19-35,0)","v":7.7999999999999996E-3},{"$f":"OFFSET(Male!BZ$18,'Male - Rev'!$A19-35,0)","v":7.7000000000000002E-3},{"$f":"OFFSET(Male!CA$18,'Male - Rev'!$A19-35,0)","v":7.7000000000000002E-3},{"$f":"OFFSET(Male!CB$18,'Male - Rev'!$A19-35,0)","v":8.0000000000000002E-3},{"$f":"OFFSET(Male!CC$18,'Male - Rev'!$A19-35,0)","v":8.3999999999999995E-3},{"$f":"OFFSET(Male!CD$18,'Male - Rev'!$A19-35,0)","v":8.8999999999999999E-3},{"$f":"OFFSET(Male!CE$18,'Male - Rev'!$A19-35,0)","v":9.4999999999999998E-3},{"$f":"OFFSET(Male!CF$18,'Male - Rev'!$A19-35,0)","v":1.01E-2},{"$f":"OFFSET(Male!CG$18,'Male - Rev'!$A19-35,0)","v":1.06E-2},{"$f":"OFFSET(Male!CH$18,'Male - Rev'!$A19-35,0)","v":1.0999999999999999E-2},{"$f":"OFFSET(Male!CI$18,'Male - Rev'!$A19-35,0)","v":1.11E-2},{"$f":"CJ19","v":1.11E-2},1.11E-2]
[78,78,{"$f":"OFFSET(Male!B$18,'Male - Rev'!$A20-35,0)","v":9.7000000000000003E-3},{"$f":"OFFSET(Male!C$18,'Male - Rev'!$A20-35,0)","v":8.3000000000000001E-3},{"$f":"OFFSET(Male!D$18,'Male - Rev'!$A20-35,0)","v":6.8999999999999999E-3},{"$f":"OFFSET(Male!E$18,'Male - Rev'!$A20-35,0)","v":5.4999999999999997E-3},{"$f":"OFFSET(Male!F$18,'Male - Rev'!$A20-35,0)","v":4.1000000000000003E-3},{"$f":"OFFSET(Male!G$18,'Male - Rev'!$A20-35,0)","v":2.8E-3},{"$f":"OFFSET(Male!H$18,'Male - Rev'!$A20-35,0)","v":1.6000000000000001E-3},{"$f":"OFFSET(Male!I$18,'Male - Rev'!$A20-35,0)","v":5.0000000000000001E-4},{"$f":"OFFSET(Male!J$18,'Male - Rev'!$A20-35,0)","v":-4.0000000000000002E-4},{"$f":"OFFSET(Male!K$18,'Male - Rev'!$A20-35,0)","v":-1.1999999999999999E-3},{"$f":"OFFSET(Male!L$18,'Male - Rev'!$A20-35,0)","v":-1.8E-3},{"$f":"OFFSET(Male!M$18,'Male - Rev'!$A20-35,0)","v":-2.0999999999999999E-3},{"$f":"OFFSET(Male!N$18,'Male - Rev'!$A20-35,0)","v":-2.0999999999999999E-3},{"$f":"OFFSET(Male!O$18,'Male - Rev'!$A20-35,0)","v":-1.8E-3},{"$f":"OFFSET(Male!P$18,'Male - Rev'!$A20-35,0)","v":-1.1000000000000001E-3},{"$f":"OFFSET(Male!Q$18,'Male - Rev'!$A20-35,0)","v":1E-4},{"$f":"OFFSET(Male!R$18,'Male - Rev'!$A20-35,0)","v":1.5E-3},{"$f":"OFFSET(Male!S$18,'Male - Rev'!$A20-35,0)","v":3.3E-3},{"$f":"OFFSET(Male!T$18,'Male - Rev'!$A20-35,0)","v":5.3E-3},{"$f":"OFFSET(Male!U$18,'Male - Rev'!$A20-35,0)","v":7.4000000000000003E-3},{"$f":"OFFSET(Male!V$18,'Male - Rev'!$A20-35,0)","v":9.4999999999999998E-3},{"$f":"OFFSET(Male!W$18,'Male - Rev'!$A20-35,0)","v":1.1299999999999999E-2},{"$f":"OFFSET(Male!X$18,'Male - Rev'!$A20-35,0)","v":1.2699999999999999E-2},{"$f":"OFFSET(Male!Y$18,'Male - Rev'!$A20-35,0)","v":1.37E-2},{"$f":"OFFSET(Male!Z$18,'Male - Rev'!$A20-35,0)","v":1.4E-2},{"$f":"OFFSET(Male!AA$18,'Male - Rev'!$A20-35,0)","v":1.3599999999999999E-2},{"$f":"OFFSET(Male!AB$18,'Male - Rev'!$A20-35,0)","v":1.2699999999999999E-2},{"$f":"OFFSET(Male!AC$18,'Male - Rev'!$A20-35,0)","v":1.14E-2},{"$f":"OFFSET(Male!AD$18,'Male - Rev'!$A20-35,0)","v":9.9000000000000008E-3},{"$f":"OFFSET(Male!AE$18,'Male - Rev'!$A20-35,0)","v":8.5000000000000006E-3},{"$f":"OFFSET(Male!AF$18,'Male - Rev'!$A20-35,0)","v":7.3000000000000001E-3},{"$f":"OFFSET(Male!AG$18,'Male - Rev'!$A20-35,0)","v":6.6E-3},{"$f":"OFFSET(Male!AH$18,'Male - Rev'!$A20-35,0)","v":6.4000000000000003E-3},{"$f":"OFFSET(Male!AI$18,'Male - Rev'!$A20-35,0)","v":6.8999999999999999E-3},{"$f":"OFFSET(Male!AJ$18,'Male - Rev'!$A20-35,0)","v":7.7999999999999996E-3},{"$f":"OFFSET(Male!AK$18,'Male - Rev'!$A20-35,0)","v":9.1000000000000004E-3},{"$f":"OFFSET(Male!AL$18,'Male - Rev'!$A20-35,0)","v":1.06E-2},{"$f":"OFFSET(Male!AM$18,'Male - Rev'!$A20-35,0)","v":1.1900000000000001E-2},{"$f":"OFFSET(Male!AN$18,'Male - Rev'!$A20-35,0)","v":1.29E-2},{"$f":"OFFSET(Male!AO$18,'Male - Rev'!$A20-35,0)","v":1.34E-2},{"$f":"OFFSET(Male!AP$18,'Male - Rev'!$A20-35,0)","v":1.3299999999999999E-2},{"$f":"OFFSET(Male!AQ$18,'Male - Rev'!$A20-35,0)","v":1.29E-2},{"$f":"OFFSET(Male!AR$18,'Male - Rev'!$A20-35,0)","v":1.24E-2},{"$f":"OFFSET(Male!AS$18,'Male - Rev'!$A20-35,0)","v":1.1900000000000001E-2},{"$f":"OFFSET(Male!AT$18,'Male - Rev'!$A20-35,0)","v":1.1599999999999999E-2},{"$f":"OFFSET(Male!AU$18,'Male - Rev'!$A20-35,0)","v":1.1599999999999999E-2},{"$f":"OFFSET(Male!AV$18,'Male - Rev'!$A20-35,0)","v":1.2200000000000001E-2},{"$f":"OFFSET(Male!AW$18,'Male - Rev'!$A20-35,0)","v":1.32E-2},{"$f":"OFFSET(Male!AX$18,'Male - Rev'!$A20-35,0)","v":1.47E-2},{"$f":"OFFSET(Male!AY$18,'Male - Rev'!$A20-35,0)","v":1.6500000000000001E-2},{"$f":"OFFSET(Male!AZ$18,'Male - Rev'!$A20-35,0)","v":1.8499999999999999E-2},{"$f":"OFFSET(Male!BA$18,'Male - Rev'!$A20-35,0)","v":2.0500000000000001E-2},{"$f":"OFFSET(Male!BB$18,'Male - Rev'!$A20-35,0)","v":2.2200000000000001E-2},{"$f":"OFFSET(Male!BC$18,'Male - Rev'!$A20-35,0)","v":2.35E-2},{"$f":"OFFSET(Male!BD$18,'Male - Rev'!$A20-35,0)","v":2.41E-2},{"$f":"OFFSET(Male!BE$18,'Male - Rev'!$A20-35,0)","v":2.4E-2},{"$f":"OFFSET(Male!BF$18,'Male - Rev'!$A20-35,0)","v":2.3199999999999998E-2},{"$f":"OFFSET(Male!BG$18,'Male - Rev'!$A20-35,0)","v":2.1700000000000001E-2},{"$f":"OFFSET(Male!BH$18,'Male - Rev'!$A20-35,0)","v":1.9800000000000002E-2},{"$f":"OFFSET(Male!BI$18,'Male - Rev'!$A20-35,0)","v":1.7500000000000002E-2},{"$f":"OFFSET(Male!BJ$18,'Male - Rev'!$A20-35,0)","v":1.5100000000000001E-2},{"$f":"OFFSET(Male!BK$18,'Male - Rev'!$A20-35,0)","v":1.2800000000000001E-2},{"$f":"OFFSET(Male!BL$18,'Male - Rev'!$A20-35,0)","v":1.0800000000000001E-2},{"$f":"OFFSET(Male!BM$18,'Male - Rev'!$A20-35,0)","v":8.9999999999999993E-3},{"$f":"OFFSET(Male!BN$18,'Male - Rev'!$A20-35,0)","v":7.4999999999999997E-3},{"$f":"OFFSET(Male!BO$18,'Male - Rev'!$A20-35,0)","v":6.1999999999999998E-3},{"$f":"OFFSET(Male!BP$18,'Male - Rev'!$A20-35,0)","v":6.4000000000000003E-3},{"$f":"OFFSET(Male!BQ$18,'Male - Rev'!$A20-35,0)","v":6.7000000000000002E-3},{"$f":"OFFSET(Male!BR$18,'Male - Rev'!$A20-35,0)","v":7.0000000000000001E-3},{"$f":"OFFSET(Male!BS$18,'Male - Rev'!$A20-35,0)","v":7.3000000000000001E-3},{"$f":"OFFSET(Male!BT$18,'Male - Rev'!$A20-35,0)","v":7.4999999999999997E-3},{"$f":"OFFSET(Male!BU$18,'Male - Rev'!$A20-35,0)","v":7.7000000000000002E-3},{"$f":"OFFSET(Male!BV$18,'Male - Rev'!$A20-35,0)","v":7.7000000000000002E-3},{"$f":"OFFSET(Male!BW$18,'Male - Rev'!$A20-35,0)","v":7.7000000000000002E-3},{"$f":"OFFSET(Male!BX$18,'Male - Rev'!$A20-35,0)","v":7.6E-3},{"$f":"OFFSET(Male!BY$18,'Male - Rev'!$A20-35,0)","v":7.4999999999999997E-3},{"$f":"OFFSET(Male!BZ$18,'Male - Rev'!$A20-35,0)","v":7.4999999999999997E-3},{"$f":"OFFSET(Male!CA$18,'Male - Rev'!$A20-35,0)","v":7.6E-3},{"$f":"OFFSET(Male!CB$18,'Male - Rev'!$A20-35,0)","v":8.0000000000000002E-3},{"$f":"OFFSET(Male!CC$18,'Male - Rev'!$A20-35,0)","v":8.5000000000000006E-3},{"$f":"OFFSET(Male!CD$18,'Male - Rev'!$A20-35,0)","v":9.1000000000000004E-3},{"$f":"OFFSET(Male!CE$18,'Male - Rev'!$A20-35,0)","v":9.7000000000000003E-3},{"$f":"OFFSET(Male!CF$18,'Male - Rev'!$A20-35,0)","v":1.03E-2},{"$f":"OFFSET(Male!CG$18,'Male - Rev'!$A20-35,0)","v":1.09E-2},{"$f":"OFFSET(Male!CH$18,'Male - Rev'!$A20-35,0)","v":1.11E-2},{"$f":"OFFSET(Male!CI$18,'Male - Rev'!$A20-35,0)","v":1.1299999999999999E-2},{"$f":"CJ20","v":1.1299999999999999E-2},1.1299999999999999E-2]
[77,77,{"$f":"OFFSET(Male!B$18,'Male - Rev'!$A21-35,0)","v":1.0200000000000001E-2},{"$f":"OFFSET(Male!C$18,'Male - Rev'!$A21-35,0)","v":8.6999999999999994E-3},{"$f":"OFFSET(Male!D$18,'Male - Rev'!$A21-35,0)","v":7.1999999999999998E-3},{"$f":"OFFSET(Male!E$18,'Male - Rev'!$A21-35,0)","v":5.5999999999999999E-3},{"$f":"OFFSET(Male!F$18,'Male - Rev'!$A21-35,0)","v":4.1999999999999997E-3},{"$f":"OFFSET(Male!G$18,'Male - Rev'!$A21-35,0)","v":2.8E-3},{"$f":"OFFSET(Male!H$18,'Male - Rev'!$A21-35,0)","v":1.6000000000000001E-3},{"$f":"OFFSET(Male!I$18,'Male - Rev'!$A21-35,0)","v":5.0000000000000001E-4},{"$f":"OFFSET(Male!J$18,'Male - Rev'!$A21-35,0)","v":-4.0000000000000002E-4},{"$f":"OFFSET(Male!K$18,'Male - Rev'!$A21-35,0)","v":-1.2999999999999999E-3},{"$f":"OFFSET(Male!L$18,'Male - Rev'!$A21-35,0)","v":-1.9E-3},{"$f":"OFFSET(Male!M$18,'Male - Rev'!$A21-35,0)","v":-2.3E-3},{"$f":"OFFSET(Male!N$18,'Male - Rev'!$A21-35,0)","v":-2.3999999999999998E-3},{"$f":"OFFSET(Male!O$18,'Male - Rev'!$A21-35,0)","v":-2.0999999999999999E-3},{"$f":"OFFSET(Male!P$18,'Male - Rev'!$A21-35,0)","v":-1.4E-3},{"$f":"OFFSET(Male!Q$18,'Male - Rev'!$A21-35,0)","v":-2.9999999999999997E-4},{"$f":"OFFSET(Male!R$18,'Male - Rev'!$A21-35,0)","v":1.1999999999999999E-3},{"$f":"OFFSET(Male!S$18,'Male - Rev'!$A21-35,0)","v":3.0000000000000001E-3},{"$f":"OFFSET(Male!T$18,'Male - Rev'!$A21-35,0)","v":5.1000000000000004E-3},{"$f":"OFFSET(Male!U$18,'Male - Rev'!$A21-35,0)","v":7.1999999999999998E-3},{"$f":"OFFSET(Male!V$18,'Male - Rev'!$A21-35,0)","v":9.2999999999999992E-3},{"$f":"OFFSET(Male!W$18,'Male - Rev'!$A21-35,0)","v":1.12E-2},{"$f":"OFFSET(Male!X$18,'Male - Rev'!$A21-35,0)","v":1.2699999999999999E-2},{"$f":"OFFSET(Male!Y$18,'Male - Rev'!$A21-35,0)","v":1.37E-2},{"$f":"OFFSET(Male!Z$18,'Male - Rev'!$A21-35,0)","v":1.4E-2},{"$f":"OFFSET(Male!AA$18,'Male - Rev'!$A21-35,0)","v":1.37E-2},{"$f":"OFFSET(Male!AB$18,'Male - Rev'!$A21-35,0)","v":1.2800000000000001E-2},{"$f":"OFFSET(Male!AC$18,'Male - Rev'!$A21-35,0)","v":1.1599999999999999E-2},{"$f":"OFFSET(Male!AD$18,'Male - Rev'!$A21-35,0)","v":1.01E-2},{"$f":"OFFSET(Male!AE$18,'Male - Rev'!$A21-35,0)","v":8.8000000000000005E-3},{"$f":"OFFSET(Male!AF$18,'Male - Rev'!$A21-35,0)","v":7.7000000000000002E-3},{"$f":"OFFSET(Male!AG$18,'Male - Rev'!$A21-35,0)","v":7.1000000000000004E-3},{"$f":"OFFSET(Male!AH$18,'Male - Rev'!$A21-35,0)","v":7.0000000000000001E-3},{"$f":"OFFSET(Male!AI$18,'Male - Rev'!$A21-35,0)","v":7.6E-3},{"$f":"OFFSET(Male!AJ$18,'Male - Rev'!$A21-35,0)","v":8.6999999999999994E-3},{"$f":"OFFSET(Male!AK$18,'Male - Rev'!$A21-35,0)","v":1.01E-2},{"$f":"OFFSET(Male!AL$18,'Male - Rev'!$A21-35,0)","v":1.17E-2},{"$f":"OFFSET(Male!AM$18,'Male - Rev'!$A21-35,0)","v":1.3100000000000001E-2},{"$f":"OFFSET(Male!AN$18,'Male - Rev'!$A21-35,0)","v":1.41E-2},{"$f":"OFFSET(Male!AO$18,'Male - Rev'!$A21-35,0)","v":1.4500000000000001E-2},{"$f":"OFFSET(Male!AP$18,'Male - Rev'!$A21-35,0)","v":1.44E-2},{"$f":"OFFSET(Male!AQ$18,'Male - Rev'!$A21-35,0)","v":1.38E-2},{"$f":"OFFSET(Male!AR$18,'Male - Rev'!$A21-35,0)","v":1.3100000000000001E-2},{"$f":"OFFSET(Male!AS$18,'Male - Rev'!$A21-35,0)","v":1.2500000000000001E-2},{"$f":"OFFSET(Male!AT$18,'Male - Rev'!$A21-35,0)","v":1.21E-2},{"$f":"OFFSET(Male!AU$18,'Male - Rev'!$A21-35,0)","v":1.21E-2},{"$f":"OFFSET(Male!AV$18,'Male - Rev'!$A21-35,0)","v":1.26E-2},{"$f":"OFFSET(Male!AW$18,'Male - Rev'!$A21-35,0)","v":1.3599999999999999E-2},{"$f":"OFFSET(Male!AX$18,'Male - Rev'!$A21-35,0)","v":1.5100000000000001E-2},{"$f":"OFFSET(Male!AY$18,'Male - Rev'!$A21-35,0)","v":1.7000000000000001E-2},{"$f":"OFFSET(Male!AZ$18,'Male - Rev'!$A21-35,0)","v":1.9099999999999999E-2},{"$f":"OFFSET(Male!BA$18,'Male - Rev'!$A21-35,0)","v":2.12E-2},{"$f":"OFFSET(Male!BB$18,'Male - Rev'!$A21-35,0)","v":2.3E-2},{"$f":"OFFSET(Male!BC$18,'Male - Rev'!$A21-35,0)","v":2.4299999999999999E-2},{"$f":"OFFSET(Male!BD$18,'Male - Rev'!$A21-35,0)","v":2.4899999999999999E-2},{"$f":"OFFSET(Male!BE$18,'Male - Rev'!$A21-35,0)","v":2.47E-2},{"$f":"OFFSET(Male!BF$18,'Male - Rev'!$A21-35,0)","v":2.3800000000000002E-2},{"$f":"OFFSET(Male!BG$18,'Male - Rev'!$A21-35,0)","v":2.23E-2},{"$f":"OFFSET(Male!BH$18,'Male - Rev'!$A21-35,0)","v":2.0199999999999999E-2},{"$f":"OFFSET(Male!BI$18,'Male - Rev'!$A21-35,0)","v":1.7899999999999999E-2},{"$f":"OFFSET(Male!BJ$18,'Male - Rev'!$A21-35,0)","v":1.54E-2},{"$f":"OFFSET(Male!BK$18,'Male - Rev'!$A21-35,0)","v":1.3100000000000001E-2},{"$f":"OFFSET(Male!BL$18,'Male - Rev'!$A21-35,0)","v":1.0999999999999999E-2},{"$f":"OFFSET(Male!BM$18,'Male - Rev'!$A21-35,0)","v":9.1999999999999998E-3},{"$f":"OFFSET(Male!BN$18,'Male - Rev'!$A21-35,0)","v":7.7000000000000002E-3},{"$f":"OFFSET(Male!BO$18,'Male - Rev'!$A21-35,0)","v":6.4999999999999997E-3},{"$f":"OFFSET(Male!BP$18,'Male - Rev'!$A21-35,0)","v":6.7000000000000002E-3},{"$f":"OFFSET(Male!BQ$18,'Male - Rev'!$A21-35,0)","v":6.8999999999999999E-3},{"$f":"OFFSET(Male!BR$18,'Male - Rev'!$A21-35,0)","v":7.1999999999999998E-3},{"$f":"OFFSET(Male!BS$18,'Male - Rev'!$A21-35,0)","v":7.3000000000000001E-3},{"$f":"OFFSET(Male!BT$18,'Male - Rev'!$A21-35,0)","v":7.4000000000000003E-3},{"$f":"OFFSET(Male!BU$18,'Male - Rev'!$A21-35,0)","v":7.4000000000000003E-3},{"$f":"OFFSET(Male!BV$18,'Male - Rev'!$A21-35,0)","v":7.4000000000000003E-3},{"$f":"OFFSET(Male!BW$18,'Male - Rev'!$A21-35,0)","v":7.3000000000000001E-3},{"$f":"OFFSET(Male!BX$18,'Male - Rev'!$A21-35,0)","v":7.1999999999999998E-3},{"$f":"OFFSET(Male!BY$18,'Male - Rev'!$A21-35,0)","v":7.1999999999999998E-3},{"$f":"OFFSET(Male!BZ$18,'Male - Rev'!$A21-35,0)","v":7.3000000000000001E-3},{"$f":"OFFSET(Male!CA$18,'Male - Rev'!$A21-35,0)","v":7.4999999999999997E-3},{"$f":"OFFSET(Male!CB$18,'Male - Rev'!$A21-35,0)","v":8.0000000000000002E-3},{"$f":"OFFSET(Male!CC$18,'Male - Rev'!$A21-35,0)","v":8.6E-3},{"$f":"OFFSET(Male!CD$18,'Male - Rev'!$A21-35,0)","v":9.2999999999999992E-3},{"$f":"OFFSET(Male!CE$18,'Male - Rev'!$A21-35,0)","v":0.01},{"$f":"OFFSET(Male!CF$18,'Male - Rev'!$A21-35,0)","v":1.0699999999999999E-2},{"$f":"OFFSET(Male!CG$18,'Male - Rev'!$A21-35,0)","v":1.0999999999999999E-2},{"$f":"OFFSET(Male!CH$18,'Male - Rev'!$A21-35,0)","v":1.1299999999999999E-2},{"$f":"OFFSET(Male!CI$18,'Male - Rev'!$A21-35,0)","v":1.14E-2},{"$f":"CJ21","v":1.14E-2},1.14E-2]
[76,76,{"$f":"OFFSET(Male!B$18,'Male - Rev'!$A22-35,0)","v":1.0500000000000001E-2},{"$f":"OFFSET(Male!C$18,'Male - Rev'!$A22-35,0)","v":8.8000000000000005E-3},{"$f":"OFFSET(Male!D$18,'Male - Rev'!$A22-35,0)","v":7.1999999999999998E-3},{"$f":"OFFSET(Male!E$18,'Male - Rev'!$A22-35,0)","v":5.5999999999999999E-3},{"$f":"OFFSET(Male!F$18,'Male - Rev'!$A22-35,0)","v":4.1000000000000003E-3},{"$f":"OFFSET(Male!G$18,'Male - Rev'!$A22-35,0)","v":2.7000000000000001E-3},{"$f":"OFFSET(Male!H$18,'Male - Rev'!$A22-35,0)","v":1.5E-3},{"$f":"OFFSET(Male!I$18,'Male - Rev'!$A22-35,0)","v":4.0000000000000002E-4},{"$f":"OFFSET(Male!J$18,'Male - Rev'!$A22-35,0)","v":-5.9999999999999995E-4},{"$f":"OFFSET(Male!K$18,'Male - Rev'!$A22-35,0)","v":-1.4E-3},{"$f":"OFFSET(Male!L$18,'Male - Rev'!$A22-35,0)","v":-2E-3},{"$f":"OFFSET(Male!M$18,'Male - Rev'!$A22-35,0)","v":-2.3999999999999998E-3},{"$f":"OFFSET(Male!N$18,'Male - Rev'!$A22-35,0)","v":-2.5999999999999999E-3},{"$f":"OFFSET(Male!O$18,'Male - Rev'!$A22-35,0)","v":-2.3E-3},{"$f":"OFFSET(Male!P$18,'Male - Rev'!$A22-35,0)","v":-1.6000000000000001E-3},{"$f":"OFFSET(Male!Q$18,'Male - Rev'!$A22-35,0)","v":-5.9999999999999995E-4},{"$f":"OFFSET(Male!R$18,'Male - Rev'!$A22-35,0)","v":8.9999999999999998E-4},{"$f":"OFFSET(Male!S$18,'Male - Rev'!$A22-35,0)","v":2.8E-3},{"$f":"OFFSET(Male!T$18,'Male - Rev'!$A22-35,0)","v":4.7999999999999996E-3},{"$f":"OFFSET(Male!U$18,'Male - Rev'!$A22-35,0)","v":7.0000000000000001E-3},{"$f":"OFFSET(Male!V$18,'Male - Rev'!$A22-35,0)","v":9.1999999999999998E-3},{"$f":"OFFSET(Male!W$18,'Male - Rev'!$A22-35,0)","v":1.11E-2},{"$f":"OFFSET(Male!X$18,'Male - Rev'!$A22-35,0)","v":1.2699999999999999E-2},{"$f":"OFFSET(Male!Y$18,'Male - Rev'!$A22-35,0)","v":1.37E-2},{"$f":"OFFSET(Male!Z$18,'Male - Rev'!$A22-35,0)","v":1.41E-2},{"$f":"OFFSET(Male!AA$18,'Male - Rev'!$A22-35,0)","v":1.38E-2},{"$f":"OFFSET(Male!AB$18,'Male - Rev'!$A22-35,0)","v":1.2999999999999999E-2},{"$f":"OFFSET(Male!AC$18,'Male - Rev'!$A22-35,0)","v":1.18E-2},{"$f":"OFFSET(Male!AD$18,'Male - Rev'!$A22-35,0)","v":1.04E-2},{"$f":"OFFSET(Male!AE$18,'Male - Rev'!$A22-35,0)","v":9.1999999999999998E-3},{"$f":"OFFSET(Male!AF$18,'Male - Rev'!$A22-35,0)","v":8.2000000000000007E-3},{"$f":"OFFSET(Male!AG$18,'Male - Rev'!$A22-35,0)","v":7.7000000000000002E-3},{"$f":"OFFSET(Male!AH$18,'Male - Rev'!$A22-35,0)","v":7.7000000000000002E-3},{"$f":"OFFSET(Male!AI$18,'Male - Rev'!$A22-35,0)","v":8.3999999999999995E-3},{"$f":"OFFSET(Male!AJ$18,'Male - Rev'!$A22-35,0)","v":9.5999999999999992E-3},{"$f":"OFFSET(Male!AK$18,'Male - Rev'!$A22-35,0)","v":1.11E-2},{"$f":"OFFSET(Male!AL$18,'Male - Rev'!$A22-35,0)","v":1.2699999999999999E-2},{"$f":"OFFSET(Male!AM$18,'Male - Rev'!$A22-35,0)","v":1.41E-2},{"$f":"OFFSET(Male!AN$18,'Male - Rev'!$A22-35,0)","v":1.5100000000000001E-2},{"$f":"OFFSET(Male!AO$18,'Male - Rev'!$A22-35,0)","v":1.54E-2},{"$f":"OFFSET(Male!AP$18,'Male - Rev'!$A22-35,0)","v":1.52E-2},{"$f":"OFFSET(Male!AQ$18,'Male - Rev'!$A22-35,0)","v":1.4500000000000001E-2},{"$f":"OFFSET(Male!AR$18,'Male - Rev'!$A22-35,0)","v":1.37E-2},{"$f":"OFFSET(Male!AS$18,'Male - Rev'!$A22-35,0)","v":1.2999999999999999E-2},{"$f":"OFFSET(Male!AT$18,'Male - Rev'!$A22-35,0)","v":1.2500000000000001E-2},{"$f":"OFFSET(Male!AU$18,'Male - Rev'!$A22-35,0)","v":1.2500000000000001E-2},{"$f":"OFFSET(Male!AV$18,'Male - Rev'!$A22-35,0)","v":1.2999999999999999E-2},{"$f":"OFFSET(Male!AW$18,'Male - Rev'!$A22-35,0)","v":1.41E-2},{"$f":"OFFSET(Male!AX$18,'Male - Rev'!$A22-35,0)","v":1.5599999999999999E-2},{"$f":"OFFSET(Male!AY$18,'Male - Rev'!$A22-35,0)","v":1.7600000000000001E-2},{"$f":"OFFSET(Male!AZ$18,'Male - Rev'!$A22-35,0)","v":1.9699999999999999E-2},{"$f":"OFFSET(Male!BA$18,'Male - Rev'!$A22-35,0)","v":2.18E-2},{"$f":"OFFSET(Male!BB$18,'Male - Rev'!$A22-35,0)","v":2.3699999999999999E-2},{"$f":"OFFSET(Male!BC$18,'Male - Rev'!$A22-35,0)","v":2.5000000000000001E-2},{"$f":"OFFSET(Male!BD$18,'Male - Rev'!$A22-35,0)","v":2.5600000000000001E-2},{"$f":"OFFSET(Male!BE$18,'Male - Rev'!$A22-35,0)","v":2.53E-2},{"$f":"OFFSET(Male!BF$18,'Male - Rev'!$A22-35,0)","v":2.4400000000000002E-2},{"$f":"OFFSET(Male!BG$18,'Male - Rev'!$A22-35,0)","v":2.2700000000000001E-2},{"$f":"OFFSET(Male!BH$18,'Male - Rev'!$A22-35,0)","v":2.06E-2},{"$f":"OFFSET(Male!BI$18,'Male - Rev'!$A22-35,0)","v":1.8200000000000001E-2},{"$f":"OFFSET(Male!BJ$18,'Male - Rev'!$A22-35,0)","v":1.5699999999999999E-2},{"$f":"OFFSET(Male!BK$18,'Male - Rev'!$A22-35,0)","v":1.3299999999999999E-2},{"$f":"OFFSET(Male!BL$18,'Male - Rev'!$A22-35,0)","v":1.11E-2},{"$f":"OFFSET(Male!BM$18,'Male - Rev'!$A22-35,0)","v":9.4000000000000004E-3},{"$f":"OFFSET(Male!BN$18,'Male - Rev'!$A22-35,0)","v":7.9000000000000008E-3},{"$f":"OFFSET(Male!BO$18,'Male - Rev'!$A22-35,0)","v":6.7999999999999996E-3},{"$f":"OFFSET(Male!BP$18,'Male - Rev'!$A22-35,0)","v":6.8999999999999999E-3},{"$f":"OFFSET(Male!BQ$18,'Male - Rev'!$A22-35,0)","v":7.0000000000000001E-3},{"$f":"OFFSET(Male!BR$18,'Male - Rev'!$A22-35,0)","v":7.1000000000000004E-3},{"$f":"OFFSET(Male!BS$18,'Male - Rev'!$A22-35,0)","v":7.1999999999999998E-3},{"$f":"OFFSET(Male!BT$18,'Male - Rev'!$A22-35,0)","v":7.1000000000000004E-3},{"$f":"OFFSET(Male!BU$18,'Male - Rev'!$A22-35,0)","v":7.0000000000000001E-3},{"$f":"OFFSET(Male!BV$18,'Male - Rev'!$A22-35,0)","v":6.8999999999999999E-3},{"$f":"OFFSET(Male!BW$18,'Male - Rev'!$A22-35,0)","v":6.7999999999999996E-3},{"$f":"OFFSET(Male!BX$18,'Male - Rev'!$A22-35,0)","v":6.7999999999999996E-3},{"$f":"OFFSET(Male!BY$18,'Male - Rev'!$A22-35,0)","v":6.8999999999999999E-3},{"$f":"OFFSET(Male!BZ$18,'Male - Rev'!$A22-35,0)","v":7.1000000000000004E-3},{"$f":"OFFSET(Male!CA$18,'Male - Rev'!$A22-35,0)","v":7.4999999999999997E-3},{"$f":"OFFSET(Male!CB$18,'Male - Rev'!$A22-35,0)","v":8.0999999999999996E-3},{"$f":"OFFSET(Male!CC$18,'Male - Rev'!$A22-35,0)","v":8.8000000000000005E-3},{"$f":"OFFSET(Male!CD$18,'Male - Rev'!$A22-35,0)","v":9.5999999999999992E-3},{"$f":"OFFSET(Male!CE$18,'Male - Rev'!$A22-35,0)","v":1.03E-2},{"$f":"OFFSET(Male!CF$18,'Male - Rev'!$A22-35,0)","v":1.0800000000000001E-2},{"$f":"OFFSET(Male!CG$18,'Male - Rev'!$A22-35,0)","v":1.12E-2},{"$f":"OFFSET(Male!CH$18,'Male - Rev'!$A22-35,0)","v":1.14E-2},{"$f":"OFFSET(Male!CI$18,'Male - Rev'!$A22-35,0)","v":1.1599999999999999E-2},{"$f":"CJ22","v":1.1599999999999999E-2},1.1599999999999999E-2]
[75,75,{"$f":"OFFSET(Male!B$18,'Male - Rev'!$A23-35,0)","v":1.0500000000000001E-2},{"$f":"OFFSET(Male!C$18,'Male - Rev'!$A23-35,0)","v":8.8000000000000005E-3},{"$f":"OFFSET(Male!D$18,'Male - Rev'!$A23-35,0)","v":7.1000000000000004E-3},{"$f":"OFFSET(Male!E$18,'Male - Rev'!$A23-35,0)","v":5.4000000000000003E-3},{"$f":"OFFSET(Male!F$18,'Male - Rev'!$A23-35,0)","v":3.8E-3},{"$f":"OFFSET(Male!G$18,'Male - Rev'!$A23-35,0)","v":2.3999999999999998E-3},{"$f":"OFFSET(Male!H$18,'Male - Rev'!$A23-35,0)","v":1.1999999999999999E-3},{"$f":"OFFSET(Male!I$18,'Male - Rev'!$A23-35,0)","v":1E-4},{"$f":"OFFSET(Male!J$18,'Male - Rev'!$A23-35,0)","v":-8.0000000000000004E-4},{"$f":"OFFSET(Male!K$18,'Male - Rev'!$A23-35,0)","v":-1.5E-3},{"$f":"OFFSET(Male!L$18,'Male - Rev'!$A23-35,0)","v":-2.0999999999999999E-3},{"$f":"OFFSET(Male!M$18,'Male - Rev'!$A23-35,0)","v":-2.5000000000000001E-3},{"$f":"OFFSET(Male!N$18,'Male - Rev'!$A23-35,0)","v":-2.7000000000000001E-3},{"$f":"OFFSET(Male!O$18,'Male - Rev'!$A23-35,0)","v":-2.3999999999999998E-3},{"$f":"OFFSET(Male!P$18,'Male - Rev'!$A23-35,0)","v":-1.8E-3},{"$f":"OFFSET(Male!Q$18,'Male - Rev'!$A23-35,0)","v":-6.9999999999999999E-4},{"$f":"OFFSET(Male!R$18,'Male - Rev'!$A23-35,0)","v":8.0000000000000004E-4},{"$f":"OFFSET(Male!S$18,'Male - Rev'!$A23-35,0)","v":2.5999999999999999E-3},{"$f":"OFFSET(Male!T$18,'Male - Rev'!$A23-35,0)","v":4.7000000000000002E-3},{"$f":"OFFSET(Male!U$18,'Male - Rev'!$A23-35,0)","v":6.8999999999999999E-3},{"$f":"OFFSET(Male!V$18,'Male - Rev'!$A23-35,0)","v":9.1000000000000004E-3},{"$f":"OFFSET(Male!W$18,'Male - Rev'!$A23-35,0)","v":1.11E-2},{"$f":"OFFSET(Male!X$18,'Male - Rev'!$A23-35,0)","v":1.2699999999999999E-2},{"$f":"OFFSET(Male!Y$18,'Male - Rev'!$A23-35,0)","v":1.38E-2},{"$f":"OFFSET(Male!Z$18,'Male - Rev'!$A23-35,0)","v":1.43E-2},{"$f":"OFFSET(Male!AA$18,'Male - Rev'!$A23-35,0)","v":1.4E-2},{"$f":"OFFSET(Male!AB$18,'Male - Rev'!$A23-35,0)","v":1.3299999999999999E-2},{"$f":"OFFSET(Male!AC$18,'Male - Rev'!$A23-35,0)","v":1.21E-2},{"$f":"OFFSET(Male!AD$18,'Male - Rev'!$A23-35,0)","v":1.0800000000000001E-2},{"$f":"OFFSET(Male!AE$18,'Male - Rev'!$A23-35,0)","v":9.5999999999999992E-3},{"$f":"OFFSET(Male!AF$18,'Male - Rev'!$A23-35,0)","v":8.8000000000000005E-3},{"$f":"OFFSET(Male!AG$18,'Male - Rev'!$A23-35,0)","v":8.3000000000000001E-3},{"$f":"OFFSET(Male!AH$18,'Male - Rev'!$A23-35,0)","v":8.5000000000000006E-3},{"$f":"OFFSET(Male!AI$18,'Male - Rev'!$A23-35,0)","v":9.1999999999999998E-3},{"$f":"OFFSET(Male!AJ$18,'Male - Rev'!$A23-35,0)","v":1.0500000000000001E-2},{"$f":"OFFSET(Male!AK$18,'Male - Rev'!$A23-35,0)","v":1.21E-2},{"$f":"OFFSET(Male!AL$18,'Male - Rev'!$A23-35,0)","v":1.37E-2},{"$f":"OFFSET(Male!AM$18,'Male - Rev'!$A23-35,0)","v":1.4999999999999999E-2},{"$f":"OFFSET(Male!AN$18,'Male - Rev'!$A23-35,0)","v":1.5900000000000001E-2},{"$f":"OFFSET(Male!AO$18,'Male - Rev'!$A23-35,0)","v":1.6199999999999999E-2},{"$f":"OFFSET(Male!AP$18,'Male - Rev'!$A23-35,0)","v":1.5800000000000002E-2},{"$f":"OFFSET(Male!AQ$18,'Male - Rev'!$A23-35,0)","v":1.4999999999999999E-2},{"$f":"OFFSET(Male!AR$18,'Male - Rev'!$A23-35,0)","v":1.41E-2},{"$f":"OFFSET(Male!AS$18,'Male - Rev'!$A23-35,0)","v":1.3299999999999999E-2},{"$f":"OFFSET(Male!AT$18,'Male - Rev'!$A23-35,0)","v":1.2800000000000001E-2},{"$f":"OFFSET(Male!AU$18,'Male - Rev'!$A23-35,0)","v":1.2800000000000001E-2},{"$f":"OFFSET(Male!AV$18,'Male - Rev'!$A23-35,0)","v":1.3299999999999999E-2},{"$f":"OFFSET(Male!AW$18,'Male - Rev'!$A23-35,0)","v":1.4500000000000001E-2},{"$f":"OFFSET(Male!AX$18,'Male - Rev'!$A23-35,0)","v":1.61E-2},{"$f":"OFFSET(Male!AY$18,'Male - Rev'!$A23-35,0)","v":1.8200000000000001E-2},{"$f":"OFFSET(Male!AZ$18,'Male - Rev'!$A23-35,0)","v":2.0400000000000001E-2},{"$f":"OFFSET(Male!BA$18,'Male - Rev'!$A23-35,0)","v":2.2599999999999999E-2},{"$f":"OFFSET(Male!BB$18,'Male - Rev'!$A23-35,0)","v":2.4400000000000002E-2},{"$f":"OFFSET(Male!BC$18,'Male - Rev'!$A23-35,0)","v":2.5700000000000001E-2},{"$f":"OFFSET(Male!BD$18,'Male - Rev'!$A23-35,0)","v":2.6200000000000001E-2},{"$f":"OFFSET(Male!BE$18,'Male - Rev'!$A23-35,0)","v":2.5899999999999999E-2},{"$f":"OFFSET(Male!BF$18,'Male - Rev'!$A23-35,0)","v":2.4799999999999999E-2},{"$f":"OFFSET(Male!BG$18,'Male - Rev'!$A23-35,0)","v":2.3099999999999999E-2},{"$f":"OFFSET(Male!BH$18,'Male - Rev'!$A23-35,0)","v":2.0899999999999998E-2},{"$f":"OFFSET(Male!BI$18,'Male - Rev'!$A23-35,0)","v":1.84E-2},{"$f":"OFFSET(Male!BJ$18,'Male - Rev'!$A23-35,0)","v":1.5800000000000002E-2},{"$f":"OFFSET(Male!BK$18,'Male - Rev'!$A23-35,0)","v":1.34E-2},{"$f":"OFFSET(Male!BL$18,'Male - Rev'!$A23-35,0)","v":1.12E-2},{"$f":"OFFSET(Male!BM$18,'Male - Rev'!$A23-35,0)","v":9.4999999999999998E-3},{"$f":"OFFSET(Male!BN$18,'Male - Rev'!$A23-35,0)","v":8.0000000000000002E-3},{"$f":"OFFSET(Male!BO$18,'Male - Rev'!$A23-35,0)","v":6.8999999999999999E-3},{"$f":"OFFSET(Male!BP$18,'Male - Rev'!$A23-35,0)","v":7.0000000000000001E-3},{"$f":"OFFSET(Male!BQ$18,'Male - Rev'!$A23-35,0)","v":7.0000000000000001E-3},{"$f":"OFFSET(Male!BR$18,'Male - Rev'!$A23-35,0)","v":6.8999999999999999E-3},{"$f":"OFFSET(Male!BS$18,'Male - Rev'!$A23-35,0)","v":6.7999999999999996E-3},{"$f":"OFFSET(Male!BT$18,'Male - Rev'!$A23-35,0)","v":6.7000000000000002E-3},{"$f":"OFFSET(Male!BU$18,'Male - Rev'!$A23-35,0)","v":6.4999999999999997E-3},{"$f":"OFFSET(Male!BV$18,'Male - Rev'!$A23-35,0)","v":6.4000000000000003E-3},{"$f":"OFFSET(Male!BW$18,'Male - Rev'!$A23-35,0)","v":6.4000000000000003E-3},{"$f":"OFFSET(Male!BX$18,'Male - Rev'!$A23-35,0)","v":6.4000000000000003E-3},{"$f":"OFFSET(Male!BY$18,'Male - Rev'!$A23-35,0)","v":6.6E-3},{"$f":"OFFSET(Male!BZ$18,'Male - Rev'!$A23-35,0)","v":7.0000000000000001E-3},{"$f":"OFFSET(Male!CA$18,'Male - Rev'!$A23-35,0)","v":7.6E-3},{"$f":"OFFSET(Male!CB$18,'Male - Rev'!$A23-35,0)","v":8.3000000000000001E-3},{"$f":"OFFSET(Male!CC$18,'Male - Rev'!$A23-35,0)","v":9.1000000000000004E-3},{"$f":"OFFSET(Male!CD$18,'Male - Rev'!$A23-35,0)","v":9.9000000000000008E-3},{"$f":"OFFSET(Male!CE$18,'Male - Rev'!$A23-35,0)","v":1.0500000000000001E-2},{"$f":"OFFSET(Male!CF$18,'Male - Rev'!$A23-35,0)","v":1.0999999999999999E-2},{"$f":"OFFSET(Male!CG$18,'Male - Rev'!$A23-35,0)","v":1.14E-2},{"$f":"OFFSET(Male!CH$18,'Male - Rev'!$A23-35,0)","v":1.1599999999999999E-2},{"$f":"OFFSET(Male!CI$18,'Male - Rev'!$A23-35,0)","v":1.17E-2},{"$f":"CJ23","v":1.17E-2},1.17E-2]
[74,74,{"$f":"OFFSET(Male!B$18,'Male - Rev'!$A24-35,0)","v":1.04E-2},{"$f":"OFFSET(Male!C$18,'Male - Rev'!$A24-35,0)","v":8.6E-3},{"$f":"OFFSET(Male!D$18,'Male - Rev'!$A24-35,0)","v":6.7999999999999996E-3},{"$f":"OFFSET(Male!E$18,'Male - Rev'!$A24-35,0)","v":5.1000000000000004E-3},{"$f":"OFFSET(Male!F$18,'Male - Rev'!$A24-35,0)","v":3.3999999999999998E-3},{"$f":"OFFSET(Male!G$18,'Male - Rev'!$A24-35,0)","v":2E-3},{"$f":"OFFSET(Male!H$18,'Male - Rev'!$A24-35,0)","v":6.9999999999999999E-4},{"$f":"OFFSET(Male!I$18,'Male - Rev'!$A24-35,0)","v":-2.9999999999999997E-4},{"$f":"OFFSET(Male!J$18,'Male - Rev'!$A24-35,0)","v":-1.1000000000000001E-3},{"$f":"OFFSET(Male!K$18,'Male - Rev'!$A24-35,0)","v":-1.6999999999999999E-3},{"$f":"OFFSET(Male!L$18,'Male - Rev'!$A24-35,0)","v":-2.3E-3},{"$f":"OFFSET(Male!M$18,'Male - Rev'!$A24-35,0)","v":-2.5999999999999999E-3},{"$f":"OFFSET(Male!N$18,'Male - Rev'!$A24-35,0)","v":-2.7000000000000001E-3},{"$f":"OFFSET(Male!O$18,'Male - Rev'!$A24-35,0)","v":-2.3999999999999998E-3},{"$f":"OFFSET(Male!P$18,'Male - Rev'!$A24-35,0)","v":-1.8E-3},{"$f":"OFFSET(Male!Q$18,'Male - Rev'!$A24-35,0)","v":-8.0000000000000004E-4},{"$f":"OFFSET(Male!R$18,'Male - Rev'!$A24-35,0)","v":6.9999999999999999E-4},{"$f":"OFFSET(Male!S$18,'Male - Rev'!$A24-35,0)","v":2.5000000000000001E-3},{"$f":"OFFSET(Male!T$18,'Male - Rev'!$A24-35,0)","v":4.7000000000000002E-3},{"$f":"OFFSET(Male!U$18,'Male - Rev'!$A24-35,0)","v":6.8999999999999999E-3},{"$f":"OFFSET(Male!V$18,'Male - Rev'!$A24-35,0)","v":9.1000000000000004E-3},{"$f":"OFFSET(Male!W$18,'Male - Rev'!$A24-35,0)","v":1.11E-2},{"$f":"OFFSET(Male!X$18,'Male - Rev'!$A24-35,0)","v":1.2800000000000001E-2},{"$f":"OFFSET(Male!Y$18,'Male - Rev'!$A24-35,0)","v":1.4E-2},{"$f":"OFFSET(Male!Z$18,'Male - Rev'!$A24-35,0)","v":1.4500000000000001E-2},{"$f":"OFFSET(Male!AA$18,'Male - Rev'!$A24-35,0)","v":1.43E-2},{"$f":"OFFSET(Male!AB$18,'Male - Rev'!$A24-35,0)","v":1.3599999999999999E-2},{"$f":"OFFSET(Male!AC$18,'Male - Rev'!$A24-35,0)","v":1.2500000000000001E-2},{"$f":"OFFSET(Male!AD$18,'Male - Rev'!$A24-35,0)","v":1.1299999999999999E-2},{"$f":"OFFSET(Male!AE$18,'Male - Rev'!$A24-35,0)","v":1.0200000000000001E-2},{"$f":"OFFSET(Male!AF$18,'Male - Rev'!$A24-35,0)","v":9.4000000000000004E-3},{"$f":"OFFSET(Male!AG$18,'Male - Rev'!$A24-35,0)","v":9.1000000000000004E-3},{"$f":"OFFSET(Male!AH$18,'Male - Rev'!$A24-35,0)","v":9.2999999999999992E-3},{"$f":"OFFSET(Male!AI$18,'Male - Rev'!$A24-35,0)","v":1.01E-2},{"$f":"OFFSET(Male!AJ$18,'Male - Rev'!$A24-35,0)","v":1.14E-2},{"$f":"OFFSET(Male!AK$18,'Male - Rev'!$A24-35,0)","v":1.29E-2},{"$f":"OFFSET(Male!AL$18,'Male - Rev'!$A24-35,0)","v":1.4500000000000001E-2},{"$f":"OFFSET(Male!AM$18,'Male - Rev'!$A24-35,0)","v":1.5699999999999999E-2},{"$f":"OFFSET(Male!AN$18,'Male - Rev'!$A24-35,0)","v":1.6500000000000001E-2},{"$f":"OFFSET(Male!AO$18,'Male - Rev'!$A24-35,0)","v":1.67E-2},{"$f":"OFFSET(Male!AP$18,'Male - Rev'!$A24-35,0)","v":1.6199999999999999E-2},{"$f":"OFFSET(Male!AQ$18,'Male - Rev'!$A24-35,0)","v":1.5299999999999999E-2},{"$f":"OFFSET(Male!AR$18,'Male - Rev'!$A24-35,0)","v":1.44E-2},{"$f":"OFFSET(Male!AS$18,'Male - Rev'!$A24-35,0)","v":1.35E-2},{"$f":"OFFSET(Male!AT$18,'Male - Rev'!$A24-35,0)","v":1.2999999999999999E-2},{"$f":"OFFSET(Male!AU$18,'Male - Rev'!$A24-35,0)","v":1.3100000000000001E-2},{"$f":"OFFSET(Male!AV$18,'Male - Rev'!$A24-35,0)","v":1.37E-2},{"$f":"OFFSET(Male!AW$18,'Male - Rev'!$A24-35,0)","v":1.49E-2},{"$f":"OFFSET(Male!AX$18,'Male - Rev'!$A24-35,0)","v":1.67E-2},{"$f":"OFFSET(Male!AY$18,'Male - Rev'!$A24-35,0)","v":1.89E-2},{"$f":"OFFSET(Male!AZ$18,'Male - Rev'!$A24-35,0)","v":2.12E-2},{"$f":"OFFSET(Male!BA$18,'Male - Rev'!$A24-35,0)","v":2.3300000000000001E-2},{"$f":"OFFSET(Male!BB$18,'Male - Rev'!$A24-35,0)","v":2.5100000000000001E-2},{"$f":"OFFSET(Male!BC$18,'Male - Rev'!$A24-35,0)","v":2.63E-2},{"$f":"OFFSET(Male!BD$18,'Male - Rev'!$A24-35,0)","v":2.6700000000000002E-2},{"$f":"OFFSET(Male!BE$18,'Male - Rev'!$A24-35,0)","v":2.63E-2},{"$f":"OFFSET(Male!BF$18,'Male - Rev'!$A24-35,0)","v":2.5100000000000001E-2},{"$f":"OFFSET(Male!BG$18,'Male - Rev'!$A24-35,0)","v":2.3300000000000001E-2},{"$f":"OFFSET(Male!BH$18,'Male - Rev'!$A24-35,0)","v":2.1100000000000001E-2},{"$f":"OFFSET(Male!BI$18,'Male - Rev'!$A24-35,0)","v":1.8599999999999998E-2},{"$f":"OFFSET(Male!BJ$18,'Male - Rev'!$A24-35,0)","v":1.6E-2},{"$f":"OFFSET(Male!BK$18,'Male - Rev'!$A24-35,0)","v":1.35E-2},{"$f":"OFFSET(Male!BL$18,'Male - Rev'!$A24-35,0)","v":1.1299999999999999E-2},{"$f":"OFFSET(Male!BM$18,'Male - Rev'!$A24-35,0)","v":9.4999999999999998E-3},{"$f":"OFFSET(Male!BN$18,'Male - Rev'!$A24-35,0)","v":8.0000000000000002E-3},{"$f":"OFFSET(Male!BO$18,'Male - Rev'!$A24-35,0)","v":6.8999999999999999E-3},{"$f":"OFFSET(Male!BP$18,'Male - Rev'!$A24-35,0)","v":6.7999999999999996E-3},{"$f":"OFFSET(Male!BQ$18,'Male - Rev'!$A24-35,0)","v":6.7000000000000002E-3},{"$f":"OFFSET(Male!BR$18,'Male - Rev'!$A24-35,0)","v":6.4999999999999997E-3},{"$f":"OFFSET(Male!BS$18,'Male - Rev'!$A24-35,0)","v":6.3E-3},{"$f":"OFFSET(Male!BT$18,'Male - Rev'!$A24-35,0)","v":6.0000000000000001E-3},{"$f":"OFFSET(Male!BU$18,'Male - Rev'!$A24-35,0)","v":5.8999999999999999E-3},{"$f":"OFFSET(Male!BV$18,'Male - Rev'!$A24-35,0)","v":5.7999999999999996E-3},{"$f":"OFFSET(Male!BW$18,'Male - Rev'!$A24-35,0)","v":5.8999999999999999E-3},{"$f":"OFFSET(Male!BX$18,'Male - Rev'!$A24-35,0)","v":6.1000000000000004E-3},{"$f":"OFFSET(Male!BY$18,'Male - Rev'!$A24-35,0)","v":6.4999999999999997E-3},{"$f":"OFFSET(Male!BZ$18,'Male - Rev'!$A24-35,0)","v":7.0000000000000001E-3},{"$f":"OFFSET(Male!CA$18,'Male - Rev'!$A24-35,0)","v":7.7000000000000002E-3},{"$f":"OFFSET(Male!CB$18,'Male - Rev'!$A24-35,0)","v":8.6E-3},{"$f":"OFFSET(Male!CC$18,'Male - Rev'!$A24-35,0)","v":9.4999999999999998E-3},{"$f":"OFFSET(Male!CD$18,'Male - Rev'!$A24-35,0)","v":1.0200000000000001E-2},{"$f":"OFFSET(Male!CE$18,'Male - Rev'!$A24-35,0)","v":1.0800000000000001E-2},{"$f":"OFFSET(Male!CF$18,'Male - Rev'!$A24-35,0)","v":1.12E-2},{"$f":"OFFSET(Male!CG$18,'Male - Rev'!$A24-35,0)","v":1.15E-2},{"$f":"OFFSET(Male!CH$18,'Male - Rev'!$A24-35,0)","v":1.17E-2},{"$f":"OFFSET(Male!CI$18,'Male - Rev'!$A24-35,0)","v":1.18E-2},{"$f":"CJ24","v":1.18E-2},1.18E-2]
[73,73,{"$f":"OFFSET(Male!B$18,'Male - Rev'!$A25-35,0)","v":1.01E-2},{"$f":"OFFSET(Male!C$18,'Male - Rev'!$A25-35,0)","v":8.2000000000000007E-3},{"$f":"OFFSET(Male!D$18,'Male - Rev'!$A25-35,0)","v":6.4000000000000003E-3},{"$f":"OFFSET(Male!E$18,'Male - Rev'!$A25-35,0)","v":4.5999999999999999E-3},{"$f":"OFFSET(Male!F$18,'Male - Rev'!$A25-35,0)","v":2.8999999999999998E-3},{"$f":"OFFSET(Male!G$18,'Male - Rev'!$A25-35,0)","v":1.4E-3},{"$f":"OFFSET(Male!H$18,'Male - Rev'!$A25-35,0)","v":2.0000000000000001E-4},{"$f":"OFFSET(Male!I$18,'Male - Rev'!$A25-35,0)","v":-6.9999999999999999E-4},{"$f":"OFFSET(Male!J$18,'Male - Rev'!$A25-35,0)","v":-1.4E-3},{"$f":"OFFSET(Male!K$18,'Male - Rev'!$A25-35,0)","v":-2E-3},{"$f":"OFFSET(Male!L$18,'Male - Rev'!$A25-35,0)","v":-2.3999999999999998E-3},{"$f":"OFFSET(Male!M$18,'Male - Rev'!$A25-35,0)","v":-2.5999999999999999E-3},{"$f":"OFFSET(Male!N$18,'Male - Rev'!$A25-35,0)","v":-2.7000000000000001E-3},{"$f":"OFFSET(Male!O$18,'Male - Rev'!$A25-35,0)","v":-2.3999999999999998E-3},{"$f":"OFFSET(Male!P$18,'Male - Rev'!$A25-35,0)","v":-1.6999999999999999E-3},{"$f":"OFFSET(Male!Q$18,'Male - Rev'!$A25-35,0)","v":-6.9999999999999999E-4},{"$f":"OFFSET(Male!R$18,'Male - Rev'!$A25-35,0)","v":8.0000000000000004E-4},{"$f":"OFFSET(Male!S$18,'Male - Rev'!$A25-35,0)","v":2.5999999999999999E-3},{"$f":"OFFSET(Male!T$18,'Male - Rev'!$A25-35,0)","v":4.7000000000000002E-3},{"$f":"OFFSET(Male!U$18,'Male - Rev'!$A25-35,0)","v":7.0000000000000001E-3},{"$f":"OFFSET(Male!V$18,'Male - Rev'!$A25-35,0)","v":9.1999999999999998E-3},{"$f":"OFFSET(Male!W$18,'Male - Rev'!$A25-35,0)","v":1.1299999999999999E-2},{"$f":"OFFSET(Male!X$18,'Male - Rev'!$A25-35,0)","v":1.2999999999999999E-2},{"$f":"OFFSET(Male!Y$18,'Male - Rev'!$A25-35,0)","v":1.4200000000000001E-2},{"$f":"OFFSET(Male!Z$18,'Male - Rev'!$A25-35,0)","v":1.4800000000000001E-2},{"$f":"OFFSET(Male!AA$18,'Male - Rev'!$A25-35,0)","v":1.47E-2},{"$f":"OFFSET(Male!AB$18,'Male - Rev'!$A25-35,0)","v":1.4E-2},{"$f":"OFFSET(Male!AC$18,'Male - Rev'!$A25-35,0)","v":1.2999999999999999E-2},{"$f":"OFFSET(Male!AD$18,'Male - Rev'!$A25-35,0)","v":1.1900000000000001E-2},{"$f":"OFFSET(Male!AE$18,'Male - Rev'!$A25-35,0)","v":1.09E-2},{"$f":"OFFSET(Male!AF$18,'Male - Rev'!$A25-35,0)","v":1.0200000000000001E-2},{"$f":"OFFSET(Male!AG$18,'Male - Rev'!$A25-35,0)","v":9.9000000000000008E-3},{"$f":"OFFSET(Male!AH$18,'Male - Rev'!$A25-35,0)","v":1.0200000000000001E-2},{"$f":"OFFSET(Male!AI$18,'Male - Rev'!$A25-35,0)","v":1.0999999999999999E-2},{"$f":"OFFSET(Male!AJ$18,'Male - Rev'!$A25-35,0)","v":1.2200000000000001E-2},{"$f":"OFFSET(Male!AK$18,'Male - Rev'!$A25-35,0)","v":1.37E-2},{"$f":"OFFSET(Male!AL$18,'Male - Rev'!$A25-35,0)","v":1.5100000000000001E-2},{"$f":"OFFSET(Male!AM$18,'Male - Rev'!$A25-35,0)","v":1.6299999999999999E-2},{"$f":"OFFSET(Male!AN$18,'Male - Rev'!$A25-35,0)","v":1.6899999999999998E-2},{"$f":"OFFSET(Male!AO$18,'Male - Rev'!$A25-35,0)","v":1.6899999999999998E-2},{"$f":"OFFSET(Male!AP$18,'Male - Rev'!$A25-35,0)","v":1.6400000000000001E-2},{"$f":"OFFSET(Male!AQ$18,'Male - Rev'!$A25-35,0)","v":1.55E-2},{"$f":"OFFSET(Male!AR$18,'Male - Rev'!$A25-35,0)","v":1.4500000000000001E-2},{"$f":"OFFSET(Male!AS$18,'Male - Rev'!$A25-35,0)","v":1.37E-2},{"$f":"OFFSET(Male!AT$18,'Male - Rev'!$A25-35,0)","v":1.32E-2},{"$f":"OFFSET(Male!AU$18,'Male - Rev'!$A25-35,0)","v":1.34E-2},{"$f":"OFFSET(Male!AV$18,'Male - Rev'!$A25-35,0)","v":1.41E-2},{"$f":"OFFSET(Male!AW$18,'Male - Rev'!$A25-35,0)","v":1.55E-2},{"$f":"OFFSET(Male!AX$18,'Male - Rev'!$A25-35,0)","v":1.7399999999999999E-2},{"$f":"OFFSET(Male!AY$18,'Male - Rev'!$A25-35,0)","v":1.9599999999999999E-2},{"$f":"OFFSET(Male!AZ$18,'Male - Rev'!$A25-35,0)","v":2.1899999999999999E-2},{"$f":"OFFSET(Male!BA$18,'Male - Rev'!$A25-35,0)","v":2.41E-2},{"$f":"OFFSET(Male!BB$18,'Male - Rev'!$A25-35,0)","v":2.58E-2},{"$f":"OFFSET(Male!BC$18,'Male - Rev'!$A25-35,0)","v":2.6800000000000001E-2},{"$f":"OFFSET(Male!BD$18,'Male - Rev'!$A25-35,0)","v":2.7099999999999999E-2},{"$f":"OFFSET(Male!BE$18,'Male - Rev'!$A25-35,0)","v":2.6599999999999999E-2},{"$f":"OFFSET(Male!BF$18,'Male - Rev'!$A25-35,0)","v":2.53E-2},{"$f":"OFFSET(Male!BG$18,'Male - Rev'!$A25-35,0)","v":2.35E-2},{"$f":"OFFSET(Male!BH$18,'Male - Rev'!$A25-35,0)","v":2.12E-2},{"$f":"OFFSET(Male!BI$18,'Male - Rev'!$A25-35,0)","v":1.8599999999999998E-2},{"$f":"OFFSET(Male!BJ$18,'Male - Rev'!$A25-35,0)","v":1.6E-2},{"$f":"OFFSET(Male!BK$18,'Male - Rev'!$A25-35,0)","v":1.35E-2},{"$f":"OFFSET(Male!BL$18,'Male - Rev'!$A25-35,0)","v":1.12E-2},{"$f":"OFFSET(Male!BM$18,'Male - Rev'!$A25-35,0)","v":9.2999999999999992E-3},{"$f":"OFFSET(Male!BN$18,'Male - Rev'!$A25-35,0)","v":7.7999999999999996E-3},{"$f":"OFFSET(Male!BO$18,'Male - Rev'!$A25-35,0)","v":6.6E-3},{"$f":"OFFSET(Male!BP$18,'Male - Rev'!$A25-35,0)","v":6.3E-3},{"$f":"OFFSET(Male!BQ$18,'Male - Rev'!$A25-35,0)","v":6.1000000000000004E-3},{"$f":"OFFSET(Male!BR$18,'Male - Rev'!$A25-35,0)","v":5.7999999999999996E-3},{"$f":"OFFSET(Male!BS$18,'Male - Rev'!$A25-35,0)","v":5.4999999999999997E-3},{"$f":"OFFSET(Male!BT$18,'Male - Rev'!$A25-35,0)","v":5.1999999999999998E-3},{"$f":"OFFSET(Male!BU$18,'Male - Rev'!$A25-35,0)","v":5.1000000000000004E-3},{"$f":"OFFSET(Male!BV$18,'Male - Rev'!$A25-35,0)","v":5.1999999999999998E-3},{"$f":"OFFSET(Male!BW$18,'Male - Rev'!$A25-35,0)","v":5.4000000000000003E-3},{"$f":"OFFSET(Male!BX$18,'Male - Rev'!$A25-35,0)","v":5.8999999999999999E-3},{"$f":"OFFSET(Male!BY$18,'Male - Rev'!$A25-35,0)","v":6.4000000000000003E-3},{"$f":"OFFSET(Male!BZ$18,'Male - Rev'!$A25-35,0)","v":7.1999999999999998E-3},{"$f":"OFFSET(Male!CA$18,'Male - Rev'!$A25-35,0)","v":8.0000000000000002E-3},{"$f":"OFFSET(Male!CB$18,'Male - Rev'!$A25-35,0)","v":8.9999999999999993E-3},{"$f":"OFFSET(Male!CC$18,'Male - Rev'!$A25-35,0)","v":9.7000000000000003E-3},{"$f":"OFFSET(Male!CD$18,'Male - Rev'!$A25-35,0)","v":1.04E-2},{"$f":"OFFSET(Male!CE$18,'Male - Rev'!$A25-35,0)","v":1.0999999999999999E-2},{"$f":"OFFSET(Male!CF$18,'Male - Rev'!$A25-35,0)","v":1.14E-2},{"$f":"OFFSET(Male!CG$18,'Male - Rev'!$A25-35,0)","v":1.17E-2},{"$f":"OFFSET(Male!CH$18,'Male - Rev'!$A25-35,0)","v":1.1900000000000001E-2},{"$f":"OFFSET(Male!CI$18,'Male - Rev'!$A25-35,0)","v":1.2E-2},{"$f":"CJ25","v":1.2E-2},1.2E-2]
[72,72,{"$f":"OFFSET(Male!B$18,'Male - Rev'!$A26-35,0)","v":9.5999999999999992E-3},{"$f":"OFFSET(Male!C$18,'Male - Rev'!$A26-35,0)","v":7.7000000000000002E-3},{"$f":"OFFSET(Male!D$18,'Male - Rev'!$A26-35,0)","v":5.7999999999999996E-3},{"$f":"OFFSET(Male!E$18,'Male - Rev'!$A26-35,0)","v":4.0000000000000001E-3},{"$f":"OFFSET(Male!F$18,'Male - Rev'!$A26-35,0)","v":2.3E-3},{"$f":"OFFSET(Male!G$18,'Male - Rev'!$A26-35,0)","v":8.0000000000000004E-4},{"$f":"OFFSET(Male!H$18,'Male - Rev'!$A26-35,0)","v":-2.9999999999999997E-4},{"$f":"OFFSET(Male!I$18,'Male - Rev'!$A26-35,0)","v":-1.1999999999999999E-3},{"$f":"OFFSET(Male!J$18,'Male - Rev'!$A26-35,0)","v":-1.8E-3},{"$f":"OFFSET(Male!K$18,'Male - Rev'!$A26-35,0)","v":-2.3E-3},{"$f":"OFFSET(Male!L$18,'Male - Rev'!$A26-35,0)","v":-2.5000000000000001E-3},{"$f":"OFFSET(Male!M$18,'Male - Rev'!$A26-35,0)","v":-2.7000000000000001E-3},{"$f":"OFFSET(Male!N$18,'Male - Rev'!$A26-35,0)","v":-2.5999999999999999E-3},{"$f":"OFFSET(Male!O$18,'Male - Rev'!$A26-35,0)","v":-2.2000000000000001E-3},{"$f":"OFFSET(Male!P$18,'Male - Rev'!$A26-35,0)","v":-1.6000000000000001E-3},{"$f":"OFFSET(Male!Q$18,'Male - Rev'!$A26-35,0)","v":-5.0000000000000001E-4},{"$f":"OFFSET(Male!R$18,'Male - Rev'!$A26-35,0)","v":1E-3},{"$f":"OFFSET(Male!S$18,'Male - Rev'!$A26-35,0)","v":2.8E-3},{"$f":"OFFSET(Male!T$18,'Male - Rev'!$A26-35,0)","v":4.8999999999999998E-3},{"$f":"OFFSET(Male!U$18,'Male - Rev'!$A26-35,0)","v":7.1000000000000004E-3},{"$f":"OFFSET(Male!V$18,'Male - Rev'!$A26-35,0)","v":9.4000000000000004E-3},{"$f":"OFFSET(Male!W$18,'Male - Rev'!$A26-35,0)","v":1.15E-2},{"$f":"OFFSET(Male!X$18,'Male - Rev'!$A26-35,0)","v":1.32E-2},{"$f":"OFFSET(Male!Y$18,'Male - Rev'!$A26-35,0)","v":1.4500000000000001E-2},{"$f":"OFFSET(Male!Z$18,'Male - Rev'!$A26-35,0)","v":1.5100000000000001E-2},{"$f":"OFFSET(Male!AA$18,'Male - Rev'!$A26-35,0)","v":1.5100000000000001E-2},{"$f":"OFFSET(Male!AB$18,'Male - Rev'!$A26-35,0)","v":1.46E-2},{"$f":"OFFSET(Male!AC$18,'Male - Rev'!$A26-35,0)","v":1.37E-2},{"$f":"OFFSET(Male!AD$18,'Male - Rev'!$A26-35,0)","v":1.2699999999999999E-2},{"$f":"OFFSET(Male!AE$18,'Male - Rev'!$A26-35,0)","v":1.17E-2},{"$f":"OFFSET(Male!AF$18,'Male - Rev'!$A26-35,0)","v":1.11E-2},{"$f":"OFFSET(Male!AG$18,'Male - Rev'!$A26-35,0)","v":1.0800000000000001E-2},{"$f":"OFFSET(Male!AH$18,'Male - Rev'!$A26-35,0)","v":1.11E-2},{"$f":"OFFSET(Male!AI$18,'Male - Rev'!$A26-35,0)","v":1.18E-2},{"$f":"OFFSET(Male!AJ$18,'Male - Rev'!$A26-35,0)","v":1.29E-2},{"$f":"OFFSET(Male!AK$18,'Male - Rev'!$A26-35,0)","v":1.43E-2},{"$f":"OFFSET(Male!AL$18,'Male - Rev'!$A26-35,0)","v":1.5599999999999999E-2},{"$f":"OFFSET(Male!AM$18,'Male - Rev'!$A26-35,0)","v":1.66E-2},{"$f":"OFFSET(Male!AN$18,'Male - Rev'!$A26-35,0)","v":1.7100000000000001E-2},{"$f":"OFFSET(Male!AO$18,'Male - Rev'!$A26-35,0)","v":1.7000000000000001E-2},{"$f":"OFFSET(Male!AP$18,'Male - Rev'!$A26-35,0)","v":1.6400000000000001E-2},{"$f":"OFFSET(Male!AQ$18,'Male - Rev'!$A26-35,0)","v":1.55E-2},{"$f":"OFFSET(Male!AR$18,'Male - Rev'!$A26-35,0)","v":1.4500000000000001E-2},{"$f":"OFFSET(Male!AS$18,'Male - Rev'!$A26-35,0)","v":1.38E-2},{"$f":"OFFSET(Male!AT$18,'Male - Rev'!$A26-35,0)","v":1.35E-2},{"$f":"OFFSET(Male!AU$18,'Male - Rev'!$A26-35,0)","v":1.37E-2},{"$f":"OFFSET(Male!AV$18,'Male - Rev'!$A26-35,0)","v":1.46E-2},{"$f":"OFFSET(Male!AW$18,'Male - Rev'!$A26-35,0)","v":1.61E-2},{"$f":"OFFSET(Male!AX$18,'Male - Rev'!$A26-35,0)","v":1.8100000000000002E-2},{"$f":"OFFSET(Male!AY$18,'Male - Rev'!$A26-35,0)","v":2.0400000000000001E-2},{"$f":"OFFSET(Male!AZ$18,'Male - Rev'!$A26-35,0)","v":2.2700000000000001E-2},{"$f":"OFFSET(Male!BA$18,'Male - Rev'!$A26-35,0)","v":2.4799999999999999E-2},{"$f":"OFFSET(Male!BB$18,'Male - Rev'!$A26-35,0)","v":2.64E-2},{"$f":"OFFSET(Male!BC$18,'Male - Rev'!$A26-35,0)","v":2.7300000000000001E-2},{"$f":"OFFSET(Male!BD$18,'Male - Rev'!$A26-35,0)","v":2.7400000000000001E-2},{"$f":"OFFSET(Male!BE$18,'Male - Rev'!$A26-35,0)","v":2.6700000000000002E-2},{"$f":"OFFSET(Male!BF$18,'Male - Rev'!$A26-35,0)","v":2.5399999999999999E-2},{"$f":"OFFSET(Male!BG$18,'Male - Rev'!$A26-35,0)","v":2.35E-2},{"$f":"OFFSET(Male!BH$18,'Male - Rev'!$A26-35,0)","v":2.12E-2},{"$f":"OFFSET(Male!BI$18,'Male - Rev'!$A26-35,0)","v":1.8599999999999998E-2},{"$f":"OFFSET(Male!BJ$18,'Male - Rev'!$A26-35,0)","v":1.5900000000000001E-2},{"$f":"OFFSET(Male!BK$18,'Male - Rev'!$A26-35,0)","v":1.3299999999999999E-2},{"$f":"OFFSET(Male!BL$18,'Male - Rev'!$A26-35,0)","v":1.0999999999999999E-2},{"$f":"OFFSET(Male!BM$18,'Male - Rev'!$A26-35,0)","v":8.9999999999999993E-3},{"$f":"OFFSET(Male!BN$18,'Male - Rev'!$A26-35,0)","v":7.3000000000000001E-3},{"$f":"OFFSET(Male!BO$18,'Male - Rev'!$A26-35,0)","v":5.8999999999999999E-3},{"$f":"OFFSET(Male!BP$18,'Male - Rev'!$A26-35,0)","v":5.4999999999999997E-3},{"$f":"OFFSET(Male!BQ$18,'Male - Rev'!$A26-35,0)","v":5.1000000000000004E-3},{"$f":"OFFSET(Male!BR$18,'Male - Rev'!$A26-35,0)","v":4.7999999999999996E-3},{"$f":"OFFSET(Male!BS$18,'Male - Rev'!$A26-35,0)","v":4.4999999999999997E-3},{"$f":"OFFSET(Male!BT$18,'Male - Rev'!$A26-35,0)","v":4.3E-3},{"$f":"OFFSET(Male!BU$18,'Male - Rev'!$A26-35,0)","v":4.4000000000000003E-3},{"$f":"OFFSET(Male!BV$18,'Male - Rev'!$A26-35,0)","v":4.5999999999999999E-3},{"$f":"OFFSET(Male!BW$18,'Male - Rev'!$A26-35,0)","v":5.1000000000000004E-3},{"$f":"OFFSET(Male!BX$18,'Male - Rev'!$A26-35,0)","v":5.7999999999999996E-3},{"$f":"OFFSET(Male!BY$18,'Male - Rev'!$A26-35,0)","v":6.4999999999999997E-3},{"$f":"OFFSET(Male!BZ$18,'Male - Rev'!$A26-35,0)","v":7.4000000000000003E-3},{"$f":"OFFSET(Male!CA$18,'Male - Rev'!$A26-35,0)","v":8.3999999999999995E-3},{"$f":"OFFSET(Male!CB$18,'Male - Rev'!$A26-35,0)","v":9.2999999999999992E-3},{"$f":"OFFSET(Male!CC$18,'Male - Rev'!$A26-35,0)","v":0.01},{"$f":"OFFSET(Male!CD$18,'Male - Rev'!$A26-35,0)","v":1.0699999999999999E-2},{"$f":"OFFSET(Male!CE$18,'Male - Rev'!$A26-35,0)","v":1.12E-2},{"$f":"OFFSET(Male!CF$18,'Male - Rev'!$A26-35,0)","v":1.1599999999999999E-2},{"$f":"OFFSET(Male!CG$18,'Male - Rev'!$A26-35,0)","v":1.18E-2},{"$f":"OFFSET(Male!CH$18,'Male - Rev'!$A26-35,0)","v":1.2E-2},{"$f":"OFFSET(Male!CI$18,'Male - Rev'!$A26-35,0)","v":1.21E-2},{"$f":"CJ26","v":1.21E-2},1.21E-2]
[71,71,{"$f":"OFFSET(Male!B$18,'Male - Rev'!$A27-35,0)","v":8.9999999999999993E-3},{"$f":"OFFSET(Male!C$18,'Male - Rev'!$A27-35,0)","v":7.1000000000000004E-3},{"$f":"OFFSET(Male!D$18,'Male - Rev'!$A27-35,0)","v":5.1999999999999998E-3},{"$f":"OFFSET(Male!E$18,'Male - Rev'!$A27-35,0)","v":3.3999999999999998E-3},{"$f":"OFFSET(Male!F$18,'Male - Rev'!$A27-35,0)","v":1.6999999999999999E-3},{"$f":"OFFSET(Male!G$18,'Male - Rev'!$A27-35,0)","v":2.9999999999999997E-4},{"$f":"OFFSET(Male!H$18,'Male - Rev'!$A27-35,0)","v":-8.9999999999999998E-4},{"$f":"OFFSET(Male!I$18,'Male - Rev'!$A27-35,0)","v":-1.6999999999999999E-3},{"$f":"OFFSET(Male!J$18,'Male - Rev'!$A27-35,0)","v":-2.2000000000000001E-3},{"$f":"OFFSET(Male!K$18,'Male - Rev'!$A27-35,0)","v":-2.5999999999999999E-3},{"$f":"OFFSET(Male!L$18,'Male - Rev'!$A27-35,0)","v":-2.7000000000000001E-3},{"$f":"OFFSET(Male!M$18,'Male - Rev'!$A27-35,0)","v":-2.8E-3},{"$f":"OFFSET(Male!N$18,'Male - Rev'!$A27-35,0)","v":-2.5999999999999999E-3},{"$f":"OFFSET(Male!O$18,'Male - Rev'!$A27-35,0)","v":-2.0999999999999999E-3},{"$f":"OFFSET(Male!P$18,'Male - Rev'!$A27-35,0)","v":-1.2999999999999999E-3},{"$f":"OFFSET(Male!Q$18,'Male - Rev'!$A27-35,0)","v":-2.0000000000000001E-4},{"$f":"OFFSET(Male!R$18,'Male - Rev'!$A27-35,0)","v":1.2999999999999999E-3},{"$f":"OFFSET(Male!S$18,'Male - Rev'!$A27-35,0)","v":3.0999999999999999E-3},{"$f":"OFFSET(Male!T$18,'Male - Rev'!$A27-35,0)","v":5.1999999999999998E-3},{"$f":"OFFSET(Male!U$18,'Male - Rev'!$A27-35,0)","v":7.4000000000000003E-3},{"$f":"OFFSET(Male!V$18,'Male - Rev'!$A27-35,0)","v":9.5999999999999992E-3},{"$f":"OFFSET(Male!W$18,'Male - Rev'!$A27-35,0)","v":1.17E-2},{"$f":"OFFSET(Male!X$18,'Male - Rev'!$A27-35,0)","v":1.3599999999999999E-2},{"$f":"OFFSET(Male!Y$18,'Male - Rev'!$A27-35,0)","v":1.49E-2},{"$f":"OFFSET(Male!Z$18,'Male - Rev'!$A27-35,0)","v":1.5599999999999999E-2},{"$f":"OFFSET(Male!AA$18,'Male - Rev'!$A27-35,0)","v":1.5699999999999999E-2},{"$f":"OFFSET(Male!AB$18,'Male - Rev'!$A27-35,0)","v":1.52E-2},{"$f":"OFFSET(Male!AC$18,'Male - Rev'!$A27-35,0)","v":1.44E-2},{"$f":"OFFSET(Male!AD$18,'Male - Rev'!$A27-35,0)","v":1.35E-2},{"$f":"OFFSET(Male!AE$18,'Male - Rev'!$A27-35,0)","v":1.26E-2},{"$f":"OFFSET(Male!AF$18,'Male - Rev'!$A27-35,0)","v":1.2E-2},{"$f":"OFFSET(Male!AG$18,'Male - Rev'!$A27-35,0)","v":1.18E-2},{"$f":"OFFSET(Male!AH$18,'Male - Rev'!$A27-35,0)","v":1.1900000000000001E-2},{"$f":"OFFSET(Male!AI$18,'Male - Rev'!$A27-35,0)","v":1.2500000000000001E-2},{"$f":"OFFSET(Male!AJ$18,'Male - Rev'!$A27-35,0)","v":1.35E-2},{"$f":"OFFSET(Male!AK$18,'Male - Rev'!$A27-35,0)","v":1.47E-2},{"$f":"OFFSET(Male!AL$18,'Male - Rev'!$A27-35,0)","v":1.5900000000000001E-2},{"$f":"OFFSET(Male!AM$18,'Male - Rev'!$A27-35,0)","v":1.67E-2},{"$f":"OFFSET(Male!AN$18,'Male - Rev'!$A27-35,0)","v":1.7100000000000001E-2},{"$f":"OFFSET(Male!AO$18,'Male - Rev'!$A27-35,0)","v":1.7000000000000001E-2},{"$f":"OFFSET(Male!AP$18,'Male - Rev'!$A27-35,0)","v":1.6299999999999999E-2},{"$f":"OFFSET(Male!AQ$18,'Male - Rev'!$A27-35,0)","v":1.54E-2},{"$f":"OFFSET(Male!AR$18,'Male - Rev'!$A27-35,0)","v":1.4500000000000001E-2},{"$f":"OFFSET(Male!AS$18,'Male - Rev'!$A27-35,0)","v":1.3899999999999999E-2},{"$f":"OFFSET(Male!AT$18,'Male - Rev'!$A27-35,0)","v":1.38E-2},{"$f":"OFFSET(Male!AU$18,'Male - Rev'!$A27-35,0)","v":1.4200000000000001E-2},{"$f":"OFFSET(Male!AV$18,'Male - Rev'!$A27-35,0)","v":1.52E-2},{"$f":"OFFSET(Male!AW$18,'Male - Rev'!$A27-35,0)","v":1.6899999999999998E-2},{"$f":"OFFSET(Male!AX$18,'Male - Rev'!$A27-35,0)","v":1.89E-2},{"$f":"OFFSET(Male!AY$18,'Male - Rev'!$A27-35,0)","v":2.12E-2},{"$f":"OFFSET(Male!AZ$18,'Male - Rev'!$A27-35,0)","v":2.35E-2},{"$f":"OFFSET(Male!BA$18,'Male - Rev'!$A27-35,0)","v":2.5499999999999998E-2},{"$f":"OFFSET(Male!BB$18,'Male - Rev'!$A27-35,0)","v":2.69E-2},{"$f":"OFFSET(Male!BC$18,'Male - Rev'!$A27-35,0)","v":2.76E-2},{"$f":"OFFSET(Male!BD$18,'Male - Rev'!$A27-35,0)","v":2.75E-2},{"$f":"OFFSET(Male!BE$18,'Male - Rev'!$A27-35,0)","v":2.6700000000000002E-2},{"$f":"OFFSET(Male!BF$18,'Male - Rev'!$A27-35,0)","v":2.53E-2},{"$f":"OFFSET(Male!BG$18,'Male - Rev'!$A27-35,0)","v":2.3400000000000001E-2},{"$f":"OFFSET(Male!BH$18,'Male - Rev'!$A27-35,0)","v":2.1000000000000001E-2},{"$f":"OFFSET(Male!BI$18,'Male - Rev'!$A27-35,0)","v":1.84E-2},{"$f":"OFFSET(Male!BJ$18,'Male - Rev'!$A27-35,0)","v":1.5699999999999999E-2},{"$f":"OFFSET(Male!BK$18,'Male - Rev'!$A27-35,0)","v":1.2999999999999999E-2},{"$f":"OFFSET(Male!BL$18,'Male - Rev'!$A27-35,0)","v":1.06E-2},{"$f":"OFFSET(Male!BM$18,'Male - Rev'!$A27-35,0)","v":8.3999999999999995E-3},{"$f":"OFFSET(Male!BN$18,'Male - Rev'!$A27-35,0)","v":6.6E-3},{"$f":"OFFSET(Male!BO$18,'Male - Rev'!$A27-35,0)","v":5.0000000000000001E-3},{"$f":"OFFSET(Male!BP$18,'Male - Rev'!$A27-35,0)","v":4.4000000000000003E-3},{"$f":"OFFSET(Male!BQ$18,'Male - Rev'!$A27-35,0)","v":3.8999999999999998E-3},{"$f":"OFFSET(Male!BR$18,'Male - Rev'!$A27-35,0)","v":3.5000000000000001E-3},{"$f":"OFFSET(Male!BS$18,'Male - Rev'!$A27-35,0)","v":3.3E-3},{"$f":"OFFSET(Male!BT$18,'Male - Rev'!$A27-35,0)","v":3.3E-3},{"$f":"OFFSET(Male!BU$18,'Male - Rev'!$A27-35,0)","v":3.5999999999999999E-3},{"$f":"OFFSET(Male!BV$18,'Male - Rev'!$A27-35,0)","v":4.1000000000000003E-3},{"$f":"OFFSET(Male!BW$18,'Male - Rev'!$A27-35,0)","v":4.8999999999999998E-3},{"$f":"OFFSET(Male!BX$18,'Male - Rev'!$A27-35,0)","v":5.7999999999999996E-3},{"$f":"OFFSET(Male!BY$18,'Male - Rev'!$A27-35,0)","v":6.7999999999999996E-3},{"$f":"OFFSET(Male!BZ$18,'Male - Rev'!$A27-35,0)","v":7.7999999999999996E-3},{"$f":"OFFSET(Male!CA$18,'Male - Rev'!$A27-35,0)","v":8.6999999999999994E-3},{"$f":"OFFSET(Male!CB$18,'Male - Rev'!$A27-35,0)","v":9.5999999999999992E-3},{"$f":"OFFSET(Male!CC$18,'Male - Rev'!$A27-35,0)","v":1.04E-2},{"$f":"OFFSET(Male!CD$18,'Male - Rev'!$A27-35,0)","v":1.0999999999999999E-2},{"$f":"OFFSET(Male!CE$18,'Male - Rev'!$A27-35,0)","v":1.14E-2},{"$f":"OFFSET(Male!CF$18,'Male - Rev'!$A27-35,0)","v":1.18E-2},{"$f":"OFFSET(Male!CG$18,'Male - Rev'!$A27-35,0)","v":1.2E-2},{"$f":"OFFSET(Male!CH$18,'Male - Rev'!$A27-35,0)","v":1.2200000000000001E-2},{"$f":"OFFSET(Male!CI$18,'Male - Rev'!$A27-35,0)","v":1.23E-2},{"$f":"CJ27","v":1.23E-2},1.23E-2]
[70,70,{"$f":"OFFSET(Male!B$18,'Male - Rev'!$A28-35,0)","v":8.3999999999999995E-3},{"$f":"OFFSET(Male!C$18,'Male - Rev'!$A28-35,0)","v":6.6E-3},{"$f":"OFFSET(Male!D$18,'Male - Rev'!$A28-35,0)","v":4.7000000000000002E-3},{"$f":"OFFSET(Male!E$18,'Male - Rev'!$A28-35,0)","v":2.8999999999999998E-3},{"$f":"OFFSET(Male!F$18,'Male - Rev'!$A28-35,0)","v":1.1999999999999999E-3},{"$f":"OFFSET(Male!G$18,'Male - Rev'!$A28-35,0)","v":-2.9999999999999997E-4},{"$f":"OFFSET(Male!H$18,'Male - Rev'!$A28-35,0)","v":-1.4E-3},{"$f":"OFFSET(Male!I$18,'Male - Rev'!$A28-35,0)","v":-2.2000000000000001E-3},{"$f":"OFFSET(Male!J$18,'Male - Rev'!$A28-35,0)","v":-2.7000000000000001E-3},{"$f":"OFFSET(Male!K$18,'Male - Rev'!$A28-35,0)","v":-2.8999999999999998E-3},{"$f":"OFFSET(Male!L$18,'Male - Rev'!$A28-35,0)","v":-3.0000000000000001E-3},{"$f":"OFFSET(Male!M$18,'Male - Rev'!$A28-35,0)","v":-2.8999999999999998E-3},{"$f":"OFFSET(Male!N$18,'Male - Rev'!$A28-35,0)","v":-2.5000000000000001E-3},{"$f":"OFFSET(Male!O$18,'Male - Rev'!$A28-35,0)","v":-1.9E-3},{"$f":"OFFSET(Male!P$18,'Male - Rev'!$A28-35,0)","v":-1E-3},{"$f":"OFFSET(Male!Q$18,'Male - Rev'!$A28-35,0)","v":2.0000000000000001E-4},{"$f":"OFFSET(Male!R$18,'Male - Rev'!$A28-35,0)","v":1.6999999999999999E-3},{"$f":"OFFSET(Male!S$18,'Male - Rev'!$A28-35,0)","v":3.5000000000000001E-3},{"$f":"OFFSET(Male!T$18,'Male - Rev'!$A28-35,0)","v":5.5999999999999999E-3},{"$f":"OFFSET(Male!U$18,'Male - Rev'!$A28-35,0)","v":7.7999999999999996E-3},{"$f":"OFFSET(Male!V$18,'Male - Rev'!$A28-35,0)","v":0.01},{"$f":"OFFSET(Male!W$18,'Male - Rev'!$A28-35,0)","v":1.21E-2},{"$f":"OFFSET(Male!X$18,'Male - Rev'!$A28-35,0)","v":1.4E-2},{"$f":"OFFSET(Male!Y$18,'Male - Rev'!$A28-35,0)","v":1.54E-2},{"$f":"OFFSET(Male!Z$18,'Male - Rev'!$A28-35,0)","v":1.6199999999999999E-2},{"$f":"OFFSET(Male!AA$18,'Male - Rev'!$A28-35,0)","v":1.6299999999999999E-2},{"$f":"OFFSET(Male!AB$18,'Male - Rev'!$A28-35,0)","v":1.6E-2},{"$f":"OFFSET(Male!AC$18,'Male - Rev'!$A28-35,0)","v":1.52E-2},{"$f":"OFFSET(Male!AD$18,'Male - Rev'!$A28-35,0)","v":1.44E-2},{"$f":"OFFSET(Male!AE$18,'Male - Rev'!$A28-35,0)","v":1.3599999999999999E-2},{"$f":"OFFSET(Male!AF$18,'Male - Rev'!$A28-35,0)","v":1.2999999999999999E-2},{"$f":"OFFSET(Male!AG$18,'Male - Rev'!$A28-35,0)","v":1.2699999999999999E-2},{"$f":"OFFSET(Male!AH$18,'Male - Rev'!$A28-35,0)","v":1.2699999999999999E-2},{"$f":"OFFSET(Male!AI$18,'Male - Rev'!$A28-35,0)","v":1.32E-2},{"$f":"OFFSET(Male!AJ$18,'Male - Rev'!$A28-35,0)","v":1.4E-2},{"$f":"OFFSET(Male!AK$18,'Male - Rev'!$A28-35,0)","v":1.4999999999999999E-2},{"$f":"OFFSET(Male!AL$18,'Male - Rev'!$A28-35,0)","v":1.6E-2},{"$f":"OFFSET(Male!AM$18,'Male - Rev'!$A28-35,0)","v":1.67E-2},{"$f":"OFFSET(Male!AN$18,'Male - Rev'!$A28-35,0)","v":1.7000000000000001E-2},{"$f":"OFFSET(Male!AO$18,'Male - Rev'!$A28-35,0)","v":1.6799999999999999E-2},{"$f":"OFFSET(Male!AP$18,'Male - Rev'!$A28-35,0)","v":1.6199999999999999E-2},{"$f":"OFFSET(Male!AQ$18,'Male - Rev'!$A28-35,0)","v":1.5299999999999999E-2},{"$f":"OFFSET(Male!AR$18,'Male - Rev'!$A28-35,0)","v":1.4500000000000001E-2},{"$f":"OFFSET(Male!AS$18,'Male - Rev'!$A28-35,0)","v":1.41E-2},{"$f":"OFFSET(Male!AT$18,'Male - Rev'!$A28-35,0)","v":1.4200000000000001E-2},{"$f":"OFFSET(Male!AU$18,'Male - Rev'!$A28-35,0)","v":1.4800000000000001E-2},{"$f":"OFFSET(Male!AV$18,'Male - Rev'!$A28-35,0)","v":1.6E-2},{"$f":"OFFSET(Male!AW$18,'Male - Rev'!$A28-35,0)","v":1.77E-2},{"$f":"OFFSET(Male!AX$18,'Male - Rev'!$A28-35,0)","v":1.9800000000000002E-2},{"$f":"OFFSET(Male!AY$18,'Male - Rev'!$A28-35,0)","v":2.2100000000000002E-2},{"$f":"OFFSET(Male!AZ$18,'Male - Rev'!$A28-35,0)","v":2.4199999999999999E-2},{"$f":"OFFSET(Male!BA$18,'Male - Rev'!$A28-35,0)","v":2.5999999999999999E-2},{"$f":"OFFSET(Male!BB$18,'Male - Rev'!$A28-35,0)","v":2.7199999999999998E-2},{"$f":"OFFSET(Male!BC$18,'Male - Rev'!$A28-35,0)","v":2.7699999999999999E-2},{"$f":"OFFSET(Male!BD$18,'Male - Rev'!$A28-35,0)","v":2.75E-2},{"$f":"OFFSET(Male!BE$18,'Male - Rev'!$A28-35,0)","v":2.6599999999999999E-2},{"$f":"OFFSET(Male!BF$18,'Male - Rev'!$A28-35,0)","v":2.5100000000000001E-2},{"$f":"OFFSET(Male!BG$18,'Male - Rev'!$A28-35,0)","v":2.3099999999999999E-2},{"$f":"OFFSET(Male!BH$18,'Male - Rev'!$A28-35,0)","v":2.07E-2},{"$f":"OFFSET(Male!BI$18,'Male - Rev'!$A28-35,0)","v":1.8100000000000002E-2},{"$f":"OFFSET(Male!BJ$18,'Male - Rev'!$A28-35,0)","v":1.5299999999999999E-2},{"$f":"OFFSET(Male!BK$18,'Male - Rev'!$A28-35,0)","v":1.2500000000000001E-2},{"$f":"OFFSET(Male!BL$18,'Male - Rev'!$A28-35,0)","v":9.9000000000000008E-3},{"$f":"OFFSET(Male!BM$18,'Male - Rev'!$A28-35,0)","v":7.6E-3},{"$f":"OFFSET(Male!BN$18,'Male - Rev'!$A28-35,0)","v":5.4999999999999997E-3},{"$f":"OFFSET(Male!BO$18,'Male - Rev'!$A28-35,0)","v":3.5999999999999999E-3},{"$f":"OFFSET(Male!BP$18,'Male - Rev'!$A28-35,0)","v":2.8999999999999998E-3},{"$f":"OFFSET(Male!BQ$18,'Male - Rev'!$A28-35,0)","v":2.3999999999999998E-3},{"$f":"OFFSET(Male!BR$18,'Male - Rev'!$A28-35,0)","v":2.0999999999999999E-3},{"$f":"OFFSET(Male!BS$18,'Male - Rev'!$A28-35,0)","v":2.0999999999999999E-3},{"$f":"OFFSET(Male!BT$18,'Male - Rev'!$A28-35,0)","v":2.3E-3},{"$f":"OFFSET(Male!BU$18,'Male - Rev'!$A28-35,0)","v":2.8999999999999998E-3},{"$f":"OFFSET(Male!BV$18,'Male - Rev'!$A28-35,0)","v":3.8E-3},{"$f":"OFFSET(Male!BW$18,'Male - Rev'!$A28-35,0)","v":4.8999999999999998E-3},{"$f":"OFFSET(Male!BX$18,'Male - Rev'!$A28-35,0)","v":6.1000000000000004E-3},{"$f":"OFFSET(Male!BY$18,'Male - Rev'!$A28-35,0)","v":7.1999999999999998E-3},{"$f":"OFFSET(Male!BZ$18,'Male - Rev'!$A28-35,0)","v":8.2000000000000007E-3},{"$f":"OFFSET(Male!CA$18,'Male - Rev'!$A28-35,0)","v":9.1000000000000004E-3},{"$f":"OFFSET(Male!CB$18,'Male - Rev'!$A28-35,0)","v":0.01},{"$f":"OFFSET(Male!CC$18,'Male - Rev'!$A28-35,0)","v":1.0699999999999999E-2},{"$f":"OFFSET(Male!CD$18,'Male - Rev'!$A28-35,0)","v":1.12E-2},{"$f":"OFFSET(Male!CE$18,'Male - Rev'!$A28-35,0)","v":1.17E-2},{"$f":"OFFSET(Male!CF$18,'Male - Rev'!$A28-35,0)","v":1.1900000000000001E-2},{"$f":"OFFSET(Male!CG$18,'Male - Rev'!$A28-35,0)","v":1.21E-2},{"$f":"OFFSET(Male!CH$18,'Male - Rev'!$A28-35,0)","v":1.23E-2},{"$f":"OFFSET(Male!CI$18,'Male - Rev'!$A28-35,0)","v":1.24E-2},{"$f":"CJ28","v":1.24E-2},1.24E-2]
[69,69,{"$f":"OFFSET(Male!B$18,'Male - Rev'!$A29-35,0)","v":7.9000000000000008E-3},{"$f":"OFFSET(Male!C$18,'Male - Rev'!$A29-35,0)","v":6.1000000000000004E-3},{"$f":"OFFSET(Male!D$18,'Male - Rev'!$A29-35,0)","v":4.1999999999999997E-3},{"$f":"OFFSET(Male!E$18,'Male - Rev'!$A29-35,0)","v":2.3999999999999998E-3},{"$f":"OFFSET(Male!F$18,'Male - Rev'!$A29-35,0)","v":6.9999999999999999E-4},{"$f":"OFFSET(Male!G$18,'Male - Rev'!$A29-35,0)","v":-6.9999999999999999E-4},{"$f":"OFFSET(Male!H$18,'Male - Rev'!$A29-35,0)","v":-1.8E-3},{"$f":"OFFSET(Male!I$18,'Male - Rev'!$A29-35,0)","v":-2.5999999999999999E-3},{"$f":"OFFSET(Male!J$18,'Male - Rev'!$A29-35,0)","v":-3.0999999999999999E-3},{"$f":"OFFSET(Male!K$18,'Male - Rev'!$A29-35,0)","v":-3.3E-3},{"$f":"OFFSET(Male!L$18,'Male - Rev'!$A29-35,0)","v":-3.3E-3},{"$f":"OFFSET(Male!M$18,'Male - Rev'!$A29-35,0)","v":-3.0999999999999999E-3},{"$f":"OFFSET(Male!N$18,'Male - Rev'!$A29-35,0)","v":-2.5999999999999999E-3},{"$f":"OFFSET(Male!O$18,'Male - Rev'!$A29-35,0)","v":-1.8E-3},{"$f":"OFFSET(Male!P$18,'Male - Rev'!$A29-35,0)","v":-8.0000000000000004E-4},{"$f":"OFFSET(Male!Q$18,'Male - Rev'!$A29-35,0)","v":5.0000000000000001E-4},{"$f":"OFFSET(Male!R$18,'Male - Rev'!$A29-35,0)","v":2.0999999999999999E-3},{"$f":"OFFSET(Male!S$18,'Male - Rev'!$A29-35,0)","v":4.0000000000000001E-3},{"$f":"OFFSET(Male!T$18,'Male - Rev'!$A29-35,0)","v":6.1000000000000004E-3},{"$f":"OFFSET(Male!U$18,'Male - Rev'!$A29-35,0)","v":8.3000000000000001E-3},{"$f":"OFFSET(Male!V$18,'Male - Rev'!$A29-35,0)","v":1.0500000000000001E-2},{"$f":"OFFSET(Male!W$18,'Male - Rev'!$A29-35,0)","v":1.26E-2},{"$f":"OFFSET(Male!X$18,'Male - Rev'!$A29-35,0)","v":1.4500000000000001E-2},{"$f":"OFFSET(Male!Y$18,'Male - Rev'!$A29-35,0)","v":1.6E-2},{"$f":"OFFSET(Male!Z$18,'Male - Rev'!$A29-35,0)","v":1.6799999999999999E-2},{"$f":"OFFSET(Male!AA$18,'Male - Rev'!$A29-35,0)","v":1.7100000000000001E-2},{"$f":"OFFSET(Male!AB$18,'Male - Rev'!$A29-35,0)","v":1.6799999999999999E-2},{"$f":"OFFSET(Male!AC$18,'Male - Rev'!$A29-35,0)","v":1.6199999999999999E-2},{"$f":"OFFSET(Male!AD$18,'Male - Rev'!$A29-35,0)","v":1.54E-2},{"$f":"OFFSET(Male!AE$18,'Male - Rev'!$A29-35,0)","v":1.46E-2},{"$f":"OFFSET(Male!AF$18,'Male - Rev'!$A29-35,0)","v":1.3899999999999999E-2},{"$f":"OFFSET(Male!AG$18,'Male - Rev'!$A29-35,0)","v":1.35E-2},{"$f":"OFFSET(Male!AH$18,'Male - Rev'!$A29-35,0)","v":1.34E-2},{"$f":"OFFSET(Male!AI$18,'Male - Rev'!$A29-35,0)","v":1.37E-2},{"$f":"OFFSET(Male!AJ$18,'Male - Rev'!$A29-35,0)","v":1.43E-2},{"$f":"OFFSET(Male!AK$18,'Male - Rev'!$A29-35,0)","v":1.5100000000000001E-2},{"$f":"OFFSET(Male!AL$18,'Male - Rev'!$A29-35,0)","v":1.5900000000000001E-2},{"$f":"OFFSET(Male!AM$18,'Male - Rev'!$A29-35,0)","v":1.6500000000000001E-2},{"$f":"OFFSET(Male!AN$18,'Male - Rev'!$A29-35,0)","v":1.6799999999999999E-2},{"$f":"OFFSET(Male!AO$18,'Male - Rev'!$A29-35,0)","v":1.66E-2},{"$f":"OFFSET(Male!AP$18,'Male - Rev'!$A29-35,0)","v":1.6E-2},{"$f":"OFFSET(Male!AQ$18,'Male - Rev'!$A29-35,0)","v":1.52E-2},{"$f":"OFFSET(Male!AR$18,'Male - Rev'!$A29-35,0)","v":1.46E-2},{"$f":"OFFSET(Male!AS$18,'Male - Rev'!$A29-35,0)","v":1.44E-2},{"$f":"OFFSET(Male!AT$18,'Male - Rev'!$A29-35,0)","v":1.47E-2},{"$f":"OFFSET(Male!AU$18,'Male - Rev'!$A29-35,0)","v":1.55E-2},{"$f":"OFFSET(Male!AV$18,'Male - Rev'!$A29-35,0)","v":1.6799999999999999E-2},{"$f":"OFFSET(Male!AW$18,'Male - Rev'!$A29-35,0)","v":1.8599999999999998E-2},{"$f":"OFFSET(Male!AX$18,'Male - Rev'!$A29-35,0)","v":2.07E-2},{"$f":"OFFSET(Male!AY$18,'Male - Rev'!$A29-35,0)","v":2.2800000000000001E-2},{"$f":"OFFSET(Male!AZ$18,'Male - Rev'!$A29-35,0)","v":2.4799999999999999E-2},{"$f":"OFFSET(Male!BA$18,'Male - Rev'!$A29-35,0)","v":2.63E-2},{"$f":"OFFSET(Male!BB$18,'Male - Rev'!$A29-35,0)","v":2.7400000000000001E-2},{"$f":"OFFSET(Male!BC$18,'Male - Rev'!$A29-35,0)","v":2.7699999999999999E-2},{"$f":"OFFSET(Male!BD$18,'Male - Rev'!$A29-35,0)","v":2.7400000000000001E-2},{"$f":"OFFSET(Male!BE$18,'Male - Rev'!$A29-35,0)","v":2.63E-2},{"$f":"OFFSET(Male!BF$18,'Male - Rev'!$A29-35,0)","v":2.4799999999999999E-2},{"$f":"OFFSET(Male!BG$18,'Male - Rev'!$A29-35,0)","v":2.2700000000000001E-2},{"$f":"OFFSET(Male!BH$18,'Male - Rev'!$A29-35,0)","v":2.0199999999999999E-2},{"$f":"OFFSET(Male!BI$18,'Male - Rev'!$A29-35,0)","v":1.7500000000000002E-2},{"$f":"OFFSET(Male!BJ$18,'Male - Rev'!$A29-35,0)","v":1.46E-2},{"$f":"OFFSET(Male!BK$18,'Male - Rev'!$A29-35,0)","v":1.1599999999999999E-2},{"$f":"OFFSET(Male!BL$18,'Male - Rev'!$A29-35,0)","v":8.8999999999999999E-3},{"$f":"OFFSET(Male!BM$18,'Male - Rev'!$A29-35,0)","v":6.3E-3},{"$f":"OFFSET(Male!BN$18,'Male - Rev'!$A29-35,0)","v":4.0000000000000001E-3},{"$f":"OFFSET(Male!BO$18,'Male - Rev'!$A29-35,0)","v":2E-3},{"$f":"OFFSET(Male!BP$18,'Male - Rev'!$A29-35,0)","v":1.1999999999999999E-3},{"$f":"OFFSET(Male!BQ$18,'Male - Rev'!$A29-35,0)","v":6.9999999999999999E-4},{"$f":"OFFSET(Male!BR$18,'Male - Rev'!$A29-35,0)","v":5.9999999999999995E-4},{"$f":"OFFSET(Male!BS$18,'Male - Rev'!$A29-35,0)","v":8.0000000000000004E-4},{"$f":"OFFSET(Male!BT$18,'Male - Rev'!$A29-35,0)","v":1.4E-3},{"$f":"OFFSET(Male!BU$18,'Male - Rev'!$A29-35,0)","v":2.3999999999999998E-3},{"$f":"OFFSET(Male!BV$18,'Male - Rev'!$A29-35,0)","v":3.5999999999999999E-3},{"$f":"OFFSET(Male!BW$18,'Male - Rev'!$A29-35,0)","v":5.0000000000000001E-3},{"$f":"OFFSET(Male!BX$18,'Male - Rev'!$A29-35,0)","v":6.4000000000000003E-3},{"$f":"OFFSET(Male!BY$18,'Male - Rev'!$A29-35,0)","v":7.6E-3},{"$f":"OFFSET(Male!BZ$18,'Male - Rev'!$A29-35,0)","v":8.6999999999999994E-3},{"$f":"OFFSET(Male!CA$18,'Male - Rev'!$A29-35,0)","v":9.5999999999999992E-3},{"$f":"OFFSET(Male!CB$18,'Male - Rev'!$A29-35,0)","v":1.04E-2},{"$f":"OFFSET(Male!CC$18,'Male - Rev'!$A29-35,0)","v":1.0999999999999999E-2},{"$f":"OFFSET(Male!CD$18,'Male - Rev'!$A29-35,0)","v":1.15E-2},{"$f":"OFFSET(Male!CE$18,'Male - Rev'!$A29-35,0)","v":1.18E-2},{"$f":"OFFSET(Male!CF$18,'Male - Rev'!$A29-35,0)","v":1.21E-2},{"$f":"OFFSET(Male!CG$18,'Male - Rev'!$A29-35,0)","v":1.23E-2},{"$f":"OFFSET(Male!CH$18,'Male - Rev'!$A29-35,0)","v":1.24E-2},{"$f":"OFFSET(Male!CI$18,'Male - Rev'!$A29-35,0)","v":1.2500000000000001E-2},{"$f":"CJ29","v":1.2500000000000001E-2},1.2500000000000001E-2]
[68,68,{"$f":"OFFSET(Male!B$18,'Male - Rev'!$A30-35,0)","v":7.6E-3},{"$f":"OFFSET(Male!C$18,'Male - Rev'!$A30-35,0)","v":5.7999999999999996E-3},{"$f":"OFFSET(Male!D$18,'Male - Rev'!$A30-35,0)","v":4.0000000000000001E-3},{"$f":"OFFSET(Male!E$18,'Male - Rev'!$A30-35,0)","v":2.2000000000000001E-3},{"$f":"OFFSET(Male!F$18,'Male - Rev'!$A30-35,0)","v":5.0000000000000001E-4},{"$f":"OFFSET(Male!G$18,'Male - Rev'!$A30-35,0)","v":-1E-3},{"$f":"OFFSET(Male!H$18,'Male - Rev'!$A30-35,0)","v":-2.2000000000000001E-3},{"$f":"OFFSET(Male!I$18,'Male - Rev'!$A30-35,0)","v":-2.8999999999999998E-3},{"$f":"OFFSET(Male!J$18,'Male - Rev'!$A30-35,0)","v":-3.3999999999999998E-3},{"$f":"OFFSET(Male!K$18,'Male - Rev'!$A30-35,0)","v":-3.5999999999999999E-3},{"$f":"OFFSET(Male!L$18,'Male - Rev'!$A30-35,0)","v":-3.5999999999999999E-3},{"$f":"OFFSET(Male!M$18,'Male - Rev'!$A30-35,0)","v":-3.3E-3},{"$f":"OFFSET(Male!N$18,'Male - Rev'!$A30-35,0)","v":-2.7000000000000001E-3},{"$f":"OFFSET(Male!O$18,'Male - Rev'!$A30-35,0)","v":-1.8E-3},{"$f":"OFFSET(Male!P$18,'Male - Rev'!$A30-35,0)","v":-5.9999999999999995E-4},{"$f":"OFFSET(Male!Q$18,'Male - Rev'!$A30-35,0)","v":8.9999999999999998E-4},{"$f":"OFFSET(Male!R$18,'Male - Rev'!$A30-35,0)","v":2.5999999999999999E-3},{"$f":"OFFSET(Male!S$18,'Male - Rev'!$A30-35,0)","v":4.4999999999999997E-3},{"$f":"OFFSET(Male!T$18,'Male - Rev'!$A30-35,0)","v":6.6E-3},{"$f":"OFFSET(Male!U$18,'Male - Rev'!$A30-35,0)","v":8.8000000000000005E-3},{"$f":"OFFSET(Male!V$18,'Male - Rev'!$A30-35,0)","v":1.11E-2},{"$f":"OFFSET(Male!W$18,'Male - Rev'!$A30-35,0)","v":1.32E-2},{"$f":"OFFSET(Male!X$18,'Male - Rev'!$A30-35,0)","v":1.5100000000000001E-2},{"$f":"OFFSET(Male!Y$18,'Male - Rev'!$A30-35,0)","v":1.67E-2},{"$f":"OFFSET(Male!Z$18,'Male - Rev'!$A30-35,0)","v":1.7600000000000001E-2},{"$f":"OFFSET(Male!AA$18,'Male - Rev'!$A30-35,0)","v":1.7999999999999999E-2},{"$f":"OFFSET(Male!AB$18,'Male - Rev'!$A30-35,0)","v":1.78E-2},{"$f":"OFFSET(Male!AC$18,'Male - Rev'!$A30-35,0)","v":1.72E-2},{"$f":"OFFSET(Male!AD$18,'Male - Rev'!$A30-35,0)","v":1.6500000000000001E-2},{"$f":"OFFSET(Male!AE$18,'Male - Rev'!$A30-35,0)","v":1.5599999999999999E-2},{"$f":"OFFSET(Male!AF$18,'Male - Rev'!$A30-35,0)","v":1.49E-2},{"$f":"OFFSET(Male!AG$18,'Male - Rev'!$A30-35,0)","v":1.43E-2},{"$f":"OFFSET(Male!AH$18,'Male - Rev'!$A30-35,0)","v":1.4E-2},{"$f":"OFFSET(Male!AI$18,'Male - Rev'!$A30-35,0)","v":1.4E-2},{"$f":"OFFSET(Male!AJ$18,'Male - Rev'!$A30-35,0)","v":1.44E-2},{"$f":"OFFSET(Male!AK$18,'Male - Rev'!$A30-35,0)","v":1.5100000000000001E-2},{"$f":"OFFSET(Male!AL$18,'Male - Rev'!$A30-35,0)","v":1.5699999999999999E-2},{"$f":"OFFSET(Male!AM$18,'Male - Rev'!$A30-35,0)","v":1.6299999999999999E-2},{"$f":"OFFSET(Male!AN$18,'Male - Rev'!$A30-35,0)","v":1.6500000000000001E-2},{"$f":"OFFSET(Male!AO$18,'Male - Rev'!$A30-35,0)","v":1.6400000000000001E-2},{"$f":"OFFSET(Male!AP$18,'Male - Rev'!$A30-35,0)","v":1.5900000000000001E-2},{"$f":"OFFSET(Male!AQ$18,'Male - Rev'!$A30-35,0)","v":1.5299999999999999E-2},{"$f":"OFFSET(Male!AR$18,'Male - Rev'!$A30-35,0)","v":1.4800000000000001E-2},{"$f":"OFFSET(Male!AS$18,'Male - Rev'!$A30-35,0)","v":1.4800000000000001E-2},{"$f":"OFFSET(Male!AT$18,'Male - Rev'!$A30-35,0)","v":1.5299999999999999E-2},{"$f":"OFFSET(Male!AU$18,'Male - Rev'!$A30-35,0)","v":1.6299999999999999E-2},{"$f":"OFFSET(Male!AV$18,'Male - Rev'!$A30-35,0)","v":1.78E-2},{"$f":"OFFSET(Male!AW$18,'Male - Rev'!$A30-35,0)","v":1.9599999999999999E-2},{"$f":"OFFSET(Male!AX$18,'Male - Rev'!$A30-35,0)","v":2.1600000000000001E-2},{"$f":"OFFSET(Male!AY$18,'Male - Rev'!$A30-35,0)","v":2.35E-2},{"$f":"OFFSET(Male!AZ$18,'Male - Rev'!$A30-35,0)","v":2.52E-2},{"$f":"OFFSET(Male!BA$18,'Male - Rev'!$A30-35,0)","v":2.6499999999999999E-2},{"$f":"OFFSET(Male!BB$18,'Male - Rev'!$A30-35,0)","v":2.7300000000000001E-2},{"$f":"OFFSET(Male!BC$18,'Male - Rev'!$A30-35,0)","v":2.75E-2},{"$f":"OFFSET(Male!BD$18,'Male - Rev'!$A30-35,0)","v":2.7E-2},{"$f":"OFFSET(Male!BE$18,'Male - Rev'!$A30-35,0)","v":2.5899999999999999E-2},{"$f":"OFFSET(Male!BF$18,'Male - Rev'!$A30-35,0)","v":2.4299999999999999E-2},{"$f":"OFFSET(Male!BG$18,'Male - Rev'!$A30-35,0)","v":2.2100000000000002E-2},{"$f":"OFFSET(Male!BH$18,'Male - Rev'!$A30-35,0)","v":1.9599999999999999E-2},{"$f":"OFFSET(Male!BI$18,'Male - Rev'!$A30-35,0)","v":1.67E-2},{"$f":"OFFSET(Male!BJ$18,'Male - Rev'!$A30-35,0)","v":1.35E-2},{"$f":"OFFSET(Male!BK$18,'Male - Rev'!$A30-35,0)","v":1.04E-2},{"$f":"OFFSET(Male!BL$18,'Male - Rev'!$A30-35,0)","v":7.4000000000000003E-3},{"$f":"OFFSET(Male!BM$18,'Male - Rev'!$A30-35,0)","v":4.7000000000000002E-3},{"$f":"OFFSET(Male!BN$18,'Male - Rev'!$A30-35,0)","v":2.3E-3},{"$f":"OFFSET(Male!BO$18,'Male - Rev'!$A30-35,0)","v":1E-4},{"$f":"OFFSET(Male!BP$18,'Male - Rev'!$A30-35,0)","v":-6.9999999999999999E-4},{"$f":"OFFSET(Male!BQ$18,'Male - Rev'!$A30-35,0)","v":-1E-3},{"$f":"OFFSET(Male!BR$18,'Male - Rev'!$A30-35,0)","v":-8.9999999999999998E-4},{"$f":"OFFSET(Male!BS$18,'Male - Rev'!$A30-35,0)","v":-4.0000000000000002E-4},{"$f":"OFFSET(Male!BT$18,'Male - Rev'!$A30-35,0)","v":6.9999999999999999E-4},{"$f":"OFFSET(Male!BU$18,'Male - Rev'!$A30-35,0)","v":2E-3},{"$f":"OFFSET(Male!BV$18,'Male - Rev'!$A30-35,0)","v":3.5999999999999999E-3},{"$f":"OFFSET(Male!BW$18,'Male - Rev'!$A30-35,0)","v":5.4000000000000003E-3},{"$f":"OFFSET(Male!BX$18,'Male - Rev'!$A30-35,0)","v":6.8999999999999999E-3},{"$f":"OFFSET(Male!BY$18,'Male - Rev'!$A30-35,0)","v":8.2000000000000007E-3},{"$f":"OFFSET(Male!BZ$18,'Male - Rev'!$A30-35,0)","v":9.1999999999999998E-3},{"$f":"OFFSET(Male!CA$18,'Male - Rev'!$A30-35,0)","v":0.01},{"$f":"OFFSET(Male!CB$18,'Male - Rev'!$A30-35,0)","v":1.0699999999999999E-2},{"$f":"OFFSET(Male!CC$18,'Male - Rev'!$A30-35,0)","v":1.1299999999999999E-2},{"$f":"OFFSET(Male!CD$18,'Male - Rev'!$A30-35,0)","v":1.17E-2},{"$f":"OFFSET(Male!CE$18,'Male - Rev'!$A30-35,0)","v":1.2E-2},{"$f":"OFFSET(Male!CF$18,'Male - Rev'!$A30-35,0)","v":1.2200000000000001E-2},{"$f":"OFFSET(Male!CG$18,'Male - Rev'!$A30-35,0)","v":1.24E-2},{"$f":"OFFSET(Male!CH$18,'Male - Rev'!$A30-35,0)","v":1.26E-2},{"$f":"OFFSET(Male!CI$18,'Male - Rev'!$A30-35,0)","v":1.2699999999999999E-2},{"$f":"CJ30","v":1.2699999999999999E-2},1.2699999999999999E-2]
[67,67,{"$f":"OFFSET(Male!B$18,'Male - Rev'!$A31-35,0)","v":7.4999999999999997E-3},{"$f":"OFFSET(Male!C$18,'Male - Rev'!$A31-35,0)","v":5.7000000000000002E-3},{"$f":"OFFSET(Male!D$18,'Male - Rev'!$A31-35,0)","v":3.8999999999999998E-3},{"$f":"OFFSET(Male!E$18,'Male - Rev'!$A31-35,0)","v":2.0999999999999999E-3},{"$f":"OFFSET(Male!F$18,'Male - Rev'!$A31-35,0)","v":4.0000000000000002E-4},{"$f":"OFFSET(Male!G$18,'Male - Rev'!$A31-35,0)","v":-1.1000000000000001E-3},{"$f":"OFFSET(Male!H$18,'Male - Rev'!$A31-35,0)","v":-2.3E-3},{"$f":"OFFSET(Male!I$18,'Male - Rev'!$A31-35,0)","v":-3.0999999999999999E-3},{"$f":"OFFSET(Male!J$18,'Male - Rev'!$A31-35,0)","v":-3.5999999999999999E-3},{"$f":"OFFSET(Male!K$18,'Male - Rev'!$A31-35,0)","v":-3.8999999999999998E-3},{"$f":"OFFSET(Male!L$18,'Male - Rev'!$A31-35,0)","v":-3.8999999999999998E-3},{"$f":"OFFSET(Male!M$18,'Male - Rev'!$A31-35,0)","v":-3.5999999999999999E-3},{"$f":"OFFSET(Male!N$18,'Male - Rev'!$A31-35,0)","v":-2.8999999999999998E-3},{"$f":"OFFSET(Male!O$18,'Male - Rev'!$A31-35,0)","v":-1.8E-3},{"$f":"OFFSET(Male!P$18,'Male - Rev'!$A31-35,0)","v":-5.0000000000000001E-4},{"$f":"OFFSET(Male!Q$18,'Male - Rev'!$A31-35,0)","v":1.1000000000000001E-3},{"$f":"OFFSET(Male!R$18,'Male - Rev'!$A31-35,0)","v":2.8999999999999998E-3},{"$f":"OFFSET(Male!S$18,'Male - Rev'!$A31-35,0)","v":5.0000000000000001E-3},{"$f":"OFFSET(Male!T$18,'Male - Rev'!$A31-35,0)","v":7.1999999999999998E-3},{"$f":"OFFSET(Male!U$18,'Male - Rev'!$A31-35,0)","v":9.4000000000000004E-3},{"$f":"OFFSET(Male!V$18,'Male - Rev'!$A31-35,0)","v":1.17E-2},{"$f":"OFFSET(Male!W$18,'Male - Rev'!$A31-35,0)","v":1.3899999999999999E-2},{"$f":"OFFSET(Male!X$18,'Male - Rev'!$A31-35,0)","v":1.5900000000000001E-2},{"$f":"OFFSET(Male!Y$18,'Male - Rev'!$A31-35,0)","v":1.7500000000000002E-2},{"$f":"OFFSET(Male!Z$18,'Male - Rev'!$A31-35,0)","v":1.8499999999999999E-2},{"$f":"OFFSET(Male!AA$18,'Male - Rev'!$A31-35,0)","v":1.9E-2},{"$f":"OFFSET(Male!AB$18,'Male - Rev'!$A31-35,0)","v":1.89E-2},{"$f":"OFFSET(Male!AC$18,'Male - Rev'!$A31-35,0)","v":1.84E-2},{"$f":"OFFSET(Male!AD$18,'Male - Rev'!$A31-35,0)","v":1.7600000000000001E-2},{"$f":"OFFSET(Male!AE$18,'Male - Rev'!$A31-35,0)","v":1.66E-2},{"$f":"OFFSET(Male!AF$18,'Male - Rev'!$A31-35,0)","v":1.5699999999999999E-2},{"$f":"OFFSET(Male!AG$18,'Male - Rev'!$A31-35,0)","v":1.4999999999999999E-2},{"$f":"OFFSET(Male!AH$18,'Male - Rev'!$A31-35,0)","v":1.44E-2},{"$f":"OFFSET(Male!AI$18,'Male - Rev'!$A31-35,0)","v":1.4200000000000001E-2},{"$f":"OFFSET(Male!AJ$18,'Male - Rev'!$A31-35,0)","v":1.44E-2},{"$f":"OFFSET(Male!AK$18,'Male - Rev'!$A31-35,0)","v":1.49E-2},{"$f":"OFFSET(Male!AL$18,'Male - Rev'!$A31-35,0)","v":1.55E-2},{"$f":"OFFSET(Male!AM$18,'Male - Rev'!$A31-35,0)","v":1.6E-2},{"$f":"OFFSET(Male!AN$18,'Male - Rev'!$A31-35,0)","v":1.6299999999999999E-2},{"$f":"OFFSET(Male!AO$18,'Male - Rev'!$A31-35,0)","v":1.6299999999999999E-2},{"$f":"OFFSET(Male!AP$18,'Male - Rev'!$A31-35,0)","v":1.5900000000000001E-2},{"$f":"OFFSET(Male!AQ$18,'Male - Rev'!$A31-35,0)","v":1.54E-2},{"$f":"OFFSET(Male!AR$18,'Male - Rev'!$A31-35,0)","v":1.52E-2},{"$f":"OFFSET(Male!AS$18,'Male - Rev'!$A31-35,0)","v":1.5299999999999999E-2},{"$f":"OFFSET(Male!AT$18,'Male - Rev'!$A31-35,0)","v":1.6E-2},{"$f":"OFFSET(Male!AU$18,'Male - Rev'!$A31-35,0)","v":1.72E-2},{"$f":"OFFSET(Male!AV$18,'Male - Rev'!$A31-35,0)","v":1.8700000000000001E-2},{"$f":"OFFSET(Male!AW$18,'Male - Rev'!$A31-35,0)","v":2.0500000000000001E-2},{"$f":"OFFSET(Male!AX$18,'Male - Rev'!$A31-35,0)","v":2.23E-2},{"$f":"OFFSET(Male!AY$18,'Male - Rev'!$A31-35,0)","v":2.4E-2},{"$f":"OFFSET(Male!AZ$18,'Male - Rev'!$A31-35,0)","v":2.5399999999999999E-2},{"$f":"OFFSET(Male!BA$18,'Male - Rev'!$A31-35,0)","v":2.6499999999999999E-2},{"$f":"OFFSET(Male!BB$18,'Male - Rev'!$A31-35,0)","v":2.7099999999999999E-2},{"$f":"OFFSET(Male!BC$18,'Male - Rev'!$A31-35,0)","v":2.7099999999999999E-2},{"$f":"OFFSET(Male!BD$18,'Male - Rev'!$A31-35,0)","v":2.6499999999999999E-2},{"$f":"OFFSET(Male!BE$18,'Male - Rev'!$A31-35,0)","v":2.5399999999999999E-2},{"$f":"OFFSET(Male!BF$18,'Male - Rev'!$A31-35,0)","v":2.3599999999999999E-2},{"$f":"OFFSET(Male!BG$18,'Male - Rev'!$A31-35,0)","v":2.1399999999999999E-2},{"$f":"OFFSET(Male!BH$18,'Male - Rev'!$A31-35,0)","v":1.8700000000000001E-2},{"$f":"OFFSET(Male!BI$18,'Male - Rev'!$A31-35,0)","v":1.55E-2},{"$f":"OFFSET(Male!BJ$18,'Male - Rev'!$A31-35,0)","v":1.2200000000000001E-2},{"$f":"OFFSET(Male!BK$18,'Male - Rev'!$A31-35,0)","v":8.8000000000000005E-3},{"$f":"OFFSET(Male!BL$18,'Male - Rev'!$A31-35,0)","v":5.5999999999999999E-3},{"$f":"OFFSET(Male!BM$18,'Male - Rev'!$A31-35,0)","v":2.8E-3},{"$f":"OFFSET(Male!BN$18,'Male - Rev'!$A31-35,0)","v":2.9999999999999997E-4},{"$f":"OFFSET(Male!BO$18,'Male - Rev'!$A31-35,0)","v":-1.9E-3},{"$f":"OFFSET(Male!BP$18,'Male - Rev'!$A31-35,0)","v":-2.5999999999999999E-3},{"$f":"OFFSET(Male!BQ$18,'Male - Rev'!$A31-35,0)","v":-2.7000000000000001E-3},{"$f":"OFFSET(Male!BR$18,'Male - Rev'!$A31-35,0)","v":-2.3E-3},{"$f":"OFFSET(Male!BS$18,'Male - Rev'!$A31-35,0)","v":-1.2999999999999999E-3},{"$f":"OFFSET(Male!BT$18,'Male - Rev'!$A31-35,0)","v":1E-4},{"$f":"OFFSET(Male!BU$18,'Male - Rev'!$A31-35,0)","v":1.9E-3},{"$f":"OFFSET(Male!BV$18,'Male - Rev'!$A31-35,0)","v":3.8999999999999998E-3},{"$f":"OFFSET(Male!BW$18,'Male - Rev'!$A31-35,0)","v":5.7999999999999996E-3},{"$f":"OFFSET(Male!BX$18,'Male - Rev'!$A31-35,0)","v":7.4999999999999997E-3},{"$f":"OFFSET(Male!BY$18,'Male - Rev'!$A31-35,0)","v":8.6999999999999994E-3},{"$f":"OFFSET(Male!BZ$18,'Male - Rev'!$A31-35,0)","v":9.7000000000000003E-3},{"$f":"OFFSET(Male!CA$18,'Male - Rev'!$A31-35,0)","v":1.0500000000000001E-2},{"$f":"OFFSET(Male!CB$18,'Male - Rev'!$A31-35,0)","v":1.11E-2},{"$f":"OFFSET(Male!CC$18,'Male - Rev'!$A31-35,0)","v":1.15E-2},{"$f":"OFFSET(Male!CD$18,'Male - Rev'!$A31-35,0)","v":1.1900000000000001E-2},{"$f":"OFFSET(Male!CE$18,'Male - Rev'!$A31-35,0)","v":1.21E-2},{"$f":"OFFSET(Male!CF$18,'Male - Rev'!$A31-35,0)","v":1.23E-2},{"$f":"OFFSET(Male!CG$18,'Male - Rev'!$A31-35,0)","v":1.2500000000000001E-2},{"$f":"OFFSET(Male!CH$18,'Male - Rev'!$A31-35,0)","v":1.2699999999999999E-2},{"$f":"OFFSET(Male!CI$18,'Male - Rev'!$A31-35,0)","v":1.2800000000000001E-2},{"$f":"CJ31","v":1.2800000000000001E-2},1.2800000000000001E-2]
[66,66,{"$f":"OFFSET(Male!B$18,'Male - Rev'!$A32-35,0)","v":7.7000000000000002E-3},{"$f":"OFFSET(Male!C$18,'Male - Rev'!$A32-35,0)","v":5.8999999999999999E-3},{"$f":"OFFSET(Male!D$18,'Male - Rev'!$A32-35,0)","v":4.1000000000000003E-3},{"$f":"OFFSET(Male!E$18,'Male - Rev'!$A32-35,0)","v":2.3E-3},{"$f":"OFFSET(Male!F$18,'Male - Rev'!$A32-35,0)","v":5.9999999999999995E-4},{"$f":"OFFSET(Male!G$18,'Male - Rev'!$A32-35,0)","v":-1E-3},{"$f":"OFFSET(Male!H$18,'Male - Rev'!$A32-35,0)","v":-2.3E-3},{"$f":"OFFSET(Male!I$18,'Male - Rev'!$A32-35,0)","v":-3.0999999999999999E-3},{"$f":"OFFSET(Male!J$18,'Male - Rev'!$A32-35,0)","v":-3.7000000000000002E-3},{"$f":"OFFSET(Male!K$18,'Male - Rev'!$A32-35,0)","v":-4.0000000000000001E-3},{"$f":"OFFSET(Male!L$18,'Male - Rev'!$A32-35,0)","v":-4.1000000000000003E-3},{"$f":"OFFSET(Male!M$18,'Male - Rev'!$A32-35,0)","v":-3.8E-3},{"$f":"OFFSET(Male!N$18,'Male - Rev'!$A32-35,0)","v":-3.0999999999999999E-3},{"$f":"OFFSET(Male!O$18,'Male - Rev'!$A32-35,0)","v":-2E-3},{"$f":"OFFSET(Male!P$18,'Male - Rev'!$A32-35,0)","v":-5.9999999999999995E-4},{"$f":"OFFSET(Male!Q$18,'Male - Rev'!$A32-35,0)","v":1.1999999999999999E-3},{"$f":"OFFSET(Male!R$18,'Male - Rev'!$A32-35,0)","v":3.2000000000000002E-3},{"$f":"OFFSET(Male!S$18,'Male - Rev'!$A32-35,0)","v":5.3E-3},{"$f":"OFFSET(Male!T$18,'Male - Rev'!$A32-35,0)","v":7.7000000000000002E-3},{"$f":"OFFSET(Male!U$18,'Male - Rev'!$A32-35,0)","v":0.01},{"$f":"OFFSET(Male!V$18,'Male - Rev'!$A32-35,0)","v":1.24E-2},{"$f":"OFFSET(Male!W$18,'Male - Rev'!$A32-35,0)","v":1.47E-2},{"$f":"OFFSET(Male!X$18,'Male - Rev'!$A32-35,0)","v":1.67E-2},{"$f":"OFFSET(Male!Y$18,'Male - Rev'!$A32-35,0)","v":1.84E-2},{"$f":"OFFSET(Male!Z$18,'Male - Rev'!$A32-35,0)","v":1.9599999999999999E-2},{"$f":"OFFSET(Male!AA$18,'Male - Rev'!$A32-35,0)","v":2.01E-2},{"$f":"OFFSET(Male!AB$18,'Male - Rev'!$A32-35,0)","v":0.02},{"$f":"OFFSET(Male!AC$18,'Male - Rev'!$A32-35,0)","v":1.95E-2},{"$f":"OFFSET(Male!AD$18,'Male - Rev'!$A32-35,0)","v":1.8700000000000001E-2},{"$f":"OFFSET(Male!AE$18,'Male - Rev'!$A32-35,0)","v":1.7600000000000001E-2},{"$f":"OFFSET(Male!AF$18,'Male - Rev'!$A32-35,0)","v":1.6500000000000001E-2},{"$f":"OFFSET(Male!AG$18,'Male - Rev'!$A32-35,0)","v":1.54E-2},{"$f":"OFFSET(Male!AH$18,'Male - Rev'!$A32-35,0)","v":1.46E-2},{"$f":"OFFSET(Male!AI$18,'Male - Rev'!$A32-35,0)","v":1.4200000000000001E-2},{"$f":"OFFSET(Male!AJ$18,'Male - Rev'!$A32-35,0)","v":1.4200000000000001E-2},{"$f":"OFFSET(Male!AK$18,'Male - Rev'!$A32-35,0)","v":1.46E-2},{"$f":"OFFSET(Male!AL$18,'Male - Rev'!$A32-35,0)","v":1.52E-2},{"$f":"OFFSET(Male!AM$18,'Male - Rev'!$A32-35,0)","v":1.5800000000000002E-2},{"$f":"OFFSET(Male!AN$18,'Male - Rev'!$A32-35,0)","v":1.6299999999999999E-2},{"$f":"OFFSET(Male!AO$18,'Male - Rev'!$A32-35,0)","v":1.6299999999999999E-2},{"$f":"OFFSET(Male!AP$18,'Male - Rev'!$A32-35,0)","v":1.61E-2},{"$f":"OFFSET(Male!AQ$18,'Male - Rev'!$A32-35,0)","v":1.5800000000000002E-2},{"$f":"OFFSET(Male!AR$18,'Male - Rev'!$A32-35,0)","v":1.5699999999999999E-2},{"$f":"OFFSET(Male!AS$18,'Male - Rev'!$A32-35,0)","v":1.6E-2},{"$f":"OFFSET(Male!AT$18,'Male - Rev'!$A32-35,0)","v":1.6799999999999999E-2},{"$f":"OFFSET(Male!AU$18,'Male - Rev'!$A32-35,0)","v":1.8100000000000002E-2},{"$f":"OFFSET(Male!AV$18,'Male - Rev'!$A32-35,0)","v":1.9599999999999999E-2},{"$f":"OFFSET(Male!AW$18,'Male - Rev'!$A32-35,0)","v":2.1399999999999999E-2},{"$f":"OFFSET(Male!AX$18,'Male - Rev'!$A32-35,0)","v":2.3E-2},{"$f":"OFFSET(Male!AY$18,'Male - Rev'!$A32-35,0)","v":2.4400000000000002E-2},{"$f":"OFFSET(Male!AZ$18,'Male - Rev'!$A32-35,0)","v":2.5499999999999998E-2},{"$f":"OFFSET(Male!BA$18,'Male - Rev'!$A32-35,0)","v":2.6200000000000001E-2},{"$f":"OFFSET(Male!BB$18,'Male - Rev'!$A32-35,0)","v":2.6599999999999999E-2},{"$f":"OFFSET(Male!BC$18,'Male - Rev'!$A32-35,0)","v":2.6499999999999999E-2},{"$f":"OFFSET(Male!BD$18,'Male - Rev'!$A32-35,0)","v":2.5899999999999999E-2},{"$f":"OFFSET(Male!BE$18,'Male - Rev'!$A32-35,0)","v":2.46E-2},{"$f":"OFFSET(Male!BF$18,'Male - Rev'!$A32-35,0)","v":2.2800000000000001E-2},{"$f":"OFFSET(Male!BG$18,'Male - Rev'!$A32-35,0)","v":2.0400000000000001E-2},{"$f":"OFFSET(Male!BH$18,'Male - Rev'!$A32-35,0)","v":1.7500000000000002E-2},{"$f":"OFFSET(Male!BI$18,'Male - Rev'!$A32-35,0)","v":1.41E-2},{"$f":"OFFSET(Male!BJ$18,'Male - Rev'!$A32-35,0)","v":1.0500000000000001E-2},{"$f":"OFFSET(Male!BK$18,'Male - Rev'!$A32-35,0)","v":6.7999999999999996E-3},{"$f":"OFFSET(Male!BL$18,'Male - Rev'!$A32-35,0)","v":3.5000000000000001E-3},{"$f":"OFFSET(Male!BM$18,'Male - Rev'!$A32-35,0)","v":5.9999999999999995E-4},{"$f":"OFFSET(Male!BN$18,'Male - Rev'!$A32-35,0)","v":-1.8E-3},{"$f":"OFFSET(Male!BO$18,'Male - Rev'!$A32-35,0)","v":-3.8E-3},{"$f":"OFFSET(Male!BP$18,'Male - Rev'!$A32-35,0)","v":-4.4000000000000003E-3},{"$f":"OFFSET(Male!BQ$18,'Male - Rev'!$A32-35,0)","v":-4.3E-3},{"$f":"OFFSET(Male!BR$18,'Male - Rev'!$A32-35,0)","v":-3.5000000000000001E-3},{"$f":"OFFSET(Male!BS$18,'Male - Rev'!$A32-35,0)","v":-2.0999999999999999E-3},{"$f":"OFFSET(Male!BT$18,'Male - Rev'!$A32-35,0)","v":-2.0000000000000001E-4},{"$f":"OFFSET(Male!BU$18,'Male - Rev'!$A32-35,0)","v":2E-3},{"$f":"OFFSET(Male!BV$18,'Male - Rev'!$A32-35,0)","v":4.1999999999999997E-3},{"$f":"OFFSET(Male!BW$18,'Male - Rev'!$A32-35,0)","v":6.3E-3},{"$f":"OFFSET(Male!BX$18,'Male - Rev'!$A32-35,0)","v":8.0999999999999996E-3},{"$f":"OFFSET(Male!BY$18,'Male - Rev'!$A32-35,0)","v":9.2999999999999992E-3},{"$f":"OFFSET(Male!BZ$18,'Male - Rev'!$A32-35,0)","v":1.0200000000000001E-2},{"$f":"OFFSET(Male!CA$18,'Male - Rev'!$A32-35,0)","v":1.0800000000000001E-2},{"$f":"OFFSET(Male!CB$18,'Male - Rev'!$A32-35,0)","v":1.1299999999999999E-2},{"$f":"OFFSET(Male!CC$18,'Male - Rev'!$A32-35,0)","v":1.17E-2},{"$f":"OFFSET(Male!CD$18,'Male - Rev'!$A32-35,0)","v":1.2E-2},{"$f":"OFFSET(Male!CE$18,'Male - Rev'!$A32-35,0)","v":1.2200000000000001E-2},{"$f":"OFFSET(Male!CF$18,'Male - Rev'!$A32-35,0)","v":1.24E-2},{"$f":"OFFSET(Male!CG$18,'Male - Rev'!$A32-35,0)","v":1.26E-2},{"$f":"OFFSET(Male!CH$18,'Male - Rev'!$A32-35,0)","v":1.2800000000000001E-2},{"$f":"OFFSET(Male!CI$18,'Male - Rev'!$A32-35,0)","v":1.29E-2},{"$f":"CJ32","v":1.29E-2},1.29E-2]
[65,65,{"$f":"OFFSET(Male!B$18,'Male - Rev'!$A33-35,0)","v":8.2000000000000007E-3},{"$f":"OFFSET(Male!C$18,'Male - Rev'!$A33-35,0)","v":6.4000000000000003E-3},{"$f":"OFFSET(Male!D$18,'Male - Rev'!$A33-35,0)","v":4.5999999999999999E-3},{"$f":"OFFSET(Male!E$18,'Male - Rev'!$A33-35,0)","v":2.8E-3},{"$f":"OFFSET(Male!F$18,'Male - Rev'!$A33-35,0)","v":1E-3},{"$f":"OFFSET(Male!G$18,'Male - Rev'!$A33-35,0)","v":-6.9999999999999999E-4},{"$f":"OFFSET(Male!H$18,'Male - Rev'!$A33-35,0)","v":-2E-3},{"$f":"OFFSET(Male!I$18,'Male - Rev'!$A33-35,0)","v":-3.0000000000000001E-3},{"$f":"OFFSET(Male!J$18,'Male - Rev'!$A33-35,0)","v":-3.7000000000000002E-3},{"$f":"OFFSET(Male!K$18,'Male - Rev'!$A33-35,0)","v":-4.1000000000000003E-3},{"$f":"OFFSET(Male!L$18,'Male - Rev'!$A33-35,0)","v":-4.1999999999999997E-3},{"$f":"OFFSET(Male!M$18,'Male - Rev'!$A33-35,0)","v":-4.0000000000000001E-3},{"$f":"OFFSET(Male!N$18,'Male - Rev'!$A33-35,0)","v":-3.3999999999999998E-3},{"$f":"OFFSET(Male!O$18,'Male - Rev'!$A33-35,0)","v":-2.2000000000000001E-3},{"$f":"OFFSET(Male!P$18,'Male - Rev'!$A33-35,0)","v":-6.9999999999999999E-4},{"$f":"OFFSET(Male!Q$18,'Male - Rev'!$A33-35,0)","v":1.1000000000000001E-3},{"$f":"OFFSET(Male!R$18,'Male - Rev'!$A33-35,0)","v":3.2000000000000002E-3},{"$f":"OFFSET(Male!S$18,'Male - Rev'!$A33-35,0)","v":5.5999999999999999E-3},{"$f":"OFFSET(Male!T$18,'Male - Rev'!$A33-35,0)","v":8.0000000000000002E-3},{"$f":"OFFSET(Male!U$18,'Male - Rev'!$A33-35,0)","v":1.06E-2},{"$f":"OFFSET(Male!V$18,'Male - Rev'!$A33-35,0)","v":1.3100000000000001E-2},{"$f":"OFFSET(Male!W$18,'Male - Rev'!$A33-35,0)","v":1.55E-2},{"$f":"OFFSET(Male!X$18,'Male - Rev'!$A33-35,0)","v":1.77E-2},{"$f":"OFFSET(Male!Y$18,'Male - Rev'!$A33-35,0)","v":1.95E-2},{"$f":"OFFSET(Male!Z$18,'Male - Rev'!$A33-35,0)","v":2.07E-2},{"$f":"OFFSET(Male!AA$18,'Male - Rev'!$A33-35,0)","v":2.1299999999999999E-2},{"$f":"OFFSET(Male!AB$18,'Male - Rev'!$A33-35,0)","v":2.12E-2},{"$f":"OFFSET(Male!AC$18,'Male - Rev'!$A33-35,0)","v":2.07E-2},{"$f":"OFFSET(Male!AD$18,'Male - Rev'!$A33-35,0)","v":1.9699999999999999E-2},{"$f":"OFFSET(Male!AE$18,'Male - Rev'!$A33-35,0)","v":1.8499999999999999E-2},{"$f":"OFFSET(Male!AF$18,'Male - Rev'!$A33-35,0)","v":1.7100000000000001E-2},{"$f":"OFFSET(Male!AG$18,'Male - Rev'!$A33-35,0)","v":1.5699999999999999E-2},{"$f":"OFFSET(Male!AH$18,'Male - Rev'!$A33-35,0)","v":1.47E-2},{"$f":"OFFSET(Male!AI$18,'Male - Rev'!$A33-35,0)","v":1.4E-2},{"$f":"OFFSET(Male!AJ$18,'Male - Rev'!$A33-35,0)","v":1.4E-2},{"$f":"OFFSET(Male!AK$18,'Male - Rev'!$A33-35,0)","v":1.43E-2},{"$f":"OFFSET(Male!AL$18,'Male - Rev'!$A33-35,0)","v":1.4999999999999999E-2},{"$f":"OFFSET(Male!AM$18,'Male - Rev'!$A33-35,0)","v":1.5699999999999999E-2},{"$f":"OFFSET(Male!AN$18,'Male - Rev'!$A33-35,0)","v":1.6299999999999999E-2},{"$f":"OFFSET(Male!AO$18,'Male - Rev'!$A33-35,0)","v":1.6500000000000001E-2},{"$f":"OFFSET(Male!AP$18,'Male - Rev'!$A33-35,0)","v":1.6500000000000001E-2},{"$f":"OFFSET(Male!AQ$18,'Male - Rev'!$A33-35,0)","v":1.6299999999999999E-2},{"$f":"OFFSET(Male!AR$18,'Male - Rev'!$A33-35,0)","v":1.6299999999999999E-2},{"$f":"OFFSET(Male!AS$18,'Male - Rev'!$A33-35,0)","v":1.67E-2},{"$f":"OFFSET(Male!AT$18,'Male - Rev'!$A33-35,0)","v":1.7600000000000001E-2},{"$f":"OFFSET(Male!AU$18,'Male - Rev'!$A33-35,0)","v":1.89E-2},{"$f":"OFFSET(Male!AV$18,'Male - Rev'!$A33-35,0)","v":2.0500000000000001E-2},{"$f":"OFFSET(Male!AW$18,'Male - Rev'!$A33-35,0)","v":2.2100000000000002E-2},{"$f":"OFFSET(Male!AX$18,'Male - Rev'!$A33-35,0)","v":2.3400000000000001E-2},{"$f":"OFFSET(Male!AY$18,'Male - Rev'!$A33-35,0)","v":2.4500000000000001E-2},{"$f":"OFFSET(Male!AZ$18,'Male - Rev'!$A33-35,0)","v":2.53E-2},{"$f":"OFFSET(Male!BA$18,'Male - Rev'!$A33-35,0)","v":2.58E-2},{"$f":"OFFSET(Male!BB$18,'Male - Rev'!$A33-35,0)","v":2.5899999999999999E-2},{"$f":"OFFSET(Male!BC$18,'Male - Rev'!$A33-35,0)","v":2.5700000000000001E-2},{"$f":"OFFSET(Male!BD$18,'Male - Rev'!$A33-35,0)","v":2.5000000000000001E-2},{"$f":"OFFSET(Male!BE$18,'Male - Rev'!$A33-35,0)","v":2.3699999999999999E-2},{"$f":"OFFSET(Male!BF$18,'Male - Rev'!$A33-35,0)","v":2.1700000000000001E-2},{"$f":"OFFSET(Male!BG$18,'Male - Rev'!$A33-35,0)","v":1.9199999999999998E-2},{"$f":"OFFSET(Male!BH$18,'Male - Rev'!$A33-35,0)","v":1.6E-2},{"$f":"OFFSET(Male!BI$18,'Male - Rev'!$A33-35,0)","v":1.24E-2},{"$f":"OFFSET(Male!BJ$18,'Male - Rev'!$A33-35,0)","v":8.3999999999999995E-3},{"$f":"OFFSET(Male!BK$18,'Male - Rev'!$A33-35,0)","v":4.5999999999999999E-3},{"$f":"OFFSET(Male!BL$18,'Male - Rev'!$A33-35,0)","v":1.1999999999999999E-3},{"$f":"OFFSET(Male!BM$18,'Male - Rev'!$A33-35,0)","v":-1.6000000000000001E-3},{"$f":"OFFSET(Male!BN$18,'Male - Rev'!$A33-35,0)","v":-3.8E-3},{"$f":"OFFSET(Male!BO$18,'Male - Rev'!$A33-35,0)","v":-5.4999999999999997E-3},{"$f":"OFFSET(Male!BP$18,'Male - Rev'!$A33-35,0)","v":-5.8999999999999999E-3},{"$f":"OFFSET(Male!BQ$18,'Male - Rev'!$A33-35,0)","v":-5.4999999999999997E-3},{"$f":"OFFSET(Male!BR$18,'Male - Rev'!$A33-35,0)","v":-4.3E-3},{"$f":"OFFSET(Male!BS$18,'Male - Rev'!$A33-35,0)","v":-2.5000000000000001E-3},{"$f":"OFFSET(Male!BT$18,'Male - Rev'!$A33-35,0)","v":-2.0000000000000001E-4},{"$f":"OFFSET(Male!BU$18,'Male - Rev'!$A33-35,0)","v":2.3E-3},{"$f":"OFFSET(Male!BV$18,'Male - Rev'!$A33-35,0)","v":4.7000000000000002E-3},{"$f":"OFFSET(Male!BW$18,'Male - Rev'!$A33-35,0)","v":6.8999999999999999E-3},{"$f":"OFFSET(Male!BX$18,'Male - Rev'!$A33-35,0)","v":8.6999999999999994E-3},{"$f":"OFFSET(Male!BY$18,'Male - Rev'!$A33-35,0)","v":9.9000000000000008E-3},{"$f":"OFFSET(Male!BZ$18,'Male - Rev'!$A33-35,0)","v":1.06E-2},{"$f":"OFFSET(Male!CA$18,'Male - Rev'!$A33-35,0)","v":1.11E-2},{"$f":"OFFSET(Male!CB$18,'Male - Rev'!$A33-35,0)","v":1.15E-2},{"$f":"OFFSET(Male!CC$18,'Male - Rev'!$A33-35,0)","v":1.18E-2},{"$f":"OFFSET(Male!CD$18,'Male - Rev'!$A33-35,0)","v":1.2E-2},{"$f":"OFFSET(Male!CE$18,'Male - Rev'!$A33-35,0)","v":1.2200000000000001E-2},{"$f":"OFFSET(Male!CF$18,'Male - Rev'!$A33-35,0)","v":1.2500000000000001E-2},{"$f":"OFFSET(Male!CG$18,'Male - Rev'!$A33-35,0)","v":1.2699999999999999E-2},{"$f":"OFFSET(Male!CH$18,'Male - Rev'!$A33-35,0)","v":1.29E-2},{"$f":"OFFSET(Male!CI$18,'Male - Rev'!$A33-35,0)","v":1.3100000000000001E-2},{"$f":"CJ33","v":1.3100000000000001E-2},1.3100000000000001E-2]
[64,64,{"$f":"OFFSET(Male!B$18,'Male - Rev'!$A34-35,0)","v":8.8999999999999999E-3},{"$f":"OFFSET(Male!C$18,'Male - Rev'!$A34-35,0)","v":7.1000000000000004E-3},{"$f":"OFFSET(Male!D$18,'Male - Rev'!$A34-35,0)","v":5.3E-3},{"$f":"OFFSET(Male!E$18,'Male - Rev'!$A34-35,0)","v":3.3999999999999998E-3},{"$f":"OFFSET(Male!F$18,'Male - Rev'!$A34-35,0)","v":1.6000000000000001E-3},{"$f":"OFFSET(Male!G$18,'Male - Rev'!$A34-35,0)","v":-1E-4},{"$f":"OFFSET(Male!H$18,'Male - Rev'!$A34-35,0)","v":-1.6000000000000001E-3},{"$f":"OFFSET(Male!I$18,'Male - Rev'!$A34-35,0)","v":-2.5999999999999999E-3},{"$f":"OFFSET(Male!J$18,'Male - Rev'!$A34-35,0)","v":-3.3999999999999998E-3},{"$f":"OFFSET(Male!K$18,'Male - Rev'!$A34-35,0)","v":-4.0000000000000001E-3},{"$f":"OFFSET(Male!L$18,'Male - Rev'!$A34-35,0)","v":-4.1999999999999997E-3},{"$f":"OFFSET(Male!M$18,'Male - Rev'!$A34-35,0)","v":-4.1000000000000003E-3},{"$f":"OFFSET(Male!N$18,'Male - Rev'!$A34-35,0)","v":-3.5999999999999999E-3},{"$f":"OFFSET(Male!O$18,'Male - Rev'!$A34-35,0)","v":-2.5000000000000001E-3},{"$f":"OFFSET(Male!P$18,'Male - Rev'!$A34-35,0)","v":-1E-3},{"$f":"OFFSET(Male!Q$18,'Male - Rev'!$A34-35,0)","v":8.9999999999999998E-4},{"$f":"OFFSET(Male!R$18,'Male - Rev'!$A34-35,0)","v":3.0999999999999999E-3},{"$f":"OFFSET(Male!S$18,'Male - Rev'!$A34-35,0)","v":5.5999999999999999E-3},{"$f":"OFFSET(Male!T$18,'Male - Rev'!$A34-35,0)","v":8.3000000000000001E-3},{"$f":"OFFSET(Male!U$18,'Male - Rev'!$A34-35,0)","v":1.0999999999999999E-2},{"$f":"OFFSET(Male!V$18,'Male - Rev'!$A34-35,0)","v":1.37E-2},{"$f":"OFFSET(Male!W$18,'Male - Rev'!$A34-35,0)","v":1.6299999999999999E-2},{"$f":"OFFSET(Male!X$18,'Male - Rev'!$A34-35,0)","v":1.8700000000000001E-2},{"$f":"OFFSET(Male!Y$18,'Male - Rev'!$A34-35,0)","v":2.06E-2},{"$f":"OFFSET(Male!Z$18,'Male - Rev'!$A34-35,0)","v":2.1899999999999999E-2},{"$f":"OFFSET(Male!AA$18,'Male - Rev'!$A34-35,0)","v":2.2499999999999999E-2},{"$f":"OFFSET(Male!AB$18,'Male - Rev'!$A34-35,0)","v":2.24E-2},{"$f":"OFFSET(Male!AC$18,'Male - Rev'!$A34-35,0)","v":2.18E-2},{"$f":"OFFSET(Male!AD$18,'Male - Rev'!$A34-35,0)","v":2.06E-2},{"$f":"OFFSET(Male!AE$18,'Male - Rev'!$A34-35,0)","v":1.9099999999999999E-2},{"$f":"OFFSET(Male!AF$18,'Male - Rev'!$A34-35,0)","v":1.7500000000000002E-2},{"$f":"OFFSET(Male!AG$18,'Male - Rev'!$A34-35,0)","v":1.5900000000000001E-2},{"$f":"OFFSET(Male!AH$18,'Male - Rev'!$A34-35,0)","v":1.46E-2},{"$f":"OFFSET(Male!AI$18,'Male - Rev'!$A34-35,0)","v":1.38E-2},{"$f":"OFFSET(Male!AJ$18,'Male - Rev'!$A34-35,0)","v":1.37E-2},{"$f":"OFFSET(Male!AK$18,'Male - Rev'!$A34-35,0)","v":1.41E-2},{"$f":"OFFSET(Male!AL$18,'Male - Rev'!$A34-35,0)","v":1.49E-2},{"$f":"OFFSET(Male!AM$18,'Male - Rev'!$A34-35,0)","v":1.5800000000000002E-2},{"$f":"OFFSET(Male!AN$18,'Male - Rev'!$A34-35,0)","v":1.6500000000000001E-2},{"$f":"OFFSET(Male!AO$18,'Male - Rev'!$A34-35,0)","v":1.6899999999999998E-2},{"$f":"OFFSET(Male!AP$18,'Male - Rev'!$A34-35,0)","v":1.7000000000000001E-2},{"$f":"OFFSET(Male!AQ$18,'Male - Rev'!$A34-35,0)","v":1.7000000000000001E-2},{"$f":"OFFSET(Male!AR$18,'Male - Rev'!$A34-35,0)","v":1.7100000000000001E-2},{"$f":"OFFSET(Male!AS$18,'Male - Rev'!$A34-35,0)","v":1.7600000000000001E-2},{"$f":"OFFSET(Male!AT$18,'Male - Rev'!$A34-35,0)","v":1.8499999999999999E-2},{"$f":"OFFSET(Male!AU$18,'Male - Rev'!$A34-35,0)","v":1.9800000000000002E-2},{"$f":"OFFSET(Male!AV$18,'Male - Rev'!$A34-35,0)","v":2.12E-2},{"$f":"OFFSET(Male!AW$18,'Male - Rev'!$A34-35,0)","v":2.2599999999999999E-2},{"$f":"OFFSET(Male!AX$18,'Male - Rev'!$A34-35,0)","v":2.3699999999999999E-2},{"$f":"OFFSET(Male!AY$18,'Male - Rev'!$A34-35,0)","v":2.4400000000000002E-2},{"$f":"OFFSET(Male!AZ$18,'Male - Rev'!$A34-35,0)","v":2.4899999999999999E-2},{"$f":"OFFSET(Male!BA$18,'Male - Rev'!$A34-35,0)","v":2.5100000000000001E-2},{"$f":"OFFSET(Male!BB$18,'Male - Rev'!$A34-35,0)","v":2.5000000000000001E-2},{"$f":"OFFSET(Male!BC$18,'Male - Rev'!$A34-35,0)","v":2.47E-2},{"$f":"OFFSET(Male!BD$18,'Male - Rev'!$A34-35,0)","v":2.3800000000000002E-2},{"$f":"OFFSET(Male!BE$18,'Male - Rev'!$A34-35,0)","v":2.24E-2},{"$f":"OFFSET(Male!BF$18,'Male - Rev'!$A34-35,0)","v":2.0299999999999999E-2},{"$f":"OFFSET(Male!BG$18,'Male - Rev'!$A34-35,0)","v":1.7600000000000001E-2},{"$f":"OFFSET(Male!BH$18,'Male - Rev'!$A34-35,0)","v":1.4200000000000001E-2},{"$f":"OFFSET(Male!BI$18,'Male - Rev'!$A34-35,0)","v":1.04E-2},{"$f":"OFFSET(Male!BJ$18,'Male - Rev'!$A34-35,0)","v":6.1999999999999998E-3},{"$f":"OFFSET(Male!BK$18,'Male - Rev'!$A34-35,0)","v":2.3E-3},{"$f":"OFFSET(Male!BL$18,'Male - Rev'!$A34-35,0)","v":-1.1000000000000001E-3},{"$f":"OFFSET(Male!BM$18,'Male - Rev'!$A34-35,0)","v":-3.8E-3},{"$f":"OFFSET(Male!BN$18,'Male - Rev'!$A34-35,0)","v":-5.5999999999999999E-3},{"$f":"OFFSET(Male!BO$18,'Male - Rev'!$A34-35,0)","v":-6.8999999999999999E-3},{"$f":"OFFSET(Male!BP$18,'Male - Rev'!$A34-35,0)","v":-7.0000000000000001E-3},{"$f":"OFFSET(Male!BQ$18,'Male - Rev'!$A34-35,0)","v":-6.1999999999999998E-3},{"$f":"OFFSET(Male!BR$18,'Male - Rev'!$A34-35,0)","v":-4.5999999999999999E-3},{"$f":"OFFSET(Male!BS$18,'Male - Rev'!$A34-35,0)","v":-2.5000000000000001E-3},{"$f":"OFFSET(Male!BT$18,'Male - Rev'!$A34-35,0)","v":1E-4},{"$f":"OFFSET(Male!BU$18,'Male - Rev'!$A34-35,0)","v":2.7000000000000001E-3},{"$f":"OFFSET(Male!BV$18,'Male - Rev'!$A34-35,0)","v":5.3E-3},{"$f":"OFFSET(Male!BW$18,'Male - Rev'!$A34-35,0)","v":7.4999999999999997E-3},{"$f":"OFFSET(Male!BX$18,'Male - Rev'!$A34-35,0)","v":9.2999999999999992E-3},{"$f":"OFFSET(Male!BY$18,'Male - Rev'!$A34-35,0)","v":1.03E-2},{"$f":"OFFSET(Male!BZ$18,'Male - Rev'!$A34-35,0)","v":1.09E-2},{"$f":"OFFSET(Male!CA$18,'Male - Rev'!$A34-35,0)","v":1.1299999999999999E-2},{"$f":"OFFSET(Male!CB$18,'Male - Rev'!$A34-35,0)","v":1.1599999999999999E-2},{"$f":"OFFSET(Male!CC$18,'Male - Rev'!$A34-35,0)","v":1.18E-2},{"$f":"OFFSET(Male!CD$18,'Male - Rev'!$A34-35,0)","v":1.2E-2},{"$f":"OFFSET(Male!CE$18,'Male - Rev'!$A34-35,0)","v":1.2200000000000001E-2},{"$f":"OFFSET(Male!CF$18,'Male - Rev'!$A34-35,0)","v":1.2500000000000001E-2},{"$f":"OFFSET(Male!CG$18,'Male - Rev'!$A34-35,0)","v":1.2800000000000001E-2},{"$f":"OFFSET(Male!CH$18,'Male - Rev'!$A34-35,0)","v":1.3100000000000001E-2},{"$f":"OFFSET(Male!CI$18,'Male - Rev'!$A34-35,0)","v":1.32E-2},{"$f":"CJ34","v":1.32E-2},1.32E-2]
[63,63,{"$f":"OFFSET(Male!B$18,'Male - Rev'!$A35-35,0)","v":9.7999999999999997E-3},{"$f":"OFFSET(Male!C$18,'Male - Rev'!$A35-35,0)","v":8.0000000000000002E-3},{"$f":"OFFSET(Male!D$18,'Male - Rev'!$A35-35,0)","v":6.1999999999999998E-3},{"$f":"OFFSET(Male!E$18,'Male - Rev'!$A35-35,0)","v":4.3E-3},{"$f":"OFFSET(Male!F$18,'Male - Rev'!$A35-35,0)","v":2.3999999999999998E-3},{"$f":"OFFSET(Male!G$18,'Male - Rev'!$A35-35,0)","v":5.9999999999999995E-4},{"$f":"OFFSET(Male!H$18,'Male - Rev'!$A35-35,0)","v":-8.9999999999999998E-4},{"$f":"OFFSET(Male!I$18,'Male - Rev'!$A35-35,0)","v":-2.0999999999999999E-3},{"$f":"OFFSET(Male!J$18,'Male - Rev'!$A35-35,0)","v":-3.0000000000000001E-3},{"$f":"OFFSET(Male!K$18,'Male - Rev'!$A35-35,0)","v":-3.5999999999999999E-3},{"$f":"OFFSET(Male!L$18,'Male - Rev'!$A35-35,0)","v":-4.0000000000000001E-3},{"$f":"OFFSET(Male!M$18,'Male - Rev'!$A35-35,0)","v":-4.1000000000000003E-3},{"$f":"OFFSET(Male!N$18,'Male - Rev'!$A35-35,0)","v":-3.7000000000000002E-3},{"$f":"OFFSET(Male!O$18,'Male - Rev'!$A35-35,0)","v":-2.8E-3},{"$f":"OFFSET(Male!P$18,'Male - Rev'!$A35-35,0)","v":-1.4E-3},{"$f":"OFFSET(Male!Q$18,'Male - Rev'!$A35-35,0)","v":5.0000000000000001E-4},{"$f":"OFFSET(Male!R$18,'Male - Rev'!$A35-35,0)","v":2.8E-3},{"$f":"OFFSET(Male!S$18,'Male - Rev'!$A35-35,0)","v":5.4999999999999997E-3},{"$f":"OFFSET(Male!T$18,'Male - Rev'!$A35-35,0)","v":8.3999999999999995E-3},{"$f":"OFFSET(Male!U$18,'Male - Rev'!$A35-35,0)","v":1.1299999999999999E-2},{"$f":"OFFSET(Male!V$18,'Male - Rev'!$A35-35,0)","v":1.43E-2},{"$f":"OFFSET(Male!W$18,'Male - Rev'!$A35-35,0)","v":1.72E-2},{"$f":"OFFSET(Male!X$18,'Male - Rev'!$A35-35,0)","v":1.9699999999999999E-2},{"$f":"OFFSET(Male!Y$18,'Male - Rev'!$A35-35,0)","v":2.18E-2},{"$f":"OFFSET(Male!Z$18,'Male - Rev'!$A35-35,0)","v":2.3099999999999999E-2},{"$f":"OFFSET(Male!AA$18,'Male - Rev'!$A35-35,0)","v":2.3699999999999999E-2},{"$f":"OFFSET(Male!AB$18,'Male - Rev'!$A35-35,0)","v":2.35E-2},{"$f":"OFFSET(Male!AC$18,'Male - Rev'!$A35-35,0)","v":2.2700000000000001E-2},{"$f":"OFFSET(Male!AD$18,'Male - Rev'!$A35-35,0)","v":2.1399999999999999E-2},{"$f":"OFFSET(Male!AE$18,'Male - Rev'!$A35-35,0)","v":1.9599999999999999E-2},{"$f":"OFFSET(Male!AF$18,'Male - Rev'!$A35-35,0)","v":1.77E-2},{"$f":"OFFSET(Male!AG$18,'Male - Rev'!$A35-35,0)","v":1.5900000000000001E-2},{"$f":"OFFSET(Male!AH$18,'Male - Rev'!$A35-35,0)","v":1.44E-2},{"$f":"OFFSET(Male!AI$18,'Male - Rev'!$A35-35,0)","v":1.3599999999999999E-2},{"$f":"OFFSET(Male!AJ$18,'Male - Rev'!$A35-35,0)","v":1.35E-2},{"$f":"OFFSET(Male!AK$18,'Male - Rev'!$A35-35,0)","v":1.4E-2},{"$f":"OFFSET(Male!AL$18,'Male - Rev'!$A35-35,0)","v":1.49E-2},{"$f":"OFFSET(Male!AM$18,'Male - Rev'!$A35-35,0)","v":1.5900000000000001E-2},{"$f":"OFFSET(Male!AN$18,'Male - Rev'!$A35-35,0)","v":1.6799999999999999E-2},{"$f":"OFFSET(Male!AO$18,'Male - Rev'!$A35-35,0)","v":1.7399999999999999E-2},{"$f":"OFFSET(Male!AP$18,'Male - Rev'!$A35-35,0)","v":1.77E-2},{"$f":"OFFSET(Male!AQ$18,'Male - Rev'!$A35-35,0)","v":1.78E-2},{"$f":"OFFSET(Male!AR$18,'Male - Rev'!$A35-35,0)","v":1.7999999999999999E-2},{"$f":"OFFSET(Male!AS$18,'Male - Rev'!$A35-35,0)","v":1.8499999999999999E-2},{"$f":"OFFSET(Male!AT$18,'Male - Rev'!$A35-35,0)","v":1.9300000000000001E-2},{"$f":"OFFSET(Male!AU$18,'Male - Rev'!$A35-35,0)","v":2.0500000000000001E-2},{"$f":"OFFSET(Male!AV$18,'Male - Rev'!$A35-35,0)","v":2.18E-2},{"$f":"OFFSET(Male!AW$18,'Male - Rev'!$A35-35,0)","v":2.29E-2},{"$f":"OFFSET(Male!AX$18,'Male - Rev'!$A35-35,0)","v":2.3599999999999999E-2},{"$f":"OFFSET(Male!AY$18,'Male - Rev'!$A35-35,0)","v":2.41E-2},{"$f":"OFFSET(Male!AZ$18,'Male - Rev'!$A35-35,0)","v":2.4199999999999999E-2},{"$f":"OFFSET(Male!BA$18,'Male - Rev'!$A35-35,0)","v":2.4199999999999999E-2},{"$f":"OFFSET(Male!BB$18,'Male - Rev'!$A35-35,0)","v":2.3900000000000001E-2},{"$f":"OFFSET(Male!BC$18,'Male - Rev'!$A35-35,0)","v":2.3400000000000001E-2},{"$f":"OFFSET(Male!BD$18,'Male - Rev'!$A35-35,0)","v":2.24E-2},{"$f":"OFFSET(Male!BE$18,'Male - Rev'!$A35-35,0)","v":2.0799999999999999E-2},{"$f":"OFFSET(Male!BF$18,'Male - Rev'!$A35-35,0)","v":1.8599999999999998E-2},{"$f":"OFFSET(Male!BG$18,'Male - Rev'!$A35-35,0)","v":1.5699999999999999E-2},{"$f":"OFFSET(Male!BH$18,'Male - Rev'!$A35-35,0)","v":1.2200000000000001E-2},{"$f":"OFFSET(Male!BI$18,'Male - Rev'!$A35-35,0)","v":8.2000000000000007E-3},{"$f":"OFFSET(Male!BJ$18,'Male - Rev'!$A35-35,0)","v":4.0000000000000001E-3},{"$f":"OFFSET(Male!BK$18,'Male - Rev'!$A35-35,0)","v":1E-4},{"$f":"OFFSET(Male!BL$18,'Male - Rev'!$A35-35,0)","v":-3.2000000000000002E-3},{"$f":"OFFSET(Male!BM$18,'Male - Rev'!$A35-35,0)","v":-5.4999999999999997E-3},{"$f":"OFFSET(Male!BN$18,'Male - Rev'!$A35-35,0)","v":-7.0000000000000001E-3},{"$f":"OFFSET(Male!BO$18,'Male - Rev'!$A35-35,0)","v":-7.7999999999999996E-3},{"$f":"OFFSET(Male!BP$18,'Male - Rev'!$A35-35,0)","v":-7.6E-3},{"$f":"OFFSET(Male!BQ$18,'Male - Rev'!$A35-35,0)","v":-6.4999999999999997E-3},{"$f":"OFFSET(Male!BR$18,'Male - Rev'!$A35-35,0)","v":-4.5999999999999999E-3},{"$f":"OFFSET(Male!BS$18,'Male - Rev'!$A35-35,0)","v":-2.0999999999999999E-3},{"$f":"OFFSET(Male!BT$18,'Male - Rev'!$A35-35,0)","v":5.9999999999999995E-4},{"$f":"OFFSET(Male!BU$18,'Male - Rev'!$A35-35,0)","v":3.3999999999999998E-3},{"$f":"OFFSET(Male!BV$18,'Male - Rev'!$A35-35,0)","v":6.0000000000000001E-3},{"$f":"OFFSET(Male!BW$18,'Male - Rev'!$A35-35,0)","v":8.0999999999999996E-3},{"$f":"OFFSET(Male!BX$18,'Male - Rev'!$A35-35,0)","v":9.7999999999999997E-3},{"$f":"OFFSET(Male!BY$18,'Male - Rev'!$A35-35,0)","v":1.0699999999999999E-2},{"$f":"OFFSET(Male!BZ$18,'Male - Rev'!$A35-35,0)","v":1.11E-2},{"$f":"OFFSET(Male!CA$18,'Male - Rev'!$A35-35,0)","v":1.14E-2},{"$f":"OFFSET(Male!CB$18,'Male - Rev'!$A35-35,0)","v":1.1599999999999999E-2},{"$f":"OFFSET(Male!CC$18,'Male - Rev'!$A35-35,0)","v":1.18E-2},{"$f":"OFFSET(Male!CD$18,'Male - Rev'!$A35-35,0)","v":1.1900000000000001E-2},{"$f":"OFFSET(Male!CE$18,'Male - Rev'!$A35-35,0)","v":1.2200000000000001E-2},{"$f":"OFFSET(Male!CF$18,'Male - Rev'!$A35-35,0)","v":1.2500000000000001E-2},{"$f":"OFFSET(Male!CG$18,'Male - Rev'!$A35-35,0)","v":1.29E-2},{"$f":"OFFSET(Male!CH$18,'Male - Rev'!$A35-35,0)","v":1.32E-2},{"$f":"OFFSET(Male!CI$18,'Male - Rev'!$A35-35,0)","v":1.34E-2},{"$f":"CJ35","v":1.34E-2},1.34E-2]
[62,62,{"$f":"OFFSET(Male!B$18,'Male - Rev'!$A36-35,0)","v":1.09E-2},{"$f":"OFFSET(Male!C$18,'Male - Rev'!$A36-35,0)","v":8.9999999999999993E-3},{"$f":"OFFSET(Male!D$18,'Male - Rev'!$A36-35,0)","v":7.1999999999999998E-3},{"$f":"OFFSET(Male!E$18,'Male - Rev'!$A36-35,0)","v":5.3E-3},{"$f":"OFFSET(Male!F$18,'Male - Rev'!$A36-35,0)","v":3.3E-3},{"$f":"OFFSET(Male!G$18,'Male - Rev'!$A36-35,0)","v":1.5E-3},{"$f":"OFFSET(Male!H$18,'Male - Rev'!$A36-35,0)","v":-1E-4},{"$f":"OFFSET(Male!I$18,'Male - Rev'!$A36-35,0)","v":-1.2999999999999999E-3},{"$f":"OFFSET(Male!J$18,'Male - Rev'!$A36-35,0)","v":-2.3E-3},{"$f":"OFFSET(Male!K$18,'Male - Rev'!$A36-35,0)","v":-3.0999999999999999E-3},{"$f":"OFFSET(Male!L$18,'Male - Rev'!$A36-35,0)","v":-3.7000000000000002E-3},{"$f":"OFFSET(Male!M$18,'Male - Rev'!$A36-35,0)","v":-4.0000000000000001E-3},{"$f":"OFFSET(Male!N$18,'Male - Rev'!$A36-35,0)","v":-3.8E-3},{"$f":"OFFSET(Male!O$18,'Male - Rev'!$A36-35,0)","v":-3.0999999999999999E-3},{"$f":"OFFSET(Male!P$18,'Male - Rev'!$A36-35,0)","v":-1.8E-3},{"$f":"OFFSET(Male!Q$18,'Male - Rev'!$A36-35,0)","v":1E-4},{"$f":"OFFSET(Male!R$18,'Male - Rev'!$A36-35,0)","v":2.3999999999999998E-3},{"$f":"OFFSET(Male!S$18,'Male - Rev'!$A36-35,0)","v":5.1999999999999998E-3},{"$f":"OFFSET(Male!T$18,'Male - Rev'!$A36-35,0)","v":8.3000000000000001E-3},{"$f":"OFFSET(Male!U$18,'Male - Rev'!$A36-35,0)","v":1.15E-2},{"$f":"OFFSET(Male!V$18,'Male - Rev'!$A36-35,0)","v":1.4800000000000001E-2},{"$f":"OFFSET(Male!W$18,'Male - Rev'!$A36-35,0)","v":1.7899999999999999E-2},{"$f":"OFFSET(Male!X$18,'Male - Rev'!$A36-35,0)","v":2.0799999999999999E-2},{"$f":"OFFSET(Male!Y$18,'Male - Rev'!$A36-35,0)","v":2.3E-2},{"$f":"OFFSET(Male!Z$18,'Male - Rev'!$A36-35,0)","v":2.4400000000000002E-2},{"$f":"OFFSET(Male!AA$18,'Male - Rev'!$A36-35,0)","v":2.4899999999999999E-2},{"$f":"OFFSET(Male!AB$18,'Male - Rev'!$A36-35,0)","v":2.4500000000000001E-2},{"$f":"OFFSET(Male!AC$18,'Male - Rev'!$A36-35,0)","v":2.35E-2},{"$f":"OFFSET(Male!AD$18,'Male - Rev'!$A36-35,0)","v":2.1899999999999999E-2},{"$f":"OFFSET(Male!AE$18,'Male - Rev'!$A36-35,0)","v":1.9800000000000002E-2},{"$f":"OFFSET(Male!AF$18,'Male - Rev'!$A36-35,0)","v":1.77E-2},{"$f":"OFFSET(Male!AG$18,'Male - Rev'!$A36-35,0)","v":1.5699999999999999E-2},{"$f":"OFFSET(Male!AH$18,'Male - Rev'!$A36-35,0)","v":1.4200000000000001E-2},{"$f":"OFFSET(Male!AI$18,'Male - Rev'!$A36-35,0)","v":1.35E-2},{"$f":"OFFSET(Male!AJ$18,'Male - Rev'!$A36-35,0)","v":1.34E-2},{"$f":"OFFSET(Male!AK$18,'Male - Rev'!$A36-35,0)","v":1.41E-2},{"$f":"OFFSET(Male!AL$18,'Male - Rev'!$A36-35,0)","v":1.5100000000000001E-2},{"$f":"OFFSET(Male!AM$18,'Male - Rev'!$A36-35,0)","v":1.6199999999999999E-2},{"$f":"OFFSET(Male!AN$18,'Male - Rev'!$A36-35,0)","v":1.7299999999999999E-2},{"$f":"OFFSET(Male!AO$18,'Male - Rev'!$A36-35,0)","v":1.7999999999999999E-2},{"$f":"OFFSET(Male!AP$18,'Male - Rev'!$A36-35,0)","v":1.8499999999999999E-2},{"$f":"OFFSET(Male!AQ$18,'Male - Rev'!$A36-35,0)","v":1.8700000000000001E-2},{"$f":"OFFSET(Male!AR$18,'Male - Rev'!$A36-35,0)","v":1.89E-2},{"$f":"OFFSET(Male!AS$18,'Male - Rev'!$A36-35,0)","v":1.9400000000000001E-2},{"$f":"OFFSET(Male!AT$18,'Male - Rev'!$A36-35,0)","v":2.0199999999999999E-2},{"$f":"OFFSET(Male!AU$18,'Male - Rev'!$A36-35,0)","v":2.1100000000000001E-2},{"$f":"OFFSET(Male!AV$18,'Male - Rev'!$A36-35,0)","v":2.2100000000000002E-2},{"$f":"OFFSET(Male!AW$18,'Male - Rev'!$A36-35,0)","v":2.29E-2},{"$f":"OFFSET(Male!AX$18,'Male - Rev'!$A36-35,0)","v":2.3300000000000001E-2},{"$f":"OFFSET(Male!AY$18,'Male - Rev'!$A36-35,0)","v":2.35E-2},{"$f":"OFFSET(Male!AZ$18,'Male - Rev'!$A36-35,0)","v":2.3400000000000001E-2},{"$f":"OFFSET(Male!BA$18,'Male - Rev'!$A36-35,0)","v":2.3099999999999999E-2},{"$f":"OFFSET(Male!BB$18,'Male - Rev'!$A36-35,0)","v":2.2599999999999999E-2},{"$f":"OFFSET(Male!BC$18,'Male - Rev'!$A36-35,0)","v":2.18E-2},{"$f":"OFFSET(Male!BD$18,'Male - Rev'!$A36-35,0)","v":2.06E-2},{"$f":"OFFSET(Male!BE$18,'Male - Rev'!$A36-35,0)","v":1.89E-2},{"$f":"OFFSET(Male!BF$18,'Male - Rev'!$A36-35,0)","v":1.6500000000000001E-2},{"$f":"OFFSET(Male!BG$18,'Male - Rev'!$A36-35,0)","v":1.35E-2},{"$f":"OFFSET(Male!BH$18,'Male - Rev'!$A36-35,0)","v":0.01},{"$f":"OFFSET(Male!BI$18,'Male - Rev'!$A36-35,0)","v":6.1000000000000004E-3},{"$f":"OFFSET(Male!BJ$18,'Male - Rev'!$A36-35,0)","v":2E-3},{"$f":"OFFSET(Male!BK$18,'Male - Rev'!$A36-35,0)","v":-1.8E-3},{"$f":"OFFSET(Male!BL$18,'Male - Rev'!$A36-35,0)","v":-4.7999999999999996E-3},{"$f":"OFFSET(Male!BM$18,'Male - Rev'!$A36-35,0)","v":-6.7000000000000002E-3},{"$f":"OFFSET(Male!BN$18,'Male - Rev'!$A36-35,0)","v":-7.7999999999999996E-3},{"$f":"OFFSET(Male!BO$18,'Male - Rev'!$A36-35,0)","v":-8.0999999999999996E-3},{"$f":"OFFSET(Male!BP$18,'Male - Rev'!$A36-35,0)","v":-7.6E-3},{"$f":"OFFSET(Male!BQ$18,'Male - Rev'!$A36-35,0)","v":-6.1999999999999998E-3},{"$f":"OFFSET(Male!BR$18,'Male - Rev'!$A36-35,0)","v":-4.0000000000000001E-3},{"$f":"OFFSET(Male!BS$18,'Male - Rev'!$A36-35,0)","v":-1.4E-3},{"$f":"OFFSET(Male!BT$18,'Male - Rev'!$A36-35,0)","v":1.4E-3},{"$f":"OFFSET(Male!BU$18,'Male - Rev'!$A36-35,0)","v":4.1000000000000003E-3},{"$f":"OFFSET(Male!BV$18,'Male - Rev'!$A36-35,0)","v":6.6E-3},{"$f":"OFFSET(Male!BW$18,'Male - Rev'!$A36-35,0)","v":8.6999999999999994E-3},{"$f":"OFFSET(Male!BX$18,'Male - Rev'!$A36-35,0)","v":1.01E-2},{"$f":"OFFSET(Male!BY$18,'Male - Rev'!$A36-35,0)","v":1.09E-2},{"$f":"OFFSET(Male!BZ$18,'Male - Rev'!$A36-35,0)","v":1.12E-2},{"$f":"OFFSET(Male!CA$18,'Male - Rev'!$A36-35,0)","v":1.1299999999999999E-2},{"$f":"OFFSET(Male!CB$18,'Male - Rev'!$A36-35,0)","v":1.15E-2},{"$f":"OFFSET(Male!CC$18,'Male - Rev'!$A36-35,0)","v":1.1599999999999999E-2},{"$f":"OFFSET(Male!CD$18,'Male - Rev'!$A36-35,0)","v":1.18E-2},{"$f":"OFFSET(Male!CE$18,'Male - Rev'!$A36-35,0)","v":1.21E-2},{"$f":"OFFSET(Male!CF$18,'Male - Rev'!$A36-35,0)","v":1.2500000000000001E-2},{"$f":"OFFSET(Male!CG$18,'Male - Rev'!$A36-35,0)","v":1.29E-2},{"$f":"OFFSET(Male!CH$18,'Male - Rev'!$A36-35,0)","v":1.3299999999999999E-2},{"$f":"OFFSET(Male!CI$18,'Male - Rev'!$A36-35,0)","v":1.35E-2},{"$f":"CJ36","v":1.35E-2},1.35E-2]
[61,61,{"$f":"OFFSET(Male!B$18,'Male - Rev'!$A37-35,0)","v":1.1900000000000001E-2},{"$f":"OFFSET(Male!C$18,'Male - Rev'!$A37-35,0)","v":1.01E-2},{"$f":"OFFSET(Male!D$18,'Male - Rev'!$A37-35,0)","v":8.3000000000000001E-3},{"$f":"OFFSET(Male!E$18,'Male - Rev'!$A37-35,0)","v":6.4000000000000003E-3},{"$f":"OFFSET(Male!F$18,'Male - Rev'!$A37-35,0)","v":4.4000000000000003E-3},{"$f":"OFFSET(Male!G$18,'Male - Rev'!$A37-35,0)","v":2.5000000000000001E-3},{"$f":"OFFSET(Male!H$18,'Male - Rev'!$A37-35,0)","v":8.0000000000000004E-4},{"$f":"OFFSET(Male!I$18,'Male - Rev'!$A37-35,0)","v":-5.0000000000000001E-4},{"$f":"OFFSET(Male!J$18,'Male - Rev'!$A37-35,0)","v":-1.6000000000000001E-3},{"$f":"OFFSET(Male!K$18,'Male - Rev'!$A37-35,0)","v":-2.5000000000000001E-3},{"$f":"OFFSET(Male!L$18,'Male - Rev'!$A37-35,0)","v":-3.2000000000000002E-3},{"$f":"OFFSET(Male!M$18,'Male - Rev'!$A37-35,0)","v":-3.7000000000000002E-3},{"$f":"OFFSET(Male!N$18,'Male - Rev'!$A37-35,0)","v":-3.7000000000000002E-3},{"$f":"OFFSET(Male!O$18,'Male - Rev'!$A37-35,0)","v":-3.2000000000000002E-3},{"$f":"OFFSET(Male!P$18,'Male - Rev'!$A37-35,0)","v":-2.0999999999999999E-3},{"$f":"OFFSET(Male!Q$18,'Male - Rev'!$A37-35,0)","v":-4.0000000000000002E-4},{"$f":"OFFSET(Male!R$18,'Male - Rev'!$A37-35,0)","v":1.9E-3},{"$f":"OFFSET(Male!S$18,'Male - Rev'!$A37-35,0)","v":4.7999999999999996E-3},{"$f":"OFFSET(Male!T$18,'Male - Rev'!$A37-35,0)","v":8.0999999999999996E-3},{"$f":"OFFSET(Male!U$18,'Male - Rev'!$A37-35,0)","v":1.1599999999999999E-2},{"$f":"OFFSET(Male!V$18,'Male - Rev'!$A37-35,0)","v":1.52E-2},{"$f":"OFFSET(Male!W$18,'Male - Rev'!$A37-35,0)","v":1.8599999999999998E-2},{"$f":"OFFSET(Male!X$18,'Male - Rev'!$A37-35,0)","v":2.1700000000000001E-2},{"$f":"OFFSET(Male!Y$18,'Male - Rev'!$A37-35,0)","v":2.41E-2},{"$f":"OFFSET(Male!Z$18,'Male - Rev'!$A37-35,0)","v":2.5499999999999998E-2},{"$f":"OFFSET(Male!AA$18,'Male - Rev'!$A37-35,0)","v":2.5899999999999999E-2},{"$f":"OFFSET(Male!AB$18,'Male - Rev'!$A37-35,0)","v":2.5399999999999999E-2},{"$f":"OFFSET(Male!AC$18,'Male - Rev'!$A37-35,0)","v":2.41E-2},{"$f":"OFFSET(Male!AD$18,'Male - Rev'!$A37-35,0)","v":2.2100000000000002E-2},{"$f":"OFFSET(Male!AE$18,'Male - Rev'!$A37-35,0)","v":1.9900000000000001E-2},{"$f":"OFFSET(Male!AF$18,'Male - Rev'!$A37-35,0)","v":1.7600000000000001E-2},{"$f":"OFFSET(Male!AG$18,'Male - Rev'!$A37-35,0)","v":1.5599999999999999E-2},{"$f":"OFFSET(Male!AH$18,'Male - Rev'!$A37-35,0)","v":1.41E-2},{"$f":"OFFSET(Male!AI$18,'Male - Rev'!$A37-35,0)","v":1.35E-2},{"$f":"OFFSET(Male!AJ$18,'Male - Rev'!$A37-35,0)","v":1.3599999999999999E-2},{"$f":"OFFSET(Male!AK$18,'Male - Rev'!$A37-35,0)","v":1.43E-2},{"$f":"OFFSET(Male!AL$18,'Male - Rev'!$A37-35,0)","v":1.54E-2},{"$f":"OFFSET(Male!AM$18,'Male - Rev'!$A37-35,0)","v":1.66E-2},{"$f":"OFFSET(Male!AN$18,'Male - Rev'!$A37-35,0)","v":1.78E-2},{"$f":"OFFSET(Male!AO$18,'Male - Rev'!$A37-35,0)","v":1.8700000000000001E-2},{"$f":"OFFSET(Male!AP$18,'Male - Rev'!$A37-35,0)","v":1.9300000000000001E-2},{"$f":"OFFSET(Male!AQ$18,'Male - Rev'!$A37-35,0)","v":1.9599999999999999E-2},{"$f":"OFFSET(Male!AR$18,'Male - Rev'!$A37-35,0)","v":1.9900000000000001E-2},{"$f":"OFFSET(Male!AS$18,'Male - Rev'!$A37-35,0)","v":2.0299999999999999E-2},{"$f":"OFFSET(Male!AT$18,'Male - Rev'!$A37-35,0)","v":2.0899999999999998E-2},{"$f":"OFFSET(Male!AU$18,'Male - Rev'!$A37-35,0)","v":2.1600000000000001E-2},{"$f":"OFFSET(Male!AV$18,'Male - Rev'!$A37-35,0)","v":2.2200000000000001E-2},{"$f":"OFFSET(Male!AW$18,'Male - Rev'!$A37-35,0)","v":2.2700000000000001E-2},{"$f":"OFFSET(Male!AX$18,'Male - Rev'!$A37-35,0)","v":2.2800000000000001E-2},{"$f":"OFFSET(Male!AY$18,'Male - Rev'!$A37-35,0)","v":2.2599999999999999E-2},{"$f":"OFFSET(Male!AZ$18,'Male - Rev'!$A37-35,0)","v":2.2200000000000001E-2},{"$f":"OFFSET(Male!BA$18,'Male - Rev'!$A37-35,0)","v":2.1700000000000001E-2},{"$f":"OFFSET(Male!BB$18,'Male - Rev'!$A37-35,0)","v":2.1000000000000001E-2},{"$f":"OFFSET(Male!BC$18,'Male - Rev'!$A37-35,0)","v":0.02},{"$f":"OFFSET(Male!BD$18,'Male - Rev'!$A37-35,0)","v":1.8499999999999999E-2},{"$f":"OFFSET(Male!BE$18,'Male - Rev'!$A37-35,0)","v":1.66E-2},{"$f":"OFFSET(Male!BF$18,'Male - Rev'!$A37-35,0)","v":1.4200000000000001E-2},{"$f":"OFFSET(Male!BG$18,'Male - Rev'!$A37-35,0)","v":1.12E-2},{"$f":"OFFSET(Male!BH$18,'Male - Rev'!$A37-35,0)","v":7.7000000000000002E-3},{"$f":"OFFSET(Male!BI$18,'Male - Rev'!$A37-35,0)","v":4.0000000000000001E-3},{"$f":"OFFSET(Male!BJ$18,'Male - Rev'!$A37-35,0)","v":2.0000000000000001E-4},{"$f":"OFFSET(Male!BK$18,'Male - Rev'!$A37-35,0)","v":-3.2000000000000002E-3},{"$f":"OFFSET(Male!BL$18,'Male - Rev'!$A37-35,0)","v":-5.7000000000000002E-3},{"$f":"OFFSET(Male!BM$18,'Male - Rev'!$A37-35,0)","v":-7.3000000000000001E-3},{"$f":"OFFSET(Male!BN$18,'Male - Rev'!$A37-35,0)","v":-7.9000000000000008E-3},{"$f":"OFFSET(Male!BO$18,'Male - Rev'!$A37-35,0)","v":-7.7999999999999996E-3},{"$f":"OFFSET(Male!BP$18,'Male - Rev'!$A37-35,0)","v":-7.0000000000000001E-3},{"$f":"OFFSET(Male!BQ$18,'Male - Rev'!$A37-35,0)","v":-5.4000000000000003E-3},{"$f":"OFFSET(Male!BR$18,'Male - Rev'!$A37-35,0)","v":-3.0999999999999999E-3},{"$f":"OFFSET(Male!BS$18,'Male - Rev'!$A37-35,0)","v":-5.0000000000000001E-4},{"$f":"OFFSET(Male!BT$18,'Male - Rev'!$A37-35,0)","v":2.2000000000000001E-3},{"$f":"OFFSET(Male!BU$18,'Male - Rev'!$A37-35,0)","v":4.8999999999999998E-3},{"$f":"OFFSET(Male!BV$18,'Male - Rev'!$A37-35,0)","v":7.1999999999999998E-3},{"$f":"OFFSET(Male!BW$18,'Male - Rev'!$A37-35,0)","v":8.9999999999999993E-3},{"$f":"OFFSET(Male!BX$18,'Male - Rev'!$A37-35,0)","v":1.03E-2},{"$f":"OFFSET(Male!BY$18,'Male - Rev'!$A37-35,0)","v":1.09E-2},{"$f":"OFFSET(Male!BZ$18,'Male - Rev'!$A37-35,0)","v":1.0999999999999999E-2},{"$f":"OFFSET(Male!CA$18,'Male - Rev'!$A37-35,0)","v":1.11E-2},{"$f":"OFFSET(Male!CB$18,'Male - Rev'!$A37-35,0)","v":1.12E-2},{"$f":"OFFSET(Male!CC$18,'Male - Rev'!$A37-35,0)","v":1.1299999999999999E-2},{"$f":"OFFSET(Male!CD$18,'Male - Rev'!$A37-35,0)","v":1.1599999999999999E-2},{"$f":"OFFSET(Male!CE$18,'Male - Rev'!$A37-35,0)","v":1.1900000000000001E-2},{"$f":"OFFSET(Male!CF$18,'Male - Rev'!$A37-35,0)","v":1.24E-2},{"$f":"OFFSET(Male!CG$18,'Male - Rev'!$A37-35,0)","v":1.29E-2},{"$f":"OFFSET(Male!CH$18,'Male - Rev'!$A37-35,0)","v":1.3299999999999999E-2},{"$f":"OFFSET(Male!CI$18,'Male - Rev'!$A37-35,0)","v":1.35E-2},{"$f":"CJ37","v":1.35E-2},1.35E-2]
[60,60,{"$f":"OFFSET(Male!B$18,'Male - Rev'!$A38-35,0)","v":1.29E-2},{"$f":"OFFSET(Male!C$18,'Male - Rev'!$A38-35,0)","v":1.12E-2},{"$f":"OFFSET(Male!D$18,'Male - Rev'!$A38-35,0)","v":9.4000000000000004E-3},{"$f":"OFFSET(Male!E$18,'Male - Rev'!$A38-35,0)","v":7.4000000000000003E-3},{"$f":"OFFSET(Male!F$18,'Male - Rev'!$A38-35,0)","v":5.4000000000000003E-3},{"$f":"OFFSET(Male!G$18,'Male - Rev'!$A38-35,0)","v":3.5000000000000001E-3},{"$f":"OFFSET(Male!H$18,'Male - Rev'!$A38-35,0)","v":1.8E-3},{"$f":"OFFSET(Male!I$18,'Male - Rev'!$A38-35,0)","v":4.0000000000000002E-4},{"$f":"OFFSET(Male!J$18,'Male - Rev'!$A38-35,0)","v":-6.9999999999999999E-4},{"$f":"OFFSET(Male!K$18,'Male - Rev'!$A38-35,0)","v":-1.6999999999999999E-3},{"$f":"OFFSET(Male!L$18,'Male - Rev'!$A38-35,0)","v":-2.5999999999999999E-3},{"$f":"OFFSET(Male!M$18,'Male - Rev'!$A38-35,0)","v":-3.2000000000000002E-3},{"$f":"OFFSET(Male!N$18,'Male - Rev'!$A38-35,0)","v":-3.5000000000000001E-3},{"$f":"OFFSET(Male!O$18,'Male - Rev'!$A38-35,0)","v":-3.2000000000000002E-3},{"$f":"OFFSET(Male!P$18,'Male - Rev'!$A38-35,0)","v":-2.3999999999999998E-3},{"$f":"OFFSET(Male!Q$18,'Male - Rev'!$A38-35,0)","v":-8.0000000000000004E-4},{"$f":"OFFSET(Male!R$18,'Male - Rev'!$A38-35,0)","v":1.4E-3},{"$f":"OFFSET(Male!S$18,'Male - Rev'!$A38-35,0)","v":4.3E-3},{"$f":"OFFSET(Male!T$18,'Male - Rev'!$A38-35,0)","v":7.7999999999999996E-3},{"$f":"OFFSET(Male!U$18,'Male - Rev'!$A38-35,0)","v":1.1599999999999999E-2},{"$f":"OFFSET(Male!V$18,'Male - Rev'!$A38-35,0)","v":1.55E-2},{"$f":"OFFSET(Male!W$18,'Male - Rev'!$A38-35,0)","v":1.9199999999999998E-2},{"$f":"OFFSET(Male!X$18,'Male - Rev'!$A38-35,0)","v":2.2499999999999999E-2},{"$f":"OFFSET(Male!Y$18,'Male - Rev'!$A38-35,0)","v":2.5100000000000001E-2},{"$f":"OFFSET(Male!Z$18,'Male - Rev'!$A38-35,0)","v":2.6499999999999999E-2},{"$f":"OFFSET(Male!AA$18,'Male - Rev'!$A38-35,0)","v":2.6800000000000001E-2},{"$f":"OFFSET(Male!AB$18,'Male - Rev'!$A38-35,0)","v":2.6100000000000002E-2},{"$f":"OFFSET(Male!AC$18,'Male - Rev'!$A38-35,0)","v":2.4400000000000002E-2},{"$f":"OFFSET(Male!AD$18,'Male - Rev'!$A38-35,0)","v":2.2200000000000001E-2},{"$f":"OFFSET(Male!AE$18,'Male - Rev'!$A38-35,0)","v":1.9699999999999999E-2},{"$f":"OFFSET(Male!AF$18,'Male - Rev'!$A38-35,0)","v":1.7399999999999999E-2},{"$f":"OFFSET(Male!AG$18,'Male - Rev'!$A38-35,0)","v":1.54E-2},{"$f":"OFFSET(Male!AH$18,'Male - Rev'!$A38-35,0)","v":1.4200000000000001E-2},{"$f":"OFFSET(Male!AI$18,'Male - Rev'!$A38-35,0)","v":1.37E-2},{"$f":"OFFSET(Male!AJ$18,'Male - Rev'!$A38-35,0)","v":1.3899999999999999E-2},{"$f":"OFFSET(Male!AK$18,'Male - Rev'!$A38-35,0)","v":1.4800000000000001E-2},{"$f":"OFFSET(Male!AL$18,'Male - Rev'!$A38-35,0)","v":1.5900000000000001E-2},{"$f":"OFFSET(Male!AM$18,'Male - Rev'!$A38-35,0)","v":1.7100000000000001E-2},{"$f":"OFFSET(Male!AN$18,'Male - Rev'!$A38-35,0)","v":1.83E-2},{"$f":"OFFSET(Male!AO$18,'Male - Rev'!$A38-35,0)","v":1.9300000000000001E-2},{"$f":"OFFSET(Male!AP$18,'Male - Rev'!$A38-35,0)","v":0.02},{"$f":"OFFSET(Male!AQ$18,'Male - Rev'!$A38-35,0)","v":2.0400000000000001E-2},{"$f":"OFFSET(Male!AR$18,'Male - Rev'!$A38-35,0)","v":2.0799999999999999E-2},{"$f":"OFFSET(Male!AS$18,'Male - Rev'!$A38-35,0)","v":2.1100000000000001E-2},{"$f":"OFFSET(Male!AT$18,'Male - Rev'!$A38-35,0)","v":2.1499999999999998E-2},{"$f":"OFFSET(Male!AU$18,'Male - Rev'!$A38-35,0)","v":2.1899999999999999E-2},{"$f":"OFFSET(Male!AV$18,'Male - Rev'!$A38-35,0)","v":2.2200000000000001E-2},{"$f":"OFFSET(Male!AW$18,'Male - Rev'!$A38-35,0)","v":2.2200000000000001E-2},{"$f":"OFFSET(Male!AX$18,'Male - Rev'!$A38-35,0)","v":2.1899999999999999E-2},{"$f":"OFFSET(Male!AY$18,'Male - Rev'!$A38-35,0)","v":2.1399999999999999E-2},{"$f":"OFFSET(Male!AZ$18,'Male - Rev'!$A38-35,0)","v":2.0799999999999999E-2},{"$f":"OFFSET(Male!BA$18,'Male - Rev'!$A38-35,0)","v":0.02},{"$f":"OFFSET(Male!BB$18,'Male - Rev'!$A38-35,0)","v":1.9E-2},{"$f":"OFFSET(Male!BC$18,'Male - Rev'!$A38-35,0)","v":1.78E-2},{"$f":"OFFSET(Male!BD$18,'Male - Rev'!$A38-35,0)","v":1.6199999999999999E-2},{"$f":"OFFSET(Male!BE$18,'Male - Rev'!$A38-35,0)","v":1.41E-2},{"$f":"OFFSET(Male!BF$18,'Male - Rev'!$A38-35,0)","v":1.1599999999999999E-2},{"$f":"OFFSET(Male!BG$18,'Male - Rev'!$A38-35,0)","v":8.6999999999999994E-3},{"$f":"OFFSET(Male!BH$18,'Male - Rev'!$A38-35,0)","v":5.5999999999999999E-3},{"$f":"OFFSET(Male!BI$18,'Male - Rev'!$A38-35,0)","v":2.3E-3},{"$f":"OFFSET(Male!BJ$18,'Male - Rev'!$A38-35,0)","v":-1E-3},{"$f":"OFFSET(Male!BK$18,'Male - Rev'!$A38-35,0)","v":-3.8999999999999998E-3},{"$f":"OFFSET(Male!BL$18,'Male - Rev'!$A38-35,0)","v":-6.0000000000000001E-3},{"$f":"OFFSET(Male!BM$18,'Male - Rev'!$A38-35,0)","v":-7.1000000000000004E-3},{"$f":"OFFSET(Male!BN$18,'Male - Rev'!$A38-35,0)","v":-7.4000000000000003E-3},{"$f":"OFFSET(Male!BO$18,'Male - Rev'!$A38-35,0)","v":-7.0000000000000001E-3},{"$f":"OFFSET(Male!BP$18,'Male - Rev'!$A38-35,0)","v":-6.0000000000000001E-3},{"$f":"OFFSET(Male!BQ$18,'Male - Rev'!$A38-35,0)","v":-4.1999999999999997E-3},{"$f":"OFFSET(Male!BR$18,'Male - Rev'!$A38-35,0)","v":-1.9E-3},{"$f":"OFFSET(Male!BS$18,'Male - Rev'!$A38-35,0)","v":5.9999999999999995E-4},{"$f":"OFFSET(Male!BT$18,'Male - Rev'!$A38-35,0)","v":3.2000000000000002E-3},{"$f":"OFFSET(Male!BU$18,'Male - Rev'!$A38-35,0)","v":5.5999999999999999E-3},{"$f":"OFFSET(Male!BV$18,'Male - Rev'!$A38-35,0)","v":7.6E-3},{"$f":"OFFSET(Male!BW$18,'Male - Rev'!$A38-35,0)","v":9.1999999999999998E-3},{"$f":"OFFSET(Male!BX$18,'Male - Rev'!$A38-35,0)","v":1.03E-2},{"$f":"OFFSET(Male!BY$18,'Male - Rev'!$A38-35,0)","v":1.0699999999999999E-2},{"$f":"OFFSET(Male!BZ$18,'Male - Rev'!$A38-35,0)","v":1.0699999999999999E-2},{"$f":"OFFSET(Male!CA$18,'Male - Rev'!$A38-35,0)","v":1.0699999999999999E-2},{"$f":"OFFSET(Male!CB$18,'Male - Rev'!$A38-35,0)","v":1.0800000000000001E-2},{"$f":"OFFSET(Male!CC$18,'Male - Rev'!$A38-35,0)","v":1.09E-2},{"$f":"OFFSET(Male!CD$18,'Male - Rev'!$A38-35,0)","v":1.1299999999999999E-2},{"$f":"OFFSET(Male!CE$18,'Male - Rev'!$A38-35,0)","v":1.17E-2},{"$f":"OFFSET(Male!CF$18,'Male - Rev'!$A38-35,0)","v":1.23E-2},{"$f":"OFFSET(Male!CG$18,'Male - Rev'!$A38-35,0)","v":1.29E-2},{"$f":"OFFSET(Male!CH$18,'Male - Rev'!$A38-35,0)","v":1.3299999999999999E-2},{"$f":"OFFSET(Male!CI$18,'Male - Rev'!$A38-35,0)","v":1.35E-2},{"$f":"CJ38","v":1.35E-2},1.35E-2]
[59,59,{"$f":"OFFSET(Male!B$18,'Male - Rev'!$A39-35,0)","v":1.38E-2},{"$f":"OFFSET(Male!C$18,'Male - Rev'!$A39-35,0)","v":1.21E-2},{"$f":"OFFSET(Male!D$18,'Male - Rev'!$A39-35,0)","v":1.04E-2},{"$f":"OFFSET(Male!E$18,'Male - Rev'!$A39-35,0)","v":8.5000000000000006E-3},{"$f":"OFFSET(Male!F$18,'Male - Rev'!$A39-35,0)","v":6.4999999999999997E-3},{"$f":"OFFSET(Male!G$18,'Male - Rev'!$A39-35,0)","v":4.4999999999999997E-3},{"$f":"OFFSET(Male!H$18,'Male - Rev'!$A39-35,0)","v":2.8E-3},{"$f":"OFFSET(Male!I$18,'Male - Rev'!$A39-35,0)","v":1.4E-3},{"$f":"OFFSET(Male!J$18,'Male - Rev'!$A39-35,0)","v":2.0000000000000001E-4},{"$f":"OFFSET(Male!K$18,'Male - Rev'!$A39-35,0)","v":-8.9999999999999998E-4},{"$f":"OFFSET(Male!L$18,'Male - Rev'!$A39-35,0)","v":-1.9E-3},{"$f":"OFFSET(Male!M$18,'Male - Rev'!$A39-35,0)","v":-2.7000000000000001E-3},{"$f":"OFFSET(Male!N$18,'Male - Rev'!$A39-35,0)","v":-3.2000000000000002E-3},{"$f":"OFFSET(Male!O$18,'Male - Rev'!$A39-35,0)","v":-3.0999999999999999E-3},{"$f":"OFFSET(Male!P$18,'Male - Rev'!$A39-35,0)","v":-2.5000000000000001E-3},{"$f":"OFFSET(Male!Q$18,'Male - Rev'!$A39-35,0)","v":-1.1000000000000001E-3},{"$f":"OFFSET(Male!R$18,'Male - Rev'!$A39-35,0)","v":1E-3},{"$f":"OFFSET(Male!S$18,'Male - Rev'!$A39-35,0)","v":3.8999999999999998E-3},{"$f":"OFFSET(Male!T$18,'Male - Rev'!$A39-35,0)","v":7.4999999999999997E-3},{"$f":"OFFSET(Male!U$18,'Male - Rev'!$A39-35,0)","v":1.15E-2},{"$f":"OFFSET(Male!V$18,'Male - Rev'!$A39-35,0)","v":1.5699999999999999E-2},{"$f":"OFFSET(Male!W$18,'Male - Rev'!$A39-35,0)","v":1.9699999999999999E-2},{"$f":"OFFSET(Male!X$18,'Male - Rev'!$A39-35,0)","v":2.3199999999999998E-2},{"$f":"OFFSET(Male!Y$18,'Male - Rev'!$A39-35,0)","v":2.5899999999999999E-2},{"$f":"OFFSET(Male!Z$18,'Male - Rev'!$A39-35,0)","v":2.7300000000000001E-2},{"$f":"OFFSET(Male!AA$18,'Male - Rev'!$A39-35,0)","v":2.75E-2},{"$f":"OFFSET(Male!AB$18,'Male - Rev'!$A39-35,0)","v":2.6499999999999999E-2},{"$f":"OFFSET(Male!AC$18,'Male - Rev'!$A39-35,0)","v":2.46E-2},{"$f":"OFFSET(Male!AD$18,'Male - Rev'!$A39-35,0)","v":2.2200000000000001E-2},{"$f":"OFFSET(Male!AE$18,'Male - Rev'!$A39-35,0)","v":1.95E-2},{"$f":"OFFSET(Male!AF$18,'Male - Rev'!$A39-35,0)","v":1.72E-2},{"$f":"OFFSET(Male!AG$18,'Male - Rev'!$A39-35,0)","v":1.54E-2},{"$f":"OFFSET(Male!AH$18,'Male - Rev'!$A39-35,0)","v":1.44E-2},{"$f":"OFFSET(Male!AI$18,'Male - Rev'!$A39-35,0)","v":1.41E-2},{"$f":"OFFSET(Male!AJ$18,'Male - Rev'!$A39-35,0)","v":1.4500000000000001E-2},{"$f":"OFFSET(Male!AK$18,'Male - Rev'!$A39-35,0)","v":1.54E-2},{"$f":"OFFSET(Male!AL$18,'Male - Rev'!$A39-35,0)","v":1.6500000000000001E-2},{"$f":"OFFSET(Male!AM$18,'Male - Rev'!$A39-35,0)","v":1.77E-2},{"$f":"OFFSET(Male!AN$18,'Male - Rev'!$A39-35,0)","v":1.89E-2},{"$f":"OFFSET(Male!AO$18,'Male - Rev'!$A39-35,0)","v":1.9800000000000002E-2},{"$f":"OFFSET(Male!AP$18,'Male - Rev'!$A39-35,0)","v":2.06E-2},{"$f":"OFFSET(Male!AQ$18,'Male - Rev'!$A39-35,0)","v":2.1100000000000001E-2},{"$f":"OFFSET(Male!AR$18,'Male - Rev'!$A39-35,0)","v":2.1499999999999998E-2},{"$f":"OFFSET(Male!AS$18,'Male - Rev'!$A39-35,0)","v":2.18E-2},{"$f":"OFFSET(Male!AT$18,'Male - Rev'!$A39-35,0)","v":2.1999999999999999E-2},{"$f":"OFFSET(Male!AU$18,'Male - Rev'!$A39-35,0)","v":2.2100000000000002E-2},{"$f":"OFFSET(Male!AV$18,'Male - Rev'!$A39-35,0)","v":2.1999999999999999E-2},{"$f":"OFFSET(Male!AW$18,'Male - Rev'!$A39-35,0)","v":2.1499999999999998E-2},{"$f":"OFFSET(Male!AX$18,'Male - Rev'!$A39-35,0)","v":2.0799999999999999E-2},{"$f":"OFFSET(Male!AY$18,'Male - Rev'!$A39-35,0)","v":0.02},{"$f":"OFFSET(Male!AZ$18,'Male - Rev'!$A39-35,0)","v":1.9E-2},{"$f":"OFFSET(Male!BA$18,'Male - Rev'!$A39-35,0)","v":1.7999999999999999E-2},{"$f":"OFFSET(Male!BB$18,'Male - Rev'!$A39-35,0)","v":1.6799999999999999E-2},{"$f":"OFFSET(Male!BC$18,'Male - Rev'!$A39-35,0)","v":1.54E-2},{"$f":"OFFSET(Male!BD$18,'Male - Rev'!$A39-35,0)","v":1.3599999999999999E-2},{"$f":"OFFSET(Male!BE$18,'Male - Rev'!$A39-35,0)","v":1.15E-2},{"$f":"OFFSET(Male!BF$18,'Male - Rev'!$A39-35,0)","v":9.1000000000000004E-3},{"$f":"OFFSET(Male!BG$18,'Male - Rev'!$A39-35,0)","v":6.4999999999999997E-3},{"$f":"OFFSET(Male!BH$18,'Male - Rev'!$A39-35,0)","v":3.8E-3},{"$f":"OFFSET(Male!BI$18,'Male - Rev'!$A39-35,0)","v":1E-3},{"$f":"OFFSET(Male!BJ$18,'Male - Rev'!$A39-35,0)","v":-1.6999999999999999E-3},{"$f":"OFFSET(Male!BK$18,'Male - Rev'!$A39-35,0)","v":-3.8999999999999998E-3},{"$f":"OFFSET(Male!BL$18,'Male - Rev'!$A39-35,0)","v":-5.4999999999999997E-3},{"$f":"OFFSET(Male!BM$18,'Male - Rev'!$A39-35,0)","v":-6.3E-3},{"$f":"OFFSET(Male!BN$18,'Male - Rev'!$A39-35,0)","v":-6.1999999999999998E-3},{"$f":"OFFSET(Male!BO$18,'Male - Rev'!$A39-35,0)","v":-5.7000000000000002E-3},{"$f":"OFFSET(Male!BP$18,'Male - Rev'!$A39-35,0)","v":-4.4999999999999997E-3},{"$f":"OFFSET(Male!BQ$18,'Male - Rev'!$A39-35,0)","v":-2.7000000000000001E-3},{"$f":"OFFSET(Male!BR$18,'Male - Rev'!$A39-35,0)","v":-5.0000000000000001E-4},{"$f":"OFFSET(Male!BS$18,'Male - Rev'!$A39-35,0)","v":1.8E-3},{"$f":"OFFSET(Male!BT$18,'Male - Rev'!$A39-35,0)","v":4.1000000000000003E-3},{"$f":"OFFSET(Male!BU$18,'Male - Rev'!$A39-35,0)","v":6.1999999999999998E-3},{"$f":"OFFSET(Male!BV$18,'Male - Rev'!$A39-35,0)","v":8.0000000000000002E-3},{"$f":"OFFSET(Male!BW$18,'Male - Rev'!$A39-35,0)","v":9.2999999999999992E-3},{"$f":"OFFSET(Male!BX$18,'Male - Rev'!$A39-35,0)","v":0.01},{"$f":"OFFSET(Male!BY$18,'Male - Rev'!$A39-35,0)","v":1.03E-2},{"$f":"OFFSET(Male!BZ$18,'Male - Rev'!$A39-35,0)","v":1.0200000000000001E-2},{"$f":"OFFSET(Male!CA$18,'Male - Rev'!$A39-35,0)","v":1.0200000000000001E-2},{"$f":"OFFSET(Male!CB$18,'Male - Rev'!$A39-35,0)","v":1.0200000000000001E-2},{"$f":"OFFSET(Male!CC$18,'Male - Rev'!$A39-35,0)","v":1.0500000000000001E-2},{"$f":"OFFSET(Male!CD$18,'Male - Rev'!$A39-35,0)","v":1.09E-2},{"$f":"OFFSET(Male!CE$18,'Male - Rev'!$A39-35,0)","v":1.15E-2},{"$f":"OFFSET(Male!CF$18,'Male - Rev'!$A39-35,0)","v":1.2200000000000001E-2},{"$f":"OFFSET(Male!CG$18,'Male - Rev'!$A39-35,0)","v":1.2800000000000001E-2},{"$f":"OFFSET(Male!CH$18,'Male - Rev'!$A39-35,0)","v":1.3299999999999999E-2},{"$f":"OFFSET(Male!CI$18,'Male - Rev'!$A39-35,0)","v":1.35E-2},{"$f":"CJ39","v":1.35E-2},1.35E-2]
[58,58,{"$f":"OFFSET(Male!B$18,'Male - Rev'!$A40-35,0)","v":1.46E-2},{"$f":"OFFSET(Male!C$18,'Male - Rev'!$A40-35,0)","v":1.2999999999999999E-2},{"$f":"OFFSET(Male!D$18,'Male - Rev'!$A40-35,0)","v":1.1299999999999999E-2},{"$f":"OFFSET(Male!E$18,'Male - Rev'!$A40-35,0)","v":9.4000000000000004E-3},{"$f":"OFFSET(Male!F$18,'Male - Rev'!$A40-35,0)","v":7.4000000000000003E-3},{"$f":"OFFSET(Male!G$18,'Male - Rev'!$A40-35,0)","v":5.4000000000000003E-3},{"$f":"OFFSET(Male!H$18,'Male - Rev'!$A40-35,0)","v":3.7000000000000002E-3},{"$f":"OFFSET(Male!I$18,'Male - Rev'!$A40-35,0)","v":2.2000000000000001E-3},{"$f":"OFFSET(Male!J$18,'Male - Rev'!$A40-35,0)","v":1E-3},{"$f":"OFFSET(Male!K$18,'Male - Rev'!$A40-35,0)","v":-1E-4},{"$f":"OFFSET(Male!L$18,'Male - Rev'!$A40-35,0)","v":-1.1999999999999999E-3},{"$f":"OFFSET(Male!M$18,'Male - Rev'!$A40-35,0)","v":-2.0999999999999999E-3},{"$f":"OFFSET(Male!N$18,'Male - Rev'!$A40-35,0)","v":-2.8E-3},{"$f":"OFFSET(Male!O$18,'Male - Rev'!$A40-35,0)","v":-2.8999999999999998E-3},{"$f":"OFFSET(Male!P$18,'Male - Rev'!$A40-35,0)","v":-2.3999999999999998E-3},{"$f":"OFFSET(Male!Q$18,'Male - Rev'!$A40-35,0)","v":-1.1999999999999999E-3},{"$f":"OFFSET(Male!R$18,'Male - Rev'!$A40-35,0)","v":8.0000000000000004E-4},{"$f":"OFFSET(Male!S$18,'Male - Rev'!$A40-35,0)","v":3.7000000000000002E-3},{"$f":"OFFSET(Male!T$18,'Male - Rev'!$A40-35,0)","v":7.4000000000000003E-3},{"$f":"OFFSET(Male!U$18,'Male - Rev'!$A40-35,0)","v":1.15E-2},{"$f":"OFFSET(Male!V$18,'Male - Rev'!$A40-35,0)","v":1.5900000000000001E-2},{"$f":"OFFSET(Male!W$18,'Male - Rev'!$A40-35,0)","v":0.02},{"$f":"OFFSET(Male!X$18,'Male - Rev'!$A40-35,0)","v":2.3599999999999999E-2},{"$f":"OFFSET(Male!Y$18,'Male - Rev'!$A40-35,0)","v":2.64E-2},{"$f":"OFFSET(Male!Z$18,'Male - Rev'!$A40-35,0)","v":2.7799999999999998E-2},{"$f":"OFFSET(Male!AA$18,'Male - Rev'!$A40-35,0)","v":2.7900000000000001E-2},{"$f":"OFFSET(Male!AB$18,'Male - Rev'!$A40-35,0)","v":2.6700000000000002E-2},{"$f":"OFFSET(Male!AC$18,'Male - Rev'!$A40-35,0)","v":2.47E-2},{"$f":"OFFSET(Male!AD$18,'Male - Rev'!$A40-35,0)","v":2.2100000000000002E-2},{"$f":"OFFSET(Male!AE$18,'Male - Rev'!$A40-35,0)","v":1.9400000000000001E-2},{"$f":"OFFSET(Male!AF$18,'Male - Rev'!$A40-35,0)","v":1.72E-2},{"$f":"OFFSET(Male!AG$18,'Male - Rev'!$A40-35,0)","v":1.5599999999999999E-2},{"$f":"OFFSET(Male!AH$18,'Male - Rev'!$A40-35,0)","v":1.4800000000000001E-2},{"$f":"OFFSET(Male!AI$18,'Male - Rev'!$A40-35,0)","v":1.47E-2},{"$f":"OFFSET(Male!AJ$18,'Male - Rev'!$A40-35,0)","v":1.52E-2},{"$f":"OFFSET(Male!AK$18,'Male - Rev'!$A40-35,0)","v":1.61E-2},{"$f":"OFFSET(Male!AL$18,'Male - Rev'!$A40-35,0)","v":1.72E-2},{"$f":"OFFSET(Male!AM$18,'Male - Rev'!$A40-35,0)","v":1.83E-2},{"$f":"OFFSET(Male!AN$18,'Male - Rev'!$A40-35,0)","v":1.9300000000000001E-2},{"$f":"OFFSET(Male!AO$18,'Male - Rev'!$A40-35,0)","v":2.0299999999999999E-2},{"$f":"OFFSET(Male!AP$18,'Male - Rev'!$A40-35,0)","v":2.1100000000000001E-2},{"$f":"OFFSET(Male!AQ$18,'Male - Rev'!$A40-35,0)","v":2.1600000000000001E-2},{"$f":"OFFSET(Male!AR$18,'Male - Rev'!$A40-35,0)","v":2.1999999999999999E-2},{"$f":"OFFSET(Male!AS$18,'Male - Rev'!$A40-35,0)","v":2.23E-2},{"$f":"OFFSET(Male!AT$18,'Male - Rev'!$A40-35,0)","v":2.24E-2},{"$f":"OFFSET(Male!AU$18,'Male - Rev'!$A40-35,0)","v":2.2200000000000001E-2},{"$f":"OFFSET(Male!AV$18,'Male - Rev'!$A40-35,0)","v":2.1600000000000001E-2},{"$f":"OFFSET(Male!AW$18,'Male - Rev'!$A40-35,0)","v":2.07E-2},{"$f":"OFFSET(Male!AX$18,'Male - Rev'!$A40-35,0)","v":1.95E-2},{"$f":"OFFSET(Male!AY$18,'Male - Rev'!$A40-35,0)","v":1.8200000000000001E-2},{"$f":"OFFSET(Male!AZ$18,'Male - Rev'!$A40-35,0)","v":1.6899999999999998E-2},{"$f":"OFFSET(Male!BA$18,'Male - Rev'!$A40-35,0)","v":1.55E-2},{"$f":"OFFSET(Male!BB$18,'Male - Rev'!$A40-35,0)","v":1.4200000000000001E-2},{"$f":"OFFSET(Male!BC$18,'Male - Rev'!$A40-35,0)","v":1.26E-2},{"$f":"OFFSET(Male!BD$18,'Male - Rev'!$A40-35,0)","v":1.09E-2},{"$f":"OFFSET(Male!BE$18,'Male - Rev'!$A40-35,0)","v":8.9999999999999993E-3},{"$f":"OFFSET(Male!BF$18,'Male - Rev'!$A40-35,0)","v":6.8999999999999999E-3},{"$f":"OFFSET(Male!BG$18,'Male - Rev'!$A40-35,0)","v":4.7000000000000002E-3},{"$f":"OFFSET(Male!BH$18,'Male - Rev'!$A40-35,0)","v":2.5999999999999999E-3},{"$f":"OFFSET(Male!BI$18,'Male - Rev'!$A40-35,0)","v":4.0000000000000002E-4},{"$f":"OFFSET(Male!BJ$18,'Male - Rev'!$A40-35,0)","v":-1.6000000000000001E-3},{"$f":"OFFSET(Male!BK$18,'Male - Rev'!$A40-35,0)","v":-3.3E-3},{"$f":"OFFSET(Male!BL$18,'Male - Rev'!$A40-35,0)","v":-4.4999999999999997E-3},{"$f":"OFFSET(Male!BM$18,'Male - Rev'!$A40-35,0)","v":-4.8999999999999998E-3},{"$f":"OFFSET(Male!BN$18,'Male - Rev'!$A40-35,0)","v":-4.7000000000000002E-3},{"$f":"OFFSET(Male!BO$18,'Male - Rev'!$A40-35,0)","v":-4.0000000000000001E-3},{"$f":"OFFSET(Male!BP$18,'Male - Rev'!$A40-35,0)","v":-2.7000000000000001E-3},{"$f":"OFFSET(Male!BQ$18,'Male - Rev'!$A40-35,0)","v":-1E-3},{"$f":"OFFSET(Male!BR$18,'Male - Rev'!$A40-35,0)","v":1E-3},{"$f":"OFFSET(Male!BS$18,'Male - Rev'!$A40-35,0)","v":3.0000000000000001E-3},{"$f":"OFFSET(Male!BT$18,'Male - Rev'!$A40-35,0)","v":5.0000000000000001E-3},{"$f":"OFFSET(Male!BU$18,'Male - Rev'!$A40-35,0)","v":6.7000000000000002E-3},{"$f":"OFFSET(Male!BV$18,'Male - Rev'!$A40-35,0)","v":8.0999999999999996E-3},{"$f":"OFFSET(Male!BW$18,'Male - Rev'!$A40-35,0)","v":9.1000000000000004E-3},{"$f":"OFFSET(Male!BX$18,'Male - Rev'!$A40-35,0)","v":9.5999999999999992E-3},{"$f":"OFFSET(Male!BY$18,'Male - Rev'!$A40-35,0)","v":9.7000000000000003E-3},{"$f":"OFFSET(Male!BZ$18,'Male - Rev'!$A40-35,0)","v":9.4999999999999998E-3},{"$f":"OFFSET(Male!CA$18,'Male - Rev'!$A40-35,0)","v":9.4999999999999998E-3},{"$f":"OFFSET(Male!CB$18,'Male - Rev'!$A40-35,0)","v":9.5999999999999992E-3},{"$f":"OFFSET(Male!CC$18,'Male - Rev'!$A40-35,0)","v":0.01},{"$f":"OFFSET(Male!CD$18,'Male - Rev'!$A40-35,0)","v":1.06E-2},{"$f":"OFFSET(Male!CE$18,'Male - Rev'!$A40-35,0)","v":1.1299999999999999E-2},{"$f":"OFFSET(Male!CF$18,'Male - Rev'!$A40-35,0)","v":1.2E-2},{"$f":"OFFSET(Male!CG$18,'Male - Rev'!$A40-35,0)","v":1.2800000000000001E-2},{"$f":"OFFSET(Male!CH$18,'Male - Rev'!$A40-35,0)","v":1.3299999999999999E-2},{"$f":"OFFSET(Male!CI$18,'Male - Rev'!$A40-35,0)","v":1.35E-2},{"$f":"CJ40","v":1.35E-2},1.35E-2]
[57,57,{"$f":"OFFSET(Male!B$18,'Male - Rev'!$A41-35,0)","v":1.52E-2},{"$f":"OFFSET(Male!C$18,'Male - Rev'!$A41-35,0)","v":1.37E-2},{"$f":"OFFSET(Male!D$18,'Male - Rev'!$A41-35,0)","v":1.21E-2},{"$f":"OFFSET(Male!E$18,'Male - Rev'!$A41-35,0)","v":1.03E-2},{"$f":"OFFSET(Male!F$18,'Male - Rev'!$A41-35,0)","v":8.3000000000000001E-3},{"$f":"OFFSET(Male!G$18,'Male - Rev'!$A41-35,0)","v":6.3E-3},{"$f":"OFFSET(Male!H$18,'Male - Rev'!$A41-35,0)","v":4.4999999999999997E-3},{"$f":"OFFSET(Male!I$18,'Male - Rev'!$A41-35,0)","v":3.0000000000000001E-3},{"$f":"OFFSET(Male!J$18,'Male - Rev'!$A41-35,0)","v":1.6999999999999999E-3},{"$f":"OFFSET(Male!K$18,'Male - Rev'!$A41-35,0)","v":5.0000000000000001E-4},{"$f":"OFFSET(Male!L$18,'Male - Rev'!$A41-35,0)","v":-5.9999999999999995E-4},{"$f":"OFFSET(Male!M$18,'Male - Rev'!$A41-35,0)","v":-1.6000000000000001E-3},{"$f":"OFFSET(Male!N$18,'Male - Rev'!$A41-35,0)","v":-2.3E-3},{"$f":"OFFSET(Male!O$18,'Male - Rev'!$A41-35,0)","v":-2.5999999999999999E-3},{"$f":"OFFSET(Male!P$18,'Male - Rev'!$A41-35,0)","v":-2.2000000000000001E-3},{"$f":"OFFSET(Male!Q$18,'Male - Rev'!$A41-35,0)","v":-1.1999999999999999E-3},{"$f":"OFFSET(Male!R$18,'Male - Rev'!$A41-35,0)","v":8.0000000000000004E-4},{"$f":"OFFSET(Male!S$18,'Male - Rev'!$A41-35,0)","v":3.7000000000000002E-3},{"$f":"OFFSET(Male!T$18,'Male - Rev'!$A41-35,0)","v":7.4000000000000003E-3},{"$f":"OFFSET(Male!U$18,'Male - Rev'!$A41-35,0)","v":1.1599999999999999E-2},{"$f":"OFFSET(Male!V$18,'Male - Rev'!$A41-35,0)","v":1.6E-2},{"$f":"OFFSET(Male!W$18,'Male - Rev'!$A41-35,0)","v":2.0199999999999999E-2},{"$f":"OFFSET(Male!X$18,'Male - Rev'!$A41-35,0)","v":2.3900000000000001E-2},{"$f":"OFFSET(Male!Y$18,'Male - Rev'!$A41-35,0)","v":2.6499999999999999E-2},{"$f":"OFFSET(Male!Z$18,'Male - Rev'!$A41-35,0)","v":2.7900000000000001E-2},{"$f":"OFFSET(Male!AA$18,'Male - Rev'!$A41-35,0)","v":2.8000000000000001E-2},{"$f":"OFFSET(Male!AB$18,'Male - Rev'!$A41-35,0)","v":2.6700000000000002E-2},{"$f":"OFFSET(Male!AC$18,'Male - Rev'!$A41-35,0)","v":2.46E-2},{"$f":"OFFSET(Male!AD$18,'Male - Rev'!$A41-35,0)","v":2.2100000000000002E-2},{"$f":"OFFSET(Male!AE$18,'Male - Rev'!$A41-35,0)","v":1.95E-2},{"$f":"OFFSET(Male!AF$18,'Male - Rev'!$A41-35,0)","v":1.7500000000000002E-2},{"$f":"OFFSET(Male!AG$18,'Male - Rev'!$A41-35,0)","v":1.61E-2},{"$f":"OFFSET(Male!AH$18,'Male - Rev'!$A41-35,0)","v":1.54E-2},{"$f":"OFFSET(Male!AI$18,'Male - Rev'!$A41-35,0)","v":1.54E-2},{"$f":"OFFSET(Male!AJ$18,'Male - Rev'!$A41-35,0)","v":1.5900000000000001E-2},{"$f":"OFFSET(Male!AK$18,'Male - Rev'!$A41-35,0)","v":1.6799999999999999E-2},{"$f":"OFFSET(Male!AL$18,'Male - Rev'!$A41-35,0)","v":1.78E-2},{"$f":"OFFSET(Male!AM$18,'Male - Rev'!$A41-35,0)","v":1.8800000000000001E-2},{"$f":"OFFSET(Male!AN$18,'Male - Rev'!$A41-35,0)","v":1.9699999999999999E-2},{"$f":"OFFSET(Male!AO$18,'Male - Rev'!$A41-35,0)","v":2.06E-2},{"$f":"OFFSET(Male!AP$18,'Male - Rev'!$A41-35,0)","v":2.1299999999999999E-2},{"$f":"OFFSET(Male!AQ$18,'Male - Rev'!$A41-35,0)","v":2.18E-2},{"$f":"OFFSET(Male!AR$18,'Male - Rev'!$A41-35,0)","v":2.23E-2},{"$f":"OFFSET(Male!AS$18,'Male - Rev'!$A41-35,0)","v":2.2499999999999999E-2},{"$f":"OFFSET(Male!AT$18,'Male - Rev'!$A41-35,0)","v":2.2499999999999999E-2},{"$f":"OFFSET(Male!AU$18,'Male - Rev'!$A41-35,0)","v":2.2100000000000002E-2},{"$f":"OFFSET(Male!AV$18,'Male - Rev'!$A41-35,0)","v":2.1100000000000001E-2},{"$f":"OFFSET(Male!AW$18,'Male - Rev'!$A41-35,0)","v":1.9699999999999999E-2},{"$f":"OFFSET(Male!AX$18,'Male - Rev'!$A41-35,0)","v":1.7999999999999999E-2},{"$f":"OFFSET(Male!AY$18,'Male - Rev'!$A41-35,0)","v":1.6199999999999999E-2},{"$f":"OFFSET(Male!AZ$18,'Male - Rev'!$A41-35,0)","v":1.44E-2},{"$f":"OFFSET(Male!BA$18,'Male - Rev'!$A41-35,0)","v":1.2699999999999999E-2},{"$f":"OFFSET(Male!BB$18,'Male - Rev'!$A41-35,0)","v":1.12E-2},{"$f":"OFFSET(Male!BC$18,'Male - Rev'!$A41-35,0)","v":9.7000000000000003E-3},{"$f":"OFFSET(Male!BD$18,'Male - Rev'!$A41-35,0)","v":8.2000000000000007E-3},{"$f":"OFFSET(Male!BE$18,'Male - Rev'!$A41-35,0)","v":6.7000000000000002E-3},{"$f":"OFFSET(Male!BF$18,'Male - Rev'!$A41-35,0)","v":5.1000000000000004E-3},{"$f":"OFFSET(Male!BG$18,'Male - Rev'!$A41-35,0)","v":3.5999999999999999E-3},{"$f":"OFFSET(Male!BH$18,'Male - Rev'!$A41-35,0)","v":2.0999999999999999E-3},{"$f":"OFFSET(Male!BI$18,'Male - Rev'!$A41-35,0)","v":5.0000000000000001E-4},{"$f":"OFFSET(Male!BJ$18,'Male - Rev'!$A41-35,0)","v":-8.9999999999999998E-4},{"$f":"OFFSET(Male!BK$18,'Male - Rev'!$A41-35,0)","v":-2.2000000000000001E-3},{"$f":"OFFSET(Male!BL$18,'Male - Rev'!$A41-35,0)","v":-3.0000000000000001E-3},{"$f":"OFFSET(Male!BM$18,'Male - Rev'!$A41-35,0)","v":-3.2000000000000002E-3},{"$f":"OFFSET(Male!BN$18,'Male - Rev'!$A41-35,0)","v":-2.8999999999999998E-3},{"$f":"OFFSET(Male!BO$18,'Male - Rev'!$A41-35,0)","v":-2.0999999999999999E-3},{"$f":"OFFSET(Male!BP$18,'Male - Rev'!$A41-35,0)","v":-8.9999999999999998E-4},{"$f":"OFFSET(Male!BQ$18,'Male - Rev'!$A41-35,0)","v":6.9999999999999999E-4},{"$f":"OFFSET(Male!BR$18,'Male - Rev'!$A41-35,0)","v":2.3999999999999998E-3},{"$f":"OFFSET(Male!BS$18,'Male - Rev'!$A41-35,0)","v":4.1000000000000003E-3},{"$f":"OFFSET(Male!BT$18,'Male - Rev'!$A41-35,0)","v":5.7000000000000002E-3},{"$f":"OFFSET(Male!BU$18,'Male - Rev'!$A41-35,0)","v":7.0000000000000001E-3},{"$f":"OFFSET(Male!BV$18,'Male - Rev'!$A41-35,0)","v":8.0000000000000002E-3},{"$f":"OFFSET(Male!BW$18,'Male - Rev'!$A41-35,0)","v":8.6E-3},{"$f":"OFFSET(Male!BX$18,'Male - Rev'!$A41-35,0)","v":8.8999999999999999E-3},{"$f":"OFFSET(Male!BY$18,'Male - Rev'!$A41-35,0)","v":8.8999999999999999E-3},{"$f":"OFFSET(Male!BZ$18,'Male - Rev'!$A41-35,0)","v":8.6999999999999994E-3},{"$f":"OFFSET(Male!CA$18,'Male - Rev'!$A41-35,0)","v":8.6999999999999994E-3},{"$f":"OFFSET(Male!CB$18,'Male - Rev'!$A41-35,0)","v":8.9999999999999993E-3},{"$f":"OFFSET(Male!CC$18,'Male - Rev'!$A41-35,0)","v":9.4999999999999998E-3},{"$f":"OFFSET(Male!CD$18,'Male - Rev'!$A41-35,0)","v":1.0200000000000001E-2},{"$f":"OFFSET(Male!CE$18,'Male - Rev'!$A41-35,0)","v":1.0999999999999999E-2},{"$f":"OFFSET(Male!CF$18,'Male - Rev'!$A41-35,0)","v":1.1900000000000001E-2},{"$f":"OFFSET(Male!CG$18,'Male - Rev'!$A41-35,0)","v":1.2699999999999999E-2},{"$f":"OFFSET(Male!CH$18,'Male - Rev'!$A41-35,0)","v":1.3299999999999999E-2},{"$f":"OFFSET(Male!CI$18,'Male - Rev'!$A41-35,0)","v":1.35E-2},{"$f":"CJ41","v":1.35E-2},1.35E-2]
[56,56,{"$f":"OFFSET(Male!B$18,'Male - Rev'!$A42-35,0)","v":1.5699999999999999E-2},{"$f":"OFFSET(Male!C$18,'Male - Rev'!$A42-35,0)","v":1.43E-2},{"$f":"OFFSET(Male!D$18,'Male - Rev'!$A42-35,0)","v":1.2800000000000001E-2},{"$f":"OFFSET(Male!E$18,'Male - Rev'!$A42-35,0)","v":1.0999999999999999E-2},{"$f":"OFFSET(Male!F$18,'Male - Rev'!$A42-35,0)","v":8.9999999999999993E-3},{"$f":"OFFSET(Male!G$18,'Male - Rev'!$A42-35,0)","v":7.0000000000000001E-3},{"$f":"OFFSET(Male!H$18,'Male - Rev'!$A42-35,0)","v":5.1000000000000004E-3},{"$f":"OFFSET(Male!I$18,'Male - Rev'!$A42-35,0)","v":3.5000000000000001E-3},{"$f":"OFFSET(Male!J$18,'Male - Rev'!$A42-35,0)","v":2.2000000000000001E-3},{"$f":"OFFSET(Male!K$18,'Male - Rev'!$A42-35,0)","v":1E-3},{"$f":"OFFSET(Male!L$18,'Male - Rev'!$A42-35,0)","v":-1E-4},{"$f":"OFFSET(Male!M$18,'Male - Rev'!$A42-35,0)","v":-1.1000000000000001E-3},{"$f":"OFFSET(Male!N$18,'Male - Rev'!$A42-35,0)","v":-1.9E-3},{"$f":"OFFSET(Male!O$18,'Male - Rev'!$A42-35,0)","v":-2.2000000000000001E-3},{"$f":"OFFSET(Male!P$18,'Male - Rev'!$A42-35,0)","v":-1.9E-3},{"$f":"OFFSET(Male!Q$18,'Male - Rev'!$A42-35,0)","v":-8.9999999999999998E-4},{"$f":"OFFSET(Male!R$18,'Male - Rev'!$A42-35,0)","v":1E-3},{"$f":"OFFSET(Male!S$18,'Male - Rev'!$A42-35,0)","v":3.8999999999999998E-3},{"$f":"OFFSET(Male!T$18,'Male - Rev'!$A42-35,0)","v":7.6E-3},{"$f":"OFFSET(Male!U$18,'Male - Rev'!$A42-35,0)","v":1.18E-2},{"$f":"OFFSET(Male!V$18,'Male - Rev'!$A42-35,0)","v":1.6199999999999999E-2},{"$f":"OFFSET(Male!W$18,'Male - Rev'!$A42-35,0)","v":2.0299999999999999E-2},{"$f":"OFFSET(Male!X$18,'Male - Rev'!$A42-35,0)","v":2.3900000000000001E-2},{"$f":"OFFSET(Male!Y$18,'Male - Rev'!$A42-35,0)","v":2.64E-2},{"$f":"OFFSET(Male!Z$18,'Male - Rev'!$A42-35,0)","v":2.7799999999999998E-2},{"$f":"OFFSET(Male!AA$18,'Male - Rev'!$A42-35,0)","v":2.7699999999999999E-2},{"$f":"OFFSET(Male!AB$18,'Male - Rev'!$A42-35,0)","v":2.6599999999999999E-2},{"$f":"OFFSET(Male!AC$18,'Male - Rev'!$A42-35,0)","v":2.46E-2},{"$f":"OFFSET(Male!AD$18,'Male - Rev'!$A42-35,0)","v":2.2200000000000001E-2},{"$f":"OFFSET(Male!AE$18,'Male - Rev'!$A42-35,0)","v":1.9900000000000001E-2},{"$f":"OFFSET(Male!AF$18,'Male - Rev'!$A42-35,0)","v":1.8100000000000002E-2},{"$f":"OFFSET(Male!AG$18,'Male - Rev'!$A42-35,0)","v":1.6899999999999998E-2},{"$f":"OFFSET(Male!AH$18,'Male - Rev'!$A42-35,0)","v":1.6299999999999999E-2},{"$f":"OFFSET(Male!AI$18,'Male - Rev'!$A42-35,0)","v":1.6299999999999999E-2},{"$f":"OFFSET(Male!AJ$18,'Male - Rev'!$A42-35,0)","v":1.67E-2},{"$f":"OFFSET(Male!AK$18,'Male - Rev'!$A42-35,0)","v":1.7500000000000002E-2},{"$f":"OFFSET(Male!AL$18,'Male - Rev'!$A42-35,0)","v":1.83E-2},{"$f":"OFFSET(Male!AM$18,'Male - Rev'!$A42-35,0)","v":1.9199999999999998E-2},{"$f":"OFFSET(Male!AN$18,'Male - Rev'!$A42-35,0)","v":0.02},{"$f":"OFFSET(Male!AO$18,'Male - Rev'!$A42-35,0)","v":2.07E-2},{"$f":"OFFSET(Male!AP$18,'Male - Rev'!$A42-35,0)","v":2.1299999999999999E-2},{"$f":"OFFSET(Male!AQ$18,'Male - Rev'!$A42-35,0)","v":2.1700000000000001E-2},{"$f":"OFFSET(Male!AR$18,'Male - Rev'!$A42-35,0)","v":2.2100000000000002E-2},{"$f":"OFFSET(Male!AS$18,'Male - Rev'!$A42-35,0)","v":2.24E-2},{"$f":"OFFSET(Male!AT$18,'Male - Rev'!$A42-35,0)","v":2.23E-2},{"$f":"OFFSET(Male!AU$18,'Male - Rev'!$A42-35,0)","v":2.18E-2},{"$f":"OFFSET(Male!AV$18,'Male - Rev'!$A42-35,0)","v":2.06E-2},{"$f":"OFFSET(Male!AW$18,'Male - Rev'!$A42-35,0)","v":1.8700000000000001E-2},{"$f":"OFFSET(Male!AX$18,'Male - Rev'!$A42-35,0)","v":1.6400000000000001E-2},{"$f":"OFFSET(Male!AY$18,'Male - Rev'!$A42-35,0)","v":1.4E-2},{"$f":"OFFSET(Male!AZ$18,'Male - Rev'!$A42-35,0)","v":1.1599999999999999E-2},{"$f":"OFFSET(Male!BA$18,'Male - Rev'!$A42-35,0)","v":9.5999999999999992E-3},{"$f":"OFFSET(Male!BB$18,'Male - Rev'!$A42-35,0)","v":8.0000000000000002E-3},{"$f":"OFFSET(Male!BC$18,'Male - Rev'!$A42-35,0)","v":6.7999999999999996E-3},{"$f":"OFFSET(Male!BD$18,'Male - Rev'!$A42-35,0)","v":5.7000000000000002E-3},{"$f":"OFFSET(Male!BE$18,'Male - Rev'!$A42-35,0)","v":4.7999999999999996E-3},{"$f":"OFFSET(Male!BF$18,'Male - Rev'!$A42-35,0)","v":4.1000000000000003E-3},{"$f":"OFFSET(Male!BG$18,'Male - Rev'!$A42-35,0)","v":3.3E-3},{"$f":"OFFSET(Male!BH$18,'Male - Rev'!$A42-35,0)","v":2.3999999999999998E-3},{"$f":"OFFSET(Male!BI$18,'Male - Rev'!$A42-35,0)","v":1.4E-3},{"$f":"OFFSET(Male!BJ$18,'Male - Rev'!$A42-35,0)","v":4.0000000000000002E-4},{"$f":"OFFSET(Male!BK$18,'Male - Rev'!$A42-35,0)","v":-5.0000000000000001E-4},{"$f":"OFFSET(Male!BL$18,'Male - Rev'!$A42-35,0)","v":-1.1000000000000001E-3},{"$f":"OFFSET(Male!BM$18,'Male - Rev'!$A42-35,0)","v":-1.2999999999999999E-3},{"$f":"OFFSET(Male!BN$18,'Male - Rev'!$A42-35,0)","v":-1E-3},{"$f":"OFFSET(Male!BO$18,'Male - Rev'!$A42-35,0)","v":-2.0000000000000001E-4},{"$f":"OFFSET(Male!BP$18,'Male - Rev'!$A42-35,0)","v":8.9999999999999998E-4},{"$f":"OFFSET(Male!BQ$18,'Male - Rev'!$A42-35,0)","v":2.2000000000000001E-3},{"$f":"OFFSET(Male!BR$18,'Male - Rev'!$A42-35,0)","v":3.5999999999999999E-3},{"$f":"OFFSET(Male!BS$18,'Male - Rev'!$A42-35,0)","v":4.8999999999999998E-3},{"$f":"OFFSET(Male!BT$18,'Male - Rev'!$A42-35,0)","v":6.0000000000000001E-3},{"$f":"OFFSET(Male!BU$18,'Male - Rev'!$A42-35,0)","v":6.8999999999999999E-3},{"$f":"OFFSET(Male!BV$18,'Male - Rev'!$A42-35,0)","v":7.6E-3},{"$f":"OFFSET(Male!BW$18,'Male - Rev'!$A42-35,0)","v":8.0000000000000002E-3},{"$f":"OFFSET(Male!BX$18,'Male - Rev'!$A42-35,0)","v":8.0999999999999996E-3},{"$f":"OFFSET(Male!BY$18,'Male - Rev'!$A42-35,0)","v":7.9000000000000008E-3},{"$f":"OFFSET(Male!BZ$18,'Male - Rev'!$A42-35,0)","v":7.7999999999999996E-3},{"$f":"OFFSET(Male!CA$18,'Male - Rev'!$A42-35,0)","v":7.9000000000000008E-3},{"$f":"OFFSET(Male!CB$18,'Male - Rev'!$A42-35,0)","v":8.3000000000000001E-3},{"$f":"OFFSET(Male!CC$18,'Male - Rev'!$A42-35,0)","v":8.8999999999999999E-3},{"$f":"OFFSET(Male!CD$18,'Male - Rev'!$A42-35,0)","v":9.7000000000000003E-3},{"$f":"OFFSET(Male!CE$18,'Male - Rev'!$A42-35,0)","v":1.0699999999999999E-2},{"$f":"OFFSET(Male!CF$18,'Male - Rev'!$A42-35,0)","v":1.17E-2},{"$f":"OFFSET(Male!CG$18,'Male - Rev'!$A42-35,0)","v":1.26E-2},{"$f":"OFFSET(Male!CH$18,'Male - Rev'!$A42-35,0)","v":1.3299999999999999E-2},{"$f":"OFFSET(Male!CI$18,'Male - Rev'!$A42-35,0)","v":1.35E-2},{"$f":"CJ42","v":1.35E-2},1.35E-2]
[55,55,{"$f":"OFFSET(Male!B$18,'Male - Rev'!$A43-35,0)","v":1.61E-2},{"$f":"OFFSET(Male!C$18,'Male - Rev'!$A43-35,0)","v":1.4800000000000001E-2},{"$f":"OFFSET(Male!D$18,'Male - Rev'!$A43-35,0)","v":1.34E-2},{"$f":"OFFSET(Male!E$18,'Male - Rev'!$A43-35,0)","v":1.1599999999999999E-2},{"$f":"OFFSET(Male!F$18,'Male - Rev'!$A43-35,0)","v":9.5999999999999992E-3},{"$f":"OFFSET(Male!G$18,'Male - Rev'!$A43-35,0)","v":7.4999999999999997E-3},{"$f":"OFFSET(Male!H$18,'Male - Rev'!$A43-35,0)","v":5.5999999999999999E-3},{"$f":"OFFSET(Male!I$18,'Male - Rev'!$A43-35,0)","v":4.0000000000000001E-3},{"$f":"OFFSET(Male!J$18,'Male - Rev'!$A43-35,0)","v":2.5999999999999999E-3},{"$f":"OFFSET(Male!K$18,'Male - Rev'!$A43-35,0)","v":1.4E-3},{"$f":"OFFSET(Male!L$18,'Male - Rev'!$A43-35,0)","v":2.0000000000000001E-4},{"$f":"OFFSET(Male!M$18,'Male - Rev'!$A43-35,0)","v":-8.0000000000000004E-4},{"$f":"OFFSET(Male!N$18,'Male - Rev'!$A43-35,0)","v":-1.5E-3},{"$f":"OFFSET(Male!O$18,'Male - Rev'!$A43-35,0)","v":-1.8E-3},{"$f":"OFFSET(Male!P$18,'Male - Rev'!$A43-35,0)","v":-1.6000000000000001E-3},{"$f":"OFFSET(Male!Q$18,'Male - Rev'!$A43-35,0)","v":-5.0000000000000001E-4},{"$f":"OFFSET(Male!R$18,'Male - Rev'!$A43-35,0)","v":1.4E-3},{"$f":"OFFSET(Male!S$18,'Male - Rev'!$A43-35,0)","v":4.3E-3},{"$f":"OFFSET(Male!T$18,'Male - Rev'!$A43-35,0)","v":7.9000000000000008E-3},{"$f":"OFFSET(Male!U$18,'Male - Rev'!$A43-35,0)","v":1.2E-2},{"$f":"OFFSET(Male!V$18,'Male - Rev'!$A43-35,0)","v":1.6299999999999999E-2},{"$f":"OFFSET(Male!W$18,'Male - Rev'!$A43-35,0)","v":2.0299999999999999E-2},{"$f":"OFFSET(Male!X$18,'Male - Rev'!$A43-35,0)","v":2.3699999999999999E-2},{"$f":"OFFSET(Male!Y$18,'Male - Rev'!$A43-35,0)","v":2.6100000000000002E-2},{"$f":"OFFSET(Male!Z$18,'Male - Rev'!$A43-35,0)","v":2.7300000000000001E-2},{"$f":"OFFSET(Male!AA$18,'Male - Rev'!$A43-35,0)","v":2.7400000000000001E-2},{"$f":"OFFSET(Male!AB$18,'Male - Rev'!$A43-35,0)","v":2.64E-2},{"$f":"OFFSET(Male!AC$18,'Male - Rev'!$A43-35,0)","v":2.46E-2},{"$f":"OFFSET(Male!AD$18,'Male - Rev'!$A43-35,0)","v":2.2599999999999999E-2},{"$f":"OFFSET(Male!AE$18,'Male - Rev'!$A43-35,0)","v":2.07E-2},{"$f":"OFFSET(Male!AF$18,'Male - Rev'!$A43-35,0)","v":1.9099999999999999E-2},{"$f":"OFFSET(Male!AG$18,'Male - Rev'!$A43-35,0)","v":1.7999999999999999E-2},{"$f":"OFFSET(Male!AH$18,'Male - Rev'!$A43-35,0)","v":1.7399999999999999E-2},{"$f":"OFFSET(Male!AI$18,'Male - Rev'!$A43-35,0)","v":1.72E-2},{"$f":"OFFSET(Male!AJ$18,'Male - Rev'!$A43-35,0)","v":1.7500000000000002E-2},{"$f":"OFFSET(Male!AK$18,'Male - Rev'!$A43-35,0)","v":1.7999999999999999E-2},{"$f":"OFFSET(Male!AL$18,'Male - Rev'!$A43-35,0)","v":1.8700000000000001E-2},{"$f":"OFFSET(Male!AM$18,'Male - Rev'!$A43-35,0)","v":1.9400000000000001E-2},{"$f":"OFFSET(Male!AN$18,'Male - Rev'!$A43-35,0)","v":0.02},{"$f":"OFFSET(Male!AO$18,'Male - Rev'!$A43-35,0)","v":2.06E-2},{"$f":"OFFSET(Male!AP$18,'Male - Rev'!$A43-35,0)","v":2.0899999999999998E-2},{"$f":"OFFSET(Male!AQ$18,'Male - Rev'!$A43-35,0)","v":2.1299999999999999E-2},{"$f":"OFFSET(Male!AR$18,'Male - Rev'!$A43-35,0)","v":2.1600000000000001E-2},{"$f":"OFFSET(Male!AS$18,'Male - Rev'!$A43-35,0)","v":2.1899999999999999E-2},{"$f":"OFFSET(Male!AT$18,'Male - Rev'!$A43-35,0)","v":2.1899999999999999E-2},{"$f":"OFFSET(Male!AU$18,'Male - Rev'!$A43-35,0)","v":2.1299999999999999E-2},{"$f":"OFFSET(Male!AV$18,'Male - Rev'!$A43-35,0)","v":1.9900000000000001E-2},{"$f":"OFFSET(Male!AW$18,'Male - Rev'!$A43-35,0)","v":1.7600000000000001E-2},{"$f":"OFFSET(Male!AX$18,'Male - Rev'!$A43-35,0)","v":1.47E-2},{"$f":"OFFSET(Male!AY$18,'Male - Rev'!$A43-35,0)","v":1.1599999999999999E-2},{"$f":"OFFSET(Male!AZ$18,'Male - Rev'!$A43-35,0)","v":8.6999999999999994E-3},{"$f":"OFFSET(Male!BA$18,'Male - Rev'!$A43-35,0)","v":6.4000000000000003E-3},{"$f":"OFFSET(Male!BB$18,'Male - Rev'!$A43-35,0)","v":4.7999999999999996E-3},{"$f":"OFFSET(Male!BC$18,'Male - Rev'!$A43-35,0)","v":4.0000000000000001E-3},{"$f":"OFFSET(Male!BD$18,'Male - Rev'!$A43-35,0)","v":3.5999999999999999E-3},{"$f":"OFFSET(Male!BE$18,'Male - Rev'!$A43-35,0)","v":3.5999999999999999E-3},{"$f":"OFFSET(Male!BF$18,'Male - Rev'!$A43-35,0)","v":3.8E-3},{"$f":"OFFSET(Male!BG$18,'Male - Rev'!$A43-35,0)","v":3.8E-3},{"$f":"OFFSET(Male!BH$18,'Male - Rev'!$A43-35,0)","v":3.5999999999999999E-3},{"$f":"OFFSET(Male!BI$18,'Male - Rev'!$A43-35,0)","v":3.0999999999999999E-3},{"$f":"OFFSET(Male!BJ$18,'Male - Rev'!$A43-35,0)","v":2.3E-3},{"$f":"OFFSET(Male!BK$18,'Male - Rev'!$A43-35,0)","v":1.5E-3},{"$f":"OFFSET(Male!BL$18,'Male - Rev'!$A43-35,0)","v":8.9999999999999998E-4},{"$f":"OFFSET(Male!BM$18,'Male - Rev'!$A43-35,0)","v":5.9999999999999995E-4},{"$f":"OFFSET(Male!BN$18,'Male - Rev'!$A43-35,0)","v":8.9999999999999998E-4},{"$f":"OFFSET(Male!BO$18,'Male - Rev'!$A43-35,0)","v":1.5E-3},{"$f":"OFFSET(Male!BP$18,'Male - Rev'!$A43-35,0)","v":2.5000000000000001E-3},{"$f":"OFFSET(Male!BQ$18,'Male - Rev'!$A43-35,0)","v":3.5000000000000001E-3},{"$f":"OFFSET(Male!BR$18,'Male - Rev'!$A43-35,0)","v":4.4999999999999997E-3},{"$f":"OFFSET(Male!BS$18,'Male - Rev'!$A43-35,0)","v":5.4000000000000003E-3},{"$f":"OFFSET(Male!BT$18,'Male - Rev'!$A43-35,0)","v":6.1000000000000004E-3},{"$f":"OFFSET(Male!BU$18,'Male - Rev'!$A43-35,0)","v":6.6E-3},{"$f":"OFFSET(Male!BV$18,'Male - Rev'!$A43-35,0)","v":6.8999999999999999E-3},{"$f":"OFFSET(Male!BW$18,'Male - Rev'!$A43-35,0)","v":7.0000000000000001E-3},{"$f":"OFFSET(Male!BX$18,'Male - Rev'!$A43-35,0)","v":7.0000000000000001E-3},{"$f":"OFFSET(Male!BY$18,'Male - Rev'!$A43-35,0)","v":6.7999999999999996E-3},{"$f":"OFFSET(Male!BZ$18,'Male - Rev'!$A43-35,0)","v":6.7000000000000002E-3},{"$f":"OFFSET(Male!CA$18,'Male - Rev'!$A43-35,0)","v":7.0000000000000001E-3},{"$f":"OFFSET(Male!CB$18,'Male - Rev'!$A43-35,0)","v":7.4999999999999997E-3},{"$f":"OFFSET(Male!CC$18,'Male - Rev'!$A43-35,0)","v":8.3000000000000001E-3},{"$f":"OFFSET(Male!CD$18,'Male - Rev'!$A43-35,0)","v":9.2999999999999992E-3},{"$f":"OFFSET(Male!CE$18,'Male - Rev'!$A43-35,0)","v":1.0500000000000001E-2},{"$f":"OFFSET(Male!CF$18,'Male - Rev'!$A43-35,0)","v":1.1599999999999999E-2},{"$f":"OFFSET(Male!CG$18,'Male - Rev'!$A43-35,0)","v":1.26E-2},{"$f":"OFFSET(Male!CH$18,'Male - Rev'!$A43-35,0)","v":1.3299999999999999E-2},{"$f":"OFFSET(Male!CI$18,'Male - Rev'!$A43-35,0)","v":1.35E-2},{"$f":"CJ43","v":1.35E-2},1.35E-2]
[54,54,{"$f":"OFFSET(Male!B$18,'Male - Rev'!$A44-35,0)","v":1.6400000000000001E-2},{"$f":"OFFSET(Male!C$18,'Male - Rev'!$A44-35,0)","v":1.52E-2},{"$f":"OFFSET(Male!D$18,'Male - Rev'!$A44-35,0)","v":1.3899999999999999E-2},{"$f":"OFFSET(Male!E$18,'Male - Rev'!$A44-35,0)","v":1.2200000000000001E-2},{"$f":"OFFSET(Male!F$18,'Male - Rev'!$A44-35,0)","v":1.0200000000000001E-2},{"$f":"OFFSET(Male!G$18,'Male - Rev'!$A44-35,0)","v":8.0000000000000002E-3},{"$f":"OFFSET(Male!H$18,'Male - Rev'!$A44-35,0)","v":6.0000000000000001E-3},{"$f":"OFFSET(Male!I$18,'Male - Rev'!$A44-35,0)","v":4.1999999999999997E-3},{"$f":"OFFSET(Male!J$18,'Male - Rev'!$A44-35,0)","v":2.8E-3},{"$f":"OFFSET(Male!K$18,'Male - Rev'!$A44-35,0)","v":1.5E-3},{"$f":"OFFSET(Male!L$18,'Male - Rev'!$A44-35,0)","v":4.0000000000000002E-4},{"$f":"OFFSET(Male!M$18,'Male - Rev'!$A44-35,0)","v":-5.9999999999999995E-4},{"$f":"OFFSET(Male!N$18,'Male - Rev'!$A44-35,0)","v":-1.2999999999999999E-3},{"$f":"OFFSET(Male!O$18,'Male - Rev'!$A44-35,0)","v":-1.5E-3},{"$f":"OFFSET(Male!P$18,'Male - Rev'!$A44-35,0)","v":-1.1999999999999999E-3},{"$f":"OFFSET(Male!Q$18,'Male - Rev'!$A44-35,0)","v":-1E-4},{"$f":"OFFSET(Male!R$18,'Male - Rev'!$A44-35,0)","v":1.9E-3},{"$f":"OFFSET(Male!S$18,'Male - Rev'!$A44-35,0)","v":4.7000000000000002E-3},{"$f":"OFFSET(Male!T$18,'Male - Rev'!$A44-35,0)","v":8.3000000000000001E-3},{"$f":"OFFSET(Male!U$18,'Male - Rev'!$A44-35,0)","v":1.23E-2},{"$f":"OFFSET(Male!V$18,'Male - Rev'!$A44-35,0)","v":1.6299999999999999E-2},{"$f":"OFFSET(Male!W$18,'Male - Rev'!$A44-35,0)","v":2.01E-2},{"$f":"OFFSET(Male!X$18,'Male - Rev'!$A44-35,0)","v":2.3300000000000001E-2},{"$f":"OFFSET(Male!Y$18,'Male - Rev'!$A44-35,0)","v":2.5600000000000001E-2},{"$f":"OFFSET(Male!Z$18,'Male - Rev'!$A44-35,0)","v":2.6800000000000001E-2},{"$f":"OFFSET(Male!AA$18,'Male - Rev'!$A44-35,0)","v":2.69E-2},{"$f":"OFFSET(Male!AB$18,'Male - Rev'!$A44-35,0)","v":2.6200000000000001E-2},{"$f":"OFFSET(Male!AC$18,'Male - Rev'!$A44-35,0)","v":2.4799999999999999E-2},{"$f":"OFFSET(Male!AD$18,'Male - Rev'!$A44-35,0)","v":2.3199999999999998E-2},{"$f":"OFFSET(Male!AE$18,'Male - Rev'!$A44-35,0)","v":2.1700000000000001E-2},{"$f":"OFFSET(Male!AF$18,'Male - Rev'!$A44-35,0)","v":2.0299999999999999E-2},{"$f":"OFFSET(Male!AG$18,'Male - Rev'!$A44-35,0)","v":1.9300000000000001E-2},{"$f":"OFFSET(Male!AH$18,'Male - Rev'!$A44-35,0)","v":1.8599999999999998E-2},{"$f":"OFFSET(Male!AI$18,'Male - Rev'!$A44-35,0)","v":1.8200000000000001E-2},{"$f":"OFFSET(Male!AJ$18,'Male - Rev'!$A44-35,0)","v":1.8100000000000002E-2},{"$f":"OFFSET(Male!AK$18,'Male - Rev'!$A44-35,0)","v":1.84E-2},{"$f":"OFFSET(Male!AL$18,'Male - Rev'!$A44-35,0)","v":1.8800000000000001E-2},{"$f":"OFFSET(Male!AM$18,'Male - Rev'!$A44-35,0)","v":1.9300000000000001E-2},{"$f":"OFFSET(Male!AN$18,'Male - Rev'!$A44-35,0)","v":1.9800000000000002E-2},{"$f":"OFFSET(Male!AO$18,'Male - Rev'!$A44-35,0)","v":2.01E-2},{"$f":"OFFSET(Male!AP$18,'Male - Rev'!$A44-35,0)","v":2.0299999999999999E-2},{"$f":"OFFSET(Male!AQ$18,'Male - Rev'!$A44-35,0)","v":2.0400000000000001E-2},{"$f":"OFFSET(Male!AR$18,'Male - Rev'!$A44-35,0)","v":2.07E-2},{"$f":"OFFSET(Male!AS$18,'Male - Rev'!$A44-35,0)","v":2.1000000000000001E-2},{"$f":"OFFSET(Male!AT$18,'Male - Rev'!$A44-35,0)","v":2.1100000000000001E-2},{"$f":"OFFSET(Male!AU$18,'Male - Rev'!$A44-35,0)","v":2.06E-2},{"$f":"OFFSET(Male!AV$18,'Male - Rev'!$A44-35,0)","v":1.9E-2},{"$f":"OFFSET(Male!AW$18,'Male - Rev'!$A44-35,0)","v":1.6400000000000001E-2},{"$f":"OFFSET(Male!AX$18,'Male - Rev'!$A44-35,0)","v":1.29E-2},{"$f":"OFFSET(Male!AY$18,'Male - Rev'!$A44-35,0)","v":9.1999999999999998E-3},{"$f":"OFFSET(Male!AZ$18,'Male - Rev'!$A44-35,0)","v":5.7999999999999996E-3},{"$f":"OFFSET(Male!BA$18,'Male - Rev'!$A44-35,0)","v":3.3E-3},{"$f":"OFFSET(Male!BB$18,'Male - Rev'!$A44-35,0)","v":1.9E-3},{"$f":"OFFSET(Male!BC$18,'Male - Rev'!$A44-35,0)","v":1.6000000000000001E-3},{"$f":"OFFSET(Male!BD$18,'Male - Rev'!$A44-35,0)","v":2.0999999999999999E-3},{"$f":"OFFSET(Male!BE$18,'Male - Rev'!$A44-35,0)","v":3.0999999999999999E-3},{"$f":"OFFSET(Male!BF$18,'Male - Rev'!$A44-35,0)","v":4.1999999999999997E-3},{"$f":"OFFSET(Male!BG$18,'Male - Rev'!$A44-35,0)","v":5.1000000000000004E-3},{"$f":"OFFSET(Male!BH$18,'Male - Rev'!$A44-35,0)","v":5.4000000000000003E-3},{"$f":"OFFSET(Male!BI$18,'Male - Rev'!$A44-35,0)","v":5.3E-3},{"$f":"OFFSET(Male!BJ$18,'Male - Rev'!$A44-35,0)","v":4.5999999999999999E-3},{"$f":"OFFSET(Male!BK$18,'Male - Rev'!$A44-35,0)","v":3.7000000000000002E-3},{"$f":"OFFSET(Male!BL$18,'Male - Rev'!$A44-35,0)","v":2.8999999999999998E-3},{"$f":"OFFSET(Male!BM$18,'Male - Rev'!$A44-35,0)","v":2.5000000000000001E-3},{"$f":"OFFSET(Male!BN$18,'Male - Rev'!$A44-35,0)","v":2.5000000000000001E-3},{"$f":"OFFSET(Male!BO$18,'Male - Rev'!$A44-35,0)","v":3.0000000000000001E-3},{"$f":"OFFSET(Male!BP$18,'Male - Rev'!$A44-35,0)","v":3.5999999999999999E-3},{"$f":"OFFSET(Male!BQ$18,'Male - Rev'!$A44-35,0)","v":4.3E-3},{"$f":"OFFSET(Male!BR$18,'Male - Rev'!$A44-35,0)","v":5.0000000000000001E-3},{"$f":"OFFSET(Male!BS$18,'Male - Rev'!$A44-35,0)","v":5.4000000000000003E-3},{"$f":"OFFSET(Male!BT$18,'Male - Rev'!$A44-35,0)","v":5.7000000000000002E-3},{"$f":"OFFSET(Male!BU$18,'Male - Rev'!$A44-35,0)","v":5.8999999999999999E-3},{"$f":"OFFSET(Male!BV$18,'Male - Rev'!$A44-35,0)","v":5.8999999999999999E-3},{"$f":"OFFSET(Male!BW$18,'Male - Rev'!$A44-35,0)","v":5.7999999999999996E-3},{"$f":"OFFSET(Male!BX$18,'Male - Rev'!$A44-35,0)","v":5.7000000000000002E-3},{"$f":"OFFSET(Male!BY$18,'Male - Rev'!$A44-35,0)","v":5.5999999999999999E-3},{"$f":"OFFSET(Male!BZ$18,'Male - Rev'!$A44-35,0)","v":5.5999999999999999E-3},{"$f":"OFFSET(Male!CA$18,'Male - Rev'!$A44-35,0)","v":6.0000000000000001E-3},{"$f":"OFFSET(Male!CB$18,'Male - Rev'!$A44-35,0)","v":6.7000000000000002E-3},{"$f":"OFFSET(Male!CC$18,'Male - Rev'!$A44-35,0)","v":7.7000000000000002E-3},{"$f":"OFFSET(Male!CD$18,'Male - Rev'!$A44-35,0)","v":8.9999999999999993E-3},{"$f":"OFFSET(Male!CE$18,'Male - Rev'!$A44-35,0)","v":1.03E-2},{"$f":"OFFSET(Male!CF$18,'Male - Rev'!$A44-35,0)","v":1.15E-2},{"$f":"OFFSET(Male!CG$18,'Male - Rev'!$A44-35,0)","v":1.26E-2},{"$f":"OFFSET(Male!CH$18,'Male - Rev'!$A44-35,0)","v":1.3299999999999999E-2},{"$f":"OFFSET(Male!CI$18,'Male - Rev'!$A44-35,0)","v":1.35E-2},{"$f":"CJ44","v":1.35E-2},1.35E-2]
[53,53,{"$f":"OFFSET(Male!B$18,'Male - Rev'!$A45-35,0)","v":1.6899999999999998E-2},{"$f":"OFFSET(Male!C$18,'Male - Rev'!$A45-35,0)","v":1.5699999999999999E-2},{"$f":"OFFSET(Male!D$18,'Male - Rev'!$A45-35,0)","v":1.43E-2},{"$f":"OFFSET(Male!E$18,'Male - Rev'!$A45-35,0)","v":1.2699999999999999E-2},{"$f":"OFFSET(Male!F$18,'Male - Rev'!$A45-35,0)","v":1.0699999999999999E-2},{"$f":"OFFSET(Male!G$18,'Male - Rev'!$A45-35,0)","v":8.3999999999999995E-3},{"$f":"OFFSET(Male!H$18,'Male - Rev'!$A45-35,0)","v":6.3E-3},{"$f":"OFFSET(Male!I$18,'Male - Rev'!$A45-35,0)","v":4.4000000000000003E-3},{"$f":"OFFSET(Male!J$18,'Male - Rev'!$A45-35,0)","v":2.8999999999999998E-3},{"$f":"OFFSET(Male!K$18,'Male - Rev'!$A45-35,0)","v":1.6000000000000001E-3},{"$f":"OFFSET(Male!L$18,'Male - Rev'!$A45-35,0)","v":5.0000000000000001E-4},{"$f":"OFFSET(Male!M$18,'Male - Rev'!$A45-35,0)","v":-5.0000000000000001E-4},{"$f":"OFFSET(Male!N$18,'Male - Rev'!$A45-35,0)","v":-1.1000000000000001E-3},{"$f":"OFFSET(Male!O$18,'Male - Rev'!$A45-35,0)","v":-1.2999999999999999E-3},{"$f":"OFFSET(Male!P$18,'Male - Rev'!$A45-35,0)","v":-8.9999999999999998E-4},{"$f":"OFFSET(Male!Q$18,'Male - Rev'!$A45-35,0)","v":2.9999999999999997E-4},{"$f":"OFFSET(Male!R$18,'Male - Rev'!$A45-35,0)","v":2.3E-3},{"$f":"OFFSET(Male!S$18,'Male - Rev'!$A45-35,0)","v":5.1000000000000004E-3},{"$f":"OFFSET(Male!T$18,'Male - Rev'!$A45-35,0)","v":8.5000000000000006E-3},{"$f":"OFFSET(Male!U$18,'Male - Rev'!$A45-35,0)","v":1.23E-2},{"$f":"OFFSET(Male!V$18,'Male - Rev'!$A45-35,0)","v":1.6199999999999999E-2},{"$f":"OFFSET(Male!W$18,'Male - Rev'!$A45-35,0)","v":1.9900000000000001E-2},{"$f":"OFFSET(Male!X$18,'Male - Rev'!$A45-35,0)","v":2.29E-2},{"$f":"OFFSET(Male!Y$18,'Male - Rev'!$A45-35,0)","v":2.5100000000000001E-2},{"$f":"OFFSET(Male!Z$18,'Male - Rev'!$A45-35,0)","v":2.63E-2},{"$f":"OFFSET(Male!AA$18,'Male - Rev'!$A45-35,0)","v":2.6599999999999999E-2},{"$f":"OFFSET(Male!AB$18,'Male - Rev'!$A45-35,0)","v":2.6200000000000001E-2},{"$f":"OFFSET(Male!AC$18,'Male - Rev'!$A45-35,0)","v":2.52E-2},{"$f":"OFFSET(Male!AD$18,'Male - Rev'!$A45-35,0)","v":2.41E-2},{"$f":"OFFSET(Male!AE$18,'Male - Rev'!$A45-35,0)","v":2.29E-2},{"$f":"OFFSET(Male!AF$18,'Male - Rev'!$A45-35,0)","v":2.18E-2},{"$f":"OFFSET(Male!AG$18,'Male - Rev'!$A45-35,0)","v":2.07E-2},{"$f":"OFFSET(Male!AH$18,'Male - Rev'!$A45-35,0)","v":1.9800000000000002E-2},{"$f":"OFFSET(Male!AI$18,'Male - Rev'!$A45-35,0)","v":1.9099999999999999E-2},{"$f":"OFFSET(Male!AJ$18,'Male - Rev'!$A45-35,0)","v":1.8700000000000001E-2},{"$f":"OFFSET(Male!AK$18,'Male - Rev'!$A45-35,0)","v":1.8499999999999999E-2},{"$f":"OFFSET(Male!AL$18,'Male - Rev'!$A45-35,0)","v":1.8700000000000001E-2},{"$f":"OFFSET(Male!AM$18,'Male - Rev'!$A45-35,0)","v":1.89E-2},{"$f":"OFFSET(Male!AN$18,'Male - Rev'!$A45-35,0)","v":1.9099999999999999E-2},{"$f":"OFFSET(Male!AO$18,'Male - Rev'!$A45-35,0)","v":1.9199999999999998E-2},{"$f":"OFFSET(Male!AP$18,'Male - Rev'!$A45-35,0)","v":1.9199999999999998E-2},{"$f":"OFFSET(Male!AQ$18,'Male - Rev'!$A45-35,0)","v":1.9199999999999998E-2},{"$f":"OFFSET(Male!AR$18,'Male - Rev'!$A45-35,0)","v":1.9400000000000001E-2},{"$f":"OFFSET(Male!AS$18,'Male - Rev'!$A45-35,0)","v":1.9800000000000002E-2},{"$f":"OFFSET(Male!AT$18,'Male - Rev'!$A45-35,0)","v":2.01E-2},{"$f":"OFFSET(Male!AU$18,'Male - Rev'!$A45-35,0)","v":1.9699999999999999E-2},{"$f":"OFFSET(Male!AV$18,'Male - Rev'!$A45-35,0)","v":1.7999999999999999E-2},{"$f":"OFFSET(Male!AW$18,'Male - Rev'!$A45-35,0)","v":1.4999999999999999E-2},{"$f":"OFFSET(Male!AX$18,'Male - Rev'!$A45-35,0)","v":1.11E-2},{"$f":"OFFSET(Male!AY$18,'Male - Rev'!$A45-35,0)","v":6.8999999999999999E-3},{"$f":"OFFSET(Male!AZ$18,'Male - Rev'!$A45-35,0)","v":3.2000000000000002E-3},{"$f":"OFFSET(Male!BA$18,'Male - Rev'!$A45-35,0)","v":5.9999999999999995E-4},{"$f":"OFFSET(Male!BB$18,'Male - Rev'!$A45-35,0)","v":-5.0000000000000001E-4},{"$f":"OFFSET(Male!BC$18,'Male - Rev'!$A45-35,0)","v":-2.0000000000000001E-4},{"$f":"OFFSET(Male!BD$18,'Male - Rev'!$A45-35,0)","v":1.2999999999999999E-3},{"$f":"OFFSET(Male!BE$18,'Male - Rev'!$A45-35,0)","v":3.3E-3},{"$f":"OFFSET(Male!BF$18,'Male - Rev'!$A45-35,0)","v":5.4000000000000003E-3},{"$f":"OFFSET(Male!BG$18,'Male - Rev'!$A45-35,0)","v":7.0000000000000001E-3},{"$f":"OFFSET(Male!BH$18,'Male - Rev'!$A45-35,0)","v":7.7999999999999996E-3},{"$f":"OFFSET(Male!BI$18,'Male - Rev'!$A45-35,0)","v":7.9000000000000008E-3},{"$f":"OFFSET(Male!BJ$18,'Male - Rev'!$A45-35,0)","v":7.1999999999999998E-3},{"$f":"OFFSET(Male!BK$18,'Male - Rev'!$A45-35,0)","v":6.1000000000000004E-3},{"$f":"OFFSET(Male!BL$18,'Male - Rev'!$A45-35,0)","v":5.0000000000000001E-3},{"$f":"OFFSET(Male!BM$18,'Male - Rev'!$A45-35,0)","v":4.1999999999999997E-3},{"$f":"OFFSET(Male!BN$18,'Male - Rev'!$A45-35,0)","v":3.8999999999999998E-3},{"$f":"OFFSET(Male!BO$18,'Male - Rev'!$A45-35,0)","v":4.0000000000000001E-3},{"$f":"OFFSET(Male!BP$18,'Male - Rev'!$A45-35,0)","v":4.3E-3},{"$f":"OFFSET(Male!BQ$18,'Male - Rev'!$A45-35,0)","v":4.7000000000000002E-3},{"$f":"OFFSET(Male!BR$18,'Male - Rev'!$A45-35,0)","v":4.8999999999999998E-3},{"$f":"OFFSET(Male!BS$18,'Male - Rev'!$A45-35,0)","v":5.0000000000000001E-3},{"$f":"OFFSET(Male!BT$18,'Male - Rev'!$A45-35,0)","v":5.0000000000000001E-3},{"$f":"OFFSET(Male!BU$18,'Male - Rev'!$A45-35,0)","v":4.7999999999999996E-3},{"$f":"OFFSET(Male!BV$18,'Male - Rev'!$A45-35,0)","v":4.5999999999999999E-3},{"$f":"OFFSET(Male!BW$18,'Male - Rev'!$A45-35,0)","v":4.4000000000000003E-3},{"$f":"OFFSET(Male!BX$18,'Male - Rev'!$A45-35,0)","v":4.3E-3},{"$f":"OFFSET(Male!BY$18,'Male - Rev'!$A45-35,0)","v":4.1999999999999997E-3},{"$f":"OFFSET(Male!BZ$18,'Male - Rev'!$A45-35,0)","v":4.4999999999999997E-3},{"$f":"OFFSET(Male!CA$18,'Male - Rev'!$A45-35,0)","v":5.0000000000000001E-3},{"$f":"OFFSET(Male!CB$18,'Male - Rev'!$A45-35,0)","v":6.0000000000000001E-3},{"$f":"OFFSET(Male!CC$18,'Male - Rev'!$A45-35,0)","v":7.1999999999999998E-3},{"$f":"OFFSET(Male!CD$18,'Male - Rev'!$A45-35,0)","v":8.6E-3},{"$f":"OFFSET(Male!CE$18,'Male - Rev'!$A45-35,0)","v":1.01E-2},{"$f":"OFFSET(Male!CF$18,'Male - Rev'!$A45-35,0)","v":1.15E-2},{"$f":"OFFSET(Male!CG$18,'Male - Rev'!$A45-35,0)","v":1.2500000000000001E-2},{"$f":"OFFSET(Male!CH$18,'Male - Rev'!$A45-35,0)","v":1.3299999999999999E-2},{"$f":"OFFSET(Male!CI$18,'Male - Rev'!$A45-35,0)","v":1.35E-2},{"$f":"CJ45","v":1.35E-2},1.35E-2]
[52,52,{"$f":"OFFSET(Male!B$18,'Male - Rev'!$A46-35,0)","v":1.7399999999999999E-2},{"$f":"OFFSET(Male!C$18,'Male - Rev'!$A46-35,0)","v":1.6199999999999999E-2},{"$f":"OFFSET(Male!D$18,'Male - Rev'!$A46-35,0)","v":1.49E-2},{"$f":"OFFSET(Male!E$18,'Male - Rev'!$A46-35,0)","v":1.32E-2},{"$f":"OFFSET(Male!F$18,'Male - Rev'!$A46-35,0)","v":1.11E-2},{"$f":"OFFSET(Male!G$18,'Male - Rev'!$A46-35,0)","v":8.8000000000000005E-3},{"$f":"OFFSET(Male!H$18,'Male - Rev'!$A46-35,0)","v":6.4999999999999997E-3},{"$f":"OFFSET(Male!I$18,'Male - Rev'!$A46-35,0)","v":4.5999999999999999E-3},{"$f":"OFFSET(Male!J$18,'Male - Rev'!$A46-35,0)","v":2.8999999999999998E-3},{"$f":"OFFSET(Male!K$18,'Male - Rev'!$A46-35,0)","v":1.6000000000000001E-3},{"$f":"OFFSET(Male!L$18,'Male - Rev'!$A46-35,0)","v":5.0000000000000001E-4},{"$f":"OFFSET(Male!M$18,'Male - Rev'!$A46-35,0)","v":-5.0000000000000001E-4},{"$f":"OFFSET(Male!N$18,'Male - Rev'!$A46-35,0)","v":-1.1000000000000001E-3},{"$f":"OFFSET(Male!O$18,'Male - Rev'!$A46-35,0)","v":-1.1999999999999999E-3},{"$f":"OFFSET(Male!P$18,'Male - Rev'!$A46-35,0)","v":-8.0000000000000004E-4},{"$f":"OFFSET(Male!Q$18,'Male - Rev'!$A46-35,0)","v":5.0000000000000001E-4},{"$f":"OFFSET(Male!R$18,'Male - Rev'!$A46-35,0)","v":2.5000000000000001E-3},{"$f":"OFFSET(Male!S$18,'Male - Rev'!$A46-35,0)","v":5.1999999999999998E-3},{"$f":"OFFSET(Male!T$18,'Male - Rev'!$A46-35,0)","v":8.6E-3},{"$f":"OFFSET(Male!U$18,'Male - Rev'!$A46-35,0)","v":1.2200000000000001E-2},{"$f":"OFFSET(Male!V$18,'Male - Rev'!$A46-35,0)","v":1.6E-2},{"$f":"OFFSET(Male!W$18,'Male - Rev'!$A46-35,0)","v":1.95E-2},{"$f":"OFFSET(Male!X$18,'Male - Rev'!$A46-35,0)","v":2.2499999999999999E-2},{"$f":"OFFSET(Male!Y$18,'Male - Rev'!$A46-35,0)","v":2.47E-2},{"$f":"OFFSET(Male!Z$18,'Male - Rev'!$A46-35,0)","v":2.6100000000000002E-2},{"$f":"OFFSET(Male!AA$18,'Male - Rev'!$A46-35,0)","v":2.6599999999999999E-2},{"$f":"OFFSET(Male!AB$18,'Male - Rev'!$A46-35,0)","v":2.64E-2},{"$f":"OFFSET(Male!AC$18,'Male - Rev'!$A46-35,0)","v":2.5899999999999999E-2},{"$f":"OFFSET(Male!AD$18,'Male - Rev'!$A46-35,0)","v":2.5100000000000001E-2},{"$f":"OFFSET(Male!AE$18,'Male - Rev'!$A46-35,0)","v":2.4199999999999999E-2},{"$f":"OFFSET(Male!AF$18,'Male - Rev'!$A46-35,0)","v":2.3300000000000001E-2},{"$f":"OFFSET(Male!AG$18,'Male - Rev'!$A46-35,0)","v":2.2200000000000001E-2},{"$f":"OFFSET(Male!AH$18,'Male - Rev'!$A46-35,0)","v":2.1000000000000001E-2},{"$f":"OFFSET(Male!AI$18,'Male - Rev'!$A46-35,0)","v":0.02},{"$f":"OFFSET(Male!AJ$18,'Male - Rev'!$A46-35,0)","v":1.9099999999999999E-2},{"$f":"OFFSET(Male!AK$18,'Male - Rev'!$A46-35,0)","v":1.8499999999999999E-2},{"$f":"OFFSET(Male!AL$18,'Male - Rev'!$A46-35,0)","v":1.8200000000000001E-2},{"$f":"OFFSET(Male!AM$18,'Male - Rev'!$A46-35,0)","v":1.8100000000000002E-2},{"$f":"OFFSET(Male!AN$18,'Male - Rev'!$A46-35,0)","v":1.7999999999999999E-2},{"$f":"OFFSET(Male!AO$18,'Male - Rev'!$A46-35,0)","v":1.78E-2},{"$f":"OFFSET(Male!AP$18,'Male - Rev'!$A46-35,0)","v":1.7600000000000001E-2},{"$f":"OFFSET(Male!AQ$18,'Male - Rev'!$A46-35,0)","v":1.7600000000000001E-2},{"$f":"OFFSET(Male!AR$18,'Male - Rev'!$A46-35,0)","v":1.78E-2},{"$f":"OFFSET(Male!AS$18,'Male - Rev'!$A46-35,0)","v":1.84E-2},{"$f":"OFFSET(Male!AT$18,'Male - Rev'!$A46-35,0)","v":1.8800000000000001E-2},{"$f":"OFFSET(Male!AU$18,'Male - Rev'!$A46-35,0)","v":1.8499999999999999E-2},{"$f":"OFFSET(Male!AV$18,'Male - Rev'!$A46-35,0)","v":1.6799999999999999E-2},{"$f":"OFFSET(Male!AW$18,'Male - Rev'!$A46-35,0)","v":1.3599999999999999E-2},{"$f":"OFFSET(Male!AX$18,'Male - Rev'!$A46-35,0)","v":9.4000000000000004E-3},{"$f":"OFFSET(Male!AY$18,'Male - Rev'!$A46-35,0)","v":4.8999999999999998E-3},{"$f":"OFFSET(Male!AZ$18,'Male - Rev'!$A46-35,0)","v":1E-3},{"$f":"OFFSET(Male!BA$18,'Male - Rev'!$A46-35,0)","v":-1.4E-3},{"$f":"OFFSET(Male!BB$18,'Male - Rev'!$A46-35,0)","v":-2.0999999999999999E-3},{"$f":"OFFSET(Male!BC$18,'Male - Rev'!$A46-35,0)","v":-1E-3},{"$f":"OFFSET(Male!BD$18,'Male - Rev'!$A46-35,0)","v":1.2999999999999999E-3},{"$f":"OFFSET(Male!BE$18,'Male - Rev'!$A46-35,0)","v":4.1999999999999997E-3},{"$f":"OFFSET(Male!BF$18,'Male - Rev'!$A46-35,0)","v":7.1000000000000004E-3},{"$f":"OFFSET(Male!BG$18,'Male - Rev'!$A46-35,0)","v":9.2999999999999992E-3},{"$f":"OFFSET(Male!BH$18,'Male - Rev'!$A46-35,0)","v":1.0500000000000001E-2},{"$f":"OFFSET(Male!BI$18,'Male - Rev'!$A46-35,0)","v":1.06E-2},{"$f":"OFFSET(Male!BJ$18,'Male - Rev'!$A46-35,0)","v":9.9000000000000008E-3},{"$f":"OFFSET(Male!BK$18,'Male - Rev'!$A46-35,0)","v":8.5000000000000006E-3},{"$f":"OFFSET(Male!BL$18,'Male - Rev'!$A46-35,0)","v":7.1000000000000004E-3},{"$f":"OFFSET(Male!BM$18,'Male - Rev'!$A46-35,0)","v":5.7999999999999996E-3},{"$f":"OFFSET(Male!BN$18,'Male - Rev'!$A46-35,0)","v":4.8999999999999998E-3},{"$f":"OFFSET(Male!BO$18,'Male - Rev'!$A46-35,0)","v":4.4000000000000003E-3},{"$f":"OFFSET(Male!BP$18,'Male - Rev'!$A46-35,0)","v":4.4000000000000003E-3},{"$f":"OFFSET(Male!BQ$18,'Male - Rev'!$A46-35,0)","v":4.4000000000000003E-3},{"$f":"OFFSET(Male!BR$18,'Male - Rev'!$A46-35,0)","v":4.3E-3},{"$f":"OFFSET(Male!BS$18,'Male - Rev'!$A46-35,0)","v":4.0000000000000001E-3},{"$f":"OFFSET(Male!BT$18,'Male - Rev'!$A46-35,0)","v":3.7000000000000002E-3},{"$f":"OFFSET(Male!BU$18,'Male - Rev'!$A46-35,0)","v":3.3E-3},{"$f":"OFFSET(Male!BV$18,'Male - Rev'!$A46-35,0)","v":3.0000000000000001E-3},{"$f":"OFFSET(Male!BW$18,'Male - Rev'!$A46-35,0)","v":2.8E-3},{"$f":"OFFSET(Male!BX$18,'Male - Rev'!$A46-35,0)","v":2.7000000000000001E-3},{"$f":"OFFSET(Male!BY$18,'Male - Rev'!$A46-35,0)","v":2.8999999999999998E-3},{"$f":"OFFSET(Male!BZ$18,'Male - Rev'!$A46-35,0)","v":3.3E-3},{"$f":"OFFSET(Male!CA$18,'Male - Rev'!$A46-35,0)","v":4.1000000000000003E-3},{"$f":"OFFSET(Male!CB$18,'Male - Rev'!$A46-35,0)","v":5.3E-3},{"$f":"OFFSET(Male!CC$18,'Male - Rev'!$A46-35,0)","v":6.7999999999999996E-3},{"$f":"OFFSET(Male!CD$18,'Male - Rev'!$A46-35,0)","v":8.3999999999999995E-3},{"$f":"OFFSET(Male!CE$18,'Male - Rev'!$A46-35,0)","v":0.01},{"$f":"OFFSET(Male!CF$18,'Male - Rev'!$A46-35,0)","v":1.14E-2},{"$f":"OFFSET(Male!CG$18,'Male - Rev'!$A46-35,0)","v":1.2500000000000001E-2},{"$f":"OFFSET(Male!CH$18,'Male - Rev'!$A46-35,0)","v":1.3299999999999999E-2},{"$f":"OFFSET(Male!CI$18,'Male - Rev'!$A46-35,0)","v":1.35E-2},{"$f":"CJ46","v":1.35E-2},1.35E-2]
[51,51,{"$f":"OFFSET(Male!B$18,'Male - Rev'!$A47-35,0)","v":1.8100000000000002E-2},{"$f":"OFFSET(Male!C$18,'Male - Rev'!$A47-35,0)","v":1.6799999999999999E-2},{"$f":"OFFSET(Male!D$18,'Male - Rev'!$A47-35,0)","v":1.54E-2},{"$f":"OFFSET(Male!E$18,'Male - Rev'!$A47-35,0)","v":1.37E-2},{"$f":"OFFSET(Male!F$18,'Male - Rev'!$A47-35,0)","v":1.1599999999999999E-2},{"$f":"OFFSET(Male!G$18,'Male - Rev'!$A47-35,0)","v":9.2999999999999992E-3},{"$f":"OFFSET(Male!H$18,'Male - Rev'!$A47-35,0)","v":6.8999999999999999E-3},{"$f":"OFFSET(Male!I$18,'Male - Rev'!$A47-35,0)","v":4.7999999999999996E-3},{"$f":"OFFSET(Male!J$18,'Male - Rev'!$A47-35,0)","v":3.0000000000000001E-3},{"$f":"OFFSET(Male!K$18,'Male - Rev'!$A47-35,0)","v":1.6000000000000001E-3},{"$f":"OFFSET(Male!L$18,'Male - Rev'!$A47-35,0)","v":4.0000000000000002E-4},{"$f":"OFFSET(Male!M$18,'Male - Rev'!$A47-35,0)","v":-5.9999999999999995E-4},{"$f":"OFFSET(Male!N$18,'Male - Rev'!$A47-35,0)","v":-1.1999999999999999E-3},{"$f":"OFFSET(Male!O$18,'Male - Rev'!$A47-35,0)","v":-1.2999999999999999E-3},{"$f":"OFFSET(Male!P$18,'Male - Rev'!$A47-35,0)","v":-8.0000000000000004E-4},{"$f":"OFFSET(Male!Q$18,'Male - Rev'!$A47-35,0)","v":4.0000000000000002E-4},{"$f":"OFFSET(Male!R$18,'Male - Rev'!$A47-35,0)","v":2.3999999999999998E-3},{"$f":"OFFSET(Male!S$18,'Male - Rev'!$A47-35,0)","v":5.0000000000000001E-3},{"$f":"OFFSET(Male!T$18,'Male - Rev'!$A47-35,0)","v":8.3000000000000001E-3},{"$f":"OFFSET(Male!U$18,'Male - Rev'!$A47-35,0)","v":1.1900000000000001E-2},{"$f":"OFFSET(Male!V$18,'Male - Rev'!$A47-35,0)","v":1.5599999999999999E-2},{"$f":"OFFSET(Male!W$18,'Male - Rev'!$A47-35,0)","v":1.9099999999999999E-2},{"$f":"OFFSET(Male!X$18,'Male - Rev'!$A47-35,0)","v":2.2100000000000002E-2},{"$f":"OFFSET(Male!Y$18,'Male - Rev'!$A47-35,0)","v":2.4500000000000001E-2},{"$f":"OFFSET(Male!Z$18,'Male - Rev'!$A47-35,0)","v":2.6100000000000002E-2},{"$f":"OFFSET(Male!AA$18,'Male - Rev'!$A47-35,0)","v":2.69E-2},{"$f":"OFFSET(Male!AB$18,'Male - Rev'!$A47-35,0)","v":2.7E-2},{"$f":"OFFSET(Male!AC$18,'Male - Rev'!$A47-35,0)","v":2.6800000000000001E-2},{"$f":"OFFSET(Male!AD$18,'Male - Rev'!$A47-35,0)","v":2.63E-2},{"$f":"OFFSET(Male!AE$18,'Male - Rev'!$A47-35,0)","v":2.5600000000000001E-2},{"$f":"OFFSET(Male!AF$18,'Male - Rev'!$A47-35,0)","v":2.47E-2},{"$f":"OFFSET(Male!AG$18,'Male - Rev'!$A47-35,0)","v":2.35E-2},{"$f":"OFFSET(Male!AH$18,'Male - Rev'!$A47-35,0)","v":2.2200000000000001E-2},{"$f":"OFFSET(Male!AI$18,'Male - Rev'!$A47-35,0)","v":2.07E-2},{"$f":"OFFSET(Male!AJ$18,'Male - Rev'!$A47-35,0)","v":1.9300000000000001E-2},{"$f":"OFFSET(Male!AK$18,'Male - Rev'!$A47-35,0)","v":1.8100000000000002E-2},{"$f":"OFFSET(Male!AL$18,'Male - Rev'!$A47-35,0)","v":1.7299999999999999E-2},{"$f":"OFFSET(Male!AM$18,'Male - Rev'!$A47-35,0)","v":1.67E-2},{"$f":"OFFSET(Male!AN$18,'Male - Rev'!$A47-35,0)","v":1.6299999999999999E-2},{"$f":"OFFSET(Male!AO$18,'Male - Rev'!$A47-35,0)","v":1.5900000000000001E-2},{"$f":"OFFSET(Male!AP$18,'Male - Rev'!$A47-35,0)","v":1.5699999999999999E-2},{"$f":"OFFSET(Male!AQ$18,'Male - Rev'!$A47-35,0)","v":1.5599999999999999E-2},{"$f":"OFFSET(Male!AR$18,'Male - Rev'!$A47-35,0)","v":1.6E-2},{"$f":"OFFSET(Male!AS$18,'Male - Rev'!$A47-35,0)","v":1.67E-2},{"$f":"OFFSET(Male!AT$18,'Male - Rev'!$A47-35,0)","v":1.7299999999999999E-2},{"$f":"OFFSET(Male!AU$18,'Male - Rev'!$A47-35,0)","v":1.7100000000000001E-2},{"$f":"OFFSET(Male!AV$18,'Male - Rev'!$A47-35,0)","v":1.55E-2},{"$f":"OFFSET(Male!AW$18,'Male - Rev'!$A47-35,0)","v":1.2200000000000001E-2},{"$f":"OFFSET(Male!AX$18,'Male - Rev'!$A47-35,0)","v":7.7999999999999996E-3},{"$f":"OFFSET(Male!AY$18,'Male - Rev'!$A47-35,0)","v":3.3E-3},{"$f":"OFFSET(Male!AZ$18,'Male - Rev'!$A47-35,0)","v":-5.0000000000000001E-4},{"$f":"OFFSET(Male!BA$18,'Male - Rev'!$A47-35,0)","v":-2.5999999999999999E-3},{"$f":"OFFSET(Male!BB$18,'Male - Rev'!$A47-35,0)","v":-2.7000000000000001E-3},{"$f":"OFFSET(Male!BC$18,'Male - Rev'!$A47-35,0)","v":-1E-3},{"$f":"OFFSET(Male!BD$18,'Male - Rev'!$A47-35,0)","v":2.0999999999999999E-3},{"$f":"OFFSET(Male!BE$18,'Male - Rev'!$A47-35,0)","v":5.7000000000000002E-3},{"$f":"OFFSET(Male!BF$18,'Male - Rev'!$A47-35,0)","v":9.1999999999999998E-3},{"$f":"OFFSET(Male!BG$18,'Male - Rev'!$A47-35,0)","v":1.18E-2},{"$f":"OFFSET(Male!BH$18,'Male - Rev'!$A47-35,0)","v":1.32E-2},{"$f":"OFFSET(Male!BI$18,'Male - Rev'!$A47-35,0)","v":1.34E-2},{"$f":"OFFSET(Male!BJ$18,'Male - Rev'!$A47-35,0)","v":1.2500000000000001E-2},{"$f":"OFFSET(Male!BK$18,'Male - Rev'!$A47-35,0)","v":1.09E-2},{"$f":"OFFSET(Male!BL$18,'Male - Rev'!$A47-35,0)","v":8.9999999999999993E-3},{"$f":"OFFSET(Male!BM$18,'Male - Rev'!$A47-35,0)","v":7.1000000000000004E-3},{"$f":"OFFSET(Male!BN$18,'Male - Rev'!$A47-35,0)","v":5.4000000000000003E-3},{"$f":"OFFSET(Male!BO$18,'Male - Rev'!$A47-35,0)","v":4.1999999999999997E-3},{"$f":"OFFSET(Male!BP$18,'Male - Rev'!$A47-35,0)","v":3.8999999999999998E-3},{"$f":"OFFSET(Male!BQ$18,'Male - Rev'!$A47-35,0)","v":3.5000000000000001E-3},{"$f":"OFFSET(Male!BR$18,'Male - Rev'!$A47-35,0)","v":3.0000000000000001E-3},{"$f":"OFFSET(Male!BS$18,'Male - Rev'!$A47-35,0)","v":2.5000000000000001E-3},{"$f":"OFFSET(Male!BT$18,'Male - Rev'!$A47-35,0)","v":2E-3},{"$f":"OFFSET(Male!BU$18,'Male - Rev'!$A47-35,0)","v":1.5E-3},{"$f":"OFFSET(Male!BV$18,'Male - Rev'!$A47-35,0)","v":1.1999999999999999E-3},{"$f":"OFFSET(Male!BW$18,'Male - Rev'!$A47-35,0)","v":1E-3},{"$f":"OFFSET(Male!BX$18,'Male - Rev'!$A47-35,0)","v":1.1000000000000001E-3},{"$f":"OFFSET(Male!BY$18,'Male - Rev'!$A47-35,0)","v":1.5E-3},{"$f":"OFFSET(Male!BZ$18,'Male - Rev'!$A47-35,0)","v":2.2000000000000001E-3},{"$f":"OFFSET(Male!CA$18,'Male - Rev'!$A47-35,0)","v":3.3E-3},{"$f":"OFFSET(Male!CB$18,'Male - Rev'!$A47-35,0)","v":4.7000000000000002E-3},{"$f":"OFFSET(Male!CC$18,'Male - Rev'!$A47-35,0)","v":6.4999999999999997E-3},{"$f":"OFFSET(Male!CD$18,'Male - Rev'!$A47-35,0)","v":8.2000000000000007E-3},{"$f":"OFFSET(Male!CE$18,'Male - Rev'!$A47-35,0)","v":9.9000000000000008E-3},{"$f":"OFFSET(Male!CF$18,'Male - Rev'!$A47-35,0)","v":1.14E-2},{"$f":"OFFSET(Male!CG$18,'Male - Rev'!$A47-35,0)","v":1.2500000000000001E-2},{"$f":"OFFSET(Male!CH$18,'Male - Rev'!$A47-35,0)","v":1.3299999999999999E-2},{"$f":"OFFSET(Male!CI$18,'Male - Rev'!$A47-35,0)","v":1.35E-2},{"$f":"CJ47","v":1.35E-2},1.35E-2]
[50,50,{"$f":"OFFSET(Male!B$18,'Male - Rev'!$A48-35,0)","v":1.9E-2},{"$f":"OFFSET(Male!C$18,'Male - Rev'!$A48-35,0)","v":1.7600000000000001E-2},{"$f":"OFFSET(Male!D$18,'Male - Rev'!$A48-35,0)","v":1.61E-2},{"$f":"OFFSET(Male!E$18,'Male - Rev'!$A48-35,0)","v":1.43E-2},{"$f":"OFFSET(Male!F$18,'Male - Rev'!$A48-35,0)","v":1.2200000000000001E-2},{"$f":"OFFSET(Male!G$18,'Male - Rev'!$A48-35,0)","v":9.7000000000000003E-3},{"$f":"OFFSET(Male!H$18,'Male - Rev'!$A48-35,0)","v":7.3000000000000001E-3},{"$f":"OFFSET(Male!I$18,'Male - Rev'!$A48-35,0)","v":5.1000000000000004E-3},{"$f":"OFFSET(Male!J$18,'Male - Rev'!$A48-35,0)","v":3.2000000000000002E-3},{"$f":"OFFSET(Male!K$18,'Male - Rev'!$A48-35,0)","v":1.6000000000000001E-3},{"$f":"OFFSET(Male!L$18,'Male - Rev'!$A48-35,0)","v":2.9999999999999997E-4},{"$f":"OFFSET(Male!M$18,'Male - Rev'!$A48-35,0)","v":-6.9999999999999999E-4},{"$f":"OFFSET(Male!N$18,'Male - Rev'!$A48-35,0)","v":-1.4E-3},{"$f":"OFFSET(Male!O$18,'Male - Rev'!$A48-35,0)","v":-1.6000000000000001E-3},{"$f":"OFFSET(Male!P$18,'Male - Rev'!$A48-35,0)","v":-1.1999999999999999E-3},{"$f":"OFFSET(Male!Q$18,'Male - Rev'!$A48-35,0)","v":0},{"$f":"OFFSET(Male!R$18,'Male - Rev'!$A48-35,0)","v":1.9E-3},{"$f":"OFFSET(Male!S$18,'Male - Rev'!$A48-35,0)","v":4.4999999999999997E-3},{"$f":"OFFSET(Male!T$18,'Male - Rev'!$A48-35,0)","v":7.7999999999999996E-3},{"$f":"OFFSET(Male!U$18,'Male - Rev'!$A48-35,0)","v":1.1299999999999999E-2},{"$f":"OFFSET(Male!V$18,'Male - Rev'!$A48-35,0)","v":1.4999999999999999E-2},{"$f":"OFFSET(Male!W$18,'Male - Rev'!$A48-35,0)","v":1.8599999999999998E-2},{"$f":"OFFSET(Male!X$18,'Male - Rev'!$A48-35,0)","v":2.1899999999999999E-2},{"$f":"OFFSET(Male!Y$18,'Male - Rev'!$A48-35,0)","v":2.46E-2},{"$f":"OFFSET(Male!Z$18,'Male - Rev'!$A48-35,0)","v":2.6499999999999999E-2},{"$f":"OFFSET(Male!AA$18,'Male - Rev'!$A48-35,0)","v":2.75E-2},{"$f":"OFFSET(Male!AB$18,'Male - Rev'!$A48-35,0)","v":2.7900000000000001E-2},{"$f":"OFFSET(Male!AC$18,'Male - Rev'!$A48-35,0)","v":2.7799999999999998E-2},{"$f":"OFFSET(Male!AD$18,'Male - Rev'!$A48-35,0)","v":2.7400000000000001E-2},{"$f":"OFFSET(Male!AE$18,'Male - Rev'!$A48-35,0)","v":2.6800000000000001E-2},{"$f":"OFFSET(Male!AF$18,'Male - Rev'!$A48-35,0)","v":2.5899999999999999E-2},{"$f":"OFFSET(Male!AG$18,'Male - Rev'!$A48-35,0)","v":2.47E-2},{"$f":"OFFSET(Male!AH$18,'Male - Rev'!$A48-35,0)","v":2.3099999999999999E-2},{"$f":"OFFSET(Male!AI$18,'Male - Rev'!$A48-35,0)","v":2.12E-2},{"$f":"OFFSET(Male!AJ$18,'Male - Rev'!$A48-35,0)","v":1.9199999999999998E-2},{"$f":"OFFSET(Male!AK$18,'Male - Rev'!$A48-35,0)","v":1.7500000000000002E-2},{"$f":"OFFSET(Male!AL$18,'Male - Rev'!$A48-35,0)","v":1.6E-2},{"$f":"OFFSET(Male!AM$18,'Male - Rev'!$A48-35,0)","v":1.49E-2},{"$f":"OFFSET(Male!AN$18,'Male - Rev'!$A48-35,0)","v":1.4E-2},{"$f":"OFFSET(Male!AO$18,'Male - Rev'!$A48-35,0)","v":1.34E-2},{"$f":"OFFSET(Male!AP$18,'Male - Rev'!$A48-35,0)","v":1.32E-2},{"$f":"OFFSET(Male!AQ$18,'Male - Rev'!$A48-35,0)","v":1.3299999999999999E-2},{"$f":"OFFSET(Male!AR$18,'Male - Rev'!$A48-35,0)","v":1.3899999999999999E-2},{"$f":"OFFSET(Male!AS$18,'Male - Rev'!$A48-35,0)","v":1.49E-2},{"$f":"OFFSET(Male!AT$18,'Male - Rev'!$A48-35,0)","v":1.5699999999999999E-2},{"$f":"OFFSET(Male!AU$18,'Male - Rev'!$A48-35,0)","v":1.5699999999999999E-2},{"$f":"OFFSET(Male!AV$18,'Male - Rev'!$A48-35,0)","v":1.4200000000000001E-2},{"$f":"OFFSET(Male!AW$18,'Male - Rev'!$A48-35,0)","v":1.09E-2},{"$f":"OFFSET(Male!AX$18,'Male - Rev'!$A48-35,0)","v":6.6E-3},{"$f":"OFFSET(Male!AY$18,'Male - Rev'!$A48-35,0)","v":2.2000000000000001E-3},{"$f":"OFFSET(Male!AZ$18,'Male - Rev'!$A48-35,0)","v":-1.1999999999999999E-3},{"$f":"OFFSET(Male!BA$18,'Male - Rev'!$A48-35,0)","v":-2.8999999999999998E-3},{"$f":"OFFSET(Male!BB$18,'Male - Rev'!$A48-35,0)","v":-2.3999999999999998E-3},{"$f":"OFFSET(Male!BC$18,'Male - Rev'!$A48-35,0)","v":-1E-4},{"$f":"OFFSET(Male!BD$18,'Male - Rev'!$A48-35,0)","v":3.5999999999999999E-3},{"$f":"OFFSET(Male!BE$18,'Male - Rev'!$A48-35,0)","v":7.7000000000000002E-3},{"$f":"OFFSET(Male!BF$18,'Male - Rev'!$A48-35,0)","v":1.15E-2},{"$f":"OFFSET(Male!BG$18,'Male - Rev'!$A48-35,0)","v":1.44E-2},{"$f":"OFFSET(Male!BH$18,'Male - Rev'!$A48-35,0)","v":1.5900000000000001E-2},{"$f":"OFFSET(Male!BI$18,'Male - Rev'!$A48-35,0)","v":1.61E-2},{"$f":"OFFSET(Male!BJ$18,'Male - Rev'!$A48-35,0)","v":1.5100000000000001E-2},{"$f":"OFFSET(Male!BK$18,'Male - Rev'!$A48-35,0)","v":1.3100000000000001E-2},{"$f":"OFFSET(Male!BL$18,'Male - Rev'!$A48-35,0)","v":1.06E-2},{"$f":"OFFSET(Male!BM$18,'Male - Rev'!$A48-35,0)","v":8.0000000000000002E-3},{"$f":"OFFSET(Male!BN$18,'Male - Rev'!$A48-35,0)","v":5.4999999999999997E-3},{"$f":"OFFSET(Male!BO$18,'Male - Rev'!$A48-35,0)","v":3.2000000000000002E-3},{"$f":"OFFSET(Male!BP$18,'Male - Rev'!$A48-35,0)","v":2.5999999999999999E-3},{"$f":"OFFSET(Male!BQ$18,'Male - Rev'!$A48-35,0)","v":1.9E-3},{"$f":"OFFSET(Male!BR$18,'Male - Rev'!$A48-35,0)","v":1.1000000000000001E-3},{"$f":"OFFSET(Male!BS$18,'Male - Rev'!$A48-35,0)","v":4.0000000000000002E-4},{"$f":"OFFSET(Male!BT$18,'Male - Rev'!$A48-35,0)","v":-2.0000000000000001E-4},{"$f":"OFFSET(Male!BU$18,'Male - Rev'!$A48-35,0)","v":-6.9999999999999999E-4},{"$f":"OFFSET(Male!BV$18,'Male - Rev'!$A48-35,0)","v":-8.9999999999999998E-4},{"$f":"OFFSET(Male!BW$18,'Male - Rev'!$A48-35,0)","v":-8.0000000000000004E-4},{"$f":"OFFSET(Male!BX$18,'Male - Rev'!$A48-35,0)","v":-5.0000000000000001E-4},{"$f":"OFFSET(Male!BY$18,'Male - Rev'!$A48-35,0)","v":2.0000000000000001E-4},{"$f":"OFFSET(Male!BZ$18,'Male - Rev'!$A48-35,0)","v":1.1000000000000001E-3},{"$f":"OFFSET(Male!CA$18,'Male - Rev'!$A48-35,0)","v":2.5999999999999999E-3},{"$f":"OFFSET(Male!CB$18,'Male - Rev'!$A48-35,0)","v":4.3E-3},{"$f":"OFFSET(Male!CC$18,'Male - Rev'!$A48-35,0)","v":6.1999999999999998E-3},{"$f":"OFFSET(Male!CD$18,'Male - Rev'!$A48-35,0)","v":8.0999999999999996E-3},{"$f":"OFFSET(Male!CE$18,'Male - Rev'!$A48-35,0)","v":9.9000000000000008E-3},{"$f":"OFFSET(Male!CF$18,'Male - Rev'!$A48-35,0)","v":1.14E-2},{"$f":"OFFSET(Male!CG$18,'Male - Rev'!$A48-35,0)","v":1.26E-2},{"$f":"OFFSET(Male!CH$18,'Male - Rev'!$A48-35,0)","v":1.3299999999999999E-2},{"$f":"OFFSET(Male!CI$18,'Male - Rev'!$A48-35,0)","v":1.35E-2},{"$f":"CJ48","v":1.35E-2},1.35E-2]
[49,49,{"$f":"OFFSET(Male!B$18,'Male - Rev'!$A49-35,0)","v":2.01E-2},{"$f":"OFFSET(Male!C$18,'Male - Rev'!$A49-35,0)","v":1.8499999999999999E-2},{"$f":"OFFSET(Male!D$18,'Male - Rev'!$A49-35,0)","v":1.6899999999999998E-2},{"$f":"OFFSET(Male!E$18,'Male - Rev'!$A49-35,0)","v":1.4999999999999999E-2},{"$f":"OFFSET(Male!F$18,'Male - Rev'!$A49-35,0)","v":1.2800000000000001E-2},{"$f":"OFFSET(Male!G$18,'Male - Rev'!$A49-35,0)","v":1.03E-2},{"$f":"OFFSET(Male!H$18,'Male - Rev'!$A49-35,0)","v":7.7999999999999996E-3},{"$f":"OFFSET(Male!I$18,'Male - Rev'!$A49-35,0)","v":5.4000000000000003E-3},{"$f":"OFFSET(Male!J$18,'Male - Rev'!$A49-35,0)","v":3.3999999999999998E-3},{"$f":"OFFSET(Male!K$18,'Male - Rev'!$A49-35,0)","v":1.6000000000000001E-3},{"$f":"OFFSET(Male!L$18,'Male - Rev'!$A49-35,0)","v":2.0000000000000001E-4},{"$f":"OFFSET(Male!M$18,'Male - Rev'!$A49-35,0)","v":-1E-3},{"$f":"OFFSET(Male!N$18,'Male - Rev'!$A49-35,0)","v":-1.8E-3},{"$f":"OFFSET(Male!O$18,'Male - Rev'!$A49-35,0)","v":-2.0999999999999999E-3},{"$f":"OFFSET(Male!P$18,'Male - Rev'!$A49-35,0)","v":-1.6999999999999999E-3},{"$f":"OFFSET(Male!Q$18,'Male - Rev'!$A49-35,0)","v":-6.9999999999999999E-4},{"$f":"OFFSET(Male!R$18,'Male - Rev'!$A49-35,0)","v":1.1000000000000001E-3},{"$f":"OFFSET(Male!S$18,'Male - Rev'!$A49-35,0)","v":3.7000000000000002E-3},{"$f":"OFFSET(Male!T$18,'Male - Rev'!$A49-35,0)","v":6.8999999999999999E-3},{"$f":"OFFSET(Male!U$18,'Male - Rev'!$A49-35,0)","v":1.06E-2},{"$f":"OFFSET(Male!V$18,'Male - Rev'!$A49-35,0)","v":1.44E-2},{"$f":"OFFSET(Male!W$18,'Male - Rev'!$A49-35,0)","v":1.8200000000000001E-2},{"$f":"OFFSET(Male!X$18,'Male - Rev'!$A49-35,0)","v":2.18E-2},{"$f":"OFFSET(Male!Y$18,'Male - Rev'!$A49-35,0)","v":2.4899999999999999E-2},{"$f":"OFFSET(Male!Z$18,'Male - Rev'!$A49-35,0)","v":2.7099999999999999E-2},{"$f":"OFFSET(Male!AA$18,'Male - Rev'!$A49-35,0)","v":2.8500000000000001E-2},{"$f":"OFFSET(Male!AB$18,'Male - Rev'!$A49-35,0)","v":2.9100000000000001E-2},{"$f":"OFFSET(Male!AC$18,'Male - Rev'!$A49-35,0)","v":2.9000000000000001E-2},{"$f":"OFFSET(Male!AD$18,'Male - Rev'!$A49-35,0)","v":2.86E-2},{"$f":"OFFSET(Male!AE$18,'Male - Rev'!$A49-35,0)","v":2.7900000000000001E-2},{"$f":"OFFSET(Male!AF$18,'Male - Rev'!$A49-35,0)","v":2.69E-2},{"$f":"OFFSET(Male!AG$18,'Male - Rev'!$A49-35,0)","v":2.5600000000000001E-2},{"$f":"OFFSET(Male!AH$18,'Male - Rev'!$A49-35,0)","v":2.3699999999999999E-2},{"$f":"OFFSET(Male!AI$18,'Male - Rev'!$A49-35,0)","v":2.1399999999999999E-2},{"$f":"OFFSET(Male!AJ$18,'Male - Rev'!$A49-35,0)","v":1.89E-2},{"$f":"OFFSET(Male!AK$18,'Male - Rev'!$A49-35,0)","v":1.6400000000000001E-2},{"$f":"OFFSET(Male!AL$18,'Male - Rev'!$A49-35,0)","v":1.43E-2},{"$f":"OFFSET(Male!AM$18,'Male - Rev'!$A49-35,0)","v":1.2500000000000001E-2},{"$f":"OFFSET(Male!AN$18,'Male - Rev'!$A49-35,0)","v":1.12E-2},{"$f":"OFFSET(Male!AO$18,'Male - Rev'!$A49-35,0)","v":1.04E-2},{"$f":"OFFSET(Male!AP$18,'Male - Rev'!$A49-35,0)","v":1.0200000000000001E-2},{"$f":"OFFSET(Male!AQ$18,'Male - Rev'!$A49-35,0)","v":1.06E-2},{"$f":"OFFSET(Male!AR$18,'Male - Rev'!$A49-35,0)","v":1.1599999999999999E-2},{"$f":"OFFSET(Male!AS$18,'Male - Rev'!$A49-35,0)","v":1.2999999999999999E-2},{"$f":"OFFSET(Male!AT$18,'Male - Rev'!$A49-35,0)","v":1.4200000000000001E-2},{"$f":"OFFSET(Male!AU$18,'Male - Rev'!$A49-35,0)","v":1.46E-2},{"$f":"OFFSET(Male!AV$18,'Male - Rev'!$A49-35,0)","v":1.32E-2},{"$f":"OFFSET(Male!AW$18,'Male - Rev'!$A49-35,0)","v":1.01E-2},{"$f":"OFFSET(Male!AX$18,'Male - Rev'!$A49-35,0)","v":6.0000000000000001E-3},{"$f":"OFFSET(Male!AY$18,'Male - Rev'!$A49-35,0)","v":1.9E-3},{"$f":"OFFSET(Male!AZ$18,'Male - Rev'!$A49-35,0)","v":-1.1000000000000001E-3},{"$f":"OFFSET(Male!BA$18,'Male - Rev'!$A49-35,0)","v":-2.3E-3},{"$f":"OFFSET(Male!BB$18,'Male - Rev'!$A49-35,0)","v":-1.2999999999999999E-3},{"$f":"OFFSET(Male!BC$18,'Male - Rev'!$A49-35,0)","v":1.6000000000000001E-3},{"$f":"OFFSET(Male!BD$18,'Male - Rev'!$A49-35,0)","v":5.5999999999999999E-3},{"$f":"OFFSET(Male!BE$18,'Male - Rev'!$A49-35,0)","v":0.01},{"$f":"OFFSET(Male!BF$18,'Male - Rev'!$A49-35,0)","v":1.4E-2},{"$f":"OFFSET(Male!BG$18,'Male - Rev'!$A49-35,0)","v":1.7000000000000001E-2},{"$f":"OFFSET(Male!BH$18,'Male - Rev'!$A49-35,0)","v":1.8499999999999999E-2},{"$f":"OFFSET(Male!BI$18,'Male - Rev'!$A49-35,0)","v":1.8599999999999998E-2},{"$f":"OFFSET(Male!BJ$18,'Male - Rev'!$A49-35,0)","v":1.7299999999999999E-2},{"$f":"OFFSET(Male!BK$18,'Male - Rev'!$A49-35,0)","v":1.4999999999999999E-2},{"$f":"OFFSET(Male!BL$18,'Male - Rev'!$A49-35,0)","v":1.1900000000000001E-2},{"$f":"OFFSET(Male!BM$18,'Male - Rev'!$A49-35,0)","v":8.3999999999999995E-3},{"$f":"OFFSET(Male!BN$18,'Male - Rev'!$A49-35,0)","v":4.8999999999999998E-3},{"$f":"OFFSET(Male!BO$18,'Male - Rev'!$A49-35,0)","v":1.5E-3},{"$f":"OFFSET(Male!BP$18,'Male - Rev'!$A49-35,0)","v":5.0000000000000001E-4},{"$f":"OFFSET(Male!BQ$18,'Male - Rev'!$A49-35,0)","v":-5.0000000000000001E-4},{"$f":"OFFSET(Male!BR$18,'Male - Rev'!$A49-35,0)","v":-1.4E-3},{"$f":"OFFSET(Male!BS$18,'Male - Rev'!$A49-35,0)","v":-2.2000000000000001E-3},{"$f":"OFFSET(Male!BT$18,'Male - Rev'!$A49-35,0)","v":-2.8E-3},{"$f":"OFFSET(Male!BU$18,'Male - Rev'!$A49-35,0)","v":-3.0999999999999999E-3},{"$f":"OFFSET(Male!BV$18,'Male - Rev'!$A49-35,0)","v":-3.0999999999999999E-3},{"$f":"OFFSET(Male!BW$18,'Male - Rev'!$A49-35,0)","v":-2.7000000000000001E-3},{"$f":"OFFSET(Male!BX$18,'Male - Rev'!$A49-35,0)","v":-2E-3},{"$f":"OFFSET(Male!BY$18,'Male - Rev'!$A49-35,0)","v":-1E-3},{"$f":"OFFSET(Male!BZ$18,'Male - Rev'!$A49-35,0)","v":2.9999999999999997E-4},{"$f":"OFFSET(Male!CA$18,'Male - Rev'!$A49-35,0)","v":2E-3},{"$f":"OFFSET(Male!CB$18,'Male - Rev'!$A49-35,0)","v":4.0000000000000001E-3},{"$f":"OFFSET(Male!CC$18,'Male - Rev'!$A49-35,0)","v":6.1000000000000004E-3},{"$f":"OFFSET(Male!CD$18,'Male - Rev'!$A49-35,0)","v":8.0999999999999996E-3},{"$f":"OFFSET(Male!CE$18,'Male - Rev'!$A49-35,0)","v":9.9000000000000008E-3},{"$f":"OFFSET(Male!CF$18,'Male - Rev'!$A49-35,0)","v":1.15E-2},{"$f":"OFFSET(Male!CG$18,'Male - Rev'!$A49-35,0)","v":1.26E-2},{"$f":"OFFSET(Male!CH$18,'Male - Rev'!$A49-35,0)","v":1.3299999999999999E-2},{"$f":"OFFSET(Male!CI$18,'Male - Rev'!$A49-35,0)","v":1.35E-2},{"$f":"CJ49","v":1.35E-2},1.35E-2]
[48,48,{"$f":"OFFSET(Male!B$18,'Male - Rev'!$A50-35,0)","v":2.1299999999999999E-2},{"$f":"OFFSET(Male!C$18,'Male - Rev'!$A50-35,0)","v":1.9599999999999999E-2},{"$f":"OFFSET(Male!D$18,'Male - Rev'!$A50-35,0)","v":1.78E-2},{"$f":"OFFSET(Male!E$18,'Male - Rev'!$A50-35,0)","v":1.5800000000000002E-2},{"$f":"OFFSET(Male!F$18,'Male - Rev'!$A50-35,0)","v":1.35E-2},{"$f":"OFFSET(Male!G$18,'Male - Rev'!$A50-35,0)","v":1.09E-2},{"$f":"OFFSET(Male!H$18,'Male - Rev'!$A50-35,0)","v":8.3000000000000001E-3},{"$f":"OFFSET(Male!I$18,'Male - Rev'!$A50-35,0)","v":5.8999999999999999E-3},{"$f":"OFFSET(Male!J$18,'Male - Rev'!$A50-35,0)","v":3.5999999999999999E-3},{"$f":"OFFSET(Male!K$18,'Male - Rev'!$A50-35,0)","v":1.6999999999999999E-3},{"$f":"OFFSET(Male!L$18,'Male - Rev'!$A50-35,0)","v":1E-4},{"$f":"OFFSET(Male!M$18,'Male - Rev'!$A50-35,0)","v":-1.2999999999999999E-3},{"$f":"OFFSET(Male!N$18,'Male - Rev'!$A50-35,0)","v":-2.3E-3},{"$f":"OFFSET(Male!O$18,'Male - Rev'!$A50-35,0)","v":-2.7000000000000001E-3},{"$f":"OFFSET(Male!P$18,'Male - Rev'!$A50-35,0)","v":-2.5999999999999999E-3},{"$f":"OFFSET(Male!Q$18,'Male - Rev'!$A50-35,0)","v":-1.6999999999999999E-3},{"$f":"OFFSET(Male!R$18,'Male - Rev'!$A50-35,0)","v":0},{"$f":"OFFSET(Male!S$18,'Male - Rev'!$A50-35,0)","v":2.5999999999999999E-3},{"$f":"OFFSET(Male!T$18,'Male - Rev'!$A50-35,0)","v":5.8999999999999999E-3},{"$f":"OFFSET(Male!U$18,'Male - Rev'!$A50-35,0)","v":9.7000000000000003E-3},{"$f":"OFFSET(Male!V$18,'Male - Rev'!$A50-35,0)","v":1.38E-2},{"$f":"OFFSET(Male!W$18,'Male - Rev'!$A50-35,0)","v":1.7899999999999999E-2},{"$f":"OFFSET(Male!X$18,'Male - Rev'!$A50-35,0)","v":2.1899999999999999E-2},{"$f":"OFFSET(Male!Y$18,'Male - Rev'!$A50-35,0)","v":2.5399999999999999E-2},{"$f":"OFFSET(Male!Z$18,'Male - Rev'!$A50-35,0)","v":2.81E-2},{"$f":"OFFSET(Male!AA$18,'Male - Rev'!$A50-35,0)","v":2.9700000000000001E-2},{"$f":"OFFSET(Male!AB$18,'Male - Rev'!$A50-35,0)","v":3.0300000000000001E-2},{"$f":"OFFSET(Male!AC$18,'Male - Rev'!$A50-35,0)","v":3.0300000000000001E-2},{"$f":"OFFSET(Male!AD$18,'Male - Rev'!$A50-35,0)","v":2.98E-2},{"$f":"OFFSET(Male!AE$18,'Male - Rev'!$A50-35,0)","v":2.8899999999999999E-2},{"$f":"OFFSET(Male!AF$18,'Male - Rev'!$A50-35,0)","v":2.7699999999999999E-2},{"$f":"OFFSET(Male!AG$18,'Male - Rev'!$A50-35,0)","v":2.6100000000000002E-2},{"$f":"OFFSET(Male!AH$18,'Male - Rev'!$A50-35,0)","v":2.3900000000000001E-2},{"$f":"OFFSET(Male!AI$18,'Male - Rev'!$A50-35,0)","v":2.12E-2},{"$f":"OFFSET(Male!AJ$18,'Male - Rev'!$A50-35,0)","v":1.8100000000000002E-2},{"$f":"OFFSET(Male!AK$18,'Male - Rev'!$A50-35,0)","v":1.4999999999999999E-2},{"$f":"OFFSET(Male!AL$18,'Male - Rev'!$A50-35,0)","v":1.21E-2},{"$f":"OFFSET(Male!AM$18,'Male - Rev'!$A50-35,0)","v":9.7000000000000003E-3},{"$f":"OFFSET(Male!AN$18,'Male - Rev'!$A50-35,0)","v":7.9000000000000008E-3},{"$f":"OFFSET(Male!AO$18,'Male - Rev'!$A50-35,0)","v":6.8999999999999999E-3},{"$f":"OFFSET(Male!AP$18,'Male - Rev'!$A50-35,0)","v":6.7999999999999996E-3},{"$f":"OFFSET(Male!AQ$18,'Male - Rev'!$A50-35,0)","v":7.6E-3},{"$f":"OFFSET(Male!AR$18,'Male - Rev'!$A50-35,0)","v":9.1999999999999998E-3},{"$f":"OFFSET(Male!AS$18,'Male - Rev'!$A50-35,0)","v":1.12E-2},{"$f":"OFFSET(Male!AT$18,'Male - Rev'!$A50-35,0)","v":1.2999999999999999E-2},{"$f":"OFFSET(Male!AU$18,'Male - Rev'!$A50-35,0)","v":1.38E-2},{"$f":"OFFSET(Male!AV$18,'Male - Rev'!$A50-35,0)","v":1.2800000000000001E-2},{"$f":"OFFSET(Male!AW$18,'Male - Rev'!$A50-35,0)","v":0.01},{"$f":"OFFSET(Male!AX$18,'Male - Rev'!$A50-35,0)","v":6.1000000000000004E-3},{"$f":"OFFSET(Male!AY$18,'Male - Rev'!$A50-35,0)","v":2.3E-3},{"$f":"OFFSET(Male!AZ$18,'Male - Rev'!$A50-35,0)","v":-2.9999999999999997E-4},{"$f":"OFFSET(Male!BA$18,'Male - Rev'!$A50-35,0)","v":-1E-3},{"$f":"OFFSET(Male!BB$18,'Male - Rev'!$A50-35,0)","v":5.0000000000000001E-4},{"$f":"OFFSET(Male!BC$18,'Male - Rev'!$A50-35,0)","v":3.7000000000000002E-3},{"$f":"OFFSET(Male!BD$18,'Male - Rev'!$A50-35,0)","v":8.0000000000000002E-3},{"$f":"OFFSET(Male!BE$18,'Male - Rev'!$A50-35,0)","v":1.2500000000000001E-2},{"$f":"OFFSET(Male!BF$18,'Male - Rev'!$A50-35,0)","v":1.66E-2},{"$f":"OFFSET(Male!BG$18,'Male - Rev'!$A50-35,0)","v":1.95E-2},{"$f":"OFFSET(Male!BH$18,'Male - Rev'!$A50-35,0)","v":2.0899999999999998E-2},{"$f":"OFFSET(Male!BI$18,'Male - Rev'!$A50-35,0)","v":2.0799999999999999E-2},{"$f":"OFFSET(Male!BJ$18,'Male - Rev'!$A50-35,0)","v":1.9199999999999998E-2},{"$f":"OFFSET(Male!BK$18,'Male - Rev'!$A50-35,0)","v":1.6400000000000001E-2},{"$f":"OFFSET(Male!BL$18,'Male - Rev'!$A50-35,0)","v":1.2500000000000001E-2},{"$f":"OFFSET(Male!BM$18,'Male - Rev'!$A50-35,0)","v":8.0999999999999996E-3},{"$f":"OFFSET(Male!BN$18,'Male - Rev'!$A50-35,0)","v":3.5999999999999999E-3},{"$f":"OFFSET(Male!BO$18,'Male - Rev'!$A50-35,0)","v":-1E-3},{"$f":"OFFSET(Male!BP$18,'Male - Rev'!$A50-35,0)","v":-2.3E-3},{"$f":"OFFSET(Male!BQ$18,'Male - Rev'!$A50-35,0)","v":-3.5000000000000001E-3},{"$f":"OFFSET(Male!BR$18,'Male - Rev'!$A50-35,0)","v":-4.4999999999999997E-3},{"$f":"OFFSET(Male!BS$18,'Male - Rev'!$A50-35,0)","v":-5.3E-3},{"$f":"OFFSET(Male!BT$18,'Male - Rev'!$A50-35,0)","v":-5.7000000000000002E-3},{"$f":"OFFSET(Male!BU$18,'Male - Rev'!$A50-35,0)","v":-5.7000000000000002E-3},{"$f":"OFFSET(Male!BV$18,'Male - Rev'!$A50-35,0)","v":-5.3E-3},{"$f":"OFFSET(Male!BW$18,'Male - Rev'!$A50-35,0)","v":-4.4999999999999997E-3},{"$f":"OFFSET(Male!BX$18,'Male - Rev'!$A50-35,0)","v":-3.3999999999999998E-3},{"$f":"OFFSET(Male!BY$18,'Male - Rev'!$A50-35,0)","v":-2E-3},{"$f":"OFFSET(Male!BZ$18,'Male - Rev'!$A50-35,0)","v":-4.0000000000000002E-4},{"$f":"OFFSET(Male!CA$18,'Male - Rev'!$A50-35,0)","v":1.6000000000000001E-3},{"$f":"OFFSET(Male!CB$18,'Male - Rev'!$A50-35,0)","v":3.8E-3},{"$f":"OFFSET(Male!CC$18,'Male - Rev'!$A50-35,0)","v":6.1000000000000004E-3},{"$f":"OFFSET(Male!CD$18,'Male - Rev'!$A50-35,0)","v":8.2000000000000007E-3},{"$f":"OFFSET(Male!CE$18,'Male - Rev'!$A50-35,0)","v":0.01},{"$f":"OFFSET(Male!CF$18,'Male - Rev'!$A50-35,0)","v":1.15E-2},{"$f":"OFFSET(Male!CG$18,'Male - Rev'!$A50-35,0)","v":1.26E-2},{"$f":"OFFSET(Male!CH$18,'Male - Rev'!$A50-35,0)","v":1.3299999999999999E-2},{"$f":"OFFSET(Male!CI$18,'Male - Rev'!$A50-35,0)","v":1.35E-2},{"$f":"CJ50","v":1.35E-2},1.35E-2]
[47,47,{"$f":"OFFSET(Male!B$18,'Male - Rev'!$A51-35,0)","v":2.2599999999999999E-2},{"$f":"OFFSET(Male!C$18,'Male - Rev'!$A51-35,0)","v":2.07E-2},{"$f":"OFFSET(Male!D$18,'Male - Rev'!$A51-35,0)","v":1.8800000000000001E-2},{"$f":"OFFSET(Male!E$18,'Male - Rev'!$A51-35,0)","v":1.67E-2},{"$f":"OFFSET(Male!F$18,'Male - Rev'!$A51-35,0)","v":1.43E-2},{"$f":"OFFSET(Male!G$18,'Male - Rev'!$A51-35,0)","v":1.1599999999999999E-2},{"$f":"OFFSET(Male!H$18,'Male - Rev'!$A51-35,0)","v":8.8999999999999999E-3},{"$f":"OFFSET(Male!I$18,'Male - Rev'!$A51-35,0)","v":6.3E-3},{"$f":"OFFSET(Male!J$18,'Male - Rev'!$A51-35,0)","v":3.8999999999999998E-3},{"$f":"OFFSET(Male!K$18,'Male - Rev'!$A51-35,0)","v":1.8E-3},{"$f":"OFFSET(Male!L$18,'Male - Rev'!$A51-35,0)","v":0},{"$f":"OFFSET(Male!M$18,'Male - Rev'!$A51-35,0)","v":-1.6000000000000001E-3},{"$f":"OFFSET(Male!N$18,'Male - Rev'!$A51-35,0)","v":-2.8999999999999998E-3},{"$f":"OFFSET(Male!O$18,'Male - Rev'!$A51-35,0)","v":-3.5000000000000001E-3},{"$f":"OFFSET(Male!P$18,'Male - Rev'!$A51-35,0)","v":-3.5999999999999999E-3},{"$f":"OFFSET(Male!Q$18,'Male - Rev'!$A51-35,0)","v":-2.8999999999999998E-3},{"$f":"OFFSET(Male!R$18,'Male - Rev'!$A51-35,0)","v":-1.1999999999999999E-3},{"$f":"OFFSET(Male!S$18,'Male - Rev'!$A51-35,0)","v":1.2999999999999999E-3},{"$f":"OFFSET(Male!T$18,'Male - Rev'!$A51-35,0)","v":4.7999999999999996E-3},{"$f":"OFFSET(Male!U$18,'Male - Rev'!$A51-35,0)","v":8.8999999999999999E-3},{"$f":"OFFSET(Male!V$18,'Male - Rev'!$A51-35,0)","v":1.3299999999999999E-2},{"$f":"OFFSET(Male!W$18,'Male - Rev'!$A51-35,0)","v":1.78E-2},{"$f":"OFFSET(Male!X$18,'Male - Rev'!$A51-35,0)","v":2.2200000000000001E-2},{"$f":"OFFSET(Male!Y$18,'Male - Rev'!$A51-35,0)","v":2.6100000000000002E-2},{"$f":"OFFSET(Male!Z$18,'Male - Rev'!$A51-35,0)","v":2.9100000000000001E-2},{"$f":"OFFSET(Male!AA$18,'Male - Rev'!$A51-35,0)","v":3.09E-2},{"$f":"OFFSET(Male!AB$18,'Male - Rev'!$A51-35,0)","v":3.1600000000000003E-2},{"$f":"OFFSET(Male!AC$18,'Male - Rev'!$A51-35,0)","v":3.15E-2},{"$f":"OFFSET(Male!AD$18,'Male - Rev'!$A51-35,0)","v":3.0800000000000001E-2},{"$f":"OFFSET(Male!AE$18,'Male - Rev'!$A51-35,0)","v":2.9700000000000001E-2},{"$f":"OFFSET(Male!AF$18,'Male - Rev'!$A51-35,0)","v":2.8299999999999999E-2},{"$f":"OFFSET(Male!AG$18,'Male - Rev'!$A51-35,0)","v":2.63E-2},{"$f":"OFFSET(Male!AH$18,'Male - Rev'!$A51-35,0)","v":2.3699999999999999E-2},{"$f":"OFFSET(Male!AI$18,'Male - Rev'!$A51-35,0)","v":2.0400000000000001E-2},{"$f":"OFFSET(Male!AJ$18,'Male - Rev'!$A51-35,0)","v":1.67E-2},{"$f":"OFFSET(Male!AK$18,'Male - Rev'!$A51-35,0)","v":1.2999999999999999E-2},{"$f":"OFFSET(Male!AL$18,'Male - Rev'!$A51-35,0)","v":9.4000000000000004E-3},{"$f":"OFFSET(Male!AM$18,'Male - Rev'!$A51-35,0)","v":6.4000000000000003E-3},{"$f":"OFFSET(Male!AN$18,'Male - Rev'!$A51-35,0)","v":4.1999999999999997E-3},{"$f":"OFFSET(Male!AO$18,'Male - Rev'!$A51-35,0)","v":3.0999999999999999E-3},{"$f":"OFFSET(Male!AP$18,'Male - Rev'!$A51-35,0)","v":3.0999999999999999E-3},{"$f":"OFFSET(Male!AQ$18,'Male - Rev'!$A51-35,0)","v":4.4000000000000003E-3},{"$f":"OFFSET(Male!AR$18,'Male - Rev'!$A51-35,0)","v":6.6E-3},{"$f":"OFFSET(Male!AS$18,'Male - Rev'!$A51-35,0)","v":9.4999999999999998E-3},{"$f":"OFFSET(Male!AT$18,'Male - Rev'!$A51-35,0)","v":1.2200000000000001E-2},{"$f":"OFFSET(Male!AU$18,'Male - Rev'!$A51-35,0)","v":1.38E-2},{"$f":"OFFSET(Male!AV$18,'Male - Rev'!$A51-35,0)","v":1.3299999999999999E-2},{"$f":"OFFSET(Male!AW$18,'Male - Rev'!$A51-35,0)","v":1.0800000000000001E-2},{"$f":"OFFSET(Male!AX$18,'Male - Rev'!$A51-35,0)","v":7.1000000000000004E-3},{"$f":"OFFSET(Male!AY$18,'Male - Rev'!$A51-35,0)","v":3.3999999999999998E-3},{"$f":"OFFSET(Male!AZ$18,'Male - Rev'!$A51-35,0)","v":1.1000000000000001E-3},{"$f":"OFFSET(Male!BA$18,'Male - Rev'!$A51-35,0)","v":6.9999999999999999E-4},{"$f":"OFFSET(Male!BB$18,'Male - Rev'!$A51-35,0)","v":2.5000000000000001E-3},{"$f":"OFFSET(Male!BC$18,'Male - Rev'!$A51-35,0)","v":6.0000000000000001E-3},{"$f":"OFFSET(Male!BD$18,'Male - Rev'!$A51-35,0)","v":1.04E-2},{"$f":"OFFSET(Male!BE$18,'Male - Rev'!$A51-35,0)","v":1.4999999999999999E-2},{"$f":"OFFSET(Male!BF$18,'Male - Rev'!$A51-35,0)","v":1.9099999999999999E-2},{"$f":"OFFSET(Male!BG$18,'Male - Rev'!$A51-35,0)","v":2.1899999999999999E-2},{"$f":"OFFSET(Male!BH$18,'Male - Rev'!$A51-35,0)","v":2.3199999999999998E-2},{"$f":"OFFSET(Male!BI$18,'Male - Rev'!$A51-35,0)","v":2.2700000000000001E-2},{"$f":"OFFSET(Male!BJ$18,'Male - Rev'!$A51-35,0)","v":2.07E-2},{"$f":"OFFSET(Male!BK$18,'Male - Rev'!$A51-35,0)","v":1.7100000000000001E-2},{"$f":"OFFSET(Male!BL$18,'Male - Rev'!$A51-35,0)","v":1.2500000000000001E-2},{"$f":"OFFSET(Male!BM$18,'Male - Rev'!$A51-35,0)","v":7.1000000000000004E-3},{"$f":"OFFSET(Male!BN$18,'Male - Rev'!$A51-35,0)","v":1.4E-3},{"$f":"OFFSET(Male!BO$18,'Male - Rev'!$A51-35,0)","v":-4.1999999999999997E-3},{"$f":"OFFSET(Male!BP$18,'Male - Rev'!$A51-35,0)","v":-5.8999999999999999E-3},{"$f":"OFFSET(Male!BQ$18,'Male - Rev'!$A51-35,0)","v":-7.1999999999999998E-3},{"$f":"OFFSET(Male!BR$18,'Male - Rev'!$A51-35,0)","v":-8.2000000000000007E-3},{"$f":"OFFSET(Male!BS$18,'Male - Rev'!$A51-35,0)","v":-8.8000000000000005E-3},{"$f":"OFFSET(Male!BT$18,'Male - Rev'!$A51-35,0)","v":-8.8999999999999999E-3},{"$f":"OFFSET(Male!BU$18,'Male - Rev'!$A51-35,0)","v":-8.5000000000000006E-3},{"$f":"OFFSET(Male!BV$18,'Male - Rev'!$A51-35,0)","v":-7.6E-3},{"$f":"OFFSET(Male!BW$18,'Male - Rev'!$A51-35,0)","v":-6.1999999999999998E-3},{"$f":"OFFSET(Male!BX$18,'Male - Rev'!$A51-35,0)","v":-4.5999999999999999E-3},{"$f":"OFFSET(Male!BY$18,'Male - Rev'!$A51-35,0)","v":-2.8E-3},{"$f":"OFFSET(Male!BZ$18,'Male - Rev'!$A51-35,0)","v":-8.0000000000000004E-4},{"$f":"OFFSET(Male!CA$18,'Male - Rev'!$A51-35,0)","v":1.4E-3},{"$f":"OFFSET(Male!CB$18,'Male - Rev'!$A51-35,0)","v":3.8E-3},{"$f":"OFFSET(Male!CC$18,'Male - Rev'!$A51-35,0)","v":6.1000000000000004E-3},{"$f":"OFFSET(Male!CD$18,'Male - Rev'!$A51-35,0)","v":8.2000000000000007E-3},{"$f":"OFFSET(Male!CE$18,'Male - Rev'!$A51-35,0)","v":1.01E-2},{"$f":"OFFSET(Male!CF$18,'Male - Rev'!$A51-35,0)","v":1.1599999999999999E-2},{"$f":"OFFSET(Male!CG$18,'Male - Rev'!$A51-35,0)","v":1.2699999999999999E-2},{"$f":"OFFSET(Male!CH$18,'Male - Rev'!$A51-35,0)","v":1.3299999999999999E-2},{"$f":"OFFSET(Male!CI$18,'Male - Rev'!$A51-35,0)","v":1.35E-2},{"$f":"CJ51","v":1.35E-2},1.35E-2]
[46,46,{"$f":"OFFSET(Male!B$18,'Male - Rev'!$A52-35,0)","v":2.4E-2},{"$f":"OFFSET(Male!C$18,'Male - Rev'!$A52-35,0)","v":2.1999999999999999E-2},{"$f":"OFFSET(Male!D$18,'Male - Rev'!$A52-35,0)","v":0.02},{"$f":"OFFSET(Male!E$18,'Male - Rev'!$A52-35,0)","v":1.77E-2},{"$f":"OFFSET(Male!F$18,'Male - Rev'!$A52-35,0)","v":1.5100000000000001E-2},{"$f":"OFFSET(Male!G$18,'Male - Rev'!$A52-35,0)","v":1.23E-2},{"$f":"OFFSET(Male!H$18,'Male - Rev'!$A52-35,0)","v":9.4999999999999998E-3},{"$f":"OFFSET(Male!I$18,'Male - Rev'!$A52-35,0)","v":6.7000000000000002E-3},{"$f":"OFFSET(Male!J$18,'Male - Rev'!$A52-35,0)","v":4.1999999999999997E-3},{"$f":"OFFSET(Male!K$18,'Male - Rev'!$A52-35,0)","v":1.9E-3},{"$f":"OFFSET(Male!L$18,'Male - Rev'!$A52-35,0)","v":-2.0000000000000001E-4},{"$f":"OFFSET(Male!M$18,'Male - Rev'!$A52-35,0)","v":-2.0999999999999999E-3},{"$f":"OFFSET(Male!N$18,'Male - Rev'!$A52-35,0)","v":-3.5999999999999999E-3},{"$f":"OFFSET(Male!O$18,'Male - Rev'!$A52-35,0)","v":-4.4999999999999997E-3},{"$f":"OFFSET(Male!P$18,'Male - Rev'!$A52-35,0)","v":-4.7999999999999996E-3},{"$f":"OFFSET(Male!Q$18,'Male - Rev'!$A52-35,0)","v":-4.1999999999999997E-3},{"$f":"OFFSET(Male!R$18,'Male - Rev'!$A52-35,0)","v":-2.5999999999999999E-3},{"$f":"OFFSET(Male!S$18,'Male - Rev'!$A52-35,0)","v":0},{"$f":"OFFSET(Male!T$18,'Male - Rev'!$A52-35,0)","v":3.8E-3},{"$f":"OFFSET(Male!U$18,'Male - Rev'!$A52-35,0)","v":8.2000000000000007E-3},{"$f":"OFFSET(Male!V$18,'Male - Rev'!$A52-35,0)","v":1.2999999999999999E-2},{"$f":"OFFSET(Male!W$18,'Male - Rev'!$A52-35,0)","v":1.7999999999999999E-2},{"$f":"OFFSET(Male!X$18,'Male - Rev'!$A52-35,0)","v":2.2700000000000001E-2},{"$f":"OFFSET(Male!Y$18,'Male - Rev'!$A52-35,0)","v":2.69E-2},{"$f":"OFFSET(Male!Z$18,'Male - Rev'!$A52-35,0)","v":3.0099999999999998E-2},{"$f":"OFFSET(Male!AA$18,'Male - Rev'!$A52-35,0)","v":3.2000000000000001E-2},{"$f":"OFFSET(Male!AB$18,'Male - Rev'!$A52-35,0)","v":3.2800000000000003E-2},{"$f":"OFFSET(Male!AC$18,'Male - Rev'!$A52-35,0)","v":3.2599999999999997E-2},{"$f":"OFFSET(Male!AD$18,'Male - Rev'!$A52-35,0)","v":3.1699999999999999E-2},{"$f":"OFFSET(Male!AE$18,'Male - Rev'!$A52-35,0)","v":3.0300000000000001E-2},{"$f":"OFFSET(Male!AF$18,'Male - Rev'!$A52-35,0)","v":2.8500000000000001E-2},{"$f":"OFFSET(Male!AG$18,'Male - Rev'!$A52-35,0)","v":2.6100000000000002E-2},{"$f":"OFFSET(Male!AH$18,'Male - Rev'!$A52-35,0)","v":2.29E-2},{"$f":"OFFSET(Male!AI$18,'Male - Rev'!$A52-35,0)","v":1.9099999999999999E-2},{"$f":"OFFSET(Male!AJ$18,'Male - Rev'!$A52-35,0)","v":1.4800000000000001E-2},{"$f":"OFFSET(Male!AK$18,'Male - Rev'!$A52-35,0)","v":1.04E-2},{"$f":"OFFSET(Male!AL$18,'Male - Rev'!$A52-35,0)","v":6.1999999999999998E-3},{"$f":"OFFSET(Male!AM$18,'Male - Rev'!$A52-35,0)","v":2.7000000000000001E-3},{"$f":"OFFSET(Male!AN$18,'Male - Rev'!$A52-35,0)","v":2.0000000000000001E-4},{"$f":"OFFSET(Male!AO$18,'Male - Rev'!$A52-35,0)","v":-1.1000000000000001E-3},{"$f":"OFFSET(Male!AP$18,'Male - Rev'!$A52-35,0)","v":-8.9999999999999998E-4},{"$f":"OFFSET(Male!AQ$18,'Male - Rev'!$A52-35,0)","v":1E-3},{"$f":"OFFSET(Male!AR$18,'Male - Rev'!$A52-35,0)","v":4.1999999999999997E-3},{"$f":"OFFSET(Male!AS$18,'Male - Rev'!$A52-35,0)","v":8.2000000000000007E-3},{"$f":"OFFSET(Male!AT$18,'Male - Rev'!$A52-35,0)","v":1.2E-2},{"$f":"OFFSET(Male!AU$18,'Male - Rev'!$A52-35,0)","v":1.46E-2},{"$f":"OFFSET(Male!AV$18,'Male - Rev'!$A52-35,0)","v":1.4800000000000001E-2},{"$f":"OFFSET(Male!AW$18,'Male - Rev'!$A52-35,0)","v":1.26E-2},{"$f":"OFFSET(Male!AX$18,'Male - Rev'!$A52-35,0)","v":8.9999999999999993E-3},{"$f":"OFFSET(Male!AY$18,'Male - Rev'!$A52-35,0)","v":5.4000000000000003E-3},{"$f":"OFFSET(Male!AZ$18,'Male - Rev'!$A52-35,0)","v":3.0000000000000001E-3},{"$f":"OFFSET(Male!BA$18,'Male - Rev'!$A52-35,0)","v":2.7000000000000001E-3},{"$f":"OFFSET(Male!BB$18,'Male - Rev'!$A52-35,0)","v":4.5999999999999999E-3},{"$f":"OFFSET(Male!BC$18,'Male - Rev'!$A52-35,0)","v":8.0999999999999996E-3},{"$f":"OFFSET(Male!BD$18,'Male - Rev'!$A52-35,0)","v":1.2699999999999999E-2},{"$f":"OFFSET(Male!BE$18,'Male - Rev'!$A52-35,0)","v":1.7399999999999999E-2},{"$f":"OFFSET(Male!BF$18,'Male - Rev'!$A52-35,0)","v":2.1399999999999999E-2},{"$f":"OFFSET(Male!BG$18,'Male - Rev'!$A52-35,0)","v":2.41E-2},{"$f":"OFFSET(Male!BH$18,'Male - Rev'!$A52-35,0)","v":2.5100000000000001E-2},{"$f":"OFFSET(Male!BI$18,'Male - Rev'!$A52-35,0)","v":2.4199999999999999E-2},{"$f":"OFFSET(Male!BJ$18,'Male - Rev'!$A52-35,0)","v":2.1499999999999998E-2},{"$f":"OFFSET(Male!BK$18,'Male - Rev'!$A52-35,0)","v":1.72E-2},{"$f":"OFFSET(Male!BL$18,'Male - Rev'!$A52-35,0)","v":1.1599999999999999E-2},{"$f":"OFFSET(Male!BM$18,'Male - Rev'!$A52-35,0)","v":5.1999999999999998E-3},{"$f":"OFFSET(Male!BN$18,'Male - Rev'!$A52-35,0)","v":-1.5E-3},{"$f":"OFFSET(Male!BO$18,'Male - Rev'!$A52-35,0)","v":-8.2000000000000007E-3},{"$f":"OFFSET(Male!BP$18,'Male - Rev'!$A52-35,0)","v":-1.01E-2},{"$f":"OFFSET(Male!BQ$18,'Male - Rev'!$A52-35,0)","v":-1.15E-2},{"$f":"OFFSET(Male!BR$18,'Male - Rev'!$A52-35,0)","v":-1.23E-2},{"$f":"OFFSET(Male!BS$18,'Male - Rev'!$A52-35,0)","v":-1.26E-2},{"$f":"OFFSET(Male!BT$18,'Male - Rev'!$A52-35,0)","v":-1.2200000000000001E-2},{"$f":"OFFSET(Male!BU$18,'Male - Rev'!$A52-35,0)","v":-1.12E-2},{"$f":"OFFSET(Male!BV$18,'Male - Rev'!$A52-35,0)","v":-9.7000000000000003E-3},{"$f":"OFFSET(Male!BW$18,'Male - Rev'!$A52-35,0)","v":-7.7999999999999996E-3},{"$f":"OFFSET(Male!BX$18,'Male - Rev'!$A52-35,0)","v":-5.4999999999999997E-3},{"$f":"OFFSET(Male!BY$18,'Male - Rev'!$A52-35,0)","v":-3.3E-3},{"$f":"OFFSET(Male!BZ$18,'Male - Rev'!$A52-35,0)","v":-1.1000000000000001E-3},{"$f":"OFFSET(Male!CA$18,'Male - Rev'!$A52-35,0)","v":1.4E-3},{"$f":"OFFSET(Male!CB$18,'Male - Rev'!$A52-35,0)","v":3.8999999999999998E-3},{"$f":"OFFSET(Male!CC$18,'Male - Rev'!$A52-35,0)","v":6.1999999999999998E-3},{"$f":"OFFSET(Male!CD$18,'Male - Rev'!$A52-35,0)","v":8.3999999999999995E-3},{"$f":"OFFSET(Male!CE$18,'Male - Rev'!$A52-35,0)","v":1.0200000000000001E-2},{"$f":"OFFSET(Male!CF$18,'Male - Rev'!$A52-35,0)","v":1.17E-2},{"$f":"OFFSET(Male!CG$18,'Male - Rev'!$A52-35,0)","v":1.2699999999999999E-2},{"$f":"OFFSET(Male!CH$18,'Male - Rev'!$A52-35,0)","v":1.3299999999999999E-2},{"$f":"OFFSET(Male!CI$18,'Male - Rev'!$A52-35,0)","v":1.35E-2},{"$f":"CJ52","v":1.35E-2},1.35E-2]
[45,45,{"$f":"OFFSET(Male!B$18,'Male - Rev'!$A53-35,0)","v":2.5399999999999999E-2},{"$f":"OFFSET(Male!C$18,'Male - Rev'!$A53-35,0)","v":2.3300000000000001E-2},{"$f":"OFFSET(Male!D$18,'Male - Rev'!$A53-35,0)","v":2.12E-2},{"$f":"OFFSET(Male!E$18,'Male - Rev'!$A53-35,0)","v":1.8800000000000001E-2},{"$f":"OFFSET(Male!F$18,'Male - Rev'!$A53-35,0)","v":1.6E-2},{"$f":"OFFSET(Male!G$18,'Male - Rev'!$A53-35,0)","v":1.2999999999999999E-2},{"$f":"OFFSET(Male!H$18,'Male - Rev'!$A53-35,0)","v":0.01},{"$f":"OFFSET(Male!I$18,'Male - Rev'!$A53-35,0)","v":7.1000000000000004E-3},{"$f":"OFFSET(Male!J$18,'Male - Rev'!$A53-35,0)","v":4.4000000000000003E-3},{"$f":"OFFSET(Male!K$18,'Male - Rev'!$A53-35,0)","v":1.8E-3},{"$f":"OFFSET(Male!L$18,'Male - Rev'!$A53-35,0)","v":-5.0000000000000001E-4},{"$f":"OFFSET(Male!M$18,'Male - Rev'!$A53-35,0)","v":-2.5999999999999999E-3},{"$f":"OFFSET(Male!N$18,'Male - Rev'!$A53-35,0)","v":-4.4000000000000003E-3},{"$f":"OFFSET(Male!O$18,'Male - Rev'!$A53-35,0)","v":-5.5999999999999999E-3},{"$f":"OFFSET(Male!P$18,'Male - Rev'!$A53-35,0)","v":-6.1000000000000004E-3},{"$f":"OFFSET(Male!Q$18,'Male - Rev'!$A53-35,0)","v":-5.5999999999999999E-3},{"$f":"OFFSET(Male!R$18,'Male - Rev'!$A53-35,0)","v":-4.0000000000000001E-3},{"$f":"OFFSET(Male!S$18,'Male - Rev'!$A53-35,0)","v":-1.1999999999999999E-3},{"$f":"OFFSET(Male!T$18,'Male - Rev'!$A53-35,0)","v":2.8E-3},{"$f":"OFFSET(Male!U$18,'Male - Rev'!$A53-35,0)","v":7.7000000000000002E-3},{"$f":"OFFSET(Male!V$18,'Male - Rev'!$A53-35,0)","v":1.29E-2},{"$f":"OFFSET(Male!W$18,'Male - Rev'!$A53-35,0)","v":1.83E-2},{"$f":"OFFSET(Male!X$18,'Male - Rev'!$A53-35,0)","v":2.3300000000000001E-2},{"$f":"OFFSET(Male!Y$18,'Male - Rev'!$A53-35,0)","v":2.7699999999999999E-2},{"$f":"OFFSET(Male!Z$18,'Male - Rev'!$A53-35,0)","v":3.1E-2},{"$f":"OFFSET(Male!AA$18,'Male - Rev'!$A53-35,0)","v":3.3000000000000002E-2},{"$f":"OFFSET(Male!AB$18,'Male - Rev'!$A53-35,0)","v":3.3700000000000001E-2},{"$f":"OFFSET(Male!AC$18,'Male - Rev'!$A53-35,0)","v":3.3500000000000002E-2},{"$f":"OFFSET(Male!AD$18,'Male - Rev'!$A53-35,0)","v":3.2500000000000001E-2},{"$f":"OFFSET(Male!AE$18,'Male - Rev'!$A53-35,0)","v":3.0800000000000001E-2},{"$f":"OFFSET(Male!AF$18,'Male - Rev'!$A53-35,0)","v":2.8500000000000001E-2},{"$f":"OFFSET(Male!AG$18,'Male - Rev'!$A53-35,0)","v":2.5499999999999998E-2},{"$f":"OFFSET(Male!AH$18,'Male - Rev'!$A53-35,0)","v":2.1600000000000001E-2},{"$f":"OFFSET(Male!AI$18,'Male - Rev'!$A53-35,0)","v":1.7100000000000001E-2},{"$f":"OFFSET(Male!AJ$18,'Male - Rev'!$A53-35,0)","v":1.21E-2},{"$f":"OFFSET(Male!AK$18,'Male - Rev'!$A53-35,0)","v":7.1000000000000004E-3},{"$f":"OFFSET(Male!AL$18,'Male - Rev'!$A53-35,0)","v":2.5000000000000001E-3},{"$f":"OFFSET(Male!AM$18,'Male - Rev'!$A53-35,0)","v":-1.4E-3},{"$f":"OFFSET(Male!AN$18,'Male - Rev'!$A53-35,0)","v":-4.1000000000000003E-3},{"$f":"OFFSET(Male!AO$18,'Male - Rev'!$A53-35,0)","v":-5.4000000000000003E-3},{"$f":"OFFSET(Male!AP$18,'Male - Rev'!$A53-35,0)","v":-4.7999999999999996E-3},{"$f":"OFFSET(Male!AQ$18,'Male - Rev'!$A53-35,0)","v":-2.3E-3},{"$f":"OFFSET(Male!AR$18,'Male - Rev'!$A53-35,0)","v":2E-3},{"$f":"OFFSET(Male!AS$18,'Male - Rev'!$A53-35,0)","v":7.4000000000000003E-3},{"$f":"OFFSET(Male!AT$18,'Male - Rev'!$A53-35,0)","v":1.2699999999999999E-2},{"$f":"OFFSET(Male!AU$18,'Male - Rev'!$A53-35,0)","v":1.6400000000000001E-2},{"$f":"OFFSET(Male!AV$18,'Male - Rev'!$A53-35,0)","v":1.7299999999999999E-2},{"$f":"OFFSET(Male!AW$18,'Male - Rev'!$A53-35,0)","v":1.55E-2},{"$f":"OFFSET(Male!AX$18,'Male - Rev'!$A53-35,0)","v":1.18E-2},{"$f":"OFFSET(Male!AY$18,'Male - Rev'!$A53-35,0)","v":7.9000000000000008E-3},{"$f":"OFFSET(Male!AZ$18,'Male - Rev'!$A53-35,0)","v":5.3E-3},{"$f":"OFFSET(Male!BA$18,'Male - Rev'!$A53-35,0)","v":4.7999999999999996E-3},{"$f":"OFFSET(Male!BB$18,'Male - Rev'!$A53-35,0)","v":6.4999999999999997E-3},{"$f":"OFFSET(Male!BC$18,'Male - Rev'!$A53-35,0)","v":1.01E-2},{"$f":"OFFSET(Male!BD$18,'Male - Rev'!$A53-35,0)","v":1.47E-2},{"$f":"OFFSET(Male!BE$18,'Male - Rev'!$A53-35,0)","v":1.9400000000000001E-2},{"$f":"OFFSET(Male!BF$18,'Male - Rev'!$A53-35,0)","v":2.3400000000000001E-2},{"$f":"OFFSET(Male!BG$18,'Male - Rev'!$A53-35,0)","v":2.5999999999999999E-2},{"$f":"OFFSET(Male!BH$18,'Male - Rev'!$A53-35,0)","v":2.6700000000000002E-2},{"$f":"OFFSET(Male!BI$18,'Male - Rev'!$A53-35,0)","v":2.53E-2},{"$f":"OFFSET(Male!BJ$18,'Male - Rev'!$A53-35,0)","v":2.18E-2},{"$f":"OFFSET(Male!BK$18,'Male - Rev'!$A53-35,0)","v":1.6500000000000001E-2},{"$f":"OFFSET(Male!BL$18,'Male - Rev'!$A53-35,0)","v":9.7999999999999997E-3},{"$f":"OFFSET(Male!BM$18,'Male - Rev'!$A53-35,0)","v":2.3999999999999998E-3},{"$f":"OFFSET(Male!BN$18,'Male - Rev'!$A53-35,0)","v":-5.3E-3},{"$f":"OFFSET(Male!BO$18,'Male - Rev'!$A53-35,0)","v":-1.2800000000000001E-2},{"$f":"OFFSET(Male!BP$18,'Male - Rev'!$A53-35,0)","v":-1.49E-2},{"$f":"OFFSET(Male!BQ$18,'Male - Rev'!$A53-35,0)","v":-1.6199999999999999E-2},{"$f":"OFFSET(Male!BR$18,'Male - Rev'!$A53-35,0)","v":-1.6799999999999999E-2},{"$f":"OFFSET(Male!BS$18,'Male - Rev'!$A53-35,0)","v":-1.66E-2},{"$f":"OFFSET(Male!BT$18,'Male - Rev'!$A53-35,0)","v":-1.5599999999999999E-2},{"$f":"OFFSET(Male!BU$18,'Male - Rev'!$A53-35,0)","v":-1.3899999999999999E-2},{"$f":"OFFSET(Male!BV$18,'Male - Rev'!$A53-35,0)","v":-1.1599999999999999E-2},{"$f":"OFFSET(Male!BW$18,'Male - Rev'!$A53-35,0)","v":-8.9999999999999993E-3},{"$f":"OFFSET(Male!BX$18,'Male - Rev'!$A53-35,0)","v":-6.1999999999999998E-3},{"$f":"OFFSET(Male!BY$18,'Male - Rev'!$A53-35,0)","v":-3.5999999999999999E-3},{"$f":"OFFSET(Male!BZ$18,'Male - Rev'!$A53-35,0)","v":-1.1000000000000001E-3},{"$f":"OFFSET(Male!CA$18,'Male - Rev'!$A53-35,0)","v":1.5E-3},{"$f":"OFFSET(Male!CB$18,'Male - Rev'!$A53-35,0)","v":4.0000000000000001E-3},{"$f":"OFFSET(Male!CC$18,'Male - Rev'!$A53-35,0)","v":6.4000000000000003E-3},{"$f":"OFFSET(Male!CD$18,'Male - Rev'!$A53-35,0)","v":8.6E-3},{"$f":"OFFSET(Male!CE$18,'Male - Rev'!$A53-35,0)","v":1.03E-2},{"$f":"OFFSET(Male!CF$18,'Male - Rev'!$A53-35,0)","v":1.18E-2},{"$f":"OFFSET(Male!CG$18,'Male - Rev'!$A53-35,0)","v":1.2699999999999999E-2},{"$f":"OFFSET(Male!CH$18,'Male - Rev'!$A53-35,0)","v":1.3299999999999999E-2},{"$f":"OFFSET(Male!CI$18,'Male - Rev'!$A53-35,0)","v":1.35E-2},{"$f":"CJ53","v":1.35E-2},1.35E-2]
[44,44,{"$f":"OFFSET(Male!B$18,'Male - Rev'!$A54-35,0)","v":2.69E-2},{"$f":"OFFSET(Male!C$18,'Male - Rev'!$A54-35,0)","v":2.4799999999999999E-2},{"$f":"OFFSET(Male!D$18,'Male - Rev'!$A54-35,0)","v":2.2499999999999999E-2},{"$f":"OFFSET(Male!E$18,'Male - Rev'!$A54-35,0)","v":1.9900000000000001E-2},{"$f":"OFFSET(Male!F$18,'Male - Rev'!$A54-35,0)","v":1.6799999999999999E-2},{"$f":"OFFSET(Male!G$18,'Male - Rev'!$A54-35,0)","v":1.3599999999999999E-2},{"$f":"OFFSET(Male!H$18,'Male - Rev'!$A54-35,0)","v":1.03E-2},{"$f":"OFFSET(Male!I$18,'Male - Rev'!$A54-35,0)","v":7.3000000000000001E-3},{"$f":"OFFSET(Male!J$18,'Male - Rev'!$A54-35,0)","v":4.4000000000000003E-3},{"$f":"OFFSET(Male!K$18,'Male - Rev'!$A54-35,0)","v":1.6999999999999999E-3},{"$f":"OFFSET(Male!L$18,'Male - Rev'!$A54-35,0)","v":-8.9999999999999998E-4},{"$f":"OFFSET(Male!M$18,'Male - Rev'!$A54-35,0)","v":-3.3E-3},{"$f":"OFFSET(Male!N$18,'Male - Rev'!$A54-35,0)","v":-5.3E-3},{"$f":"OFFSET(Male!O$18,'Male - Rev'!$A54-35,0)","v":-6.7000000000000002E-3},{"$f":"OFFSET(Male!P$18,'Male - Rev'!$A54-35,0)","v":-7.4000000000000003E-3},{"$f":"OFFSET(Male!Q$18,'Male - Rev'!$A54-35,0)","v":-7.0000000000000001E-3},{"$f":"OFFSET(Male!R$18,'Male - Rev'!$A54-35,0)","v":-5.4000000000000003E-3},{"$f":"OFFSET(Male!S$18,'Male - Rev'!$A54-35,0)","v":-2.3999999999999998E-3},{"$f":"OFFSET(Male!T$18,'Male - Rev'!$A54-35,0)","v":2E-3},{"$f":"OFFSET(Male!U$18,'Male - Rev'!$A54-35,0)","v":7.3000000000000001E-3},{"$f":"OFFSET(Male!V$18,'Male - Rev'!$A54-35,0)","v":1.2999999999999999E-2},{"$f":"OFFSET(Male!W$18,'Male - Rev'!$A54-35,0)","v":1.8700000000000001E-2},{"$f":"OFFSET(Male!X$18,'Male - Rev'!$A54-35,0)","v":2.4E-2},{"$f":"OFFSET(Male!Y$18,'Male - Rev'!$A54-35,0)","v":2.8500000000000001E-2},{"$f":"OFFSET(Male!Z$18,'Male - Rev'!$A54-35,0)","v":3.1800000000000002E-2},{"$f":"OFFSET(Male!AA$18,'Male - Rev'!$A54-35,0)","v":3.3700000000000001E-2},{"$f":"OFFSET(Male!AB$18,'Male - Rev'!$A54-35,0)","v":3.4500000000000003E-2},{"$f":"OFFSET(Male!AC$18,'Male - Rev'!$A54-35,0)","v":3.4200000000000001E-2},{"$f":"OFFSET(Male!AD$18,'Male - Rev'!$A54-35,0)","v":3.3000000000000002E-2},{"$f":"OFFSET(Male!AE$18,'Male - Rev'!$A54-35,0)","v":3.1E-2},{"$f":"OFFSET(Male!AF$18,'Male - Rev'!$A54-35,0)","v":2.8199999999999999E-2},{"$f":"OFFSET(Male!AG$18,'Male - Rev'!$A54-35,0)","v":2.4500000000000001E-2},{"$f":"OFFSET(Male!AH$18,'Male - Rev'!$A54-35,0)","v":1.9800000000000002E-2},{"$f":"OFFSET(Male!AI$18,'Male - Rev'!$A54-35,0)","v":1.44E-2},{"$f":"OFFSET(Male!AJ$18,'Male - Rev'!$A54-35,0)","v":8.6999999999999994E-3},{"$f":"OFFSET(Male!AK$18,'Male - Rev'!$A54-35,0)","v":3.2000000000000002E-3},{"$f":"OFFSET(Male!AL$18,'Male - Rev'!$A54-35,0)","v":-1.8E-3},{"$f":"OFFSET(Male!AM$18,'Male - Rev'!$A54-35,0)","v":-5.8999999999999999E-3},{"$f":"OFFSET(Male!AN$18,'Male - Rev'!$A54-35,0)","v":-8.6E-3},{"$f":"OFFSET(Male!AO$18,'Male - Rev'!$A54-35,0)","v":-9.5999999999999992E-3},{"$f":"OFFSET(Male!AP$18,'Male - Rev'!$A54-35,0)","v":-8.6E-3},{"$f":"OFFSET(Male!AQ$18,'Male - Rev'!$A54-35,0)","v":-5.1999999999999998E-3},{"$f":"OFFSET(Male!AR$18,'Male - Rev'!$A54-35,0)","v":2.9999999999999997E-4},{"$f":"OFFSET(Male!AS$18,'Male - Rev'!$A54-35,0)","v":7.3000000000000001E-3},{"$f":"OFFSET(Male!AT$18,'Male - Rev'!$A54-35,0)","v":1.41E-2},{"$f":"OFFSET(Male!AU$18,'Male - Rev'!$A54-35,0)","v":1.9199999999999998E-2},{"$f":"OFFSET(Male!AV$18,'Male - Rev'!$A54-35,0)","v":2.0899999999999998E-2},{"$f":"OFFSET(Male!AW$18,'Male - Rev'!$A54-35,0)","v":1.9199999999999998E-2},{"$f":"OFFSET(Male!AX$18,'Male - Rev'!$A54-35,0)","v":1.5299999999999999E-2},{"$f":"OFFSET(Male!AY$18,'Male - Rev'!$A54-35,0)","v":1.0999999999999999E-2},{"$f":"OFFSET(Male!AZ$18,'Male - Rev'!$A54-35,0)","v":7.7999999999999996E-3},{"$f":"OFFSET(Male!BA$18,'Male - Rev'!$A54-35,0)","v":6.8999999999999999E-3},{"$f":"OFFSET(Male!BB$18,'Male - Rev'!$A54-35,0)","v":8.3000000000000001E-3},{"$f":"OFFSET(Male!BC$18,'Male - Rev'!$A54-35,0)","v":1.18E-2},{"$f":"OFFSET(Male!BD$18,'Male - Rev'!$A54-35,0)","v":1.6299999999999999E-2},{"$f":"OFFSET(Male!BE$18,'Male - Rev'!$A54-35,0)","v":2.1000000000000001E-2},{"$f":"OFFSET(Male!BF$18,'Male - Rev'!$A54-35,0)","v":2.5000000000000001E-2},{"$f":"OFFSET(Male!BG$18,'Male - Rev'!$A54-35,0)","v":2.75E-2},{"$f":"OFFSET(Male!BH$18,'Male - Rev'!$A54-35,0)","v":2.7799999999999998E-2},{"$f":"OFFSET(Male!BI$18,'Male - Rev'!$A54-35,0)","v":2.5700000000000001E-2},{"$f":"OFFSET(Male!BJ$18,'Male - Rev'!$A54-35,0)","v":2.1299999999999999E-2},{"$f":"OFFSET(Male!BK$18,'Male - Rev'!$A54-35,0)","v":1.4999999999999999E-2},{"$f":"OFFSET(Male!BL$18,'Male - Rev'!$A54-35,0)","v":7.3000000000000001E-3},{"$f":"OFFSET(Male!BM$18,'Male - Rev'!$A54-35,0)","v":-1.1999999999999999E-3},{"$f":"OFFSET(Male!BN$18,'Male - Rev'!$A54-35,0)","v":-9.7000000000000003E-3},{"$f":"OFFSET(Male!BO$18,'Male - Rev'!$A54-35,0)","v":-1.7899999999999999E-2},{"$f":"OFFSET(Male!BP$18,'Male - Rev'!$A54-35,0)","v":-2.01E-2},{"$f":"OFFSET(Male!BQ$18,'Male - Rev'!$A54-35,0)","v":-2.1299999999999999E-2},{"$f":"OFFSET(Male!BR$18,'Male - Rev'!$A54-35,0)","v":-2.1399999999999999E-2},{"$f":"OFFSET(Male!BS$18,'Male - Rev'!$A54-35,0)","v":-2.06E-2},{"$f":"OFFSET(Male!BT$18,'Male - Rev'!$A54-35,0)","v":-1.89E-2},{"$f":"OFFSET(Male!BU$18,'Male - Rev'!$A54-35,0)","v":-1.6400000000000001E-2},{"$f":"OFFSET(Male!BV$18,'Male - Rev'!$A54-35,0)","v":-1.3299999999999999E-2},{"$f":"OFFSET(Male!BW$18,'Male - Rev'!$A54-35,0)","v":-0.01},{"$f":"OFFSET(Male!BX$18,'Male - Rev'!$A54-35,0)","v":-6.6E-3},{"$f":"OFFSET(Male!BY$18,'Male - Rev'!$A54-35,0)","v":-3.7000000000000002E-3},{"$f":"OFFSET(Male!BZ$18,'Male - Rev'!$A54-35,0)","v":-1E-3},{"$f":"OFFSET(Male!CA$18,'Male - Rev'!$A54-35,0)","v":1.6999999999999999E-3},{"$f":"OFFSET(Male!CB$18,'Male - Rev'!$A54-35,0)","v":4.3E-3},{"$f":"OFFSET(Male!CC$18,'Male - Rev'!$A54-35,0)","v":6.7000000000000002E-3},{"$f":"OFFSET(Male!CD$18,'Male - Rev'!$A54-35,0)","v":8.8000000000000005E-3},{"$f":"OFFSET(Male!CE$18,'Male - Rev'!$A54-35,0)","v":1.0500000000000001E-2},{"$f":"OFFSET(Male!CF$18,'Male - Rev'!$A54-35,0)","v":1.1900000000000001E-2},{"$f":"OFFSET(Male!CG$18,'Male - Rev'!$A54-35,0)","v":1.2800000000000001E-2},{"$f":"OFFSET(Male!CH$18,'Male - Rev'!$A54-35,0)","v":1.3299999999999999E-2},{"$f":"OFFSET(Male!CI$18,'Male - Rev'!$A54-35,0)","v":1.35E-2},{"$f":"CJ54","v":1.35E-2},1.35E-2]
[43,43,{"$f":"OFFSET(Male!B$18,'Male - Rev'!$A55-35,0)","v":2.8500000000000001E-2},{"$f":"OFFSET(Male!C$18,'Male - Rev'!$A55-35,0)","v":2.6200000000000001E-2},{"$f":"OFFSET(Male!D$18,'Male - Rev'!$A55-35,0)","v":2.3800000000000002E-2},{"$f":"OFFSET(Male!E$18,'Male - Rev'!$A55-35,0)","v":2.0899999999999998E-2},{"$f":"OFFSET(Male!F$18,'Male - Rev'!$A55-35,0)","v":1.7600000000000001E-2},{"$f":"OFFSET(Male!G$18,'Male - Rev'!$A55-35,0)","v":1.41E-2},{"$f":"OFFSET(Male!H$18,'Male - Rev'!$A55-35,0)","v":1.06E-2},{"$f":"OFFSET(Male!I$18,'Male - Rev'!$A55-35,0)","v":7.3000000000000001E-3},{"$f":"OFFSET(Male!J$18,'Male - Rev'!$A55-35,0)","v":4.3E-3},{"$f":"OFFSET(Male!K$18,'Male - Rev'!$A55-35,0)","v":1.4E-3},{"$f":"OFFSET(Male!L$18,'Male - Rev'!$A55-35,0)","v":-1.4E-3},{"$f":"OFFSET(Male!M$18,'Male - Rev'!$A55-35,0)","v":-4.0000000000000001E-3},{"$f":"OFFSET(Male!N$18,'Male - Rev'!$A55-35,0)","v":-6.3E-3},{"$f":"OFFSET(Male!O$18,'Male - Rev'!$A55-35,0)","v":-7.9000000000000008E-3},{"$f":"OFFSET(Male!P$18,'Male - Rev'!$A55-35,0)","v":-8.6999999999999994E-3},{"$f":"OFFSET(Male!Q$18,'Male - Rev'!$A55-35,0)","v":-8.3000000000000001E-3},{"$f":"OFFSET(Male!R$18,'Male - Rev'!$A55-35,0)","v":-6.6E-3},{"$f":"OFFSET(Male!S$18,'Male - Rev'!$A55-35,0)","v":-3.3999999999999998E-3},{"$f":"OFFSET(Male!T$18,'Male - Rev'!$A55-35,0)","v":1.2999999999999999E-3},{"$f":"OFFSET(Male!U$18,'Male - Rev'!$A55-35,0)","v":7.0000000000000001E-3},{"$f":"OFFSET(Male!V$18,'Male - Rev'!$A55-35,0)","v":1.32E-2},{"$f":"OFFSET(Male!W$18,'Male - Rev'!$A55-35,0)","v":1.9199999999999998E-2},{"$f":"OFFSET(Male!X$18,'Male - Rev'!$A55-35,0)","v":2.47E-2},{"$f":"OFFSET(Male!Y$18,'Male - Rev'!$A55-35,0)","v":2.92E-2},{"$f":"OFFSET(Male!Z$18,'Male - Rev'!$A55-35,0)","v":3.2399999999999998E-2},{"$f":"OFFSET(Male!AA$18,'Male - Rev'!$A55-35,0)","v":3.4299999999999997E-2},{"$f":"OFFSET(Male!AB$18,'Male - Rev'!$A55-35,0)","v":3.5000000000000003E-2},{"$f":"OFFSET(Male!AC$18,'Male - Rev'!$A55-35,0)","v":3.4599999999999999E-2},{"$f":"OFFSET(Male!AD$18,'Male - Rev'!$A55-35,0)","v":3.32E-2},{"$f":"OFFSET(Male!AE$18,'Male - Rev'!$A55-35,0)","v":3.0800000000000001E-2},{"$f":"OFFSET(Male!AF$18,'Male - Rev'!$A55-35,0)","v":2.75E-2},{"$f":"OFFSET(Male!AG$18,'Male - Rev'!$A55-35,0)","v":2.3E-2},{"$f":"OFFSET(Male!AH$18,'Male - Rev'!$A55-35,0)","v":1.7399999999999999E-2},{"$f":"OFFSET(Male!AI$18,'Male - Rev'!$A55-35,0)","v":1.11E-2},{"$f":"OFFSET(Male!AJ$18,'Male - Rev'!$A55-35,0)","v":4.7000000000000002E-3},{"$f":"OFFSET(Male!AK$18,'Male - Rev'!$A55-35,0)","v":-1.4E-3},{"$f":"OFFSET(Male!AL$18,'Male - Rev'!$A55-35,0)","v":-6.6E-3},{"$f":"OFFSET(Male!AM$18,'Male - Rev'!$A55-35,0)","v":-1.0699999999999999E-2},{"$f":"OFFSET(Male!AN$18,'Male - Rev'!$A55-35,0)","v":-1.32E-2},{"$f":"OFFSET(Male!AO$18,'Male - Rev'!$A55-35,0)","v":-1.37E-2},{"$f":"OFFSET(Male!AP$18,'Male - Rev'!$A55-35,0)","v":-1.1900000000000001E-2},{"$f":"OFFSET(Male!AQ$18,'Male - Rev'!$A55-35,0)","v":-7.4999999999999997E-3},{"$f":"OFFSET(Male!AR$18,'Male - Rev'!$A55-35,0)","v":-5.9999999999999995E-4},{"$f":"OFFSET(Male!AS$18,'Male - Rev'!$A55-35,0)","v":8.0000000000000002E-3},{"$f":"OFFSET(Male!AT$18,'Male - Rev'!$A55-35,0)","v":1.6500000000000001E-2},{"$f":"OFFSET(Male!AU$18,'Male - Rev'!$A55-35,0)","v":2.2800000000000001E-2},{"$f":"OFFSET(Male!AV$18,'Male - Rev'!$A55-35,0)","v":2.53E-2},{"$f":"OFFSET(Male!AW$18,'Male - Rev'!$A55-35,0)","v":2.3699999999999999E-2},{"$f":"OFFSET(Male!AX$18,'Male - Rev'!$A55-35,0)","v":1.9300000000000001E-2},{"$f":"OFFSET(Male!AY$18,'Male - Rev'!$A55-35,0)","v":1.43E-2},{"$f":"OFFSET(Male!AZ$18,'Male - Rev'!$A55-35,0)","v":1.04E-2},{"$f":"OFFSET(Male!BA$18,'Male - Rev'!$A55-35,0)","v":8.8999999999999999E-3},{"$f":"OFFSET(Male!BB$18,'Male - Rev'!$A55-35,0)","v":9.9000000000000008E-3},{"$f":"OFFSET(Male!BC$18,'Male - Rev'!$A55-35,0)","v":1.3100000000000001E-2},{"$f":"OFFSET(Male!BD$18,'Male - Rev'!$A55-35,0)","v":1.7500000000000002E-2},{"$f":"OFFSET(Male!BE$18,'Male - Rev'!$A55-35,0)","v":2.2200000000000001E-2},{"$f":"OFFSET(Male!BF$18,'Male - Rev'!$A55-35,0)","v":2.6100000000000002E-2},{"$f":"OFFSET(Male!BG$18,'Male - Rev'!$A55-35,0)","v":2.8299999999999999E-2},{"$f":"OFFSET(Male!BH$18,'Male - Rev'!$A55-35,0)","v":2.8199999999999999E-2},{"$f":"OFFSET(Male!BI$18,'Male - Rev'!$A55-35,0)","v":2.5399999999999999E-2},{"$f":"OFFSET(Male!BJ$18,'Male - Rev'!$A55-35,0)","v":2.01E-2},{"$f":"OFFSET(Male!BK$18,'Male - Rev'!$A55-35,0)","v":1.2699999999999999E-2},{"$f":"OFFSET(Male!BL$18,'Male - Rev'!$A55-35,0)","v":4.0000000000000001E-3},{"$f":"OFFSET(Male!BM$18,'Male - Rev'!$A55-35,0)","v":-5.4000000000000003E-3},{"$f":"OFFSET(Male!BN$18,'Male - Rev'!$A55-35,0)","v":-1.47E-2},{"$f":"OFFSET(Male!BO$18,'Male - Rev'!$A55-35,0)","v":-2.3400000000000001E-2},{"$f":"OFFSET(Male!BP$18,'Male - Rev'!$A55-35,0)","v":-2.5499999999999998E-2},{"$f":"OFFSET(Male!BQ$18,'Male - Rev'!$A55-35,0)","v":-2.64E-2},{"$f":"OFFSET(Male!BR$18,'Male - Rev'!$A55-35,0)","v":-2.5999999999999999E-2},{"$f":"OFFSET(Male!BS$18,'Male - Rev'!$A55-35,0)","v":-2.4500000000000001E-2},{"$f":"OFFSET(Male!BT$18,'Male - Rev'!$A55-35,0)","v":-2.1899999999999999E-2},{"$f":"OFFSET(Male!BU$18,'Male - Rev'!$A55-35,0)","v":-1.8599999999999998E-2},{"$f":"OFFSET(Male!BV$18,'Male - Rev'!$A55-35,0)","v":-1.47E-2},{"$f":"OFFSET(Male!BW$18,'Male - Rev'!$A55-35,0)","v":-1.06E-2},{"$f":"OFFSET(Male!BX$18,'Male - Rev'!$A55-35,0)","v":-6.7999999999999996E-3},{"$f":"OFFSET(Male!BY$18,'Male - Rev'!$A55-35,0)","v":-3.5999999999999999E-3},{"$f":"OFFSET(Male!BZ$18,'Male - Rev'!$A55-35,0)","v":-8.0000000000000004E-4},{"$f":"OFFSET(Male!CA$18,'Male - Rev'!$A55-35,0)","v":2E-3},{"$f":"OFFSET(Male!CB$18,'Male - Rev'!$A55-35,0)","v":4.5999999999999999E-3},{"$f":"OFFSET(Male!CC$18,'Male - Rev'!$A55-35,0)","v":6.8999999999999999E-3},{"$f":"OFFSET(Male!CD$18,'Male - Rev'!$A55-35,0)","v":8.9999999999999993E-3},{"$f":"OFFSET(Male!CE$18,'Male - Rev'!$A55-35,0)","v":1.0699999999999999E-2},{"$f":"OFFSET(Male!CF$18,'Male - Rev'!$A55-35,0)","v":1.2E-2},{"$f":"OFFSET(Male!CG$18,'Male - Rev'!$A55-35,0)","v":1.2800000000000001E-2},{"$f":"OFFSET(Male!CH$18,'Male - Rev'!$A55-35,0)","v":1.3299999999999999E-2},{"$f":"OFFSET(Male!CI$18,'Male - Rev'!$A55-35,0)","v":1.35E-2},{"$f":"CJ55","v":1.35E-2},1.35E-2]
[42,42,{"$f":"OFFSET(Male!B$18,'Male - Rev'!$A56-35,0)","v":3.0200000000000001E-2},{"$f":"OFFSET(Male!C$18,'Male - Rev'!$A56-35,0)","v":2.7699999999999999E-2},{"$f":"OFFSET(Male!D$18,'Male - Rev'!$A56-35,0)","v":2.5000000000000001E-2},{"$f":"OFFSET(Male!E$18,'Male - Rev'!$A56-35,0)","v":2.1899999999999999E-2},{"$f":"OFFSET(Male!F$18,'Male - Rev'!$A56-35,0)","v":1.83E-2},{"$f":"OFFSET(Male!G$18,'Male - Rev'!$A56-35,0)","v":1.44E-2},{"$f":"OFFSET(Male!H$18,'Male - Rev'!$A56-35,0)","v":1.0699999999999999E-2},{"$f":"OFFSET(Male!I$18,'Male - Rev'!$A56-35,0)","v":7.1999999999999998E-3},{"$f":"OFFSET(Male!J$18,'Male - Rev'!$A56-35,0)","v":4.0000000000000001E-3},{"$f":"OFFSET(Male!K$18,'Male - Rev'!$A56-35,0)","v":8.9999999999999998E-4},{"$f":"OFFSET(Male!L$18,'Male - Rev'!$A56-35,0)","v":-2.0999999999999999E-3},{"$f":"OFFSET(Male!M$18,'Male - Rev'!$A56-35,0)","v":-4.8999999999999998E-3},{"$f":"OFFSET(Male!N$18,'Male - Rev'!$A56-35,0)","v":-7.3000000000000001E-3},{"$f":"OFFSET(Male!O$18,'Male - Rev'!$A56-35,0)","v":-9.1000000000000004E-3},{"$f":"OFFSET(Male!P$18,'Male - Rev'!$A56-35,0)","v":-0.01},{"$f":"OFFSET(Male!Q$18,'Male - Rev'!$A56-35,0)","v":-9.5999999999999992E-3},{"$f":"OFFSET(Male!R$18,'Male - Rev'!$A56-35,0)","v":-7.7999999999999996E-3},{"$f":"OFFSET(Male!S$18,'Male - Rev'!$A56-35,0)","v":-4.3E-3},{"$f":"OFFSET(Male!T$18,'Male - Rev'!$A56-35,0)","v":6.9999999999999999E-4},{"$f":"OFFSET(Male!U$18,'Male - Rev'!$A56-35,0)","v":6.7999999999999996E-3},{"$f":"OFFSET(Male!V$18,'Male - Rev'!$A56-35,0)","v":1.34E-2},{"$f":"OFFSET(Male!W$18,'Male - Rev'!$A56-35,0)","v":1.9699999999999999E-2},{"$f":"OFFSET(Male!X$18,'Male - Rev'!$A56-35,0)","v":2.53E-2},{"$f":"OFFSET(Male!Y$18,'Male - Rev'!$A56-35,0)","v":2.98E-2},{"$f":"OFFSET(Male!Z$18,'Male - Rev'!$A56-35,0)","v":3.2899999999999999E-2},{"$f":"OFFSET(Male!AA$18,'Male - Rev'!$A56-35,0)","v":3.4700000000000002E-2},{"$f":"OFFSET(Male!AB$18,'Male - Rev'!$A56-35,0)","v":3.5299999999999998E-2},{"$f":"OFFSET(Male!AC$18,'Male - Rev'!$A56-35,0)","v":3.4799999999999998E-2},{"$f":"OFFSET(Male!AD$18,'Male - Rev'!$A56-35,0)","v":3.3099999999999997E-2},{"$f":"OFFSET(Male!AE$18,'Male - Rev'!$A56-35,0)","v":3.04E-2},{"$f":"OFFSET(Male!AF$18,'Male - Rev'!$A56-35,0)","v":2.64E-2},{"$f":"OFFSET(Male!AG$18,'Male - Rev'!$A56-35,0)","v":2.1100000000000001E-2},{"$f":"OFFSET(Male!AH$18,'Male - Rev'!$A56-35,0)","v":1.4500000000000001E-2},{"$f":"OFFSET(Male!AI$18,'Male - Rev'!$A56-35,0)","v":7.3000000000000001E-3},{"$f":"OFFSET(Male!AJ$18,'Male - Rev'!$A56-35,0)","v":0},{"$f":"OFFSET(Male!AK$18,'Male - Rev'!$A56-35,0)","v":-6.4999999999999997E-3},{"$f":"OFFSET(Male!AL$18,'Male - Rev'!$A56-35,0)","v":-1.1900000000000001E-2},{"$f":"OFFSET(Male!AM$18,'Male - Rev'!$A56-35,0)","v":-1.5699999999999999E-2},{"$f":"OFFSET(Male!AN$18,'Male - Rev'!$A56-35,0)","v":-1.77E-2},{"$f":"OFFSET(Male!AO$18,'Male - Rev'!$A56-35,0)","v":-1.7399999999999999E-2},{"$f":"OFFSET(Male!AP$18,'Male - Rev'!$A56-35,0)","v":-1.46E-2},{"$f":"OFFSET(Male!AQ$18,'Male - Rev'!$A56-35,0)","v":-8.9999999999999993E-3},{"$f":"OFFSET(Male!AR$18,'Male - Rev'!$A56-35,0)","v":-5.0000000000000001E-4},{"$f":"OFFSET(Male!AS$18,'Male - Rev'!$A56-35,0)","v":9.7000000000000003E-3},{"$f":"OFFSET(Male!AT$18,'Male - Rev'!$A56-35,0)","v":1.9699999999999999E-2},{"$f":"OFFSET(Male!AU$18,'Male - Rev'!$A56-35,0)","v":2.7199999999999998E-2},{"$f":"OFFSET(Male!AV$18,'Male - Rev'!$A56-35,0)","v":3.0200000000000001E-2},{"$f":"OFFSET(Male!AW$18,'Male - Rev'!$A56-35,0)","v":2.8500000000000001E-2},{"$f":"OFFSET(Male!AX$18,'Male - Rev'!$A56-35,0)","v":2.3599999999999999E-2},{"$f":"OFFSET(Male!AY$18,'Male - Rev'!$A56-35,0)","v":1.78E-2},{"$f":"OFFSET(Male!AZ$18,'Male - Rev'!$A56-35,0)","v":1.3100000000000001E-2},{"$f":"OFFSET(Male!BA$18,'Male - Rev'!$A56-35,0)","v":1.0800000000000001E-2},{"$f":"OFFSET(Male!BB$18,'Male - Rev'!$A56-35,0)","v":1.14E-2},{"$f":"OFFSET(Male!BC$18,'Male - Rev'!$A56-35,0)","v":1.4200000000000001E-2},{"$f":"OFFSET(Male!BD$18,'Male - Rev'!$A56-35,0)","v":1.83E-2},{"$f":"OFFSET(Male!BE$18,'Male - Rev'!$A56-35,0)","v":2.2700000000000001E-2},{"$f":"OFFSET(Male!BF$18,'Male - Rev'!$A56-35,0)","v":2.6499999999999999E-2},{"$f":"OFFSET(Male!BG$18,'Male - Rev'!$A56-35,0)","v":2.8400000000000002E-2},{"$f":"OFFSET(Male!BH$18,'Male - Rev'!$A56-35,0)","v":2.7799999999999998E-2},{"$f":"OFFSET(Male!BI$18,'Male - Rev'!$A56-35,0)","v":2.4400000000000002E-2},{"$f":"OFFSET(Male!BJ$18,'Male - Rev'!$A56-35,0)","v":1.8200000000000001E-2},{"$f":"OFFSET(Male!BK$18,'Male - Rev'!$A56-35,0)","v":9.7999999999999997E-3},{"$f":"OFFSET(Male!BL$18,'Male - Rev'!$A56-35,0)","v":1E-4},{"$f":"OFFSET(Male!BM$18,'Male - Rev'!$A56-35,0)","v":-1.01E-2},{"$f":"OFFSET(Male!BN$18,'Male - Rev'!$A56-35,0)","v":-0.02},{"$f":"OFFSET(Male!BO$18,'Male - Rev'!$A56-35,0)","v":-2.9000000000000001E-2},{"$f":"OFFSET(Male!BP$18,'Male - Rev'!$A56-35,0)","v":-3.1099999999999999E-2},{"$f":"OFFSET(Male!BQ$18,'Male - Rev'!$A56-35,0)","v":-3.15E-2},{"$f":"OFFSET(Male!BR$18,'Male - Rev'!$A56-35,0)","v":-3.0499999999999999E-2},{"$f":"OFFSET(Male!BS$18,'Male - Rev'!$A56-35,0)","v":-2.81E-2},{"$f":"OFFSET(Male!BT$18,'Male - Rev'!$A56-35,0)","v":-2.47E-2},{"$f":"OFFSET(Male!BU$18,'Male - Rev'!$A56-35,0)","v":-2.0400000000000001E-2},{"$f":"OFFSET(Male!BV$18,'Male - Rev'!$A56-35,0)","v":-1.5699999999999999E-2},{"$f":"OFFSET(Male!BW$18,'Male - Rev'!$A56-35,0)","v":-1.0999999999999999E-2},{"$f":"OFFSET(Male!BX$18,'Male - Rev'!$A56-35,0)","v":-6.7000000000000002E-3},{"$f":"OFFSET(Male!BY$18,'Male - Rev'!$A56-35,0)","v":-3.3E-3},{"$f":"OFFSET(Male!BZ$18,'Male - Rev'!$A56-35,0)","v":-4.0000000000000002E-4},{"$f":"OFFSET(Male!CA$18,'Male - Rev'!$A56-35,0)","v":2.3999999999999998E-3},{"$f":"OFFSET(Male!CB$18,'Male - Rev'!$A56-35,0)","v":5.0000000000000001E-3},{"$f":"OFFSET(Male!CC$18,'Male - Rev'!$A56-35,0)","v":7.3000000000000001E-3},{"$f":"OFFSET(Male!CD$18,'Male - Rev'!$A56-35,0)","v":9.2999999999999992E-3},{"$f":"OFFSET(Male!CE$18,'Male - Rev'!$A56-35,0)","v":1.09E-2},{"$f":"OFFSET(Male!CF$18,'Male - Rev'!$A56-35,0)","v":1.21E-2},{"$f":"OFFSET(Male!CG$18,'Male - Rev'!$A56-35,0)","v":1.29E-2},{"$f":"OFFSET(Male!CH$18,'Male - Rev'!$A56-35,0)","v":1.34E-2},{"$f":"OFFSET(Male!CI$18,'Male - Rev'!$A56-35,0)","v":1.35E-2},{"$f":"CJ56","v":1.35E-2},1.35E-2]
[41,41,{"$f":"OFFSET(Male!B$18,'Male - Rev'!$A57-35,0)","v":3.2099999999999997E-2},{"$f":"OFFSET(Male!C$18,'Male - Rev'!$A57-35,0)","v":2.93E-2},{"$f":"OFFSET(Male!D$18,'Male - Rev'!$A57-35,0)","v":2.6200000000000001E-2},{"$f":"OFFSET(Male!E$18,'Male - Rev'!$A57-35,0)","v":2.2800000000000001E-2},{"$f":"OFFSET(Male!F$18,'Male - Rev'!$A57-35,0)","v":1.8800000000000001E-2},{"$f":"OFFSET(Male!G$18,'Male - Rev'!$A57-35,0)","v":1.46E-2},{"$f":"OFFSET(Male!H$18,'Male - Rev'!$A57-35,0)","v":1.06E-2},{"$f":"OFFSET(Male!I$18,'Male - Rev'!$A57-35,0)","v":6.8999999999999999E-3},{"$f":"OFFSET(Male!J$18,'Male - Rev'!$A57-35,0)","v":3.5000000000000001E-3},{"$f":"OFFSET(Male!K$18,'Male - Rev'!$A57-35,0)","v":2.0000000000000001E-4},{"$f":"OFFSET(Male!L$18,'Male - Rev'!$A57-35,0)","v":-2.8999999999999998E-3},{"$f":"OFFSET(Male!M$18,'Male - Rev'!$A57-35,0)","v":-5.8999999999999999E-3},{"$f":"OFFSET(Male!N$18,'Male - Rev'!$A57-35,0)","v":-8.3999999999999995E-3},{"$f":"OFFSET(Male!O$18,'Male - Rev'!$A57-35,0)","v":-1.03E-2},{"$f":"OFFSET(Male!P$18,'Male - Rev'!$A57-35,0)","v":-1.11E-2},{"$f":"OFFSET(Male!Q$18,'Male - Rev'!$A57-35,0)","v":-1.0699999999999999E-2},{"$f":"OFFSET(Male!R$18,'Male - Rev'!$A57-35,0)","v":-8.8000000000000005E-3},{"$f":"OFFSET(Male!S$18,'Male - Rev'!$A57-35,0)","v":-5.1000000000000004E-3},{"$f":"OFFSET(Male!T$18,'Male - Rev'!$A57-35,0)","v":1E-4},{"$f":"OFFSET(Male!U$18,'Male - Rev'!$A57-35,0)","v":6.6E-3},{"$f":"OFFSET(Male!V$18,'Male - Rev'!$A57-35,0)","v":1.35E-2},{"$f":"OFFSET(Male!W$18,'Male - Rev'!$A57-35,0)","v":0.02},{"$f":"OFFSET(Male!X$18,'Male - Rev'!$A57-35,0)","v":2.5700000000000001E-2},{"$f":"OFFSET(Male!Y$18,'Male - Rev'!$A57-35,0)","v":3.0200000000000001E-2},{"$f":"OFFSET(Male!Z$18,'Male - Rev'!$A57-35,0)","v":3.3300000000000003E-2},{"$f":"OFFSET(Male!AA$18,'Male - Rev'!$A57-35,0)","v":3.5000000000000003E-2},{"$f":"OFFSET(Male!AB$18,'Male - Rev'!$A57-35,0)","v":3.5400000000000001E-2},{"$f":"OFFSET(Male!AC$18,'Male - Rev'!$A57-35,0)","v":3.4599999999999999E-2},{"$f":"OFFSET(Male!AD$18,'Male - Rev'!$A57-35,0)","v":3.27E-2},{"$f":"OFFSET(Male!AE$18,'Male - Rev'!$A57-35,0)","v":2.9499999999999998E-2},{"$f":"OFFSET(Male!AF$18,'Male - Rev'!$A57-35,0)","v":2.4899999999999999E-2},{"$f":"OFFSET(Male!AG$18,'Male - Rev'!$A57-35,0)","v":1.8700000000000001E-2},{"$f":"OFFSET(Male!AH$18,'Male - Rev'!$A57-35,0)","v":1.12E-2},{"$f":"OFFSET(Male!AI$18,'Male - Rev'!$A57-35,0)","v":3.0000000000000001E-3},{"$f":"OFFSET(Male!AJ$18,'Male - Rev'!$A57-35,0)","v":-5.0000000000000001E-3},{"$f":"OFFSET(Male!AK$18,'Male - Rev'!$A57-35,0)","v":-1.2E-2},{"$f":"OFFSET(Male!AL$18,'Male - Rev'!$A57-35,0)","v":-1.7399999999999999E-2},{"$f":"OFFSET(Male!AM$18,'Male - Rev'!$A57-35,0)","v":-2.0899999999999998E-2},{"$f":"OFFSET(Male!AN$18,'Male - Rev'!$A57-35,0)","v":-2.1999999999999999E-2},{"$f":"OFFSET(Male!AO$18,'Male - Rev'!$A57-35,0)","v":-2.06E-2},{"$f":"OFFSET(Male!AP$18,'Male - Rev'!$A57-35,0)","v":-1.66E-2},{"$f":"OFFSET(Male!AQ$18,'Male - Rev'!$A57-35,0)","v":-9.4999999999999998E-3},{"$f":"OFFSET(Male!AR$18,'Male - Rev'!$A57-35,0)","v":5.0000000000000001E-4},{"$f":"OFFSET(Male!AS$18,'Male - Rev'!$A57-35,0)","v":1.23E-2},{"$f":"OFFSET(Male!AT$18,'Male - Rev'!$A57-35,0)","v":2.3599999999999999E-2},{"$f":"OFFSET(Male!AU$18,'Male - Rev'!$A57-35,0)","v":3.2099999999999997E-2},{"$f":"OFFSET(Male!AV$18,'Male - Rev'!$A57-35,0)","v":3.5499999999999997E-2},{"$f":"OFFSET(Male!AW$18,'Male - Rev'!$A57-35,0)","v":3.3599999999999998E-2},{"$f":"OFFSET(Male!AX$18,'Male - Rev'!$A57-35,0)","v":2.8000000000000001E-2},{"$f":"OFFSET(Male!AY$18,'Male - Rev'!$A57-35,0)","v":2.1299999999999999E-2},{"$f":"OFFSET(Male!AZ$18,'Male - Rev'!$A57-35,0)","v":1.5699999999999999E-2},{"$f":"OFFSET(Male!BA$18,'Male - Rev'!$A57-35,0)","v":1.26E-2},{"$f":"OFFSET(Male!BB$18,'Male - Rev'!$A57-35,0)","v":1.26E-2},{"$f":"OFFSET(Male!BC$18,'Male - Rev'!$A57-35,0)","v":1.49E-2},{"$f":"OFFSET(Male!BD$18,'Male - Rev'!$A57-35,0)","v":1.8599999999999998E-2},{"$f":"OFFSET(Male!BE$18,'Male - Rev'!$A57-35,0)","v":2.2700000000000001E-2},{"$f":"OFFSET(Male!BF$18,'Male - Rev'!$A57-35,0)","v":2.6100000000000002E-2},{"$f":"OFFSET(Male!BG$18,'Male - Rev'!$A57-35,0)","v":2.76E-2},{"$f":"OFFSET(Male!BH$18,'Male - Rev'!$A57-35,0)","v":2.6499999999999999E-2},{"$f":"OFFSET(Male!BI$18,'Male - Rev'!$A57-35,0)","v":2.2499999999999999E-2},{"$f":"OFFSET(Male!BJ$18,'Male - Rev'!$A57-35,0)","v":1.55E-2},{"$f":"OFFSET(Male!BK$18,'Male - Rev'!$A57-35,0)","v":6.4000000000000003E-3},{"$f":"OFFSET(Male!BL$18,'Male - Rev'!$A57-35,0)","v":-4.1000000000000003E-3},{"$f":"OFFSET(Male!BM$18,'Male - Rev'!$A57-35,0)","v":-1.4999999999999999E-2},{"$f":"OFFSET(Male!BN$18,'Male - Rev'!$A57-35,0)","v":-2.53E-2},{"$f":"OFFSET(Male!BO$18,'Male - Rev'!$A57-35,0)","v":-3.4599999999999999E-2},{"$f":"OFFSET(Male!BP$18,'Male - Rev'!$A57-35,0)","v":-3.6400000000000002E-2},{"$f":"OFFSET(Male!BQ$18,'Male - Rev'!$A57-35,0)","v":-3.6299999999999999E-2},{"$f":"OFFSET(Male!BR$18,'Male - Rev'!$A57-35,0)","v":-3.4500000000000003E-2},{"$f":"OFFSET(Male!BS$18,'Male - Rev'!$A57-35,0)","v":-3.1300000000000001E-2},{"$f":"OFFSET(Male!BT$18,'Male - Rev'!$A57-35,0)","v":-2.7E-2},{"$f":"OFFSET(Male!BU$18,'Male - Rev'!$A57-35,0)","v":-2.18E-2},{"$f":"OFFSET(Male!BV$18,'Male - Rev'!$A57-35,0)","v":-1.6400000000000001E-2},{"$f":"OFFSET(Male!BW$18,'Male - Rev'!$A57-35,0)","v":-1.12E-2},{"$f":"OFFSET(Male!BX$18,'Male - Rev'!$A57-35,0)","v":-6.4999999999999997E-3},{"$f":"OFFSET(Male!BY$18,'Male - Rev'!$A57-35,0)","v":-2.8999999999999998E-3},{"$f":"OFFSET(Male!BZ$18,'Male - Rev'!$A57-35,0)","v":0},{"$f":"OFFSET(Male!CA$18,'Male - Rev'!$A57-35,0)","v":2.8E-3},{"$f":"OFFSET(Male!CB$18,'Male - Rev'!$A57-35,0)","v":5.4000000000000003E-3},{"$f":"OFFSET(Male!CC$18,'Male - Rev'!$A57-35,0)","v":7.7000000000000002E-3},{"$f":"OFFSET(Male!CD$18,'Male - Rev'!$A57-35,0)","v":9.5999999999999992E-3},{"$f":"OFFSET(Male!CE$18,'Male - Rev'!$A57-35,0)","v":1.11E-2},{"$f":"OFFSET(Male!CF$18,'Male - Rev'!$A57-35,0)","v":1.2200000000000001E-2},{"$f":"OFFSET(Male!CG$18,'Male - Rev'!$A57-35,0)","v":1.29E-2},{"$f":"OFFSET(Male!CH$18,'Male - Rev'!$A57-35,0)","v":1.34E-2},{"$f":"OFFSET(Male!CI$18,'Male - Rev'!$A57-35,0)","v":1.35E-2},{"$f":"CJ57","v":1.35E-2},1.35E-2]
[40,40,{"$f":"OFFSET(Male!B$18,'Male - Rev'!$A58-35,0)","v":3.39E-2},{"$f":"OFFSET(Male!C$18,'Male - Rev'!$A58-35,0)","v":3.0800000000000001E-2},{"$f":"OFFSET(Male!D$18,'Male - Rev'!$A58-35,0)","v":2.7400000000000001E-2},{"$f":"OFFSET(Male!E$18,'Male - Rev'!$A58-35,0)","v":2.35E-2},{"$f":"OFFSET(Male!F$18,'Male - Rev'!$A58-35,0)","v":1.9199999999999998E-2},{"$f":"OFFSET(Male!G$18,'Male - Rev'!$A58-35,0)","v":1.47E-2},{"$f":"OFFSET(Male!H$18,'Male - Rev'!$A58-35,0)","v":1.04E-2},{"$f":"OFFSET(Male!I$18,'Male - Rev'!$A58-35,0)","v":6.4999999999999997E-3},{"$f":"OFFSET(Male!J$18,'Male - Rev'!$A58-35,0)","v":2.8999999999999998E-3},{"$f":"OFFSET(Male!K$18,'Male - Rev'!$A58-35,0)","v":-5.0000000000000001E-4},{"$f":"OFFSET(Male!L$18,'Male - Rev'!$A58-35,0)","v":-3.8E-3},{"$f":"OFFSET(Male!M$18,'Male - Rev'!$A58-35,0)","v":-6.7999999999999996E-3},{"$f":"OFFSET(Male!N$18,'Male - Rev'!$A58-35,0)","v":-9.4999999999999998E-3},{"$f":"OFFSET(Male!O$18,'Male - Rev'!$A58-35,0)","v":-1.14E-2},{"$f":"OFFSET(Male!P$18,'Male - Rev'!$A58-35,0)","v":-1.2200000000000001E-2},{"$f":"OFFSET(Male!Q$18,'Male - Rev'!$A58-35,0)","v":-1.18E-2},{"$f":"OFFSET(Male!R$18,'Male - Rev'!$A58-35,0)","v":-9.7000000000000003E-3},{"$f":"OFFSET(Male!S$18,'Male - Rev'!$A58-35,0)","v":-5.7999999999999996E-3},{"$f":"OFFSET(Male!T$18,'Male - Rev'!$A58-35,0)","v":-4.0000000000000002E-4},{"$f":"OFFSET(Male!U$18,'Male - Rev'!$A58-35,0)","v":6.3E-3},{"$f":"OFFSET(Male!V$18,'Male - Rev'!$A58-35,0)","v":1.34E-2},{"$f":"OFFSET(Male!W$18,'Male - Rev'!$A58-35,0)","v":2.01E-2},{"$f":"OFFSET(Male!X$18,'Male - Rev'!$A58-35,0)","v":2.5999999999999999E-2},{"$f":"OFFSET(Male!Y$18,'Male - Rev'!$A58-35,0)","v":3.0499999999999999E-2},{"$f":"OFFSET(Male!Z$18,'Male - Rev'!$A58-35,0)","v":3.3500000000000002E-2},{"$f":"OFFSET(Male!AA$18,'Male - Rev'!$A58-35,0)","v":3.5099999999999999E-2},{"$f":"OFFSET(Male!AB$18,'Male - Rev'!$A58-35,0)","v":3.5200000000000002E-2},{"$f":"OFFSET(Male!AC$18,'Male - Rev'!$A58-35,0)","v":3.4200000000000001E-2},{"$f":"OFFSET(Male!AD$18,'Male - Rev'!$A58-35,0)","v":3.1899999999999998E-2},{"$f":"OFFSET(Male!AE$18,'Male - Rev'!$A58-35,0)","v":2.8199999999999999E-2},{"$f":"OFFSET(Male!AF$18,'Male - Rev'!$A58-35,0)","v":2.29E-2},{"$f":"OFFSET(Male!AG$18,'Male - Rev'!$A58-35,0)","v":1.6E-2},{"$f":"OFFSET(Male!AH$18,'Male - Rev'!$A58-35,0)","v":7.6E-3},{"$f":"OFFSET(Male!AI$18,'Male - Rev'!$A58-35,0)","v":-1.5E-3},{"$f":"OFFSET(Male!AJ$18,'Male - Rev'!$A58-35,0)","v":-1.03E-2},{"$f":"OFFSET(Male!AK$18,'Male - Rev'!$A58-35,0)","v":-1.77E-2},{"$f":"OFFSET(Male!AL$18,'Male - Rev'!$A58-35,0)","v":-2.3E-2},{"$f":"OFFSET(Male!AM$18,'Male - Rev'!$A58-35,0)","v":-2.58E-2},{"$f":"OFFSET(Male!AN$18,'Male - Rev'!$A58-35,0)","v":-2.5899999999999999E-2},{"$f":"OFFSET(Male!AO$18,'Male - Rev'!$A58-35,0)","v":-2.3199999999999998E-2},{"$f":"OFFSET(Male!AP$18,'Male - Rev'!$A58-35,0)","v":-1.77E-2},{"$f":"OFFSET(Male!AQ$18,'Male - Rev'!$A58-35,0)","v":-8.9999999999999993E-3},{"$f":"OFFSET(Male!AR$18,'Male - Rev'!$A58-35,0)","v":2.3999999999999998E-3},{"$f":"OFFSET(Male!AS$18,'Male - Rev'!$A58-35,0)","v":1.5599999999999999E-2},{"$f":"OFFSET(Male!AT$18,'Male - Rev'!$A58-35,0)","v":2.81E-2},{"$f":"OFFSET(Male!AU$18,'Male - Rev'!$A58-35,0)","v":3.73E-2},{"$f":"OFFSET(Male!AV$18,'Male - Rev'!$A58-35,0)","v":4.0899999999999999E-2},{"$f":"OFFSET(Male!AW$18,'Male - Rev'!$A58-35,0)","v":3.8699999999999998E-2},{"$f":"OFFSET(Male!AX$18,'Male - Rev'!$A58-35,0)","v":3.2300000000000002E-2},{"$f":"OFFSET(Male!AY$18,'Male - Rev'!$A58-35,0)","v":2.46E-2},{"$f":"OFFSET(Male!AZ$18,'Male - Rev'!$A58-35,0)","v":1.8100000000000002E-2},{"$f":"OFFSET(Male!BA$18,'Male - Rev'!$A58-35,0)","v":1.4200000000000001E-2},{"$f":"OFFSET(Male!BB$18,'Male - Rev'!$A58-35,0)","v":1.35E-2},{"$f":"OFFSET(Male!BC$18,'Male - Rev'!$A58-35,0)","v":1.52E-2},{"$f":"OFFSET(Male!BD$18,'Male - Rev'!$A58-35,0)","v":1.84E-2},{"$f":"OFFSET(Male!BE$18,'Male - Rev'!$A58-35,0)","v":2.1999999999999999E-2},{"$f":"OFFSET(Male!BF$18,'Male - Rev'!$A58-35,0)","v":2.4799999999999999E-2},{"$f":"OFFSET(Male!BG$18,'Male - Rev'!$A58-35,0)","v":2.5899999999999999E-2},{"$f":"OFFSET(Male!BH$18,'Male - Rev'!$A58-35,0)","v":2.4400000000000002E-2},{"$f":"OFFSET(Male!BI$18,'Male - Rev'!$A58-35,0)","v":1.9800000000000002E-2},{"$f":"OFFSET(Male!BJ$18,'Male - Rev'!$A58-35,0)","v":1.23E-2},{"$f":"OFFSET(Male!BK$18,'Male - Rev'!$A58-35,0)","v":2.5999999999999999E-3},{"$f":"OFFSET(Male!BL$18,'Male - Rev'!$A58-35,0)","v":-8.5000000000000006E-3},{"$f":"OFFSET(Male!BM$18,'Male - Rev'!$A58-35,0)","v":-1.9900000000000001E-2},{"$f":"OFFSET(Male!BN$18,'Male - Rev'!$A58-35,0)","v":-3.0499999999999999E-2},{"$f":"OFFSET(Male!BO$18,'Male - Rev'!$A58-35,0)","v":-3.9899999999999998E-2},{"$f":"OFFSET(Male!BP$18,'Male - Rev'!$A58-35,0)","v":-4.1300000000000003E-2},{"$f":"OFFSET(Male!BQ$18,'Male - Rev'!$A58-35,0)","v":-4.0599999999999997E-2},{"$f":"OFFSET(Male!BR$18,'Male - Rev'!$A58-35,0)","v":-3.8100000000000002E-2},{"$f":"OFFSET(Male!BS$18,'Male - Rev'!$A58-35,0)","v":-3.4000000000000002E-2},{"$f":"OFFSET(Male!BT$18,'Male - Rev'!$A58-35,0)","v":-2.8799999999999999E-2},{"$f":"OFFSET(Male!BU$18,'Male - Rev'!$A58-35,0)","v":-2.29E-2},{"$f":"OFFSET(Male!BV$18,'Male - Rev'!$A58-35,0)","v":-1.6799999999999999E-2},{"$f":"OFFSET(Male!BW$18,'Male - Rev'!$A58-35,0)","v":-1.11E-2},{"$f":"OFFSET(Male!BX$18,'Male - Rev'!$A58-35,0)","v":-6.1000000000000004E-3},{"$f":"OFFSET(Male!BY$18,'Male - Rev'!$A58-35,0)","v":-2.3E-3},{"$f":"OFFSET(Male!BZ$18,'Male - Rev'!$A58-35,0)","v":5.9999999999999995E-4},{"$f":"OFFSET(Male!CA$18,'Male - Rev'!$A58-35,0)","v":3.3999999999999998E-3},{"$f":"OFFSET(Male!CB$18,'Male - Rev'!$A58-35,0)","v":5.8999999999999999E-3},{"$f":"OFFSET(Male!CC$18,'Male - Rev'!$A58-35,0)","v":8.0999999999999996E-3},{"$f":"OFFSET(Male!CD$18,'Male - Rev'!$A58-35,0)","v":9.9000000000000008E-3},{"$f":"OFFSET(Male!CE$18,'Male - Rev'!$A58-35,0)","v":1.1299999999999999E-2},{"$f":"OFFSET(Male!CF$18,'Male - Rev'!$A58-35,0)","v":1.23E-2},{"$f":"OFFSET(Male!CG$18,'Male - Rev'!$A58-35,0)","v":1.2999999999999999E-2},{"$f":"OFFSET(Male!CH$18,'Male - Rev'!$A58-35,0)","v":1.34E-2},{"$f":"OFFSET(Male!CI$18,'Male - Rev'!$A58-35,0)","v":1.35E-2},{"$f":"CJ58","v":1.35E-2},1.35E-2]
[39,39,{"$f":"OFFSET(Male!B$18,'Male - Rev'!$A59-35,0)","v":3.5799999999999998E-2},{"$f":"OFFSET(Male!C$18,'Male - Rev'!$A59-35,0)","v":3.2199999999999999E-2},{"$f":"OFFSET(Male!D$18,'Male - Rev'!$A59-35,0)","v":2.8400000000000002E-2},{"$f":"OFFSET(Male!E$18,'Male - Rev'!$A59-35,0)","v":2.41E-2},{"$f":"OFFSET(Male!F$18,'Male - Rev'!$A59-35,0)","v":1.95E-2},{"$f":"OFFSET(Male!G$18,'Male - Rev'!$A59-35,0)","v":1.47E-2},{"$f":"OFFSET(Male!H$18,'Male - Rev'!$A59-35,0)","v":1.0200000000000001E-2},{"$f":"OFFSET(Male!I$18,'Male - Rev'!$A59-35,0)","v":6.1000000000000004E-3},{"$f":"OFFSET(Male!J$18,'Male - Rev'!$A59-35,0)","v":2.3E-3},{"$f":"OFFSET(Male!K$18,'Male - Rev'!$A59-35,0)","v":-1.2999999999999999E-3},{"$f":"OFFSET(Male!L$18,'Male - Rev'!$A59-35,0)","v":-4.5999999999999999E-3},{"$f":"OFFSET(Male!M$18,'Male - Rev'!$A59-35,0)","v":-7.7999999999999996E-3},{"$f":"OFFSET(Male!N$18,'Male - Rev'!$A59-35,0)","v":-1.0500000000000001E-2},{"$f":"OFFSET(Male!O$18,'Male - Rev'!$A59-35,0)","v":-1.24E-2},{"$f":"OFFSET(Male!P$18,'Male - Rev'!$A59-35,0)","v":-1.32E-2},{"$f":"OFFSET(Male!Q$18,'Male - Rev'!$A59-35,0)","v":-1.2699999999999999E-2},{"$f":"OFFSET(Male!R$18,'Male - Rev'!$A59-35,0)","v":-1.0500000000000001E-2},{"$f":"OFFSET(Male!S$18,'Male - Rev'!$A59-35,0)","v":-6.4999999999999997E-3},{"$f":"OFFSET(Male!T$18,'Male - Rev'!$A59-35,0)","v":-8.9999999999999998E-4},{"$f":"OFFSET(Male!U$18,'Male - Rev'!$A59-35,0)","v":5.8999999999999999E-3},{"$f":"OFFSET(Male!V$18,'Male - Rev'!$A59-35,0)","v":1.32E-2},{"$f":"OFFSET(Male!W$18,'Male - Rev'!$A59-35,0)","v":2.01E-2},{"$f":"OFFSET(Male!X$18,'Male - Rev'!$A59-35,0)","v":2.5999999999999999E-2},{"$f":"OFFSET(Male!Y$18,'Male - Rev'!$A59-35,0)","v":3.0599999999999999E-2},{"$f":"OFFSET(Male!Z$18,'Male - Rev'!$A59-35,0)","v":3.3599999999999998E-2},{"$f":"OFFSET(Male!AA$18,'Male - Rev'!$A59-35,0)","v":3.49E-2},{"$f":"OFFSET(Male!AB$18,'Male - Rev'!$A59-35,0)","v":3.4799999999999998E-2},{"$f":"OFFSET(Male!AC$18,'Male - Rev'!$A59-35,0)","v":3.3399999999999999E-2},{"$f":"OFFSET(Male!AD$18,'Male - Rev'!$A59-35,0)","v":3.0599999999999999E-2},{"$f":"OFFSET(Male!AE$18,'Male - Rev'!$A59-35,0)","v":2.64E-2},{"$f":"OFFSET(Male!AF$18,'Male - Rev'!$A59-35,0)","v":2.06E-2},{"$f":"OFFSET(Male!AG$18,'Male - Rev'!$A59-35,0)","v":1.2999999999999999E-2},{"$f":"OFFSET(Male!AH$18,'Male - Rev'!$A59-35,0)","v":3.8E-3},{"$f":"OFFSET(Male!AI$18,'Male - Rev'!$A59-35,0)","v":-6.1000000000000004E-3},{"$f":"OFFSET(Male!AJ$18,'Male - Rev'!$A59-35,0)","v":-1.55E-2},{"$f":"OFFSET(Male!AK$18,'Male - Rev'!$A59-35,0)","v":-2.3199999999999998E-2},{"$f":"OFFSET(Male!AL$18,'Male - Rev'!$A59-35,0)","v":-2.8299999999999999E-2},{"$f":"OFFSET(Male!AM$18,'Male - Rev'!$A59-35,0)","v":-3.0300000000000001E-2},{"$f":"OFFSET(Male!AN$18,'Male - Rev'!$A59-35,0)","v":-2.92E-2},{"$f":"OFFSET(Male!AO$18,'Male - Rev'!$A59-35,0)","v":-2.5100000000000001E-2},{"$f":"OFFSET(Male!AP$18,'Male - Rev'!$A59-35,0)","v":-1.7999999999999999E-2},{"$f":"OFFSET(Male!AQ$18,'Male - Rev'!$A59-35,0)","v":-7.7999999999999996E-3},{"$f":"OFFSET(Male!AR$18,'Male - Rev'!$A59-35,0)","v":5.1000000000000004E-3},{"$f":"OFFSET(Male!AS$18,'Male - Rev'!$A59-35,0)","v":1.9300000000000001E-2},{"$f":"OFFSET(Male!AT$18,'Male - Rev'!$A59-35,0)","v":3.2800000000000003E-2},{"$f":"OFFSET(Male!AU$18,'Male - Rev'!$A59-35,0)","v":4.2500000000000003E-2},{"$f":"OFFSET(Male!AV$18,'Male - Rev'!$A59-35,0)","v":4.6300000000000001E-2},{"$f":"OFFSET(Male!AW$18,'Male - Rev'!$A59-35,0)","v":4.36E-2},{"$f":"OFFSET(Male!AX$18,'Male - Rev'!$A59-35,0)","v":3.6400000000000002E-2},{"$f":"OFFSET(Male!AY$18,'Male - Rev'!$A59-35,0)","v":2.7799999999999998E-2},{"$f":"OFFSET(Male!AZ$18,'Male - Rev'!$A59-35,0)","v":2.0199999999999999E-2},{"$f":"OFFSET(Male!BA$18,'Male - Rev'!$A59-35,0)","v":1.55E-2},{"$f":"OFFSET(Male!BB$18,'Male - Rev'!$A59-35,0)","v":1.4E-2},{"$f":"OFFSET(Male!BC$18,'Male - Rev'!$A59-35,0)","v":1.5100000000000001E-2},{"$f":"OFFSET(Male!BD$18,'Male - Rev'!$A59-35,0)","v":1.7600000000000001E-2},{"$f":"OFFSET(Male!BE$18,'Male - Rev'!$A59-35,0)","v":2.0500000000000001E-2},{"$f":"OFFSET(Male!BF$18,'Male - Rev'!$A59-35,0)","v":2.2800000000000001E-2},{"$f":"OFFSET(Male!BG$18,'Male - Rev'!$A59-35,0)","v":2.35E-2},{"$f":"OFFSET(Male!BH$18,'Male - Rev'!$A59-35,0)","v":2.1499999999999998E-2},{"$f":"OFFSET(Male!BI$18,'Male - Rev'!$A59-35,0)","v":1.66E-2},{"$f":"OFFSET(Male!BJ$18,'Male - Rev'!$A59-35,0)","v":8.8000000000000005E-3},{"$f":"OFFSET(Male!BK$18,'Male - Rev'!$A59-35,0)","v":-1.4E-3},{"$f":"OFFSET(Male!BL$18,'Male - Rev'!$A59-35,0)","v":-1.2800000000000001E-2},{"$f":"OFFSET(Male!BM$18,'Male - Rev'!$A59-35,0)","v":-2.4500000000000001E-2},{"$f":"OFFSET(Male!BN$18,'Male - Rev'!$A59-35,0)","v":-3.5299999999999998E-2},{"$f":"OFFSET(Male!BO$18,'Male - Rev'!$A59-35,0)","v":-4.4600000000000001E-2},{"$f":"OFFSET(Male!BP$18,'Male - Rev'!$A59-35,0)","v":-4.5600000000000002E-2},{"$f":"OFFSET(Male!BQ$18,'Male - Rev'!$A59-35,0)","v":-4.4200000000000003E-2},{"$f":"OFFSET(Male!BR$18,'Male - Rev'!$A59-35,0)","v":-4.0899999999999999E-2},{"$f":"OFFSET(Male!BS$18,'Male - Rev'!$A59-35,0)","v":-3.5999999999999997E-2},{"$f":"OFFSET(Male!BT$18,'Male - Rev'!$A59-35,0)","v":-3.0099999999999998E-2},{"$f":"OFFSET(Male!BU$18,'Male - Rev'!$A59-35,0)","v":-2.35E-2},{"$f":"OFFSET(Male!BV$18,'Male - Rev'!$A59-35,0)","v":-1.6899999999999998E-2},{"$f":"OFFSET(Male!BW$18,'Male - Rev'!$A59-35,0)","v":-1.0699999999999999E-2},{"$f":"OFFSET(Male!BX$18,'Male - Rev'!$A59-35,0)","v":-5.4999999999999997E-3},{"$f":"OFFSET(Male!BY$18,'Male - Rev'!$A59-35,0)","v":-1.6999999999999999E-3},{"$f":"OFFSET(Male!BZ$18,'Male - Rev'!$A59-35,0)","v":1.2999999999999999E-3},{"$f":"OFFSET(Male!CA$18,'Male - Rev'!$A59-35,0)","v":4.0000000000000001E-3},{"$f":"OFFSET(Male!CB$18,'Male - Rev'!$A59-35,0)","v":6.4000000000000003E-3},{"$f":"OFFSET(Male!CC$18,'Male - Rev'!$A59-35,0)","v":8.5000000000000006E-3},{"$f":"OFFSET(Male!CD$18,'Male - Rev'!$A59-35,0)","v":1.01E-2},{"$f":"OFFSET(Male!CE$18,'Male - Rev'!$A59-35,0)","v":1.14E-2},{"$f":"OFFSET(Male!CF$18,'Male - Rev'!$A59-35,0)","v":1.24E-2},{"$f":"OFFSET(Male!CG$18,'Male - Rev'!$A59-35,0)","v":1.2999999999999999E-2},{"$f":"OFFSET(Male!CH$18,'Male - Rev'!$A59-35,0)","v":1.34E-2},{"$f":"OFFSET(Male!CI$18,'Male - Rev'!$A59-35,0)","v":1.35E-2},{"$f":"CJ59","v":1.35E-2},1.35E-2]
[38,38,{"$f":"OFFSET(Male!B$18,'Male - Rev'!$A60-35,0)","v":3.7499999999999999E-2},{"$f":"OFFSET(Male!C$18,'Male - Rev'!$A60-35,0)","v":3.3399999999999999E-2},{"$f":"OFFSET(Male!D$18,'Male - Rev'!$A60-35,0)","v":2.92E-2},{"$f":"OFFSET(Male!E$18,'Male - Rev'!$A60-35,0)","v":2.46E-2},{"$f":"OFFSET(Male!F$18,'Male - Rev'!$A60-35,0)","v":1.9699999999999999E-2},{"$f":"OFFSET(Male!G$18,'Male - Rev'!$A60-35,0)","v":1.47E-2},{"$f":"OFFSET(Male!H$18,'Male - Rev'!$A60-35,0)","v":9.9000000000000008E-3},{"$f":"OFFSET(Male!I$18,'Male - Rev'!$A60-35,0)","v":5.7000000000000002E-3},{"$f":"OFFSET(Male!J$18,'Male - Rev'!$A60-35,0)","v":1.6999999999999999E-3},{"$f":"OFFSET(Male!K$18,'Male - Rev'!$A60-35,0)","v":-1.9E-3},{"$f":"OFFSET(Male!L$18,'Male - Rev'!$A60-35,0)","v":-5.4000000000000003E-3},{"$f":"OFFSET(Male!M$18,'Male - Rev'!$A60-35,0)","v":-8.6999999999999994E-3},{"$f":"OFFSET(Male!N$18,'Male - Rev'!$A60-35,0)","v":-1.14E-2},{"$f":"OFFSET(Male!O$18,'Male - Rev'!$A60-35,0)","v":-1.3299999999999999E-2},{"$f":"OFFSET(Male!P$18,'Male - Rev'!$A60-35,0)","v":-1.41E-2},{"$f":"OFFSET(Male!Q$18,'Male - Rev'!$A60-35,0)","v":-1.35E-2},{"$f":"OFFSET(Male!R$18,'Male - Rev'!$A60-35,0)","v":-1.1299999999999999E-2},{"$f":"OFFSET(Male!S$18,'Male - Rev'!$A60-35,0)","v":-7.1999999999999998E-3},{"$f":"OFFSET(Male!T$18,'Male - Rev'!$A60-35,0)","v":-1.5E-3},{"$f":"OFFSET(Male!U$18,'Male - Rev'!$A60-35,0)","v":5.4000000000000003E-3},{"$f":"OFFSET(Male!V$18,'Male - Rev'!$A60-35,0)","v":1.2699999999999999E-2},{"$f":"OFFSET(Male!W$18,'Male - Rev'!$A60-35,0)","v":1.9800000000000002E-2},{"$f":"OFFSET(Male!X$18,'Male - Rev'!$A60-35,0)","v":2.5899999999999999E-2},{"$f":"OFFSET(Male!Y$18,'Male - Rev'!$A60-35,0)","v":3.0499999999999999E-2},{"$f":"OFFSET(Male!Z$18,'Male - Rev'!$A60-35,0)","v":3.3500000000000002E-2},{"$f":"OFFSET(Male!AA$18,'Male - Rev'!$A60-35,0)","v":3.4599999999999999E-2},{"$f":"OFFSET(Male!AB$18,'Male - Rev'!$A60-35,0)","v":3.4099999999999998E-2},{"$f":"OFFSET(Male!AC$18,'Male - Rev'!$A60-35,0)","v":3.2199999999999999E-2},{"$f":"OFFSET(Male!AD$18,'Male - Rev'!$A60-35,0)","v":2.9000000000000001E-2},{"$f":"OFFSET(Male!AE$18,'Male - Rev'!$A60-35,0)","v":2.4299999999999999E-2},{"$f":"OFFSET(Male!AF$18,'Male - Rev'!$A60-35,0)","v":1.7899999999999999E-2},{"$f":"OFFSET(Male!AG$18,'Male - Rev'!$A60-35,0)","v":9.7999999999999997E-3},{"$f":"OFFSET(Male!AH$18,'Male - Rev'!$A60-35,0)","v":0},{"$f":"OFFSET(Male!AI$18,'Male - Rev'!$A60-35,0)","v":-1.0500000000000001E-2},{"$f":"OFFSET(Male!AJ$18,'Male - Rev'!$A60-35,0)","v":-2.0400000000000001E-2},{"$f":"OFFSET(Male!AK$18,'Male - Rev'!$A60-35,0)","v":-2.81E-2},{"$f":"OFFSET(Male!AL$18,'Male - Rev'!$A60-35,0)","v":-3.2800000000000003E-2},{"$f":"OFFSET(Male!AM$18,'Male - Rev'!$A60-35,0)","v":-3.4000000000000002E-2},{"$f":"OFFSET(Male!AN$18,'Male - Rev'!$A60-35,0)","v":-3.1699999999999999E-2},{"$f":"OFFSET(Male!AO$18,'Male - Rev'!$A60-35,0)","v":-2.6200000000000001E-2},{"$f":"OFFSET(Male!AP$18,'Male - Rev'!$A60-35,0)","v":-1.7500000000000002E-2},{"$f":"OFFSET(Male!AQ$18,'Male - Rev'!$A60-35,0)","v":-6.0000000000000001E-3},{"$f":"OFFSET(Male!AR$18,'Male - Rev'!$A60-35,0)","v":8.0999999999999996E-3},{"$f":"OFFSET(Male!AS$18,'Male - Rev'!$A60-35,0)","v":2.3300000000000001E-2},{"$f":"OFFSET(Male!AT$18,'Male - Rev'!$A60-35,0)","v":3.7499999999999999E-2},{"$f":"OFFSET(Male!AU$18,'Male - Rev'!$A60-35,0)","v":4.7699999999999999E-2},{"$f":"OFFSET(Male!AV$18,'Male - Rev'!$A60-35,0)","v":5.1400000000000001E-2},{"$f":"OFFSET(Male!AW$18,'Male - Rev'!$A60-35,0)","v":4.82E-2},{"$f":"OFFSET(Male!AX$18,'Male - Rev'!$A60-35,0)","v":4.0300000000000002E-2},{"$f":"OFFSET(Male!AY$18,'Male - Rev'!$A60-35,0)","v":3.0599999999999999E-2},{"$f":"OFFSET(Male!AZ$18,'Male - Rev'!$A60-35,0)","v":2.1999999999999999E-2},{"$f":"OFFSET(Male!BA$18,'Male - Rev'!$A60-35,0)","v":1.6400000000000001E-2},{"$f":"OFFSET(Male!BB$18,'Male - Rev'!$A60-35,0)","v":1.4E-2},{"$f":"OFFSET(Male!BC$18,'Male - Rev'!$A60-35,0)","v":1.43E-2},{"$f":"OFFSET(Male!BD$18,'Male - Rev'!$A60-35,0)","v":1.6E-2},{"$f":"OFFSET(Male!BE$18,'Male - Rev'!$A60-35,0)","v":1.83E-2},{"$f":"OFFSET(Male!BF$18,'Male - Rev'!$A60-35,0)","v":2.01E-2},{"$f":"OFFSET(Male!BG$18,'Male - Rev'!$A60-35,0)","v":2.0400000000000001E-2},{"$f":"OFFSET(Male!BH$18,'Male - Rev'!$A60-35,0)","v":1.8200000000000001E-2},{"$f":"OFFSET(Male!BI$18,'Male - Rev'!$A60-35,0)","v":1.3100000000000001E-2},{"$f":"OFFSET(Male!BJ$18,'Male - Rev'!$A60-35,0)","v":5.1000000000000004E-3},{"$f":"OFFSET(Male!BK$18,'Male - Rev'!$A60-35,0)","v":-5.1999999999999998E-3},{"$f":"OFFSET(Male!BL$18,'Male - Rev'!$A60-35,0)","v":-1.6899999999999998E-2},{"$f":"OFFSET(Male!BM$18,'Male - Rev'!$A60-35,0)","v":-2.87E-2},{"$f":"OFFSET(Male!BN$18,'Male - Rev'!$A60-35,0)","v":-3.95E-2},{"$f":"OFFSET(Male!BO$18,'Male - Rev'!$A60-35,0)","v":-4.8599999999999997E-2},{"$f":"OFFSET(Male!BP$18,'Male - Rev'!$A60-35,0)","v":-4.9099999999999998E-2},{"$f":"OFFSET(Male!BQ$18,'Male - Rev'!$A60-35,0)","v":-4.7100000000000003E-2},{"$f":"OFFSET(Male!BR$18,'Male - Rev'!$A60-35,0)","v":-4.2999999999999997E-2},{"$f":"OFFSET(Male!BS$18,'Male - Rev'!$A60-35,0)","v":-3.7499999999999999E-2},{"$f":"OFFSET(Male!BT$18,'Male - Rev'!$A60-35,0)","v":-3.09E-2},{"$f":"OFFSET(Male!BU$18,'Male - Rev'!$A60-35,0)","v":-2.3800000000000002E-2},{"$f":"OFFSET(Male!BV$18,'Male - Rev'!$A60-35,0)","v":-1.67E-2},{"$f":"OFFSET(Male!BW$18,'Male - Rev'!$A60-35,0)","v":-1.0200000000000001E-2},{"$f":"OFFSET(Male!BX$18,'Male - Rev'!$A60-35,0)","v":-4.7999999999999996E-3},{"$f":"OFFSET(Male!BY$18,'Male - Rev'!$A60-35,0)","v":-8.9999999999999998E-4},{"$f":"OFFSET(Male!BZ$18,'Male - Rev'!$A60-35,0)","v":2E-3},{"$f":"OFFSET(Male!CA$18,'Male - Rev'!$A60-35,0)","v":4.5999999999999999E-3},{"$f":"OFFSET(Male!CB$18,'Male - Rev'!$A60-35,0)","v":6.8999999999999999E-3},{"$f":"OFFSET(Male!CC$18,'Male - Rev'!$A60-35,0)","v":8.8999999999999999E-3},{"$f":"OFFSET(Male!CD$18,'Male - Rev'!$A60-35,0)","v":1.04E-2},{"$f":"OFFSET(Male!CE$18,'Male - Rev'!$A60-35,0)","v":1.1599999999999999E-2},{"$f":"OFFSET(Male!CF$18,'Male - Rev'!$A60-35,0)","v":1.24E-2},{"$f":"OFFSET(Male!CG$18,'Male - Rev'!$A60-35,0)","v":1.2999999999999999E-2},{"$f":"OFFSET(Male!CH$18,'Male - Rev'!$A60-35,0)","v":1.34E-2},{"$f":"OFFSET(Male!CI$18,'Male - Rev'!$A60-35,0)","v":1.35E-2},{"$f":"CJ60","v":1.35E-2},1.35E-2]
[37,37,{"$f":"OFFSET(Male!B$18,'Male - Rev'!$A61-35,0)","v":3.8899999999999997E-2},{"$f":"OFFSET(Male!C$18,'Male - Rev'!$A61-35,0)","v":3.4500000000000003E-2},{"$f":"OFFSET(Male!D$18,'Male - Rev'!$A61-35,0)","v":2.9899999999999999E-2},{"$f":"OFFSET(Male!E$18,'Male - Rev'!$A61-35,0)","v":2.5000000000000001E-2},{"$f":"OFFSET(Male!F$18,'Male - Rev'!$A61-35,0)","v":1.9800000000000002E-2},{"$f":"OFFSET(Male!G$18,'Male - Rev'!$A61-35,0)","v":1.47E-2},{"$f":"OFFSET(Male!H$18,'Male - Rev'!$A61-35,0)","v":9.7000000000000003E-3},{"$f":"OFFSET(Male!I$18,'Male - Rev'!$A61-35,0)","v":5.3E-3},{"$f":"OFFSET(Male!J$18,'Male - Rev'!$A61-35,0)","v":1.2999999999999999E-3},{"$f":"OFFSET(Male!K$18,'Male - Rev'!$A61-35,0)","v":-2.5000000000000001E-3},{"$f":"OFFSET(Male!L$18,'Male - Rev'!$A61-35,0)","v":-6.1000000000000004E-3},{"$f":"OFFSET(Male!M$18,'Male - Rev'!$A61-35,0)","v":-9.4000000000000004E-3},{"$f":"OFFSET(Male!N$18,'Male - Rev'!$A61-35,0)","v":-1.2200000000000001E-2},{"$f":"OFFSET(Male!O$18,'Male - Rev'!$A61-35,0)","v":-1.41E-2},{"$f":"OFFSET(Male!P$18,'Male - Rev'!$A61-35,0)","v":-1.49E-2},{"$f":"OFFSET(Male!Q$18,'Male - Rev'!$A61-35,0)","v":-1.43E-2},{"$f":"OFFSET(Male!R$18,'Male - Rev'!$A61-35,0)","v":-1.2E-2},{"$f":"OFFSET(Male!S$18,'Male - Rev'!$A61-35,0)","v":-7.9000000000000008E-3},{"$f":"OFFSET(Male!T$18,'Male - Rev'!$A61-35,0)","v":-2.2000000000000001E-3},{"$f":"OFFSET(Male!U$18,'Male - Rev'!$A61-35,0)","v":4.7999999999999996E-3},{"$f":"OFFSET(Male!V$18,'Male - Rev'!$A61-35,0)","v":1.21E-2},{"$f":"OFFSET(Male!W$18,'Male - Rev'!$A61-35,0)","v":1.9199999999999998E-2},{"$f":"OFFSET(Male!X$18,'Male - Rev'!$A61-35,0)","v":2.5399999999999999E-2},{"$f":"OFFSET(Male!Y$18,'Male - Rev'!$A61-35,0)","v":3.0200000000000001E-2},{"$f":"OFFSET(Male!Z$18,'Male - Rev'!$A61-35,0)","v":3.3000000000000002E-2},{"$f":"OFFSET(Male!AA$18,'Male - Rev'!$A61-35,0)","v":3.39E-2},{"$f":"OFFSET(Male!AB$18,'Male - Rev'!$A61-35,0)","v":3.3000000000000002E-2},{"$f":"OFFSET(Male!AC$18,'Male - Rev'!$A61-35,0)","v":3.0700000000000002E-2},{"$f":"OFFSET(Male!AD$18,'Male - Rev'!$A61-35,0)","v":2.7E-2},{"$f":"OFFSET(Male!AE$18,'Male - Rev'!$A61-35,0)","v":2.18E-2},{"$f":"OFFSET(Male!AF$18,'Male - Rev'!$A61-35,0)","v":1.5100000000000001E-2},{"$f":"OFFSET(Male!AG$18,'Male - Rev'!$A61-35,0)","v":6.6E-3},{"$f":"OFFSET(Male!AH$18,'Male - Rev'!$A61-35,0)","v":-3.5999999999999999E-3},{"$f":"OFFSET(Male!AI$18,'Male - Rev'!$A61-35,0)","v":-1.4500000000000001E-2},{"$f":"OFFSET(Male!AJ$18,'Male - Rev'!$A61-35,0)","v":-2.4500000000000001E-2},{"$f":"OFFSET(Male!AK$18,'Male - Rev'!$A61-35,0)","v":-3.2199999999999999E-2},{"$f":"OFFSET(Male!AL$18,'Male - Rev'!$A61-35,0)","v":-3.6400000000000002E-2},{"$f":"OFFSET(Male!AM$18,'Male - Rev'!$A61-35,0)","v":-3.6700000000000003E-2},{"$f":"OFFSET(Male!AN$18,'Male - Rev'!$A61-35,0)","v":-3.32E-2},{"$f":"OFFSET(Male!AO$18,'Male - Rev'!$A61-35,0)","v":-2.64E-2},{"$f":"OFFSET(Male!AP$18,'Male - Rev'!$A61-35,0)","v":-1.66E-2},{"$f":"OFFSET(Male!AQ$18,'Male - Rev'!$A61-35,0)","v":-3.8999999999999998E-3},{"$f":"OFFSET(Male!AR$18,'Male - Rev'!$A61-35,0)","v":1.11E-2},{"$f":"OFFSET(Male!AS$18,'Male - Rev'!$A61-35,0)","v":2.7199999999999998E-2},{"$f":"OFFSET(Male!AT$18,'Male - Rev'!$A61-35,0)","v":4.2000000000000003E-2},{"$f":"OFFSET(Male!AU$18,'Male - Rev'!$A61-35,0)","v":5.2499999999999998E-2},{"$f":"OFFSET(Male!AV$18,'Male - Rev'!$A61-35,0)","v":5.6099999999999997E-2},{"$f":"OFFSET(Male!AW$18,'Male - Rev'!$A61-35,0)","v":5.2499999999999998E-2},{"$f":"OFFSET(Male!AX$18,'Male - Rev'!$A61-35,0)","v":4.3700000000000003E-2},{"$f":"OFFSET(Male!AY$18,'Male - Rev'!$A61-35,0)","v":3.3000000000000002E-2},{"$f":"OFFSET(Male!AZ$18,'Male - Rev'!$A61-35,0)","v":2.3300000000000001E-2},{"$f":"OFFSET(Male!BA$18,'Male - Rev'!$A61-35,0)","v":1.67E-2},{"$f":"OFFSET(Male!BB$18,'Male - Rev'!$A61-35,0)","v":1.3299999999999999E-2},{"$f":"OFFSET(Male!BC$18,'Male - Rev'!$A61-35,0)","v":1.2699999999999999E-2},{"$f":"OFFSET(Male!BD$18,'Male - Rev'!$A61-35,0)","v":1.37E-2},{"$f":"OFFSET(Male!BE$18,'Male - Rev'!$A61-35,0)","v":1.55E-2},{"$f":"OFFSET(Male!BF$18,'Male - Rev'!$A61-35,0)","v":1.6899999999999998E-2},{"$f":"OFFSET(Male!BG$18,'Male - Rev'!$A61-35,0)","v":1.6899999999999998E-2},{"$f":"OFFSET(Male!BH$18,'Male - Rev'!$A61-35,0)","v":1.46E-2},{"$f":"OFFSET(Male!BI$18,'Male - Rev'!$A61-35,0)","v":9.4999999999999998E-3},{"$f":"OFFSET(Male!BJ$18,'Male - Rev'!$A61-35,0)","v":1.5E-3},{"$f":"OFFSET(Male!BK$18,'Male - Rev'!$A61-35,0)","v":-8.8000000000000005E-3},{"$f":"OFFSET(Male!BL$18,'Male - Rev'!$A61-35,0)","v":-2.0400000000000001E-2},{"$f":"OFFSET(Male!BM$18,'Male - Rev'!$A61-35,0)","v":-3.2199999999999999E-2},{"$f":"OFFSET(Male!BN$18,'Male - Rev'!$A61-35,0)","v":-4.2900000000000001E-2},{"$f":"OFFSET(Male!BO$18,'Male - Rev'!$A61-35,0)","v":-5.1700000000000003E-2},{"$f":"OFFSET(Male!BP$18,'Male - Rev'!$A61-35,0)","v":-5.16E-2},{"$f":"OFFSET(Male!BQ$18,'Male - Rev'!$A61-35,0)","v":-4.9000000000000002E-2},{"$f":"OFFSET(Male!BR$18,'Male - Rev'!$A61-35,0)","v":-4.4400000000000002E-2},{"$f":"OFFSET(Male!BS$18,'Male - Rev'!$A61-35,0)","v":-3.8300000000000001E-2},{"$f":"OFFSET(Male!BT$18,'Male - Rev'!$A61-35,0)","v":-3.1199999999999999E-2},{"$f":"OFFSET(Male!BU$18,'Male - Rev'!$A61-35,0)","v":-2.3699999999999999E-2},{"$f":"OFFSET(Male!BV$18,'Male - Rev'!$A61-35,0)","v":-1.6299999999999999E-2},{"$f":"OFFSET(Male!BW$18,'Male - Rev'!$A61-35,0)","v":-9.4999999999999998E-3},{"$f":"OFFSET(Male!BX$18,'Male - Rev'!$A61-35,0)","v":-4.0000000000000001E-3},{"$f":"OFFSET(Male!BY$18,'Male - Rev'!$A61-35,0)","v":0},{"$f":"OFFSET(Male!BZ$18,'Male - Rev'!$A61-35,0)","v":2.8E-3},{"$f":"OFFSET(Male!CA$18,'Male - Rev'!$A61-35,0)","v":5.3E-3},{"$f":"OFFSET(Male!CB$18,'Male - Rev'!$A61-35,0)","v":7.4000000000000003E-3},{"$f":"OFFSET(Male!CC$18,'Male - Rev'!$A61-35,0)","v":9.1999999999999998E-3},{"$f":"OFFSET(Male!CD$18,'Male - Rev'!$A61-35,0)","v":1.06E-2},{"$f":"OFFSET(Male!CE$18,'Male - Rev'!$A61-35,0)","v":1.17E-2},{"$f":"OFFSET(Male!CF$18,'Male - Rev'!$A61-35,0)","v":1.2500000000000001E-2},{"$f":"OFFSET(Male!CG$18,'Male - Rev'!$A61-35,0)","v":1.2999999999999999E-2},{"$f":"OFFSET(Male!CH$18,'Male - Rev'!$A61-35,0)","v":1.34E-2},{"$f":"OFFSET(Male!CI$18,'Male - Rev'!$A61-35,0)","v":1.35E-2},{"$f":"CJ61","v":1.35E-2},1.35E-2]
[36,36,{"$f":"OFFSET(Male!B$18,'Male - Rev'!$A62-35,0)","v":3.9800000000000002E-2},{"$f":"OFFSET(Male!C$18,'Male - Rev'!$A62-35,0)","v":3.5200000000000002E-2},{"$f":"OFFSET(Male!D$18,'Male - Rev'!$A62-35,0)","v":3.0499999999999999E-2},{"$f":"OFFSET(Male!E$18,'Male - Rev'!$A62-35,0)","v":2.5399999999999999E-2},{"$f":"OFFSET(Male!F$18,'Male - Rev'!$A62-35,0)","v":0.02},{"$f":"OFFSET(Male!G$18,'Male - Rev'!$A62-35,0)","v":1.47E-2},{"$f":"OFFSET(Male!H$18,'Male - Rev'!$A62-35,0)","v":9.7000000000000003E-3},{"$f":"OFFSET(Male!I$18,'Male - Rev'!$A62-35,0)","v":5.1999999999999998E-3},{"$f":"OFFSET(Male!J$18,'Male - Rev'!$A62-35,0)","v":1.1000000000000001E-3},{"$f":"OFFSET(Male!K$18,'Male - Rev'!$A62-35,0)","v":-2.8E-3},{"$f":"OFFSET(Male!L$18,'Male - Rev'!$A62-35,0)","v":-6.4999999999999997E-3},{"$f":"OFFSET(Male!M$18,'Male - Rev'!$A62-35,0)","v":-0.01},{"$f":"OFFSET(Male!N$18,'Male - Rev'!$A62-35,0)","v":-1.29E-2},{"$f":"OFFSET(Male!O$18,'Male - Rev'!$A62-35,0)","v":-1.49E-2},{"$f":"OFFSET(Male!P$18,'Male - Rev'!$A62-35,0)","v":-1.5699999999999999E-2},{"$f":"OFFSET(Male!Q$18,'Male - Rev'!$A62-35,0)","v":-1.4999999999999999E-2},{"$f":"OFFSET(Male!R$18,'Male - Rev'!$A62-35,0)","v":-1.2699999999999999E-2},{"$f":"OFFSET(Male!S$18,'Male - Rev'!$A62-35,0)","v":-8.6999999999999994E-3},{"$f":"OFFSET(Male!T$18,'Male - Rev'!$A62-35,0)","v":-2.8999999999999998E-3},{"$f":"OFFSET(Male!U$18,'Male - Rev'!$A62-35,0)","v":4.0000000000000001E-3},{"$f":"OFFSET(Male!V$18,'Male - Rev'!$A62-35,0)","v":1.14E-2},{"$f":"OFFSET(Male!W$18,'Male - Rev'!$A62-35,0)","v":1.8499999999999999E-2},{"$f":"OFFSET(Male!X$18,'Male - Rev'!$A62-35,0)","v":2.4799999999999999E-2},{"$f":"OFFSET(Male!Y$18,'Male - Rev'!$A62-35,0)","v":2.9499999999999998E-2},{"$f":"OFFSET(Male!Z$18,'Male - Rev'!$A62-35,0)","v":3.2300000000000002E-2},{"$f":"OFFSET(Male!AA$18,'Male - Rev'!$A62-35,0)","v":3.2899999999999999E-2},{"$f":"OFFSET(Male!AB$18,'Male - Rev'!$A62-35,0)","v":3.1600000000000003E-2},{"$f":"OFFSET(Male!AC$18,'Male - Rev'!$A62-35,0)","v":2.8799999999999999E-2},{"$f":"OFFSET(Male!AD$18,'Male - Rev'!$A62-35,0)","v":2.47E-2},{"$f":"OFFSET(Male!AE$18,'Male - Rev'!$A62-35,0)","v":1.9199999999999998E-2},{"$f":"OFFSET(Male!AF$18,'Male - Rev'!$A62-35,0)","v":1.2200000000000001E-2},{"$f":"OFFSET(Male!AG$18,'Male - Rev'!$A62-35,0)","v":3.5000000000000001E-3},{"$f":"OFFSET(Male!AH$18,'Male - Rev'!$A62-35,0)","v":-6.7999999999999996E-3},{"$f":"OFFSET(Male!AI$18,'Male - Rev'!$A62-35,0)","v":-1.77E-2},{"$f":"OFFSET(Male!AJ$18,'Male - Rev'!$A62-35,0)","v":-2.7699999999999999E-2},{"$f":"OFFSET(Male!AK$18,'Male - Rev'!$A62-35,0)","v":-3.5000000000000003E-2},{"$f":"OFFSET(Male!AL$18,'Male - Rev'!$A62-35,0)","v":-3.8600000000000002E-2},{"$f":"OFFSET(Male!AM$18,'Male - Rev'!$A62-35,0)","v":-3.8100000000000002E-2},{"$f":"OFFSET(Male!AN$18,'Male - Rev'!$A62-35,0)","v":-3.3700000000000001E-2},{"$f":"OFFSET(Male!AO$18,'Male - Rev'!$A62-35,0)","v":-2.5899999999999999E-2},{"$f":"OFFSET(Male!AP$18,'Male - Rev'!$A62-35,0)","v":-1.5100000000000001E-2},{"$f":"OFFSET(Male!AQ$18,'Male - Rev'!$A62-35,0)","v":-1.6000000000000001E-3},{"$f":"OFFSET(Male!AR$18,'Male - Rev'!$A62-35,0)","v":1.41E-2},{"$f":"OFFSET(Male!AS$18,'Male - Rev'!$A62-35,0)","v":3.0800000000000001E-2},{"$f":"OFFSET(Male!AT$18,'Male - Rev'!$A62-35,0)","v":4.5999999999999999E-2},{"$f":"OFFSET(Male!AU$18,'Male - Rev'!$A62-35,0)","v":5.67E-2},{"$f":"OFFSET(Male!AV$18,'Male - Rev'!$A62-35,0)","v":6.0199999999999997E-2},{"$f":"OFFSET(Male!AW$18,'Male - Rev'!$A62-35,0)","v":5.6099999999999997E-2},{"$f":"OFFSET(Male!AX$18,'Male - Rev'!$A62-35,0)","v":4.65E-2},{"$f":"OFFSET(Male!AY$18,'Male - Rev'!$A62-35,0)","v":3.4799999999999998E-2},{"$f":"OFFSET(Male!AZ$18,'Male - Rev'!$A62-35,0)","v":2.4E-2},{"$f":"OFFSET(Male!BA$18,'Male - Rev'!$A62-35,0)","v":1.6199999999999999E-2},{"$f":"OFFSET(Male!BB$18,'Male - Rev'!$A62-35,0)","v":1.18E-2},{"$f":"OFFSET(Male!BC$18,'Male - Rev'!$A62-35,0)","v":1.03E-2},{"$f":"OFFSET(Male!BD$18,'Male - Rev'!$A62-35,0)","v":1.0699999999999999E-2},{"$f":"OFFSET(Male!BE$18,'Male - Rev'!$A62-35,0)","v":1.21E-2},{"$f":"OFFSET(Male!BF$18,'Male - Rev'!$A62-35,0)","v":1.3299999999999999E-2},{"$f":"OFFSET(Male!BG$18,'Male - Rev'!$A62-35,0)","v":1.34E-2},{"$f":"OFFSET(Male!BH$18,'Male - Rev'!$A62-35,0)","v":1.11E-2},{"$f":"OFFSET(Male!BI$18,'Male - Rev'!$A62-35,0)","v":6.1000000000000004E-3},{"$f":"OFFSET(Male!BJ$18,'Male - Rev'!$A62-35,0)","v":-1.6999999999999999E-3},{"$f":"OFFSET(Male!BK$18,'Male - Rev'!$A62-35,0)","v":-1.1900000000000001E-2},{"$f":"OFFSET(Male!BL$18,'Male - Rev'!$A62-35,0)","v":-2.3400000000000001E-2},{"$f":"OFFSET(Male!BM$18,'Male - Rev'!$A62-35,0)","v":-3.5000000000000003E-2},{"$f":"OFFSET(Male!BN$18,'Male - Rev'!$A62-35,0)","v":-4.5499999999999999E-2},{"$f":"OFFSET(Male!BO$18,'Male - Rev'!$A62-35,0)","v":-5.3900000000000003E-2},{"$f":"OFFSET(Male!BP$18,'Male - Rev'!$A62-35,0)","v":-5.33E-2},{"$f":"OFFSET(Male!BQ$18,'Male - Rev'!$A62-35,0)","v":-5.0099999999999999E-2},{"$f":"OFFSET(Male!BR$18,'Male - Rev'!$A62-35,0)","v":-4.4999999999999998E-2},{"$f":"OFFSET(Male!BS$18,'Male - Rev'!$A62-35,0)","v":-3.8399999999999997E-2},{"$f":"OFFSET(Male!BT$18,'Male - Rev'!$A62-35,0)","v":-3.1E-2},{"$f":"OFFSET(Male!BU$18,'Male - Rev'!$A62-35,0)","v":-2.3199999999999998E-2},{"$f":"OFFSET(Male!BV$18,'Male - Rev'!$A62-35,0)","v":-1.5599999999999999E-2},{"$f":"OFFSET(Male!BW$18,'Male - Rev'!$A62-35,0)","v":-8.6999999999999994E-3},{"$f":"OFFSET(Male!BX$18,'Male - Rev'!$A62-35,0)","v":-3.0000000000000001E-3},{"$f":"OFFSET(Male!BY$18,'Male - Rev'!$A62-35,0)","v":8.9999999999999998E-4},{"$f":"OFFSET(Male!BZ$18,'Male - Rev'!$A62-35,0)","v":3.5999999999999999E-3},{"$f":"OFFSET(Male!CA$18,'Male - Rev'!$A62-35,0)","v":5.8999999999999999E-3},{"$f":"OFFSET(Male!CB$18,'Male - Rev'!$A62-35,0)","v":7.9000000000000008E-3},{"$f":"OFFSET(Male!CC$18,'Male - Rev'!$A62-35,0)","v":9.4999999999999998E-3},{"$f":"OFFSET(Male!CD$18,'Male - Rev'!$A62-35,0)","v":1.0800000000000001E-2},{"$f":"OFFSET(Male!CE$18,'Male - Rev'!$A62-35,0)","v":1.17E-2},{"$f":"OFFSET(Male!CF$18,'Male - Rev'!$A62-35,0)","v":1.2500000000000001E-2},{"$f":"OFFSET(Male!CG$18,'Male - Rev'!$A62-35,0)","v":1.2999999999999999E-2},{"$f":"OFFSET(Male!CH$18,'Male - Rev'!$A62-35,0)","v":1.34E-2},{"$f":"OFFSET(Male!CI$18,'Male - Rev'!$A62-35,0)","v":1.35E-2},{"$f":"CJ62","v":1.35E-2},1.35E-2]
[35,35,{"$f":"OFFSET(Male!B$18,'Male - Rev'!$A63-35,0)","v":4.02E-2},{"$f":"OFFSET(Male!C$18,'Male - Rev'!$A63-35,0)","v":3.56E-2},{"$f":"OFFSET(Male!D$18,'Male - Rev'!$A63-35,0)","v":3.0800000000000001E-2},{"$f":"OFFSET(Male!E$18,'Male - Rev'!$A63-35,0)","v":2.5600000000000001E-2},{"$f":"OFFSET(Male!F$18,'Male - Rev'!$A63-35,0)","v":2.0199999999999999E-2},{"$f":"OFFSET(Male!G$18,'Male - Rev'!$A63-35,0)","v":1.4800000000000001E-2},{"$f":"OFFSET(Male!H$18,'Male - Rev'!$A63-35,0)","v":9.7000000000000003E-3},{"$f":"OFFSET(Male!I$18,'Male - Rev'!$A63-35,0)","v":5.1999999999999998E-3},{"$f":"OFFSET(Male!J$18,'Male - Rev'!$A63-35,0)","v":1.1000000000000001E-3},{"$f":"OFFSET(Male!K$18,'Male - Rev'!$A63-35,0)","v":-2.8999999999999998E-3},{"$f":"OFFSET(Male!L$18,'Male - Rev'!$A63-35,0)","v":-6.7000000000000002E-3},{"$f":"OFFSET(Male!M$18,'Male - Rev'!$A63-35,0)","v":-1.04E-2},{"$f":"OFFSET(Male!N$18,'Male - Rev'!$A63-35,0)","v":-1.34E-2},{"$f":"OFFSET(Male!O$18,'Male - Rev'!$A63-35,0)","v":-1.55E-2},{"$f":"OFFSET(Male!P$18,'Male - Rev'!$A63-35,0)","v":-1.6400000000000001E-2},{"$f":"OFFSET(Male!Q$18,'Male - Rev'!$A63-35,0)","v":-1.5800000000000002E-2},{"$f":"OFFSET(Male!R$18,'Male - Rev'!$A63-35,0)","v":-1.35E-2},{"$f":"OFFSET(Male!S$18,'Male - Rev'!$A63-35,0)","v":-9.4000000000000004E-3},{"$f":"OFFSET(Male!T$18,'Male - Rev'!$A63-35,0)","v":-3.7000000000000002E-3},{"$f":"OFFSET(Male!U$18,'Male - Rev'!$A63-35,0)","v":3.0999999999999999E-3},{"$f":"OFFSET(Male!V$18,'Male - Rev'!$A63-35,0)","v":1.0500000000000001E-2},{"$f":"OFFSET(Male!W$18,'Male - Rev'!$A63-35,0)","v":1.7600000000000001E-2},{"$f":"OFFSET(Male!X$18,'Male - Rev'!$A63-35,0)","v":2.3800000000000002E-2},{"$f":"OFFSET(Male!Y$18,'Male - Rev'!$A63-35,0)","v":2.8500000000000001E-2},{"$f":"OFFSET(Male!Z$18,'Male - Rev'!$A63-35,0)","v":3.1199999999999999E-2},{"$f":"OFFSET(Male!AA$18,'Male - Rev'!$A63-35,0)","v":3.15E-2},{"$f":"OFFSET(Male!AB$18,'Male - Rev'!$A63-35,0)","v":2.9899999999999999E-2},{"$f":"OFFSET(Male!AC$18,'Male - Rev'!$A63-35,0)","v":2.6700000000000002E-2},{"$f":"OFFSET(Male!AD$18,'Male - Rev'!$A63-35,0)","v":2.2200000000000001E-2},{"$f":"OFFSET(Male!AE$18,'Male - Rev'!$A63-35,0)","v":1.6500000000000001E-2},{"$f":"OFFSET(Male!AF$18,'Male - Rev'!$A63-35,0)","v":9.4999999999999998E-3},{"$f":"OFFSET(Male!AG$18,'Male - Rev'!$A63-35,0)","v":8.9999999999999998E-4},{"$f":"OFFSET(Male!AH$18,'Male - Rev'!$A63-35,0)","v":-9.1999999999999998E-3},{"$f":"OFFSET(Male!AI$18,'Male - Rev'!$A63-35,0)","v":-1.9900000000000001E-2},{"$f":"OFFSET(Male!AJ$18,'Male - Rev'!$A63-35,0)","v":-2.9499999999999998E-2},{"$f":"OFFSET(Male!AK$18,'Male - Rev'!$A63-35,0)","v":-3.6400000000000002E-2},{"$f":"OFFSET(Male!AL$18,'Male - Rev'!$A63-35,0)","v":-3.9399999999999998E-2},{"$f":"OFFSET(Male!AM$18,'Male - Rev'!$A63-35,0)","v":-3.8199999999999998E-2},{"$f":"OFFSET(Male!AN$18,'Male - Rev'!$A63-35,0)","v":-3.3099999999999997E-2},{"$f":"OFFSET(Male!AO$18,'Male - Rev'!$A63-35,0)","v":-2.47E-2},{"$f":"OFFSET(Male!AP$18,'Male - Rev'!$A63-35,0)","v":-1.3299999999999999E-2},{"$f":"OFFSET(Male!AQ$18,'Male - Rev'!$A63-35,0)","v":6.9999999999999999E-4},{"$f":"OFFSET(Male!AR$18,'Male - Rev'!$A63-35,0)","v":1.6799999999999999E-2},{"$f":"OFFSET(Male!AS$18,'Male - Rev'!$A63-35,0)","v":3.39E-2},{"$f":"OFFSET(Male!AT$18,'Male - Rev'!$A63-35,0)","v":4.9399999999999999E-2},{"$f":"OFFSET(Male!AU$18,'Male - Rev'!$A63-35,0)","v":6.0199999999999997E-2},{"$f":"OFFSET(Male!AV$18,'Male - Rev'!$A63-35,0)","v":6.3500000000000001E-2},{"$f":"OFFSET(Male!AW$18,'Male - Rev'!$A63-35,0)","v":5.8900000000000001E-2},{"$f":"OFFSET(Male!AX$18,'Male - Rev'!$A63-35,0)","v":4.8599999999999997E-2},{"$f":"OFFSET(Male!AY$18,'Male - Rev'!$A63-35,0)","v":3.5799999999999998E-2},{"$f":"OFFSET(Male!AZ$18,'Male - Rev'!$A63-35,0)","v":2.3900000000000001E-2},{"$f":"OFFSET(Male!BA$18,'Male - Rev'!$A63-35,0)","v":1.49E-2},{"$f":"OFFSET(Male!BB$18,'Male - Rev'!$A63-35,0)","v":9.4999999999999998E-3},{"$f":"OFFSET(Male!BC$18,'Male - Rev'!$A63-35,0)","v":7.1999999999999998E-3},{"$f":"OFFSET(Male!BD$18,'Male - Rev'!$A63-35,0)","v":7.1999999999999998E-3},{"$f":"OFFSET(Male!BE$18,'Male - Rev'!$A63-35,0)","v":8.3000000000000001E-3},{"$f":"OFFSET(Male!BF$18,'Male - Rev'!$A63-35,0)","v":9.7000000000000003E-3},{"$f":"OFFSET(Male!BG$18,'Male - Rev'!$A63-35,0)","v":9.9000000000000008E-3},{"$f":"OFFSET(Male!BH$18,'Male - Rev'!$A63-35,0)","v":8.0000000000000002E-3},{"$f":"OFFSET(Male!BI$18,'Male - Rev'!$A63-35,0)","v":3.2000000000000002E-3},{"$f":"OFFSET(Male!BJ$18,'Male - Rev'!$A63-35,0)","v":-4.4000000000000003E-3},{"$f":"OFFSET(Male!BK$18,'Male - Rev'!$A63-35,0)","v":-1.43E-2},{"$f":"OFFSET(Male!BL$18,'Male - Rev'!$A63-35,0)","v":-2.5600000000000001E-2},{"$f":"OFFSET(Male!BM$18,'Male - Rev'!$A63-35,0)","v":-3.6999999999999998E-2},{"$f":"OFFSET(Male!BN$18,'Male - Rev'!$A63-35,0)","v":-4.7100000000000003E-2},{"$f":"OFFSET(Male!BO$18,'Male - Rev'!$A63-35,0)","v":-5.5100000000000003E-2},{"$f":"OFFSET(Male!BP$18,'Male - Rev'!$A63-35,0)","v":-5.3999999999999999E-2},{"$f":"OFFSET(Male!BQ$18,'Male - Rev'!$A63-35,0)","v":-5.04E-2},{"$f":"OFFSET(Male!BR$18,'Male - Rev'!$A63-35,0)","v":-4.4900000000000002E-2},{"$f":"OFFSET(Male!BS$18,'Male - Rev'!$A63-35,0)","v":-3.8100000000000002E-2},{"$f":"OFFSET(Male!BT$18,'Male - Rev'!$A63-35,0)","v":-3.04E-2},{"$f":"OFFSET(Male!BU$18,'Male - Rev'!$A63-35,0)","v":-2.23E-2},{"$f":"OFFSET(Male!BV$18,'Male - Rev'!$A63-35,0)","v":-1.46E-2},{"$f":"OFFSET(Male!BW$18,'Male - Rev'!$A63-35,0)","v":-7.6E-3},{"$f":"OFFSET(Male!BX$18,'Male - Rev'!$A63-35,0)","v":-2E-3},{"$f":"OFFSET(Male!BY$18,'Male - Rev'!$A63-35,0)","v":1.8E-3},{"$f":"OFFSET(Male!BZ$18,'Male - Rev'!$A63-35,0)","v":4.4000000000000003E-3},{"$f":"OFFSET(Male!CA$18,'Male - Rev'!$A63-35,0)","v":6.4999999999999997E-3},{"$f":"OFFSET(Male!CB$18,'Male - Rev'!$A63-35,0)","v":8.3000000000000001E-3},{"$f":"OFFSET(Male!CC$18,'Male - Rev'!$A63-35,0)","v":9.7000000000000003E-3},{"$f":"OFFSET(Male!CD$18,'Male - Rev'!$A63-35,0)","v":1.09E-2},{"$f":"OFFSET(Male!CE$18,'Male - Rev'!$A63-35,0)","v":1.17E-2},{"$f":"OFFSET(Male!CF$18,'Male - Rev'!$A63-35,0)","v":1.2500000000000001E-2},{"$f":"OFFSET(Male!CG$18,'Male - Rev'!$A63-35,0)","v":1.2999999999999999E-2},{"$f":"OFFSET(Male!CH$18,'Male - Rev'!$A63-35,0)","v":1.34E-2},{"$f":"OFFSET(Male!CI$18,'Male - Rev'!$A63-35,0)","v":1.35E-2},{"$f":"CJ63","v":1.35E-2},1.35E-2]

{"sheet":"Female - Rev","index":4,"n_rows":63,"n_cols":90,"rows_kept":63,"cut":false,"hidden":true,"merged":[]}
[null,"MP-2019 - Female"]
[null,null,1951,null,null,null,null,null,null,null,null,1960,null,null,null,null,null,null,null,null,null,1970,null,null,null,null,null,null,null,null,null,1980,null,null,null,null,null,null,null,null,null,1990,null,null,null,null,null,null,null,null,null,2000,null,null,null,null,null,null,null,null,null,2010,null,null,null,null,null,null,null,null,null,2020,null,null,null,null,null,null,null,null,null,2030]
[95,95,{"$f":"OFFSET(Female!B$18,'Female - Rev'!$A3-35,0)","v":-1.6E-2},{"$f":"OFFSET(Female!C$18,'Female - Rev'!$A3-35,0)","v":-1.4E-2},{"$f":"OFFSET(Female!D$18,'Female - Rev'!$A3-35,0)","v":-1.1900000000000001E-2},{"$f":"OFFSET(Female!E$18,'Female - Rev'!$A3-35,0)","v":-9.9000000000000008E-3},{"$f":"OFFSET(Female!F$18,'Female - Rev'!$A3-35,0)","v":-7.7999999999999996E-3},{"$f":"OFFSET(Female!G$18,'Female - Rev'!$A3-35,0)","v":-5.7000000000000002E-3},{"$f":"OFFSET(Female!H$18,'Female - Rev'!$A3-35,0)","v":-3.7000000000000002E-3},{"$f":"OFFSET(Female!I$18,'Female - Rev'!$A3-35,0)","v":-1.6000000000000001E-3},{"$f":"OFFSET(Female!J$18,'Female - Rev'!$A3-35,0)","v":5.0000000000000001E-4},{"$f":"OFFSET(Female!K$18,'Female - Rev'!$A3-35,0)","v":2.5000000000000001E-3},{"$f":"OFFSET(Female!L$18,'Female - Rev'!$A3-35,0)","v":4.5999999999999999E-3},{"$f":"OFFSET(Female!M$18,'Female - Rev'!$A3-35,0)","v":6.6E-3},{"$f":"OFFSET(Female!N$18,'Female - Rev'!$A3-35,0)","v":8.5000000000000006E-3},{"$f":"OFFSET(Female!O$18,'Female - Rev'!$A3-35,0)","v":1.03E-2},{"$f":"OFFSET(Female!P$18,'Female - Rev'!$A3-35,0)","v":1.2E-2},{"$f":"OFFSET(Female!Q$18,'Female - Rev'!$A3-35,0)","v":1.35E-2},{"$f":"OFFSET(Female!R$18,'Female - Rev'!$A3-35,0)","v":1.47E-2},{"$f":"OFFSET(Female!S$18,'Female - Rev'!$A3-35,0)","v":1.5699999999999999E-2},{"$f":"OFFSET(Female!T$18,'Female - Rev'!$A3-35,0)","v":1.6500000000000001E-2},{"$f":"OFFSET(Female!U$18,'Female - Rev'!$A3-35,0)","v":1.6899999999999998E-2},{"$f":"OFFSET(Female!V$18,'Female - Rev'!$A3-35,0)","v":1.7000000000000001E-2},{"$f":"OFFSET(Female!W$18,'Female - Rev'!$A3-35,0)","v":1.6899999999999998E-2},{"$f":"OFFSET(Female!X$18,'Female - Rev'!$A3-35,0)","v":1.6500000000000001E-2},{"$f":"OFFSET(Female!Y$18,'Female - Rev'!$A3-35,0)","v":1.5800000000000002E-2},{"$f":"OFFSET(Female!Z$18,'Female - Rev'!$A3-35,0)","v":1.49E-2},{"$f":"OFFSET(Female!AA$18,'Female - Rev'!$A3-35,0)","v":1.3899999999999999E-2},{"$f":"OFFSET(Female!AB$18,'Female - Rev'!$A3-35,0)","v":1.2699999999999999E-2},{"$f":"OFFSET(Female!AC$18,'Female - Rev'!$A3-35,0)","v":1.14E-2},{"$f":"OFFSET(Female!AD$18,'Female - Rev'!$A3-35,0)","v":0.01},{"$f":"OFFSET(Female!AE$18,'Female - Rev'!$A3-35,0)","v":8.6999999999999994E-3},{"$f":"OFFSET(Female!AF$18,'Female - Rev'!$A3-35,0)","v":7.3000000000000001E-3},{"$f":"OFFSET(Female!AG$18,'Female - Rev'!$A3-35,0)","v":5.8999999999999999E-3},{"$f":"OFFSET(Female!AH$18,'Female - Rev'!$A3-35,0)","v":4.5999999999999999E-3},{"$f":"OFFSET(Female!AI$18,'Female - Rev'!$A3-35,0)","v":3.3E-3},{"$f":"OFFSET(Female!AJ$18,'Female - Rev'!$A3-35,0)","v":2.2000000000000001E-3},{"$f":"OFFSET(Female!AK$18,'Female - Rev'!$A3-35,0)","v":1.1000000000000001E-3},{"$f":"OFFSET(Female!AL$18,'Female - Rev'!$A3-35,0)","v":1E-4},{"$f":"OFFSET(Female!AM$18,'Female - Rev'!$A3-35,0)","v":-8.9999999999999998E-4},{"$f":"OFFSET(Female!AN$18,'Female - Rev'!$A3-35,0)","v":-1.9E-3},{"$f":"OFFSET(Female!AO$18,'Female - Rev'!$A3-35,0)","v":-3.0000000000000001E-3},{"$f":"OFFSET(Female!AP$18,'Female - Rev'!$A3-35,0)","v":-4.0000000000000001E-3},{"$f":"OFFSET(Female!AQ$18,'Female - Rev'!$A3-35,0)","v":-5.1000000000000004E-3},{"$f":"OFFSET(Female!AR$18,'Female - Rev'!$A3-35,0)","v":-6.1000000000000004E-3},{"$f":"OFFSET(Female!AS$18,'Female - Rev'!$A3-35,0)","v":-7.0000000000000001E-3},{"$f":"OFFSET(Female!AT$18,'Female - Rev'!$A3-35,0)","v":-7.6E-3},{"$f":"OFFSET(Female!AU$18,'Female - Rev'!$A3-35,0)","v":-7.7999999999999996E-3},{"$f":"OFFSET(Female!AV$18,'Female - Rev'!$A3-35,0)","v":-7.7000000000000002E-3},{"$f":"OFFSET(Female!AW$18,'Female - Rev'!$A3-35,0)","v":-7.1999999999999998E-3},{"$f":"OFFSET(Female!AX$18,'Female - Rev'!$A3-35,0)","v":-6.1999999999999998E-3},{"$f":"OFFSET(Female!AY$18,'Female - Rev'!$A3-35,0)","v":-4.8999999999999998E-3},{"$f":"OFFSET(Female!AZ$18,'Female - Rev'!$A3-35,0)","v":-3.2000000000000002E-3},{"$f":"OFFSET(Female!BA$18,'Female - Rev'!$A3-35,0)","v":-1.4E-3},{"$f":"OFFSET(Female!BB$18,'Female - Rev'!$A3-35,0)","v":5.0000000000000001E-4},{"$f":"OFFSET(Female!BC$18,'Female - Rev'!$A3-35,0)","v":2.3E-3},{"$f":"OFFSET(Female!BD$18,'Female - Rev'!$A3-35,0)","v":3.8999999999999998E-3},{"$f":"OFFSET(Female!BE$18,'Female - Rev'!$A3-35,0)","v":5.3E-3},{"$f":"OFFSET(Female!BF$18,'Female - Rev'!$A3-35,0)","v":6.3E-3},{"$f":"OFFSET(Female!BG$18,'Female - Rev'!$A3-35,0)","v":6.8999999999999999E-3},{"$f":"OFFSET(Female!BH$18,'Female - Rev'!$A3-35,0)","v":7.1999999999999998E-3},{"$f":"OFFSET(Female!BI$18,'Female - Rev'!$A3-35,0)","v":7.1000000000000004E-3},{"$f":"OFFSET(Female!BJ$18,'Female - Rev'!$A3-35,0)","v":6.7000000000000002E-3},{"$f":"OFFSET(Female!BK$18,'Female - Rev'!$A3-35,0)","v":6.1000000000000004E-3},{"$f":"OFFSET(Female!BL$18,'Female - Rev'!$A3-35,0)","v":5.4000000000000003E-3},{"$f":"OFFSET(Female!BM$18,'Female - Rev'!$A3-35,0)","v":4.5999999999999999E-3},{"$f":"OFFSET(Female!BN$18,'Female - Rev'!$A3-35,0)","v":3.7000000000000002E-3},{"$f":"OFFSET(Female!BO$18,'Female - Rev'!$A3-35,0)","v":2.8E-3},{"$f":"OFFSET(Female!BP$18,'Female - Rev'!$A3-35,0)","v":2.5000000000000001E-3},{"$f":"OFFSET(Female!BQ$18,'Female - Rev'!$A3-35,0)","v":2.3E-3},{"$f":"OFFSET(Female!BR$18,'Female - Rev'!$A3-35,0)","v":2.2000000000000001E-3},{"$f":"OFFSET(Female!BS$18,'Female - Rev'!$A3-35,0)","v":2.0999999999999999E-3},{"$f":"OFFSET(Female!BT$18,'Female - Rev'!$A3-35,0)","v":2.2000000000000001E-3},{"$f":"OFFSET(Female!BU$18,'Female - Rev'!$A3-35,0)","v":2.3E-3},{"$f":"OFFSET(Female!BV$18,'Female - Rev'!$A3-35,0)","v":2.3999999999999998E-3},{"$f":"OFFSET(Female!BW$18,'Female - Rev'!$A3-35,0)","v":2.5000000000000001E-3},{"$f":"OFFSET(Female!BX$18,'Female - Rev'!$A3-35,0)","v":2.7000000000000001E-3},{"$f":"OFFSET(Female!BY$18,'Female - Rev'!$A3-35,0)","v":2.8999999999999998E-3},{"$f":"OFFSET(Female!BZ$18,'Female - Rev'!$A3-35,0)","v":3.0000000000000001E-3},{"$f":"OFFSET(Female!CA$18,'Female - Rev'!$A3-35,0)","v":3.2000000000000002E-3},{"$f":"OFFSET(Female!CB$18,'Female - Rev'!$A3-35,0)","v":3.3E-3},{"$f":"OFFSET(Female!CC$18,'Female - Rev'!$A3-35,0)","v":3.3999999999999998E-3},{"$f":"OFFSET(Female!CD$18,'Female - Rev'!$A3-35,0)","v":3.5999999999999999E-3},{"$f":"OFFSET(Female!CE$18,'Female - Rev'!$A3-35,0)","v":3.7000000000000002E-3},{"$f":"OFFSET(Female!CF$18,'Female - Rev'!$A3-35,0)","v":3.8E-3},{"$f":"OFFSET(Female!CG$18,'Female - Rev'!$A3-35,0)","v":3.8E-3},{"$f":"OFFSET(Female!CH$18,'Female - Rev'!$A3-35,0)","v":3.8999999999999998E-3},{"$f":"OFFSET(Female!CI$18,'Female - Rev'!$A3-35,0)","v":4.0000000000000001E-3},{"$f":"CJ3","v":4.0000000000000001E-3},{"$f":"CK3","v":4.0000000000000001E-3}]
[{"$f":"A3-1","v":94},{"$f":"B3-1","v":94},{"$f":"OFFSET(Female!B$18,'Female - Rev'!$A4-35,0)","v":-1.46E-2},{"$f":"OFFSET(Female!C$18,'Female - Rev'!$A4-35,0)","v":-1.2800000000000001E-2},{"$f":"OFFSET(Female!D$18,'Female - Rev'!$A4-35,0)","v":-1.11E-2},{"$f":"OFFSET(Female!E$18,'Female - Rev'!$A4-35,0)","v":-9.4000000000000004E-3},{"$f":"OFFSET(Female!F$18,'Female - Rev'!$A4-35,0)","v":-7.6E-3},{"$f":"OFFSET(Female!G$18,'Female - Rev'!$A4-35,0)","v":-5.7999999999999996E-3},{"$f":"OFFSET(Female!H$18,'Female - Rev'!$A4-35,0)","v":-4.0000000000000001E-3},{"$f":"OFFSET(Female!I$18,'Female - Rev'!$A4-35,0)","v":-2.0999999999999999E-3},{"$f":"OFFSET(Female!J$18,'Female - Rev'!$A4-35,0)","v":-1E-4},{"$f":"OFFSET(Female!K$18,'Female - Rev'!$A4-35,0)","v":1.9E-3},{"$f":"OFFSET(Female!L$18,'Female - Rev'!$A4-35,0)","v":3.8999999999999998E-3},{"$f":"OFFSET(Female!M$18,'Female - Rev'!$A4-35,0)","v":5.8999999999999999E-3},{"$f":"OFFSET(Female!N$18,'Female - Rev'!$A4-35,0)","v":8.0000000000000002E-3},{"$f":"OFFSET(Female!O$18,'Female - Rev'!$A4-35,0)","v":0.01},{"$f":"OFFSET(Female!P$18,'Female - Rev'!$A4-35,0)","v":1.1900000000000001E-2},{"$f":"OFFSET(Female!Q$18,'Female - Rev'!$A4-35,0)","v":1.3599999999999999E-2},{"$f":"OFFSET(Female!R$18,'Female - Rev'!$A4-35,0)","v":1.5100000000000001E-2},{"$f":"OFFSET(Female!S$18,'Female - Rev'!$A4-35,0)","v":1.6400000000000001E-2},{"$f":"OFFSET(Female!T$18,'Female - Rev'!$A4-35,0)","v":1.7299999999999999E-2},{"$f":"OFFSET(Female!U$18,'Female - Rev'!$A4-35,0)","v":1.7899999999999999E-2},{"$f":"OFFSET(Female!V$18,'Female - Rev'!$A4-35,0)","v":1.8100000000000002E-2},{"$f":"OFFSET(Female!W$18,'Female - Rev'!$A4-35,0)","v":1.8100000000000002E-2},{"$f":"OFFSET(Female!X$18,'Female - Rev'!$A4-35,0)","v":1.77E-2},{"$f":"OFFSET(Female!Y$18,'Female - Rev'!$A4-35,0)","v":1.7000000000000001E-2},{"$f":"OFFSET(Female!Z$18,'Female - Rev'!$A4-35,0)","v":1.61E-2},{"$f":"OFFSET(Female!AA$18,'Female - Rev'!$A4-35,0)","v":1.4999999999999999E-2},{"$f":"OFFSET(Female!AB$18,'Female - Rev'!$A4-35,0)","v":1.38E-2},{"$f":"OFFSET(Female!AC$18,'Female - Rev'!$A4-35,0)","v":1.2500000000000001E-2},{"$f":"OFFSET(Female!AD$18,'Female - Rev'!$A4-35,0)","v":1.11E-2},{"$f":"OFFSET(Female!AE$18,'Female - Rev'!$A4-35,0)","v":9.5999999999999992E-3},{"$f":"OFFSET(Female!AF$18,'Female - Rev'!$A4-35,0)","v":8.2000000000000007E-3},{"$f":"OFFSET(Female!AG$18,'Female - Rev'!$A4-35,0)","v":6.7999999999999996E-3},{"$f":"OFFSET(Female!AH$18,'Female - Rev'!$A4-35,0)","v":5.4999999999999997E-3},{"$f":"OFFSET(Female!AI$18,'Female - Rev'!$A4-35,0)","v":4.3E-3},{"$f":"OFFSET(Female!AJ$18,'Female - Rev'!$A4-35,0)","v":3.0999999999999999E-3},{"$f":"OFFSET(Female!AK$18,'Female - Rev'!$A4-35,0)","v":2.0999999999999999E-3},{"$f":"OFFSET(Female!AL$18,'Female - Rev'!$A4-35,0)","v":1.1000000000000001E-3},{"$f":"OFFSET(Female!AM$18,'Female - Rev'!$A4-35,0)","v":1E-4},{"$f":"OFFSET(Female!AN$18,'Female - Rev'!$A4-35,0)","v":-8.9999999999999998E-4},{"$f":"OFFSET(Female!AO$18,'Female - Rev'!$A4-35,0)","v":-2E-3},{"$f":"OFFSET(Female!AP$18,'Female - Rev'!$A4-35,0)","v":-3.2000000000000002E-3},{"$f":"OFFSET(Female!AQ$18,'Female - Rev'!$A4-35,0)","v":-4.4999999999999997E-3},{"$f":"OFFSET(Female!AR$18,'Female - Rev'!$A4-35,0)","v":-5.7000000000000002E-3},{"$f":"OFFSET(Female!AS$18,'Female - Rev'!$A4-35,0)","v":-6.7000000000000002E-3},{"$f":"OFFSET(Female!AT$18,'Female - Rev'!$A4-35,0)","v":-7.4000000000000003E-3},{"$f":"OFFSET(Female!AU$18,'Female - Rev'!$A4-35,0)","v":-7.7999999999999996E-3},{"$f":"OFFSET(Female!AV$18,'Female - Rev'!$A4-35,0)","v":-7.7000000000000002E-3},{"$f":"OFFSET(Female!AW$18,'Female - Rev'!$A4-35,0)","v":-7.1999999999999998E-3},{"$f":"OFFSET(Female!AX$18,'Female - Rev'!$A4-35,0)","v":-6.1000000000000004E-3},{"$f":"OFFSET(Female!AY$18,'Female - Rev'!$A4-35,0)","v":-4.5999999999999999E-3},{"$f":"OFFSET(Female!AZ$18,'Female - Rev'!$A4-35,0)","v":-2.8E-3},{"$f":"OFFSET(Female!BA$18,'Female - Rev'!$A4-35,0)","v":-6.9999999999999999E-4},{"$f":"OFFSET(Female!BB$18,'Female - Rev'!$A4-35,0)","v":1.2999999999999999E-3},{"$f":"OFFSET(Female!BC$18,'Female - Rev'!$A4-35,0)","v":3.3E-3},{"$f":"OFFSET(Female!BD$18,'Female - Rev'!$A4-35,0)","v":5.0000000000000001E-3},{"$f":"OFFSET(Female!BE$18,'Female - Rev'!$A4-35,0)","v":6.4000000000000003E-3},{"$f":"OFFSET(Female!BF$18,'Female - Rev'!$A4-35,0)","v":7.4000000000000003E-3},{"$f":"OFFSET(Female!BG$18,'Female - Rev'!$A4-35,0)","v":7.9000000000000008E-3},{"$f":"OFFSET(Female!BH$18,'Female - Rev'!$A4-35,0)","v":8.0000000000000002E-3},{"$f":"OFFSET(Female!BI$18,'Female - Rev'!$A4-35,0)","v":7.7000000000000002E-3},{"$f":"OFFSET(Female!BJ$18,'Female - Rev'!$A4-35,0)","v":7.1000000000000004E-3},{"$f":"OFFSET(Female!BK$18,'Female - Rev'!$A4-35,0)","v":6.3E-3},{"$f":"OFFSET(Female!BL$18,'Female - Rev'!$A4-35,0)","v":5.4000000000000003E-3},{"$f":"OFFSET(Female!BM$18,'Female - Rev'!$A4-35,0)","v":4.4000000000000003E-3},{"$f":"OFFSET(Female!BN$18,'Female - Rev'!$A4-35,0)","v":3.3E-3},{"$f":"OFFSET(Female!BO$18,'Female - Rev'!$A4-35,0)","v":2.2000000000000001E-3},{"$f":"OFFSET(Female!BP$18,'Female - Rev'!$A4-35,0)","v":2E-3},{"$f":"OFFSET(Female!BQ$18,'Female - Rev'!$A4-35,0)","v":1.9E-3},{"$f":"OFFSET(Female!BR$18,'Female - Rev'!$A4-35,0)","v":1.9E-3},{"$f":"OFFSET(Female!BS$18,'Female - Rev'!$A4-35,0)","v":2E-3},{"$f":"OFFSET(Female!BT$18,'Female - Rev'!$A4-35,0)","v":2.0999999999999999E-3},{"$f":"OFFSET(Female!BU$18,'Female - Rev'!$A4-35,0)","v":2.3E-3},{"$f":"OFFSET(Female!BV$18,'Female - Rev'!$A4-35,0)","v":2.5999999999999999E-3},{"$f":"OFFSET(Female!BW$18,'Female - Rev'!$A4-35,0)","v":2.8E-3},{"$f":"OFFSET(Female!BX$18,'Female - Rev'!$A4-35,0)","v":3.0000000000000001E-3},{"$f":"OFFSET(Female!BY$18,'Female - Rev'!$A4-35,0)","v":3.2000000000000002E-3},{"$f":"OFFSET(Female!BZ$18,'Female - Rev'!$A4-35,0)","v":3.3999999999999998E-3},{"$f":"OFFSET(Female!CA$18,'Female - Rev'!$A4-35,0)","v":3.5000000000000001E-3},{"$f":"OFFSET(Female!CB$18,'Female - Rev'!$A4-35,0)","v":3.7000000000000002E-3},{"$f":"OFFSET(Female!CC$18,'Female - Rev'!$A4-35,0)","v":3.8E-3},{"$f":"OFFSET(Female!CD$18,'Female - Rev'!$A4-35,0)","v":3.8999999999999998E-3},{"$f":"OFFSET(Female!CE$18,'Female - Rev'!$A4-35,0)","v":4.0000000000000001E-3},{"$f":"OFFSET(Female!CF$18,'Female - Rev'!$A4-35,0)","v":4.1000000000000003E-3},{"$f":"OFFSET(Female!CG$18,'Female - Rev'!$A4-35,0)","v":4.1999999999999997E-3},{"$f":"OFFSET(Female!CH$18,'Female - Rev'!$A4-35,0)","v":4.1999999999999997E-3},{"$f":"OFFSET(Female!CI$18,'Female - Rev'!$A4-35,0)","v":4.4999999999999997E-3},{"$f":"CJ4","v":4.4999999999999997E-3},4.4999999999999997E-3]
[{"$f":"A4-1","v":93},93,{"$f":"OFFSET(Female!B$18,'Female - Rev'!$A5-35,0)","v":-1.2999999999999999E-2},{"$f":"OFFSET(Female!C$18,'Female - Rev'!$A5-35,0)","v":-1.1599999999999999E-2},{"$f":"OFFSET(Female!D$18,'Female - Rev'!$A5-35,0)","v":-1.01E-2},{"$f":"OFFSET(Female!E$18,'Female - Rev'!$A5-35,0)","v":-8.6999999999999994E-3},{"$f":"OFFSET(Female!F$18,'Female - Rev'!$A5-35,0)","v":-7.1999999999999998E-3},{"$f":"OFFSET(Female!G$18,'Female - Rev'!$A5-35,0)","v":-5.7000000000000002E-3},{"$f":"OFFSET(Female!H$18,'Female - Rev'!$A5-35,0)","v":-4.1000000000000003E-3},{"$f":"OFFSET(Female!I$18,'Female - Rev'!$A5-35,0)","v":-2.3999999999999998E-3},{"$f":"OFFSET(Female!J$18,'Female - Rev'!$A5-35,0)","v":-5.9999999999999995E-4},{"$f":"OFFSET(Female!K$18,'Female - Rev'!$A5-35,0)","v":1.2999999999999999E-3},{"$f":"OFFSET(Female!L$18,'Female - Rev'!$A5-35,0)","v":3.3999999999999998E-3},{"$f":"OFFSET(Female!M$18,'Female - Rev'!$A5-35,0)","v":5.4999999999999997E-3},{"$f":"OFFSET(Female!N$18,'Female - Rev'!$A5-35,0)","v":7.6E-3},{"$f":"OFFSET(Female!O$18,'Female - Rev'!$A5-35,0)","v":9.7999999999999997E-3},{"$f":"OFFSET(Female!P$18,'Female - Rev'!$A5-35,0)","v":1.18E-2},{"$f":"OFFSET(Female!Q$18,'Female - Rev'!$A5-35,0)","v":1.38E-2},{"$f":"OFFSET(Female!R$18,'Female - Rev'!$A5-35,0)","v":1.55E-2},{"$f":"OFFSET(Female!S$18,'Female - Rev'!$A5-35,0)","v":1.6899999999999998E-2},{"$f":"OFFSET(Female!T$18,'Female - Rev'!$A5-35,0)","v":1.7999999999999999E-2},{"$f":"OFFSET(Female!U$18,'Female - Rev'!$A5-35,0)","v":1.8800000000000001E-2},{"$f":"OFFSET(Female!V$18,'Female - Rev'!$A5-35,0)","v":1.9099999999999999E-2},{"$f":"OFFSET(Female!W$18,'Female - Rev'!$A5-35,0)","v":1.9099999999999999E-2},{"$f":"OFFSET(Female!X$18,'Female - Rev'!$A5-35,0)","v":1.8800000000000001E-2},{"$f":"OFFSET(Female!Y$18,'Female - Rev'!$A5-35,0)","v":1.8200000000000001E-2},{"$f":"OFFSET(Female!Z$18,'Female - Rev'!$A5-35,0)","v":1.7299999999999999E-2},{"$f":"OFFSET(Female!AA$18,'Female - Rev'!$A5-35,0)","v":1.6199999999999999E-2},{"$f":"OFFSET(Female!AB$18,'Female - Rev'!$A5-35,0)","v":1.49E-2},{"$f":"OFFSET(Female!AC$18,'Female - Rev'!$A5-35,0)","v":1.35E-2},{"$f":"OFFSET(Female!AD$18,'Female - Rev'!$A5-35,0)","v":1.2E-2},{"$f":"OFFSET(Female!AE$18,'Female - Rev'!$A5-35,0)","v":1.06E-2},{"$f":"OFFSET(Female!AF$18,'Female - Rev'!$A5-35,0)","v":9.1000000000000004E-3},{"$f":"OFFSET(Female!AG$18,'Female - Rev'!$A5-35,0)","v":7.7000000000000002E-3},{"$f":"OFFSET(Female!AH$18,'Female - Rev'!$A5-35,0)","v":6.4000000000000003E-3},{"$f":"OFFSET(Female!AI$18,'Female - Rev'!$A5-35,0)","v":5.1000000000000004E-3},{"$f":"OFFSET(Female!AJ$18,'Female - Rev'!$A5-35,0)","v":4.0000000000000001E-3},{"$f":"OFFSET(Female!AK$18,'Female - Rev'!$A5-35,0)","v":3.0000000000000001E-3},{"$f":"OFFSET(Female!AL$18,'Female - Rev'!$A5-35,0)","v":2.0999999999999999E-3},{"$f":"OFFSET(Female!AM$18,'Female - Rev'!$A5-35,0)","v":1.1000000000000001E-3},{"$f":"OFFSET(Female!AN$18,'Female - Rev'!$A5-35,0)","v":1E-4},{"$f":"OFFSET(Female!AO$18,'Female - Rev'!$A5-35,0)","v":-1.1000000000000001E-3},{"$f":"OFFSET(Female!AP$18,'Female - Rev'!$A5-35,0)","v":-2.3999999999999998E-3},{"$f":"OFFSET(Female!AQ$18,'Female - Rev'!$A5-35,0)","v":-3.8E-3},{"$f":"OFFSET(Female!AR$18,'Female - Rev'!$A5-35,0)","v":-5.1999999999999998E-3},{"$f":"OFFSET(Female!AS$18,'Female - Rev'!$A5-35,0)","v":-6.4000000000000003E-3},{"$f":"OFFSET(Female!AT$18,'Female - Rev'!$A5-35,0)","v":-7.1999999999999998E-3},{"$f":"OFFSET(Female!AU$18,'Female - Rev'!$A5-35,0)","v":-7.7000000000000002E-3},{"$f":"OFFSET(Female!AV$18,'Female - Rev'!$A5-35,0)","v":-7.7000000000000002E-3},{"$f":"OFFSET(Female!AW$18,'Female - Rev'!$A5-35,0)","v":-7.1000000000000004E-3},{"$f":"OFFSET(Female!AX$18,'Female - Rev'!$A5-35,0)","v":-5.8999999999999999E-3},{"$f":"OFFSET(Female!AY$18,'Female - Rev'!$A5-35,0)","v":-4.3E-3},{"$f":"OFFSET(Female!AZ$18,'Female - Rev'!$A5-35,0)","v":-2.3E-3},{"$f":"OFFSET(Female!BA$18,'Female - Rev'!$A5-35,0)","v":0},{"$f":"OFFSET(Female!BB$18,'Female - Rev'!$A5-35,0)","v":2.2000000000000001E-3},{"$f":"OFFSET(Female!BC$18,'Female - Rev'!$A5-35,0)","v":4.3E-3},{"$f":"OFFSET(Female!BD$18,'Female - Rev'!$A5-35,0)","v":6.1000000000000004E-3},{"$f":"OFFSET(Female!BE$18,'Female - Rev'!$A5-35,0)","v":7.4999999999999997E-3},{"$f":"OFFSET(Female!BF$18,'Female - Rev'!$A5-35,0)","v":8.3999999999999995E-3},{"$f":"OFFSET(Female!BG$18,'Female - Rev'!$A5-35,0)","v":8.8000000000000005E-3},{"$f":"OFFSET(Female!BH$18,'Female - Rev'!$A5-35,0)","v":8.8000000000000005E-3},{"$f":"OFFSET(Female!BI$18,'Female - Rev'!$A5-35,0)","v":8.3000000000000001E-3},{"$f":"OFFSET(Female!BJ$18,'Female - Rev'!$A5-35,0)","v":7.4999999999999997E-3},{"$f":"OFFSET(Female!BK$18,'Female - Rev'!$A5-35,0)","v":6.4999999999999997E-3},{"$f":"OFFSET(Female!BL$18,'Female - Rev'!$A5-35,0)","v":5.4000000000000003E-3},{"$f":"OFFSET(Female!BM$18,'Female - Rev'!$A5-35,0)","v":4.1999999999999997E-3},{"$f":"OFFSET(Female!BN$18,'Female - Rev'!$A5-35,0)","v":3.0000000000000001E-3},{"$f":"OFFSET(Female!BO$18,'Female - Rev'!$A5-35,0)","v":1.6999999999999999E-3},{"$f":"OFFSET(Female!BP$18,'Female - Rev'!$A5-35,0)","v":1.6000000000000001E-3},{"$f":"OFFSET(Female!BQ$18,'Female - Rev'!$A5-35,0)","v":1.6000000000000001E-3},{"$f":"OFFSET(Female!BR$18,'Female - Rev'!$A5-35,0)","v":1.6999999999999999E-3},{"$f":"OFFSET(Female!BS$18,'Female - Rev'!$A5-35,0)","v":1.9E-3},{"$f":"OFFSET(Female!BT$18,'Female - Rev'!$A5-35,0)","v":2.0999999999999999E-3},{"$f":"OFFSET(Female!BU$18,'Female - Rev'!$A5-35,0)","v":2.5000000000000001E-3},{"$f":"OFFSET(Female!BV$18,'Female - Rev'!$A5-35,0)","v":2.8E-3},{"$f":"OFFSET(Female!BW$18,'Female - Rev'!$A5-35,0)","v":3.0999999999999999E-3},{"$f":"OFFSET(Female!BX$18,'Female - Rev'!$A5-35,0)","v":3.3999999999999998E-3},{"$f":"OFFSET(Female!BY$18,'Female - Rev'!$A5-35,0)","v":3.5999999999999999E-3},{"$f":"OFFSET(Female!BZ$18,'Female - Rev'!$A5-35,0)","v":3.8E-3},{"$f":"OFFSET(Female!CA$18,'Female - Rev'!$A5-35,0)","v":3.8999999999999998E-3},{"$f":"OFFSET(Female!CB$18,'Female - Rev'!$A5-35,0)","v":4.1000000000000003E-3},{"$f":"OFFSET(Female!CC$18,'Female - Rev'!$A5-35,0)","v":4.1999999999999997E-3},{"$f":"OFFSET(Female!CD$18,'Female - Rev'!$A5-35,0)","v":4.3E-3},{"$f":"OFFSET(Female!CE$18,'Female - Rev'!$A5-35,0)","v":4.4000000000000003E-3},{"$f":"OFFSET(Female!CF$18,'Female - Rev'!$A5-35,0)","v":4.4999999999999997E-3},{"$f":"OFFSET(Female!CG$18,'Female - Rev'!$A5-35,0)","v":4.4999999999999997E-3},{"$f":"OFFSET(Female!CH$18,'Female - Rev'!$A5-35,0)","v":4.7000000000000002E-3},{"$f":"OFFSET(Female!CI$18,'Female - Rev'!$A5-35,0)","v":4.8999999999999998E-3},{"$f":"CJ5","v":4.8999999999999998E-3},4.8999999999999998E-3]
[92,92,{"$f":"OFFSET(Female!B$18,'Female - Rev'!$A6-35,0)","v":-1.1299999999999999E-2},{"$f":"OFFSET(Female!C$18,'Female - Rev'!$A6-35,0)","v":-1.0200000000000001E-2},{"$f":"OFFSET(Female!D$18,'Female - Rev'!$A6-35,0)","v":-8.9999999999999993E-3},{"$f":"OFFSET(Female!E$18,'Female - Rev'!$A6-35,0)","v":-7.9000000000000008E-3},{"$f":"OFFSET(Female!F$18,'Female - Rev'!$A6-35,0)","v":-6.7000000000000002E-3},{"$f":"OFFSET(Female!G$18,'Female - Rev'!$A6-35,0)","v":-5.4000000000000003E-3},{"$f":"OFFSET(Female!H$18,'Female - Rev'!$A6-35,0)","v":-4.0000000000000001E-3},{"$f":"OFFSET(Female!I$18,'Female - Rev'!$A6-35,0)","v":-2.5000000000000001E-3},{"$f":"OFFSET(Female!J$18,'Female - Rev'!$A6-35,0)","v":-8.0000000000000004E-4},{"$f":"OFFSET(Female!K$18,'Female - Rev'!$A6-35,0)","v":1E-3},{"$f":"OFFSET(Female!L$18,'Female - Rev'!$A6-35,0)","v":3.0000000000000001E-3},{"$f":"OFFSET(Female!M$18,'Female - Rev'!$A6-35,0)","v":5.1000000000000004E-3},{"$f":"OFFSET(Female!N$18,'Female - Rev'!$A6-35,0)","v":7.3000000000000001E-3},{"$f":"OFFSET(Female!O$18,'Female - Rev'!$A6-35,0)","v":9.5999999999999992E-3},{"$f":"OFFSET(Female!P$18,'Female - Rev'!$A6-35,0)","v":1.18E-2},{"$f":"OFFSET(Female!Q$18,'Female - Rev'!$A6-35,0)","v":1.3899999999999999E-2},{"$f":"OFFSET(Female!R$18,'Female - Rev'!$A6-35,0)","v":1.5800000000000002E-2},{"$f":"OFFSET(Female!S$18,'Female - Rev'!$A6-35,0)","v":1.7399999999999999E-2},{"$f":"OFFSET(Female!T$18,'Female - Rev'!$A6-35,0)","v":1.8700000000000001E-2},{"$f":"OFFSET(Female!U$18,'Female - Rev'!$A6-35,0)","v":1.95E-2},{"$f":"OFFSET(Female!V$18,'Female - Rev'!$A6-35,0)","v":0.02},{"$f":"OFFSET(Female!W$18,'Female - Rev'!$A6-35,0)","v":2.01E-2},{"$f":"OFFSET(Female!X$18,'Female - Rev'!$A6-35,0)","v":1.9900000000000001E-2},{"$f":"OFFSET(Female!Y$18,'Female - Rev'!$A6-35,0)","v":1.9300000000000001E-2},{"$f":"OFFSET(Female!Z$18,'Female - Rev'!$A6-35,0)","v":1.84E-2},{"$f":"OFFSET(Female!AA$18,'Female - Rev'!$A6-35,0)","v":1.7299999999999999E-2},{"$f":"OFFSET(Female!AB$18,'Female - Rev'!$A6-35,0)","v":1.5900000000000001E-2},{"$f":"OFFSET(Female!AC$18,'Female - Rev'!$A6-35,0)","v":1.4500000000000001E-2},{"$f":"OFFSET(Female!AD$18,'Female - Rev'!$A6-35,0)","v":1.2999999999999999E-2},{"$f":"OFFSET(Female!AE$18,'Female - Rev'!$A6-35,0)","v":1.14E-2},{"$f":"OFFSET(Female!AF$18,'Female - Rev'!$A6-35,0)","v":9.9000000000000008E-3},{"$f":"OFFSET(Female!AG$18,'Female - Rev'!$A6-35,0)","v":8.5000000000000006E-3},{"$f":"OFFSET(Female!AH$18,'Female - Rev'!$A6-35,0)","v":7.1000000000000004E-3},{"$f":"OFFSET(Female!AI$18,'Female - Rev'!$A6-35,0)","v":5.8999999999999999E-3},{"$f":"OFFSET(Female!AJ$18,'Female - Rev'!$A6-35,0)","v":4.7999999999999996E-3},{"$f":"OFFSET(Female!AK$18,'Female - Rev'!$A6-35,0)","v":3.8999999999999998E-3},{"$f":"OFFSET(Female!AL$18,'Female - Rev'!$A6-35,0)","v":3.0000000000000001E-3},{"$f":"OFFSET(Female!AM$18,'Female - Rev'!$A6-35,0)","v":2E-3},{"$f":"OFFSET(Female!AN$18,'Female - Rev'!$A6-35,0)","v":1E-3},{"$f":"OFFSET(Female!AO$18,'Female - Rev'!$A6-35,0)","v":-2.9999999999999997E-4},{"$f":"OFFSET(Female!AP$18,'Female - Rev'!$A6-35,0)","v":-1.6999999999999999E-3},{"$f":"OFFSET(Female!AQ$18,'Female - Rev'!$A6-35,0)","v":-3.2000000000000002E-3},{"$f":"OFFSET(Female!AR$18,'Female - Rev'!$A6-35,0)","v":-4.7000000000000002E-3},{"$f":"OFFSET(Female!AS$18,'Female - Rev'!$A6-35,0)","v":-6.0000000000000001E-3},{"$f":"OFFSET(Female!AT$18,'Female - Rev'!$A6-35,0)","v":-7.0000000000000001E-3},{"$f":"OFFSET(Female!AU$18,'Female - Rev'!$A6-35,0)","v":-7.4999999999999997E-3},{"$f":"OFFSET(Female!AV$18,'Female - Rev'!$A6-35,0)","v":-7.4999999999999997E-3},{"$f":"OFFSET(Female!AW$18,'Female - Rev'!$A6-35,0)","v":-6.8999999999999999E-3},{"$f":"OFFSET(Female!AX$18,'Female - Rev'!$A6-35,0)","v":-5.7000000000000002E-3},{"$f":"OFFSET(Female!AY$18,'Female - Rev'!$A6-35,0)","v":-3.8999999999999998E-3},{"$f":"OFFSET(Female!AZ$18,'Female - Rev'!$A6-35,0)","v":-1.6999999999999999E-3},{"$f":"OFFSET(Female!BA$18,'Female - Rev'!$A6-35,0)","v":6.9999999999999999E-4},{"$f":"OFFSET(Female!BB$18,'Female - Rev'!$A6-35,0)","v":3.0999999999999999E-3},{"$f":"OFFSET(Female!BC$18,'Female - Rev'!$A6-35,0)","v":5.3E-3},{"$f":"OFFSET(Female!BD$18,'Female - Rev'!$A6-35,0)","v":7.1999999999999998E-3},{"$f":"OFFSET(Female!BE$18,'Female - Rev'!$A6-35,0)","v":8.5000000000000006E-3},{"$f":"OFFSET(Female!BF$18,'Female - Rev'!$A6-35,0)","v":9.4000000000000004E-3},{"$f":"OFFSET(Female!BG$18,'Female - Rev'!$A6-35,0)","v":9.7000000000000003E-3},{"$f":"OFFSET(Female!BH$18,'Female - Rev'!$A6-35,0)","v":9.4999999999999998E-3},{"$f":"OFFSET(Female!BI$18,'Female - Rev'!$A6-35,0)","v":8.8000000000000005E-3},{"$f":"OFFSET(Female!BJ$18,'Female - Rev'!$A6-35,0)","v":7.9000000000000008E-3},{"$f":"OFFSET(Female!BK$18,'Female - Rev'!$A6-35,0)","v":6.7000000000000002E-3},{"$f":"OFFSET(Female!BL$18,'Female - Rev'!$A6-35,0)","v":5.4000000000000003E-3},{"$f":"OFFSET(Female!BM$18,'Female - Rev'!$A6-35,0)","v":4.1000000000000003E-3},{"$f":"OFFSET(Female!BN$18,'Female - Rev'!$A6-35,0)","v":2.7000000000000001E-3},{"$f":"OFFSET(Female!BO$18,'Female - Rev'!$A6-35,0)","v":1.4E-3},{"$f":"OFFSET(Female!BP$18,'Female - Rev'!$A6-35,0)","v":1.2999999999999999E-3},{"$f":"OFFSET(Female!BQ$18,'Female - Rev'!$A6-35,0)","v":1.4E-3},{"$f":"OFFSET(Female!BR$18,'Female - Rev'!$A6-35,0)","v":1.6000000000000001E-3},{"$f":"OFFSET(Female!BS$18,'Female - Rev'!$A6-35,0)","v":1.9E-3},{"$f":"OFFSET(Female!BT$18,'Female - Rev'!$A6-35,0)","v":2.2000000000000001E-3},{"$f":"OFFSET(Female!BU$18,'Female - Rev'!$A6-35,0)","v":2.5999999999999999E-3},{"$f":"OFFSET(Female!BV$18,'Female - Rev'!$A6-35,0)","v":3.0999999999999999E-3},{"$f":"OFFSET(Female!BW$18,'Female - Rev'!$A6-35,0)","v":3.5000000000000001E-3},{"$f":"OFFSET(Female!BX$18,'Female - Rev'!$A6-35,0)","v":3.8E-3},{"$f":"OFFSET(Female!BY$18,'Female - Rev'!$A6-35,0)","v":4.0000000000000001E-3},{"$f":"OFFSET(Female!BZ$18,'Female - Rev'!$A6-35,0)","v":4.1999999999999997E-3},{"$f":"OFFSET(Female!CA$18,'Female - Rev'!$A6-35,0)","v":4.3E-3},{"$f":"OFFSET(Female!CB$18,'Female - Rev'!$A6-35,0)","v":4.4999999999999997E-3},{"$f":"OFFSET(Female!CC$18,'Female - Rev'!$A6-35,0)","v":4.5999999999999999E-3},{"$f":"OFFSET(Female!CD$18,'Female - Rev'!$A6-35,0)","v":4.7000000000000002E-3},{"$f":"OFFSET(Female!CE$18,'Female - Rev'!$A6-35,0)","v":4.7999999999999996E-3},{"$f":"OFFSET(Female!CF$18,'Female - Rev'!$A6-35,0)","v":4.7999999999999996E-3},{"$f":"OFFSET(Female!CG$18,'Female - Rev'!$A6-35,0)","v":5.0000000000000001E-3},{"$f":"OFFSET(Female!CH$18,'Female - Rev'!$A6-35,0)","v":5.1999999999999998E-3},{"$f":"OFFSET(Female!CI$18,'Female - Rev'!$A6-35,0)","v":5.4000000000000003E-3},{"$f":"CJ6","v":5.4000000000000003E-3},5.4000000000000003E-3]
[91,91,{"$f":"OFFSET(Female!B$18,'Female - Rev'!$A7-35,0)","v":-9.4999999999999998E-3},{"$f":"OFFSET(Female!C$18,'Female - Rev'!$A7-35,0)","v":-8.6999999999999994E-3},{"$f":"OFFSET(Female!D$18,'Female - Rev'!$A7-35,0)","v":-7.7999999999999996E-3},{"$f":"OFFSET(Female!E$18,'Female - Rev'!$A7-35,0)","v":-6.8999999999999999E-3},{"$f":"OFFSET(Female!F$18,'Female - Rev'!$A7-35,0)","v":-6.0000000000000001E-3},{"$f":"OFFSET(Female!G$18,'Female - Rev'!$A7-35,0)","v":-4.8999999999999998E-3},{"$f":"OFFSET(Female!H$18,'Female - Rev'!$A7-35,0)","v":-3.8E-3},{"$f":"OFFSET(Female!I$18,'Female - Rev'!$A7-35,0)","v":-2.3999999999999998E-3},{"$f":"OFFSET(Female!J$18,'Female - Rev'!$A7-35,0)","v":-8.9999999999999998E-4},{"$f":"OFFSET(Female!K$18,'Female - Rev'!$A7-35,0)","v":8.0000000000000004E-4},{"$f":"OFFSET(Female!L$18,'Female - Rev'!$A7-35,0)","v":2.7000000000000001E-3},{"$f":"OFFSET(Female!M$18,'Female - Rev'!$A7-35,0)","v":4.8999999999999998E-3},{"$f":"OFFSET(Female!N$18,'Female - Rev'!$A7-35,0)","v":7.1000000000000004E-3},{"$f":"OFFSET(Female!O$18,'Female - Rev'!$A7-35,0)","v":9.4999999999999998E-3},{"$f":"OFFSET(Female!P$18,'Female - Rev'!$A7-35,0)","v":1.18E-2},{"$f":"OFFSET(Female!Q$18,'Female - Rev'!$A7-35,0)","v":1.4E-2},{"$f":"OFFSET(Female!R$18,'Female - Rev'!$A7-35,0)","v":1.61E-2},{"$f":"OFFSET(Female!S$18,'Female - Rev'!$A7-35,0)","v":1.78E-2},{"$f":"OFFSET(Female!T$18,'Female - Rev'!$A7-35,0)","v":1.9199999999999998E-2},{"$f":"OFFSET(Female!U$18,'Female - Rev'!$A7-35,0)","v":2.0199999999999999E-2},{"$f":"OFFSET(Female!V$18,'Female - Rev'!$A7-35,0)","v":2.0799999999999999E-2},{"$f":"OFFSET(Female!W$18,'Female - Rev'!$A7-35,0)","v":2.1000000000000001E-2},{"$f":"OFFSET(Female!X$18,'Female - Rev'!$A7-35,0)","v":2.0799999999999999E-2},{"$f":"OFFSET(Female!Y$18,'Female - Rev'!$A7-35,0)","v":2.0299999999999999E-2},{"$f":"OFFSET(Female!Z$18,'Female - Rev'!$A7-35,0)","v":1.9400000000000001E-2},{"$f":"OFFSET(Female!AA$18,'Female - Rev'!$A7-35,0)","v":1.83E-2},{"$f":"OFFSET(Female!AB$18,'Female - Rev'!$A7-35,0)","v":1.6899999999999998E-2},{"$f":"OFFSET(Female!AC$18,'Female - Rev'!$A7-35,0)","v":1.54E-2},{"$f":"OFFSET(Female!AD$18,'Female - Rev'!$A7-35,0)","v":1.38E-2},{"$f":"OFFSET(Female!AE$18,'Female - Rev'!$A7-35,0)","v":1.2200000000000001E-2},{"$f":"OFFSET(Female!AF$18,'Female - Rev'!$A7-35,0)","v":1.06E-2},{"$f":"OFFSET(Female!AG$18,'Female - Rev'!$A7-35,0)","v":9.1000000000000004E-3},{"$f":"OFFSET(Female!AH$18,'Female - Rev'!$A7-35,0)","v":7.7999999999999996E-3},{"$f":"OFFSET(Female!AI$18,'Female - Rev'!$A7-35,0)","v":6.6E-3},{"$f":"OFFSET(Female!AJ$18,'Female - Rev'!$A7-35,0)","v":5.4999999999999997E-3},{"$f":"OFFSET(Female!AK$18,'Female - Rev'!$A7-35,0)","v":4.5999999999999999E-3},{"$f":"OFFSET(Female!AL$18,'Female - Rev'!$A7-35,0)","v":3.8E-3},{"$f":"OFFSET(Female!AM$18,'Female - Rev'!$A7-35,0)","v":2.8999999999999998E-3},{"$f":"OFFSET(Female!AN$18,'Female - Rev'!$A7-35,0)","v":1.8E-3},{"$f":"OFFSET(Female!AO$18,'Female - Rev'!$A7-35,0)","v":5.9999999999999995E-4},{"$f":"OFFSET(Female!AP$18,'Female - Rev'!$A7-35,0)","v":-8.9999999999999998E-4},{"$f":"OFFSET(Female!AQ$18,'Female - Rev'!$A7-35,0)","v":-2.5000000000000001E-3},{"$f":"OFFSET(Female!AR$18,'Female - Rev'!$A7-35,0)","v":-4.1999999999999997E-3},{"$f":"OFFSET(Female!AS$18,'Female - Rev'!$A7-35,0)","v":-5.5999999999999999E-3},{"$f":"OFFSET(Female!AT$18,'Female - Rev'!$A7-35,0)","v":-6.7000000000000002E-3},{"$f":"OFFSET(Female!AU$18,'Female - Rev'!$A7-35,0)","v":-7.3000000000000001E-3},{"$f":"OFFSET(Female!AV$18,'Female - Rev'!$A7-35,0)","v":-7.3000000000000001E-3},{"$f":"OFFSET(Female!AW$18,'Female - Rev'!$A7-35,0)","v":-6.7000000000000002E-3},{"$f":"OFFSET(Female!AX$18,'Female - Rev'!$A7-35,0)","v":-5.3E-3},{"$f":"OFFSET(Female!AY$18,'Female - Rev'!$A7-35,0)","v":-3.3999999999999998E-3},{"$f":"OFFSET(Female!AZ$18,'Female - Rev'!$A7-35,0)","v":-1.1000000000000001E-3},{"$f":"OFFSET(Female!BA$18,'Female - Rev'!$A7-35,0)","v":1.5E-3},{"$f":"OFFSET(Female!BB$18,'Female - Rev'!$A7-35,0)","v":4.0000000000000001E-3},{"$f":"OFFSET(Female!BC$18,'Female - Rev'!$A7-35,0)","v":6.3E-3},{"$f":"OFFSET(Female!BD$18,'Female - Rev'!$A7-35,0)","v":8.2000000000000007E-3},{"$f":"OFFSET(Female!BE$18,'Female - Rev'!$A7-35,0)","v":9.4999999999999998E-3},{"$f":"OFFSET(Female!BF$18,'Female - Rev'!$A7-35,0)","v":1.03E-2},{"$f":"OFFSET(Female!BG$18,'Female - Rev'!$A7-35,0)","v":1.0500000000000001E-2},{"$f":"OFFSET(Female!BH$18,'Female - Rev'!$A7-35,0)","v":1.01E-2},{"$f":"OFFSET(Female!BI$18,'Female - Rev'!$A7-35,0)","v":9.2999999999999992E-3},{"$f":"OFFSET(Female!BJ$18,'Female - Rev'!$A7-35,0)","v":8.0999999999999996E-3},{"$f":"OFFSET(Female!BK$18,'Female - Rev'!$A7-35,0)","v":6.7999999999999996E-3},{"$f":"OFFSET(Female!BL$18,'Female - Rev'!$A7-35,0)","v":5.4000000000000003E-3},{"$f":"OFFSET(Female!BM$18,'Female - Rev'!$A7-35,0)","v":4.0000000000000001E-3},{"$f":"OFFSET(Female!BN$18,'Female - Rev'!$A7-35,0)","v":2.5000000000000001E-3},{"$f":"OFFSET(Female!BO$18,'Female - Rev'!$A7-35,0)","v":1.1000000000000001E-3},{"$f":"OFFSET(Female!BP$18,'Female - Rev'!$A7-35,0)","v":1.1000000000000001E-3},{"$f":"OFFSET(Female!BQ$18,'Female - Rev'!$A7-35,0)","v":1.1999999999999999E-3},{"$f":"OFFSET(Female!BR$18,'Female - Rev'!$A7-35,0)","v":1.5E-3},{"$f":"OFFSET(Female!BS$18,'Female - Rev'!$A7-35,0)","v":1.9E-3},{"$f":"OFFSET(Female!BT$18,'Female - Rev'!$A7-35,0)","v":2.3999999999999998E-3},{"$f":"OFFSET(Female!BU$18,'Female - Rev'!$A7-35,0)","v":2.8999999999999998E-3},{"$f":"OFFSET(Female!BV$18,'Female - Rev'!$A7-35,0)","v":3.3999999999999998E-3},{"$f":"OFFSET(Female!BW$18,'Female - Rev'!$A7-35,0)","v":3.8E-3},{"$f":"OFFSET(Female!BX$18,'Female - Rev'!$A7-35,0)","v":4.1999999999999997E-3},{"$f":"OFFSET(Female!BY$18,'Female - Rev'!$A7-35,0)","v":4.4000000000000003E-3},{"$f":"OFFSET(Female!BZ$18,'Female - Rev'!$A7-35,0)","v":4.5999999999999999E-3},{"$f":"OFFSET(Female!CA$18,'Female - Rev'!$A7-35,0)","v":4.7999999999999996E-3},{"$f":"OFFSET(Female!CB$18,'Female - Rev'!$A7-35,0)","v":4.8999999999999998E-3},{"$f":"OFFSET(Female!CC$18,'Female - Rev'!$A7-35,0)","v":5.0000000000000001E-3},{"$f":"OFFSET(Female!CD$18,'Female - Rev'!$A7-35,0)","v":5.1000000000000004E-3},{"$f":"OFFSET(Female!CE$18,'Female - Rev'!$A7-35,0)","v":5.1000000000000004E-3},{"$f":"OFFSET(Female!CF$18,'Female - Rev'!$A7-35,0)","v":5.3E-3},{"$f":"OFFSET(Female!CG$18,'Female - Rev'!$A7-35,0)","v":5.4999999999999997E-3},{"$f":"OFFSET(Female!CH$18,'Female - Rev'!$A7-35,0)","v":5.5999999999999999E-3},{"$f":"OFFSET(Female!CI$18,'Female - Rev'!$A7-35,0)","v":5.8999999999999999E-3},{"$f":"CJ7","v":5.8999999999999999E-3},5.8999999999999999E-3]
[90,90,{"$f":"OFFSET(Female!B$18,'Female - Rev'!$A8-35,0)","v":-7.6E-3},{"$f":"OFFSET(Female!C$18,'Female - Rev'!$A8-35,0)","v":-7.0000000000000001E-3},{"$f":"OFFSET(Female!D$18,'Female - Rev'!$A8-35,0)","v":-6.4999999999999997E-3},{"$f":"OFFSET(Female!E$18,'Female - Rev'!$A8-35,0)","v":-5.7999999999999996E-3},{"$f":"OFFSET(Female!F$18,'Female - Rev'!$A8-35,0)","v":-5.1000000000000004E-3},{"$f":"OFFSET(Female!G$18,'Female - Rev'!$A8-35,0)","v":-4.3E-3},{"$f":"OFFSET(Female!H$18,'Female - Rev'!$A8-35,0)","v":-3.3E-3},{"$f":"OFFSET(Female!I$18,'Female - Rev'!$A8-35,0)","v":-2.2000000000000001E-3},{"$f":"OFFSET(Female!J$18,'Female - Rev'!$A8-35,0)","v":-8.0000000000000004E-4},{"$f":"OFFSET(Female!K$18,'Female - Rev'!$A8-35,0)","v":8.0000000000000004E-4},{"$f":"OFFSET(Female!L$18,'Female - Rev'!$A8-35,0)","v":2.7000000000000001E-3},{"$f":"OFFSET(Female!M$18,'Female - Rev'!$A8-35,0)","v":4.7999999999999996E-3},{"$f":"OFFSET(Female!N$18,'Female - Rev'!$A8-35,0)","v":7.0000000000000001E-3},{"$f":"OFFSET(Female!O$18,'Female - Rev'!$A8-35,0)","v":9.4000000000000004E-3},{"$f":"OFFSET(Female!P$18,'Female - Rev'!$A8-35,0)","v":1.18E-2},{"$f":"OFFSET(Female!Q$18,'Female - Rev'!$A8-35,0)","v":1.4200000000000001E-2},{"$f":"OFFSET(Female!R$18,'Female - Rev'!$A8-35,0)","v":1.6299999999999999E-2},{"$f":"OFFSET(Female!S$18,'Female - Rev'!$A8-35,0)","v":1.8100000000000002E-2},{"$f":"OFFSET(Female!T$18,'Female - Rev'!$A8-35,0)","v":1.9599999999999999E-2},{"$f":"OFFSET(Female!U$18,'Female - Rev'!$A8-35,0)","v":2.07E-2},{"$f":"OFFSET(Female!V$18,'Female - Rev'!$A8-35,0)","v":2.1399999999999999E-2},{"$f":"OFFSET(Female!W$18,'Female - Rev'!$A8-35,0)","v":2.1700000000000001E-2},{"$f":"OFFSET(Female!X$18,'Female - Rev'!$A8-35,0)","v":2.1700000000000001E-2},{"$f":"OFFSET(Female!Y$18,'Female - Rev'!$A8-35,0)","v":2.12E-2},{"$f":"OFFSET(Female!Z$18,'Female - Rev'!$A8-35,0)","v":2.0400000000000001E-2},{"$f":"OFFSET(Female!AA$18,'Female - Rev'!$A8-35,0)","v":1.9300000000000001E-2},{"$f":"OFFSET(Female!AB$18,'Female - Rev'!$A8-35,0)","v":1.7899999999999999E-2},{"$f":"OFFSET(Female!AC$18,'Female - Rev'!$A8-35,0)","v":1.6299999999999999E-2},{"$f":"OFFSET(Female!AD$18,'Female - Rev'!$A8-35,0)","v":1.46E-2},{"$f":"OFFSET(Female!AE$18,'Female - Rev'!$A8-35,0)","v":1.29E-2},{"$f":"OFFSET(Female!AF$18,'Female - Rev'!$A8-35,0)","v":1.1299999999999999E-2},{"$f":"OFFSET(Female!AG$18,'Female - Rev'!$A8-35,0)","v":9.7000000000000003E-3},{"$f":"OFFSET(Female!AH$18,'Female - Rev'!$A8-35,0)","v":8.3000000000000001E-3},{"$f":"OFFSET(Female!AI$18,'Female - Rev'!$A8-35,0)","v":7.1000000000000004E-3},{"$f":"OFFSET(Female!AJ$18,'Female - Rev'!$A8-35,0)","v":6.1000000000000004E-3},{"$f":"OFFSET(Female!AK$18,'Female - Rev'!$A8-35,0)","v":5.3E-3},{"$f":"OFFSET(Female!AL$18,'Female - Rev'!$A8-35,0)","v":4.4999999999999997E-3},{"$f":"OFFSET(Female!AM$18,'Female - Rev'!$A8-35,0)","v":3.7000000000000002E-3},{"$f":"OFFSET(Female!AN$18,'Female - Rev'!$A8-35,0)","v":2.5999999999999999E-3},{"$f":"OFFSET(Female!AO$18,'Female - Rev'!$A8-35,0)","v":1.4E-3},{"$f":"OFFSET(Female!AP$18,'Female - Rev'!$A8-35,0)","v":-2.0000000000000001E-4},{"$f":"OFFSET(Female!AQ$18,'Female - Rev'!$A8-35,0)","v":-1.9E-3},{"$f":"OFFSET(Female!AR$18,'Female - Rev'!$A8-35,0)","v":-3.5999999999999999E-3},{"$f":"OFFSET(Female!AS$18,'Female - Rev'!$A8-35,0)","v":-5.1999999999999998E-3},{"$f":"OFFSET(Female!AT$18,'Female - Rev'!$A8-35,0)","v":-6.3E-3},{"$f":"OFFSET(Female!AU$18,'Female - Rev'!$A8-35,0)","v":-7.0000000000000001E-3},{"$f":"OFFSET(Female!AV$18,'Female - Rev'!$A8-35,0)","v":-7.0000000000000001E-3},{"$f":"OFFSET(Female!AW$18,'Female - Rev'!$A8-35,0)","v":-6.3E-3},{"$f":"OFFSET(Female!AX$18,'Female - Rev'!$A8-35,0)","v":-4.8999999999999998E-3},{"$f":"OFFSET(Female!AY$18,'Female - Rev'!$A8-35,0)","v":-2.8999999999999998E-3},{"$f":"OFFSET(Female!AZ$18,'Female - Rev'!$A8-35,0)","v":-4.0000000000000002E-4},{"$f":"OFFSET(Female!BA$18,'Female - Rev'!$A8-35,0)","v":2.3E-3},{"$f":"OFFSET(Female!BB$18,'Female - Rev'!$A8-35,0)","v":5.0000000000000001E-3},{"$f":"OFFSET(Female!BC$18,'Female - Rev'!$A8-35,0)","v":7.3000000000000001E-3},{"$f":"OFFSET(Female!BD$18,'Female - Rev'!$A8-35,0)","v":9.1999999999999998E-3},{"$f":"OFFSET(Female!BE$18,'Female - Rev'!$A8-35,0)","v":1.0500000000000001E-2},{"$f":"OFFSET(Female!BF$18,'Female - Rev'!$A8-35,0)","v":1.12E-2},{"$f":"OFFSET(Female!BG$18,'Female - Rev'!$A8-35,0)","v":1.12E-2},{"$f":"OFFSET(Female!BH$18,'Female - Rev'!$A8-35,0)","v":1.06E-2},{"$f":"OFFSET(Female!BI$18,'Female - Rev'!$A8-35,0)","v":9.5999999999999992E-3},{"$f":"OFFSET(Female!BJ$18,'Female - Rev'!$A8-35,0)","v":8.3000000000000001E-3},{"$f":"OFFSET(Female!BK$18,'Female - Rev'!$A8-35,0)","v":6.8999999999999999E-3},{"$f":"OFFSET(Female!BL$18,'Female - Rev'!$A8-35,0)","v":5.4000000000000003E-3},{"$f":"OFFSET(Female!BM$18,'Female - Rev'!$A8-35,0)","v":3.8999999999999998E-3},{"$f":"OFFSET(Female!BN$18,'Female - Rev'!$A8-35,0)","v":2.3999999999999998E-3},{"$f":"OFFSET(Female!BO$18,'Female - Rev'!$A8-35,0)","v":8.9999999999999998E-4},{"$f":"OFFSET(Female!BP$18,'Female - Rev'!$A8-35,0)","v":1E-3},{"$f":"OFFSET(Female!BQ$18,'Female - Rev'!$A8-35,0)","v":1.1999999999999999E-3},{"$f":"OFFSET(Female!BR$18,'Female - Rev'!$A8-35,0)","v":1.6000000000000001E-3},{"$f":"OFFSET(Female!BS$18,'Female - Rev'!$A8-35,0)","v":2E-3},{"$f":"OFFSET(Female!BT$18,'Female - Rev'!$A8-35,0)","v":2.5999999999999999E-3},{"$f":"OFFSET(Female!BU$18,'Female - Rev'!$A8-35,0)","v":3.0999999999999999E-3},{"$f":"OFFSET(Female!BV$18,'Female - Rev'!$A8-35,0)","v":3.7000000000000002E-3},{"$f":"OFFSET(Female!BW$18,'Female - Rev'!$A8-35,0)","v":4.1999999999999997E-3},{"$f":"OFFSET(Female!BX$18,'Female - Rev'!$A8-35,0)","v":4.5999999999999999E-3},{"$f":"OFFSET(Female!BY$18,'Female - Rev'!$A8-35,0)","v":4.8999999999999998E-3},{"$f":"OFFSET(Female!BZ$18,'Female - Rev'!$A8-35,0)","v":5.0000000000000001E-3},{"$f":"OFFSET(Female!CA$18,'Female - Rev'!$A8-35,0)","v":5.1999999999999998E-3},{"$f":"OFFSET(Female!CB$18,'Female - Rev'!$A8-35,0)","v":5.3E-3},{"$f":"OFFSET(Female!CC$18,'Female - Rev'!$A8-35,0)","v":5.4000000000000003E-3},{"$f":"OFFSET(Female!CD$18,'Female - Rev'!$A8-35,0)","v":5.4000000000000003E-3},{"$f":"OFFSET(Female!CE$18,'Female - Rev'!$A8-35,0)","v":5.5999999999999999E-3},{"$f":"OFFSET(Female!CF$18,'Female - Rev'!$A8-35,0)","v":5.7999999999999996E-3},{"$f":"OFFSET(Female!CG$18,'Female - Rev'!$A8-35,0)","v":5.8999999999999999E-3},{"$f":"OFFSET(Female!CH$18,'Female - Rev'!$A8-35,0)","v":6.1000000000000004E-3},{"$f":"OFFSET(Female!CI$18,'Female - Rev'!$A8-35,0)","v":6.3E-3},{"$f":"CJ8","v":6.3E-3},6.3E-3]
[89,89,{"$f":"OFFSET(Female!B$18,'Female - Rev'!$A9-35,0)","v":-5.5999999999999999E-3},{"$f":"OFFSET(Female!C$18,'Female - Rev'!$A9-35,0)","v":-5.3E-3},{"$f":"OFFSET(Female!D$18,'Female - Rev'!$A9-35,0)","v":-5.0000000000000001E-3},{"$f":"OFFSET(Female!E$18,'Female - Rev'!$A9-35,0)","v":-4.5999999999999999E-3},{"$f":"OFFSET(Female!F$18,'Female - Rev'!$A9-35,0)","v":-4.1000000000000003E-3},{"$f":"OFFSET(Female!G$18,'Female - Rev'!$A9-35,0)","v":-3.5000000000000001E-3},{"$f":"OFFSET(Female!H$18,'Female - Rev'!$A9-35,0)","v":-2.8E-3},{"$f":"OFFSET(Female!I$18,'Female - Rev'!$A9-35,0)","v":-1.8E-3},{"$f":"OFFSET(Female!J$18,'Female - Rev'!$A9-35,0)","v":-5.0000000000000001E-4},{"$f":"OFFSET(Female!K$18,'Female - Rev'!$A9-35,0)","v":1E-3},{"$f":"OFFSET(Female!L$18,'Female - Rev'!$A9-35,0)","v":2.8E-3},{"$f":"OFFSET(Female!M$18,'Female - Rev'!$A9-35,0)","v":4.7999999999999996E-3},{"$f":"OFFSET(Female!N$18,'Female - Rev'!$A9-35,0)","v":7.1000000000000004E-3},{"$f":"OFFSET(Female!O$18,'Female - Rev'!$A9-35,0)","v":9.4999999999999998E-3},{"$f":"OFFSET(Female!P$18,'Female - Rev'!$A9-35,0)","v":1.1900000000000001E-2},{"$f":"OFFSET(Female!Q$18,'Female - Rev'!$A9-35,0)","v":1.43E-2},{"$f":"OFFSET(Female!R$18,'Female - Rev'!$A9-35,0)","v":1.6400000000000001E-2},{"$f":"OFFSET(Female!S$18,'Female - Rev'!$A9-35,0)","v":1.84E-2},{"$f":"OFFSET(Female!T$18,'Female - Rev'!$A9-35,0)","v":0.02},{"$f":"OFFSET(Female!U$18,'Female - Rev'!$A9-35,0)","v":2.12E-2},{"$f":"OFFSET(Female!V$18,'Female - Rev'!$A9-35,0)","v":2.1999999999999999E-2},{"$f":"OFFSET(Female!W$18,'Female - Rev'!$A9-35,0)","v":2.24E-2},{"$f":"OFFSET(Female!X$18,'Female - Rev'!$A9-35,0)","v":2.24E-2},{"$f":"OFFSET(Female!Y$18,'Female - Rev'!$A9-35,0)","v":2.2100000000000002E-2},{"$f":"OFFSET(Female!Z$18,'Female - Rev'!$A9-35,0)","v":2.1299999999999999E-2},{"$f":"OFFSET(Female!AA$18,'Female - Rev'!$A9-35,0)","v":2.0199999999999999E-2},{"$f":"OFFSET(Female!AB$18,'Female - Rev'!$A9-35,0)","v":1.8800000000000001E-2},{"$f":"OFFSET(Female!AC$18,'Female - Rev'!$A9-35,0)","v":1.72E-2},{"$f":"OFFSET(Female!AD$18,'Female - Rev'!$A9-35,0)","v":1.54E-2},{"$f":"OFFSET(Female!AE$18,'Female - Rev'!$A9-35,0)","v":1.3599999999999999E-2},{"$f":"OFFSET(Female!AF$18,'Female - Rev'!$A9-35,0)","v":1.18E-2},{"$f":"OFFSET(Female!AG$18,'Female - Rev'!$A9-35,0)","v":1.0200000000000001E-2},{"$f":"OFFSET(Female!AH$18,'Female - Rev'!$A9-35,0)","v":8.8000000000000005E-3},{"$f":"OFFSET(Female!AI$18,'Female - Rev'!$A9-35,0)","v":7.6E-3},{"$f":"OFFSET(Female!AJ$18,'Female - Rev'!$A9-35,0)","v":6.6E-3},{"$f":"OFFSET(Female!AK$18,'Female - Rev'!$A9-35,0)","v":5.7999999999999996E-3},{"$f":"OFFSET(Female!AL$18,'Female - Rev'!$A9-35,0)","v":5.1000000000000004E-3},{"$f":"OFFSET(Female!AM$18,'Female - Rev'!$A9-35,0)","v":4.4000000000000003E-3},{"$f":"OFFSET(Female!AN$18,'Female - Rev'!$A9-35,0)","v":3.3999999999999998E-3},{"$f":"OFFSET(Female!AO$18,'Female - Rev'!$A9-35,0)","v":2.0999999999999999E-3},{"$f":"OFFSET(Female!AP$18,'Female - Rev'!$A9-35,0)","v":5.9999999999999995E-4},{"$f":"OFFSET(Female!AQ$18,'Female - Rev'!$A9-35,0)","v":-1.1999999999999999E-3},{"$f":"OFFSET(Female!AR$18,'Female - Rev'!$A9-35,0)","v":-3.0999999999999999E-3},{"$f":"OFFSET(Female!AS$18,'Female - Rev'!$A9-35,0)","v":-4.7000000000000002E-3},{"$f":"OFFSET(Female!AT$18,'Female - Rev'!$A9-35,0)","v":-5.8999999999999999E-3},{"$f":"OFFSET(Female!AU$18,'Female - Rev'!$A9-35,0)","v":-6.6E-3},{"$f":"OFFSET(Female!AV$18,'Female - Rev'!$A9-35,0)","v":-6.6E-3},{"$f":"OFFSET(Female!AW$18,'Female - Rev'!$A9-35,0)","v":-5.8999999999999999E-3},{"$f":"OFFSET(Female!AX$18,'Female - Rev'!$A9-35,0)","v":-4.4999999999999997E-3},{"$f":"OFFSET(Female!AY$18,'Female - Rev'!$A9-35,0)","v":-2.3E-3},{"$f":"OFFSET(Female!AZ$18,'Female - Rev'!$A9-35,0)","v":2.9999999999999997E-4},{"$f":"OFFSET(Female!BA$18,'Female - Rev'!$A9-35,0)","v":3.0999999999999999E-3},{"$f":"OFFSET(Female!BB$18,'Female - Rev'!$A9-35,0)","v":5.8999999999999999E-3},{"$f":"OFFSET(Female!BC$18,'Female - Rev'!$A9-35,0)","v":8.3000000000000001E-3},{"$f":"OFFSET(Female!BD$18,'Female - Rev'!$A9-35,0)","v":1.0200000000000001E-2},{"$f":"OFFSET(Female!BE$18,'Female - Rev'!$A9-35,0)","v":1.14E-2},{"$f":"OFFSET(Female!BF$18,'Female - Rev'!$A9-35,0)","v":1.1900000000000001E-2},{"$f":"OFFSET(Female!BG$18,'Female - Rev'!$A9-35,0)","v":1.18E-2},{"$f":"OFFSET(Female!BH$18,'Female - Rev'!$A9-35,0)","v":1.11E-2},{"$f":"OFFSET(Female!BI$18,'Female - Rev'!$A9-35,0)","v":9.9000000000000008E-3},{"$f":"OFFSET(Female!BJ$18,'Female - Rev'!$A9-35,0)","v":8.5000000000000006E-3},{"$f":"OFFSET(Female!BK$18,'Female - Rev'!$A9-35,0)","v":7.0000000000000001E-3},{"$f":"OFFSET(Female!BL$18,'Female - Rev'!$A9-35,0)","v":5.4000000000000003E-3},{"$f":"OFFSET(Female!BM$18,'Female - Rev'!$A9-35,0)","v":3.8999999999999998E-3},{"$f":"OFFSET(Female!BN$18,'Female - Rev'!$A9-35,0)","v":2.3E-3},{"$f":"OFFSET(Female!BO$18,'Female - Rev'!$A9-35,0)","v":8.9999999999999998E-4},{"$f":"OFFSET(Female!BP$18,'Female - Rev'!$A9-35,0)","v":1E-3},{"$f":"OFFSET(Female!BQ$18,'Female - Rev'!$A9-35,0)","v":1.1999999999999999E-3},{"$f":"OFFSET(Female!BR$18,'Female - Rev'!$A9-35,0)","v":1.6999999999999999E-3},{"$f":"OFFSET(Female!BS$18,'Female - Rev'!$A9-35,0)","v":2.2000000000000001E-3},{"$f":"OFFSET(Female!BT$18,'Female - Rev'!$A9-35,0)","v":2.8E-3},{"$f":"OFFSET(Female!BU$18,'Female - Rev'!$A9-35,0)","v":3.5000000000000001E-3},{"$f":"OFFSET(Female!BV$18,'Female - Rev'!$A9-35,0)","v":4.1000000000000003E-3},{"$f":"OFFSET(Female!BW$18,'Female - Rev'!$A9-35,0)","v":4.5999999999999999E-3},{"$f":"OFFSET(Female!BX$18,'Female - Rev'!$A9-35,0)","v":5.1000000000000004E-3},{"$f":"OFFSET(Female!BY$18,'Female - Rev'!$A9-35,0)","v":5.3E-3},{"$f":"OFFSET(Female!BZ$18,'Female - Rev'!$A9-35,0)","v":5.4999999999999997E-3},{"$f":"OFFSET(Female!CA$18,'Female - Rev'!$A9-35,0)","v":5.5999999999999999E-3},{"$f":"OFFSET(Female!CB$18,'Female - Rev'!$A9-35,0)","v":5.7000000000000002E-3},{"$f":"OFFSET(Female!CC$18,'Female - Rev'!$A9-35,0)","v":5.7999999999999996E-3},{"$f":"OFFSET(Female!CD$18,'Female - Rev'!$A9-35,0)","v":5.8999999999999999E-3},{"$f":"OFFSET(Female!CE$18,'Female - Rev'!$A9-35,0)","v":6.1000000000000004E-3},{"$f":"OFFSET(Female!CF$18,'Female - Rev'!$A9-35,0)","v":6.1999999999999998E-3},{"$f":"OFFSET(Female!CG$18,'Female - Rev'!$A9-35,0)","v":6.4000000000000003E-3},{"$f":"OFFSET(Female!CH$18,'Female - Rev'!$A9-35,0)","v":6.6E-3},{"$f":"OFFSET(Female!CI$18,'Female - Rev'!$A9-35,0)","v":6.7999999999999996E-3},{"$f":"CJ9","v":6.7999999999999996E-3},6.7999999999999996E-3]
[88,88,{"$f":"OFFSET(Female!B$18,'Female - Rev'!$A10-35,0)","v":-3.5000000000000001E-3},{"$f":"OFFSET(Female!C$18,'Female - Rev'!$A10-35,0)","v":-3.5000000000000001E-3},{"$f":"OFFSET(Female!D$18,'Female - Rev'!$A10-35,0)","v":-3.3999999999999998E-3},{"$f":"OFFSET(Female!E$18,'Female - Rev'!$A10-35,0)","v":-3.2000000000000002E-3},{"$f":"OFFSET(Female!F$18,'Female - Rev'!$A10-35,0)","v":-3.0000000000000001E-3},{"$f":"OFFSET(Female!G$18,'Female - Rev'!$A10-35,0)","v":-2.5999999999999999E-3},{"$f":"OFFSET(Female!H$18,'Female - Rev'!$A10-35,0)","v":-2E-3},{"$f":"OFFSET(Female!I$18,'Female - Rev'!$A10-35,0)","v":-1.1999999999999999E-3},{"$f":"OFFSET(Female!J$18,'Female - Rev'!$A10-35,0)","v":0},{"$f":"OFFSET(Female!K$18,'Female - Rev'!$A10-35,0)","v":1.2999999999999999E-3},{"$f":"OFFSET(Female!L$18,'Female - Rev'!$A10-35,0)","v":3.0000000000000001E-3},{"$f":"OFFSET(Female!M$18,'Female - Rev'!$A10-35,0)","v":5.0000000000000001E-3},{"$f":"OFFSET(Female!N$18,'Female - Rev'!$A10-35,0)","v":7.1999999999999998E-3},{"$f":"OFFSET(Female!O$18,'Female - Rev'!$A10-35,0)","v":9.4999999999999998E-3},{"$f":"OFFSET(Female!P$18,'Female - Rev'!$A10-35,0)","v":1.2E-2},{"$f":"OFFSET(Female!Q$18,'Female - Rev'!$A10-35,0)","v":1.43E-2},{"$f":"OFFSET(Female!R$18,'Female - Rev'!$A10-35,0)","v":1.66E-2},{"$f":"OFFSET(Female!S$18,'Female - Rev'!$A10-35,0)","v":1.8499999999999999E-2},{"$f":"OFFSET(Female!T$18,'Female - Rev'!$A10-35,0)","v":2.0199999999999999E-2},{"$f":"OFFSET(Female!U$18,'Female - Rev'!$A10-35,0)","v":2.1499999999999998E-2},{"$f":"OFFSET(Female!V$18,'Female - Rev'!$A10-35,0)","v":2.24E-2},{"$f":"OFFSET(Female!W$18,'Female - Rev'!$A10-35,0)","v":2.29E-2},{"$f":"OFFSET(Female!X$18,'Female - Rev'!$A10-35,0)","v":2.3099999999999999E-2},{"$f":"OFFSET(Female!Y$18,'Female - Rev'!$A10-35,0)","v":2.29E-2},{"$f":"OFFSET(Female!Z$18,'Female - Rev'!$A10-35,0)","v":2.2200000000000001E-2},{"$f":"OFFSET(Female!AA$18,'Female - Rev'!$A10-35,0)","v":2.1100000000000001E-2},{"$f":"OFFSET(Female!AB$18,'Female - Rev'!$A10-35,0)","v":1.9699999999999999E-2},{"$f":"OFFSET(Female!AC$18,'Female - Rev'!$A10-35,0)","v":1.7899999999999999E-2},{"$f":"OFFSET(Female!AD$18,'Female - Rev'!$A10-35,0)","v":1.61E-2},{"$f":"OFFSET(Female!AE$18,'Female - Rev'!$A10-35,0)","v":1.41E-2},{"$f":"OFFSET(Female!AF$18,'Female - Rev'!$A10-35,0)","v":1.23E-2},{"$f":"OFFSET(Female!AG$18,'Female - Rev'!$A10-35,0)","v":1.06E-2},{"$f":"OFFSET(Female!AH$18,'Female - Rev'!$A10-35,0)","v":9.1000000000000004E-3},{"$f":"OFFSET(Female!AI$18,'Female - Rev'!$A10-35,0)","v":7.9000000000000008E-3},{"$f":"OFFSET(Female!AJ$18,'Female - Rev'!$A10-35,0)","v":7.0000000000000001E-3},{"$f":"OFFSET(Female!AK$18,'Female - Rev'!$A10-35,0)","v":6.3E-3},{"$f":"OFFSET(Female!AL$18,'Female - Rev'!$A10-35,0)","v":5.7000000000000002E-3},{"$f":"OFFSET(Female!AM$18,'Female - Rev'!$A10-35,0)","v":5.0000000000000001E-3},{"$f":"OFFSET(Female!AN$18,'Female - Rev'!$A10-35,0)","v":4.1000000000000003E-3},{"$f":"OFFSET(Female!AO$18,'Female - Rev'!$A10-35,0)","v":2.8999999999999998E-3},{"$f":"OFFSET(Female!AP$18,'Female - Rev'!$A10-35,0)","v":1.2999999999999999E-3},{"$f":"OFFSET(Female!AQ$18,'Female - Rev'!$A10-35,0)","v":-5.9999999999999995E-4},{"$f":"OFFSET(Female!AR$18,'Female - Rev'!$A10-35,0)","v":-2.5000000000000001E-3},{"$f":"OFFSET(Female!AS$18,'Female - Rev'!$A10-35,0)","v":-4.1999999999999997E-3},{"$f":"OFFSET(Female!AT$18,'Female - Rev'!$A10-35,0)","v":-5.4999999999999997E-3},{"$f":"OFFSET(Female!AU$18,'Female - Rev'!$A10-35,0)","v":-6.1999999999999998E-3},{"$f":"OFFSET(Female!AV$18,'Female - Rev'!$A10-35,0)","v":-6.1999999999999998E-3},{"$f":"OFFSET(Female!AW$18,'Female - Rev'!$A10-35,0)","v":-5.4999999999999997E-3},{"$f":"OFFSET(Female!AX$18,'Female - Rev'!$A10-35,0)","v":-3.8999999999999998E-3},{"$f":"OFFSET(Female!AY$18,'Female - Rev'!$A10-35,0)","v":-1.6999999999999999E-3},{"$f":"OFFSET(Female!AZ$18,'Female - Rev'!$A10-35,0)","v":1E-3},{"$f":"OFFSET(Female!BA$18,'Female - Rev'!$A10-35,0)","v":3.8999999999999998E-3},{"$f":"OFFSET(Female!BB$18,'Female - Rev'!$A10-35,0)","v":6.7999999999999996E-3},{"$f":"OFFSET(Female!BC$18,'Female - Rev'!$A10-35,0)","v":9.1999999999999998E-3},{"$f":"OFFSET(Female!BD$18,'Female - Rev'!$A10-35,0)","v":1.11E-2},{"$f":"OFFSET(Female!BE$18,'Female - Rev'!$A10-35,0)","v":1.23E-2},{"$f":"OFFSET(Female!BF$18,'Female - Rev'!$A10-35,0)","v":1.2699999999999999E-2},{"$f":"OFFSET(Female!BG$18,'Female - Rev'!$A10-35,0)","v":1.24E-2},{"$f":"OFFSET(Female!BH$18,'Female - Rev'!$A10-35,0)","v":1.15E-2},{"$f":"OFFSET(Female!BI$18,'Female - Rev'!$A10-35,0)","v":1.0200000000000001E-2},{"$f":"OFFSET(Female!BJ$18,'Female - Rev'!$A10-35,0)","v":8.6E-3},{"$f":"OFFSET(Female!BK$18,'Female - Rev'!$A10-35,0)","v":7.0000000000000001E-3},{"$f":"OFFSET(Female!BL$18,'Female - Rev'!$A10-35,0)","v":5.4000000000000003E-3},{"$f":"OFFSET(Female!BM$18,'Female - Rev'!$A10-35,0)","v":3.8E-3},{"$f":"OFFSET(Female!BN$18,'Female - Rev'!$A10-35,0)","v":2.3E-3},{"$f":"OFFSET(Female!BO$18,'Female - Rev'!$A10-35,0)","v":8.9999999999999998E-4},{"$f":"OFFSET(Female!BP$18,'Female - Rev'!$A10-35,0)","v":1E-3},{"$f":"OFFSET(Female!BQ$18,'Female - Rev'!$A10-35,0)","v":1.4E-3},{"$f":"OFFSET(Female!BR$18,'Female - Rev'!$A10-35,0)","v":1.9E-3},{"$f":"OFFSET(Female!BS$18,'Female - Rev'!$A10-35,0)","v":2.5000000000000001E-3},{"$f":"OFFSET(Female!BT$18,'Female - Rev'!$A10-35,0)","v":3.0999999999999999E-3},{"$f":"OFFSET(Female!BU$18,'Female - Rev'!$A10-35,0)","v":3.8E-3},{"$f":"OFFSET(Female!BV$18,'Female - Rev'!$A10-35,0)","v":4.4999999999999997E-3},{"$f":"OFFSET(Female!BW$18,'Female - Rev'!$A10-35,0)","v":5.1000000000000004E-3},{"$f":"OFFSET(Female!BX$18,'Female - Rev'!$A10-35,0)","v":5.4999999999999997E-3},{"$f":"OFFSET(Female!BY$18,'Female - Rev'!$A10-35,0)","v":5.7999999999999996E-3},{"$f":"OFFSET(Female!BZ$18,'Female - Rev'!$A10-35,0)","v":5.8999999999999999E-3},{"$f":"OFFSET(Female!CA$18,'Female - Rev'!$A10-35,0)","v":6.1000000000000004E-3},{"$f":"OFFSET(Female!CB$18,'Female - Rev'!$A10-35,0)","v":6.1000000000000004E-3},{"$f":"OFFSET(Female!CC$18,'Female - Rev'!$A10-35,0)","v":6.3E-3},{"$f":"OFFSET(Female!CD$18,'Female - Rev'!$A10-35,0)","v":6.4000000000000003E-3},{"$f":"OFFSET(Female!CE$18,'Female - Rev'!$A10-35,0)","v":6.4999999999999997E-3},{"$f":"OFFSET(Female!CF$18,'Female - Rev'!$A10-35,0)","v":6.7000000000000002E-3},{"$f":"OFFSET(Female!CG$18,'Female - Rev'!$A10-35,0)","v":6.7999999999999996E-3},{"$f":"OFFSET(Female!CH$18,'Female - Rev'!$A10-35,0)","v":7.0000000000000001E-3},{"$f":"OFFSET(Female!CI$18,'Female - Rev'!$A10-35,0)","v":7.3000000000000001E-3},{"$f":"CJ10","v":7.3000000000000001E-3},7.3000000000000001E-3]
[87,87,{"$f":"OFFSET(Female!B$18,'Female - Rev'!$A11-35,0)","v":-1.4E-3},{"$f":"OFFSET(Female!C$18,'Female - Rev'!$A11-35,0)","v":-1.6000000000000001E-3},{"$f":"OFFSET(Female!D$18,'Female - Rev'!$A11-35,0)","v":-1.6999999999999999E-3},{"$f":"OFFSET(Female!E$18,'Female - Rev'!$A11-35,0)","v":-1.6999999999999999E-3},{"$f":"OFFSET(Female!F$18,'Female - Rev'!$A11-35,0)","v":-1.6999999999999999E-3},{"$f":"OFFSET(Female!G$18,'Female - Rev'!$A11-35,0)","v":-1.5E-3},{"$f":"OFFSET(Female!H$18,'Female - Rev'!$A11-35,0)","v":-1.1000000000000001E-3},{"$f":"OFFSET(Female!I$18,'Female - Rev'!$A11-35,0)","v":-4.0000000000000002E-4},{"$f":"OFFSET(Female!J$18,'Female - Rev'!$A11-35,0)","v":5.9999999999999995E-4},{"$f":"OFFSET(Female!K$18,'Female - Rev'!$A11-35,0)","v":1.9E-3},{"$f":"OFFSET(Female!L$18,'Female - Rev'!$A11-35,0)","v":3.3999999999999998E-3},{"$f":"OFFSET(Female!M$18,'Female - Rev'!$A11-35,0)","v":5.3E-3},{"$f":"OFFSET(Female!N$18,'Female - Rev'!$A11-35,0)","v":7.4000000000000003E-3},{"$f":"OFFSET(Female!O$18,'Female - Rev'!$A11-35,0)","v":9.7000000000000003E-3},{"$f":"OFFSET(Female!P$18,'Female - Rev'!$A11-35,0)","v":1.21E-2},{"$f":"OFFSET(Female!Q$18,'Female - Rev'!$A11-35,0)","v":1.44E-2},{"$f":"OFFSET(Female!R$18,'Female - Rev'!$A11-35,0)","v":1.66E-2},{"$f":"OFFSET(Female!S$18,'Female - Rev'!$A11-35,0)","v":1.8599999999999998E-2},{"$f":"OFFSET(Female!T$18,'Female - Rev'!$A11-35,0)","v":2.0299999999999999E-2},{"$f":"OFFSET(Female!U$18,'Female - Rev'!$A11-35,0)","v":2.1700000000000001E-2},{"$f":"OFFSET(Female!V$18,'Female - Rev'!$A11-35,0)","v":2.2700000000000001E-2},{"$f":"OFFSET(Female!W$18,'Female - Rev'!$A11-35,0)","v":2.3400000000000001E-2},{"$f":"OFFSET(Female!X$18,'Female - Rev'!$A11-35,0)","v":2.3699999999999999E-2},{"$f":"OFFSET(Female!Y$18,'Female - Rev'!$A11-35,0)","v":2.3599999999999999E-2},{"$f":"OFFSET(Female!Z$18,'Female - Rev'!$A11-35,0)","v":2.3E-2},{"$f":"OFFSET(Female!AA$18,'Female - Rev'!$A11-35,0)","v":2.1899999999999999E-2},{"$f":"OFFSET(Female!AB$18,'Female - Rev'!$A11-35,0)","v":2.0400000000000001E-2},{"$f":"OFFSET(Female!AC$18,'Female - Rev'!$A11-35,0)","v":1.8599999999999998E-2},{"$f":"OFFSET(Female!AD$18,'Female - Rev'!$A11-35,0)","v":1.66E-2},{"$f":"OFFSET(Female!AE$18,'Female - Rev'!$A11-35,0)","v":1.46E-2},{"$f":"OFFSET(Female!AF$18,'Female - Rev'!$A11-35,0)","v":1.26E-2},{"$f":"OFFSET(Female!AG$18,'Female - Rev'!$A11-35,0)","v":1.09E-2},{"$f":"OFFSET(Female!AH$18,'Female - Rev'!$A11-35,0)","v":9.2999999999999992E-3},{"$f":"OFFSET(Female!AI$18,'Female - Rev'!$A11-35,0)","v":8.0999999999999996E-3},{"$f":"OFFSET(Female!AJ$18,'Female - Rev'!$A11-35,0)","v":7.3000000000000001E-3},{"$f":"OFFSET(Female!AK$18,'Female - Rev'!$A11-35,0)","v":6.6E-3},{"$f":"OFFSET(Female!AL$18,'Female - Rev'!$A11-35,0)","v":6.1000000000000004E-3},{"$f":"OFFSET(Female!AM$18,'Female - Rev'!$A11-35,0)","v":5.4999999999999997E-3},{"$f":"OFFSET(Female!AN$18,'Female - Rev'!$A11-35,0)","v":4.7000000000000002E-3},{"$f":"OFFSET(Female!AO$18,'Female - Rev'!$A11-35,0)","v":3.5000000000000001E-3},{"$f":"OFFSET(Female!AP$18,'Female - Rev'!$A11-35,0)","v":1.9E-3},{"$f":"OFFSET(Female!AQ$18,'Female - Rev'!$A11-35,0)","v":1E-4},{"$f":"OFFSET(Female!AR$18,'Female - Rev'!$A11-35,0)","v":-1.9E-3},{"$f":"OFFSET(Female!AS$18,'Female - Rev'!$A11-35,0)","v":-3.5999999999999999E-3},{"$f":"OFFSET(Female!AT$18,'Female - Rev'!$A11-35,0)","v":-4.8999999999999998E-3},{"$f":"OFFSET(Female!AU$18,'Female - Rev'!$A11-35,0)","v":-5.7000000000000002E-3},{"$f":"OFFSET(Female!AV$18,'Female - Rev'!$A11-35,0)","v":-5.7000000000000002E-3},{"$f":"OFFSET(Female!AW$18,'Female - Rev'!$A11-35,0)","v":-4.8999999999999998E-3},{"$f":"OFFSET(Female!AX$18,'Female - Rev'!$A11-35,0)","v":-3.3E-3},{"$f":"OFFSET(Female!AY$18,'Female - Rev'!$A11-35,0)","v":-1E-3},{"$f":"OFFSET(Female!AZ$18,'Female - Rev'!$A11-35,0)","v":1.8E-3},{"$f":"OFFSET(Female!BA$18,'Female - Rev'!$A11-35,0)","v":4.7999999999999996E-3},{"$f":"OFFSET(Female!BB$18,'Female - Rev'!$A11-35,0)","v":7.7000000000000002E-3},{"$f":"OFFSET(Female!BC$18,'Female - Rev'!$A11-35,0)","v":1.01E-2},{"$f":"OFFSET(Female!BD$18,'Female - Rev'!$A11-35,0)","v":1.2E-2},{"$f":"OFFSET(Female!BE$18,'Female - Rev'!$A11-35,0)","v":1.2999999999999999E-2},{"$f":"OFFSET(Female!BF$18,'Female - Rev'!$A11-35,0)","v":1.3299999999999999E-2},{"$f":"OFFSET(Female!BG$18,'Female - Rev'!$A11-35,0)","v":1.29E-2},{"$f":"OFFSET(Female!BH$18,'Female - Rev'!$A11-35,0)","v":1.18E-2},{"$f":"OFFSET(Female!BI$18,'Female - Rev'!$A11-35,0)","v":1.04E-2},{"$f":"OFFSET(Female!BJ$18,'Female - Rev'!$A11-35,0)","v":8.6999999999999994E-3},{"$f":"OFFSET(Female!BK$18,'Female - Rev'!$A11-35,0)","v":7.0000000000000001E-3},{"$f":"OFFSET(Female!BL$18,'Female - Rev'!$A11-35,0)","v":5.4000000000000003E-3},{"$f":"OFFSET(Female!BM$18,'Female - Rev'!$A11-35,0)","v":3.8E-3},{"$f":"OFFSET(Female!BN$18,'Female - Rev'!$A11-35,0)","v":2.3999999999999998E-3},{"$f":"OFFSET(Female!BO$18,'Female - Rev'!$A11-35,0)","v":1E-3},{"$f":"OFFSET(Female!BP$18,'Female - Rev'!$A11-35,0)","v":1.1999999999999999E-3},{"$f":"OFFSET(Female!BQ$18,'Female - Rev'!$A11-35,0)","v":1.6000000000000001E-3},{"$f":"OFFSET(Female!BR$18,'Female - Rev'!$A11-35,0)","v":2.0999999999999999E-3},{"$f":"OFFSET(Female!BS$18,'Female - Rev'!$A11-35,0)","v":2.8E-3},{"$f":"OFFSET(Female!BT$18,'Female - Rev'!$A11-35,0)","v":3.5000000000000001E-3},{"$f":"OFFSET(Female!BU$18,'Female - Rev'!$A11-35,0)","v":4.1999999999999997E-3},{"$f":"OFFSET(Female!BV$18,'Female - Rev'!$A11-35,0)","v":4.8999999999999998E-3},{"$f":"OFFSET(Female!BW$18,'Female - Rev'!$A11-35,0)","v":5.4999999999999997E-3},{"$f":"OFFSET(Female!BX$18,'Female - Rev'!$A11-35,0)","v":6.0000000000000001E-3},{"$f":"OFFSET(Female!BY$18,'Female - Rev'!$A11-35,0)","v":6.3E-3},{"$f":"OFFSET(Female!BZ$18,'Female - Rev'!$A11-35,0)","v":6.4000000000000003E-3},{"$f":"OFFSET(Female!CA$18,'Female - Rev'!$A11-35,0)","v":6.4999999999999997E-3},{"$f":"OFFSET(Female!CB$18,'Female - Rev'!$A11-35,0)","v":6.6E-3},{"$f":"OFFSET(Female!CC$18,'Female - Rev'!$A11-35,0)","v":6.7999999999999996E-3},{"$f":"OFFSET(Female!CD$18,'Female - Rev'!$A11-35,0)","v":6.8999999999999999E-3},{"$f":"OFFSET(Female!CE$18,'Female - Rev'!$A11-35,0)","v":7.0000000000000001E-3},{"$f":"OFFSET(Female!CF$18,'Female - Rev'!$A11-35,0)","v":7.1000000000000004E-3},{"$f":"OFFSET(Female!CG$18,'Female - Rev'!$A11-35,0)","v":7.3000000000000001E-3},{"$f":"OFFSET(Female!CH$18,'Female - Rev'!$A11-35,0)","v":7.4999999999999997E-3},{"$f":"OFFSET(Female!CI$18,'Female - Rev'!$A11-35,0)","v":7.7000000000000002E-3},{"$f":"CJ11","v":7.7000000000000002E-3},7.7000000000000002E-3]
[86,86,{"$f":"OFFSET(Female!B$18,'Female - Rev'!$A12-35,0)","v":6.9999999999999999E-4},{"$f":"OFFSET(Female!C$18,'Female - Rev'!$A12-35,0)","v":4.0000000000000002E-4},{"$f":"OFFSET(Female!D$18,'Female - Rev'!$A12-35,0)","v":1E-4},{"$f":"OFFSET(Female!E$18,'Female - Rev'!$A12-35,0)","v":-2.0000000000000001E-4},{"$f":"OFFSET(Female!F$18,'Female - Rev'!$A12-35,0)","v":-2.9999999999999997E-4},{"$f":"OFFSET(Female!G$18,'Female - Rev'!$A12-35,0)","v":-2.9999999999999997E-4},{"$f":"OFFSET(Female!H$18,'Female - Rev'!$A12-35,0)","v":-1E-4},{"$f":"OFFSET(Female!I$18,'Female - Rev'!$A12-35,0)","v":5.0000000000000001E-4},{"$f":"OFFSET(Female!J$18,'Female - Rev'!$A12-35,0)","v":1.2999999999999999E-3},{"$f":"OFFSET(Female!K$18,'Female - Rev'!$A12-35,0)","v":2.5000000000000001E-3},{"$f":"OFFSET(Female!L$18,'Female - Rev'!$A12-35,0)","v":4.0000000000000001E-3},{"$f":"OFFSET(Female!M$18,'Female - Rev'!$A12-35,0)","v":5.7000000000000002E-3},{"$f":"OFFSET(Female!N$18,'Female - Rev'!$A12-35,0)","v":7.7000000000000002E-3},{"$f":"OFFSET(Female!O$18,'Female - Rev'!$A12-35,0)","v":9.9000000000000008E-3},{"$f":"OFFSET(Female!P$18,'Female - Rev'!$A12-35,0)","v":1.2200000000000001E-2},{"$f":"OFFSET(Female!Q$18,'Female - Rev'!$A12-35,0)","v":1.44E-2},{"$f":"OFFSET(Female!R$18,'Female - Rev'!$A12-35,0)","v":1.66E-2},{"$f":"OFFSET(Female!S$18,'Female - Rev'!$A12-35,0)","v":1.8599999999999998E-2},{"$f":"OFFSET(Female!T$18,'Female - Rev'!$A12-35,0)","v":2.0299999999999999E-2},{"$f":"OFFSET(Female!U$18,'Female - Rev'!$A12-35,0)","v":2.18E-2},{"$f":"OFFSET(Female!V$18,'Female - Rev'!$A12-35,0)","v":2.3E-2},{"$f":"OFFSET(Female!W$18,'Female - Rev'!$A12-35,0)","v":2.3800000000000002E-2},{"$f":"OFFSET(Female!X$18,'Female - Rev'!$A12-35,0)","v":2.4299999999999999E-2},{"$f":"OFFSET(Female!Y$18,'Female - Rev'!$A12-35,0)","v":2.4299999999999999E-2},{"$f":"OFFSET(Female!Z$18,'Female - Rev'!$A12-35,0)","v":2.3699999999999999E-2},{"$f":"OFFSET(Female!AA$18,'Female - Rev'!$A12-35,0)","v":2.2700000000000001E-2},{"$f":"OFFSET(Female!AB$18,'Female - Rev'!$A12-35,0)","v":2.12E-2},{"$f":"OFFSET(Female!AC$18,'Female - Rev'!$A12-35,0)","v":1.9300000000000001E-2},{"$f":"OFFSET(Female!AD$18,'Female - Rev'!$A12-35,0)","v":1.7100000000000001E-2},{"$f":"OFFSET(Female!AE$18,'Female - Rev'!$A12-35,0)","v":1.4999999999999999E-2},{"$f":"OFFSET(Female!AF$18,'Female - Rev'!$A12-35,0)","v":1.29E-2},{"$f":"OFFSET(Female!AG$18,'Female - Rev'!$A12-35,0)","v":1.0999999999999999E-2},{"$f":"OFFSET(Female!AH$18,'Female - Rev'!$A12-35,0)","v":9.4000000000000004E-3},{"$f":"OFFSET(Female!AI$18,'Female - Rev'!$A12-35,0)","v":8.2000000000000007E-3},{"$f":"OFFSET(Female!AJ$18,'Female - Rev'!$A12-35,0)","v":7.4000000000000003E-3},{"$f":"OFFSET(Female!AK$18,'Female - Rev'!$A12-35,0)","v":6.7999999999999996E-3},{"$f":"OFFSET(Female!AL$18,'Female - Rev'!$A12-35,0)","v":6.4000000000000003E-3},{"$f":"OFFSET(Female!AM$18,'Female - Rev'!$A12-35,0)","v":6.0000000000000001E-3},{"$f":"OFFSET(Female!AN$18,'Female - Rev'!$A12-35,0)","v":5.1999999999999998E-3},{"$f":"OFFSET(Female!AO$18,'Female - Rev'!$A12-35,0)","v":4.1000000000000003E-3},{"$f":"OFFSET(Female!AP$18,'Female - Rev'!$A12-35,0)","v":2.5999999999999999E-3},{"$f":"OFFSET(Female!AQ$18,'Female - Rev'!$A12-35,0)","v":6.9999999999999999E-4},{"$f":"OFFSET(Female!AR$18,'Female - Rev'!$A12-35,0)","v":-1.1999999999999999E-3},{"$f":"OFFSET(Female!AS$18,'Female - Rev'!$A12-35,0)","v":-3.0000000000000001E-3},{"$f":"OFFSET(Female!AT$18,'Female - Rev'!$A12-35,0)","v":-4.4000000000000003E-3},{"$f":"OFFSET(Female!AU$18,'Female - Rev'!$A12-35,0)","v":-5.1000000000000004E-3},{"$f":"OFFSET(Female!AV$18,'Female - Rev'!$A12-35,0)","v":-5.1999999999999998E-3},{"$f":"OFFSET(Female!AW$18,'Female - Rev'!$A12-35,0)","v":-4.4000000000000003E-3},{"$f":"OFFSET(Female!AX$18,'Female - Rev'!$A12-35,0)","v":-2.7000000000000001E-3},{"$f":"OFFSET(Female!AY$18,'Female - Rev'!$A12-35,0)","v":-4.0000000000000002E-4},{"$f":"OFFSET(Female!AZ$18,'Female - Rev'!$A12-35,0)","v":2.5000000000000001E-3},{"$f":"OFFSET(Female!BA$18,'Female - Rev'!$A12-35,0)","v":5.5999999999999999E-3},{"$f":"OFFSET(Female!BB$18,'Female - Rev'!$A12-35,0)","v":8.5000000000000006E-3},{"$f":"OFFSET(Female!BC$18,'Female - Rev'!$A12-35,0)","v":1.0999999999999999E-2},{"$f":"OFFSET(Female!BD$18,'Female - Rev'!$A12-35,0)","v":1.2800000000000001E-2},{"$f":"OFFSET(Female!BE$18,'Female - Rev'!$A12-35,0)","v":1.37E-2},{"$f":"OFFSET(Female!BF$18,'Female - Rev'!$A12-35,0)","v":1.3899999999999999E-2},{"$f":"OFFSET(Female!BG$18,'Female - Rev'!$A12-35,0)","v":1.3299999999999999E-2},{"$f":"OFFSET(Female!BH$18,'Female - Rev'!$A12-35,0)","v":1.21E-2},{"$f":"OFFSET(Female!BI$18,'Female - Rev'!$A12-35,0)","v":1.0500000000000001E-2},{"$f":"OFFSET(Female!BJ$18,'Female - Rev'!$A12-35,0)","v":8.8000000000000005E-3},{"$f":"OFFSET(Female!BK$18,'Female - Rev'!$A12-35,0)","v":7.0000000000000001E-3},{"$f":"OFFSET(Female!BL$18,'Female - Rev'!$A12-35,0)","v":5.3E-3},{"$f":"OFFSET(Female!BM$18,'Female - Rev'!$A12-35,0)","v":3.8E-3},{"$f":"OFFSET(Female!BN$18,'Female - Rev'!$A12-35,0)","v":2.5000000000000001E-3},{"$f":"OFFSET(Female!BO$18,'Female - Rev'!$A12-35,0)","v":1.1999999999999999E-3},{"$f":"OFFSET(Female!BP$18,'Female - Rev'!$A12-35,0)","v":1.4E-3},{"$f":"OFFSET(Female!BQ$18,'Female - Rev'!$A12-35,0)","v":1.8E-3},{"$f":"OFFSET(Female!BR$18,'Female - Rev'!$A12-35,0)","v":2.3999999999999998E-3},{"$f":"OFFSET(Female!BS$18,'Female - Rev'!$A12-35,0)","v":3.0999999999999999E-3},{"$f":"OFFSET(Female!BT$18,'Female - Rev'!$A12-35,0)","v":3.8999999999999998E-3},{"$f":"OFFSET(Female!BU$18,'Female - Rev'!$A12-35,0)","v":4.7000000000000002E-3},{"$f":"OFFSET(Female!BV$18,'Female - Rev'!$A12-35,0)","v":5.4000000000000003E-3},{"$f":"OFFSET(Female!BW$18,'Female - Rev'!$A12-35,0)","v":6.0000000000000001E-3},{"$f":"OFFSET(Female!BX$18,'Female - Rev'!$A12-35,0)","v":6.4999999999999997E-3},{"$f":"OFFSET(Female!BY$18,'Female - Rev'!$A12-35,0)","v":6.7999999999999996E-3},{"$f":"OFFSET(Female!BZ$18,'Female - Rev'!$A12-35,0)","v":6.8999999999999999E-3},{"$f":"OFFSET(Female!CA$18,'Female - Rev'!$A12-35,0)","v":7.0000000000000001E-3},{"$f":"OFFSET(Female!CB$18,'Female - Rev'!$A12-35,0)","v":7.1000000000000004E-3},{"$f":"OFFSET(Female!CC$18,'Female - Rev'!$A12-35,0)","v":7.1999999999999998E-3},{"$f":"OFFSET(Female!CD$18,'Female - Rev'!$A12-35,0)","v":7.3000000000000001E-3},{"$f":"OFFSET(Female!CE$18,'Female - Rev'!$A12-35,0)","v":7.4000000000000003E-3},{"$f":"OFFSET(Female!CF$18,'Female - Rev'!$A12-35,0)","v":7.6E-3},{"$f":"OFFSET(Female!CG$18,'Female - Rev'!$A12-35,0)","v":7.7000000000000002E-3},{"$f":"OFFSET(Female!CH$18,'Female - Rev'!$A12-35,0)","v":8.0000000000000002E-3},{"$f":"OFFSET(Female!CI$18,'Female - Rev'!$A12-35,0)","v":8.2000000000000007E-3},{"$f":"CJ12","v":8.2000000000000007E-3},8.2000000000000007E-3]
[85,85,{"$f":"OFFSET(Female!B$18,'Female - Rev'!$A13-35,0)","v":2.8999999999999998E-3},{"$f":"OFFSET(Female!C$18,'Female - Rev'!$A13-35,0)","v":2.3999999999999998E-3},{"$f":"OFFSET(Female!D$18,'Female - Rev'!$A13-35,0)","v":2E-3},{"$f":"OFFSET(Female!E$18,'Female - Rev'!$A13-35,0)","v":1.5E-3},{"$f":"OFFSET(Female!F$18,'Female - Rev'!$A13-35,0)","v":1.1999999999999999E-3},{"$f":"OFFSET(Female!G$18,'Female - Rev'!$A13-35,0)","v":1E-3},{"$f":"OFFSET(Female!H$18,'Female - Rev'!$A13-35,0)","v":1.1000000000000001E-3},{"$f":"OFFSET(Female!I$18,'Female - Rev'!$A13-35,0)","v":1.5E-3},{"$f":"OFFSET(Female!J$18,'Female - Rev'!$A13-35,0)","v":2.2000000000000001E-3},{"$f":"OFFSET(Female!K$18,'Female - Rev'!$A13-35,0)","v":3.3E-3},{"$f":"OFFSET(Female!L$18,'Female - Rev'!$A13-35,0)","v":4.5999999999999999E-3},{"$f":"OFFSET(Female!M$18,'Female - Rev'!$A13-35,0)","v":6.3E-3},{"$f":"OFFSET(Female!N$18,'Female - Rev'!$A13-35,0)","v":8.0999999999999996E-3},{"$f":"OFFSET(Female!O$18,'Female - Rev'!$A13-35,0)","v":1.0200000000000001E-2},{"$f":"OFFSET(Female!P$18,'Female - Rev'!$A13-35,0)","v":1.23E-2},{"$f":"OFFSET(Female!Q$18,'Female - Rev'!$A13-35,0)","v":1.44E-2},{"$f":"OFFSET(Female!R$18,'Female - Rev'!$A13-35,0)","v":1.6500000000000001E-2},{"$f":"OFFSET(Female!S$18,'Female - Rev'!$A13-35,0)","v":1.8499999999999999E-2},{"$f":"OFFSET(Female!T$18,'Female - Rev'!$A13-35,0)","v":2.0299999999999999E-2},{"$f":"OFFSET(Female!U$18,'Female - Rev'!$A13-35,0)","v":2.18E-2},{"$f":"OFFSET(Female!V$18,'Female - Rev'!$A13-35,0)","v":2.3099999999999999E-2},{"$f":"OFFSET(Female!W$18,'Female - Rev'!$A13-35,0)","v":2.41E-2},{"$f":"OFFSET(Female!X$18,'Female - Rev'!$A13-35,0)","v":2.47E-2},{"$f":"OFFSET(Female!Y$18,'Female - Rev'!$A13-35,0)","v":2.4799999999999999E-2},{"$f":"OFFSET(Female!Z$18,'Female - Rev'!$A13-35,0)","v":2.4400000000000002E-2},{"$f":"OFFSET(Female!AA$18,'Female - Rev'!$A13-35,0)","v":2.3400000000000001E-2},{"$f":"OFFSET(Female!AB$18,'Female - Rev'!$A13-35,0)","v":2.18E-2},{"$f":"OFFSET(Female!AC$18,'Female - Rev'!$A13-35,0)","v":1.9800000000000002E-2},{"$f":"OFFSET(Female!AD$18,'Female - Rev'!$A13-35,0)","v":1.7500000000000002E-2},{"$f":"OFFSET(Female!AE$18,'Female - Rev'!$A13-35,0)","v":1.52E-2},{"$f":"OFFSET(Female!AF$18,'Female - Rev'!$A13-35,0)","v":1.2999999999999999E-2},{"$f":"OFFSET(Female!AG$18,'Female - Rev'!$A13-35,0)","v":1.11E-2},{"$f":"OFFSET(Female!AH$18,'Female - Rev'!$A13-35,0)","v":9.4000000000000004E-3},{"$f":"OFFSET(Female!AI$18,'Female - Rev'!$A13-35,0)","v":8.2000000000000007E-3},{"$f":"OFFSET(Female!AJ$18,'Female - Rev'!$A13-35,0)","v":7.4000000000000003E-3},{"$f":"OFFSET(Female!AK$18,'Female - Rev'!$A13-35,0)","v":7.0000000000000001E-3},{"$f":"OFFSET(Female!AL$18,'Female - Rev'!$A13-35,0)","v":6.7000000000000002E-3},{"$f":"OFFSET(Female!AM$18,'Female - Rev'!$A13-35,0)","v":6.3E-3},{"$f":"OFFSET(Female!AN$18,'Female - Rev'!$A13-35,0)","v":5.7000000000000002E-3},{"$f":"OFFSET(Female!AO$18,'Female - Rev'!$A13-35,0)","v":4.7000000000000002E-3},{"$f":"OFFSET(Female!AP$18,'Female - Rev'!$A13-35,0)","v":3.2000000000000002E-3},{"$f":"OFFSET(Female!AQ$18,'Female - Rev'!$A13-35,0)","v":1.2999999999999999E-3},{"$f":"OFFSET(Female!AR$18,'Female - Rev'!$A13-35,0)","v":-5.9999999999999995E-4},{"$f":"OFFSET(Female!AS$18,'Female - Rev'!$A13-35,0)","v":-2.3999999999999998E-3},{"$f":"OFFSET(Female!AT$18,'Female - Rev'!$A13-35,0)","v":-3.8E-3},{"$f":"OFFSET(Female!AU$18,'Female - Rev'!$A13-35,0)","v":-4.4999999999999997E-3},{"$f":"OFFSET(Female!AV$18,'Female - Rev'!$A13-35,0)","v":-4.5999999999999999E-3},{"$f":"OFFSET(Female!AW$18,'Female - Rev'!$A13-35,0)","v":-3.8E-3},{"$f":"OFFSET(Female!AX$18,'Female - Rev'!$A13-35,0)","v":-2.0999999999999999E-3},{"$f":"OFFSET(Female!AY$18,'Female - Rev'!$A13-35,0)","v":2.9999999999999997E-4},{"$f":"OFFSET(Female!AZ$18,'Female - Rev'!$A13-35,0)","v":3.2000000000000002E-3},{"$f":"OFFSET(Female!BA$18,'Female - Rev'!$A13-35,0)","v":6.3E-3},{"$f":"OFFSET(Female!BB$18,'Female - Rev'!$A13-35,0)","v":9.2999999999999992E-3},{"$f":"OFFSET(Female!BC$18,'Female - Rev'!$A13-35,0)","v":1.17E-2},{"$f":"OFFSET(Female!BD$18,'Female - Rev'!$A13-35,0)","v":1.35E-2},{"$f":"OFFSET(Female!BE$18,'Female - Rev'!$A13-35,0)","v":1.44E-2},{"$f":"OFFSET(Female!BF$18,'Female - Rev'!$A13-35,0)","v":1.44E-2},{"$f":"OFFSET(Female!BG$18,'Female - Rev'!$A13-35,0)","v":1.37E-2},{"$f":"OFFSET(Female!BH$18,'Female - Rev'!$A13-35,0)","v":1.24E-2},{"$f":"OFFSET(Female!BI$18,'Female - Rev'!$A13-35,0)","v":1.0699999999999999E-2},{"$f":"OFFSET(Female!BJ$18,'Female - Rev'!$A13-35,0)","v":8.8000000000000005E-3},{"$f":"OFFSET(Female!BK$18,'Female - Rev'!$A13-35,0)","v":7.0000000000000001E-3},{"$f":"OFFSET(Female!BL$18,'Female - Rev'!$A13-35,0)","v":5.4000000000000003E-3},{"$f":"OFFSET(Female!BM$18,'Female - Rev'!$A13-35,0)","v":3.8999999999999998E-3},{"$f":"OFFSET(Female!BN$18,'Female - Rev'!$A13-35,0)","v":2.5999999999999999E-3},{"$f":"OFFSET(Female!BO$18,'Female - Rev'!$A13-35,0)","v":1.4E-3},{"$f":"OFFSET(Female!BP$18,'Female - Rev'!$A13-35,0)","v":1.6999999999999999E-3},{"$f":"OFFSET(Female!BQ$18,'Female - Rev'!$A13-35,0)","v":2.2000000000000001E-3},{"$f":"OFFSET(Female!BR$18,'Female - Rev'!$A13-35,0)","v":2.8E-3},{"$f":"OFFSET(Female!BS$18,'Female - Rev'!$A13-35,0)","v":3.5999999999999999E-3},{"$f":"OFFSET(Female!BT$18,'Female - Rev'!$A13-35,0)","v":4.4000000000000003E-3},{"$f":"OFFSET(Female!BU$18,'Female - Rev'!$A13-35,0)","v":5.1999999999999998E-3},{"$f":"OFFSET(Female!BV$18,'Female - Rev'!$A13-35,0)","v":5.8999999999999999E-3},{"$f":"OFFSET(Female!BW$18,'Female - Rev'!$A13-35,0)","v":6.4999999999999997E-3},{"$f":"OFFSET(Female!BX$18,'Female - Rev'!$A13-35,0)","v":7.0000000000000001E-3},{"$f":"OFFSET(Female!BY$18,'Female - Rev'!$A13-35,0)","v":7.1999999999999998E-3},{"$f":"OFFSET(Female!BZ$18,'Female - Rev'!$A13-35,0)","v":7.4000000000000003E-3},{"$f":"OFFSET(Female!CA$18,'Female - Rev'!$A13-35,0)","v":7.4999999999999997E-3},{"$f":"OFFSET(Female!CB$18,'Female - Rev'!$A13-35,0)","v":7.6E-3},{"$f":"OFFSET(Female!CC$18,'Female - Rev'!$A13-35,0)","v":7.7000000000000002E-3},{"$f":"OFFSET(Female!CD$18,'Female - Rev'!$A13-35,0)","v":7.7000000000000002E-3},{"$f":"OFFSET(Female!CE$18,'Female - Rev'!$A13-35,0)","v":7.7999999999999996E-3},{"$f":"OFFSET(Female!CF$18,'Female - Rev'!$A13-35,0)","v":8.0000000000000002E-3},{"$f":"OFFSET(Female!CG$18,'Female - Rev'!$A13-35,0)","v":8.2000000000000007E-3},{"$f":"OFFSET(Female!CH$18,'Female - Rev'!$A13-35,0)","v":8.3999999999999995E-3},{"$f":"OFFSET(Female!CI$18,'Female - Rev'!$A13-35,0)","v":8.6999999999999994E-3},{"$f":"CJ13","v":8.6999999999999994E-3},8.6999999999999994E-3]
[84,84,{"$f":"OFFSET(Female!B$18,'Female - Rev'!$A14-35,0)","v":5.1000000000000004E-3},{"$f":"OFFSET(Female!C$18,'Female - Rev'!$A14-35,0)","v":4.4999999999999997E-3},{"$f":"OFFSET(Female!D$18,'Female - Rev'!$A14-35,0)","v":3.8E-3},{"$f":"OFFSET(Female!E$18,'Female - Rev'!$A14-35,0)","v":3.3E-3},{"$f":"OFFSET(Female!F$18,'Female - Rev'!$A14-35,0)","v":2.8E-3},{"$f":"OFFSET(Female!G$18,'Female - Rev'!$A14-35,0)","v":2.5000000000000001E-3},{"$f":"OFFSET(Female!H$18,'Female - Rev'!$A14-35,0)","v":2.3999999999999998E-3},{"$f":"OFFSET(Female!I$18,'Female - Rev'!$A14-35,0)","v":2.7000000000000001E-3},{"$f":"OFFSET(Female!J$18,'Female - Rev'!$A14-35,0)","v":3.3E-3},{"$f":"OFFSET(Female!K$18,'Female - Rev'!$A14-35,0)","v":4.1999999999999997E-3},{"$f":"OFFSET(Female!L$18,'Female - Rev'!$A14-35,0)","v":5.4000000000000003E-3},{"$f":"OFFSET(Female!M$18,'Female - Rev'!$A14-35,0)","v":6.8999999999999999E-3},{"$f":"OFFSET(Female!N$18,'Female - Rev'!$A14-35,0)","v":8.6E-3},{"$f":"OFFSET(Female!O$18,'Female - Rev'!$A14-35,0)","v":1.04E-2},{"$f":"OFFSET(Female!P$18,'Female - Rev'!$A14-35,0)","v":1.24E-2},{"$f":"OFFSET(Female!Q$18,'Female - Rev'!$A14-35,0)","v":1.44E-2},{"$f":"OFFSET(Female!R$18,'Female - Rev'!$A14-35,0)","v":1.6400000000000001E-2},{"$f":"OFFSET(Female!S$18,'Female - Rev'!$A14-35,0)","v":1.83E-2},{"$f":"OFFSET(Female!T$18,'Female - Rev'!$A14-35,0)","v":2.01E-2},{"$f":"OFFSET(Female!U$18,'Female - Rev'!$A14-35,0)","v":2.18E-2},{"$f":"OFFSET(Female!V$18,'Female - Rev'!$A14-35,0)","v":2.3199999999999998E-2},{"$f":"OFFSET(Female!W$18,'Female - Rev'!$A14-35,0)","v":2.4400000000000002E-2},{"$f":"OFFSET(Female!X$18,'Female - Rev'!$A14-35,0)","v":2.5100000000000001E-2},{"$f":"OFFSET(Female!Y$18,'Female - Rev'!$A14-35,0)","v":2.53E-2},{"$f":"OFFSET(Female!Z$18,'Female - Rev'!$A14-35,0)","v":2.5000000000000001E-2},{"$f":"OFFSET(Female!AA$18,'Female - Rev'!$A14-35,0)","v":2.3900000000000001E-2},{"$f":"OFFSET(Female!AB$18,'Female - Rev'!$A14-35,0)","v":2.23E-2},{"$f":"OFFSET(Female!AC$18,'Female - Rev'!$A14-35,0)","v":2.0199999999999999E-2},{"$f":"OFFSET(Female!AD$18,'Female - Rev'!$A14-35,0)","v":1.78E-2},{"$f":"OFFSET(Female!AE$18,'Female - Rev'!$A14-35,0)","v":1.5299999999999999E-2},{"$f":"OFFSET(Female!AF$18,'Female - Rev'!$A14-35,0)","v":1.2999999999999999E-2},{"$f":"OFFSET(Female!AG$18,'Female - Rev'!$A14-35,0)","v":1.09E-2},{"$f":"OFFSET(Female!AH$18,'Female - Rev'!$A14-35,0)","v":9.2999999999999992E-3},{"$f":"OFFSET(Female!AI$18,'Female - Rev'!$A14-35,0)","v":8.0000000000000002E-3},{"$f":"OFFSET(Female!AJ$18,'Female - Rev'!$A14-35,0)","v":7.3000000000000001E-3},{"$f":"OFFSET(Female!AK$18,'Female - Rev'!$A14-35,0)","v":6.8999999999999999E-3},{"$f":"OFFSET(Female!AL$18,'Female - Rev'!$A14-35,0)","v":6.7999999999999996E-3},{"$f":"OFFSET(Female!AM$18,'Female - Rev'!$A14-35,0)","v":6.6E-3},{"$f":"OFFSET(Female!AN$18,'Female - Rev'!$A14-35,0)","v":6.1000000000000004E-3},{"$f":"OFFSET(Female!AO$18,'Female - Rev'!$A14-35,0)","v":5.1999999999999998E-3},{"$f":"OFFSET(Female!AP$18,'Female - Rev'!$A14-35,0)","v":3.8E-3},{"$f":"OFFSET(Female!AQ$18,'Female - Rev'!$A14-35,0)","v":2E-3},{"$f":"OFFSET(Female!AR$18,'Female - Rev'!$A14-35,0)","v":0},{"$f":"OFFSET(Female!AS$18,'Female - Rev'!$A14-35,0)","v":-1.8E-3},{"$f":"OFFSET(Female!AT$18,'Female - Rev'!$A14-35,0)","v":-3.0999999999999999E-3},{"$f":"OFFSET(Female!AU$18,'Female - Rev'!$A14-35,0)","v":-3.8999999999999998E-3},{"$f":"OFFSET(Female!AV$18,'Female - Rev'!$A14-35,0)","v":-3.8999999999999998E-3},{"$f":"OFFSET(Female!AW$18,'Female - Rev'!$A14-35,0)","v":-3.0999999999999999E-3},{"$f":"OFFSET(Female!AX$18,'Female - Rev'!$A14-35,0)","v":-1.4E-3},{"$f":"OFFSET(Female!AY$18,'Female - Rev'!$A14-35,0)","v":1E-3},{"$f":"OFFSET(Female!AZ$18,'Female - Rev'!$A14-35,0)","v":3.8999999999999998E-3},{"$f":"OFFSET(Female!BA$18,'Female - Rev'!$A14-35,0)","v":7.0000000000000001E-3},{"$f":"OFFSET(Female!BB$18,'Female - Rev'!$A14-35,0)","v":0.01},{"$f":"OFFSET(Female!BC$18,'Female - Rev'!$A14-35,0)","v":1.24E-2},{"$f":"OFFSET(Female!BD$18,'Female - Rev'!$A14-35,0)","v":1.41E-2},{"$f":"OFFSET(Female!BE$18,'Female - Rev'!$A14-35,0)","v":1.49E-2},{"$f":"OFFSET(Female!BF$18,'Female - Rev'!$A14-35,0)","v":1.4800000000000001E-2},{"$f":"OFFSET(Female!BG$18,'Female - Rev'!$A14-35,0)","v":1.4E-2},{"$f":"OFFSET(Female!BH$18,'Female - Rev'!$A14-35,0)","v":1.26E-2},{"$f":"OFFSET(Female!BI$18,'Female - Rev'!$A14-35,0)","v":1.0800000000000001E-2},{"$f":"OFFSET(Female!BJ$18,'Female - Rev'!$A14-35,0)","v":8.8999999999999999E-3},{"$f":"OFFSET(Female!BK$18,'Female - Rev'!$A14-35,0)","v":7.1000000000000004E-3},{"$f":"OFFSET(Female!BL$18,'Female - Rev'!$A14-35,0)","v":5.4999999999999997E-3},{"$f":"OFFSET(Female!BM$18,'Female - Rev'!$A14-35,0)","v":4.0000000000000001E-3},{"$f":"OFFSET(Female!BN$18,'Female - Rev'!$A14-35,0)","v":2.8E-3},{"$f":"OFFSET(Female!BO$18,'Female - Rev'!$A14-35,0)","v":1.8E-3},{"$f":"OFFSET(Female!BP$18,'Female - Rev'!$A14-35,0)","v":2.0999999999999999E-3},{"$f":"OFFSET(Female!BQ$18,'Female - Rev'!$A14-35,0)","v":2.5999999999999999E-3},{"$f":"OFFSET(Female!BR$18,'Female - Rev'!$A14-35,0)","v":3.3E-3},{"$f":"OFFSET(Female!BS$18,'Female - Rev'!$A14-35,0)","v":4.1000000000000003E-3},{"$f":"OFFSET(Female!BT$18,'Female - Rev'!$A14-35,0)","v":4.8999999999999998E-3},{"$f":"OFFSET(Female!BU$18,'Female - Rev'!$A14-35,0)","v":5.7000000000000002E-3},{"$f":"OFFSET(Female!BV$18,'Female - Rev'!$A14-35,0)","v":6.4000000000000003E-3},{"$f":"OFFSET(Female!BW$18,'Female - Rev'!$A14-35,0)","v":7.1000000000000004E-3},{"$f":"OFFSET(Female!BX$18,'Female - Rev'!$A14-35,0)","v":7.4999999999999997E-3},{"$f":"OFFSET(Female!BY$18,'Female - Rev'!$A14-35,0)","v":7.7999999999999996E-3},{"$f":"OFFSET(Female!BZ$18,'Female - Rev'!$A14-35,0)","v":7.9000000000000008E-3},{"$f":"OFFSET(Female!CA$18,'Female - Rev'!$A14-35,0)","v":8.0000000000000002E-3},{"$f":"OFFSET(Female!CB$18,'Female - Rev'!$A14-35,0)","v":8.0000000000000002E-3},{"$f":"OFFSET(Female!CC$18,'Female - Rev'!$A14-35,0)","v":8.0999999999999996E-3},{"$f":"OFFSET(Female!CD$18,'Female - Rev'!$A14-35,0)","v":8.0999999999999996E-3},{"$f":"OFFSET(Female!CE$18,'Female - Rev'!$A14-35,0)","v":8.2000000000000007E-3},{"$f":"OFFSET(Female!CF$18,'Female - Rev'!$A14-35,0)","v":8.3999999999999995E-3},{"$f":"OFFSET(Female!CG$18,'Female - Rev'!$A14-35,0)","v":8.6E-3},{"$f":"OFFSET(Female!CH$18,'Female - Rev'!$A14-35,0)","v":8.8999999999999999E-3},{"$f":"OFFSET(Female!CI$18,'Female - Rev'!$A14-35,0)","v":9.1000000000000004E-3},{"$f":"CJ14","v":9.1000000000000004E-3},9.1000000000000004E-3]
[83,83,{"$f":"OFFSET(Female!B$18,'Female - Rev'!$A15-35,0)","v":7.1999999999999998E-3},{"$f":"OFFSET(Female!C$18,'Female - Rev'!$A15-35,0)","v":6.4999999999999997E-3},{"$f":"OFFSET(Female!D$18,'Female - Rev'!$A15-35,0)","v":5.7000000000000002E-3},{"$f":"OFFSET(Female!E$18,'Female - Rev'!$A15-35,0)","v":5.0000000000000001E-3},{"$f":"OFFSET(Female!F$18,'Female - Rev'!$A15-35,0)","v":4.4000000000000003E-3},{"$f":"OFFSET(Female!G$18,'Female - Rev'!$A15-35,0)","v":4.0000000000000001E-3},{"$f":"OFFSET(Female!H$18,'Female - Rev'!$A15-35,0)","v":3.8E-3},{"$f":"OFFSET(Female!I$18,'Female - Rev'!$A15-35,0)","v":3.8999999999999998E-3},{"$f":"OFFSET(Female!J$18,'Female - Rev'!$A15-35,0)","v":4.3E-3},{"$f":"OFFSET(Female!K$18,'Female - Rev'!$A15-35,0)","v":5.1000000000000004E-3},{"$f":"OFFSET(Female!L$18,'Female - Rev'!$A15-35,0)","v":6.1999999999999998E-3},{"$f":"OFFSET(Female!M$18,'Female - Rev'!$A15-35,0)","v":7.4999999999999997E-3},{"$f":"OFFSET(Female!N$18,'Female - Rev'!$A15-35,0)","v":8.9999999999999993E-3},{"$f":"OFFSET(Female!O$18,'Female - Rev'!$A15-35,0)","v":1.0699999999999999E-2},{"$f":"OFFSET(Female!P$18,'Female - Rev'!$A15-35,0)","v":1.2500000000000001E-2},{"$f":"OFFSET(Female!Q$18,'Female - Rev'!$A15-35,0)","v":1.43E-2},{"$f":"OFFSET(Female!R$18,'Female - Rev'!$A15-35,0)","v":1.6199999999999999E-2},{"$f":"OFFSET(Female!S$18,'Female - Rev'!$A15-35,0)","v":1.8100000000000002E-2},{"$f":"OFFSET(Female!T$18,'Female - Rev'!$A15-35,0)","v":1.9900000000000001E-2},{"$f":"OFFSET(Female!U$18,'Female - Rev'!$A15-35,0)","v":2.1700000000000001E-2},{"$f":"OFFSET(Female!V$18,'Female - Rev'!$A15-35,0)","v":2.3199999999999998E-2},{"$f":"OFFSET(Female!W$18,'Female - Rev'!$A15-35,0)","v":2.4500000000000001E-2},{"$f":"OFFSET(Female!X$18,'Female - Rev'!$A15-35,0)","v":2.5399999999999999E-2},{"$f":"OFFSET(Female!Y$18,'Female - Rev'!$A15-35,0)","v":2.5700000000000001E-2},{"$f":"OFFSET(Female!Z$18,'Female - Rev'!$A15-35,0)","v":2.5399999999999999E-2},{"$f":"OFFSET(Female!AA$18,'Female - Rev'!$A15-35,0)","v":2.4400000000000002E-2},{"$f":"OFFSET(Female!AB$18,'Female - Rev'!$A15-35,0)","v":2.2700000000000001E-2},{"$f":"OFFSET(Female!AC$18,'Female - Rev'!$A15-35,0)","v":2.0500000000000001E-2},{"$f":"OFFSET(Female!AD$18,'Female - Rev'!$A15-35,0)","v":1.7899999999999999E-2},{"$f":"OFFSET(Female!AE$18,'Female - Rev'!$A15-35,0)","v":1.5299999999999999E-2},{"$f":"OFFSET(Female!AF$18,'Female - Rev'!$A15-35,0)","v":1.29E-2},{"$f":"OFFSET(Female!AG$18,'Female - Rev'!$A15-35,0)","v":1.0699999999999999E-2},{"$f":"OFFSET(Female!AH$18,'Female - Rev'!$A15-35,0)","v":8.9999999999999993E-3},{"$f":"OFFSET(Female!AI$18,'Female - Rev'!$A15-35,0)","v":7.7999999999999996E-3},{"$f":"OFFSET(Female!AJ$18,'Female - Rev'!$A15-35,0)","v":7.1000000000000004E-3},{"$f":"OFFSET(Female!AK$18,'Female - Rev'!$A15-35,0)","v":6.7999999999999996E-3},{"$f":"OFFSET(Female!AL$18,'Female - Rev'!$A15-35,0)","v":6.7999999999999996E-3},{"$f":"OFFSET(Female!AM$18,'Female - Rev'!$A15-35,0)","v":6.7999999999999996E-3},{"$f":"OFFSET(Female!AN$18,'Female - Rev'!$A15-35,0)","v":6.4000000000000003E-3},{"$f":"OFFSET(Female!AO$18,'Female - Rev'!$A15-35,0)","v":5.5999999999999999E-3},{"$f":"OFFSET(Female!AP$18,'Female - Rev'!$A15-35,0)","v":4.3E-3},{"$f":"OFFSET(Female!AQ$18,'Female - Rev'!$A15-35,0)","v":2.5000000000000001E-3},{"$f":"OFFSET(Female!AR$18,'Female - Rev'!$A15-35,0)","v":5.9999999999999995E-4},{"$f":"OFFSET(Female!AS$18,'Female - Rev'!$A15-35,0)","v":-1.1000000000000001E-3},{"$f":"OFFSET(Female!AT$18,'Female - Rev'!$A15-35,0)","v":-2.5000000000000001E-3},{"$f":"OFFSET(Female!AU$18,'Female - Rev'!$A15-35,0)","v":-3.3E-3},{"$f":"OFFSET(Female!AV$18,'Female - Rev'!$A15-35,0)","v":-3.3E-3},{"$f":"OFFSET(Female!AW$18,'Female - Rev'!$A15-35,0)","v":-2.5000000000000001E-3},{"$f":"OFFSET(Female!AX$18,'Female - Rev'!$A15-35,0)","v":-8.0000000000000004E-4},{"$f":"OFFSET(Female!AY$18,'Female - Rev'!$A15-35,0)","v":1.6000000000000001E-3},{"$f":"OFFSET(Female!AZ$18,'Female - Rev'!$A15-35,0)","v":4.5999999999999999E-3},{"$f":"OFFSET(Female!BA$18,'Female - Rev'!$A15-35,0)","v":7.7000000000000002E-3},{"$f":"OFFSET(Female!BB$18,'Female - Rev'!$A15-35,0)","v":1.06E-2},{"$f":"OFFSET(Female!BC$18,'Female - Rev'!$A15-35,0)","v":1.2999999999999999E-2},{"$f":"OFFSET(Female!BD$18,'Female - Rev'!$A15-35,0)","v":1.46E-2},{"$f":"OFFSET(Female!BE$18,'Female - Rev'!$A15-35,0)","v":1.5299999999999999E-2},{"$f":"OFFSET(Female!BF$18,'Female - Rev'!$A15-35,0)","v":1.52E-2},{"$f":"OFFSET(Female!BG$18,'Female - Rev'!$A15-35,0)","v":1.43E-2},{"$f":"OFFSET(Female!BH$18,'Female - Rev'!$A15-35,0)","v":1.29E-2},{"$f":"OFFSET(Female!BI$18,'Female - Rev'!$A15-35,0)","v":1.0999999999999999E-2},{"$f":"OFFSET(Female!BJ$18,'Female - Rev'!$A15-35,0)","v":9.1000000000000004E-3},{"$f":"OFFSET(Female!BK$18,'Female - Rev'!$A15-35,0)","v":7.1999999999999998E-3},{"$f":"OFFSET(Female!BL$18,'Female - Rev'!$A15-35,0)","v":5.5999999999999999E-3},{"$f":"OFFSET(Female!BM$18,'Female - Rev'!$A15-35,0)","v":4.3E-3},{"$f":"OFFSET(Female!BN$18,'Female - Rev'!$A15-35,0)","v":3.0999999999999999E-3},{"$f":"OFFSET(Female!BO$18,'Female - Rev'!$A15-35,0)","v":2.2000000000000001E-3},{"$f":"OFFSET(Female!BP$18,'Female - Rev'!$A15-35,0)","v":2.5000000000000001E-3},{"$f":"OFFSET(Female!BQ$18,'Female - Rev'!$A15-35,0)","v":3.0999999999999999E-3},{"$f":"OFFSET(Female!BR$18,'Female - Rev'!$A15-35,0)","v":3.8E-3},{"$f":"OFFSET(Female!BS$18,'Female - Rev'!$A15-35,0)","v":4.5999999999999999E-3},{"$f":"OFFSET(Female!BT$18,'Female - Rev'!$A15-35,0)","v":5.4000000000000003E-3},{"$f":"OFFSET(Female!BU$18,'Female - Rev'!$A15-35,0)","v":6.1999999999999998E-3},{"$f":"OFFSET(Female!BV$18,'Female - Rev'!$A15-35,0)","v":7.0000000000000001E-3},{"$f":"OFFSET(Female!BW$18,'Female - Rev'!$A15-35,0)","v":7.6E-3},{"$f":"OFFSET(Female!BX$18,'Female - Rev'!$A15-35,0)","v":8.0000000000000002E-3},{"$f":"OFFSET(Female!BY$18,'Female - Rev'!$A15-35,0)","v":8.3000000000000001E-3},{"$f":"OFFSET(Female!BZ$18,'Female - Rev'!$A15-35,0)","v":8.3999999999999995E-3},{"$f":"OFFSET(Female!CA$18,'Female - Rev'!$A15-35,0)","v":8.3999999999999995E-3},{"$f":"OFFSET(Female!CB$18,'Female - Rev'!$A15-35,0)","v":8.3999999999999995E-3},{"$f":"OFFSET(Female!CC$18,'Female - Rev'!$A15-35,0)","v":8.3999999999999995E-3},{"$f":"OFFSET(Female!CD$18,'Female - Rev'!$A15-35,0)","v":8.5000000000000006E-3},{"$f":"OFFSET(Female!CE$18,'Female - Rev'!$A15-35,0)","v":8.6E-3},{"$f":"OFFSET(Female!CF$18,'Female - Rev'!$A15-35,0)","v":8.8000000000000005E-3},{"$f":"OFFSET(Female!CG$18,'Female - Rev'!$A15-35,0)","v":8.9999999999999993E-3},{"$f":"OFFSET(Female!CH$18,'Female - Rev'!$A15-35,0)","v":9.2999999999999992E-3},{"$f":"OFFSET(Female!CI$18,'Female - Rev'!$A15-35,0)","v":9.5999999999999992E-3},{"$f":"CJ15","v":9.5999999999999992E-3},9.5999999999999992E-3]
[82,82,{"$f":"OFFSET(Female!B$18,'Female - Rev'!$A16-35,0)","v":9.2999999999999992E-3},{"$f":"OFFSET(Female!C$18,'Female - Rev'!$A16-35,0)","v":8.5000000000000006E-3},{"$f":"OFFSET(Female!D$18,'Female - Rev'!$A16-35,0)","v":7.6E-3},{"$f":"OFFSET(Female!E$18,'Female - Rev'!$A16-35,0)","v":6.7999999999999996E-3},{"$f":"OFFSET(Female!F$18,'Female - Rev'!$A16-35,0)","v":6.1000000000000004E-3},{"$f":"OFFSET(Female!G$18,'Female - Rev'!$A16-35,0)","v":5.4999999999999997E-3},{"$f":"OFFSET(Female!H$18,'Female - Rev'!$A16-35,0)","v":5.1999999999999998E-3},{"$f":"OFFSET(Female!I$18,'Female - Rev'!$A16-35,0)","v":5.1999999999999998E-3},{"$f":"OFFSET(Female!J$18,'Female - Rev'!$A16-35,0)","v":5.4999999999999997E-3},{"$f":"OFFSET(Female!K$18,'Female - Rev'!$A16-35,0)","v":6.1000000000000004E-3},{"$f":"OFFSET(Female!L$18,'Female - Rev'!$A16-35,0)","v":7.0000000000000001E-3},{"$f":"OFFSET(Female!M$18,'Female - Rev'!$A16-35,0)","v":8.2000000000000007E-3},{"$f":"OFFSET(Female!N$18,'Female - Rev'!$A16-35,0)","v":9.4999999999999998E-3},{"$f":"OFFSET(Female!O$18,'Female - Rev'!$A16-35,0)","v":1.09E-2},{"$f":"OFFSET(Female!P$18,'Female - Rev'!$A16-35,0)","v":1.2500000000000001E-2},{"$f":"OFFSET(Female!Q$18,'Female - Rev'!$A16-35,0)","v":1.4200000000000001E-2},{"$f":"OFFSET(Female!R$18,'Female - Rev'!$A16-35,0)","v":1.6E-2},{"$f":"OFFSET(Female!S$18,'Female - Rev'!$A16-35,0)","v":1.78E-2},{"$f":"OFFSET(Female!T$18,'Female - Rev'!$A16-35,0)","v":1.9699999999999999E-2},{"$f":"OFFSET(Female!U$18,'Female - Rev'!$A16-35,0)","v":2.1600000000000001E-2},{"$f":"OFFSET(Female!V$18,'Female - Rev'!$A16-35,0)","v":2.3199999999999998E-2},{"$f":"OFFSET(Female!W$18,'Female - Rev'!$A16-35,0)","v":2.46E-2},{"$f":"OFFSET(Female!X$18,'Female - Rev'!$A16-35,0)","v":2.5600000000000001E-2},{"$f":"OFFSET(Female!Y$18,'Female - Rev'!$A16-35,0)","v":2.6100000000000002E-2},{"$f":"OFFSET(Female!Z$18,'Female - Rev'!$A16-35,0)","v":2.58E-2},{"$f":"OFFSET(Female!AA$18,'Female - Rev'!$A16-35,0)","v":2.47E-2},{"$f":"OFFSET(Female!AB$18,'Female - Rev'!$A16-35,0)","v":2.29E-2},{"$f":"OFFSET(Female!AC$18,'Female - Rev'!$A16-35,0)","v":2.06E-2},{"$f":"OFFSET(Female!AD$18,'Female - Rev'!$A16-35,0)","v":1.7899999999999999E-2},{"$f":"OFFSET(Female!AE$18,'Female - Rev'!$A16-35,0)","v":1.5100000000000001E-2},{"$f":"OFFSET(Female!AF$18,'Female - Rev'!$A16-35,0)","v":1.2500000000000001E-2},{"$f":"OFFSET(Female!AG$18,'Female - Rev'!$A16-35,0)","v":1.03E-2},{"$f":"OFFSET(Female!AH$18,'Female - Rev'!$A16-35,0)","v":8.5000000000000006E-3},{"$f":"OFFSET(Female!AI$18,'Female - Rev'!$A16-35,0)","v":7.4000000000000003E-3},{"$f":"OFFSET(Female!AJ$18,'Female - Rev'!$A16-35,0)","v":6.7999999999999996E-3},{"$f":"OFFSET(Female!AK$18,'Female - Rev'!$A16-35,0)","v":6.7000000000000002E-3},{"$f":"OFFSET(Female!AL$18,'Female - Rev'!$A16-35,0)","v":6.7999999999999996E-3},{"$f":"OFFSET(Female!AM$18,'Female - Rev'!$A16-35,0)","v":6.8999999999999999E-3},{"$f":"OFFSET(Female!AN$18,'Female - Rev'!$A16-35,0)","v":6.7000000000000002E-3},{"$f":"OFFSET(Female!AO$18,'Female - Rev'!$A16-35,0)","v":6.0000000000000001E-3},{"$f":"OFFSET(Female!AP$18,'Female - Rev'!$A16-35,0)","v":4.7999999999999996E-3},{"$f":"OFFSET(Female!AQ$18,'Female - Rev'!$A16-35,0)","v":3.0999999999999999E-3},{"$f":"OFFSET(Female!AR$18,'Female - Rev'!$A16-35,0)","v":1.1999999999999999E-3},{"$f":"OFFSET(Female!AS$18,'Female - Rev'!$A16-35,0)","v":-5.0000000000000001E-4},{"$f":"OFFSET(Female!AT$18,'Female - Rev'!$A16-35,0)","v":-1.8E-3},{"$f":"OFFSET(Female!AU$18,'Female - Rev'!$A16-35,0)","v":-2.5999999999999999E-3},{"$f":"OFFSET(Female!AV$18,'Female - Rev'!$A16-35,0)","v":-2.5999999999999999E-3},{"$f":"OFFSET(Female!AW$18,'Female - Rev'!$A16-35,0)","v":-1.8E-3},{"$f":"OFFSET(Female!AX$18,'Female - Rev'!$A16-35,0)","v":-2.0000000000000001E-4},{"$f":"OFFSET(Female!AY$18,'Female - Rev'!$A16-35,0)","v":2.3E-3},{"$f":"OFFSET(Female!AZ$18,'Female - Rev'!$A16-35,0)","v":5.1999999999999998E-3},{"$f":"OFFSET(Female!BA$18,'Female - Rev'!$A16-35,0)","v":8.2000000000000007E-3},{"$f":"OFFSET(Female!BB$18,'Female - Rev'!$A16-35,0)","v":1.11E-2},{"$f":"OFFSET(Female!BC$18,'Female - Rev'!$A16-35,0)","v":1.35E-2},{"$f":"OFFSET(Female!BD$18,'Female - Rev'!$A16-35,0)","v":1.4999999999999999E-2},{"$f":"OFFSET(Female!BE$18,'Female - Rev'!$A16-35,0)","v":1.5699999999999999E-2},{"$f":"OFFSET(Female!BF$18,'Female - Rev'!$A16-35,0)","v":1.55E-2},{"$f":"OFFSET(Female!BG$18,'Female - Rev'!$A16-35,0)","v":1.46E-2},{"$f":"OFFSET(Female!BH$18,'Female - Rev'!$A16-35,0)","v":1.3100000000000001E-2},{"$f":"OFFSET(Female!BI$18,'Female - Rev'!$A16-35,0)","v":1.12E-2},{"$f":"OFFSET(Female!BJ$18,'Female - Rev'!$A16-35,0)","v":9.2999999999999992E-3},{"$f":"OFFSET(Female!BK$18,'Female - Rev'!$A16-35,0)","v":7.4999999999999997E-3},{"$f":"OFFSET(Female!BL$18,'Female - Rev'!$A16-35,0)","v":5.8999999999999999E-3},{"$f":"OFFSET(Female!BM$18,'Female - Rev'!$A16-35,0)","v":4.5999999999999999E-3},{"$f":"OFFSET(Female!BN$18,'Female - Rev'!$A16-35,0)","v":3.5000000000000001E-3},{"$f":"OFFSET(Female!BO$18,'Female - Rev'!$A16-35,0)","v":2.7000000000000001E-3},{"$f":"OFFSET(Female!BP$18,'Female - Rev'!$A16-35,0)","v":3.0000000000000001E-3},{"$f":"OFFSET(Female!BQ$18,'Female - Rev'!$A16-35,0)","v":3.5999999999999999E-3},{"$f":"OFFSET(Female!BR$18,'Female - Rev'!$A16-35,0)","v":4.3E-3},{"$f":"OFFSET(Female!BS$18,'Female - Rev'!$A16-35,0)","v":5.1999999999999998E-3},{"$f":"OFFSET(Female!BT$18,'Female - Rev'!$A16-35,0)","v":6.0000000000000001E-3},{"$f":"OFFSET(Female!BU$18,'Female - Rev'!$A16-35,0)","v":6.7999999999999996E-3},{"$f":"OFFSET(Female!BV$18,'Female - Rev'!$A16-35,0)","v":7.4999999999999997E-3},{"$f":"OFFSET(Female!BW$18,'Female - Rev'!$A16-35,0)","v":8.0999999999999996E-3},{"$f":"OFFSET(Female!BX$18,'Female - Rev'!$A16-35,0)","v":8.6E-3},{"$f":"OFFSET(Female!BY$18,'Female - Rev'!$A16-35,0)","v":8.6999999999999994E-3},{"$f":"OFFSET(Female!BZ$18,'Female - Rev'!$A16-35,0)","v":8.8000000000000005E-3},{"$f":"OFFSET(Female!CA$18,'Female - Rev'!$A16-35,0)","v":8.6999999999999994E-3},{"$f":"OFFSET(Female!CB$18,'Female - Rev'!$A16-35,0)","v":8.6999999999999994E-3},{"$f":"OFFSET(Female!CC$18,'Female - Rev'!$A16-35,0)","v":8.6999999999999994E-3},{"$f":"OFFSET(Female!CD$18,'Female - Rev'!$A16-35,0)","v":8.6999999999999994E-3},{"$f":"OFFSET(Female!CE$18,'Female - Rev'!$A16-35,0)","v":8.8999999999999999E-3},{"$f":"OFFSET(Female!CF$18,'Female - Rev'!$A16-35,0)","v":9.1000000000000004E-3},{"$f":"OFFSET(Female!CG$18,'Female - Rev'!$A16-35,0)","v":9.4000000000000004E-3},{"$f":"OFFSET(Female!CH$18,'Female - Rev'!$A16-35,0)","v":9.7999999999999997E-3},{"$f":"OFFSET(Female!CI$18,'Female - Rev'!$A16-35,0)","v":1.01E-2},{"$f":"CJ16","v":1.01E-2},1.01E-2]
[81,81,{"$f":"OFFSET(Female!B$18,'Female - Rev'!$A17-35,0)","v":1.14E-2},{"$f":"OFFSET(Female!C$18,'Female - Rev'!$A17-35,0)","v":1.04E-2},{"$f":"OFFSET(Female!D$18,'Female - Rev'!$A17-35,0)","v":9.4999999999999998E-3},{"$f":"OFFSET(Female!E$18,'Female - Rev'!$A17-35,0)","v":8.6E-3},{"$f":"OFFSET(Female!F$18,'Female - Rev'!$A17-35,0)","v":7.7000000000000002E-3},{"$f":"OFFSET(Female!G$18,'Female - Rev'!$A17-35,0)","v":7.1000000000000004E-3},{"$f":"OFFSET(Female!H$18,'Female - Rev'!$A17-35,0)","v":6.6E-3},{"$f":"OFFSET(Female!I$18,'Female - Rev'!$A17-35,0)","v":6.4999999999999997E-3},{"$f":"OFFSET(Female!J$18,'Female - Rev'!$A17-35,0)","v":6.7000000000000002E-3},{"$f":"OFFSET(Female!K$18,'Female - Rev'!$A17-35,0)","v":7.1000000000000004E-3},{"$f":"OFFSET(Female!L$18,'Female - Rev'!$A17-35,0)","v":7.9000000000000008E-3},{"$f":"OFFSET(Female!M$18,'Female - Rev'!$A17-35,0)","v":8.8000000000000005E-3},{"$f":"OFFSET(Female!N$18,'Female - Rev'!$A17-35,0)","v":9.9000000000000008E-3},{"$f":"OFFSET(Female!O$18,'Female - Rev'!$A17-35,0)","v":1.12E-2},{"$f":"OFFSET(Female!P$18,'Female - Rev'!$A17-35,0)","v":1.26E-2},{"$f":"OFFSET(Female!Q$18,'Female - Rev'!$A17-35,0)","v":1.41E-2},{"$f":"OFFSET(Female!R$18,'Female - Rev'!$A17-35,0)","v":1.5800000000000002E-2},{"$f":"OFFSET(Female!S$18,'Female - Rev'!$A17-35,0)","v":1.7600000000000001E-2},{"$f":"OFFSET(Female!T$18,'Female - Rev'!$A17-35,0)","v":1.95E-2},{"$f":"OFFSET(Female!U$18,'Female - Rev'!$A17-35,0)","v":2.1399999999999999E-2},{"$f":"OFFSET(Female!V$18,'Female - Rev'!$A17-35,0)","v":2.3099999999999999E-2},{"$f":"OFFSET(Female!W$18,'Female - Rev'!$A17-35,0)","v":2.47E-2},{"$f":"OFFSET(Female!X$18,'Female - Rev'!$A17-35,0)","v":2.58E-2},{"$f":"OFFSET(Female!Y$18,'Female - Rev'!$A17-35,0)","v":2.63E-2},{"$f":"OFFSET(Female!Z$18,'Female - Rev'!$A17-35,0)","v":2.5999999999999999E-2},{"$f":"OFFSET(Female!AA$18,'Female - Rev'!$A17-35,0)","v":2.4899999999999999E-2},{"$f":"OFFSET(Female!AB$18,'Female - Rev'!$A17-35,0)","v":2.3E-2},{"$f":"OFFSET(Female!AC$18,'Female - Rev'!$A17-35,0)","v":2.06E-2},{"$f":"OFFSET(Female!AD$18,'Female - Rev'!$A17-35,0)","v":1.77E-2},{"$f":"OFFSET(Female!AE$18,'Female - Rev'!$A17-35,0)","v":1.4800000000000001E-2},{"$f":"OFFSET(Female!AF$18,'Female - Rev'!$A17-35,0)","v":1.21E-2},{"$f":"OFFSET(Female!AG$18,'Female - Rev'!$A17-35,0)","v":9.7000000000000003E-3},{"$f":"OFFSET(Female!AH$18,'Female - Rev'!$A17-35,0)","v":8.0000000000000002E-3},{"$f":"OFFSET(Female!AI$18,'Female - Rev'!$A17-35,0)","v":6.7999999999999996E-3},{"$f":"OFFSET(Female!AJ$18,'Female - Rev'!$A17-35,0)","v":6.4000000000000003E-3},{"$f":"OFFSET(Female!AK$18,'Female - Rev'!$A17-35,0)","v":6.4000000000000003E-3},{"$f":"OFFSET(Female!AL$18,'Female - Rev'!$A17-35,0)","v":6.7000000000000002E-3},{"$f":"OFFSET(Female!AM$18,'Female - Rev'!$A17-35,0)","v":7.0000000000000001E-3},{"$f":"OFFSET(Female!AN$18,'Female - Rev'!$A17-35,0)","v":6.8999999999999999E-3},{"$f":"OFFSET(Female!AO$18,'Female - Rev'!$A17-35,0)","v":6.4000000000000003E-3},{"$f":"OFFSET(Female!AP$18,'Female - Rev'!$A17-35,0)","v":5.1999999999999998E-3},{"$f":"OFFSET(Female!AQ$18,'Female - Rev'!$A17-35,0)","v":3.5999999999999999E-3},{"$f":"OFFSET(Female!AR$18,'Female - Rev'!$A17-35,0)","v":1.8E-3},{"$f":"OFFSET(Female!AS$18,'Female - Rev'!$A17-35,0)","v":1E-4},{"$f":"OFFSET(Female!AT$18,'Female - Rev'!$A17-35,0)","v":-1.1999999999999999E-3},{"$f":"OFFSET(Female!AU$18,'Female - Rev'!$A17-35,0)","v":-1.9E-3},{"$f":"OFFSET(Female!AV$18,'Female - Rev'!$A17-35,0)","v":-1.9E-3},{"$f":"OFFSET(Female!AW$18,'Female - Rev'!$A17-35,0)","v":-1.1999999999999999E-3},{"$f":"OFFSET(Female!AX$18,'Female - Rev'!$A17-35,0)","v":5.0000000000000001E-4},{"$f":"OFFSET(Female!AY$18,'Female - Rev'!$A17-35,0)","v":2.8E-3},{"$f":"OFFSET(Female!AZ$18,'Female - Rev'!$A17-35,0)","v":5.7000000000000002E-3},{"$f":"OFFSET(Female!BA$18,'Female - Rev'!$A17-35,0)","v":8.6999999999999994E-3},{"$f":"OFFSET(Female!BB$18,'Female - Rev'!$A17-35,0)","v":1.1599999999999999E-2},{"$f":"OFFSET(Female!BC$18,'Female - Rev'!$A17-35,0)","v":1.3899999999999999E-2},{"$f":"OFFSET(Female!BD$18,'Female - Rev'!$A17-35,0)","v":1.54E-2},{"$f":"OFFSET(Female!BE$18,'Female - Rev'!$A17-35,0)","v":1.6E-2},{"$f":"OFFSET(Female!BF$18,'Female - Rev'!$A17-35,0)","v":1.5800000000000002E-2},{"$f":"OFFSET(Female!BG$18,'Female - Rev'!$A17-35,0)","v":1.49E-2},{"$f":"OFFSET(Female!BH$18,'Female - Rev'!$A17-35,0)","v":1.34E-2},{"$f":"OFFSET(Female!BI$18,'Female - Rev'!$A17-35,0)","v":1.15E-2},{"$f":"OFFSET(Female!BJ$18,'Female - Rev'!$A17-35,0)","v":9.5999999999999992E-3},{"$f":"OFFSET(Female!BK$18,'Female - Rev'!$A17-35,0)","v":7.7999999999999996E-3},{"$f":"OFFSET(Female!BL$18,'Female - Rev'!$A17-35,0)","v":6.1999999999999998E-3},{"$f":"OFFSET(Female!BM$18,'Female - Rev'!$A17-35,0)","v":5.0000000000000001E-3},{"$f":"OFFSET(Female!BN$18,'Female - Rev'!$A17-35,0)","v":4.0000000000000001E-3},{"$f":"OFFSET(Female!BO$18,'Female - Rev'!$A17-35,0)","v":3.2000000000000002E-3},{"$f":"OFFSET(Female!BP$18,'Female - Rev'!$A17-35,0)","v":3.5999999999999999E-3},{"$f":"OFFSET(Female!BQ$18,'Female - Rev'!$A17-35,0)","v":4.1999999999999997E-3},{"$f":"OFFSET(Female!BR$18,'Female - Rev'!$A17-35,0)","v":5.0000000000000001E-3},{"$f":"OFFSET(Female!BS$18,'Female - Rev'!$A17-35,0)","v":5.7999999999999996E-3},{"$f":"OFFSET(Female!BT$18,'Female - Rev'!$A17-35,0)","v":6.6E-3},{"$f":"OFFSET(Female!BU$18,'Female - Rev'!$A17-35,0)","v":7.4000000000000003E-3},{"$f":"OFFSET(Female!BV$18,'Female - Rev'!$A17-35,0)","v":8.0999999999999996E-3},{"$f":"OFFSET(Female!BW$18,'Female - Rev'!$A17-35,0)","v":8.6999999999999994E-3},{"$f":"OFFSET(Female!BX$18,'Female - Rev'!$A17-35,0)","v":8.9999999999999993E-3},{"$f":"OFFSET(Female!BY$18,'Female - Rev'!$A17-35,0)","v":9.1000000000000004E-3},{"$f":"OFFSET(Female!BZ$18,'Female - Rev'!$A17-35,0)","v":9.1000000000000004E-3},{"$f":"OFFSET(Female!CA$18,'Female - Rev'!$A17-35,0)","v":8.9999999999999993E-3},{"$f":"OFFSET(Female!CB$18,'Female - Rev'!$A17-35,0)","v":8.8999999999999999E-3},{"$f":"OFFSET(Female!CC$18,'Female - Rev'!$A17-35,0)","v":8.8999999999999999E-3},{"$f":"OFFSET(Female!CD$18,'Female - Rev'!$A17-35,0)","v":8.9999999999999993E-3},{"$f":"OFFSET(Female!CE$18,'Female - Rev'!$A17-35,0)","v":9.1999999999999998E-3},{"$f":"OFFSET(Female!CF$18,'Female - Rev'!$A17-35,0)","v":9.4999999999999998E-3},{"$f":"OFFSET(Female!CG$18,'Female - Rev'!$A17-35,0)","v":9.9000000000000008E-3},{"$f":"OFFSET(Female!CH$18,'Female - Rev'!$A17-35,0)","v":1.0200000000000001E-2},{"$f":"OFFSET(Female!CI$18,'Female - Rev'!$A17-35,0)","v":1.0500000000000001E-2},{"$f":"CJ17","v":1.0500000000000001E-2},1.0500000000000001E-2]
[80,80,{"$f":"OFFSET(Female!B$18,'Female - Rev'!$A18-35,0)","v":1.3299999999999999E-2},{"$f":"OFFSET(Female!C$18,'Female - Rev'!$A18-35,0)","v":1.23E-2},{"$f":"OFFSET(Female!D$18,'Female - Rev'!$A18-35,0)","v":1.12E-2},{"$f":"OFFSET(Female!E$18,'Female - Rev'!$A18-35,0)","v":1.0200000000000001E-2},{"$f":"OFFSET(Female!F$18,'Female - Rev'!$A18-35,0)","v":9.2999999999999992E-3},{"$f":"OFFSET(Female!G$18,'Female - Rev'!$A18-35,0)","v":8.6E-3},{"$f":"OFFSET(Female!H$18,'Female - Rev'!$A18-35,0)","v":8.0000000000000002E-3},{"$f":"OFFSET(Female!I$18,'Female - Rev'!$A18-35,0)","v":7.7999999999999996E-3},{"$f":"OFFSET(Female!J$18,'Female - Rev'!$A18-35,0)","v":7.7999999999999996E-3},{"$f":"OFFSET(Female!K$18,'Female - Rev'!$A18-35,0)","v":8.0999999999999996E-3},{"$f":"OFFSET(Female!L$18,'Female - Rev'!$A18-35,0)","v":8.6999999999999994E-3},{"$f":"OFFSET(Female!M$18,'Female - Rev'!$A18-35,0)","v":9.4000000000000004E-3},{"$f":"OFFSET(Female!N$18,'Female - Rev'!$A18-35,0)","v":1.03E-2},{"$f":"OFFSET(Female!O$18,'Female - Rev'!$A18-35,0)","v":1.1299999999999999E-2},{"$f":"OFFSET(Female!P$18,'Female - Rev'!$A18-35,0)","v":1.26E-2},{"$f":"OFFSET(Female!Q$18,'Female - Rev'!$A18-35,0)","v":1.4E-2},{"$f":"OFFSET(Female!R$18,'Female - Rev'!$A18-35,0)","v":1.5599999999999999E-2},{"$f":"OFFSET(Female!S$18,'Female - Rev'!$A18-35,0)","v":1.7399999999999999E-2},{"$f":"OFFSET(Female!T$18,'Female - Rev'!$A18-35,0)","v":1.9300000000000001E-2},{"$f":"OFFSET(Female!U$18,'Female - Rev'!$A18-35,0)","v":2.12E-2},{"$f":"OFFSET(Female!V$18,'Female - Rev'!$A18-35,0)","v":2.3E-2},{"$f":"OFFSET(Female!W$18,'Female - Rev'!$A18-35,0)","v":2.46E-2},{"$f":"OFFSET(Female!X$18,'Female - Rev'!$A18-35,0)","v":2.58E-2},{"$f":"OFFSET(Female!Y$18,'Female - Rev'!$A18-35,0)","v":2.64E-2},{"$f":"OFFSET(Female!Z$18,'Female - Rev'!$A18-35,0)","v":2.6100000000000002E-2},{"$f":"OFFSET(Female!AA$18,'Female - Rev'!$A18-35,0)","v":2.5000000000000001E-2},{"$f":"OFFSET(Female!AB$18,'Female - Rev'!$A18-35,0)","v":2.3E-2},{"$f":"OFFSET(Female!AC$18,'Female - Rev'!$A18-35,0)","v":2.0299999999999999E-2},{"$f":"OFFSET(Female!AD$18,'Female - Rev'!$A18-35,0)","v":1.7299999999999999E-2},{"$f":"OFFSET(Female!AE$18,'Female - Rev'!$A18-35,0)","v":1.4200000000000001E-2},{"$f":"OFFSET(Female!AF$18,'Female - Rev'!$A18-35,0)","v":1.14E-2},{"$f":"OFFSET(Female!AG$18,'Female - Rev'!$A18-35,0)","v":8.9999999999999993E-3},{"$f":"OFFSET(Female!AH$18,'Female - Rev'!$A18-35,0)","v":7.3000000000000001E-3},{"$f":"OFFSET(Female!AI$18,'Female - Rev'!$A18-35,0)","v":6.1999999999999998E-3},{"$f":"OFFSET(Female!AJ$18,'Female - Rev'!$A18-35,0)","v":5.8999999999999999E-3},{"$f":"OFFSET(Female!AK$18,'Female - Rev'!$A18-35,0)","v":6.1000000000000004E-3},{"$f":"OFFSET(Female!AL$18,'Female - Rev'!$A18-35,0)","v":6.6E-3},{"$f":"OFFSET(Female!AM$18,'Female - Rev'!$A18-35,0)","v":7.0000000000000001E-3},{"$f":"OFFSET(Female!AN$18,'Female - Rev'!$A18-35,0)","v":7.1000000000000004E-3},{"$f":"OFFSET(Female!AO$18,'Female - Rev'!$A18-35,0)","v":6.7000000000000002E-3},{"$f":"OFFSET(Female!AP$18,'Female - Rev'!$A18-35,0)","v":5.5999999999999999E-3},{"$f":"OFFSET(Female!AQ$18,'Female - Rev'!$A18-35,0)","v":4.1000000000000003E-3},{"$f":"OFFSET(Female!AR$18,'Female - Rev'!$A18-35,0)","v":2.3E-3},{"$f":"OFFSET(Female!AS$18,'Female - Rev'!$A18-35,0)","v":6.9999999999999999E-4},{"$f":"OFFSET(Female!AT$18,'Female - Rev'!$A18-35,0)","v":-5.0000000000000001E-4},{"$f":"OFFSET(Female!AU$18,'Female - Rev'!$A18-35,0)","v":-1.2999999999999999E-3},{"$f":"OFFSET(Female!AV$18,'Female - Rev'!$A18-35,0)","v":-1.2999999999999999E-3},{"$f":"OFFSET(Female!AW$18,'Female - Rev'!$A18-35,0)","v":-5.0000000000000001E-4},{"$f":"OFFSET(Female!AX$18,'Female - Rev'!$A18-35,0)","v":1E-3},{"$f":"OFFSET(Female!AY$18,'Female - Rev'!$A18-35,0)","v":3.3E-3},{"$f":"OFFSET(Female!AZ$18,'Female - Rev'!$A18-35,0)","v":6.1000000000000004E-3},{"$f":"OFFSET(Female!BA$18,'Female - Rev'!$A18-35,0)","v":9.1000000000000004E-3},{"$f":"OFFSET(Female!BB$18,'Female - Rev'!$A18-35,0)","v":1.1900000000000001E-2},{"$f":"OFFSET(Female!BC$18,'Female - Rev'!$A18-35,0)","v":1.4200000000000001E-2},{"$f":"OFFSET(Female!BD$18,'Female - Rev'!$A18-35,0)","v":1.5699999999999999E-2},{"$f":"OFFSET(Female!BE$18,'Female - Rev'!$A18-35,0)","v":1.6299999999999999E-2},{"$f":"OFFSET(Female!BF$18,'Female - Rev'!$A18-35,0)","v":1.61E-2},{"$f":"OFFSET(Female!BG$18,'Female - Rev'!$A18-35,0)","v":1.52E-2},{"$f":"OFFSET(Female!BH$18,'Female - Rev'!$A18-35,0)","v":1.37E-2},{"$f":"OFFSET(Female!BI$18,'Female - Rev'!$A18-35,0)","v":1.1900000000000001E-2},{"$f":"OFFSET(Female!BJ$18,'Female - Rev'!$A18-35,0)","v":0.01},{"$f":"OFFSET(Female!BK$18,'Female - Rev'!$A18-35,0)","v":8.2000000000000007E-3},{"$f":"OFFSET(Female!BL$18,'Female - Rev'!$A18-35,0)","v":6.7000000000000002E-3},{"$f":"OFFSET(Female!BM$18,'Female - Rev'!$A18-35,0)","v":5.4999999999999997E-3},{"$f":"OFFSET(Female!BN$18,'Female - Rev'!$A18-35,0)","v":4.5999999999999999E-3},{"$f":"OFFSET(Female!BO$18,'Female - Rev'!$A18-35,0)","v":3.8E-3},{"$f":"OFFSET(Female!BP$18,'Female - Rev'!$A18-35,0)","v":4.3E-3},{"$f":"OFFSET(Female!BQ$18,'Female - Rev'!$A18-35,0)","v":4.8999999999999998E-3},{"$f":"OFFSET(Female!BR$18,'Female - Rev'!$A18-35,0)","v":5.5999999999999999E-3},{"$f":"OFFSET(Female!BS$18,'Female - Rev'!$A18-35,0)","v":6.4000000000000003E-3},{"$f":"OFFSET(Female!BT$18,'Female - Rev'!$A18-35,0)","v":7.1999999999999998E-3},{"$f":"OFFSET(Female!BU$18,'Female - Rev'!$A18-35,0)","v":8.0000000000000002E-3},{"$f":"OFFSET(Female!BV$18,'Female - Rev'!$A18-35,0)","v":8.6E-3},{"$f":"OFFSET(Female!BW$18,'Female - Rev'!$A18-35,0)","v":9.1000000000000004E-3},{"$f":"OFFSET(Female!BX$18,'Female - Rev'!$A18-35,0)","v":9.4000000000000004E-3},{"$f":"OFFSET(Female!BY$18,'Female - Rev'!$A18-35,0)","v":9.4000000000000004E-3},{"$f":"OFFSET(Female!BZ$18,'Female - Rev'!$A18-35,0)","v":9.2999999999999992E-3},{"$f":"OFFSET(Female!CA$18,'Female - Rev'!$A18-35,0)","v":9.1999999999999998E-3},{"$f":"OFFSET(Female!CB$18,'Female - Rev'!$A18-35,0)","v":9.1000000000000004E-3},{"$f":"OFFSET(Female!CC$18,'Female - Rev'!$A18-35,0)","v":9.1000000000000004E-3},{"$f":"OFFSET(Female!CD$18,'Female - Rev'!$A18-35,0)","v":9.1999999999999998E-3},{"$f":"OFFSET(Female!CE$18,'Female - Rev'!$A18-35,0)","v":9.4999999999999998E-3},{"$f":"OFFSET(Female!CF$18,'Female - Rev'!$A18-35,0)","v":9.9000000000000008E-3},{"$f":"OFFSET(Female!CG$18,'Female - Rev'!$A18-35,0)","v":1.03E-2},{"$f":"OFFSET(Female!CH$18,'Female - Rev'!$A18-35,0)","v":1.0699999999999999E-2},{"$f":"OFFSET(Female!CI$18,'Female - Rev'!$A18-35,0)","v":1.0999999999999999E-2},{"$f":"CJ18","v":1.0999999999999999E-2},1.0999999999999999E-2]
[79,79,{"$f":"OFFSET(Female!B$18,'Female - Rev'!$A19-35,0)","v":1.5100000000000001E-2},{"$f":"OFFSET(Female!C$18,'Female - Rev'!$A19-35,0)","v":1.4E-2},{"$f":"OFFSET(Female!D$18,'Female - Rev'!$A19-35,0)","v":1.29E-2},{"$f":"OFFSET(Female!E$18,'Female - Rev'!$A19-35,0)","v":1.18E-2},{"$f":"OFFSET(Female!F$18,'Female - Rev'!$A19-35,0)","v":1.0800000000000001E-2},{"$f":"OFFSET(Female!G$18,'Female - Rev'!$A19-35,0)","v":0.01},{"$f":"OFFSET(Female!H$18,'Female - Rev'!$A19-35,0)","v":9.4000000000000004E-3},{"$f":"OFFSET(Female!I$18,'Female - Rev'!$A19-35,0)","v":8.9999999999999993E-3},{"$f":"OFFSET(Female!J$18,'Female - Rev'!$A19-35,0)","v":8.9999999999999993E-3},{"$f":"OFFSET(Female!K$18,'Female - Rev'!$A19-35,0)","v":9.1000000000000004E-3},{"$f":"OFFSET(Female!L$18,'Female - Rev'!$A19-35,0)","v":9.4000000000000004E-3},{"$f":"OFFSET(Female!M$18,'Female - Rev'!$A19-35,0)","v":9.9000000000000008E-3},{"$f":"OFFSET(Female!N$18,'Female - Rev'!$A19-35,0)","v":1.06E-2},{"$f":"OFFSET(Female!O$18,'Female - Rev'!$A19-35,0)","v":1.15E-2},{"$f":"OFFSET(Female!P$18,'Female - Rev'!$A19-35,0)","v":1.26E-2},{"$f":"OFFSET(Female!Q$18,'Female - Rev'!$A19-35,0)","v":1.3899999999999999E-2},{"$f":"OFFSET(Female!R$18,'Female - Rev'!$A19-35,0)","v":1.55E-2},{"$f":"OFFSET(Female!S$18,'Female - Rev'!$A19-35,0)","v":1.72E-2},{"$f":"OFFSET(Female!T$18,'Female - Rev'!$A19-35,0)","v":1.9099999999999999E-2},{"$f":"OFFSET(Female!U$18,'Female - Rev'!$A19-35,0)","v":2.1000000000000001E-2},{"$f":"OFFSET(Female!V$18,'Female - Rev'!$A19-35,0)","v":2.29E-2},{"$f":"OFFSET(Female!W$18,'Female - Rev'!$A19-35,0)","v":2.4500000000000001E-2},{"$f":"OFFSET(Female!X$18,'Female - Rev'!$A19-35,0)","v":2.58E-2},{"$f":"OFFSET(Female!Y$18,'Female - Rev'!$A19-35,0)","v":2.64E-2},{"$f":"OFFSET(Female!Z$18,'Female - Rev'!$A19-35,0)","v":2.6100000000000002E-2},{"$f":"OFFSET(Female!AA$18,'Female - Rev'!$A19-35,0)","v":2.4799999999999999E-2},{"$f":"OFFSET(Female!AB$18,'Female - Rev'!$A19-35,0)","v":2.2700000000000001E-2},{"$f":"OFFSET(Female!AC$18,'Female - Rev'!$A19-35,0)","v":1.9900000000000001E-2},{"$f":"OFFSET(Female!AD$18,'Female - Rev'!$A19-35,0)","v":1.67E-2},{"$f":"OFFSET(Female!AE$18,'Female - Rev'!$A19-35,0)","v":1.35E-2},{"$f":"OFFSET(Female!AF$18,'Female - Rev'!$A19-35,0)","v":1.06E-2},{"$f":"OFFSET(Female!AG$18,'Female - Rev'!$A19-35,0)","v":8.2000000000000007E-3},{"$f":"OFFSET(Female!AH$18,'Female - Rev'!$A19-35,0)","v":6.4999999999999997E-3},{"$f":"OFFSET(Female!AI$18,'Female - Rev'!$A19-35,0)","v":5.5999999999999999E-3},{"$f":"OFFSET(Female!AJ$18,'Female - Rev'!$A19-35,0)","v":5.4000000000000003E-3},{"$f":"OFFSET(Female!AK$18,'Female - Rev'!$A19-35,0)","v":5.7999999999999996E-3},{"$f":"OFFSET(Female!AL$18,'Female - Rev'!$A19-35,0)","v":6.4000000000000003E-3},{"$f":"OFFSET(Female!AM$18,'Female - Rev'!$A19-35,0)","v":7.0000000000000001E-3},{"$f":"OFFSET(Female!AN$18,'Female - Rev'!$A19-35,0)","v":7.3000000000000001E-3},{"$f":"OFFSET(Female!AO$18,'Female - Rev'!$A19-35,0)","v":7.0000000000000001E-3},{"$f":"OFFSET(Female!AP$18,'Female - Rev'!$A19-35,0)","v":6.0000000000000001E-3},{"$f":"OFFSET(Female!AQ$18,'Female - Rev'!$A19-35,0)","v":4.4999999999999997E-3},{"$f":"OFFSET(Female!AR$18,'Female - Rev'!$A19-35,0)","v":2.8E-3},{"$f":"OFFSET(Female!AS$18,'Female - Rev'!$A19-35,0)","v":1.1999999999999999E-3},{"$f":"OFFSET(Female!AT$18,'Female - Rev'!$A19-35,0)","v":0},{"$f":"OFFSET(Female!AU$18,'Female - Rev'!$A19-35,0)","v":-5.9999999999999995E-4},{"$f":"OFFSET(Female!AV$18,'Female - Rev'!$A19-35,0)","v":-6.9999999999999999E-4},{"$f":"OFFSET(Female!AW$18,'Female - Rev'!$A19-35,0)","v":0},{"$f":"OFFSET(Female!AX$18,'Female - Rev'!$A19-35,0)","v":1.6000000000000001E-3},{"$f":"OFFSET(Female!AY$18,'Female - Rev'!$A19-35,0)","v":3.8E-3},{"$f":"OFFSET(Female!AZ$18,'Female - Rev'!$A19-35,0)","v":6.6E-3},{"$f":"OFFSET(Female!BA$18,'Female - Rev'!$A19-35,0)","v":9.4999999999999998E-3},{"$f":"OFFSET(Female!BB$18,'Female - Rev'!$A19-35,0)","v":1.23E-2},{"$f":"OFFSET(Female!BC$18,'Female - Rev'!$A19-35,0)","v":1.4500000000000001E-2},{"$f":"OFFSET(Female!BD$18,'Female - Rev'!$A19-35,0)","v":1.6E-2},{"$f":"OFFSET(Female!BE$18,'Female - Rev'!$A19-35,0)","v":1.66E-2},{"$f":"OFFSET(Female!BF$18,'Female - Rev'!$A19-35,0)","v":1.6400000000000001E-2},{"$f":"OFFSET(Female!BG$18,'Female - Rev'!$A19-35,0)","v":1.55E-2},{"$f":"OFFSET(Female!BH$18,'Female - Rev'!$A19-35,0)","v":1.41E-2},{"$f":"OFFSET(Female!BI$18,'Female - Rev'!$A19-35,0)","v":1.24E-2},{"$f":"OFFSET(Female!BJ$18,'Female - Rev'!$A19-35,0)","v":1.0500000000000001E-2},{"$f":"OFFSET(Female!BK$18,'Female - Rev'!$A19-35,0)","v":8.8000000000000005E-3},{"$f":"OFFSET(Female!BL$18,'Female - Rev'!$A19-35,0)","v":7.3000000000000001E-3},{"$f":"OFFSET(Female!BM$18,'Female - Rev'!$A19-35,0)","v":6.1000000000000004E-3},{"$f":"OFFSET(Female!BN$18,'Female - Rev'!$A19-35,0)","v":5.1999999999999998E-3},{"$f":"OFFSET(Female!BO$18,'Female - Rev'!$A19-35,0)","v":4.4999999999999997E-3},{"$f":"OFFSET(Female!BP$18,'Female - Rev'!$A19-35,0)","v":5.0000000000000001E-3},{"$f":"OFFSET(Female!BQ$18,'Female - Rev'!$A19-35,0)","v":5.5999999999999999E-3},{"$f":"OFFSET(Female!BR$18,'Female - Rev'!$A19-35,0)","v":6.3E-3},{"$f":"OFFSET(Female!BS$18,'Female - Rev'!$A19-35,0)","v":7.0000000000000001E-3},{"$f":"OFFSET(Female!BT$18,'Female - Rev'!$A19-35,0)","v":7.7999999999999996E-3},{"$f":"OFFSET(Female!BU$18,'Female - Rev'!$A19-35,0)","v":8.5000000000000006E-3},{"$f":"OFFSET(Female!BV$18,'Female - Rev'!$A19-35,0)","v":8.9999999999999993E-3},{"$f":"OFFSET(Female!BW$18,'Female - Rev'!$A19-35,0)","v":9.4000000000000004E-3},{"$f":"OFFSET(Female!BX$18,'Female - Rev'!$A19-35,0)","v":9.4999999999999998E-3},{"$f":"OFFSET(Female!BY$18,'Female - Rev'!$A19-35,0)","v":9.4000000000000004E-3},{"$f":"OFFSET(Female!BZ$18,'Female - Rev'!$A19-35,0)","v":9.2999999999999992E-3},{"$f":"OFFSET(Female!CA$18,'Female - Rev'!$A19-35,0)","v":9.1000000000000004E-3},{"$f":"OFFSET(Female!CB$18,'Female - Rev'!$A19-35,0)","v":8.9999999999999993E-3},{"$f":"OFFSET(Female!CC$18,'Female - Rev'!$A19-35,0)","v":9.1000000000000004E-3},{"$f":"OFFSET(Female!CD$18,'Female - Rev'!$A19-35,0)","v":9.2999999999999992E-3},{"$f":"OFFSET(Female!CE$18,'Female - Rev'!$A19-35,0)","v":9.5999999999999992E-3},{"$f":"OFFSET(Female!CF$18,'Female - Rev'!$A19-35,0)","v":1.01E-2},{"$f":"OFFSET(Female!CG$18,'Female - Rev'!$A19-35,0)","v":1.06E-2},{"$f":"OFFSET(Female!CH$18,'Female - Rev'!$A19-35,0)","v":1.0999999999999999E-2},{"$f":"OFFSET(Female!CI$18,'Female - Rev'!$A19-35,0)","v":1.11E-2},{"$f":"CJ19","v":1.11E-2},1.11E-2]
[78,78,{"$f":"OFFSET(Female!B$18,'Female - Rev'!$A20-35,0)","v":1.66E-2},{"$f":"OFFSET(Female!C$18,'Female - Rev'!$A20-35,0)","v":1.55E-2},{"$f":"OFFSET(Female!D$18,'Female - Rev'!$A20-35,0)","v":1.43E-2},{"$f":"OFFSET(Female!E$18,'Female - Rev'!$A20-35,0)","v":1.32E-2},{"$f":"OFFSET(Female!F$18,'Female - Rev'!$A20-35,0)","v":1.2200000000000001E-2},{"$f":"OFFSET(Female!G$18,'Female - Rev'!$A20-35,0)","v":1.1299999999999999E-2},{"$f":"OFFSET(Female!H$18,'Female - Rev'!$A20-35,0)","v":1.06E-2},{"$f":"OFFSET(Female!I$18,'Female - Rev'!$A20-35,0)","v":1.0200000000000001E-2},{"$f":"OFFSET(Female!J$18,'Female - Rev'!$A20-35,0)","v":0.01},{"$f":"OFFSET(Female!K$18,'Female - Rev'!$A20-35,0)","v":9.9000000000000008E-3},{"$f":"OFFSET(Female!L$18,'Female - Rev'!$A20-35,0)","v":1.01E-2},{"$f":"OFFSET(Female!M$18,'Female - Rev'!$A20-35,0)","v":1.04E-2},{"$f":"OFFSET(Female!N$18,'Female - Rev'!$A20-35,0)","v":1.09E-2},{"$f":"OFFSET(Female!O$18,'Female - Rev'!$A20-35,0)","v":1.17E-2},{"$f":"OFFSET(Female!P$18,'Female - Rev'!$A20-35,0)","v":1.26E-2},{"$f":"OFFSET(Female!Q$18,'Female - Rev'!$A20-35,0)","v":1.3899999999999999E-2},{"$f":"OFFSET(Female!R$18,'Female - Rev'!$A20-35,0)","v":1.5299999999999999E-2},{"$f":"OFFSET(Female!S$18,'Female - Rev'!$A20-35,0)","v":1.7000000000000001E-2},{"$f":"OFFSET(Female!T$18,'Female - Rev'!$A20-35,0)","v":1.89E-2},{"$f":"OFFSET(Female!U$18,'Female - Rev'!$A20-35,0)","v":2.0799999999999999E-2},{"$f":"OFFSET(Female!V$18,'Female - Rev'!$A20-35,0)","v":2.2700000000000001E-2},{"$f":"OFFSET(Female!W$18,'Female - Rev'!$A20-35,0)","v":2.4400000000000002E-2},{"$f":"OFFSET(Female!X$18,'Female - Rev'!$A20-35,0)","v":2.5700000000000001E-2},{"$f":"OFFSET(Female!Y$18,'Female - Rev'!$A20-35,0)","v":2.6200000000000001E-2},{"$f":"OFFSET(Female!Z$18,'Female - Rev'!$A20-35,0)","v":2.5899999999999999E-2},{"$f":"OFFSET(Female!AA$18,'Female - Rev'!$A20-35,0)","v":2.4500000000000001E-2},{"$f":"OFFSET(Female!AB$18,'Female - Rev'!$A20-35,0)","v":2.2200000000000001E-2},{"$f":"OFFSET(Female!AC$18,'Female - Rev'!$A20-35,0)","v":1.9300000000000001E-2},{"$f":"OFFSET(Female!AD$18,'Female - Rev'!$A20-35,0)","v":1.6E-2},{"$f":"OFFSET(Female!AE$18,'Female - Rev'!$A20-35,0)","v":1.26E-2},{"$f":"OFFSET(Female!AF$18,'Female - Rev'!$A20-35,0)","v":9.7000000000000003E-3},{"$f":"OFFSET(Female!AG$18,'Female - Rev'!$A20-35,0)","v":7.3000000000000001E-3},{"$f":"OFFSET(Female!AH$18,'Female - Rev'!$A20-35,0)","v":5.5999999999999999E-3},{"$f":"OFFSET(Female!AI$18,'Female - Rev'!$A20-35,0)","v":4.7999999999999996E-3},{"$f":"OFFSET(Female!AJ$18,'Female - Rev'!$A20-35,0)","v":4.7999999999999996E-3},{"$f":"OFFSET(Female!AK$18,'Female - Rev'!$A20-35,0)","v":5.4000000000000003E-3},{"$f":"OFFSET(Female!AL$18,'Female - Rev'!$A20-35,0)","v":6.3E-3},{"$f":"OFFSET(Female!AM$18,'Female - Rev'!$A20-35,0)","v":7.1000000000000004E-3},{"$f":"OFFSET(Female!AN$18,'Female - Rev'!$A20-35,0)","v":7.4000000000000003E-3},{"$f":"OFFSET(Female!AO$18,'Female - Rev'!$A20-35,0)","v":7.1999999999999998E-3},{"$f":"OFFSET(Female!AP$18,'Female - Rev'!$A20-35,0)","v":6.3E-3},{"$f":"OFFSET(Female!AQ$18,'Female - Rev'!$A20-35,0)","v":4.7999999999999996E-3},{"$f":"OFFSET(Female!AR$18,'Female - Rev'!$A20-35,0)","v":3.2000000000000002E-3},{"$f":"OFFSET(Female!AS$18,'Female - Rev'!$A20-35,0)","v":1.6999999999999999E-3},{"$f":"OFFSET(Female!AT$18,'Female - Rev'!$A20-35,0)","v":5.0000000000000001E-4},{"$f":"OFFSET(Female!AU$18,'Female - Rev'!$A20-35,0)","v":-1E-4},{"$f":"OFFSET(Female!AV$18,'Female - Rev'!$A20-35,0)","v":-1E-4},{"$f":"OFFSET(Female!AW$18,'Female - Rev'!$A20-35,0)","v":5.9999999999999995E-4},{"$f":"OFFSET(Female!AX$18,'Female - Rev'!$A20-35,0)","v":2.0999999999999999E-3},{"$f":"OFFSET(Female!AY$18,'Female - Rev'!$A20-35,0)","v":4.3E-3},{"$f":"OFFSET(Female!AZ$18,'Female - Rev'!$A20-35,0)","v":6.8999999999999999E-3},{"$f":"OFFSET(Female!BA$18,'Female - Rev'!$A20-35,0)","v":9.7999999999999997E-3},{"$f":"OFFSET(Female!BB$18,'Female - Rev'!$A20-35,0)","v":1.26E-2},{"$f":"OFFSET(Female!BC$18,'Female - Rev'!$A20-35,0)","v":1.4800000000000001E-2},{"$f":"OFFSET(Female!BD$18,'Female - Rev'!$A20-35,0)","v":1.6299999999999999E-2},{"$f":"OFFSET(Female!BE$18,'Female - Rev'!$A20-35,0)","v":1.6899999999999998E-2},{"$f":"OFFSET(Female!BF$18,'Female - Rev'!$A20-35,0)","v":1.6799999999999999E-2},{"$f":"OFFSET(Female!BG$18,'Female - Rev'!$A20-35,0)","v":1.5900000000000001E-2},{"$f":"OFFSET(Female!BH$18,'Female - Rev'!$A20-35,0)","v":1.46E-2},{"$f":"OFFSET(Female!BI$18,'Female - Rev'!$A20-35,0)","v":1.29E-2},{"$f":"OFFSET(Female!BJ$18,'Female - Rev'!$A20-35,0)","v":1.11E-2},{"$f":"OFFSET(Female!BK$18,'Female - Rev'!$A20-35,0)","v":9.4000000000000004E-3},{"$f":"OFFSET(Female!BL$18,'Female - Rev'!$A20-35,0)","v":7.9000000000000008E-3},{"$f":"OFFSET(Female!BM$18,'Female - Rev'!$A20-35,0)","v":6.7999999999999996E-3},{"$f":"OFFSET(Female!BN$18,'Female - Rev'!$A20-35,0)","v":5.8999999999999999E-3},{"$f":"OFFSET(Female!BO$18,'Female - Rev'!$A20-35,0)","v":5.1999999999999998E-3},{"$f":"OFFSET(Female!BP$18,'Female - Rev'!$A20-35,0)","v":5.7000000000000002E-3},{"$f":"OFFSET(Female!BQ$18,'Female - Rev'!$A20-35,0)","v":6.3E-3},{"$f":"OFFSET(Female!BR$18,'Female - Rev'!$A20-35,0)","v":7.0000000000000001E-3},{"$f":"OFFSET(Female!BS$18,'Female - Rev'!$A20-35,0)","v":7.7000000000000002E-3},{"$f":"OFFSET(Female!BT$18,'Female - Rev'!$A20-35,0)","v":8.3000000000000001E-3},{"$f":"OFFSET(Female!BU$18,'Female - Rev'!$A20-35,0)","v":8.8000000000000005E-3},{"$f":"OFFSET(Female!BV$18,'Female - Rev'!$A20-35,0)","v":9.2999999999999992E-3},{"$f":"OFFSET(Female!BW$18,'Female - Rev'!$A20-35,0)","v":9.4999999999999998E-3},{"$f":"OFFSET(Female!BX$18,'Female - Rev'!$A20-35,0)","v":9.4999999999999998E-3},{"$f":"OFFSET(Female!BY$18,'Female - Rev'!$A20-35,0)","v":9.2999999999999992E-3},{"$f":"OFFSET(Female!BZ$18,'Female - Rev'!$A20-35,0)","v":9.1000000000000004E-3},{"$f":"OFFSET(Female!CA$18,'Female - Rev'!$A20-35,0)","v":8.8999999999999999E-3},{"$f":"OFFSET(Female!CB$18,'Female - Rev'!$A20-35,0)","v":8.8999999999999999E-3},{"$f":"OFFSET(Female!CC$18,'Female - Rev'!$A20-35,0)","v":8.9999999999999993E-3},{"$f":"OFFSET(Female!CD$18,'Female - Rev'!$A20-35,0)","v":9.2999999999999992E-3},{"$f":"OFFSET(Female!CE$18,'Female - Rev'!$A20-35,0)","v":9.7999999999999997E-3},{"$f":"OFFSET(Female!CF$18,'Female - Rev'!$A20-35,0)","v":1.03E-2},{"$f":"OFFSET(Female!CG$18,'Female - Rev'!$A20-35,0)","v":1.0800000000000001E-2},{"$f":"OFFSET(Female!CH$18,'Female - Rev'!$A20-35,0)","v":1.11E-2},{"$f":"OFFSET(Female!CI$18,'Female - Rev'!$A20-35,0)","v":1.1299999999999999E-2},{"$f":"CJ20","v":1.1299999999999999E-2},1.1299999999999999E-2]
[77,77,{"$f":"OFFSET(Female!B$18,'Female - Rev'!$A21-35,0)","v":1.7999999999999999E-2},{"$f":"OFFSET(Female!C$18,'Female - Rev'!$A21-35,0)","v":1.6799999999999999E-2},{"$f":"OFFSET(Female!D$18,'Female - Rev'!$A21-35,0)","v":1.5599999999999999E-2},{"$f":"OFFSET(Female!E$18,'Female - Rev'!$A21-35,0)","v":1.44E-2},{"$f":"OFFSET(Female!F$18,'Female - Rev'!$A21-35,0)","v":1.3299999999999999E-2},{"$f":"OFFSET(Female!G$18,'Female - Rev'!$A21-35,0)","v":1.24E-2},{"$f":"OFFSET(Female!H$18,'Female - Rev'!$A21-35,0)","v":1.17E-2},{"$f":"OFFSET(Female!I$18,'Female - Rev'!$A21-35,0)","v":1.12E-2},{"$f":"OFFSET(Female!J$18,'Female - Rev'!$A21-35,0)","v":1.09E-2},{"$f":"OFFSET(Female!K$18,'Female - Rev'!$A21-35,0)","v":1.0699999999999999E-2},{"$f":"OFFSET(Female!L$18,'Female - Rev'!$A21-35,0)","v":1.0699999999999999E-2},{"$f":"OFFSET(Female!M$18,'Female - Rev'!$A21-35,0)","v":1.0800000000000001E-2},{"$f":"OFFSET(Female!N$18,'Female - Rev'!$A21-35,0)","v":1.12E-2},{"$f":"OFFSET(Female!O$18,'Female - Rev'!$A21-35,0)","v":1.18E-2},{"$f":"OFFSET(Female!P$18,'Female - Rev'!$A21-35,0)","v":1.2699999999999999E-2},{"$f":"OFFSET(Female!Q$18,'Female - Rev'!$A21-35,0)","v":1.38E-2},{"$f":"OFFSET(Female!R$18,'Female - Rev'!$A21-35,0)","v":1.5299999999999999E-2},{"$f":"OFFSET(Female!S$18,'Female - Rev'!$A21-35,0)","v":1.6899999999999998E-2},{"$f":"OFFSET(Female!T$18,'Female - Rev'!$A21-35,0)","v":1.8700000000000001E-2},{"$f":"OFFSET(Female!U$18,'Female - Rev'!$A21-35,0)","v":2.07E-2},{"$f":"OFFSET(Female!V$18,'Female - Rev'!$A21-35,0)","v":2.2499999999999999E-2},{"$f":"OFFSET(Female!W$18,'Female - Rev'!$A21-35,0)","v":2.4199999999999999E-2},{"$f":"OFFSET(Female!X$18,'Female - Rev'!$A21-35,0)","v":2.5499999999999998E-2},{"$f":"OFFSET(Female!Y$18,'Female - Rev'!$A21-35,0)","v":2.5999999999999999E-2},{"$f":"OFFSET(Female!Z$18,'Female - Rev'!$A21-35,0)","v":2.5499999999999998E-2},{"$f":"OFFSET(Female!AA$18,'Female - Rev'!$A21-35,0)","v":2.4E-2},{"$f":"OFFSET(Female!AB$18,'Female - Rev'!$A21-35,0)","v":2.1600000000000001E-2},{"$f":"OFFSET(Female!AC$18,'Female - Rev'!$A21-35,0)","v":1.8499999999999999E-2},{"$f":"OFFSET(Female!AD$18,'Female - Rev'!$A21-35,0)","v":1.4999999999999999E-2},{"$f":"OFFSET(Female!AE$18,'Female - Rev'!$A21-35,0)","v":1.1599999999999999E-2},{"$f":"OFFSET(Female!AF$18,'Female - Rev'!$A21-35,0)","v":8.6E-3},{"$f":"OFFSET(Female!AG$18,'Female - Rev'!$A21-35,0)","v":6.3E-3},{"$f":"OFFSET(Female!AH$18,'Female - Rev'!$A21-35,0)","v":4.7000000000000002E-3},{"$f":"OFFSET(Female!AI$18,'Female - Rev'!$A21-35,0)","v":4.1000000000000003E-3},{"$f":"OFFSET(Female!AJ$18,'Female - Rev'!$A21-35,0)","v":4.3E-3},{"$f":"OFFSET(Female!AK$18,'Female - Rev'!$A21-35,0)","v":5.1000000000000004E-3},{"$f":"OFFSET(Female!AL$18,'Female - Rev'!$A21-35,0)","v":6.1000000000000004E-3},{"$f":"OFFSET(Female!AM$18,'Female - Rev'!$A21-35,0)","v":7.1000000000000004E-3},{"$f":"OFFSET(Female!AN$18,'Female - Rev'!$A21-35,0)","v":7.6E-3},{"$f":"OFFSET(Female!AO$18,'Female - Rev'!$A21-35,0)","v":7.4000000000000003E-3},{"$f":"OFFSET(Female!AP$18,'Female - Rev'!$A21-35,0)","v":6.4999999999999997E-3},{"$f":"OFFSET(Female!AQ$18,'Female - Rev'!$A21-35,0)","v":5.1000000000000004E-3},{"$f":"OFFSET(Female!AR$18,'Female - Rev'!$A21-35,0)","v":3.5000000000000001E-3},{"$f":"OFFSET(Female!AS$18,'Female - Rev'!$A21-35,0)","v":2.0999999999999999E-3},{"$f":"OFFSET(Female!AT$18,'Female - Rev'!$A21-35,0)","v":1E-3},{"$f":"OFFSET(Female!AU$18,'Female - Rev'!$A21-35,0)","v":4.0000000000000002E-4},{"$f":"OFFSET(Female!AV$18,'Female - Rev'!$A21-35,0)","v":4.0000000000000002E-4},{"$f":"OFFSET(Female!AW$18,'Female - Rev'!$A21-35,0)","v":1.1000000000000001E-3},{"$f":"OFFSET(Female!AX$18,'Female - Rev'!$A21-35,0)","v":2.5999999999999999E-3},{"$f":"OFFSET(Female!AY$18,'Female - Rev'!$A21-35,0)","v":4.7000000000000002E-3},{"$f":"OFFSET(Female!AZ$18,'Female - Rev'!$A21-35,0)","v":7.3000000000000001E-3},{"$f":"OFFSET(Female!BA$18,'Female - Rev'!$A21-35,0)","v":1.0200000000000001E-2},{"$f":"OFFSET(Female!BB$18,'Female - Rev'!$A21-35,0)","v":1.29E-2},{"$f":"OFFSET(Female!BC$18,'Female - Rev'!$A21-35,0)","v":1.5100000000000001E-2},{"$f":"OFFSET(Female!BD$18,'Female - Rev'!$A21-35,0)","v":1.66E-2},{"$f":"OFFSET(Female!BE$18,'Female - Rev'!$A21-35,0)","v":1.7299999999999999E-2},{"$f":"OFFSET(Female!BF$18,'Female - Rev'!$A21-35,0)","v":1.72E-2},{"$f":"OFFSET(Female!BG$18,'Female - Rev'!$A21-35,0)","v":1.6400000000000001E-2},{"$f":"OFFSET(Female!BH$18,'Female - Rev'!$A21-35,0)","v":1.5100000000000001E-2},{"$f":"OFFSET(Female!BI$18,'Female - Rev'!$A21-35,0)","v":1.35E-2},{"$f":"OFFSET(Female!BJ$18,'Female - Rev'!$A21-35,0)","v":1.17E-2},{"$f":"OFFSET(Female!BK$18,'Female - Rev'!$A21-35,0)","v":0.01},{"$f":"OFFSET(Female!BL$18,'Female - Rev'!$A21-35,0)","v":8.6E-3},{"$f":"OFFSET(Female!BM$18,'Female - Rev'!$A21-35,0)","v":7.4999999999999997E-3},{"$f":"OFFSET(Female!BN$18,'Female - Rev'!$A21-35,0)","v":6.6E-3},{"$f":"OFFSET(Female!BO$18,'Female - Rev'!$A21-35,0)","v":6.0000000000000001E-3},{"$f":"OFFSET(Female!BP$18,'Female - Rev'!$A21-35,0)","v":6.4999999999999997E-3},{"$f":"OFFSET(Female!BQ$18,'Female - Rev'!$A21-35,0)","v":7.0000000000000001E-3},{"$f":"OFFSET(Female!BR$18,'Female - Rev'!$A21-35,0)","v":7.6E-3},{"$f":"OFFSET(Female!BS$18,'Female - Rev'!$A21-35,0)","v":8.2000000000000007E-3},{"$f":"OFFSET(Female!BT$18,'Female - Rev'!$A21-35,0)","v":8.8000000000000005E-3},{"$f":"OFFSET(Female!BU$18,'Female - Rev'!$A21-35,0)","v":9.1000000000000004E-3},{"$f":"OFFSET(Female!BV$18,'Female - Rev'!$A21-35,0)","v":9.4000000000000004E-3},{"$f":"OFFSET(Female!BW$18,'Female - Rev'!$A21-35,0)","v":9.4000000000000004E-3},{"$f":"OFFSET(Female!BX$18,'Female - Rev'!$A21-35,0)","v":9.2999999999999992E-3},{"$f":"OFFSET(Female!BY$18,'Female - Rev'!$A21-35,0)","v":9.1000000000000004E-3},{"$f":"OFFSET(Female!BZ$18,'Female - Rev'!$A21-35,0)","v":8.8000000000000005E-3},{"$f":"OFFSET(Female!CA$18,'Female - Rev'!$A21-35,0)","v":8.6999999999999994E-3},{"$f":"OFFSET(Female!CB$18,'Female - Rev'!$A21-35,0)","v":8.6999999999999994E-3},{"$f":"OFFSET(Female!CC$18,'Female - Rev'!$A21-35,0)","v":8.9999999999999993E-3},{"$f":"OFFSET(Female!CD$18,'Female - Rev'!$A21-35,0)","v":9.4000000000000004E-3},{"$f":"OFFSET(Female!CE$18,'Female - Rev'!$A21-35,0)","v":0.01},{"$f":"OFFSET(Female!CF$18,'Female - Rev'!$A21-35,0)","v":1.06E-2},{"$f":"OFFSET(Female!CG$18,'Female - Rev'!$A21-35,0)","v":1.0999999999999999E-2},{"$f":"OFFSET(Female!CH$18,'Female - Rev'!$A21-35,0)","v":1.1299999999999999E-2},{"$f":"OFFSET(Female!CI$18,'Female - Rev'!$A21-35,0)","v":1.14E-2},{"$f":"CJ21","v":1.14E-2},1.14E-2]
[76,76,{"$f":"OFFSET(Female!B$18,'Female - Rev'!$A22-35,0)","v":1.9099999999999999E-2},{"$f":"OFFSET(Female!C$18,'Female - Rev'!$A22-35,0)","v":1.78E-2},{"$f":"OFFSET(Female!D$18,'Female - Rev'!$A22-35,0)","v":1.66E-2},{"$f":"OFFSET(Female!E$18,'Female - Rev'!$A22-35,0)","v":1.54E-2},{"$f":"OFFSET(Female!F$18,'Female - Rev'!$A22-35,0)","v":1.43E-2},{"$f":"OFFSET(Female!G$18,'Female - Rev'!$A22-35,0)","v":1.3299999999999999E-2},{"$f":"OFFSET(Female!H$18,'Female - Rev'!$A22-35,0)","v":1.2500000000000001E-2},{"$f":"OFFSET(Female!I$18,'Female - Rev'!$A22-35,0)","v":1.1900000000000001E-2},{"$f":"OFFSET(Female!J$18,'Female - Rev'!$A22-35,0)","v":1.1599999999999999E-2},{"$f":"OFFSET(Female!K$18,'Female - Rev'!$A22-35,0)","v":1.1299999999999999E-2},{"$f":"OFFSET(Female!L$18,'Female - Rev'!$A22-35,0)","v":1.12E-2},{"$f":"OFFSET(Female!M$18,'Female - Rev'!$A22-35,0)","v":1.1299999999999999E-2},{"$f":"OFFSET(Female!N$18,'Female - Rev'!$A22-35,0)","v":1.15E-2},{"$f":"OFFSET(Female!O$18,'Female - Rev'!$A22-35,0)","v":1.2E-2},{"$f":"OFFSET(Female!P$18,'Female - Rev'!$A22-35,0)","v":1.2800000000000001E-2},{"$f":"OFFSET(Female!Q$18,'Female - Rev'!$A22-35,0)","v":1.38E-2},{"$f":"OFFSET(Female!R$18,'Female - Rev'!$A22-35,0)","v":1.52E-2},{"$f":"OFFSET(Female!S$18,'Female - Rev'!$A22-35,0)","v":1.6799999999999999E-2},{"$f":"OFFSET(Female!T$18,'Female - Rev'!$A22-35,0)","v":1.8599999999999998E-2},{"$f":"OFFSET(Female!U$18,'Female - Rev'!$A22-35,0)","v":2.0500000000000001E-2},{"$f":"OFFSET(Female!V$18,'Female - Rev'!$A22-35,0)","v":2.24E-2},{"$f":"OFFSET(Female!W$18,'Female - Rev'!$A22-35,0)","v":2.4E-2},{"$f":"OFFSET(Female!X$18,'Female - Rev'!$A22-35,0)","v":2.52E-2},{"$f":"OFFSET(Female!Y$18,'Female - Rev'!$A22-35,0)","v":2.5600000000000001E-2},{"$f":"OFFSET(Female!Z$18,'Female - Rev'!$A22-35,0)","v":2.5000000000000001E-2},{"$f":"OFFSET(Female!AA$18,'Female - Rev'!$A22-35,0)","v":2.3300000000000001E-2},{"$f":"OFFSET(Female!AB$18,'Female - Rev'!$A22-35,0)","v":2.07E-2},{"$f":"OFFSET(Female!AC$18,'Female - Rev'!$A22-35,0)","v":1.7399999999999999E-2},{"$f":"OFFSET(Female!AD$18,'Female - Rev'!$A22-35,0)","v":1.3899999999999999E-2},{"$f":"OFFSET(Female!AE$18,'Female - Rev'!$A22-35,0)","v":1.0500000000000001E-2},{"$f":"OFFSET(Female!AF$18,'Female - Rev'!$A22-35,0)","v":7.4999999999999997E-3},{"$f":"OFFSET(Female!AG$18,'Female - Rev'!$A22-35,0)","v":5.1999999999999998E-3},{"$f":"OFFSET(Female!AH$18,'Female - Rev'!$A22-35,0)","v":3.8E-3},{"$f":"OFFSET(Female!AI$18,'Female - Rev'!$A22-35,0)","v":3.3999999999999998E-3},{"$f":"OFFSET(Female!AJ$18,'Female - Rev'!$A22-35,0)","v":3.8E-3},{"$f":"OFFSET(Female!AK$18,'Female - Rev'!$A22-35,0)","v":4.7999999999999996E-3},{"$f":"OFFSET(Female!AL$18,'Female - Rev'!$A22-35,0)","v":6.0000000000000001E-3},{"$f":"OFFSET(Female!AM$18,'Female - Rev'!$A22-35,0)","v":7.1000000000000004E-3},{"$f":"OFFSET(Female!AN$18,'Female - Rev'!$A22-35,0)","v":7.7000000000000002E-3},{"$f":"OFFSET(Female!AO$18,'Female - Rev'!$A22-35,0)","v":7.4999999999999997E-3},{"$f":"OFFSET(Female!AP$18,'Female - Rev'!$A22-35,0)","v":6.7000000000000002E-3},{"$f":"OFFSET(Female!AQ$18,'Female - Rev'!$A22-35,0)","v":5.4000000000000003E-3},{"$f":"OFFSET(Female!AR$18,'Female - Rev'!$A22-35,0)","v":3.8E-3},{"$f":"OFFSET(Female!AS$18,'Female - Rev'!$A22-35,0)","v":2.3999999999999998E-3},{"$f":"OFFSET(Female!AT$18,'Female - Rev'!$A22-35,0)","v":1.4E-3},{"$f":"OFFSET(Female!AU$18,'Female - Rev'!$A22-35,0)","v":8.0000000000000004E-4},{"$f":"OFFSET(Female!AV$18,'Female - Rev'!$A22-35,0)","v":8.9999999999999998E-4},{"$f":"OFFSET(Female!AW$18,'Female - Rev'!$A22-35,0)","v":1.6000000000000001E-3},{"$f":"OFFSET(Female!AX$18,'Female - Rev'!$A22-35,0)","v":3.0000000000000001E-3},{"$f":"OFFSET(Female!AY$18,'Female - Rev'!$A22-35,0)","v":5.1999999999999998E-3},{"$f":"OFFSET(Female!AZ$18,'Female - Rev'!$A22-35,0)","v":7.7999999999999996E-3},{"$f":"OFFSET(Female!BA$18,'Female - Rev'!$A22-35,0)","v":1.06E-2},{"$f":"OFFSET(Female!BB$18,'Female - Rev'!$A22-35,0)","v":1.32E-2},{"$f":"OFFSET(Female!BC$18,'Female - Rev'!$A22-35,0)","v":1.54E-2},{"$f":"OFFSET(Female!BD$18,'Female - Rev'!$A22-35,0)","v":1.6899999999999998E-2},{"$f":"OFFSET(Female!BE$18,'Female - Rev'!$A22-35,0)","v":1.77E-2},{"$f":"OFFSET(Female!BF$18,'Female - Rev'!$A22-35,0)","v":1.77E-2},{"$f":"OFFSET(Female!BG$18,'Female - Rev'!$A22-35,0)","v":1.7000000000000001E-2},{"$f":"OFFSET(Female!BH$18,'Female - Rev'!$A22-35,0)","v":1.5699999999999999E-2},{"$f":"OFFSET(Female!BI$18,'Female - Rev'!$A22-35,0)","v":1.41E-2},{"$f":"OFFSET(Female!BJ$18,'Female - Rev'!$A22-35,0)","v":1.24E-2},{"$f":"OFFSET(Female!BK$18,'Female - Rev'!$A22-35,0)","v":1.0699999999999999E-2},{"$f":"OFFSET(Female!BL$18,'Female - Rev'!$A22-35,0)","v":9.2999999999999992E-3},{"$f":"OFFSET(Female!BM$18,'Female - Rev'!$A22-35,0)","v":8.0999999999999996E-3},{"$f":"OFFSET(Female!BN$18,'Female - Rev'!$A22-35,0)","v":7.3000000000000001E-3},{"$f":"OFFSET(Female!BO$18,'Female - Rev'!$A22-35,0)","v":6.7999999999999996E-3},{"$f":"OFFSET(Female!BP$18,'Female - Rev'!$A22-35,0)","v":7.3000000000000001E-3},{"$f":"OFFSET(Female!BQ$18,'Female - Rev'!$A22-35,0)","v":7.7999999999999996E-3},{"$f":"OFFSET(Female!BR$18,'Female - Rev'!$A22-35,0)","v":8.3000000000000001E-3},{"$f":"OFFSET(Female!BS$18,'Female - Rev'!$A22-35,0)","v":8.6999999999999994E-3},{"$f":"OFFSET(Female!BT$18,'Female - Rev'!$A22-35,0)","v":9.1000000000000004E-3},{"$f":"OFFSET(Female!BU$18,'Female - Rev'!$A22-35,0)","v":9.2999999999999992E-3},{"$f":"OFFSET(Female!BV$18,'Female - Rev'!$A22-35,0)","v":9.4000000000000004E-3},{"$f":"OFFSET(Female!BW$18,'Female - Rev'!$A22-35,0)","v":9.1999999999999998E-3},{"$f":"OFFSET(Female!BX$18,'Female - Rev'!$A22-35,0)","v":8.9999999999999993E-3},{"$f":"OFFSET(Female!BY$18,'Female - Rev'!$A22-35,0)","v":8.6999999999999994E-3},{"$f":"OFFSET(Female!BZ$18,'Female - Rev'!$A22-35,0)","v":8.3999999999999995E-3},{"$f":"OFFSET(Female!CA$18,'Female - Rev'!$A22-35,0)","v":8.3999999999999995E-3},{"$f":"OFFSET(Female!CB$18,'Female - Rev'!$A22-35,0)","v":8.6E-3},{"$f":"OFFSET(Female!CC$18,'Female - Rev'!$A22-35,0)","v":8.9999999999999993E-3},{"$f":"OFFSET(Female!CD$18,'Female - Rev'!$A22-35,0)","v":9.4999999999999998E-3},{"$f":"OFFSET(Female!CE$18,'Female - Rev'!$A22-35,0)","v":1.0200000000000001E-2},{"$f":"OFFSET(Female!CF$18,'Female - Rev'!$A22-35,0)","v":1.0699999999999999E-2},{"$f":"OFFSET(Female!CG$18,'Female - Rev'!$A22-35,0)","v":1.11E-2},{"$f":"OFFSET(Female!CH$18,'Female - Rev'!$A22-35,0)","v":1.14E-2},{"$f":"OFFSET(Female!CI$18,'Female - Rev'!$A22-35,0)","v":1.1599999999999999E-2},{"$f":"CJ22","v":1.1599999999999999E-2},1.1599999999999999E-2]
[75,75,{"$f":"OFFSET(Female!B$18,'Female - Rev'!$A23-35,0)","v":1.9800000000000002E-2},{"$f":"OFFSET(Female!C$18,'Female - Rev'!$A23-35,0)","v":1.8599999999999998E-2},{"$f":"OFFSET(Female!D$18,'Female - Rev'!$A23-35,0)","v":1.7399999999999999E-2},{"$f":"OFFSET(Female!E$18,'Female - Rev'!$A23-35,0)","v":1.6199999999999999E-2},{"$f":"OFFSET(Female!F$18,'Female - Rev'!$A23-35,0)","v":1.4999999999999999E-2},{"$f":"OFFSET(Female!G$18,'Female - Rev'!$A23-35,0)","v":1.4E-2},{"$f":"OFFSET(Female!H$18,'Female - Rev'!$A23-35,0)","v":1.3100000000000001E-2},{"$f":"OFFSET(Female!I$18,'Female - Rev'!$A23-35,0)","v":1.2500000000000001E-2},{"$f":"OFFSET(Female!J$18,'Female - Rev'!$A23-35,0)","v":1.21E-2},{"$f":"OFFSET(Female!K$18,'Female - Rev'!$A23-35,0)","v":1.18E-2},{"$f":"OFFSET(Female!L$18,'Female - Rev'!$A23-35,0)","v":1.1599999999999999E-2},{"$f":"OFFSET(Female!M$18,'Female - Rev'!$A23-35,0)","v":1.1599999999999999E-2},{"$f":"OFFSET(Female!N$18,'Female - Rev'!$A23-35,0)","v":1.18E-2},{"$f":"OFFSET(Female!O$18,'Female - Rev'!$A23-35,0)","v":1.23E-2},{"$f":"OFFSET(Female!P$18,'Female - Rev'!$A23-35,0)","v":1.2999999999999999E-2},{"$f":"OFFSET(Female!Q$18,'Female - Rev'!$A23-35,0)","v":1.3899999999999999E-2},{"$f":"OFFSET(Female!R$18,'Female - Rev'!$A23-35,0)","v":1.52E-2},{"$f":"OFFSET(Female!S$18,'Female - Rev'!$A23-35,0)","v":1.67E-2},{"$f":"OFFSET(Female!T$18,'Female - Rev'!$A23-35,0)","v":1.8499999999999999E-2},{"$f":"OFFSET(Female!U$18,'Female - Rev'!$A23-35,0)","v":2.0400000000000001E-2},{"$f":"OFFSET(Female!V$18,'Female - Rev'!$A23-35,0)","v":2.2200000000000001E-2},{"$f":"OFFSET(Female!W$18,'Female - Rev'!$A23-35,0)","v":2.3699999999999999E-2},{"$f":"OFFSET(Female!X$18,'Female - Rev'!$A23-35,0)","v":2.4799999999999999E-2},{"$f":"OFFSET(Female!Y$18,'Female - Rev'!$A23-35,0)","v":2.5100000000000001E-2},{"$f":"OFFSET(Female!Z$18,'Female - Rev'!$A23-35,0)","v":2.4299999999999999E-2},{"$f":"OFFSET(Female!AA$18,'Female - Rev'!$A23-35,0)","v":2.24E-2},{"$f":"OFFSET(Female!AB$18,'Female - Rev'!$A23-35,0)","v":1.9599999999999999E-2},{"$f":"OFFSET(Female!AC$18,'Female - Rev'!$A23-35,0)","v":1.6299999999999999E-2},{"$f":"OFFSET(Female!AD$18,'Female - Rev'!$A23-35,0)","v":1.26E-2},{"$f":"OFFSET(Female!AE$18,'Female - Rev'!$A23-35,0)","v":9.1999999999999998E-3},{"$f":"OFFSET(Female!AF$18,'Female - Rev'!$A23-35,0)","v":6.3E-3},{"$f":"OFFSET(Female!AG$18,'Female - Rev'!$A23-35,0)","v":4.1999999999999997E-3},{"$f":"OFFSET(Female!AH$18,'Female - Rev'!$A23-35,0)","v":3.0000000000000001E-3},{"$f":"OFFSET(Female!AI$18,'Female - Rev'!$A23-35,0)","v":2.7000000000000001E-3},{"$f":"OFFSET(Female!AJ$18,'Female - Rev'!$A23-35,0)","v":3.3E-3},{"$f":"OFFSET(Female!AK$18,'Female - Rev'!$A23-35,0)","v":4.4999999999999997E-3},{"$f":"OFFSET(Female!AL$18,'Female - Rev'!$A23-35,0)","v":5.8999999999999999E-3},{"$f":"OFFSET(Female!AM$18,'Female - Rev'!$A23-35,0)","v":7.1000000000000004E-3},{"$f":"OFFSET(Female!AN$18,'Female - Rev'!$A23-35,0)","v":7.7000000000000002E-3},{"$f":"OFFSET(Female!AO$18,'Female - Rev'!$A23-35,0)","v":7.6E-3},{"$f":"OFFSET(Female!AP$18,'Female - Rev'!$A23-35,0)","v":6.7999999999999996E-3},{"$f":"OFFSET(Female!AQ$18,'Female - Rev'!$A23-35,0)","v":5.4999999999999997E-3},{"$f":"OFFSET(Female!AR$18,'Female - Rev'!$A23-35,0)","v":4.0000000000000001E-3},{"$f":"OFFSET(Female!AS$18,'Female - Rev'!$A23-35,0)","v":2.7000000000000001E-3},{"$f":"OFFSET(Female!AT$18,'Female - Rev'!$A23-35,0)","v":1.6000000000000001E-3},{"$f":"OFFSET(Female!AU$18,'Female - Rev'!$A23-35,0)","v":1.1999999999999999E-3},{"$f":"OFFSET(Female!AV$18,'Female - Rev'!$A23-35,0)","v":1.2999999999999999E-3},{"$f":"OFFSET(Female!AW$18,'Female - Rev'!$A23-35,0)","v":2E-3},{"$f":"OFFSET(Female!AX$18,'Female - Rev'!$A23-35,0)","v":3.5000000000000001E-3},{"$f":"OFFSET(Female!AY$18,'Female - Rev'!$A23-35,0)","v":5.7000000000000002E-3},{"$f":"OFFSET(Female!AZ$18,'Female - Rev'!$A23-35,0)","v":8.2000000000000007E-3},{"$f":"OFFSET(Female!BA$18,'Female - Rev'!$A23-35,0)","v":1.0999999999999999E-2},{"$f":"OFFSET(Female!BB$18,'Female - Rev'!$A23-35,0)","v":1.37E-2},{"$f":"OFFSET(Female!BC$18,'Female - Rev'!$A23-35,0)","v":1.5900000000000001E-2},{"$f":"OFFSET(Female!BD$18,'Female - Rev'!$A23-35,0)","v":1.7399999999999999E-2},{"$f":"OFFSET(Female!BE$18,'Female - Rev'!$A23-35,0)","v":1.8200000000000001E-2},{"$f":"OFFSET(Female!BF$18,'Female - Rev'!$A23-35,0)","v":1.8200000000000001E-2},{"$f":"OFFSET(Female!BG$18,'Female - Rev'!$A23-35,0)","v":1.7600000000000001E-2},{"$f":"OFFSET(Female!BH$18,'Female - Rev'!$A23-35,0)","v":1.6400000000000001E-2},{"$f":"OFFSET(Female!BI$18,'Female - Rev'!$A23-35,0)","v":1.4800000000000001E-2},{"$f":"OFFSET(Female!BJ$18,'Female - Rev'!$A23-35,0)","v":1.2999999999999999E-2},{"$f":"OFFSET(Female!BK$18,'Female - Rev'!$A23-35,0)","v":1.14E-2},{"$f":"OFFSET(Female!BL$18,'Female - Rev'!$A23-35,0)","v":9.9000000000000008E-3},{"$f":"OFFSET(Female!BM$18,'Female - Rev'!$A23-35,0)","v":8.8000000000000005E-3},{"$f":"OFFSET(Female!BN$18,'Female - Rev'!$A23-35,0)","v":8.0000000000000002E-3},{"$f":"OFFSET(Female!BO$18,'Female - Rev'!$A23-35,0)","v":7.6E-3},{"$f":"OFFSET(Female!BP$18,'Female - Rev'!$A23-35,0)","v":8.0000000000000002E-3},{"$f":"OFFSET(Female!BQ$18,'Female - Rev'!$A23-35,0)","v":8.3999999999999995E-3},{"$f":"OFFSET(Female!BR$18,'Female - Rev'!$A23-35,0)","v":8.8000000000000005E-3},{"$f":"OFFSET(Female!BS$18,'Female - Rev'!$A23-35,0)","v":9.1000000000000004E-3},{"$f":"OFFSET(Female!BT$18,'Female - Rev'!$A23-35,0)","v":9.2999999999999992E-3},{"$f":"OFFSET(Female!BU$18,'Female - Rev'!$A23-35,0)","v":9.2999999999999992E-3},{"$f":"OFFSET(Female!BV$18,'Female - Rev'!$A23-35,0)","v":9.1000000000000004E-3},{"$f":"OFFSET(Female!BW$18,'Female - Rev'!$A23-35,0)","v":8.8999999999999999E-3},{"$f":"OFFSET(Female!BX$18,'Female - Rev'!$A23-35,0)","v":8.5000000000000006E-3},{"$f":"OFFSET(Female!BY$18,'Female - Rev'!$A23-35,0)","v":8.2000000000000007E-3},{"$f":"OFFSET(Female!BZ$18,'Female - Rev'!$A23-35,0)","v":8.0999999999999996E-3},{"$f":"OFFSET(Female!CA$18,'Female - Rev'!$A23-35,0)","v":8.0999999999999996E-3},{"$f":"OFFSET(Female!CB$18,'Female - Rev'!$A23-35,0)","v":8.5000000000000006E-3},{"$f":"OFFSET(Female!CC$18,'Female - Rev'!$A23-35,0)","v":8.9999999999999993E-3},{"$f":"OFFSET(Female!CD$18,'Female - Rev'!$A23-35,0)","v":9.7000000000000003E-3},{"$f":"OFFSET(Female!CE$18,'Female - Rev'!$A23-35,0)","v":1.03E-2},{"$f":"OFFSET(Female!CF$18,'Female - Rev'!$A23-35,0)","v":1.09E-2},{"$f":"OFFSET(Female!CG$18,'Female - Rev'!$A23-35,0)","v":1.1299999999999999E-2},{"$f":"OFFSET(Female!CH$18,'Female - Rev'!$A23-35,0)","v":1.1599999999999999E-2},{"$f":"OFFSET(Female!CI$18,'Female - Rev'!$A23-35,0)","v":1.17E-2},{"$f":"CJ23","v":1.17E-2},1.17E-2]
[74,74,{"$f":"OFFSET(Female!B$18,'Female - Rev'!$A24-35,0)","v":2.0400000000000001E-2},{"$f":"OFFSET(Female!C$18,'Female - Rev'!$A24-35,0)","v":1.9199999999999998E-2},{"$f":"OFFSET(Female!D$18,'Female - Rev'!$A24-35,0)","v":1.7899999999999999E-2},{"$f":"OFFSET(Female!E$18,'Female - Rev'!$A24-35,0)","v":1.67E-2},{"$f":"OFFSET(Female!F$18,'Female - Rev'!$A24-35,0)","v":1.55E-2},{"$f":"OFFSET(Female!G$18,'Female - Rev'!$A24-35,0)","v":1.44E-2},{"$f":"OFFSET(Female!H$18,'Female - Rev'!$A24-35,0)","v":1.35E-2},{"$f":"OFFSET(Female!I$18,'Female - Rev'!$A24-35,0)","v":1.29E-2},{"$f":"OFFSET(Female!J$18,'Female - Rev'!$A24-35,0)","v":1.24E-2},{"$f":"OFFSET(Female!K$18,'Female - Rev'!$A24-35,0)","v":1.21E-2},{"$f":"OFFSET(Female!L$18,'Female - Rev'!$A24-35,0)","v":1.2E-2},{"$f":"OFFSET(Female!M$18,'Female - Rev'!$A24-35,0)","v":1.1900000000000001E-2},{"$f":"OFFSET(Female!N$18,'Female - Rev'!$A24-35,0)","v":1.21E-2},{"$f":"OFFSET(Female!O$18,'Female - Rev'!$A24-35,0)","v":1.2500000000000001E-2},{"$f":"OFFSET(Female!P$18,'Female - Rev'!$A24-35,0)","v":1.3100000000000001E-2},{"$f":"OFFSET(Female!Q$18,'Female - Rev'!$A24-35,0)","v":1.4E-2},{"$f":"OFFSET(Female!R$18,'Female - Rev'!$A24-35,0)","v":1.5299999999999999E-2},{"$f":"OFFSET(Female!S$18,'Female - Rev'!$A24-35,0)","v":1.6799999999999999E-2},{"$f":"OFFSET(Female!T$18,'Female - Rev'!$A24-35,0)","v":1.8499999999999999E-2},{"$f":"OFFSET(Female!U$18,'Female - Rev'!$A24-35,0)","v":2.0299999999999999E-2},{"$f":"OFFSET(Female!V$18,'Female - Rev'!$A24-35,0)","v":2.1999999999999999E-2},{"$f":"OFFSET(Female!W$18,'Female - Rev'!$A24-35,0)","v":2.3400000000000001E-2},{"$f":"OFFSET(Female!X$18,'Female - Rev'!$A24-35,0)","v":2.4299999999999999E-2},{"$f":"OFFSET(Female!Y$18,'Female - Rev'!$A24-35,0)","v":2.4400000000000002E-2},{"$f":"OFFSET(Female!Z$18,'Female - Rev'!$A24-35,0)","v":2.3400000000000001E-2},{"$f":"OFFSET(Female!AA$18,'Female - Rev'!$A24-35,0)","v":2.1399999999999999E-2},{"$f":"OFFSET(Female!AB$18,'Female - Rev'!$A24-35,0)","v":1.84E-2},{"$f":"OFFSET(Female!AC$18,'Female - Rev'!$A24-35,0)","v":1.4999999999999999E-2},{"$f":"OFFSET(Female!AD$18,'Female - Rev'!$A24-35,0)","v":1.1299999999999999E-2},{"$f":"OFFSET(Female!AE$18,'Female - Rev'!$A24-35,0)","v":8.0000000000000002E-3},{"$f":"OFFSET(Female!AF$18,'Female - Rev'!$A24-35,0)","v":5.1999999999999998E-3},{"$f":"OFFSET(Female!AG$18,'Female - Rev'!$A24-35,0)","v":3.2000000000000002E-3},{"$f":"OFFSET(Female!AH$18,'Female - Rev'!$A24-35,0)","v":2.2000000000000001E-3},{"$f":"OFFSET(Female!AI$18,'Female - Rev'!$A24-35,0)","v":2.2000000000000001E-3},{"$f":"OFFSET(Female!AJ$18,'Female - Rev'!$A24-35,0)","v":3.0000000000000001E-3},{"$f":"OFFSET(Female!AK$18,'Female - Rev'!$A24-35,0)","v":4.3E-3},{"$f":"OFFSET(Female!AL$18,'Female - Rev'!$A24-35,0)","v":5.7999999999999996E-3},{"$f":"OFFSET(Female!AM$18,'Female - Rev'!$A24-35,0)","v":7.1000000000000004E-3},{"$f":"OFFSET(Female!AN$18,'Female - Rev'!$A24-35,0)","v":7.7999999999999996E-3},{"$f":"OFFSET(Female!AO$18,'Female - Rev'!$A24-35,0)","v":7.7000000000000002E-3},{"$f":"OFFSET(Female!AP$18,'Female - Rev'!$A24-35,0)","v":6.8999999999999999E-3},{"$f":"OFFSET(Female!AQ$18,'Female - Rev'!$A24-35,0)","v":5.5999999999999999E-3},{"$f":"OFFSET(Female!AR$18,'Female - Rev'!$A24-35,0)","v":4.1999999999999997E-3},{"$f":"OFFSET(Female!AS$18,'Female - Rev'!$A24-35,0)","v":2.8E-3},{"$f":"OFFSET(Female!AT$18,'Female - Rev'!$A24-35,0)","v":1.9E-3},{"$f":"OFFSET(Female!AU$18,'Female - Rev'!$A24-35,0)","v":1.5E-3},{"$f":"OFFSET(Female!AV$18,'Female - Rev'!$A24-35,0)","v":1.6000000000000001E-3},{"$f":"OFFSET(Female!AW$18,'Female - Rev'!$A24-35,0)","v":2.5000000000000001E-3},{"$f":"OFFSET(Female!AX$18,'Female - Rev'!$A24-35,0)","v":4.0000000000000001E-3},{"$f":"OFFSET(Female!AY$18,'Female - Rev'!$A24-35,0)","v":6.1999999999999998E-3},{"$f":"OFFSET(Female!AZ$18,'Female - Rev'!$A24-35,0)","v":8.8000000000000005E-3},{"$f":"OFFSET(Female!BA$18,'Female - Rev'!$A24-35,0)","v":1.1599999999999999E-2},{"$f":"OFFSET(Female!BB$18,'Female - Rev'!$A24-35,0)","v":1.4200000000000001E-2},{"$f":"OFFSET(Female!BC$18,'Female - Rev'!$A24-35,0)","v":1.6400000000000001E-2},{"$f":"OFFSET(Female!BD$18,'Female - Rev'!$A24-35,0)","v":1.7899999999999999E-2},{"$f":"OFFSET(Female!BE$18,'Female - Rev'!$A24-35,0)","v":1.8700000000000001E-2},{"$f":"OFFSET(Female!BF$18,'Female - Rev'!$A24-35,0)","v":1.8800000000000001E-2},{"$f":"OFFSET(Female!BG$18,'Female - Rev'!$A24-35,0)","v":1.8200000000000001E-2},{"$f":"OFFSET(Female!BH$18,'Female - Rev'!$A24-35,0)","v":1.7000000000000001E-2},{"$f":"OFFSET(Female!BI$18,'Female - Rev'!$A24-35,0)","v":1.55E-2},{"$f":"OFFSET(Female!BJ$18,'Female - Rev'!$A24-35,0)","v":1.37E-2},{"$f":"OFFSET(Female!BK$18,'Female - Rev'!$A24-35,0)","v":1.2E-2},{"$f":"OFFSET(Female!BL$18,'Female - Rev'!$A24-35,0)","v":1.0500000000000001E-2},{"$f":"OFFSET(Female!BM$18,'Female - Rev'!$A24-35,0)","v":9.4000000000000004E-3},{"$f":"OFFSET(Female!BN$18,'Female - Rev'!$A24-35,0)","v":8.6999999999999994E-3},{"$f":"OFFSET(Female!BO$18,'Female - Rev'!$A24-35,0)","v":8.3000000000000001E-3},{"$f":"OFFSET(Female!BP$18,'Female - Rev'!$A24-35,0)","v":8.6999999999999994E-3},{"$f":"OFFSET(Female!BQ$18,'Female - Rev'!$A24-35,0)","v":8.9999999999999993E-3},{"$f":"OFFSET(Female!BR$18,'Female - Rev'!$A24-35,0)","v":9.1999999999999998E-3},{"$f":"OFFSET(Female!BS$18,'Female - Rev'!$A24-35,0)","v":9.2999999999999992E-3},{"$f":"OFFSET(Female!BT$18,'Female - Rev'!$A24-35,0)","v":9.2999999999999992E-3},{"$f":"OFFSET(Female!BU$18,'Female - Rev'!$A24-35,0)","v":8.9999999999999993E-3},{"$f":"OFFSET(Female!BV$18,'Female - Rev'!$A24-35,0)","v":8.6999999999999994E-3},{"$f":"OFFSET(Female!BW$18,'Female - Rev'!$A24-35,0)","v":8.3000000000000001E-3},{"$f":"OFFSET(Female!BX$18,'Female - Rev'!$A24-35,0)","v":8.0000000000000002E-3},{"$f":"OFFSET(Female!BY$18,'Female - Rev'!$A24-35,0)","v":7.7000000000000002E-3},{"$f":"OFFSET(Female!BZ$18,'Female - Rev'!$A24-35,0)","v":7.7000000000000002E-3},{"$f":"OFFSET(Female!CA$18,'Female - Rev'!$A24-35,0)","v":7.9000000000000008E-3},{"$f":"OFFSET(Female!CB$18,'Female - Rev'!$A24-35,0)","v":8.3999999999999995E-3},{"$f":"OFFSET(Female!CC$18,'Female - Rev'!$A24-35,0)","v":9.1999999999999998E-3},{"$f":"OFFSET(Female!CD$18,'Female - Rev'!$A24-35,0)","v":9.7999999999999997E-3},{"$f":"OFFSET(Female!CE$18,'Female - Rev'!$A24-35,0)","v":1.0500000000000001E-2},{"$f":"OFFSET(Female!CF$18,'Female - Rev'!$A24-35,0)","v":1.0999999999999999E-2},{"$f":"OFFSET(Female!CG$18,'Female - Rev'!$A24-35,0)","v":1.15E-2},{"$f":"OFFSET(Female!CH$18,'Female - Rev'!$A24-35,0)","v":1.17E-2},{"$f":"OFFSET(Female!CI$18,'Female - Rev'!$A24-35,0)","v":1.18E-2},{"$f":"CJ24","v":1.18E-2},1.18E-2]
[73,73,{"$f":"OFFSET(Female!B$18,'Female - Rev'!$A25-35,0)","v":2.07E-2},{"$f":"OFFSET(Female!C$18,'Female - Rev'!$A25-35,0)","v":1.95E-2},{"$f":"OFFSET(Female!D$18,'Female - Rev'!$A25-35,0)","v":1.8200000000000001E-2},{"$f":"OFFSET(Female!E$18,'Female - Rev'!$A25-35,0)","v":1.7000000000000001E-2},{"$f":"OFFSET(Female!F$18,'Female - Rev'!$A25-35,0)","v":1.5699999999999999E-2},{"$f":"OFFSET(Female!G$18,'Female - Rev'!$A25-35,0)","v":1.46E-2},{"$f":"OFFSET(Female!H$18,'Female - Rev'!$A25-35,0)","v":1.37E-2},{"$f":"OFFSET(Female!I$18,'Female - Rev'!$A25-35,0)","v":1.2999999999999999E-2},{"$f":"OFFSET(Female!J$18,'Female - Rev'!$A25-35,0)","v":1.26E-2},{"$f":"OFFSET(Female!K$18,'Female - Rev'!$A25-35,0)","v":1.23E-2},{"$f":"OFFSET(Female!L$18,'Female - Rev'!$A25-35,0)","v":1.21E-2},{"$f":"OFFSET(Female!M$18,'Female - Rev'!$A25-35,0)","v":1.21E-2},{"$f":"OFFSET(Female!N$18,'Female - Rev'!$A25-35,0)","v":1.23E-2},{"$f":"OFFSET(Female!O$18,'Female - Rev'!$A25-35,0)","v":1.2699999999999999E-2},{"$f":"OFFSET(Female!P$18,'Female - Rev'!$A25-35,0)","v":1.34E-2},{"$f":"OFFSET(Female!Q$18,'Female - Rev'!$A25-35,0)","v":1.4200000000000001E-2},{"$f":"OFFSET(Female!R$18,'Female - Rev'!$A25-35,0)","v":1.54E-2},{"$f":"OFFSET(Female!S$18,'Female - Rev'!$A25-35,0)","v":1.6899999999999998E-2},{"$f":"OFFSET(Female!T$18,'Female - Rev'!$A25-35,0)","v":1.8499999999999999E-2},{"$f":"OFFSET(Female!U$18,'Female - Rev'!$A25-35,0)","v":2.0199999999999999E-2},{"$f":"OFFSET(Female!V$18,'Female - Rev'!$A25-35,0)","v":2.18E-2},{"$f":"OFFSET(Female!W$18,'Female - Rev'!$A25-35,0)","v":2.3099999999999999E-2},{"$f":"OFFSET(Female!X$18,'Female - Rev'!$A25-35,0)","v":2.3800000000000002E-2},{"$f":"OFFSET(Female!Y$18,'Female - Rev'!$A25-35,0)","v":2.3599999999999999E-2},{"$f":"OFFSET(Female!Z$18,'Female - Rev'!$A25-35,0)","v":2.24E-2},{"$f":"OFFSET(Female!AA$18,'Female - Rev'!$A25-35,0)","v":2.0199999999999999E-2},{"$f":"OFFSET(Female!AB$18,'Female - Rev'!$A25-35,0)","v":1.7100000000000001E-2},{"$f":"OFFSET(Female!AC$18,'Female - Rev'!$A25-35,0)","v":1.3599999999999999E-2},{"$f":"OFFSET(Female!AD$18,'Female - Rev'!$A25-35,0)","v":0.01},{"$f":"OFFSET(Female!AE$18,'Female - Rev'!$A25-35,0)","v":6.7000000000000002E-3},{"$f":"OFFSET(Female!AF$18,'Female - Rev'!$A25-35,0)","v":4.1000000000000003E-3},{"$f":"OFFSET(Female!AG$18,'Female - Rev'!$A25-35,0)","v":2.3999999999999998E-3},{"$f":"OFFSET(Female!AH$18,'Female - Rev'!$A25-35,0)","v":1.5E-3},{"$f":"OFFSET(Female!AI$18,'Female - Rev'!$A25-35,0)","v":1.6999999999999999E-3},{"$f":"OFFSET(Female!AJ$18,'Female - Rev'!$A25-35,0)","v":2.7000000000000001E-3},{"$f":"OFFSET(Female!AK$18,'Female - Rev'!$A25-35,0)","v":4.1000000000000003E-3},{"$f":"OFFSET(Female!AL$18,'Female - Rev'!$A25-35,0)","v":5.7000000000000002E-3},{"$f":"OFFSET(Female!AM$18,'Female - Rev'!$A25-35,0)","v":7.0000000000000001E-3},{"$f":"OFFSET(Female!AN$18,'Female - Rev'!$A25-35,0)","v":7.7999999999999996E-3},{"$f":"OFFSET(Female!AO$18,'Female - Rev'!$A25-35,0)","v":7.7000000000000002E-3},{"$f":"OFFSET(Female!AP$18,'Female - Rev'!$A25-35,0)","v":6.8999999999999999E-3},{"$f":"OFFSET(Female!AQ$18,'Female - Rev'!$A25-35,0)","v":5.7000000000000002E-3},{"$f":"OFFSET(Female!AR$18,'Female - Rev'!$A25-35,0)","v":4.3E-3},{"$f":"OFFSET(Female!AS$18,'Female - Rev'!$A25-35,0)","v":3.0000000000000001E-3},{"$f":"OFFSET(Female!AT$18,'Female - Rev'!$A25-35,0)","v":2.0999999999999999E-3},{"$f":"OFFSET(Female!AU$18,'Female - Rev'!$A25-35,0)","v":1.6999999999999999E-3},{"$f":"OFFSET(Female!AV$18,'Female - Rev'!$A25-35,0)","v":2E-3},{"$f":"OFFSET(Female!AW$18,'Female - Rev'!$A25-35,0)","v":2.8999999999999998E-3},{"$f":"OFFSET(Female!AX$18,'Female - Rev'!$A25-35,0)","v":4.5999999999999999E-3},{"$f":"OFFSET(Female!AY$18,'Female - Rev'!$A25-35,0)","v":6.8999999999999999E-3},{"$f":"OFFSET(Female!AZ$18,'Female - Rev'!$A25-35,0)","v":9.4999999999999998E-3},{"$f":"OFFSET(Female!BA$18,'Female - Rev'!$A25-35,0)","v":1.2200000000000001E-2},{"$f":"OFFSET(Female!BB$18,'Female - Rev'!$A25-35,0)","v":1.4800000000000001E-2},{"$f":"OFFSET(Female!BC$18,'Female - Rev'!$A25-35,0)","v":1.7000000000000001E-2},{"$f":"OFFSET(Female!BD$18,'Female - Rev'!$A25-35,0)","v":1.8499999999999999E-2},{"$f":"OFFSET(Female!BE$18,'Female - Rev'!$A25-35,0)","v":1.9300000000000001E-2},{"$f":"OFFSET(Female!BF$18,'Female - Rev'!$A25-35,0)","v":1.9400000000000001E-2},{"$f":"OFFSET(Female!BG$18,'Female - Rev'!$A25-35,0)","v":1.8800000000000001E-2},{"$f":"OFFSET(Female!BH$18,'Female - Rev'!$A25-35,0)","v":1.77E-2},{"$f":"OFFSET(Female!BI$18,'Female - Rev'!$A25-35,0)","v":1.61E-2},{"$f":"OFFSET(Female!BJ$18,'Female - Rev'!$A25-35,0)","v":1.43E-2},{"$f":"OFFSET(Female!BK$18,'Female - Rev'!$A25-35,0)","v":1.26E-2},{"$f":"OFFSET(Female!BL$18,'Female - Rev'!$A25-35,0)","v":1.11E-2},{"$f":"OFFSET(Female!BM$18,'Female - Rev'!$A25-35,0)","v":0.01},{"$f":"OFFSET(Female!BN$18,'Female - Rev'!$A25-35,0)","v":9.2999999999999992E-3},{"$f":"OFFSET(Female!BO$18,'Female - Rev'!$A25-35,0)","v":8.9999999999999993E-3},{"$f":"OFFSET(Female!BP$18,'Female - Rev'!$A25-35,0)","v":9.1999999999999998E-3},{"$f":"OFFSET(Female!BQ$18,'Female - Rev'!$A25-35,0)","v":9.4000000000000004E-3},{"$f":"OFFSET(Female!BR$18,'Female - Rev'!$A25-35,0)","v":9.4000000000000004E-3},{"$f":"OFFSET(Female!BS$18,'Female - Rev'!$A25-35,0)","v":9.2999999999999992E-3},{"$f":"OFFSET(Female!BT$18,'Female - Rev'!$A25-35,0)","v":8.9999999999999993E-3},{"$f":"OFFSET(Female!BU$18,'Female - Rev'!$A25-35,0)","v":8.6E-3},{"$f":"OFFSET(Female!BV$18,'Female - Rev'!$A25-35,0)","v":8.0999999999999996E-3},{"$f":"OFFSET(Female!BW$18,'Female - Rev'!$A25-35,0)","v":7.6E-3},{"$f":"OFFSET(Female!BX$18,'Female - Rev'!$A25-35,0)","v":7.3000000000000001E-3},{"$f":"OFFSET(Female!BY$18,'Female - Rev'!$A25-35,0)","v":7.1999999999999998E-3},{"$f":"OFFSET(Female!BZ$18,'Female - Rev'!$A25-35,0)","v":7.4000000000000003E-3},{"$f":"OFFSET(Female!CA$18,'Female - Rev'!$A25-35,0)","v":7.7999999999999996E-3},{"$f":"OFFSET(Female!CB$18,'Female - Rev'!$A25-35,0)","v":8.5000000000000006E-3},{"$f":"OFFSET(Female!CC$18,'Female - Rev'!$A25-35,0)","v":9.2999999999999992E-3},{"$f":"OFFSET(Female!CD$18,'Female - Rev'!$A25-35,0)","v":0.01},{"$f":"OFFSET(Female!CE$18,'Female - Rev'!$A25-35,0)","v":1.0699999999999999E-2},{"$f":"OFFSET(Female!CF$18,'Female - Rev'!$A25-35,0)","v":1.12E-2},{"$f":"OFFSET(Female!CG$18,'Female - Rev'!$A25-35,0)","v":1.1599999999999999E-2},{"$f":"OFFSET(Female!CH$18,'Female - Rev'!$A25-35,0)","v":1.1900000000000001E-2},{"$f":"OFFSET(Female!CI$18,'Female - Rev'!$A25-35,0)","v":1.2E-2},{"$f":"CJ25","v":1.2E-2},1.2E-2]
[72,72,{"$f":"OFFSET(Female!B$18,'Female - Rev'!$A26-35,0)","v":2.0899999999999998E-2},{"$f":"OFFSET(Female!C$18,'Female - Rev'!$A26-35,0)","v":1.9599999999999999E-2},{"$f":"OFFSET(Female!D$18,'Female - Rev'!$A26-35,0)","v":1.83E-2},{"$f":"OFFSET(Female!E$18,'Female - Rev'!$A26-35,0)","v":1.7000000000000001E-2},{"$f":"OFFSET(Female!F$18,'Female - Rev'!$A26-35,0)","v":1.5699999999999999E-2},{"$f":"OFFSET(Female!G$18,'Female - Rev'!$A26-35,0)","v":1.46E-2},{"$f":"OFFSET(Female!H$18,'Female - Rev'!$A26-35,0)","v":1.3599999999999999E-2},{"$f":"OFFSET(Female!I$18,'Female - Rev'!$A26-35,0)","v":1.29E-2},{"$f":"OFFSET(Female!J$18,'Female - Rev'!$A26-35,0)","v":1.2500000000000001E-2},{"$f":"OFFSET(Female!K$18,'Female - Rev'!$A26-35,0)","v":1.2200000000000001E-2},{"$f":"OFFSET(Female!L$18,'Female - Rev'!$A26-35,0)","v":1.21E-2},{"$f":"OFFSET(Female!M$18,'Female - Rev'!$A26-35,0)","v":1.2200000000000001E-2},{"$f":"OFFSET(Female!N$18,'Female - Rev'!$A26-35,0)","v":1.24E-2},{"$f":"OFFSET(Female!O$18,'Female - Rev'!$A26-35,0)","v":1.29E-2},{"$f":"OFFSET(Female!P$18,'Female - Rev'!$A26-35,0)","v":1.35E-2},{"$f":"OFFSET(Female!Q$18,'Female - Rev'!$A26-35,0)","v":1.44E-2},{"$f":"OFFSET(Female!R$18,'Female - Rev'!$A26-35,0)","v":1.5699999999999999E-2},{"$f":"OFFSET(Female!S$18,'Female - Rev'!$A26-35,0)","v":1.7100000000000001E-2},{"$f":"OFFSET(Female!T$18,'Female - Rev'!$A26-35,0)","v":1.8700000000000001E-2},{"$f":"OFFSET(Female!U$18,'Female - Rev'!$A26-35,0)","v":2.0299999999999999E-2},{"$f":"OFFSET(Female!V$18,'Female - Rev'!$A26-35,0)","v":2.1700000000000001E-2},{"$f":"OFFSET(Female!W$18,'Female - Rev'!$A26-35,0)","v":2.2700000000000001E-2},{"$f":"OFFSET(Female!X$18,'Female - Rev'!$A26-35,0)","v":2.3099999999999999E-2},{"$f":"OFFSET(Female!Y$18,'Female - Rev'!$A26-35,0)","v":2.2700000000000001E-2},{"$f":"OFFSET(Female!Z$18,'Female - Rev'!$A26-35,0)","v":2.1299999999999999E-2},{"$f":"OFFSET(Female!AA$18,'Female - Rev'!$A26-35,0)","v":1.89E-2},{"$f":"OFFSET(Female!AB$18,'Female - Rev'!$A26-35,0)","v":1.5800000000000002E-2},{"$f":"OFFSET(Female!AC$18,'Female - Rev'!$A26-35,0)","v":1.2200000000000001E-2},{"$f":"OFFSET(Female!AD$18,'Female - Rev'!$A26-35,0)","v":8.6999999999999994E-3},{"$f":"OFFSET(Female!AE$18,'Female - Rev'!$A26-35,0)","v":5.5999999999999999E-3},{"$f":"OFFSET(Female!AF$18,'Female - Rev'!$A26-35,0)","v":3.2000000000000002E-3},{"$f":"OFFSET(Female!AG$18,'Female - Rev'!$A26-35,0)","v":1.6000000000000001E-3},{"$f":"OFFSET(Female!AH$18,'Female - Rev'!$A26-35,0)","v":1E-3},{"$f":"OFFSET(Female!AI$18,'Female - Rev'!$A26-35,0)","v":1.2999999999999999E-3},{"$f":"OFFSET(Female!AJ$18,'Female - Rev'!$A26-35,0)","v":2.3999999999999998E-3},{"$f":"OFFSET(Female!AK$18,'Female - Rev'!$A26-35,0)","v":4.0000000000000001E-3},{"$f":"OFFSET(Female!AL$18,'Female - Rev'!$A26-35,0)","v":5.7000000000000002E-3},{"$f":"OFFSET(Female!AM$18,'Female - Rev'!$A26-35,0)","v":7.0000000000000001E-3},{"$f":"OFFSET(Female!AN$18,'Female - Rev'!$A26-35,0)","v":7.7000000000000002E-3},{"$f":"OFFSET(Female!AO$18,'Female - Rev'!$A26-35,0)","v":7.7000000000000002E-3},{"$f":"OFFSET(Female!AP$18,'Female - Rev'!$A26-35,0)","v":6.8999999999999999E-3},{"$f":"OFFSET(Female!AQ$18,'Female - Rev'!$A26-35,0)","v":5.7000000000000002E-3},{"$f":"OFFSET(Female!AR$18,'Female - Rev'!$A26-35,0)","v":4.3E-3},{"$f":"OFFSET(Female!AS$18,'Female - Rev'!$A26-35,0)","v":3.0999999999999999E-3},{"$f":"OFFSET(Female!AT$18,'Female - Rev'!$A26-35,0)","v":2.3E-3},{"$f":"OFFSET(Female!AU$18,'Female - Rev'!$A26-35,0)","v":2E-3},{"$f":"OFFSET(Female!AV$18,'Female - Rev'!$A26-35,0)","v":2.3999999999999998E-3},{"$f":"OFFSET(Female!AW$18,'Female - Rev'!$A26-35,0)","v":3.3999999999999998E-3},{"$f":"OFFSET(Female!AX$18,'Female - Rev'!$A26-35,0)","v":5.1999999999999998E-3},{"$f":"OFFSET(Female!AY$18,'Female - Rev'!$A26-35,0)","v":7.6E-3},{"$f":"OFFSET(Female!AZ$18,'Female - Rev'!$A26-35,0)","v":1.03E-2},{"$f":"OFFSET(Female!BA$18,'Female - Rev'!$A26-35,0)","v":1.2999999999999999E-2},{"$f":"OFFSET(Female!BB$18,'Female - Rev'!$A26-35,0)","v":1.5599999999999999E-2},{"$f":"OFFSET(Female!BC$18,'Female - Rev'!$A26-35,0)","v":1.77E-2},{"$f":"OFFSET(Female!BD$18,'Female - Rev'!$A26-35,0)","v":1.9199999999999998E-2},{"$f":"OFFSET(Female!BE$18,'Female - Rev'!$A26-35,0)","v":0.02},{"$f":"OFFSET(Female!BF$18,'Female - Rev'!$A26-35,0)","v":2.01E-2},{"$f":"OFFSET(Female!BG$18,'Female - Rev'!$A26-35,0)","v":1.9400000000000001E-2},{"$f":"OFFSET(Female!BH$18,'Female - Rev'!$A26-35,0)","v":1.83E-2},{"$f":"OFFSET(Female!BI$18,'Female - Rev'!$A26-35,0)","v":1.67E-2},{"$f":"OFFSET(Female!BJ$18,'Female - Rev'!$A26-35,0)","v":1.49E-2},{"$f":"OFFSET(Female!BK$18,'Female - Rev'!$A26-35,0)","v":1.3100000000000001E-2},{"$f":"OFFSET(Female!BL$18,'Female - Rev'!$A26-35,0)","v":1.1599999999999999E-2},{"$f":"OFFSET(Female!BM$18,'Female - Rev'!$A26-35,0)","v":1.04E-2},{"$f":"OFFSET(Female!BN$18,'Female - Rev'!$A26-35,0)","v":9.7000000000000003E-3},{"$f":"OFFSET(Female!BO$18,'Female - Rev'!$A26-35,0)","v":9.4000000000000004E-3},{"$f":"OFFSET(Female!BP$18,'Female - Rev'!$A26-35,0)","v":9.4999999999999998E-3},{"$f":"OFFSET(Female!BQ$18,'Female - Rev'!$A26-35,0)","v":9.4999999999999998E-3},{"$f":"OFFSET(Female!BR$18,'Female - Rev'!$A26-35,0)","v":9.2999999999999992E-3},{"$f":"OFFSET(Female!BS$18,'Female - Rev'!$A26-35,0)","v":8.8999999999999999E-3},{"$f":"OFFSET(Female!BT$18,'Female - Rev'!$A26-35,0)","v":8.3999999999999995E-3},{"$f":"OFFSET(Female!BU$18,'Female - Rev'!$A26-35,0)","v":7.7999999999999996E-3},{"$f":"OFFSET(Female!BV$18,'Female - Rev'!$A26-35,0)","v":7.3000000000000001E-3},{"$f":"OFFSET(Female!BW$18,'Female - Rev'!$A26-35,0)","v":6.8999999999999999E-3},{"$f":"OFFSET(Female!BX$18,'Female - Rev'!$A26-35,0)","v":6.7000000000000002E-3},{"$f":"OFFSET(Female!BY$18,'Female - Rev'!$A26-35,0)","v":6.7999999999999996E-3},{"$f":"OFFSET(Female!BZ$18,'Female - Rev'!$A26-35,0)","v":7.1999999999999998E-3},{"$f":"OFFSET(Female!CA$18,'Female - Rev'!$A26-35,0)","v":7.9000000000000008E-3},{"$f":"OFFSET(Female!CB$18,'Female - Rev'!$A26-35,0)","v":8.6E-3},{"$f":"OFFSET(Female!CC$18,'Female - Rev'!$A26-35,0)","v":9.4999999999999998E-3},{"$f":"OFFSET(Female!CD$18,'Female - Rev'!$A26-35,0)","v":1.03E-2},{"$f":"OFFSET(Female!CE$18,'Female - Rev'!$A26-35,0)","v":1.09E-2},{"$f":"OFFSET(Female!CF$18,'Female - Rev'!$A26-35,0)","v":1.14E-2},{"$f":"OFFSET(Female!CG$18,'Female - Rev'!$A26-35,0)","v":1.18E-2},{"$f":"OFFSET(Female!CH$18,'Female - Rev'!$A26-35,0)","v":1.2E-2},{"$f":"OFFSET(Female!CI$18,'Female - Rev'!$A26-35,0)","v":1.21E-2},{"$f":"CJ26","v":1.21E-2},1.21E-2]
[71,71,{"$f":"OFFSET(Female!B$18,'Female - Rev'!$A27-35,0)","v":2.1100000000000001E-2},{"$f":"OFFSET(Female!C$18,'Female - Rev'!$A27-35,0)","v":1.9699999999999999E-2},{"$f":"OFFSET(Female!D$18,'Female - Rev'!$A27-35,0)","v":1.83E-2},{"$f":"OFFSET(Female!E$18,'Female - Rev'!$A27-35,0)","v":1.6899999999999998E-2},{"$f":"OFFSET(Female!F$18,'Female - Rev'!$A27-35,0)","v":1.5599999999999999E-2},{"$f":"OFFSET(Female!G$18,'Female - Rev'!$A27-35,0)","v":1.44E-2},{"$f":"OFFSET(Female!H$18,'Female - Rev'!$A27-35,0)","v":1.34E-2},{"$f":"OFFSET(Female!I$18,'Female - Rev'!$A27-35,0)","v":1.2699999999999999E-2},{"$f":"OFFSET(Female!J$18,'Female - Rev'!$A27-35,0)","v":1.23E-2},{"$f":"OFFSET(Female!K$18,'Female - Rev'!$A27-35,0)","v":1.21E-2},{"$f":"OFFSET(Female!L$18,'Female - Rev'!$A27-35,0)","v":1.2E-2},{"$f":"OFFSET(Female!M$18,'Female - Rev'!$A27-35,0)","v":1.21E-2},{"$f":"OFFSET(Female!N$18,'Female - Rev'!$A27-35,0)","v":1.24E-2},{"$f":"OFFSET(Female!O$18,'Female - Rev'!$A27-35,0)","v":1.29E-2},{"$f":"OFFSET(Female!P$18,'Female - Rev'!$A27-35,0)","v":1.37E-2},{"$f":"OFFSET(Female!Q$18,'Female - Rev'!$A27-35,0)","v":1.47E-2},{"$f":"OFFSET(Female!R$18,'Female - Rev'!$A27-35,0)","v":1.6E-2},{"$f":"OFFSET(Female!S$18,'Female - Rev'!$A27-35,0)","v":1.7399999999999999E-2},{"$f":"OFFSET(Female!T$18,'Female - Rev'!$A27-35,0)","v":1.89E-2},{"$f":"OFFSET(Female!U$18,'Female - Rev'!$A27-35,0)","v":2.0299999999999999E-2},{"$f":"OFFSET(Female!V$18,'Female - Rev'!$A27-35,0)","v":2.1399999999999999E-2},{"$f":"OFFSET(Female!W$18,'Female - Rev'!$A27-35,0)","v":2.2200000000000001E-2},{"$f":"OFFSET(Female!X$18,'Female - Rev'!$A27-35,0)","v":2.24E-2},{"$f":"OFFSET(Female!Y$18,'Female - Rev'!$A27-35,0)","v":2.18E-2},{"$f":"OFFSET(Female!Z$18,'Female - Rev'!$A27-35,0)","v":2.0199999999999999E-2},{"$f":"OFFSET(Female!AA$18,'Female - Rev'!$A27-35,0)","v":1.7600000000000001E-2},{"$f":"OFFSET(Female!AB$18,'Female - Rev'!$A27-35,0)","v":1.4500000000000001E-2},{"$f":"OFFSET(Female!AC$18,'Female - Rev'!$A27-35,0)","v":1.0999999999999999E-2},{"$f":"OFFSET(Female!AD$18,'Female - Rev'!$A27-35,0)","v":7.6E-3},{"$f":"OFFSET(Female!AE$18,'Female - Rev'!$A27-35,0)","v":4.5999999999999999E-3},{"$f":"OFFSET(Female!AF$18,'Female - Rev'!$A27-35,0)","v":2.3999999999999998E-3},{"$f":"OFFSET(Female!AG$18,'Female - Rev'!$A27-35,0)","v":1.1000000000000001E-3},{"$f":"OFFSET(Female!AH$18,'Female - Rev'!$A27-35,0)","v":5.9999999999999995E-4},{"$f":"OFFSET(Female!AI$18,'Female - Rev'!$A27-35,0)","v":1.1000000000000001E-3},{"$f":"OFFSET(Female!AJ$18,'Female - Rev'!$A27-35,0)","v":2.3E-3},{"$f":"OFFSET(Female!AK$18,'Female - Rev'!$A27-35,0)","v":3.8999999999999998E-3},{"$f":"OFFSET(Female!AL$18,'Female - Rev'!$A27-35,0)","v":5.5999999999999999E-3},{"$f":"OFFSET(Female!AM$18,'Female - Rev'!$A27-35,0)","v":6.8999999999999999E-3},{"$f":"OFFSET(Female!AN$18,'Female - Rev'!$A27-35,0)","v":7.7000000000000002E-3},{"$f":"OFFSET(Female!AO$18,'Female - Rev'!$A27-35,0)","v":7.6E-3},{"$f":"OFFSET(Female!AP$18,'Female - Rev'!$A27-35,0)","v":6.8999999999999999E-3},{"$f":"OFFSET(Female!AQ$18,'Female - Rev'!$A27-35,0)","v":5.7000000000000002E-3},{"$f":"OFFSET(Female!AR$18,'Female - Rev'!$A27-35,0)","v":4.4000000000000003E-3},{"$f":"OFFSET(Female!AS$18,'Female - Rev'!$A27-35,0)","v":3.2000000000000002E-3},{"$f":"OFFSET(Female!AT$18,'Female - Rev'!$A27-35,0)","v":2.5000000000000001E-3},{"$f":"OFFSET(Female!AU$18,'Female - Rev'!$A27-35,0)","v":2.3E-3},{"$f":"OFFSET(Female!AV$18,'Female - Rev'!$A27-35,0)","v":2.8E-3},{"$f":"OFFSET(Female!AW$18,'Female - Rev'!$A27-35,0)","v":4.0000000000000001E-3},{"$f":"OFFSET(Female!AX$18,'Female - Rev'!$A27-35,0)","v":5.8999999999999999E-3},{"$f":"OFFSET(Female!AY$18,'Female - Rev'!$A27-35,0)","v":8.3000000000000001E-3},{"$f":"OFFSET(Female!AZ$18,'Female - Rev'!$A27-35,0)","v":1.11E-2},{"$f":"OFFSET(Female!BA$18,'Female - Rev'!$A27-35,0)","v":1.3899999999999999E-2},{"$f":"OFFSET(Female!BB$18,'Female - Rev'!$A27-35,0)","v":1.6500000000000001E-2},{"$f":"OFFSET(Female!BC$18,'Female - Rev'!$A27-35,0)","v":1.8499999999999999E-2},{"$f":"OFFSET(Female!BD$18,'Female - Rev'!$A27-35,0)","v":0.02},{"$f":"OFFSET(Female!BE$18,'Female - Rev'!$A27-35,0)","v":2.07E-2},{"$f":"OFFSET(Female!BF$18,'Female - Rev'!$A27-35,0)","v":2.07E-2},{"$f":"OFFSET(Female!BG$18,'Female - Rev'!$A27-35,0)","v":0.02},{"$f":"OFFSET(Female!BH$18,'Female - Rev'!$A27-35,0)","v":1.8800000000000001E-2},{"$f":"OFFSET(Female!BI$18,'Female - Rev'!$A27-35,0)","v":1.72E-2},{"$f":"OFFSET(Female!BJ$18,'Female - Rev'!$A27-35,0)","v":1.54E-2},{"$f":"OFFSET(Female!BK$18,'Female - Rev'!$A27-35,0)","v":1.3599999999999999E-2},{"$f":"OFFSET(Female!BL$18,'Female - Rev'!$A27-35,0)","v":1.2E-2},{"$f":"OFFSET(Female!BM$18,'Female - Rev'!$A27-35,0)","v":1.0800000000000001E-2},{"$f":"OFFSET(Female!BN$18,'Female - Rev'!$A27-35,0)","v":0.01},{"$f":"OFFSET(Female!BO$18,'Female - Rev'!$A27-35,0)","v":9.5999999999999992E-3},{"$f":"OFFSET(Female!BP$18,'Female - Rev'!$A27-35,0)","v":9.4999999999999998E-3},{"$f":"OFFSET(Female!BQ$18,'Female - Rev'!$A27-35,0)","v":9.2999999999999992E-3},{"$f":"OFFSET(Female!BR$18,'Female - Rev'!$A27-35,0)","v":8.8000000000000005E-3},{"$f":"OFFSET(Female!BS$18,'Female - Rev'!$A27-35,0)","v":8.2000000000000007E-3},{"$f":"OFFSET(Female!BT$18,'Female - Rev'!$A27-35,0)","v":7.6E-3},{"$f":"OFFSET(Female!BU$18,'Female - Rev'!$A27-35,0)","v":6.8999999999999999E-3},{"$f":"OFFSET(Female!BV$18,'Female - Rev'!$A27-35,0)","v":6.4000000000000003E-3},{"$f":"OFFSET(Female!BW$18,'Female - Rev'!$A27-35,0)","v":6.1000000000000004E-3},{"$f":"OFFSET(Female!BX$18,'Female - Rev'!$A27-35,0)","v":6.1999999999999998E-3},{"$f":"OFFSET(Female!BY$18,'Female - Rev'!$A27-35,0)","v":6.4999999999999997E-3},{"$f":"OFFSET(Female!BZ$18,'Female - Rev'!$A27-35,0)","v":7.1999999999999998E-3},{"$f":"OFFSET(Female!CA$18,'Female - Rev'!$A27-35,0)","v":8.0000000000000002E-3},{"$f":"OFFSET(Female!CB$18,'Female - Rev'!$A27-35,0)","v":8.8999999999999999E-3},{"$f":"OFFSET(Female!CC$18,'Female - Rev'!$A27-35,0)","v":9.7000000000000003E-3},{"$f":"OFFSET(Female!CD$18,'Female - Rev'!$A27-35,0)","v":1.0500000000000001E-2},{"$f":"OFFSET(Female!CE$18,'Female - Rev'!$A27-35,0)","v":1.12E-2},{"$f":"OFFSET(Female!CF$18,'Female - Rev'!$A27-35,0)","v":1.17E-2},{"$f":"OFFSET(Female!CG$18,'Female - Rev'!$A27-35,0)","v":1.2E-2},{"$f":"OFFSET(Female!CH$18,'Female - Rev'!$A27-35,0)","v":1.2200000000000001E-2},{"$f":"OFFSET(Female!CI$18,'Female - Rev'!$A27-35,0)","v":1.23E-2},{"$f":"CJ27","v":1.23E-2},1.23E-2]
[70,70,{"$f":"OFFSET(Female!B$18,'Female - Rev'!$A28-35,0)","v":2.1299999999999999E-2},{"$f":"OFFSET(Female!C$18,'Female - Rev'!$A28-35,0)","v":1.9800000000000002E-2},{"$f":"OFFSET(Female!D$18,'Female - Rev'!$A28-35,0)","v":1.83E-2},{"$f":"OFFSET(Female!E$18,'Female - Rev'!$A28-35,0)","v":1.6799999999999999E-2},{"$f":"OFFSET(Female!F$18,'Female - Rev'!$A28-35,0)","v":1.5299999999999999E-2},{"$f":"OFFSET(Female!G$18,'Female - Rev'!$A28-35,0)","v":1.4E-2},{"$f":"OFFSET(Female!H$18,'Female - Rev'!$A28-35,0)","v":1.2999999999999999E-2},{"$f":"OFFSET(Female!I$18,'Female - Rev'!$A28-35,0)","v":1.23E-2},{"$f":"OFFSET(Female!J$18,'Female - Rev'!$A28-35,0)","v":1.1900000000000001E-2},{"$f":"OFFSET(Female!K$18,'Female - Rev'!$A28-35,0)","v":1.17E-2},{"$f":"OFFSET(Female!L$18,'Female - Rev'!$A28-35,0)","v":1.1599999999999999E-2},{"$f":"OFFSET(Female!M$18,'Female - Rev'!$A28-35,0)","v":1.18E-2},{"$f":"OFFSET(Female!N$18,'Female - Rev'!$A28-35,0)","v":1.2200000000000001E-2},{"$f":"OFFSET(Female!O$18,'Female - Rev'!$A28-35,0)","v":1.2800000000000001E-2},{"$f":"OFFSET(Female!P$18,'Female - Rev'!$A28-35,0)","v":1.38E-2},{"$f":"OFFSET(Female!Q$18,'Female - Rev'!$A28-35,0)","v":1.49E-2},{"$f":"OFFSET(Female!R$18,'Female - Rev'!$A28-35,0)","v":1.6299999999999999E-2},{"$f":"OFFSET(Female!S$18,'Female - Rev'!$A28-35,0)","v":1.77E-2},{"$f":"OFFSET(Female!T$18,'Female - Rev'!$A28-35,0)","v":1.9099999999999999E-2},{"$f":"OFFSET(Female!U$18,'Female - Rev'!$A28-35,0)","v":2.0299999999999999E-2},{"$f":"OFFSET(Female!V$18,'Female - Rev'!$A28-35,0)","v":2.12E-2},{"$f":"OFFSET(Female!W$18,'Female - Rev'!$A28-35,0)","v":2.1700000000000001E-2},{"$f":"OFFSET(Female!X$18,'Female - Rev'!$A28-35,0)","v":2.1600000000000001E-2},{"$f":"OFFSET(Female!Y$18,'Female - Rev'!$A28-35,0)","v":2.07E-2},{"$f":"OFFSET(Female!Z$18,'Female - Rev'!$A28-35,0)","v":1.9E-2},{"$f":"OFFSET(Female!AA$18,'Female - Rev'!$A28-35,0)","v":1.6400000000000001E-2},{"$f":"OFFSET(Female!AB$18,'Female - Rev'!$A28-35,0)","v":1.32E-2},{"$f":"OFFSET(Female!AC$18,'Female - Rev'!$A28-35,0)","v":9.7999999999999997E-3},{"$f":"OFFSET(Female!AD$18,'Female - Rev'!$A28-35,0)","v":6.6E-3},{"$f":"OFFSET(Female!AE$18,'Female - Rev'!$A28-35,0)","v":3.8E-3},{"$f":"OFFSET(Female!AF$18,'Female - Rev'!$A28-35,0)","v":1.9E-3},{"$f":"OFFSET(Female!AG$18,'Female - Rev'!$A28-35,0)","v":6.9999999999999999E-4},{"$f":"OFFSET(Female!AH$18,'Female - Rev'!$A28-35,0)","v":4.0000000000000002E-4},{"$f":"OFFSET(Female!AI$18,'Female - Rev'!$A28-35,0)","v":1E-3},{"$f":"OFFSET(Female!AJ$18,'Female - Rev'!$A28-35,0)","v":2.2000000000000001E-3},{"$f":"OFFSET(Female!AK$18,'Female - Rev'!$A28-35,0)","v":3.8999999999999998E-3},{"$f":"OFFSET(Female!AL$18,'Female - Rev'!$A28-35,0)","v":5.4999999999999997E-3},{"$f":"OFFSET(Female!AM$18,'Female - Rev'!$A28-35,0)","v":6.8999999999999999E-3},{"$f":"OFFSET(Female!AN$18,'Female - Rev'!$A28-35,0)","v":7.6E-3},{"$f":"OFFSET(Female!AO$18,'Female - Rev'!$A28-35,0)","v":7.6E-3},{"$f":"OFFSET(Female!AP$18,'Female - Rev'!$A28-35,0)","v":6.8999999999999999E-3},{"$f":"OFFSET(Female!AQ$18,'Female - Rev'!$A28-35,0)","v":5.7000000000000002E-3},{"$f":"OFFSET(Female!AR$18,'Female - Rev'!$A28-35,0)","v":4.4000000000000003E-3},{"$f":"OFFSET(Female!AS$18,'Female - Rev'!$A28-35,0)","v":3.3999999999999998E-3},{"$f":"OFFSET(Female!AT$18,'Female - Rev'!$A28-35,0)","v":2.7000000000000001E-3},{"$f":"OFFSET(Female!AU$18,'Female - Rev'!$A28-35,0)","v":2.7000000000000001E-3},{"$f":"OFFSET(Female!AV$18,'Female - Rev'!$A28-35,0)","v":3.3E-3},{"$f":"OFFSET(Female!AW$18,'Female - Rev'!$A28-35,0)","v":4.5999999999999999E-3},{"$f":"OFFSET(Female!AX$18,'Female - Rev'!$A28-35,0)","v":6.6E-3},{"$f":"OFFSET(Female!AY$18,'Female - Rev'!$A28-35,0)","v":9.1999999999999998E-3},{"$f":"OFFSET(Female!AZ$18,'Female - Rev'!$A28-35,0)","v":1.2E-2},{"$f":"OFFSET(Female!BA$18,'Female - Rev'!$A28-35,0)","v":1.4800000000000001E-2},{"$f":"OFFSET(Female!BB$18,'Female - Rev'!$A28-35,0)","v":1.7399999999999999E-2},{"$f":"OFFSET(Female!BC$18,'Female - Rev'!$A28-35,0)","v":1.9400000000000001E-2},{"$f":"OFFSET(Female!BD$18,'Female - Rev'!$A28-35,0)","v":2.07E-2},{"$f":"OFFSET(Female!BE$18,'Female - Rev'!$A28-35,0)","v":2.1399999999999999E-2},{"$f":"OFFSET(Female!BF$18,'Female - Rev'!$A28-35,0)","v":2.1299999999999999E-2},{"$f":"OFFSET(Female!BG$18,'Female - Rev'!$A28-35,0)","v":2.06E-2},{"$f":"OFFSET(Female!BH$18,'Female - Rev'!$A28-35,0)","v":1.9300000000000001E-2},{"$f":"OFFSET(Female!BI$18,'Female - Rev'!$A28-35,0)","v":1.7600000000000001E-2},{"$f":"OFFSET(Female!BJ$18,'Female - Rev'!$A28-35,0)","v":1.5699999999999999E-2},{"$f":"OFFSET(Female!BK$18,'Female - Rev'!$A28-35,0)","v":1.3899999999999999E-2},{"$f":"OFFSET(Female!BL$18,'Female - Rev'!$A28-35,0)","v":1.2200000000000001E-2},{"$f":"OFFSET(Female!BM$18,'Female - Rev'!$A28-35,0)","v":1.09E-2},{"$f":"OFFSET(Female!BN$18,'Female - Rev'!$A28-35,0)","v":0.01},{"$f":"OFFSET(Female!BO$18,'Female - Rev'!$A28-35,0)","v":9.4000000000000004E-3},{"$f":"OFFSET(Female!BP$18,'Female - Rev'!$A28-35,0)","v":9.1000000000000004E-3},{"$f":"OFFSET(Female!BQ$18,'Female - Rev'!$A28-35,0)","v":8.6E-3},{"$f":"OFFSET(Female!BR$18,'Female - Rev'!$A28-35,0)","v":8.0000000000000002E-3},{"$f":"OFFSET(Female!BS$18,'Female - Rev'!$A28-35,0)","v":7.1999999999999998E-3},{"$f":"OFFSET(Female!BT$18,'Female - Rev'!$A28-35,0)","v":6.4999999999999997E-3},{"$f":"OFFSET(Female!BU$18,'Female - Rev'!$A28-35,0)","v":5.8999999999999999E-3},{"$f":"OFFSET(Female!BV$18,'Female - Rev'!$A28-35,0)","v":5.4999999999999997E-3},{"$f":"OFFSET(Female!BW$18,'Female - Rev'!$A28-35,0)","v":5.4999999999999997E-3},{"$f":"OFFSET(Female!BX$18,'Female - Rev'!$A28-35,0)","v":5.7999999999999996E-3},{"$f":"OFFSET(Female!BY$18,'Female - Rev'!$A28-35,0)","v":6.4999999999999997E-3},{"$f":"OFFSET(Female!BZ$18,'Female - Rev'!$A28-35,0)","v":7.1999999999999998E-3},{"$f":"OFFSET(Female!CA$18,'Female - Rev'!$A28-35,0)","v":8.2000000000000007E-3},{"$f":"OFFSET(Female!CB$18,'Female - Rev'!$A28-35,0)","v":9.1999999999999998E-3},{"$f":"OFFSET(Female!CC$18,'Female - Rev'!$A28-35,0)","v":1.01E-2},{"$f":"OFFSET(Female!CD$18,'Female - Rev'!$A28-35,0)","v":1.09E-2},{"$f":"OFFSET(Female!CE$18,'Female - Rev'!$A28-35,0)","v":1.15E-2},{"$f":"OFFSET(Female!CF$18,'Female - Rev'!$A28-35,0)","v":1.1900000000000001E-2},{"$f":"OFFSET(Female!CG$18,'Female - Rev'!$A28-35,0)","v":1.21E-2},{"$f":"OFFSET(Female!CH$18,'Female - Rev'!$A28-35,0)","v":1.23E-2},{"$f":"OFFSET(Female!CI$18,'Female - Rev'!$A28-35,0)","v":1.24E-2},{"$f":"CJ28","v":1.24E-2},1.24E-2]
[69,69,{"$f":"OFFSET(Female!B$18,'Female - Rev'!$A29-35,0)","v":2.1700000000000001E-2},{"$f":"OFFSET(Female!C$18,'Female - Rev'!$A29-35,0)","v":0.02},{"$f":"OFFSET(Female!D$18,'Female - Rev'!$A29-35,0)","v":1.83E-2},{"$f":"OFFSET(Female!E$18,'Female - Rev'!$A29-35,0)","v":1.66E-2},{"$f":"OFFSET(Female!F$18,'Female - Rev'!$A29-35,0)","v":1.4999999999999999E-2},{"$f":"OFFSET(Female!G$18,'Female - Rev'!$A29-35,0)","v":1.3599999999999999E-2},{"$f":"OFFSET(Female!H$18,'Female - Rev'!$A29-35,0)","v":1.2500000000000001E-2},{"$f":"OFFSET(Female!I$18,'Female - Rev'!$A29-35,0)","v":1.18E-2},{"$f":"OFFSET(Female!J$18,'Female - Rev'!$A29-35,0)","v":1.14E-2},{"$f":"OFFSET(Female!K$18,'Female - Rev'!$A29-35,0)","v":1.12E-2},{"$f":"OFFSET(Female!L$18,'Female - Rev'!$A29-35,0)","v":1.11E-2},{"$f":"OFFSET(Female!M$18,'Female - Rev'!$A29-35,0)","v":1.1299999999999999E-2},{"$f":"OFFSET(Female!N$18,'Female - Rev'!$A29-35,0)","v":1.18E-2},{"$f":"OFFSET(Female!O$18,'Female - Rev'!$A29-35,0)","v":1.26E-2},{"$f":"OFFSET(Female!P$18,'Female - Rev'!$A29-35,0)","v":1.37E-2},{"$f":"OFFSET(Female!Q$18,'Female - Rev'!$A29-35,0)","v":1.5100000000000001E-2},{"$f":"OFFSET(Female!R$18,'Female - Rev'!$A29-35,0)","v":1.66E-2},{"$f":"OFFSET(Female!S$18,'Female - Rev'!$A29-35,0)","v":1.8100000000000002E-2},{"$f":"OFFSET(Female!T$18,'Female - Rev'!$A29-35,0)","v":1.9300000000000001E-2},{"$f":"OFFSET(Female!U$18,'Female - Rev'!$A29-35,0)","v":2.0199999999999999E-2},{"$f":"OFFSET(Female!V$18,'Female - Rev'!$A29-35,0)","v":2.0799999999999999E-2},{"$f":"OFFSET(Female!W$18,'Female - Rev'!$A29-35,0)","v":2.1000000000000001E-2},{"$f":"OFFSET(Female!X$18,'Female - Rev'!$A29-35,0)","v":2.07E-2},{"$f":"OFFSET(Female!Y$18,'Female - Rev'!$A29-35,0)","v":1.9699999999999999E-2},{"$f":"OFFSET(Female!Z$18,'Female - Rev'!$A29-35,0)","v":1.7899999999999999E-2},{"$f":"OFFSET(Female!AA$18,'Female - Rev'!$A29-35,0)","v":1.5299999999999999E-2},{"$f":"OFFSET(Female!AB$18,'Female - Rev'!$A29-35,0)","v":1.2200000000000001E-2},{"$f":"OFFSET(Female!AC$18,'Female - Rev'!$A29-35,0)","v":8.9999999999999993E-3},{"$f":"OFFSET(Female!AD$18,'Female - Rev'!$A29-35,0)","v":5.8999999999999999E-3},{"$f":"OFFSET(Female!AE$18,'Female - Rev'!$A29-35,0)","v":3.3999999999999998E-3},{"$f":"OFFSET(Female!AF$18,'Female - Rev'!$A29-35,0)","v":1.6000000000000001E-3},{"$f":"OFFSET(Female!AG$18,'Female - Rev'!$A29-35,0)","v":5.9999999999999995E-4},{"$f":"OFFSET(Female!AH$18,'Female - Rev'!$A29-35,0)","v":4.0000000000000002E-4},{"$f":"OFFSET(Female!AI$18,'Female - Rev'!$A29-35,0)","v":1E-3},{"$f":"OFFSET(Female!AJ$18,'Female - Rev'!$A29-35,0)","v":2.2000000000000001E-3},{"$f":"OFFSET(Female!AK$18,'Female - Rev'!$A29-35,0)","v":3.8999999999999998E-3},{"$f":"OFFSET(Female!AL$18,'Female - Rev'!$A29-35,0)","v":5.4999999999999997E-3},{"$f":"OFFSET(Female!AM$18,'Female - Rev'!$A29-35,0)","v":6.7999999999999996E-3},{"$f":"OFFSET(Female!AN$18,'Female - Rev'!$A29-35,0)","v":7.6E-3},{"$f":"OFFSET(Female!AO$18,'Female - Rev'!$A29-35,0)","v":7.6E-3},{"$f":"OFFSET(Female!AP$18,'Female - Rev'!$A29-35,0)","v":6.8999999999999999E-3},{"$f":"OFFSET(Female!AQ$18,'Female - Rev'!$A29-35,0)","v":5.7000000000000002E-3},{"$f":"OFFSET(Female!AR$18,'Female - Rev'!$A29-35,0)","v":4.4999999999999997E-3},{"$f":"OFFSET(Female!AS$18,'Female - Rev'!$A29-35,0)","v":3.5999999999999999E-3},{"$f":"OFFSET(Female!AT$18,'Female - Rev'!$A29-35,0)","v":3.0000000000000001E-3},{"$f":"OFFSET(Female!AU$18,'Female - Rev'!$A29-35,0)","v":3.0999999999999999E-3},{"$f":"OFFSET(Female!AV$18,'Female - Rev'!$A29-35,0)","v":3.8999999999999998E-3},{"$f":"OFFSET(Female!AW$18,'Female - Rev'!$A29-35,0)","v":5.3E-3},{"$f":"OFFSET(Female!AX$18,'Female - Rev'!$A29-35,0)","v":7.4000000000000003E-3},{"$f":"OFFSET(Female!AY$18,'Female - Rev'!$A29-35,0)","v":0.01},{"$f":"OFFSET(Female!AZ$18,'Female - Rev'!$A29-35,0)","v":1.29E-2},{"$f":"OFFSET(Female!BA$18,'Female - Rev'!$A29-35,0)","v":1.5800000000000002E-2},{"$f":"OFFSET(Female!BB$18,'Female - Rev'!$A29-35,0)","v":1.83E-2},{"$f":"OFFSET(Female!BC$18,'Female - Rev'!$A29-35,0)","v":2.0299999999999999E-2},{"$f":"OFFSET(Female!BD$18,'Female - Rev'!$A29-35,0)","v":2.1499999999999998E-2},{"$f":"OFFSET(Female!BE$18,'Female - Rev'!$A29-35,0)","v":2.2100000000000002E-2},{"$f":"OFFSET(Female!BF$18,'Female - Rev'!$A29-35,0)","v":2.1899999999999999E-2},{"$f":"OFFSET(Female!BG$18,'Female - Rev'!$A29-35,0)","v":2.1100000000000001E-2},{"$f":"OFFSET(Female!BH$18,'Female - Rev'!$A29-35,0)","v":1.9699999999999999E-2},{"$f":"OFFSET(Female!BI$18,'Female - Rev'!$A29-35,0)","v":1.7899999999999999E-2},{"$f":"OFFSET(Female!BJ$18,'Female - Rev'!$A29-35,0)","v":1.5900000000000001E-2},{"$f":"OFFSET(Female!BK$18,'Female - Rev'!$A29-35,0)","v":1.4E-2},{"$f":"OFFSET(Female!BL$18,'Female - Rev'!$A29-35,0)","v":1.2200000000000001E-2},{"$f":"OFFSET(Female!BM$18,'Female - Rev'!$A29-35,0)","v":1.0699999999999999E-2},{"$f":"OFFSET(Female!BN$18,'Female - Rev'!$A29-35,0)","v":9.5999999999999992E-3},{"$f":"OFFSET(Female!BO$18,'Female - Rev'!$A29-35,0)","v":8.6999999999999994E-3},{"$f":"OFFSET(Female!BP$18,'Female - Rev'!$A29-35,0)","v":8.2000000000000007E-3},{"$f":"OFFSET(Female!BQ$18,'Female - Rev'!$A29-35,0)","v":7.4999999999999997E-3},{"$f":"OFFSET(Female!BR$18,'Female - Rev'!$A29-35,0)","v":6.7000000000000002E-3},{"$f":"OFFSET(Female!BS$18,'Female - Rev'!$A29-35,0)","v":5.8999999999999999E-3},{"$f":"OFFSET(Female!BT$18,'Female - Rev'!$A29-35,0)","v":5.1999999999999998E-3},{"$f":"OFFSET(Female!BU$18,'Female - Rev'!$A29-35,0)","v":4.7999999999999996E-3},{"$f":"OFFSET(Female!BV$18,'Female - Rev'!$A29-35,0)","v":4.7000000000000002E-3},{"$f":"OFFSET(Female!BW$18,'Female - Rev'!$A29-35,0)","v":5.0000000000000001E-3},{"$f":"OFFSET(Female!BX$18,'Female - Rev'!$A29-35,0)","v":5.7000000000000002E-3},{"$f":"OFFSET(Female!BY$18,'Female - Rev'!$A29-35,0)","v":6.4999999999999997E-3},{"$f":"OFFSET(Female!BZ$18,'Female - Rev'!$A29-35,0)","v":7.4999999999999997E-3},{"$f":"OFFSET(Female!CA$18,'Female - Rev'!$A29-35,0)","v":8.6E-3},{"$f":"OFFSET(Female!CB$18,'Female - Rev'!$A29-35,0)","v":9.5999999999999992E-3},{"$f":"OFFSET(Female!CC$18,'Female - Rev'!$A29-35,0)","v":1.0500000000000001E-2},{"$f":"OFFSET(Female!CD$18,'Female - Rev'!$A29-35,0)","v":1.12E-2},{"$f":"OFFSET(Female!CE$18,'Female - Rev'!$A29-35,0)","v":1.17E-2},{"$f":"OFFSET(Female!CF$18,'Female - Rev'!$A29-35,0)","v":1.21E-2},{"$f":"OFFSET(Female!CG$18,'Female - Rev'!$A29-35,0)","v":1.23E-2},{"$f":"OFFSET(Female!CH$18,'Female - Rev'!$A29-35,0)","v":1.24E-2},{"$f":"OFFSET(Female!CI$18,'Female - Rev'!$A29-35,0)","v":1.2500000000000001E-2},{"$f":"CJ29","v":1.2500000000000001E-2},1.2500000000000001E-2]
[68,68,{"$f":"OFFSET(Female!B$18,'Female - Rev'!$A30-35,0)","v":2.23E-2},{"$f":"OFFSET(Female!C$18,'Female - Rev'!$A30-35,0)","v":2.0299999999999999E-2},{"$f":"OFFSET(Female!D$18,'Female - Rev'!$A30-35,0)","v":1.84E-2},{"$f":"OFFSET(Female!E$18,'Female - Rev'!$A30-35,0)","v":1.6500000000000001E-2},{"$f":"OFFSET(Female!F$18,'Female - Rev'!$A30-35,0)","v":1.47E-2},{"$f":"OFFSET(Female!G$18,'Female - Rev'!$A30-35,0)","v":1.32E-2},{"$f":"OFFSET(Female!H$18,'Female - Rev'!$A30-35,0)","v":1.2E-2},{"$f":"OFFSET(Female!I$18,'Female - Rev'!$A30-35,0)","v":1.12E-2},{"$f":"OFFSET(Female!J$18,'Female - Rev'!$A30-35,0)","v":1.0699999999999999E-2},{"$f":"OFFSET(Female!K$18,'Female - Rev'!$A30-35,0)","v":1.0500000000000001E-2},{"$f":"OFFSET(Female!L$18,'Female - Rev'!$A30-35,0)","v":1.0500000000000001E-2},{"$f":"OFFSET(Female!M$18,'Female - Rev'!$A30-35,0)","v":1.0699999999999999E-2},{"$f":"OFFSET(Female!N$18,'Female - Rev'!$A30-35,0)","v":1.14E-2},{"$f":"OFFSET(Female!O$18,'Female - Rev'!$A30-35,0)","v":1.23E-2},{"$f":"OFFSET(Female!P$18,'Female - Rev'!$A30-35,0)","v":1.3599999999999999E-2},{"$f":"OFFSET(Female!Q$18,'Female - Rev'!$A30-35,0)","v":1.52E-2},{"$f":"OFFSET(Female!R$18,'Female - Rev'!$A30-35,0)","v":1.6799999999999999E-2},{"$f":"OFFSET(Female!S$18,'Female - Rev'!$A30-35,0)","v":1.8200000000000001E-2},{"$f":"OFFSET(Female!T$18,'Female - Rev'!$A30-35,0)","v":1.9300000000000001E-2},{"$f":"OFFSET(Female!U$18,'Female - Rev'!$A30-35,0)","v":0.02},{"$f":"OFFSET(Female!V$18,'Female - Rev'!$A30-35,0)","v":2.0299999999999999E-2},{"$f":"OFFSET(Female!W$18,'Female - Rev'!$A30-35,0)","v":2.0299999999999999E-2},{"$f":"OFFSET(Female!X$18,'Female - Rev'!$A30-35,0)","v":1.9800000000000002E-2},{"$f":"OFFSET(Female!Y$18,'Female - Rev'!$A30-35,0)","v":1.8800000000000001E-2},{"$f":"OFFSET(Female!Z$18,'Female - Rev'!$A30-35,0)","v":1.6899999999999998E-2},{"$f":"OFFSET(Female!AA$18,'Female - Rev'!$A30-35,0)","v":1.44E-2},{"$f":"OFFSET(Female!AB$18,'Female - Rev'!$A30-35,0)","v":1.15E-2},{"$f":"OFFSET(Female!AC$18,'Female - Rev'!$A30-35,0)","v":8.3999999999999995E-3},{"$f":"OFFSET(Female!AD$18,'Female - Rev'!$A30-35,0)","v":5.5999999999999999E-3},{"$f":"OFFSET(Female!AE$18,'Female - Rev'!$A30-35,0)","v":3.2000000000000002E-3},{"$f":"OFFSET(Female!AF$18,'Female - Rev'!$A30-35,0)","v":1.5E-3},{"$f":"OFFSET(Female!AG$18,'Female - Rev'!$A30-35,0)","v":5.9999999999999995E-4},{"$f":"OFFSET(Female!AH$18,'Female - Rev'!$A30-35,0)","v":5.0000000000000001E-4},{"$f":"OFFSET(Female!AI$18,'Female - Rev'!$A30-35,0)","v":1.1000000000000001E-3},{"$f":"OFFSET(Female!AJ$18,'Female - Rev'!$A30-35,0)","v":2.3E-3},{"$f":"OFFSET(Female!AK$18,'Female - Rev'!$A30-35,0)","v":3.8999999999999998E-3},{"$f":"OFFSET(Female!AL$18,'Female - Rev'!$A30-35,0)","v":5.4999999999999997E-3},{"$f":"OFFSET(Female!AM$18,'Female - Rev'!$A30-35,0)","v":6.7999999999999996E-3},{"$f":"OFFSET(Female!AN$18,'Female - Rev'!$A30-35,0)","v":7.6E-3},{"$f":"OFFSET(Female!AO$18,'Female - Rev'!$A30-35,0)","v":7.6E-3},{"$f":"OFFSET(Female!AP$18,'Female - Rev'!$A30-35,0)","v":7.0000000000000001E-3},{"$f":"OFFSET(Female!AQ$18,'Female - Rev'!$A30-35,0)","v":5.8999999999999999E-3},{"$f":"OFFSET(Female!AR$18,'Female - Rev'!$A30-35,0)","v":4.7000000000000002E-3},{"$f":"OFFSET(Female!AS$18,'Female - Rev'!$A30-35,0)","v":3.8E-3},{"$f":"OFFSET(Female!AT$18,'Female - Rev'!$A30-35,0)","v":3.3999999999999998E-3},{"$f":"OFFSET(Female!AU$18,'Female - Rev'!$A30-35,0)","v":3.5999999999999999E-3},{"$f":"OFFSET(Female!AV$18,'Female - Rev'!$A30-35,0)","v":4.4999999999999997E-3},{"$f":"OFFSET(Female!AW$18,'Female - Rev'!$A30-35,0)","v":6.0000000000000001E-3},{"$f":"OFFSET(Female!AX$18,'Female - Rev'!$A30-35,0)","v":8.2000000000000007E-3},{"$f":"OFFSET(Female!AY$18,'Female - Rev'!$A30-35,0)","v":1.09E-2},{"$f":"OFFSET(Female!AZ$18,'Female - Rev'!$A30-35,0)","v":1.38E-2},{"$f":"OFFSET(Female!BA$18,'Female - Rev'!$A30-35,0)","v":1.67E-2},{"$f":"OFFSET(Female!BB$18,'Female - Rev'!$A30-35,0)","v":1.9199999999999998E-2},{"$f":"OFFSET(Female!BC$18,'Female - Rev'!$A30-35,0)","v":2.1100000000000001E-2},{"$f":"OFFSET(Female!BD$18,'Female - Rev'!$A30-35,0)","v":2.23E-2},{"$f":"OFFSET(Female!BE$18,'Female - Rev'!$A30-35,0)","v":2.2700000000000001E-2},{"$f":"OFFSET(Female!BF$18,'Female - Rev'!$A30-35,0)","v":2.2499999999999999E-2},{"$f":"OFFSET(Female!BG$18,'Female - Rev'!$A30-35,0)","v":2.1499999999999998E-2},{"$f":"OFFSET(Female!BH$18,'Female - Rev'!$A30-35,0)","v":0.02},{"$f":"OFFSET(Female!BI$18,'Female - Rev'!$A30-35,0)","v":1.8100000000000002E-2},{"$f":"OFFSET(Female!BJ$18,'Female - Rev'!$A30-35,0)","v":1.5900000000000001E-2},{"$f":"OFFSET(Female!BK$18,'Female - Rev'!$A30-35,0)","v":1.38E-2},{"$f":"OFFSET(Female!BL$18,'Female - Rev'!$A30-35,0)","v":1.18E-2},{"$f":"OFFSET(Female!BM$18,'Female - Rev'!$A30-35,0)","v":1.01E-2},{"$f":"OFFSET(Female!BN$18,'Female - Rev'!$A30-35,0)","v":8.6999999999999994E-3},{"$f":"OFFSET(Female!BO$18,'Female - Rev'!$A30-35,0)","v":7.4999999999999997E-3},{"$f":"OFFSET(Female!BP$18,'Female - Rev'!$A30-35,0)","v":6.7000000000000002E-3},{"$f":"OFFSET(Female!BQ$18,'Female - Rev'!$A30-35,0)","v":5.7999999999999996E-3},{"$f":"OFFSET(Female!BR$18,'Female - Rev'!$A30-35,0)","v":5.0000000000000001E-3},{"$f":"OFFSET(Female!BS$18,'Female - Rev'!$A30-35,0)","v":4.3E-3},{"$f":"OFFSET(Female!BT$18,'Female - Rev'!$A30-35,0)","v":3.8E-3},{"$f":"OFFSET(Female!BU$18,'Female - Rev'!$A30-35,0)","v":3.7000000000000002E-3},{"$f":"OFFSET(Female!BV$18,'Female - Rev'!$A30-35,0)","v":4.1000000000000003E-3},{"$f":"OFFSET(Female!BW$18,'Female - Rev'!$A30-35,0)","v":4.7999999999999996E-3},{"$f":"OFFSET(Female!BX$18,'Female - Rev'!$A30-35,0)","v":5.7000000000000002E-3},{"$f":"OFFSET(Female!BY$18,'Female - Rev'!$A30-35,0)","v":6.7999999999999996E-3},{"$f":"OFFSET(Female!BZ$18,'Female - Rev'!$A30-35,0)","v":7.9000000000000008E-3},{"$f":"OFFSET(Female!CA$18,'Female - Rev'!$A30-35,0)","v":9.1000000000000004E-3},{"$f":"OFFSET(Female!CB$18,'Female - Rev'!$A30-35,0)","v":1.01E-2},{"$f":"OFFSET(Female!CC$18,'Female - Rev'!$A30-35,0)","v":1.09E-2},{"$f":"OFFSET(Female!CD$18,'Female - Rev'!$A30-35,0)","v":1.15E-2},{"$f":"OFFSET(Female!CE$18,'Female - Rev'!$A30-35,0)","v":1.2E-2},{"$f":"OFFSET(Female!CF$18,'Female - Rev'!$A30-35,0)","v":1.23E-2},{"$f":"OFFSET(Female!CG$18,'Female - Rev'!$A30-35,0)","v":1.24E-2},{"$f":"OFFSET(Female!CH$18,'Female - Rev'!$A30-35,0)","v":1.26E-2},{"$f":"OFFSET(Female!CI$18,'Female - Rev'!$A30-35,0)","v":1.2699999999999999E-2},{"$f":"CJ30","v":1.2699999999999999E-2},1.2699999999999999E-2]
[67,67,{"$f":"OFFSET(Female!B$18,'Female - Rev'!$A31-35,0)","v":2.3199999999999998E-2},{"$f":"OFFSET(Female!C$18,'Female - Rev'!$A31-35,0)","v":2.1000000000000001E-2},{"$f":"OFFSET(Female!D$18,'Female - Rev'!$A31-35,0)","v":1.8800000000000001E-2},{"$f":"OFFSET(Female!E$18,'Female - Rev'!$A31-35,0)","v":1.66E-2},{"$f":"OFFSET(Female!F$18,'Female - Rev'!$A31-35,0)","v":1.46E-2},{"$f":"OFFSET(Female!G$18,'Female - Rev'!$A31-35,0)","v":1.29E-2},{"$f":"OFFSET(Female!H$18,'Female - Rev'!$A31-35,0)","v":1.15E-2},{"$f":"OFFSET(Female!I$18,'Female - Rev'!$A31-35,0)","v":1.06E-2},{"$f":"OFFSET(Female!J$18,'Female - Rev'!$A31-35,0)","v":0.01},{"$f":"OFFSET(Female!K$18,'Female - Rev'!$A31-35,0)","v":9.7000000000000003E-3},{"$f":"OFFSET(Female!L$18,'Female - Rev'!$A31-35,0)","v":9.7000000000000003E-3},{"$f":"OFFSET(Female!M$18,'Female - Rev'!$A31-35,0)","v":1.01E-2},{"$f":"OFFSET(Female!N$18,'Female - Rev'!$A31-35,0)","v":1.0800000000000001E-2},{"$f":"OFFSET(Female!O$18,'Female - Rev'!$A31-35,0)","v":1.2E-2},{"$f":"OFFSET(Female!P$18,'Female - Rev'!$A31-35,0)","v":1.34E-2},{"$f":"OFFSET(Female!Q$18,'Female - Rev'!$A31-35,0)","v":1.5100000000000001E-2},{"$f":"OFFSET(Female!R$18,'Female - Rev'!$A31-35,0)","v":1.6799999999999999E-2},{"$f":"OFFSET(Female!S$18,'Female - Rev'!$A31-35,0)","v":1.8200000000000001E-2},{"$f":"OFFSET(Female!T$18,'Female - Rev'!$A31-35,0)","v":1.9099999999999999E-2},{"$f":"OFFSET(Female!U$18,'Female - Rev'!$A31-35,0)","v":1.9599999999999999E-2},{"$f":"OFFSET(Female!V$18,'Female - Rev'!$A31-35,0)","v":1.9699999999999999E-2},{"$f":"OFFSET(Female!W$18,'Female - Rev'!$A31-35,0)","v":1.95E-2},{"$f":"OFFSET(Female!X$18,'Female - Rev'!$A31-35,0)","v":1.9E-2},{"$f":"OFFSET(Female!Y$18,'Female - Rev'!$A31-35,0)","v":1.7899999999999999E-2},{"$f":"OFFSET(Female!Z$18,'Female - Rev'!$A31-35,0)","v":1.6199999999999999E-2},{"$f":"OFFSET(Female!AA$18,'Female - Rev'!$A31-35,0)","v":1.38E-2},{"$f":"OFFSET(Female!AB$18,'Female - Rev'!$A31-35,0)","v":1.11E-2},{"$f":"OFFSET(Female!AC$18,'Female - Rev'!$A31-35,0)","v":8.2000000000000007E-3},{"$f":"OFFSET(Female!AD$18,'Female - Rev'!$A31-35,0)","v":5.5999999999999999E-3},{"$f":"OFFSET(Female!AE$18,'Female - Rev'!$A31-35,0)","v":3.3E-3},{"$f":"OFFSET(Female!AF$18,'Female - Rev'!$A31-35,0)","v":1.6999999999999999E-3},{"$f":"OFFSET(Female!AG$18,'Female - Rev'!$A31-35,0)","v":8.0000000000000004E-4},{"$f":"OFFSET(Female!AH$18,'Female - Rev'!$A31-35,0)","v":5.9999999999999995E-4},{"$f":"OFFSET(Female!AI$18,'Female - Rev'!$A31-35,0)","v":1.1999999999999999E-3},{"$f":"OFFSET(Female!AJ$18,'Female - Rev'!$A31-35,0)","v":2.3999999999999998E-3},{"$f":"OFFSET(Female!AK$18,'Female - Rev'!$A31-35,0)","v":3.8999999999999998E-3},{"$f":"OFFSET(Female!AL$18,'Female - Rev'!$A31-35,0)","v":5.5999999999999999E-3},{"$f":"OFFSET(Female!AM$18,'Female - Rev'!$A31-35,0)","v":6.8999999999999999E-3},{"$f":"OFFSET(Female!AN$18,'Female - Rev'!$A31-35,0)","v":7.7000000000000002E-3},{"$f":"OFFSET(Female!AO$18,'Female - Rev'!$A31-35,0)","v":7.7000000000000002E-3},{"$f":"OFFSET(Female!AP$18,'Female - Rev'!$A31-35,0)","v":7.1000000000000004E-3},{"$f":"OFFSET(Female!AQ$18,'Female - Rev'!$A31-35,0)","v":6.1000000000000004E-3},{"$f":"OFFSET(Female!AR$18,'Female - Rev'!$A31-35,0)","v":5.0000000000000001E-3},{"$f":"OFFSET(Female!AS$18,'Female - Rev'!$A31-35,0)","v":4.1999999999999997E-3},{"$f":"OFFSET(Female!AT$18,'Female - Rev'!$A31-35,0)","v":3.8999999999999998E-3},{"$f":"OFFSET(Female!AU$18,'Female - Rev'!$A31-35,0)","v":4.1999999999999997E-3},{"$f":"OFFSET(Female!AV$18,'Female - Rev'!$A31-35,0)","v":5.1999999999999998E-3},{"$f":"OFFSET(Female!AW$18,'Female - Rev'!$A31-35,0)","v":6.8999999999999999E-3},{"$f":"OFFSET(Female!AX$18,'Female - Rev'!$A31-35,0)","v":9.1000000000000004E-3},{"$f":"OFFSET(Female!AY$18,'Female - Rev'!$A31-35,0)","v":1.18E-2},{"$f":"OFFSET(Female!AZ$18,'Female - Rev'!$A31-35,0)","v":1.47E-2},{"$f":"OFFSET(Female!BA$18,'Female - Rev'!$A31-35,0)","v":1.7500000000000002E-2},{"$f":"OFFSET(Female!BB$18,'Female - Rev'!$A31-35,0)","v":0.02},{"$f":"OFFSET(Female!BC$18,'Female - Rev'!$A31-35,0)","v":2.1899999999999999E-2},{"$f":"OFFSET(Female!BD$18,'Female - Rev'!$A31-35,0)","v":2.3E-2},{"$f":"OFFSET(Female!BE$18,'Female - Rev'!$A31-35,0)","v":2.3400000000000001E-2},{"$f":"OFFSET(Female!BF$18,'Female - Rev'!$A31-35,0)","v":2.3E-2},{"$f":"OFFSET(Female!BG$18,'Female - Rev'!$A31-35,0)","v":2.1999999999999999E-2},{"$f":"OFFSET(Female!BH$18,'Female - Rev'!$A31-35,0)","v":2.0299999999999999E-2},{"$f":"OFFSET(Female!BI$18,'Female - Rev'!$A31-35,0)","v":1.8100000000000002E-2},{"$f":"OFFSET(Female!BJ$18,'Female - Rev'!$A31-35,0)","v":1.5699999999999999E-2},{"$f":"OFFSET(Female!BK$18,'Female - Rev'!$A31-35,0)","v":1.32E-2},{"$f":"OFFSET(Female!BL$18,'Female - Rev'!$A31-35,0)","v":1.0999999999999999E-2},{"$f":"OFFSET(Female!BM$18,'Female - Rev'!$A31-35,0)","v":8.9999999999999993E-3},{"$f":"OFFSET(Female!BN$18,'Female - Rev'!$A31-35,0)","v":7.3000000000000001E-3},{"$f":"OFFSET(Female!BO$18,'Female - Rev'!$A31-35,0)","v":5.7999999999999996E-3},{"$f":"OFFSET(Female!BP$18,'Female - Rev'!$A31-35,0)","v":4.7000000000000002E-3},{"$f":"OFFSET(Female!BQ$18,'Female - Rev'!$A31-35,0)","v":3.8E-3},{"$f":"OFFSET(Female!BR$18,'Female - Rev'!$A31-35,0)","v":3.0000000000000001E-3},{"$f":"OFFSET(Female!BS$18,'Female - Rev'!$A31-35,0)","v":2.5000000000000001E-3},{"$f":"OFFSET(Female!BT$18,'Female - Rev'!$A31-35,0)","v":2.3999999999999998E-3},{"$f":"OFFSET(Female!BU$18,'Female - Rev'!$A31-35,0)","v":2.8E-3},{"$f":"OFFSET(Female!BV$18,'Female - Rev'!$A31-35,0)","v":3.5999999999999999E-3},{"$f":"OFFSET(Female!BW$18,'Female - Rev'!$A31-35,0)","v":4.7000000000000002E-3},{"$f":"OFFSET(Female!BX$18,'Female - Rev'!$A31-35,0)","v":6.0000000000000001E-3},{"$f":"OFFSET(Female!BY$18,'Female - Rev'!$A31-35,0)","v":7.3000000000000001E-3},{"$f":"OFFSET(Female!BZ$18,'Female - Rev'!$A31-35,0)","v":8.5000000000000006E-3},{"$f":"OFFSET(Female!CA$18,'Female - Rev'!$A31-35,0)","v":9.5999999999999992E-3},{"$f":"OFFSET(Female!CB$18,'Female - Rev'!$A31-35,0)","v":1.06E-2},{"$f":"OFFSET(Female!CC$18,'Female - Rev'!$A31-35,0)","v":1.1299999999999999E-2},{"$f":"OFFSET(Female!CD$18,'Female - Rev'!$A31-35,0)","v":1.18E-2},{"$f":"OFFSET(Female!CE$18,'Female - Rev'!$A31-35,0)","v":1.2200000000000001E-2},{"$f":"OFFSET(Female!CF$18,'Female - Rev'!$A31-35,0)","v":1.24E-2},{"$f":"OFFSET(Female!CG$18,'Female - Rev'!$A31-35,0)","v":1.26E-2},{"$f":"OFFSET(Female!CH$18,'Female - Rev'!$A31-35,0)","v":1.2699999999999999E-2},{"$f":"OFFSET(Female!CI$18,'Female - Rev'!$A31-35,0)","v":1.2800000000000001E-2},{"$f":"CJ31","v":1.2800000000000001E-2},1.2800000000000001E-2]
[66,66,{"$f":"OFFSET(Female!B$18,'Female - Rev'!$A32-35,0)","v":2.4299999999999999E-2},{"$f":"OFFSET(Female!C$18,'Female - Rev'!$A32-35,0)","v":2.18E-2},{"$f":"OFFSET(Female!D$18,'Female - Rev'!$A32-35,0)","v":1.9400000000000001E-2},{"$f":"OFFSET(Female!E$18,'Female - Rev'!$A32-35,0)","v":1.7000000000000001E-2},{"$f":"OFFSET(Female!F$18,'Female - Rev'!$A32-35,0)","v":1.46E-2},{"$f":"OFFSET(Female!G$18,'Female - Rev'!$A32-35,0)","v":1.26E-2},{"$f":"OFFSET(Female!H$18,'Female - Rev'!$A32-35,0)","v":1.11E-2},{"$f":"OFFSET(Female!I$18,'Female - Rev'!$A32-35,0)","v":0.01},{"$f":"OFFSET(Female!J$18,'Female - Rev'!$A32-35,0)","v":9.2999999999999992E-3},{"$f":"OFFSET(Female!K$18,'Female - Rev'!$A32-35,0)","v":8.8999999999999999E-3},{"$f":"OFFSET(Female!L$18,'Female - Rev'!$A32-35,0)","v":8.8999999999999999E-3},{"$f":"OFFSET(Female!M$18,'Female - Rev'!$A32-35,0)","v":9.4000000000000004E-3},{"$f":"OFFSET(Female!N$18,'Female - Rev'!$A32-35,0)","v":1.03E-2},{"$f":"OFFSET(Female!O$18,'Female - Rev'!$A32-35,0)","v":1.1599999999999999E-2},{"$f":"OFFSET(Female!P$18,'Female - Rev'!$A32-35,0)","v":1.3100000000000001E-2},{"$f":"OFFSET(Female!Q$18,'Female - Rev'!$A32-35,0)","v":1.4800000000000001E-2},{"$f":"OFFSET(Female!R$18,'Female - Rev'!$A32-35,0)","v":1.6400000000000001E-2},{"$f":"OFFSET(Female!S$18,'Female - Rev'!$A32-35,0)","v":1.77E-2},{"$f":"OFFSET(Female!T$18,'Female - Rev'!$A32-35,0)","v":1.8499999999999999E-2},{"$f":"OFFSET(Female!U$18,'Female - Rev'!$A32-35,0)","v":1.89E-2},{"$f":"OFFSET(Female!V$18,'Female - Rev'!$A32-35,0)","v":1.89E-2},{"$f":"OFFSET(Female!W$18,'Female - Rev'!$A32-35,0)","v":1.8700000000000001E-2},{"$f":"OFFSET(Female!X$18,'Female - Rev'!$A32-35,0)","v":1.8200000000000001E-2},{"$f":"OFFSET(Female!Y$18,'Female - Rev'!$A32-35,0)","v":1.72E-2},{"$f":"OFFSET(Female!Z$18,'Female - Rev'!$A32-35,0)","v":1.5699999999999999E-2},{"$f":"OFFSET(Female!AA$18,'Female - Rev'!$A32-35,0)","v":1.3599999999999999E-2},{"$f":"OFFSET(Female!AB$18,'Female - Rev'!$A32-35,0)","v":1.11E-2},{"$f":"OFFSET(Female!AC$18,'Female - Rev'!$A32-35,0)","v":8.3999999999999995E-3},{"$f":"OFFSET(Female!AD$18,'Female - Rev'!$A32-35,0)","v":5.8999999999999999E-3},{"$f":"OFFSET(Female!AE$18,'Female - Rev'!$A32-35,0)","v":3.7000000000000002E-3},{"$f":"OFFSET(Female!AF$18,'Female - Rev'!$A32-35,0)","v":2.0999999999999999E-3},{"$f":"OFFSET(Female!AG$18,'Female - Rev'!$A32-35,0)","v":1.1999999999999999E-3},{"$f":"OFFSET(Female!AH$18,'Female - Rev'!$A32-35,0)","v":8.9999999999999998E-4},{"$f":"OFFSET(Female!AI$18,'Female - Rev'!$A32-35,0)","v":1.4E-3},{"$f":"OFFSET(Female!AJ$18,'Female - Rev'!$A32-35,0)","v":2.5000000000000001E-3},{"$f":"OFFSET(Female!AK$18,'Female - Rev'!$A32-35,0)","v":4.0000000000000001E-3},{"$f":"OFFSET(Female!AL$18,'Female - Rev'!$A32-35,0)","v":5.7000000000000002E-3},{"$f":"OFFSET(Female!AM$18,'Female - Rev'!$A32-35,0)","v":7.0000000000000001E-3},{"$f":"OFFSET(Female!AN$18,'Female - Rev'!$A32-35,0)","v":7.9000000000000008E-3},{"$f":"OFFSET(Female!AO$18,'Female - Rev'!$A32-35,0)","v":8.0000000000000002E-3},{"$f":"OFFSET(Female!AP$18,'Female - Rev'!$A32-35,0)","v":7.4000000000000003E-3},{"$f":"OFFSET(Female!AQ$18,'Female - Rev'!$A32-35,0)","v":6.4000000000000003E-3},{"$f":"OFFSET(Female!AR$18,'Female - Rev'!$A32-35,0)","v":5.3E-3},{"$f":"OFFSET(Female!AS$18,'Female - Rev'!$A32-35,0)","v":4.5999999999999999E-3},{"$f":"OFFSET(Female!AT$18,'Female - Rev'!$A32-35,0)","v":4.4999999999999997E-3},{"$f":"OFFSET(Female!AU$18,'Female - Rev'!$A32-35,0)","v":4.8999999999999998E-3},{"$f":"OFFSET(Female!AV$18,'Female - Rev'!$A32-35,0)","v":6.0000000000000001E-3},{"$f":"OFFSET(Female!AW$18,'Female - Rev'!$A32-35,0)","v":7.7000000000000002E-3},{"$f":"OFFSET(Female!AX$18,'Female - Rev'!$A32-35,0)","v":9.9000000000000008E-3},{"$f":"OFFSET(Female!AY$18,'Female - Rev'!$A32-35,0)","v":1.26E-2},{"$f":"OFFSET(Female!AZ$18,'Female - Rev'!$A32-35,0)","v":1.54E-2},{"$f":"OFFSET(Female!BA$18,'Female - Rev'!$A32-35,0)","v":1.8200000000000001E-2},{"$f":"OFFSET(Female!BB$18,'Female - Rev'!$A32-35,0)","v":2.07E-2},{"$f":"OFFSET(Female!BC$18,'Female - Rev'!$A32-35,0)","v":2.2499999999999999E-2},{"$f":"OFFSET(Female!BD$18,'Female - Rev'!$A32-35,0)","v":2.3599999999999999E-2},{"$f":"OFFSET(Female!BE$18,'Female - Rev'!$A32-35,0)","v":2.3900000000000001E-2},{"$f":"OFFSET(Female!BF$18,'Female - Rev'!$A32-35,0)","v":2.35E-2},{"$f":"OFFSET(Female!BG$18,'Female - Rev'!$A32-35,0)","v":2.23E-2},{"$f":"OFFSET(Female!BH$18,'Female - Rev'!$A32-35,0)","v":2.0400000000000001E-2},{"$f":"OFFSET(Female!BI$18,'Female - Rev'!$A32-35,0)","v":1.7899999999999999E-2},{"$f":"OFFSET(Female!BJ$18,'Female - Rev'!$A32-35,0)","v":1.5100000000000001E-2},{"$f":"OFFSET(Female!BK$18,'Female - Rev'!$A32-35,0)","v":1.23E-2},{"$f":"OFFSET(Female!BL$18,'Female - Rev'!$A32-35,0)","v":9.5999999999999992E-3},{"$f":"OFFSET(Female!BM$18,'Female - Rev'!$A32-35,0)","v":7.3000000000000001E-3},{"$f":"OFFSET(Female!BN$18,'Female - Rev'!$A32-35,0)","v":5.3E-3},{"$f":"OFFSET(Female!BO$18,'Female - Rev'!$A32-35,0)","v":3.5000000000000001E-3},{"$f":"OFFSET(Female!BP$18,'Female - Rev'!$A32-35,0)","v":2.3E-3},{"$f":"OFFSET(Female!BQ$18,'Female - Rev'!$A32-35,0)","v":1.4E-3},{"$f":"OFFSET(Female!BR$18,'Female - Rev'!$A32-35,0)","v":8.0000000000000004E-4},{"$f":"OFFSET(Female!BS$18,'Female - Rev'!$A32-35,0)","v":6.9999999999999999E-4},{"$f":"OFFSET(Female!BT$18,'Female - Rev'!$A32-35,0)","v":1.1999999999999999E-3},{"$f":"OFFSET(Female!BU$18,'Female - Rev'!$A32-35,0)","v":2.0999999999999999E-3},{"$f":"OFFSET(Female!BV$18,'Female - Rev'!$A32-35,0)","v":3.3999999999999998E-3},{"$f":"OFFSET(Female!BW$18,'Female - Rev'!$A32-35,0)","v":4.8999999999999998E-3},{"$f":"OFFSET(Female!BX$18,'Female - Rev'!$A32-35,0)","v":6.4999999999999997E-3},{"$f":"OFFSET(Female!BY$18,'Female - Rev'!$A32-35,0)","v":7.9000000000000008E-3},{"$f":"OFFSET(Female!BZ$18,'Female - Rev'!$A32-35,0)","v":9.1000000000000004E-3},{"$f":"OFFSET(Female!CA$18,'Female - Rev'!$A32-35,0)","v":1.0200000000000001E-2},{"$f":"OFFSET(Female!CB$18,'Female - Rev'!$A32-35,0)","v":1.0999999999999999E-2},{"$f":"OFFSET(Female!CC$18,'Female - Rev'!$A32-35,0)","v":1.17E-2},{"$f":"OFFSET(Female!CD$18,'Female - Rev'!$A32-35,0)","v":1.21E-2},{"$f":"OFFSET(Female!CE$18,'Female - Rev'!$A32-35,0)","v":1.24E-2},{"$f":"OFFSET(Female!CF$18,'Female - Rev'!$A32-35,0)","v":1.26E-2},{"$f":"OFFSET(Female!CG$18,'Female - Rev'!$A32-35,0)","v":1.2699999999999999E-2},{"$f":"OFFSET(Female!CH$18,'Female - Rev'!$A32-35,0)","v":1.2800000000000001E-2},{"$f":"OFFSET(Female!CI$18,'Female - Rev'!$A32-35,0)","v":1.29E-2},{"$f":"CJ32","v":1.29E-2},1.29E-2]
[65,65,{"$f":"OFFSET(Female!B$18,'Female - Rev'!$A33-35,0)","v":2.5600000000000001E-2},{"$f":"OFFSET(Female!C$18,'Female - Rev'!$A33-35,0)","v":2.29E-2},{"$f":"OFFSET(Female!D$18,'Female - Rev'!$A33-35,0)","v":2.0199999999999999E-2},{"$f":"OFFSET(Female!E$18,'Female - Rev'!$A33-35,0)","v":1.7500000000000002E-2},{"$f":"OFFSET(Female!F$18,'Female - Rev'!$A33-35,0)","v":1.49E-2},{"$f":"OFFSET(Female!G$18,'Female - Rev'!$A33-35,0)","v":1.26E-2},{"$f":"OFFSET(Female!H$18,'Female - Rev'!$A33-35,0)","v":1.0800000000000001E-2},{"$f":"OFFSET(Female!I$18,'Female - Rev'!$A33-35,0)","v":9.4000000000000004E-3},{"$f":"OFFSET(Female!J$18,'Female - Rev'!$A33-35,0)","v":8.6E-3},{"$f":"OFFSET(Female!K$18,'Female - Rev'!$A33-35,0)","v":8.2000000000000007E-3},{"$f":"OFFSET(Female!L$18,'Female - Rev'!$A33-35,0)","v":8.2000000000000007E-3},{"$f":"OFFSET(Female!M$18,'Female - Rev'!$A33-35,0)","v":8.6999999999999994E-3},{"$f":"OFFSET(Female!N$18,'Female - Rev'!$A33-35,0)","v":9.7000000000000003E-3},{"$f":"OFFSET(Female!O$18,'Female - Rev'!$A33-35,0)","v":1.11E-2},{"$f":"OFFSET(Female!P$18,'Female - Rev'!$A33-35,0)","v":1.2699999999999999E-2},{"$f":"OFFSET(Female!Q$18,'Female - Rev'!$A33-35,0)","v":1.43E-2},{"$f":"OFFSET(Female!R$18,'Female - Rev'!$A33-35,0)","v":1.5800000000000002E-2},{"$f":"OFFSET(Female!S$18,'Female - Rev'!$A33-35,0)","v":1.6899999999999998E-2},{"$f":"OFFSET(Female!T$18,'Female - Rev'!$A33-35,0)","v":1.7600000000000001E-2},{"$f":"OFFSET(Female!U$18,'Female - Rev'!$A33-35,0)","v":1.7899999999999999E-2},{"$f":"OFFSET(Female!V$18,'Female - Rev'!$A33-35,0)","v":1.7999999999999999E-2},{"$f":"OFFSET(Female!W$18,'Female - Rev'!$A33-35,0)","v":1.7899999999999999E-2},{"$f":"OFFSET(Female!X$18,'Female - Rev'!$A33-35,0)","v":1.7500000000000002E-2},{"$f":"OFFSET(Female!Y$18,'Female - Rev'!$A33-35,0)","v":1.6799999999999999E-2},{"$f":"OFFSET(Female!Z$18,'Female - Rev'!$A33-35,0)","v":1.55E-2},{"$f":"OFFSET(Female!AA$18,'Female - Rev'!$A33-35,0)","v":1.3599999999999999E-2},{"$f":"OFFSET(Female!AB$18,'Female - Rev'!$A33-35,0)","v":1.14E-2},{"$f":"OFFSET(Female!AC$18,'Female - Rev'!$A33-35,0)","v":8.9999999999999993E-3},{"$f":"OFFSET(Female!AD$18,'Female - Rev'!$A33-35,0)","v":6.6E-3},{"$f":"OFFSET(Female!AE$18,'Female - Rev'!$A33-35,0)","v":4.4000000000000003E-3},{"$f":"OFFSET(Female!AF$18,'Female - Rev'!$A33-35,0)","v":2.7000000000000001E-3},{"$f":"OFFSET(Female!AG$18,'Female - Rev'!$A33-35,0)","v":1.6999999999999999E-3},{"$f":"OFFSET(Female!AH$18,'Female - Rev'!$A33-35,0)","v":1.2999999999999999E-3},{"$f":"OFFSET(Female!AI$18,'Female - Rev'!$A33-35,0)","v":1.6999999999999999E-3},{"$f":"OFFSET(Female!AJ$18,'Female - Rev'!$A33-35,0)","v":2.7000000000000001E-3},{"$f":"OFFSET(Female!AK$18,'Female - Rev'!$A33-35,0)","v":4.1999999999999997E-3},{"$f":"OFFSET(Female!AL$18,'Female - Rev'!$A33-35,0)","v":5.7999999999999996E-3},{"$f":"OFFSET(Female!AM$18,'Female - Rev'!$A33-35,0)","v":7.1999999999999998E-3},{"$f":"OFFSET(Female!AN$18,'Female - Rev'!$A33-35,0)","v":8.0999999999999996E-3},{"$f":"OFFSET(Female!AO$18,'Female - Rev'!$A33-35,0)","v":8.2000000000000007E-3},{"$f":"OFFSET(Female!AP$18,'Female - Rev'!$A33-35,0)","v":7.7000000000000002E-3},{"$f":"OFFSET(Female!AQ$18,'Female - Rev'!$A33-35,0)","v":6.7999999999999996E-3},{"$f":"OFFSET(Female!AR$18,'Female - Rev'!$A33-35,0)","v":5.7999999999999996E-3},{"$f":"OFFSET(Female!AS$18,'Female - Rev'!$A33-35,0)","v":5.1999999999999998E-3},{"$f":"OFFSET(Female!AT$18,'Female - Rev'!$A33-35,0)","v":5.1000000000000004E-3},{"$f":"OFFSET(Female!AU$18,'Female - Rev'!$A33-35,0)","v":5.7000000000000002E-3},{"$f":"OFFSET(Female!AV$18,'Female - Rev'!$A33-35,0)","v":6.7999999999999996E-3},{"$f":"OFFSET(Female!AW$18,'Female - Rev'!$A33-35,0)","v":8.6E-3},{"$f":"OFFSET(Female!AX$18,'Female - Rev'!$A33-35,0)","v":1.0800000000000001E-2},{"$f":"OFFSET(Female!AY$18,'Female - Rev'!$A33-35,0)","v":1.3299999999999999E-2},{"$f":"OFFSET(Female!AZ$18,'Female - Rev'!$A33-35,0)","v":1.61E-2},{"$f":"OFFSET(Female!BA$18,'Female - Rev'!$A33-35,0)","v":1.8800000000000001E-2},{"$f":"OFFSET(Female!BB$18,'Female - Rev'!$A33-35,0)","v":2.12E-2},{"$f":"OFFSET(Female!BC$18,'Female - Rev'!$A33-35,0)","v":2.3E-2},{"$f":"OFFSET(Female!BD$18,'Female - Rev'!$A33-35,0)","v":2.41E-2},{"$f":"OFFSET(Female!BE$18,'Female - Rev'!$A33-35,0)","v":2.4400000000000002E-2},{"$f":"OFFSET(Female!BF$18,'Female - Rev'!$A33-35,0)","v":2.3800000000000002E-2},{"$f":"OFFSET(Female!BG$18,'Female - Rev'!$A33-35,0)","v":2.24E-2},{"$f":"OFFSET(Female!BH$18,'Female - Rev'!$A33-35,0)","v":2.0299999999999999E-2},{"$f":"OFFSET(Female!BI$18,'Female - Rev'!$A33-35,0)","v":1.7500000000000002E-2},{"$f":"OFFSET(Female!BJ$18,'Female - Rev'!$A33-35,0)","v":1.4200000000000001E-2},{"$f":"OFFSET(Female!BK$18,'Female - Rev'!$A33-35,0)","v":1.09E-2},{"$f":"OFFSET(Female!BL$18,'Female - Rev'!$A33-35,0)","v":7.7999999999999996E-3},{"$f":"OFFSET(Female!BM$18,'Female - Rev'!$A33-35,0)","v":5.1000000000000004E-3},{"$f":"OFFSET(Female!BN$18,'Female - Rev'!$A33-35,0)","v":2.8E-3},{"$f":"OFFSET(Female!BO$18,'Female - Rev'!$A33-35,0)","v":8.9999999999999998E-4},{"$f":"OFFSET(Female!BP$18,'Female - Rev'!$A33-35,0)","v":-4.0000000000000002E-4},{"$f":"OFFSET(Female!BQ$18,'Female - Rev'!$A33-35,0)","v":-1.1000000000000001E-3},{"$f":"OFFSET(Female!BR$18,'Female - Rev'!$A33-35,0)","v":-1.2999999999999999E-3},{"$f":"OFFSET(Female!BS$18,'Female - Rev'!$A33-35,0)","v":-8.9999999999999998E-4},{"$f":"OFFSET(Female!BT$18,'Female - Rev'!$A33-35,0)","v":2.0000000000000001E-4},{"$f":"OFFSET(Female!BU$18,'Female - Rev'!$A33-35,0)","v":1.6000000000000001E-3},{"$f":"OFFSET(Female!BV$18,'Female - Rev'!$A33-35,0)","v":3.3999999999999998E-3},{"$f":"OFFSET(Female!BW$18,'Female - Rev'!$A33-35,0)","v":5.4000000000000003E-3},{"$f":"OFFSET(Female!BX$18,'Female - Rev'!$A33-35,0)","v":7.1999999999999998E-3},{"$f":"OFFSET(Female!BY$18,'Female - Rev'!$A33-35,0)","v":8.6E-3},{"$f":"OFFSET(Female!BZ$18,'Female - Rev'!$A33-35,0)","v":9.7999999999999997E-3},{"$f":"OFFSET(Female!CA$18,'Female - Rev'!$A33-35,0)","v":1.0699999999999999E-2},{"$f":"OFFSET(Female!CB$18,'Female - Rev'!$A33-35,0)","v":1.15E-2},{"$f":"OFFSET(Female!CC$18,'Female - Rev'!$A33-35,0)","v":1.2E-2},{"$f":"OFFSET(Female!CD$18,'Female - Rev'!$A33-35,0)","v":1.23E-2},{"$f":"OFFSET(Female!CE$18,'Female - Rev'!$A33-35,0)","v":1.2500000000000001E-2},{"$f":"OFFSET(Female!CF$18,'Female - Rev'!$A33-35,0)","v":1.2699999999999999E-2},{"$f":"OFFSET(Female!CG$18,'Female - Rev'!$A33-35,0)","v":1.2800000000000001E-2},{"$f":"OFFSET(Female!CH$18,'Female - Rev'!$A33-35,0)","v":1.2999999999999999E-2},{"$f":"OFFSET(Female!CI$18,'Female - Rev'!$A33-35,0)","v":1.3100000000000001E-2},{"$f":"CJ33","v":1.3100000000000001E-2},1.3100000000000001E-2]
[64,64,{"$f":"OFFSET(Female!B$18,'Female - Rev'!$A34-35,0)","v":2.7099999999999999E-2},{"$f":"OFFSET(Female!C$18,'Female - Rev'!$A34-35,0)","v":2.41E-2},{"$f":"OFFSET(Female!D$18,'Female - Rev'!$A34-35,0)","v":2.1100000000000001E-2},{"$f":"OFFSET(Female!E$18,'Female - Rev'!$A34-35,0)","v":1.8200000000000001E-2},{"$f":"OFFSET(Female!F$18,'Female - Rev'!$A34-35,0)","v":1.5299999999999999E-2},{"$f":"OFFSET(Female!G$18,'Female - Rev'!$A34-35,0)","v":1.2699999999999999E-2},{"$f":"OFFSET(Female!H$18,'Female - Rev'!$A34-35,0)","v":1.06E-2},{"$f":"OFFSET(Female!I$18,'Female - Rev'!$A34-35,0)","v":9.1000000000000004E-3},{"$f":"OFFSET(Female!J$18,'Female - Rev'!$A34-35,0)","v":8.0999999999999996E-3},{"$f":"OFFSET(Female!K$18,'Female - Rev'!$A34-35,0)","v":7.7000000000000002E-3},{"$f":"OFFSET(Female!L$18,'Female - Rev'!$A34-35,0)","v":7.7000000000000002E-3},{"$f":"OFFSET(Female!M$18,'Female - Rev'!$A34-35,0)","v":8.2000000000000007E-3},{"$f":"OFFSET(Female!N$18,'Female - Rev'!$A34-35,0)","v":9.1999999999999998E-3},{"$f":"OFFSET(Female!O$18,'Female - Rev'!$A34-35,0)","v":1.0500000000000001E-2},{"$f":"OFFSET(Female!P$18,'Female - Rev'!$A34-35,0)","v":1.2E-2},{"$f":"OFFSET(Female!Q$18,'Female - Rev'!$A34-35,0)","v":1.34E-2},{"$f":"OFFSET(Female!R$18,'Female - Rev'!$A34-35,0)","v":1.47E-2},{"$f":"OFFSET(Female!S$18,'Female - Rev'!$A34-35,0)","v":1.5699999999999999E-2},{"$f":"OFFSET(Female!T$18,'Female - Rev'!$A34-35,0)","v":1.6299999999999999E-2},{"$f":"OFFSET(Female!U$18,'Female - Rev'!$A34-35,0)","v":1.67E-2},{"$f":"OFFSET(Female!V$18,'Female - Rev'!$A34-35,0)","v":1.6899999999999998E-2},{"$f":"OFFSET(Female!W$18,'Female - Rev'!$A34-35,0)","v":1.7000000000000001E-2},{"$f":"OFFSET(Female!X$18,'Female - Rev'!$A34-35,0)","v":1.7000000000000001E-2},{"$f":"OFFSET(Female!Y$18,'Female - Rev'!$A34-35,0)","v":1.6500000000000001E-2},{"$f":"OFFSET(Female!Z$18,'Female - Rev'!$A34-35,0)","v":1.5599999999999999E-2},{"$f":"OFFSET(Female!AA$18,'Female - Rev'!$A34-35,0)","v":1.41E-2},{"$f":"OFFSET(Female!AB$18,'Female - Rev'!$A34-35,0)","v":1.21E-2},{"$f":"OFFSET(Female!AC$18,'Female - Rev'!$A34-35,0)","v":9.9000000000000008E-3},{"$f":"OFFSET(Female!AD$18,'Female - Rev'!$A34-35,0)","v":7.4999999999999997E-3},{"$f":"OFFSET(Female!AE$18,'Female - Rev'!$A34-35,0)","v":5.3E-3},{"$f":"OFFSET(Female!AF$18,'Female - Rev'!$A34-35,0)","v":3.5000000000000001E-3},{"$f":"OFFSET(Female!AG$18,'Female - Rev'!$A34-35,0)","v":2.2000000000000001E-3},{"$f":"OFFSET(Female!AH$18,'Female - Rev'!$A34-35,0)","v":1.6999999999999999E-3},{"$f":"OFFSET(Female!AI$18,'Female - Rev'!$A34-35,0)","v":2E-3},{"$f":"OFFSET(Female!AJ$18,'Female - Rev'!$A34-35,0)","v":2.8999999999999998E-3},{"$f":"OFFSET(Female!AK$18,'Female - Rev'!$A34-35,0)","v":4.4000000000000003E-3},{"$f":"OFFSET(Female!AL$18,'Female - Rev'!$A34-35,0)","v":6.0000000000000001E-3},{"$f":"OFFSET(Female!AM$18,'Female - Rev'!$A34-35,0)","v":7.4999999999999997E-3},{"$f":"OFFSET(Female!AN$18,'Female - Rev'!$A34-35,0)","v":8.3999999999999995E-3},{"$f":"OFFSET(Female!AO$18,'Female - Rev'!$A34-35,0)","v":8.6E-3},{"$f":"OFFSET(Female!AP$18,'Female - Rev'!$A34-35,0)","v":8.2000000000000007E-3},{"$f":"OFFSET(Female!AQ$18,'Female - Rev'!$A34-35,0)","v":7.3000000000000001E-3},{"$f":"OFFSET(Female!AR$18,'Female - Rev'!$A34-35,0)","v":6.4000000000000003E-3},{"$f":"OFFSET(Female!AS$18,'Female - Rev'!$A34-35,0)","v":5.8999999999999999E-3},{"$f":"OFFSET(Female!AT$18,'Female - Rev'!$A34-35,0)","v":5.8999999999999999E-3},{"$f":"OFFSET(Female!AU$18,'Female - Rev'!$A34-35,0)","v":6.4999999999999997E-3},{"$f":"OFFSET(Female!AV$18,'Female - Rev'!$A34-35,0)","v":7.7000000000000002E-3},{"$f":"OFFSET(Female!AW$18,'Female - Rev'!$A34-35,0)","v":9.4000000000000004E-3},{"$f":"OFFSET(Female!AX$18,'Female - Rev'!$A34-35,0)","v":1.15E-2},{"$f":"OFFSET(Female!AY$18,'Female - Rev'!$A34-35,0)","v":1.4E-2},{"$f":"OFFSET(Female!AZ$18,'Female - Rev'!$A34-35,0)","v":1.66E-2},{"$f":"OFFSET(Female!BA$18,'Female - Rev'!$A34-35,0)","v":1.9199999999999998E-2},{"$f":"OFFSET(Female!BB$18,'Female - Rev'!$A34-35,0)","v":2.1499999999999998E-2},{"$f":"OFFSET(Female!BC$18,'Female - Rev'!$A34-35,0)","v":2.3300000000000001E-2},{"$f":"OFFSET(Female!BD$18,'Female - Rev'!$A34-35,0)","v":2.4400000000000002E-2},{"$f":"OFFSET(Female!BE$18,'Female - Rev'!$A34-35,0)","v":2.47E-2},{"$f":"OFFSET(Female!BF$18,'Female - Rev'!$A34-35,0)","v":2.4E-2},{"$f":"OFFSET(Female!BG$18,'Female - Rev'!$A34-35,0)","v":2.23E-2},{"$f":"OFFSET(Female!BH$18,'Female - Rev'!$A34-35,0)","v":1.9900000000000001E-2},{"$f":"OFFSET(Female!BI$18,'Female - Rev'!$A34-35,0)","v":1.66E-2},{"$f":"OFFSET(Female!BJ$18,'Female - Rev'!$A34-35,0)","v":1.29E-2},{"$f":"OFFSET(Female!BK$18,'Female - Rev'!$A34-35,0)","v":9.1000000000000004E-3},{"$f":"OFFSET(Female!BL$18,'Female - Rev'!$A34-35,0)","v":5.4999999999999997E-3},{"$f":"OFFSET(Female!BM$18,'Female - Rev'!$A34-35,0)","v":2.3999999999999998E-3},{"$f":"OFFSET(Female!BN$18,'Female - Rev'!$A34-35,0)","v":0},{"$f":"OFFSET(Female!BO$18,'Female - Rev'!$A34-35,0)","v":-2E-3},{"$f":"OFFSET(Female!BP$18,'Female - Rev'!$A34-35,0)","v":-3.0999999999999999E-3},{"$f":"OFFSET(Female!BQ$18,'Female - Rev'!$A34-35,0)","v":-3.5000000000000001E-3},{"$f":"OFFSET(Female!BR$18,'Female - Rev'!$A34-35,0)","v":-3.2000000000000002E-3},{"$f":"OFFSET(Female!BS$18,'Female - Rev'!$A34-35,0)","v":-2.2000000000000001E-3},{"$f":"OFFSET(Female!BT$18,'Female - Rev'!$A34-35,0)","v":-5.9999999999999995E-4},{"$f":"OFFSET(Female!BU$18,'Female - Rev'!$A34-35,0)","v":1.5E-3},{"$f":"OFFSET(Female!BV$18,'Female - Rev'!$A34-35,0)","v":3.7000000000000002E-3},{"$f":"OFFSET(Female!BW$18,'Female - Rev'!$A34-35,0)","v":6.0000000000000001E-3},{"$f":"OFFSET(Female!BX$18,'Female - Rev'!$A34-35,0)","v":7.9000000000000008E-3},{"$f":"OFFSET(Female!BY$18,'Female - Rev'!$A34-35,0)","v":9.4000000000000004E-3},{"$f":"OFFSET(Female!BZ$18,'Female - Rev'!$A34-35,0)","v":1.04E-2},{"$f":"OFFSET(Female!CA$18,'Female - Rev'!$A34-35,0)","v":1.1299999999999999E-2},{"$f":"OFFSET(Female!CB$18,'Female - Rev'!$A34-35,0)","v":1.18E-2},{"$f":"OFFSET(Female!CC$18,'Female - Rev'!$A34-35,0)","v":1.2200000000000001E-2},{"$f":"OFFSET(Female!CD$18,'Female - Rev'!$A34-35,0)","v":1.24E-2},{"$f":"OFFSET(Female!CE$18,'Female - Rev'!$A34-35,0)","v":1.26E-2},{"$f":"OFFSET(Female!CF$18,'Female - Rev'!$A34-35,0)","v":1.2800000000000001E-2},{"$f":"OFFSET(Female!CG$18,'Female - Rev'!$A34-35,0)","v":1.29E-2},{"$f":"OFFSET(Female!CH$18,'Female - Rev'!$A34-35,0)","v":1.3100000000000001E-2},{"$f":"OFFSET(Female!CI$18,'Female - Rev'!$A34-35,0)","v":1.32E-2},{"$f":"CJ34","v":1.32E-2},1.32E-2]
[63,63,{"$f":"OFFSET(Female!B$18,'Female - Rev'!$A35-35,0)","v":2.8400000000000002E-2},{"$f":"OFFSET(Female!C$18,'Female - Rev'!$A35-35,0)","v":2.53E-2},{"$f":"OFFSET(Female!D$18,'Female - Rev'!$A35-35,0)","v":2.2100000000000002E-2},{"$f":"OFFSET(Female!E$18,'Female - Rev'!$A35-35,0)","v":1.89E-2},{"$f":"OFFSET(Female!F$18,'Female - Rev'!$A35-35,0)","v":1.5900000000000001E-2},{"$f":"OFFSET(Female!G$18,'Female - Rev'!$A35-35,0)","v":1.3100000000000001E-2},{"$f":"OFFSET(Female!H$18,'Female - Rev'!$A35-35,0)","v":1.0800000000000001E-2},{"$f":"OFFSET(Female!I$18,'Female - Rev'!$A35-35,0)","v":9.1000000000000004E-3},{"$f":"OFFSET(Female!J$18,'Female - Rev'!$A35-35,0)","v":8.0000000000000002E-3},{"$f":"OFFSET(Female!K$18,'Female - Rev'!$A35-35,0)","v":7.4000000000000003E-3},{"$f":"OFFSET(Female!L$18,'Female - Rev'!$A35-35,0)","v":7.4000000000000003E-3},{"$f":"OFFSET(Female!M$18,'Female - Rev'!$A35-35,0)","v":7.7999999999999996E-3},{"$f":"OFFSET(Female!N$18,'Female - Rev'!$A35-35,0)","v":8.6999999999999994E-3},{"$f":"OFFSET(Female!O$18,'Female - Rev'!$A35-35,0)","v":9.9000000000000008E-3},{"$f":"OFFSET(Female!P$18,'Female - Rev'!$A35-35,0)","v":1.11E-2},{"$f":"OFFSET(Female!Q$18,'Female - Rev'!$A35-35,0)","v":1.23E-2},{"$f":"OFFSET(Female!R$18,'Female - Rev'!$A35-35,0)","v":1.32E-2},{"$f":"OFFSET(Female!S$18,'Female - Rev'!$A35-35,0)","v":1.4E-2},{"$f":"OFFSET(Female!T$18,'Female - Rev'!$A35-35,0)","v":1.47E-2},{"$f":"OFFSET(Female!U$18,'Female - Rev'!$A35-35,0)","v":1.5299999999999999E-2},{"$f":"OFFSET(Female!V$18,'Female - Rev'!$A35-35,0)","v":1.5800000000000002E-2},{"$f":"OFFSET(Female!W$18,'Female - Rev'!$A35-35,0)","v":1.6299999999999999E-2},{"$f":"OFFSET(Female!X$18,'Female - Rev'!$A35-35,0)","v":1.67E-2},{"$f":"OFFSET(Female!Y$18,'Female - Rev'!$A35-35,0)","v":1.66E-2},{"$f":"OFFSET(Female!Z$18,'Female - Rev'!$A35-35,0)","v":1.61E-2},{"$f":"OFFSET(Female!AA$18,'Female - Rev'!$A35-35,0)","v":1.49E-2},{"$f":"OFFSET(Female!AB$18,'Female - Rev'!$A35-35,0)","v":1.3100000000000001E-2},{"$f":"OFFSET(Female!AC$18,'Female - Rev'!$A35-35,0)","v":1.0999999999999999E-2},{"$f":"OFFSET(Female!AD$18,'Female - Rev'!$A35-35,0)","v":8.6E-3},{"$f":"OFFSET(Female!AE$18,'Female - Rev'!$A35-35,0)","v":6.1999999999999998E-3},{"$f":"OFFSET(Female!AF$18,'Female - Rev'!$A35-35,0)","v":4.1999999999999997E-3},{"$f":"OFFSET(Female!AG$18,'Female - Rev'!$A35-35,0)","v":2.8E-3},{"$f":"OFFSET(Female!AH$18,'Female - Rev'!$A35-35,0)","v":2.0999999999999999E-3},{"$f":"OFFSET(Female!AI$18,'Female - Rev'!$A35-35,0)","v":2.3E-3},{"$f":"OFFSET(Female!AJ$18,'Female - Rev'!$A35-35,0)","v":3.2000000000000002E-3},{"$f":"OFFSET(Female!AK$18,'Female - Rev'!$A35-35,0)","v":4.7000000000000002E-3},{"$f":"OFFSET(Female!AL$18,'Female - Rev'!$A35-35,0)","v":6.3E-3},{"$f":"OFFSET(Female!AM$18,'Female - Rev'!$A35-35,0)","v":7.7000000000000002E-3},{"$f":"OFFSET(Female!AN$18,'Female - Rev'!$A35-35,0)","v":8.6999999999999994E-3},{"$f":"OFFSET(Female!AO$18,'Female - Rev'!$A35-35,0)","v":8.9999999999999993E-3},{"$f":"OFFSET(Female!AP$18,'Female - Rev'!$A35-35,0)","v":8.6999999999999994E-3},{"$f":"OFFSET(Female!AQ$18,'Female - Rev'!$A35-35,0)","v":7.9000000000000008E-3},{"$f":"OFFSET(Female!AR$18,'Female - Rev'!$A35-35,0)","v":7.1000000000000004E-3},{"$f":"OFFSET(Female!AS$18,'Female - Rev'!$A35-35,0)","v":6.7000000000000002E-3},{"$f":"OFFSET(Female!AT$18,'Female - Rev'!$A35-35,0)","v":6.7000000000000002E-3},{"$f":"OFFSET(Female!AU$18,'Female - Rev'!$A35-35,0)","v":7.4000000000000003E-3},{"$f":"OFFSET(Female!AV$18,'Female - Rev'!$A35-35,0)","v":8.6E-3},{"$f":"OFFSET(Female!AW$18,'Female - Rev'!$A35-35,0)","v":1.0200000000000001E-2},{"$f":"OFFSET(Female!AX$18,'Female - Rev'!$A35-35,0)","v":1.2200000000000001E-2},{"$f":"OFFSET(Female!AY$18,'Female - Rev'!$A35-35,0)","v":1.4500000000000001E-2},{"$f":"OFFSET(Female!AZ$18,'Female - Rev'!$A35-35,0)","v":1.7000000000000001E-2},{"$f":"OFFSET(Female!BA$18,'Female - Rev'!$A35-35,0)","v":1.95E-2},{"$f":"OFFSET(Female!BB$18,'Female - Rev'!$A35-35,0)","v":2.1700000000000001E-2},{"$f":"OFFSET(Female!BC$18,'Female - Rev'!$A35-35,0)","v":2.35E-2},{"$f":"OFFSET(Female!BD$18,'Female - Rev'!$A35-35,0)","v":2.4500000000000001E-2},{"$f":"OFFSET(Female!BE$18,'Female - Rev'!$A35-35,0)","v":2.47E-2},{"$f":"OFFSET(Female!BF$18,'Female - Rev'!$A35-35,0)","v":2.3800000000000002E-2},{"$f":"OFFSET(Female!BG$18,'Female - Rev'!$A35-35,0)","v":2.18E-2},{"$f":"OFFSET(Female!BH$18,'Female - Rev'!$A35-35,0)","v":1.9E-2},{"$f":"OFFSET(Female!BI$18,'Female - Rev'!$A35-35,0)","v":1.5299999999999999E-2},{"$f":"OFFSET(Female!BJ$18,'Female - Rev'!$A35-35,0)","v":1.11E-2},{"$f":"OFFSET(Female!BK$18,'Female - Rev'!$A35-35,0)","v":6.7999999999999996E-3},{"$f":"OFFSET(Female!BL$18,'Female - Rev'!$A35-35,0)","v":2.8E-3},{"$f":"OFFSET(Female!BM$18,'Female - Rev'!$A35-35,0)","v":-5.0000000000000001E-4},{"$f":"OFFSET(Female!BN$18,'Female - Rev'!$A35-35,0)","v":-2.8999999999999998E-3},{"$f":"OFFSET(Female!BO$18,'Female - Rev'!$A35-35,0)","v":-4.7000000000000002E-3},{"$f":"OFFSET(Female!BP$18,'Female - Rev'!$A35-35,0)","v":-5.5999999999999999E-3},{"$f":"OFFSET(Female!BQ$18,'Female - Rev'!$A35-35,0)","v":-5.5999999999999999E-3},{"$f":"OFFSET(Female!BR$18,'Female - Rev'!$A35-35,0)","v":-4.7000000000000002E-3},{"$f":"OFFSET(Female!BS$18,'Female - Rev'!$A35-35,0)","v":-3.0999999999999999E-3},{"$f":"OFFSET(Female!BT$18,'Female - Rev'!$A35-35,0)","v":-8.9999999999999998E-4},{"$f":"OFFSET(Female!BU$18,'Female - Rev'!$A35-35,0)","v":1.6000000000000001E-3},{"$f":"OFFSET(Female!BV$18,'Female - Rev'!$A35-35,0)","v":4.3E-3},{"$f":"OFFSET(Female!BW$18,'Female - Rev'!$A35-35,0)","v":6.7000000000000002E-3},{"$f":"OFFSET(Female!BX$18,'Female - Rev'!$A35-35,0)","v":8.6999999999999994E-3},{"$f":"OFFSET(Female!BY$18,'Female - Rev'!$A35-35,0)","v":1.01E-2},{"$f":"OFFSET(Female!BZ$18,'Female - Rev'!$A35-35,0)","v":1.0999999999999999E-2},{"$f":"OFFSET(Female!CA$18,'Female - Rev'!$A35-35,0)","v":1.17E-2},{"$f":"OFFSET(Female!CB$18,'Female - Rev'!$A35-35,0)","v":1.21E-2},{"$f":"OFFSET(Female!CC$18,'Female - Rev'!$A35-35,0)","v":1.24E-2},{"$f":"OFFSET(Female!CD$18,'Female - Rev'!$A35-35,0)","v":1.2500000000000001E-2},{"$f":"OFFSET(Female!CE$18,'Female - Rev'!$A35-35,0)","v":1.2699999999999999E-2},{"$f":"OFFSET(Female!CF$18,'Female - Rev'!$A35-35,0)","v":1.2800000000000001E-2},{"$f":"OFFSET(Female!CG$18,'Female - Rev'!$A35-35,0)","v":1.2999999999999999E-2},{"$f":"OFFSET(Female!CH$18,'Female - Rev'!$A35-35,0)","v":1.32E-2},{"$f":"OFFSET(Female!CI$18,'Female - Rev'!$A35-35,0)","v":1.34E-2},{"$f":"CJ35","v":1.34E-2},1.34E-2]
[62,62,{"$f":"OFFSET(Female!B$18,'Female - Rev'!$A36-35,0)","v":2.9600000000000001E-2},{"$f":"OFFSET(Female!C$18,'Female - Rev'!$A36-35,0)","v":2.63E-2},{"$f":"OFFSET(Female!D$18,'Female - Rev'!$A36-35,0)","v":2.3099999999999999E-2},{"$f":"OFFSET(Female!E$18,'Female - Rev'!$A36-35,0)","v":1.9699999999999999E-2},{"$f":"OFFSET(Female!F$18,'Female - Rev'!$A36-35,0)","v":1.6500000000000001E-2},{"$f":"OFFSET(Female!G$18,'Female - Rev'!$A36-35,0)","v":1.3599999999999999E-2},{"$f":"OFFSET(Female!H$18,'Female - Rev'!$A36-35,0)","v":1.11E-2},{"$f":"OFFSET(Female!I$18,'Female - Rev'!$A36-35,0)","v":9.4000000000000004E-3},{"$f":"OFFSET(Female!J$18,'Female - Rev'!$A36-35,0)","v":8.2000000000000007E-3},{"$f":"OFFSET(Female!K$18,'Female - Rev'!$A36-35,0)","v":7.4999999999999997E-3},{"$f":"OFFSET(Female!L$18,'Female - Rev'!$A36-35,0)","v":7.4000000000000003E-3},{"$f":"OFFSET(Female!M$18,'Female - Rev'!$A36-35,0)","v":7.6E-3},{"$f":"OFFSET(Female!N$18,'Female - Rev'!$A36-35,0)","v":8.3000000000000001E-3},{"$f":"OFFSET(Female!O$18,'Female - Rev'!$A36-35,0)","v":9.1999999999999998E-3},{"$f":"OFFSET(Female!P$18,'Female - Rev'!$A36-35,0)","v":0.01},{"$f":"OFFSET(Female!Q$18,'Female - Rev'!$A36-35,0)","v":1.0800000000000001E-2},{"$f":"OFFSET(Female!R$18,'Female - Rev'!$A36-35,0)","v":1.15E-2},{"$f":"OFFSET(Female!S$18,'Female - Rev'!$A36-35,0)","v":1.21E-2},{"$f":"OFFSET(Female!T$18,'Female - Rev'!$A36-35,0)","v":1.29E-2},{"$f":"OFFSET(Female!U$18,'Female - Rev'!$A36-35,0)","v":1.37E-2},{"$f":"OFFSET(Female!V$18,'Female - Rev'!$A36-35,0)","v":1.47E-2},{"$f":"OFFSET(Female!W$18,'Female - Rev'!$A36-35,0)","v":1.5699999999999999E-2},{"$f":"OFFSET(Female!X$18,'Female - Rev'!$A36-35,0)","v":1.6500000000000001E-2},{"$f":"OFFSET(Female!Y$18,'Female - Rev'!$A36-35,0)","v":1.7000000000000001E-2},{"$f":"OFFSET(Female!Z$18,'Female - Rev'!$A36-35,0)","v":1.6799999999999999E-2},{"$f":"OFFSET(Female!AA$18,'Female - Rev'!$A36-35,0)","v":1.5900000000000001E-2},{"$f":"OFFSET(Female!AB$18,'Female - Rev'!$A36-35,0)","v":1.43E-2},{"$f":"OFFSET(Female!AC$18,'Female - Rev'!$A36-35,0)","v":1.2200000000000001E-2},{"$f":"OFFSET(Female!AD$18,'Female - Rev'!$A36-35,0)","v":9.7000000000000003E-3},{"$f":"OFFSET(Female!AE$18,'Female - Rev'!$A36-35,0)","v":7.1999999999999998E-3},{"$f":"OFFSET(Female!AF$18,'Female - Rev'!$A36-35,0)","v":5.0000000000000001E-3},{"$f":"OFFSET(Female!AG$18,'Female - Rev'!$A36-35,0)","v":3.3999999999999998E-3},{"$f":"OFFSET(Female!AH$18,'Female - Rev'!$A36-35,0)","v":2.7000000000000001E-3},{"$f":"OFFSET(Female!AI$18,'Female - Rev'!$A36-35,0)","v":2.8E-3},{"$f":"OFFSET(Female!AJ$18,'Female - Rev'!$A36-35,0)","v":3.5999999999999999E-3},{"$f":"OFFSET(Female!AK$18,'Female - Rev'!$A36-35,0)","v":5.0000000000000001E-3},{"$f":"OFFSET(Female!AL$18,'Female - Rev'!$A36-35,0)","v":6.6E-3},{"$f":"OFFSET(Female!AM$18,'Female - Rev'!$A36-35,0)","v":8.0000000000000002E-3},{"$f":"OFFSET(Female!AN$18,'Female - Rev'!$A36-35,0)","v":8.9999999999999993E-3},{"$f":"OFFSET(Female!AO$18,'Female - Rev'!$A36-35,0)","v":9.4000000000000004E-3},{"$f":"OFFSET(Female!AP$18,'Female - Rev'!$A36-35,0)","v":9.1999999999999998E-3},{"$f":"OFFSET(Female!AQ$18,'Female - Rev'!$A36-35,0)","v":8.6E-3},{"$f":"OFFSET(Female!AR$18,'Female - Rev'!$A36-35,0)","v":8.0000000000000002E-3},{"$f":"OFFSET(Female!AS$18,'Female - Rev'!$A36-35,0)","v":7.6E-3},{"$f":"OFFSET(Female!AT$18,'Female - Rev'!$A36-35,0)","v":7.7000000000000002E-3},{"$f":"OFFSET(Female!AU$18,'Female - Rev'!$A36-35,0)","v":8.3000000000000001E-3},{"$f":"OFFSET(Female!AV$18,'Female - Rev'!$A36-35,0)","v":9.4000000000000004E-3},{"$f":"OFFSET(Female!AW$18,'Female - Rev'!$A36-35,0)","v":1.09E-2},{"$f":"OFFSET(Female!AX$18,'Female - Rev'!$A36-35,0)","v":1.2800000000000001E-2},{"$f":"OFFSET(Female!AY$18,'Female - Rev'!$A36-35,0)","v":1.49E-2},{"$f":"OFFSET(Female!AZ$18,'Female - Rev'!$A36-35,0)","v":1.7299999999999999E-2},{"$f":"OFFSET(Female!BA$18,'Female - Rev'!$A36-35,0)","v":1.9599999999999999E-2},{"$f":"OFFSET(Female!BB$18,'Female - Rev'!$A36-35,0)","v":2.18E-2},{"$f":"OFFSET(Female!BC$18,'Female - Rev'!$A36-35,0)","v":2.35E-2},{"$f":"OFFSET(Female!BD$18,'Female - Rev'!$A36-35,0)","v":2.4400000000000002E-2},{"$f":"OFFSET(Female!BE$18,'Female - Rev'!$A36-35,0)","v":2.4400000000000002E-2},{"$f":"OFFSET(Female!BF$18,'Female - Rev'!$A36-35,0)","v":2.3199999999999998E-2},{"$f":"OFFSET(Female!BG$18,'Female - Rev'!$A36-35,0)","v":2.0899999999999998E-2},{"$f":"OFFSET(Female!BH$18,'Female - Rev'!$A36-35,0)","v":1.7600000000000001E-2},{"$f":"OFFSET(Female!BI$18,'Female - Rev'!$A36-35,0)","v":1.35E-2},{"$f":"OFFSET(Female!BJ$18,'Female - Rev'!$A36-35,0)","v":8.8999999999999999E-3},{"$f":"OFFSET(Female!BK$18,'Female - Rev'!$A36-35,0)","v":4.1999999999999997E-3},{"$f":"OFFSET(Female!BL$18,'Female - Rev'!$A36-35,0)","v":0},{"$f":"OFFSET(Female!BM$18,'Female - Rev'!$A36-35,0)","v":-3.3999999999999998E-3},{"$f":"OFFSET(Female!BN$18,'Female - Rev'!$A36-35,0)","v":-5.7000000000000002E-3},{"$f":"OFFSET(Female!BO$18,'Female - Rev'!$A36-35,0)","v":-7.1000000000000004E-3},{"$f":"OFFSET(Female!BP$18,'Female - Rev'!$A36-35,0)","v":-7.7000000000000002E-3},{"$f":"OFFSET(Female!BQ$18,'Female - Rev'!$A36-35,0)","v":-7.1999999999999998E-3},{"$f":"OFFSET(Female!BR$18,'Female - Rev'!$A36-35,0)","v":-5.7000000000000002E-3},{"$f":"OFFSET(Female!BS$18,'Female - Rev'!$A36-35,0)","v":-3.5999999999999999E-3},{"$f":"OFFSET(Female!BT$18,'Female - Rev'!$A36-35,0)","v":-8.9999999999999998E-4},{"$f":"OFFSET(Female!BU$18,'Female - Rev'!$A36-35,0)","v":2.0999999999999999E-3},{"$f":"OFFSET(Female!BV$18,'Female - Rev'!$A36-35,0)","v":5.0000000000000001E-3},{"$f":"OFFSET(Female!BW$18,'Female - Rev'!$A36-35,0)","v":7.4999999999999997E-3},{"$f":"OFFSET(Female!BX$18,'Female - Rev'!$A36-35,0)","v":9.4999999999999998E-3},{"$f":"OFFSET(Female!BY$18,'Female - Rev'!$A36-35,0)","v":1.0800000000000001E-2},{"$f":"OFFSET(Female!BZ$18,'Female - Rev'!$A36-35,0)","v":1.15E-2},{"$f":"OFFSET(Female!CA$18,'Female - Rev'!$A36-35,0)","v":1.2E-2},{"$f":"OFFSET(Female!CB$18,'Female - Rev'!$A36-35,0)","v":1.2200000000000001E-2},{"$f":"OFFSET(Female!CC$18,'Female - Rev'!$A36-35,0)","v":1.24E-2},{"$f":"OFFSET(Female!CD$18,'Female - Rev'!$A36-35,0)","v":1.2500000000000001E-2},{"$f":"OFFSET(Female!CE$18,'Female - Rev'!$A36-35,0)","v":1.2699999999999999E-2},{"$f":"OFFSET(Female!CF$18,'Female - Rev'!$A36-35,0)","v":1.29E-2},{"$f":"OFFSET(Female!CG$18,'Female - Rev'!$A36-35,0)","v":1.3100000000000001E-2},{"$f":"OFFSET(Female!CH$18,'Female - Rev'!$A36-35,0)","v":1.34E-2},{"$f":"OFFSET(Female!CI$18,'Female - Rev'!$A36-35,0)","v":1.35E-2},{"$f":"CJ36","v":1.35E-2},1.35E-2]
[61,61,{"$f":"OFFSET(Female!B$18,'Female - Rev'!$A37-35,0)","v":3.0499999999999999E-2},{"$f":"OFFSET(Female!C$18,'Female - Rev'!$A37-35,0)","v":2.7199999999999998E-2},{"$f":"OFFSET(Female!D$18,'Female - Rev'!$A37-35,0)","v":2.3900000000000001E-2},{"$f":"OFFSET(Female!E$18,'Female - Rev'!$A37-35,0)","v":2.0500000000000001E-2},{"$f":"OFFSET(Female!F$18,'Female - Rev'!$A37-35,0)","v":1.72E-2},{"$f":"OFFSET(Female!G$18,'Female - Rev'!$A37-35,0)","v":1.43E-2},{"$f":"OFFSET(Female!H$18,'Female - Rev'!$A37-35,0)","v":1.18E-2},{"$f":"OFFSET(Female!I$18,'Female - Rev'!$A37-35,0)","v":0.01},{"$f":"OFFSET(Female!J$18,'Female - Rev'!$A37-35,0)","v":8.6999999999999994E-3},{"$f":"OFFSET(Female!K$18,'Female - Rev'!$A37-35,0)","v":7.9000000000000008E-3},{"$f":"OFFSET(Female!L$18,'Female - Rev'!$A37-35,0)","v":7.6E-3},{"$f":"OFFSET(Female!M$18,'Female - Rev'!$A37-35,0)","v":7.6E-3},{"$f":"OFFSET(Female!N$18,'Female - Rev'!$A37-35,0)","v":7.9000000000000008E-3},{"$f":"OFFSET(Female!O$18,'Female - Rev'!$A37-35,0)","v":8.3000000000000001E-3},{"$f":"OFFSET(Female!P$18,'Female - Rev'!$A37-35,0)","v":8.6999999999999994E-3},{"$f":"OFFSET(Female!Q$18,'Female - Rev'!$A37-35,0)","v":9.1000000000000004E-3},{"$f":"OFFSET(Female!R$18,'Female - Rev'!$A37-35,0)","v":9.4999999999999998E-3},{"$f":"OFFSET(Female!S$18,'Female - Rev'!$A37-35,0)","v":0.01},{"$f":"OFFSET(Female!T$18,'Female - Rev'!$A37-35,0)","v":1.0999999999999999E-2},{"$f":"OFFSET(Female!U$18,'Female - Rev'!$A37-35,0)","v":1.2200000000000001E-2},{"$f":"OFFSET(Female!V$18,'Female - Rev'!$A37-35,0)","v":1.37E-2},{"$f":"OFFSET(Female!W$18,'Female - Rev'!$A37-35,0)","v":1.52E-2},{"$f":"OFFSET(Female!X$18,'Female - Rev'!$A37-35,0)","v":1.66E-2},{"$f":"OFFSET(Female!Y$18,'Female - Rev'!$A37-35,0)","v":1.7600000000000001E-2},{"$f":"OFFSET(Female!Z$18,'Female - Rev'!$A37-35,0)","v":1.78E-2},{"$f":"OFFSET(Female!AA$18,'Female - Rev'!$A37-35,0)","v":1.72E-2},{"$f":"OFFSET(Female!AB$18,'Female - Rev'!$A37-35,0)","v":1.5699999999999999E-2},{"$f":"OFFSET(Female!AC$18,'Female - Rev'!$A37-35,0)","v":1.35E-2},{"$f":"OFFSET(Female!AD$18,'Female - Rev'!$A37-35,0)","v":1.09E-2},{"$f":"OFFSET(Female!AE$18,'Female - Rev'!$A37-35,0)","v":8.2000000000000007E-3},{"$f":"OFFSET(Female!AF$18,'Female - Rev'!$A37-35,0)","v":5.7999999999999996E-3},{"$f":"OFFSET(Female!AG$18,'Female - Rev'!$A37-35,0)","v":4.1000000000000003E-3},{"$f":"OFFSET(Female!AH$18,'Female - Rev'!$A37-35,0)","v":3.2000000000000002E-3},{"$f":"OFFSET(Female!AI$18,'Female - Rev'!$A37-35,0)","v":3.3E-3},{"$f":"OFFSET(Female!AJ$18,'Female - Rev'!$A37-35,0)","v":4.1000000000000003E-3},{"$f":"OFFSET(Female!AK$18,'Female - Rev'!$A37-35,0)","v":5.4000000000000003E-3},{"$f":"OFFSET(Female!AL$18,'Female - Rev'!$A37-35,0)","v":6.8999999999999999E-3},{"$f":"OFFSET(Female!AM$18,'Female - Rev'!$A37-35,0)","v":8.2000000000000007E-3},{"$f":"OFFSET(Female!AN$18,'Female - Rev'!$A37-35,0)","v":9.1999999999999998E-3},{"$f":"OFFSET(Female!AO$18,'Female - Rev'!$A37-35,0)","v":9.7000000000000003E-3},{"$f":"OFFSET(Female!AP$18,'Female - Rev'!$A37-35,0)","v":9.7000000000000003E-3},{"$f":"OFFSET(Female!AQ$18,'Female - Rev'!$A37-35,0)","v":9.2999999999999992E-3},{"$f":"OFFSET(Female!AR$18,'Female - Rev'!$A37-35,0)","v":8.8999999999999999E-3},{"$f":"OFFSET(Female!AS$18,'Female - Rev'!$A37-35,0)","v":8.6E-3},{"$f":"OFFSET(Female!AT$18,'Female - Rev'!$A37-35,0)","v":8.6999999999999994E-3},{"$f":"OFFSET(Female!AU$18,'Female - Rev'!$A37-35,0)","v":9.2999999999999992E-3},{"$f":"OFFSET(Female!AV$18,'Female - Rev'!$A37-35,0)","v":1.0200000000000001E-2},{"$f":"OFFSET(Female!AW$18,'Female - Rev'!$A37-35,0)","v":1.1599999999999999E-2},{"$f":"OFFSET(Female!AX$18,'Female - Rev'!$A37-35,0)","v":1.3299999999999999E-2},{"$f":"OFFSET(Female!AY$18,'Female - Rev'!$A37-35,0)","v":1.52E-2},{"$f":"OFFSET(Female!AZ$18,'Female - Rev'!$A37-35,0)","v":1.7399999999999999E-2},{"$f":"OFFSET(Female!BA$18,'Female - Rev'!$A37-35,0)","v":1.9599999999999999E-2},{"$f":"OFFSET(Female!BB$18,'Female - Rev'!$A37-35,0)","v":2.1600000000000001E-2},{"$f":"OFFSET(Female!BC$18,'Female - Rev'!$A37-35,0)","v":2.3199999999999998E-2},{"$f":"OFFSET(Female!BD$18,'Female - Rev'!$A37-35,0)","v":2.3900000000000001E-2},{"$f":"OFFSET(Female!BE$18,'Female - Rev'!$A37-35,0)","v":2.3599999999999999E-2},{"$f":"OFFSET(Female!BF$18,'Female - Rev'!$A37-35,0)","v":2.2100000000000002E-2},{"$f":"OFFSET(Female!BG$18,'Female - Rev'!$A37-35,0)","v":1.9400000000000001E-2},{"$f":"OFFSET(Female!BH$18,'Female - Rev'!$A37-35,0)","v":1.5699999999999999E-2},{"$f":"OFFSET(Female!BI$18,'Female - Rev'!$A37-35,0)","v":1.1299999999999999E-2},{"$f":"OFFSET(Female!BJ$18,'Female - Rev'!$A37-35,0)","v":6.3E-3},{"$f":"OFFSET(Female!BK$18,'Female - Rev'!$A37-35,0)","v":1.4E-3},{"$f":"OFFSET(Female!BL$18,'Female - Rev'!$A37-35,0)","v":-2.8E-3},{"$f":"OFFSET(Female!BM$18,'Female - Rev'!$A37-35,0)","v":-6.0000000000000001E-3},{"$f":"OFFSET(Female!BN$18,'Female - Rev'!$A37-35,0)","v":-8.0000000000000002E-3},{"$f":"OFFSET(Female!BO$18,'Female - Rev'!$A37-35,0)","v":-8.8999999999999999E-3},{"$f":"OFFSET(Female!BP$18,'Female - Rev'!$A37-35,0)","v":-8.9999999999999993E-3},{"$f":"OFFSET(Female!BQ$18,'Female - Rev'!$A37-35,0)","v":-8.0000000000000002E-3},{"$f":"OFFSET(Female!BR$18,'Female - Rev'!$A37-35,0)","v":-6.1000000000000004E-3},{"$f":"OFFSET(Female!BS$18,'Female - Rev'!$A37-35,0)","v":-3.5000000000000001E-3},{"$f":"OFFSET(Female!BT$18,'Female - Rev'!$A37-35,0)","v":-4.0000000000000002E-4},{"$f":"OFFSET(Female!BU$18,'Female - Rev'!$A37-35,0)","v":2.8E-3},{"$f":"OFFSET(Female!BV$18,'Female - Rev'!$A37-35,0)","v":5.7000000000000002E-3},{"$f":"OFFSET(Female!BW$18,'Female - Rev'!$A37-35,0)","v":8.3000000000000001E-3},{"$f":"OFFSET(Female!BX$18,'Female - Rev'!$A37-35,0)","v":1.0200000000000001E-2},{"$f":"OFFSET(Female!BY$18,'Female - Rev'!$A37-35,0)","v":1.1299999999999999E-2},{"$f":"OFFSET(Female!BZ$18,'Female - Rev'!$A37-35,0)","v":1.18E-2},{"$f":"OFFSET(Female!CA$18,'Female - Rev'!$A37-35,0)","v":1.21E-2},{"$f":"OFFSET(Female!CB$18,'Female - Rev'!$A37-35,0)","v":1.2200000000000001E-2},{"$f":"OFFSET(Female!CC$18,'Female - Rev'!$A37-35,0)","v":1.23E-2},{"$f":"OFFSET(Female!CD$18,'Female - Rev'!$A37-35,0)","v":1.24E-2},{"$f":"OFFSET(Female!CE$18,'Female - Rev'!$A37-35,0)","v":1.26E-2},{"$f":"OFFSET(Female!CF$18,'Female - Rev'!$A37-35,0)","v":1.2800000000000001E-2},{"$f":"OFFSET(Female!CG$18,'Female - Rev'!$A37-35,0)","v":1.3100000000000001E-2},{"$f":"OFFSET(Female!CH$18,'Female - Rev'!$A37-35,0)","v":1.34E-2},{"$f":"OFFSET(Female!CI$18,'Female - Rev'!$A37-35,0)","v":1.35E-2},{"$f":"CJ37","v":1.35E-2},1.35E-2]
[60,60,{"$f":"OFFSET(Female!B$18,'Female - Rev'!$A38-35,0)","v":3.09E-2},{"$f":"OFFSET(Female!C$18,'Female - Rev'!$A38-35,0)","v":2.7699999999999999E-2},{"$f":"OFFSET(Female!D$18,'Female - Rev'!$A38-35,0)","v":2.4500000000000001E-2},{"$f":"OFFSET(Female!E$18,'Female - Rev'!$A38-35,0)","v":2.12E-2},{"$f":"OFFSET(Female!F$18,'Female - Rev'!$A38-35,0)","v":1.7999999999999999E-2},{"$f":"OFFSET(Female!G$18,'Female - Rev'!$A38-35,0)","v":1.5100000000000001E-2},{"$f":"OFFSET(Female!H$18,'Female - Rev'!$A38-35,0)","v":1.2699999999999999E-2},{"$f":"OFFSET(Female!I$18,'Female - Rev'!$A38-35,0)","v":1.09E-2},{"$f":"OFFSET(Female!J$18,'Female - Rev'!$A38-35,0)","v":9.5999999999999992E-3},{"$f":"OFFSET(Female!K$18,'Female - Rev'!$A38-35,0)","v":8.6E-3},{"$f":"OFFSET(Female!L$18,'Female - Rev'!$A38-35,0)","v":8.0000000000000002E-3},{"$f":"OFFSET(Female!M$18,'Female - Rev'!$A38-35,0)","v":7.6E-3},{"$f":"OFFSET(Female!N$18,'Female - Rev'!$A38-35,0)","v":7.4000000000000003E-3},{"$f":"OFFSET(Female!O$18,'Female - Rev'!$A38-35,0)","v":7.3000000000000001E-3},{"$f":"OFFSET(Female!P$18,'Female - Rev'!$A38-35,0)","v":7.3000000000000001E-3},{"$f":"OFFSET(Female!Q$18,'Female - Rev'!$A38-35,0)","v":7.3000000000000001E-3},{"$f":"OFFSET(Female!R$18,'Female - Rev'!$A38-35,0)","v":7.4000000000000003E-3},{"$f":"OFFSET(Female!S$18,'Female - Rev'!$A38-35,0)","v":8.0000000000000002E-3},{"$f":"OFFSET(Female!T$18,'Female - Rev'!$A38-35,0)","v":9.1000000000000004E-3},{"$f":"OFFSET(Female!U$18,'Female - Rev'!$A38-35,0)","v":1.0800000000000001E-2},{"$f":"OFFSET(Female!V$18,'Female - Rev'!$A38-35,0)","v":1.2800000000000001E-2},{"$f":"OFFSET(Female!W$18,'Female - Rev'!$A38-35,0)","v":1.4999999999999999E-2},{"$f":"OFFSET(Female!X$18,'Female - Rev'!$A38-35,0)","v":1.6899999999999998E-2},{"$f":"OFFSET(Female!Y$18,'Female - Rev'!$A38-35,0)","v":1.84E-2},{"$f":"OFFSET(Female!Z$18,'Female - Rev'!$A38-35,0)","v":1.9E-2},{"$f":"OFFSET(Female!AA$18,'Female - Rev'!$A38-35,0)","v":1.8499999999999999E-2},{"$f":"OFFSET(Female!AB$18,'Female - Rev'!$A38-35,0)","v":1.7000000000000001E-2},{"$f":"OFFSET(Female!AC$18,'Female - Rev'!$A38-35,0)","v":1.47E-2},{"$f":"OFFSET(Female!AD$18,'Female - Rev'!$A38-35,0)","v":1.1900000000000001E-2},{"$f":"OFFSET(Female!AE$18,'Female - Rev'!$A38-35,0)","v":8.9999999999999993E-3},{"$f":"OFFSET(Female!AF$18,'Female - Rev'!$A38-35,0)","v":6.4999999999999997E-3},{"$f":"OFFSET(Female!AG$18,'Female - Rev'!$A38-35,0)","v":4.7000000000000002E-3},{"$f":"OFFSET(Female!AH$18,'Female - Rev'!$A38-35,0)","v":3.8E-3},{"$f":"OFFSET(Female!AI$18,'Female - Rev'!$A38-35,0)","v":3.8999999999999998E-3},{"$f":"OFFSET(Female!AJ$18,'Female - Rev'!$A38-35,0)","v":4.5999999999999999E-3},{"$f":"OFFSET(Female!AK$18,'Female - Rev'!$A38-35,0)","v":5.7999999999999996E-3},{"$f":"OFFSET(Female!AL$18,'Female - Rev'!$A38-35,0)","v":7.1999999999999998E-3},{"$f":"OFFSET(Female!AM$18,'Female - Rev'!$A38-35,0)","v":8.5000000000000006E-3},{"$f":"OFFSET(Female!AN$18,'Female - Rev'!$A38-35,0)","v":9.4999999999999998E-3},{"$f":"OFFSET(Female!AO$18,'Female - Rev'!$A38-35,0)","v":1.01E-2},{"$f":"OFFSET(Female!AP$18,'Female - Rev'!$A38-35,0)","v":1.03E-2},{"$f":"OFFSET(Female!AQ$18,'Female - Rev'!$A38-35,0)","v":1.01E-2},{"$f":"OFFSET(Female!AR$18,'Female - Rev'!$A38-35,0)","v":9.7999999999999997E-3},{"$f":"OFFSET(Female!AS$18,'Female - Rev'!$A38-35,0)","v":9.7000000000000003E-3},{"$f":"OFFSET(Female!AT$18,'Female - Rev'!$A38-35,0)","v":9.7999999999999997E-3},{"$f":"OFFSET(Female!AU$18,'Female - Rev'!$A38-35,0)","v":1.0200000000000001E-2},{"$f":"OFFSET(Female!AV$18,'Female - Rev'!$A38-35,0)","v":1.0999999999999999E-2},{"$f":"OFFSET(Female!AW$18,'Female - Rev'!$A38-35,0)","v":1.2200000000000001E-2},{"$f":"OFFSET(Female!AX$18,'Female - Rev'!$A38-35,0)","v":1.3599999999999999E-2},{"$f":"OFFSET(Female!AY$18,'Female - Rev'!$A38-35,0)","v":1.5299999999999999E-2},{"$f":"OFFSET(Female!AZ$18,'Female - Rev'!$A38-35,0)","v":1.7299999999999999E-2},{"$f":"OFFSET(Female!BA$18,'Female - Rev'!$A38-35,0)","v":1.9300000000000001E-2},{"$f":"OFFSET(Female!BB$18,'Female - Rev'!$A38-35,0)","v":2.12E-2},{"$f":"OFFSET(Female!BC$18,'Female - Rev'!$A38-35,0)","v":2.2499999999999999E-2},{"$f":"OFFSET(Female!BD$18,'Female - Rev'!$A38-35,0)","v":2.3E-2},{"$f":"OFFSET(Female!BE$18,'Female - Rev'!$A38-35,0)","v":2.24E-2},{"$f":"OFFSET(Female!BF$18,'Female - Rev'!$A38-35,0)","v":2.0500000000000001E-2},{"$f":"OFFSET(Female!BG$18,'Female - Rev'!$A38-35,0)","v":1.7399999999999999E-2},{"$f":"OFFSET(Female!BH$18,'Female - Rev'!$A38-35,0)","v":1.34E-2},{"$f":"OFFSET(Female!BI$18,'Female - Rev'!$A38-35,0)","v":8.6E-3},{"$f":"OFFSET(Female!BJ$18,'Female - Rev'!$A38-35,0)","v":3.5000000000000001E-3},{"$f":"OFFSET(Female!BK$18,'Female - Rev'!$A38-35,0)","v":-1.4E-3},{"$f":"OFFSET(Female!BL$18,'Female - Rev'!$A38-35,0)","v":-5.4000000000000003E-3},{"$f":"OFFSET(Female!BM$18,'Female - Rev'!$A38-35,0)","v":-8.2000000000000007E-3},{"$f":"OFFSET(Female!BN$18,'Female - Rev'!$A38-35,0)","v":-9.5999999999999992E-3},{"$f":"OFFSET(Female!BO$18,'Female - Rev'!$A38-35,0)","v":-9.9000000000000008E-3},{"$f":"OFFSET(Female!BP$18,'Female - Rev'!$A38-35,0)","v":-9.5999999999999992E-3},{"$f":"OFFSET(Female!BQ$18,'Female - Rev'!$A38-35,0)","v":-8.2000000000000007E-3},{"$f":"OFFSET(Female!BR$18,'Female - Rev'!$A38-35,0)","v":-5.7999999999999996E-3},{"$f":"OFFSET(Female!BS$18,'Female - Rev'!$A38-35,0)","v":-2.8999999999999998E-3},{"$f":"OFFSET(Female!BT$18,'Female - Rev'!$A38-35,0)","v":4.0000000000000002E-4},{"$f":"OFFSET(Female!BU$18,'Female - Rev'!$A38-35,0)","v":3.5999999999999999E-3},{"$f":"OFFSET(Female!BV$18,'Female - Rev'!$A38-35,0)","v":6.6E-3},{"$f":"OFFSET(Female!BW$18,'Female - Rev'!$A38-35,0)","v":8.9999999999999993E-3},{"$f":"OFFSET(Female!BX$18,'Female - Rev'!$A38-35,0)","v":1.0699999999999999E-2},{"$f":"OFFSET(Female!BY$18,'Female - Rev'!$A38-35,0)","v":1.1599999999999999E-2},{"$f":"OFFSET(Female!BZ$18,'Female - Rev'!$A38-35,0)","v":1.1900000000000001E-2},{"$f":"OFFSET(Female!CA$18,'Female - Rev'!$A38-35,0)","v":1.2E-2},{"$f":"OFFSET(Female!CB$18,'Female - Rev'!$A38-35,0)","v":1.21E-2},{"$f":"OFFSET(Female!CC$18,'Female - Rev'!$A38-35,0)","v":1.21E-2},{"$f":"OFFSET(Female!CD$18,'Female - Rev'!$A38-35,0)","v":1.23E-2},{"$f":"OFFSET(Female!CE$18,'Female - Rev'!$A38-35,0)","v":1.2500000000000001E-2},{"$f":"OFFSET(Female!CF$18,'Female - Rev'!$A38-35,0)","v":1.2800000000000001E-2},{"$f":"OFFSET(Female!CG$18,'Female - Rev'!$A38-35,0)","v":1.3100000000000001E-2},{"$f":"OFFSET(Female!CH$18,'Female - Rev'!$A38-35,0)","v":1.34E-2},{"$f":"OFFSET(Female!CI$18,'Female - Rev'!$A38-35,0)","v":1.35E-2},{"$f":"CJ38","v":1.35E-2},1.35E-2]
[59,59,{"$f":"OFFSET(Female!B$18,'Female - Rev'!$A39-35,0)","v":3.09E-2},{"$f":"OFFSET(Female!C$18,'Female - Rev'!$A39-35,0)","v":2.7900000000000001E-2},{"$f":"OFFSET(Female!D$18,'Female - Rev'!$A39-35,0)","v":2.4899999999999999E-2},{"$f":"OFFSET(Female!E$18,'Female - Rev'!$A39-35,0)","v":2.18E-2},{"$f":"OFFSET(Female!F$18,'Female - Rev'!$A39-35,0)","v":1.8800000000000001E-2},{"$f":"OFFSET(Female!G$18,'Female - Rev'!$A39-35,0)","v":1.6E-2},{"$f":"OFFSET(Female!H$18,'Female - Rev'!$A39-35,0)","v":1.37E-2},{"$f":"OFFSET(Female!I$18,'Female - Rev'!$A39-35,0)","v":1.1900000000000001E-2},{"$f":"OFFSET(Female!J$18,'Female - Rev'!$A39-35,0)","v":1.06E-2},{"$f":"OFFSET(Female!K$18,'Female - Rev'!$A39-35,0)","v":9.4999999999999998E-3},{"$f":"OFFSET(Female!L$18,'Female - Rev'!$A39-35,0)","v":8.5000000000000006E-3},{"$f":"OFFSET(Female!M$18,'Female - Rev'!$A39-35,0)","v":7.6E-3},{"$f":"OFFSET(Female!N$18,'Female - Rev'!$A39-35,0)","v":6.8999999999999999E-3},{"$f":"OFFSET(Female!O$18,'Female - Rev'!$A39-35,0)","v":6.3E-3},{"$f":"OFFSET(Female!P$18,'Female - Rev'!$A39-35,0)","v":5.7000000000000002E-3},{"$f":"OFFSET(Female!Q$18,'Female - Rev'!$A39-35,0)","v":5.4000000000000003E-3},{"$f":"OFFSET(Female!R$18,'Female - Rev'!$A39-35,0)","v":5.4999999999999997E-3},{"$f":"OFFSET(Female!S$18,'Female - Rev'!$A39-35,0)","v":6.1000000000000004E-3},{"$f":"OFFSET(Female!T$18,'Female - Rev'!$A39-35,0)","v":7.6E-3},{"$f":"OFFSET(Female!U$18,'Female - Rev'!$A39-35,0)","v":9.7000000000000003E-3},{"$f":"OFFSET(Female!V$18,'Female - Rev'!$A39-35,0)","v":1.2200000000000001E-2},{"$f":"OFFSET(Female!W$18,'Female - Rev'!$A39-35,0)","v":1.49E-2},{"$f":"OFFSET(Female!X$18,'Female - Rev'!$A39-35,0)","v":1.7399999999999999E-2},{"$f":"OFFSET(Female!Y$18,'Female - Rev'!$A39-35,0)","v":1.9300000000000001E-2},{"$f":"OFFSET(Female!Z$18,'Female - Rev'!$A39-35,0)","v":2.0199999999999999E-2},{"$f":"OFFSET(Female!AA$18,'Female - Rev'!$A39-35,0)","v":1.9800000000000002E-2},{"$f":"OFFSET(Female!AB$18,'Female - Rev'!$A39-35,0)","v":1.84E-2},{"$f":"OFFSET(Female!AC$18,'Female - Rev'!$A39-35,0)","v":1.5900000000000001E-2},{"$f":"OFFSET(Female!AD$18,'Female - Rev'!$A39-35,0)","v":1.29E-2},{"$f":"OFFSET(Female!AE$18,'Female - Rev'!$A39-35,0)","v":9.7999999999999997E-3},{"$f":"OFFSET(Female!AF$18,'Female - Rev'!$A39-35,0)","v":7.1999999999999998E-3},{"$f":"OFFSET(Female!AG$18,'Female - Rev'!$A39-35,0)","v":5.4000000000000003E-3},{"$f":"OFFSET(Female!AH$18,'Female - Rev'!$A39-35,0)","v":4.4999999999999997E-3},{"$f":"OFFSET(Female!AI$18,'Female - Rev'!$A39-35,0)","v":4.5999999999999999E-3},{"$f":"OFFSET(Female!AJ$18,'Female - Rev'!$A39-35,0)","v":5.1999999999999998E-3},{"$f":"OFFSET(Female!AK$18,'Female - Rev'!$A39-35,0)","v":6.3E-3},{"$f":"OFFSET(Female!AL$18,'Female - Rev'!$A39-35,0)","v":7.4999999999999997E-3},{"$f":"OFFSET(Female!AM$18,'Female - Rev'!$A39-35,0)","v":8.6999999999999994E-3},{"$f":"OFFSET(Female!AN$18,'Female - Rev'!$A39-35,0)","v":9.7999999999999997E-3},{"$f":"OFFSET(Female!AO$18,'Female - Rev'!$A39-35,0)","v":1.0500000000000001E-2},{"$f":"OFFSET(Female!AP$18,'Female - Rev'!$A39-35,0)","v":1.0800000000000001E-2},{"$f":"OFFSET(Female!AQ$18,'Female - Rev'!$A39-35,0)","v":1.09E-2},{"$f":"OFFSET(Female!AR$18,'Female - Rev'!$A39-35,0)","v":1.0800000000000001E-2},{"$f":"OFFSET(Female!AS$18,'Female - Rev'!$A39-35,0)","v":1.0800000000000001E-2},{"$f":"OFFSET(Female!AT$18,'Female - Rev'!$A39-35,0)","v":1.09E-2},{"$f":"OFFSET(Female!AU$18,'Female - Rev'!$A39-35,0)","v":1.12E-2},{"$f":"OFFSET(Female!AV$18,'Female - Rev'!$A39-35,0)","v":1.18E-2},{"$f":"OFFSET(Female!AW$18,'Female - Rev'!$A39-35,0)","v":1.2699999999999999E-2},{"$f":"OFFSET(Female!AX$18,'Female - Rev'!$A39-35,0)","v":1.38E-2},{"$f":"OFFSET(Female!AY$18,'Female - Rev'!$A39-35,0)","v":1.52E-2},{"$f":"OFFSET(Female!AZ$18,'Female - Rev'!$A39-35,0)","v":1.6899999999999998E-2},{"$f":"OFFSET(Female!BA$18,'Female - Rev'!$A39-35,0)","v":1.8800000000000001E-2},{"$f":"OFFSET(Female!BB$18,'Female - Rev'!$A39-35,0)","v":2.0400000000000001E-2},{"$f":"OFFSET(Female!BC$18,'Female - Rev'!$A39-35,0)","v":2.1399999999999999E-2},{"$f":"OFFSET(Female!BD$18,'Female - Rev'!$A39-35,0)","v":2.1600000000000001E-2},{"$f":"OFFSET(Female!BE$18,'Female - Rev'!$A39-35,0)","v":2.06E-2},{"$f":"OFFSET(Female!BF$18,'Female - Rev'!$A39-35,0)","v":1.84E-2},{"$f":"OFFSET(Female!BG$18,'Female - Rev'!$A39-35,0)","v":1.4999999999999999E-2},{"$f":"OFFSET(Female!BH$18,'Female - Rev'!$A39-35,0)","v":1.0699999999999999E-2},{"$f":"OFFSET(Female!BI$18,'Female - Rev'!$A39-35,0)","v":5.7999999999999996E-3},{"$f":"OFFSET(Female!BJ$18,'Female - Rev'!$A39-35,0)","v":6.9999999999999999E-4},{"$f":"OFFSET(Female!BK$18,'Female - Rev'!$A39-35,0)","v":-4.0000000000000001E-3},{"$f":"OFFSET(Female!BL$18,'Female - Rev'!$A39-35,0)","v":-7.4999999999999997E-3},{"$f":"OFFSET(Female!BM$18,'Female - Rev'!$A39-35,0)","v":-9.7000000000000003E-3},{"$f":"OFFSET(Female!BN$18,'Female - Rev'!$A39-35,0)","v":-1.0500000000000001E-2},{"$f":"OFFSET(Female!BO$18,'Female - Rev'!$A39-35,0)","v":-1.01E-2},{"$f":"OFFSET(Female!BP$18,'Female - Rev'!$A39-35,0)","v":-9.2999999999999992E-3},{"$f":"OFFSET(Female!BQ$18,'Female - Rev'!$A39-35,0)","v":-7.4999999999999997E-3},{"$f":"OFFSET(Female!BR$18,'Female - Rev'!$A39-35,0)","v":-4.8999999999999998E-3},{"$f":"OFFSET(Female!BS$18,'Female - Rev'!$A39-35,0)","v":-1.8E-3},{"$f":"OFFSET(Female!BT$18,'Female - Rev'!$A39-35,0)","v":1.5E-3},{"$f":"OFFSET(Female!BU$18,'Female - Rev'!$A39-35,0)","v":4.5999999999999999E-3},{"$f":"OFFSET(Female!BV$18,'Female - Rev'!$A39-35,0)","v":7.4000000000000003E-3},{"$f":"OFFSET(Female!BW$18,'Female - Rev'!$A39-35,0)","v":9.5999999999999992E-3},{"$f":"OFFSET(Female!BX$18,'Female - Rev'!$A39-35,0)","v":1.0999999999999999E-2},{"$f":"OFFSET(Female!BY$18,'Female - Rev'!$A39-35,0)","v":1.17E-2},{"$f":"OFFSET(Female!BZ$18,'Female - Rev'!$A39-35,0)","v":1.18E-2},{"$f":"OFFSET(Female!CA$18,'Female - Rev'!$A39-35,0)","v":1.18E-2},{"$f":"OFFSET(Female!CB$18,'Female - Rev'!$A39-35,0)","v":1.18E-2},{"$f":"OFFSET(Female!CC$18,'Female - Rev'!$A39-35,0)","v":1.1900000000000001E-2},{"$f":"OFFSET(Female!CD$18,'Female - Rev'!$A39-35,0)","v":1.2E-2},{"$f":"OFFSET(Female!CE$18,'Female - Rev'!$A39-35,0)","v":1.23E-2},{"$f":"OFFSET(Female!CF$18,'Female - Rev'!$A39-35,0)","v":1.2699999999999999E-2},{"$f":"OFFSET(Female!CG$18,'Female - Rev'!$A39-35,0)","v":1.3100000000000001E-2},{"$f":"OFFSET(Female!CH$18,'Female - Rev'!$A39-35,0)","v":1.34E-2},{"$f":"OFFSET(Female!CI$18,'Female - Rev'!$A39-35,0)","v":1.35E-2},{"$f":"CJ39","v":1.35E-2},1.35E-2]
[58,58,{"$f":"OFFSET(Female!B$18,'Female - Rev'!$A40-35,0)","v":3.0599999999999999E-2},{"$f":"OFFSET(Female!C$18,'Female - Rev'!$A40-35,0)","v":2.8000000000000001E-2},{"$f":"OFFSET(Female!D$18,'Female - Rev'!$A40-35,0)","v":2.52E-2},{"$f":"OFFSET(Female!E$18,'Female - Rev'!$A40-35,0)","v":2.24E-2},{"$f":"OFFSET(Female!F$18,'Female - Rev'!$A40-35,0)","v":1.9599999999999999E-2},{"$f":"OFFSET(Female!G$18,'Female - Rev'!$A40-35,0)","v":1.7000000000000001E-2},{"$f":"OFFSET(Female!H$18,'Female - Rev'!$A40-35,0)","v":1.4800000000000001E-2},{"$f":"OFFSET(Female!I$18,'Female - Rev'!$A40-35,0)","v":1.2999999999999999E-2},{"$f":"OFFSET(Female!J$18,'Female - Rev'!$A40-35,0)","v":1.1599999999999999E-2},{"$f":"OFFSET(Female!K$18,'Female - Rev'!$A40-35,0)","v":1.03E-2},{"$f":"OFFSET(Female!L$18,'Female - Rev'!$A40-35,0)","v":8.8999999999999999E-3},{"$f":"OFFSET(Female!M$18,'Female - Rev'!$A40-35,0)","v":7.4999999999999997E-3},{"$f":"OFFSET(Female!N$18,'Female - Rev'!$A40-35,0)","v":6.3E-3},{"$f":"OFFSET(Female!O$18,'Female - Rev'!$A40-35,0)","v":5.1999999999999998E-3},{"$f":"OFFSET(Female!P$18,'Female - Rev'!$A40-35,0)","v":4.3E-3},{"$f":"OFFSET(Female!Q$18,'Female - Rev'!$A40-35,0)","v":3.7000000000000002E-3},{"$f":"OFFSET(Female!R$18,'Female - Rev'!$A40-35,0)","v":3.7000000000000002E-3},{"$f":"OFFSET(Female!S$18,'Female - Rev'!$A40-35,0)","v":4.5999999999999999E-3},{"$f":"OFFSET(Female!T$18,'Female - Rev'!$A40-35,0)","v":6.4000000000000003E-3},{"$f":"OFFSET(Female!U$18,'Female - Rev'!$A40-35,0)","v":8.8999999999999999E-3},{"$f":"OFFSET(Female!V$18,'Female - Rev'!$A40-35,0)","v":1.2E-2},{"$f":"OFFSET(Female!W$18,'Female - Rev'!$A40-35,0)","v":1.5100000000000001E-2},{"$f":"OFFSET(Female!X$18,'Female - Rev'!$A40-35,0)","v":1.7999999999999999E-2},{"$f":"OFFSET(Female!Y$18,'Female - Rev'!$A40-35,0)","v":2.0199999999999999E-2},{"$f":"OFFSET(Female!Z$18,'Female - Rev'!$A40-35,0)","v":2.1299999999999999E-2},{"$f":"OFFSET(Female!AA$18,'Female - Rev'!$A40-35,0)","v":2.1000000000000001E-2},{"$f":"OFFSET(Female!AB$18,'Female - Rev'!$A40-35,0)","v":1.95E-2},{"$f":"OFFSET(Female!AC$18,'Female - Rev'!$A40-35,0)","v":1.7000000000000001E-2},{"$f":"OFFSET(Female!AD$18,'Female - Rev'!$A40-35,0)","v":1.3899999999999999E-2},{"$f":"OFFSET(Female!AE$18,'Female - Rev'!$A40-35,0)","v":1.0699999999999999E-2},{"$f":"OFFSET(Female!AF$18,'Female - Rev'!$A40-35,0)","v":8.0000000000000002E-3},{"$f":"OFFSET(Female!AG$18,'Female - Rev'!$A40-35,0)","v":6.1999999999999998E-3},{"$f":"OFFSET(Female!AH$18,'Female - Rev'!$A40-35,0)","v":5.3E-3},{"$f":"OFFSET(Female!AI$18,'Female - Rev'!$A40-35,0)","v":5.3E-3},{"$f":"OFFSET(Female!AJ$18,'Female - Rev'!$A40-35,0)","v":5.8999999999999999E-3},{"$f":"OFFSET(Female!AK$18,'Female - Rev'!$A40-35,0)","v":6.8999999999999999E-3},{"$f":"OFFSET(Female!AL$18,'Female - Rev'!$A40-35,0)","v":8.0000000000000002E-3},{"$f":"OFFSET(Female!AM$18,'Female - Rev'!$A40-35,0)","v":9.1000000000000004E-3},{"$f":"OFFSET(Female!AN$18,'Female - Rev'!$A40-35,0)","v":1.01E-2},{"$f":"OFFSET(Female!AO$18,'Female - Rev'!$A40-35,0)","v":1.09E-2},{"$f":"OFFSET(Female!AP$18,'Female - Rev'!$A40-35,0)","v":1.14E-2},{"$f":"OFFSET(Female!AQ$18,'Female - Rev'!$A40-35,0)","v":1.17E-2},{"$f":"OFFSET(Female!AR$18,'Female - Rev'!$A40-35,0)","v":1.18E-2},{"$f":"OFFSET(Female!AS$18,'Female - Rev'!$A40-35,0)","v":1.18E-2},{"$f":"OFFSET(Female!AT$18,'Female - Rev'!$A40-35,0)","v":1.1900000000000001E-2},{"$f":"OFFSET(Female!AU$18,'Female - Rev'!$A40-35,0)","v":1.21E-2},{"$f":"OFFSET(Female!AV$18,'Female - Rev'!$A40-35,0)","v":1.2500000000000001E-2},{"$f":"OFFSET(Female!AW$18,'Female - Rev'!$A40-35,0)","v":1.2999999999999999E-2},{"$f":"OFFSET(Female!AX$18,'Female - Rev'!$A40-35,0)","v":1.38E-2},{"$f":"OFFSET(Female!AY$18,'Female - Rev'!$A40-35,0)","v":1.49E-2},{"$f":"OFFSET(Female!AZ$18,'Female - Rev'!$A40-35,0)","v":1.6299999999999999E-2},{"$f":"OFFSET(Female!BA$18,'Female - Rev'!$A40-35,0)","v":1.78E-2},{"$f":"OFFSET(Female!BB$18,'Female - Rev'!$A40-35,0)","v":1.9099999999999999E-2},{"$f":"OFFSET(Female!BC$18,'Female - Rev'!$A40-35,0)","v":1.9800000000000002E-2},{"$f":"OFFSET(Female!BD$18,'Female - Rev'!$A40-35,0)","v":1.9599999999999999E-2},{"$f":"OFFSET(Female!BE$18,'Female - Rev'!$A40-35,0)","v":1.83E-2},{"$f":"OFFSET(Female!BF$18,'Female - Rev'!$A40-35,0)","v":1.5800000000000002E-2},{"$f":"OFFSET(Female!BG$18,'Female - Rev'!$A40-35,0)","v":1.23E-2},{"$f":"OFFSET(Female!BH$18,'Female - Rev'!$A40-35,0)","v":7.9000000000000008E-3},{"$f":"OFFSET(Female!BI$18,'Female - Rev'!$A40-35,0)","v":3.0000000000000001E-3},{"$f":"OFFSET(Female!BJ$18,'Female - Rev'!$A40-35,0)","v":-1.8E-3},{"$f":"OFFSET(Female!BK$18,'Female - Rev'!$A40-35,0)","v":-6.0000000000000001E-3},{"$f":"OFFSET(Female!BL$18,'Female - Rev'!$A40-35,0)","v":-8.9999999999999993E-3},{"$f":"OFFSET(Female!BM$18,'Female - Rev'!$A40-35,0)","v":-1.0500000000000001E-2},{"$f":"OFFSET(Female!BN$18,'Female - Rev'!$A40-35,0)","v":-1.06E-2},{"$f":"OFFSET(Female!BO$18,'Female - Rev'!$A40-35,0)","v":-9.4000000000000004E-3},{"$f":"OFFSET(Female!BP$18,'Female - Rev'!$A40-35,0)","v":-8.3000000000000001E-3},{"$f":"OFFSET(Female!BQ$18,'Female - Rev'!$A40-35,0)","v":-6.1999999999999998E-3},{"$f":"OFFSET(Female!BR$18,'Female - Rev'!$A40-35,0)","v":-3.3999999999999998E-3},{"$f":"OFFSET(Female!BS$18,'Female - Rev'!$A40-35,0)","v":-4.0000000000000002E-4},{"$f":"OFFSET(Female!BT$18,'Female - Rev'!$A40-35,0)","v":2.7000000000000001E-3},{"$f":"OFFSET(Female!BU$18,'Female - Rev'!$A40-35,0)","v":5.5999999999999999E-3},{"$f":"OFFSET(Female!BV$18,'Female - Rev'!$A40-35,0)","v":8.0999999999999996E-3},{"$f":"OFFSET(Female!BW$18,'Female - Rev'!$A40-35,0)","v":0.01},{"$f":"OFFSET(Female!BX$18,'Female - Rev'!$A40-35,0)","v":1.11E-2},{"$f":"OFFSET(Female!BY$18,'Female - Rev'!$A40-35,0)","v":1.15E-2},{"$f":"OFFSET(Female!BZ$18,'Female - Rev'!$A40-35,0)","v":1.15E-2},{"$f":"OFFSET(Female!CA$18,'Female - Rev'!$A40-35,0)","v":1.15E-2},{"$f":"OFFSET(Female!CB$18,'Female - Rev'!$A40-35,0)","v":1.14E-2},{"$f":"OFFSET(Female!CC$18,'Female - Rev'!$A40-35,0)","v":1.15E-2},{"$f":"OFFSET(Female!CD$18,'Female - Rev'!$A40-35,0)","v":1.18E-2},{"$f":"OFFSET(Female!CE$18,'Female - Rev'!$A40-35,0)","v":1.2200000000000001E-2},{"$f":"OFFSET(Female!CF$18,'Female - Rev'!$A40-35,0)","v":1.26E-2},{"$f":"OFFSET(Female!CG$18,'Female - Rev'!$A40-35,0)","v":1.2999999999999999E-2},{"$f":"OFFSET(Female!CH$18,'Female - Rev'!$A40-35,0)","v":1.34E-2},{"$f":"OFFSET(Female!CI$18,'Female - Rev'!$A40-35,0)","v":1.35E-2},{"$f":"CJ40","v":1.35E-2},1.35E-2]
[57,57,{"$f":"OFFSET(Female!B$18,'Female - Rev'!$A41-35,0)","v":3.0099999999999998E-2},{"$f":"OFFSET(Female!C$18,'Female - Rev'!$A41-35,0)","v":2.7799999999999998E-2},{"$f":"OFFSET(Female!D$18,'Female - Rev'!$A41-35,0)","v":2.5499999999999998E-2},{"$f":"OFFSET(Female!E$18,'Female - Rev'!$A41-35,0)","v":2.3E-2},{"$f":"OFFSET(Female!F$18,'Female - Rev'!$A41-35,0)","v":2.0400000000000001E-2},{"$f":"OFFSET(Female!G$18,'Female - Rev'!$A41-35,0)","v":1.7899999999999999E-2},{"$f":"OFFSET(Female!H$18,'Female - Rev'!$A41-35,0)","v":1.5800000000000002E-2},{"$f":"OFFSET(Female!I$18,'Female - Rev'!$A41-35,0)","v":1.4E-2},{"$f":"OFFSET(Female!J$18,'Female - Rev'!$A41-35,0)","v":1.24E-2},{"$f":"OFFSET(Female!K$18,'Female - Rev'!$A41-35,0)","v":1.0800000000000001E-2},{"$f":"OFFSET(Female!L$18,'Female - Rev'!$A41-35,0)","v":9.1000000000000004E-3},{"$f":"OFFSET(Female!M$18,'Female - Rev'!$A41-35,0)","v":7.1999999999999998E-3},{"$f":"OFFSET(Female!N$18,'Female - Rev'!$A41-35,0)","v":5.4999999999999997E-3},{"$f":"OFFSET(Female!O$18,'Female - Rev'!$A41-35,0)","v":4.1000000000000003E-3},{"$f":"OFFSET(Female!P$18,'Female - Rev'!$A41-35,0)","v":2.8999999999999998E-3},{"$f":"OFFSET(Female!Q$18,'Female - Rev'!$A41-35,0)","v":2.3E-3},{"$f":"OFFSET(Female!R$18,'Female - Rev'!$A41-35,0)","v":2.3999999999999998E-3},{"$f":"OFFSET(Female!S$18,'Female - Rev'!$A41-35,0)","v":3.5000000000000001E-3},{"$f":"OFFSET(Female!T$18,'Female - Rev'!$A41-35,0)","v":5.5999999999999999E-3},{"$f":"OFFSET(Female!U$18,'Female - Rev'!$A41-35,0)","v":8.6E-3},{"$f":"OFFSET(Female!V$18,'Female - Rev'!$A41-35,0)","v":1.2E-2},{"$f":"OFFSET(Female!W$18,'Female - Rev'!$A41-35,0)","v":1.55E-2},{"$f":"OFFSET(Female!X$18,'Female - Rev'!$A41-35,0)","v":1.8700000000000001E-2},{"$f":"OFFSET(Female!Y$18,'Female - Rev'!$A41-35,0)","v":2.1100000000000001E-2},{"$f":"OFFSET(Female!Z$18,'Female - Rev'!$A41-35,0)","v":2.2200000000000001E-2},{"$f":"OFFSET(Female!AA$18,'Female - Rev'!$A41-35,0)","v":2.1999999999999999E-2},{"$f":"OFFSET(Female!AB$18,'Female - Rev'!$A41-35,0)","v":2.0500000000000001E-2},{"$f":"OFFSET(Female!AC$18,'Female - Rev'!$A41-35,0)","v":1.7899999999999999E-2},{"$f":"OFFSET(Female!AD$18,'Female - Rev'!$A41-35,0)","v":1.4800000000000001E-2},{"$f":"OFFSET(Female!AE$18,'Female - Rev'!$A41-35,0)","v":1.1599999999999999E-2},{"$f":"OFFSET(Female!AF$18,'Female - Rev'!$A41-35,0)","v":8.9999999999999993E-3},{"$f":"OFFSET(Female!AG$18,'Female - Rev'!$A41-35,0)","v":7.1000000000000004E-3},{"$f":"OFFSET(Female!AH$18,'Female - Rev'!$A41-35,0)","v":6.1999999999999998E-3},{"$f":"OFFSET(Female!AI$18,'Female - Rev'!$A41-35,0)","v":6.1000000000000004E-3},{"$f":"OFFSET(Female!AJ$18,'Female - Rev'!$A41-35,0)","v":6.6E-3},{"$f":"OFFSET(Female!AK$18,'Female - Rev'!$A41-35,0)","v":7.4999999999999997E-3},{"$f":"OFFSET(Female!AL$18,'Female - Rev'!$A41-35,0)","v":8.3999999999999995E-3},{"$f":"OFFSET(Female!AM$18,'Female - Rev'!$A41-35,0)","v":9.4999999999999998E-3},{"$f":"OFFSET(Female!AN$18,'Female - Rev'!$A41-35,0)","v":1.0500000000000001E-2},{"$f":"OFFSET(Female!AO$18,'Female - Rev'!$A41-35,0)","v":1.14E-2},{"$f":"OFFSET(Female!AP$18,'Female - Rev'!$A41-35,0)","v":1.2E-2},{"$f":"OFFSET(Female!AQ$18,'Female - Rev'!$A41-35,0)","v":1.24E-2},{"$f":"OFFSET(Female!AR$18,'Female - Rev'!$A41-35,0)","v":1.2699999999999999E-2},{"$f":"OFFSET(Female!AS$18,'Female - Rev'!$A41-35,0)","v":1.2800000000000001E-2},{"$f":"OFFSET(Female!AT$18,'Female - Rev'!$A41-35,0)","v":1.29E-2},{"$f":"OFFSET(Female!AU$18,'Female - Rev'!$A41-35,0)","v":1.2999999999999999E-2},{"$f":"OFFSET(Female!AV$18,'Female - Rev'!$A41-35,0)","v":1.3100000000000001E-2},{"$f":"OFFSET(Female!AW$18,'Female - Rev'!$A41-35,0)","v":1.3299999999999999E-2},{"$f":"OFFSET(Female!AX$18,'Female - Rev'!$A41-35,0)","v":1.37E-2},{"$f":"OFFSET(Female!AY$18,'Female - Rev'!$A41-35,0)","v":1.44E-2},{"$f":"OFFSET(Female!AZ$18,'Female - Rev'!$A41-35,0)","v":1.5299999999999999E-2},{"$f":"OFFSET(Female!BA$18,'Female - Rev'!$A41-35,0)","v":1.6400000000000001E-2},{"$f":"OFFSET(Female!BB$18,'Female - Rev'!$A41-35,0)","v":1.7299999999999999E-2},{"$f":"OFFSET(Female!BC$18,'Female - Rev'!$A41-35,0)","v":1.7600000000000001E-2},{"$f":"OFFSET(Female!BD$18,'Female - Rev'!$A41-35,0)","v":1.7100000000000001E-2},{"$f":"OFFSET(Female!BE$18,'Female - Rev'!$A41-35,0)","v":1.5599999999999999E-2},{"$f":"OFFSET(Female!BF$18,'Female - Rev'!$A41-35,0)","v":1.2999999999999999E-2},{"$f":"OFFSET(Female!BG$18,'Female - Rev'!$A41-35,0)","v":9.4000000000000004E-3},{"$f":"OFFSET(Female!BH$18,'Female - Rev'!$A41-35,0)","v":5.1000000000000004E-3},{"$f":"OFFSET(Female!BI$18,'Female - Rev'!$A41-35,0)","v":5.9999999999999995E-4},{"$f":"OFFSET(Female!BJ$18,'Female - Rev'!$A41-35,0)","v":-3.8E-3},{"$f":"OFFSET(Female!BK$18,'Female - Rev'!$A41-35,0)","v":-7.4000000000000003E-3},{"$f":"OFFSET(Female!BL$18,'Female - Rev'!$A41-35,0)","v":-9.7000000000000003E-3},{"$f":"OFFSET(Female!BM$18,'Female - Rev'!$A41-35,0)","v":-1.0500000000000001E-2},{"$f":"OFFSET(Female!BN$18,'Female - Rev'!$A41-35,0)","v":-9.7999999999999997E-3},{"$f":"OFFSET(Female!BO$18,'Female - Rev'!$A41-35,0)","v":-7.9000000000000008E-3},{"$f":"OFFSET(Female!BP$18,'Female - Rev'!$A41-35,0)","v":-6.4999999999999997E-3},{"$f":"OFFSET(Female!BQ$18,'Female - Rev'!$A41-35,0)","v":-4.3E-3},{"$f":"OFFSET(Female!BR$18,'Female - Rev'!$A41-35,0)","v":-1.6000000000000001E-3},{"$f":"OFFSET(Female!BS$18,'Female - Rev'!$A41-35,0)","v":1.2999999999999999E-3},{"$f":"OFFSET(Female!BT$18,'Female - Rev'!$A41-35,0)","v":4.1000000000000003E-3},{"$f":"OFFSET(Female!BU$18,'Female - Rev'!$A41-35,0)","v":6.6E-3},{"$f":"OFFSET(Female!BV$18,'Female - Rev'!$A41-35,0)","v":8.6E-3},{"$f":"OFFSET(Female!BW$18,'Female - Rev'!$A41-35,0)","v":1.01E-2},{"$f":"OFFSET(Female!BX$18,'Female - Rev'!$A41-35,0)","v":1.0999999999999999E-2},{"$f":"OFFSET(Female!BY$18,'Female - Rev'!$A41-35,0)","v":1.12E-2},{"$f":"OFFSET(Female!BZ$18,'Female - Rev'!$A41-35,0)","v":1.11E-2},{"$f":"OFFSET(Female!CA$18,'Female - Rev'!$A41-35,0)","v":1.0999999999999999E-2},{"$f":"OFFSET(Female!CB$18,'Female - Rev'!$A41-35,0)","v":1.0999999999999999E-2},{"$f":"OFFSET(Female!CC$18,'Female - Rev'!$A41-35,0)","v":1.12E-2},{"$f":"OFFSET(Female!CD$18,'Female - Rev'!$A41-35,0)","v":1.15E-2},{"$f":"OFFSET(Female!CE$18,'Female - Rev'!$A41-35,0)","v":1.1900000000000001E-2},{"$f":"OFFSET(Female!CF$18,'Female - Rev'!$A41-35,0)","v":1.24E-2},{"$f":"OFFSET(Female!CG$18,'Female - Rev'!$A41-35,0)","v":1.29E-2},{"$f":"OFFSET(Female!CH$18,'Female - Rev'!$A41-35,0)","v":1.3299999999999999E-2},{"$f":"OFFSET(Female!CI$18,'Female - Rev'!$A41-35,0)","v":1.35E-2},{"$f":"CJ41","v":1.35E-2},1.35E-2]
[56,56,{"$f":"OFFSET(Female!B$18,'Female - Rev'!$A42-35,0)","v":2.9499999999999998E-2},{"$f":"OFFSET(Female!C$18,'Female - Rev'!$A42-35,0)","v":2.76E-2},{"$f":"OFFSET(Female!D$18,'Female - Rev'!$A42-35,0)","v":2.5700000000000001E-2},{"$f":"OFFSET(Female!E$18,'Female - Rev'!$A42-35,0)","v":2.3599999999999999E-2},{"$f":"OFFSET(Female!F$18,'Female - Rev'!$A42-35,0)","v":2.12E-2},{"$f":"OFFSET(Female!G$18,'Female - Rev'!$A42-35,0)","v":1.89E-2},{"$f":"OFFSET(Female!H$18,'Female - Rev'!$A42-35,0)","v":1.6799999999999999E-2},{"$f":"OFFSET(Female!I$18,'Female - Rev'!$A42-35,0)","v":1.4800000000000001E-2},{"$f":"OFFSET(Female!J$18,'Female - Rev'!$A42-35,0)","v":1.29E-2},{"$f":"OFFSET(Female!K$18,'Female - Rev'!$A42-35,0)","v":1.0999999999999999E-2},{"$f":"OFFSET(Female!L$18,'Female - Rev'!$A42-35,0)","v":8.8999999999999999E-3},{"$f":"OFFSET(Female!M$18,'Female - Rev'!$A42-35,0)","v":6.7000000000000002E-3},{"$f":"OFFSET(Female!N$18,'Female - Rev'!$A42-35,0)","v":4.7000000000000002E-3},{"$f":"OFFSET(Female!O$18,'Female - Rev'!$A42-35,0)","v":3.0000000000000001E-3},{"$f":"OFFSET(Female!P$18,'Female - Rev'!$A42-35,0)","v":1.8E-3},{"$f":"OFFSET(Female!Q$18,'Female - Rev'!$A42-35,0)","v":1.1999999999999999E-3},{"$f":"OFFSET(Female!R$18,'Female - Rev'!$A42-35,0)","v":1.6000000000000001E-3},{"$f":"OFFSET(Female!S$18,'Female - Rev'!$A42-35,0)","v":2.8999999999999998E-3},{"$f":"OFFSET(Female!T$18,'Female - Rev'!$A42-35,0)","v":5.4000000000000003E-3},{"$f":"OFFSET(Female!U$18,'Female - Rev'!$A42-35,0)","v":8.6E-3},{"$f":"OFFSET(Female!V$18,'Female - Rev'!$A42-35,0)","v":1.24E-2},{"$f":"OFFSET(Female!W$18,'Female - Rev'!$A42-35,0)","v":1.61E-2},{"$f":"OFFSET(Female!X$18,'Female - Rev'!$A42-35,0)","v":1.9400000000000001E-2},{"$f":"OFFSET(Female!Y$18,'Female - Rev'!$A42-35,0)","v":2.18E-2},{"$f":"OFFSET(Female!Z$18,'Female - Rev'!$A42-35,0)","v":2.3E-2},{"$f":"OFFSET(Female!AA$18,'Female - Rev'!$A42-35,0)","v":2.2800000000000001E-2},{"$f":"OFFSET(Female!AB$18,'Female - Rev'!$A42-35,0)","v":2.1299999999999999E-2},{"$f":"OFFSET(Female!AC$18,'Female - Rev'!$A42-35,0)","v":1.8800000000000001E-2},{"$f":"OFFSET(Female!AD$18,'Female - Rev'!$A42-35,0)","v":1.5699999999999999E-2},{"$f":"OFFSET(Female!AE$18,'Female - Rev'!$A42-35,0)","v":1.26E-2},{"$f":"OFFSET(Female!AF$18,'Female - Rev'!$A42-35,0)","v":0.01},{"$f":"OFFSET(Female!AG$18,'Female - Rev'!$A42-35,0)","v":8.2000000000000007E-3},{"$f":"OFFSET(Female!AH$18,'Female - Rev'!$A42-35,0)","v":7.1999999999999998E-3},{"$f":"OFFSET(Female!AI$18,'Female - Rev'!$A42-35,0)","v":7.0000000000000001E-3},{"$f":"OFFSET(Female!AJ$18,'Female - Rev'!$A42-35,0)","v":7.4000000000000003E-3},{"$f":"OFFSET(Female!AK$18,'Female - Rev'!$A42-35,0)","v":8.0999999999999996E-3},{"$f":"OFFSET(Female!AL$18,'Female - Rev'!$A42-35,0)","v":8.9999999999999993E-3},{"$f":"OFFSET(Female!AM$18,'Female - Rev'!$A42-35,0)","v":0.01},{"$f":"OFFSET(Female!AN$18,'Female - Rev'!$A42-35,0)","v":1.11E-2},{"$f":"OFFSET(Female!AO$18,'Female - Rev'!$A42-35,0)","v":1.2E-2},{"$f":"OFFSET(Female!AP$18,'Female - Rev'!$A42-35,0)","v":1.2699999999999999E-2},{"$f":"OFFSET(Female!AQ$18,'Female - Rev'!$A42-35,0)","v":1.32E-2},{"$f":"OFFSET(Female!AR$18,'Female - Rev'!$A42-35,0)","v":1.35E-2},{"$f":"OFFSET(Female!AS$18,'Female - Rev'!$A42-35,0)","v":1.3599999999999999E-2},{"$f":"OFFSET(Female!AT$18,'Female - Rev'!$A42-35,0)","v":1.37E-2},{"$f":"OFFSET(Female!AU$18,'Female - Rev'!$A42-35,0)","v":1.37E-2},{"$f":"OFFSET(Female!AV$18,'Female - Rev'!$A42-35,0)","v":1.3599999999999999E-2},{"$f":"OFFSET(Female!AW$18,'Female - Rev'!$A42-35,0)","v":1.35E-2},{"$f":"OFFSET(Female!AX$18,'Female - Rev'!$A42-35,0)","v":1.35E-2},{"$f":"OFFSET(Female!AY$18,'Female - Rev'!$A42-35,0)","v":1.3599999999999999E-2},{"$f":"OFFSET(Female!AZ$18,'Female - Rev'!$A42-35,0)","v":1.4E-2},{"$f":"OFFSET(Female!BA$18,'Female - Rev'!$A42-35,0)","v":1.4500000000000001E-2},{"$f":"OFFSET(Female!BB$18,'Female - Rev'!$A42-35,0)","v":1.49E-2},{"$f":"OFFSET(Female!BC$18,'Female - Rev'!$A42-35,0)","v":1.49E-2},{"$f":"OFFSET(Female!BD$18,'Female - Rev'!$A42-35,0)","v":1.41E-2},{"$f":"OFFSET(Female!BE$18,'Female - Rev'!$A42-35,0)","v":1.2500000000000001E-2},{"$f":"OFFSET(Female!BF$18,'Female - Rev'!$A42-35,0)","v":9.9000000000000008E-3},{"$f":"OFFSET(Female!BG$18,'Female - Rev'!$A42-35,0)","v":6.6E-3},{"$f":"OFFSET(Female!BH$18,'Female - Rev'!$A42-35,0)","v":2.7000000000000001E-3},{"$f":"OFFSET(Female!BI$18,'Female - Rev'!$A42-35,0)","v":-1.2999999999999999E-3},{"$f":"OFFSET(Female!BJ$18,'Female - Rev'!$A42-35,0)","v":-5.1000000000000004E-3},{"$f":"OFFSET(Female!BK$18,'Female - Rev'!$A42-35,0)","v":-8.0000000000000002E-3},{"$f":"OFFSET(Female!BL$18,'Female - Rev'!$A42-35,0)","v":-9.5999999999999992E-3},{"$f":"OFFSET(Female!BM$18,'Female - Rev'!$A42-35,0)","v":-9.7000000000000003E-3},{"$f":"OFFSET(Female!BN$18,'Female - Rev'!$A42-35,0)","v":-8.3000000000000001E-3},{"$f":"OFFSET(Female!BO$18,'Female - Rev'!$A42-35,0)","v":-5.7999999999999996E-3},{"$f":"OFFSET(Female!BP$18,'Female - Rev'!$A42-35,0)","v":-4.3E-3},{"$f":"OFFSET(Female!BQ$18,'Female - Rev'!$A42-35,0)","v":-2.0999999999999999E-3},{"$f":"OFFSET(Female!BR$18,'Female - Rev'!$A42-35,0)","v":4.0000000000000002E-4},{"$f":"OFFSET(Female!BS$18,'Female - Rev'!$A42-35,0)","v":2.8999999999999998E-3},{"$f":"OFFSET(Female!BT$18,'Female - Rev'!$A42-35,0)","v":5.3E-3},{"$f":"OFFSET(Female!BU$18,'Female - Rev'!$A42-35,0)","v":7.4000000000000003E-3},{"$f":"OFFSET(Female!BV$18,'Female - Rev'!$A42-35,0)","v":8.9999999999999993E-3},{"$f":"OFFSET(Female!BW$18,'Female - Rev'!$A42-35,0)","v":1.01E-2},{"$f":"OFFSET(Female!BX$18,'Female - Rev'!$A42-35,0)","v":1.0699999999999999E-2},{"$f":"OFFSET(Female!BY$18,'Female - Rev'!$A42-35,0)","v":1.0699999999999999E-2},{"$f":"OFFSET(Female!BZ$18,'Female - Rev'!$A42-35,0)","v":1.0500000000000001E-2},{"$f":"OFFSET(Female!CA$18,'Female - Rev'!$A42-35,0)","v":1.04E-2},{"$f":"OFFSET(Female!CB$18,'Female - Rev'!$A42-35,0)","v":1.0500000000000001E-2},{"$f":"OFFSET(Female!CC$18,'Female - Rev'!$A42-35,0)","v":1.0699999999999999E-2},{"$f":"OFFSET(Female!CD$18,'Female - Rev'!$A42-35,0)","v":1.11E-2},{"$f":"OFFSET(Female!CE$18,'Female - Rev'!$A42-35,0)","v":1.17E-2},{"$f":"OFFSET(Female!CF$18,'Female - Rev'!$A42-35,0)","v":1.23E-2},{"$f":"OFFSET(Female!CG$18,'Female - Rev'!$A42-35,0)","v":1.29E-2},{"$f":"OFFSET(Female!CH$18,'Female - Rev'!$A42-35,0)","v":1.3299999999999999E-2},{"$f":"OFFSET(Female!CI$18,'Female - Rev'!$A42-35,0)","v":1.35E-2},{"$f":"CJ42","v":1.35E-2},1.35E-2]
[55,55,{"$f":"OFFSET(Female!B$18,'Female - Rev'!$A43-35,0)","v":2.9000000000000001E-2},{"$f":"OFFSET(Female!C$18,'Female - Rev'!$A43-35,0)","v":2.76E-2},{"$f":"OFFSET(Female!D$18,'Female - Rev'!$A43-35,0)","v":2.5999999999999999E-2},{"$f":"OFFSET(Female!E$18,'Female - Rev'!$A43-35,0)","v":2.4199999999999999E-2},{"$f":"OFFSET(Female!F$18,'Female - Rev'!$A43-35,0)","v":2.2100000000000002E-2},{"$f":"OFFSET(Female!G$18,'Female - Rev'!$A43-35,0)","v":1.9800000000000002E-2},{"$f":"OFFSET(Female!H$18,'Female - Rev'!$A43-35,0)","v":1.7500000000000002E-2},{"$f":"OFFSET(Female!I$18,'Female - Rev'!$A43-35,0)","v":1.5299999999999999E-2},{"$f":"OFFSET(Female!J$18,'Female - Rev'!$A43-35,0)","v":1.3100000000000001E-2},{"$f":"OFFSET(Female!K$18,'Female - Rev'!$A43-35,0)","v":1.0800000000000001E-2},{"$f":"OFFSET(Female!L$18,'Female - Rev'!$A43-35,0)","v":8.3000000000000001E-3},{"$f":"OFFSET(Female!M$18,'Female - Rev'!$A43-35,0)","v":5.8999999999999999E-3},{"$f":"OFFSET(Female!N$18,'Female - Rev'!$A43-35,0)","v":3.7000000000000002E-3},{"$f":"OFFSET(Female!O$18,'Female - Rev'!$A43-35,0)","v":2E-3},{"$f":"OFFSET(Female!P$18,'Female - Rev'!$A43-35,0)","v":8.9999999999999998E-4},{"$f":"OFFSET(Female!Q$18,'Female - Rev'!$A43-35,0)","v":5.0000000000000001E-4},{"$f":"OFFSET(Female!R$18,'Female - Rev'!$A43-35,0)","v":1.1999999999999999E-3},{"$f":"OFFSET(Female!S$18,'Female - Rev'!$A43-35,0)","v":2.8E-3},{"$f":"OFFSET(Female!T$18,'Female - Rev'!$A43-35,0)","v":5.5999999999999999E-3},{"$f":"OFFSET(Female!U$18,'Female - Rev'!$A43-35,0)","v":9.1000000000000004E-3},{"$f":"OFFSET(Female!V$18,'Female - Rev'!$A43-35,0)","v":1.2999999999999999E-2},{"$f":"OFFSET(Female!W$18,'Female - Rev'!$A43-35,0)","v":1.6799999999999999E-2},{"$f":"OFFSET(Female!X$18,'Female - Rev'!$A43-35,0)","v":2.01E-2},{"$f":"OFFSET(Female!Y$18,'Female - Rev'!$A43-35,0)","v":2.2499999999999999E-2},{"$f":"OFFSET(Female!Z$18,'Female - Rev'!$A43-35,0)","v":2.3599999999999999E-2},{"$f":"OFFSET(Female!AA$18,'Female - Rev'!$A43-35,0)","v":2.3400000000000001E-2},{"$f":"OFFSET(Female!AB$18,'Female - Rev'!$A43-35,0)","v":2.1899999999999999E-2},{"$f":"OFFSET(Female!AC$18,'Female - Rev'!$A43-35,0)","v":1.9599999999999999E-2},{"$f":"OFFSET(Female!AD$18,'Female - Rev'!$A43-35,0)","v":1.67E-2},{"$f":"OFFSET(Female!AE$18,'Female - Rev'!$A43-35,0)","v":1.38E-2},{"$f":"OFFSET(Female!AF$18,'Female - Rev'!$A43-35,0)","v":1.1299999999999999E-2},{"$f":"OFFSET(Female!AG$18,'Female - Rev'!$A43-35,0)","v":9.4999999999999998E-3},{"$f":"OFFSET(Female!AH$18,'Female - Rev'!$A43-35,0)","v":8.3999999999999995E-3},{"$f":"OFFSET(Female!AI$18,'Female - Rev'!$A43-35,0)","v":8.0000000000000002E-3},{"$f":"OFFSET(Female!AJ$18,'Female - Rev'!$A43-35,0)","v":8.2000000000000007E-3},{"$f":"OFFSET(Female!AK$18,'Female - Rev'!$A43-35,0)","v":8.8000000000000005E-3},{"$f":"OFFSET(Female!AL$18,'Female - Rev'!$A43-35,0)","v":9.7000000000000003E-3},{"$f":"OFFSET(Female!AM$18,'Female - Rev'!$A43-35,0)","v":1.0699999999999999E-2},{"$f":"OFFSET(Female!AN$18,'Female - Rev'!$A43-35,0)","v":1.17E-2},{"$f":"OFFSET(Female!AO$18,'Female - Rev'!$A43-35,0)","v":1.26E-2},{"$f":"OFFSET(Female!AP$18,'Female - Rev'!$A43-35,0)","v":1.3299999999999999E-2},{"$f":"OFFSET(Female!AQ$18,'Female - Rev'!$A43-35,0)","v":1.38E-2},{"$f":"OFFSET(Female!AR$18,'Female - Rev'!$A43-35,0)","v":1.41E-2},{"$f":"OFFSET(Female!AS$18,'Female - Rev'!$A43-35,0)","v":1.43E-2},{"$f":"OFFSET(Female!AT$18,'Female - Rev'!$A43-35,0)","v":1.43E-2},{"$f":"OFFSET(Female!AU$18,'Female - Rev'!$A43-35,0)","v":1.4200000000000001E-2},{"$f":"OFFSET(Female!AV$18,'Female - Rev'!$A43-35,0)","v":1.4E-2},{"$f":"OFFSET(Female!AW$18,'Female - Rev'!$A43-35,0)","v":1.35E-2},{"$f":"OFFSET(Female!AX$18,'Female - Rev'!$A43-35,0)","v":1.29E-2},{"$f":"OFFSET(Female!AY$18,'Female - Rev'!$A43-35,0)","v":1.24E-2},{"$f":"OFFSET(Female!AZ$18,'Female - Rev'!$A43-35,0)","v":1.21E-2},{"$f":"OFFSET(Female!BA$18,'Female - Rev'!$A43-35,0)","v":1.2E-2},{"$f":"OFFSET(Female!BB$18,'Female - Rev'!$A43-35,0)","v":1.1900000000000001E-2},{"$f":"OFFSET(Female!BC$18,'Female - Rev'!$A43-35,0)","v":1.1599999999999999E-2},{"$f":"OFFSET(Female!BD$18,'Female - Rev'!$A43-35,0)","v":1.0699999999999999E-2},{"$f":"OFFSET(Female!BE$18,'Female - Rev'!$A43-35,0)","v":9.1999999999999998E-3},{"$f":"OFFSET(Female!BF$18,'Female - Rev'!$A43-35,0)","v":7.0000000000000001E-3},{"$f":"OFFSET(Female!BG$18,'Female - Rev'!$A43-35,0)","v":4.1000000000000003E-3},{"$f":"OFFSET(Female!BH$18,'Female - Rev'!$A43-35,0)","v":8.9999999999999998E-4},{"$f":"OFFSET(Female!BI$18,'Female - Rev'!$A43-35,0)","v":-2.3999999999999998E-3},{"$f":"OFFSET(Female!BJ$18,'Female - Rev'!$A43-35,0)","v":-5.4000000000000003E-3},{"$f":"OFFSET(Female!BK$18,'Female - Rev'!$A43-35,0)","v":-7.6E-3},{"$f":"OFFSET(Female!BL$18,'Female - Rev'!$A43-35,0)","v":-8.6E-3},{"$f":"OFFSET(Female!BM$18,'Female - Rev'!$A43-35,0)","v":-8.2000000000000007E-3},{"$f":"OFFSET(Female!BN$18,'Female - Rev'!$A43-35,0)","v":-6.3E-3},{"$f":"OFFSET(Female!BO$18,'Female - Rev'!$A43-35,0)","v":-3.3999999999999998E-3},{"$f":"OFFSET(Female!BP$18,'Female - Rev'!$A43-35,0)","v":-1.6999999999999999E-3},{"$f":"OFFSET(Female!BQ$18,'Female - Rev'!$A43-35,0)","v":2.9999999999999997E-4},{"$f":"OFFSET(Female!BR$18,'Female - Rev'!$A43-35,0)","v":2.3999999999999998E-3},{"$f":"OFFSET(Female!BS$18,'Female - Rev'!$A43-35,0)","v":4.4999999999999997E-3},{"$f":"OFFSET(Female!BT$18,'Female - Rev'!$A43-35,0)","v":6.4000000000000003E-3},{"$f":"OFFSET(Female!BU$18,'Female - Rev'!$A43-35,0)","v":7.9000000000000008E-3},{"$f":"OFFSET(Female!BV$18,'Female - Rev'!$A43-35,0)","v":8.9999999999999993E-3},{"$f":"OFFSET(Female!BW$18,'Female - Rev'!$A43-35,0)","v":9.7999999999999997E-3},{"$f":"OFFSET(Female!BX$18,'Female - Rev'!$A43-35,0)","v":1.01E-2},{"$f":"OFFSET(Female!BY$18,'Female - Rev'!$A43-35,0)","v":0.01},{"$f":"OFFSET(Female!BZ$18,'Female - Rev'!$A43-35,0)","v":9.7999999999999997E-3},{"$f":"OFFSET(Female!CA$18,'Female - Rev'!$A43-35,0)","v":9.7000000000000003E-3},{"$f":"OFFSET(Female!CB$18,'Female - Rev'!$A43-35,0)","v":9.9000000000000008E-3},{"$f":"OFFSET(Female!CC$18,'Female - Rev'!$A43-35,0)","v":1.0200000000000001E-2},{"$f":"OFFSET(Female!CD$18,'Female - Rev'!$A43-35,0)","v":1.0699999999999999E-2},{"$f":"OFFSET(Female!CE$18,'Female - Rev'!$A43-35,0)","v":1.14E-2},{"$f":"OFFSET(Female!CF$18,'Female - Rev'!$A43-35,0)","v":1.21E-2},{"$f":"OFFSET(Female!CG$18,'Female - Rev'!$A43-35,0)","v":1.2800000000000001E-2},{"$f":"OFFSET(Female!CH$18,'Female - Rev'!$A43-35,0)","v":1.3299999999999999E-2},{"$f":"OFFSET(Female!CI$18,'Female - Rev'!$A43-35,0)","v":1.35E-2},{"$f":"CJ43","v":1.35E-2},1.35E-2]
[54,54,{"$f":"OFFSET(Female!B$18,'Female - Rev'!$A44-35,0)","v":2.8799999999999999E-2},{"$f":"OFFSET(Female!C$18,'Female - Rev'!$A44-35,0)","v":2.7699999999999999E-2},{"$f":"OFFSET(Female!D$18,'Female - Rev'!$A44-35,0)","v":2.64E-2},{"$f":"OFFSET(Female!E$18,'Female - Rev'!$A44-35,0)","v":2.4899999999999999E-2},{"$f":"OFFSET(Female!F$18,'Female - Rev'!$A44-35,0)","v":2.2800000000000001E-2},{"$f":"OFFSET(Female!G$18,'Female - Rev'!$A44-35,0)","v":2.0500000000000001E-2},{"$f":"OFFSET(Female!H$18,'Female - Rev'!$A44-35,0)","v":1.7899999999999999E-2},{"$f":"OFFSET(Female!I$18,'Female - Rev'!$A44-35,0)","v":1.54E-2},{"$f":"OFFSET(Female!J$18,'Female - Rev'!$A44-35,0)","v":1.2800000000000001E-2},{"$f":"OFFSET(Female!K$18,'Female - Rev'!$A44-35,0)","v":1.0200000000000001E-2},{"$f":"OFFSET(Female!L$18,'Female - Rev'!$A44-35,0)","v":7.4999999999999997E-3},{"$f":"OFFSET(Female!M$18,'Female - Rev'!$A44-35,0)","v":4.8999999999999998E-3},{"$f":"OFFSET(Female!N$18,'Female - Rev'!$A44-35,0)","v":2.5999999999999999E-3},{"$f":"OFFSET(Female!O$18,'Female - Rev'!$A44-35,0)","v":1E-3},{"$f":"OFFSET(Female!P$18,'Female - Rev'!$A44-35,0)","v":2.0000000000000001E-4},{"$f":"OFFSET(Female!Q$18,'Female - Rev'!$A44-35,0)","v":2.0000000000000001E-4},{"$f":"OFFSET(Female!R$18,'Female - Rev'!$A44-35,0)","v":1.1000000000000001E-3},{"$f":"OFFSET(Female!S$18,'Female - Rev'!$A44-35,0)","v":3.0999999999999999E-3},{"$f":"OFFSET(Female!T$18,'Female - Rev'!$A44-35,0)","v":6.1000000000000004E-3},{"$f":"OFFSET(Female!U$18,'Female - Rev'!$A44-35,0)","v":9.7000000000000003E-3},{"$f":"OFFSET(Female!V$18,'Female - Rev'!$A44-35,0)","v":1.37E-2},{"$f":"OFFSET(Female!W$18,'Female - Rev'!$A44-35,0)","v":1.7500000000000002E-2},{"$f":"OFFSET(Female!X$18,'Female - Rev'!$A44-35,0)","v":2.0799999999999999E-2},{"$f":"OFFSET(Female!Y$18,'Female - Rev'!$A44-35,0)","v":2.3E-2},{"$f":"OFFSET(Female!Z$18,'Female - Rev'!$A44-35,0)","v":2.41E-2},{"$f":"OFFSET(Female!AA$18,'Female - Rev'!$A44-35,0)","v":2.3800000000000002E-2},{"$f":"OFFSET(Female!AB$18,'Female - Rev'!$A44-35,0)","v":2.2499999999999999E-2},{"$f":"OFFSET(Female!AC$18,'Female - Rev'!$A44-35,0)","v":2.0400000000000001E-2},{"$f":"OFFSET(Female!AD$18,'Female - Rev'!$A44-35,0)","v":1.78E-2},{"$f":"OFFSET(Female!AE$18,'Female - Rev'!$A44-35,0)","v":1.5100000000000001E-2},{"$f":"OFFSET(Female!AF$18,'Female - Rev'!$A44-35,0)","v":1.2800000000000001E-2},{"$f":"OFFSET(Female!AG$18,'Female - Rev'!$A44-35,0)","v":1.09E-2},{"$f":"OFFSET(Female!AH$18,'Female - Rev'!$A44-35,0)","v":9.7000000000000003E-3},{"$f":"OFFSET(Female!AI$18,'Female - Rev'!$A44-35,0)","v":9.1000000000000004E-3},{"$f":"OFFSET(Female!AJ$18,'Female - Rev'!$A44-35,0)","v":9.1000000000000004E-3},{"$f":"OFFSET(Female!AK$18,'Female - Rev'!$A44-35,0)","v":9.4999999999999998E-3},{"$f":"OFFSET(Female!AL$18,'Female - Rev'!$A44-35,0)","v":1.04E-2},{"$f":"OFFSET(Female!AM$18,'Female - Rev'!$A44-35,0)","v":1.14E-2},{"$f":"OFFSET(Female!AN$18,'Female - Rev'!$A44-35,0)","v":1.24E-2},{"$f":"OFFSET(Female!AO$18,'Female - Rev'!$A44-35,0)","v":1.3299999999999999E-2},{"$f":"OFFSET(Female!AP$18,'Female - Rev'!$A44-35,0)","v":1.3899999999999999E-2},{"$f":"OFFSET(Female!AQ$18,'Female - Rev'!$A44-35,0)","v":1.43E-2},{"$f":"OFFSET(Female!AR$18,'Female - Rev'!$A44-35,0)","v":1.4500000000000001E-2},{"$f":"OFFSET(Female!AS$18,'Female - Rev'!$A44-35,0)","v":1.47E-2},{"$f":"OFFSET(Female!AT$18,'Female - Rev'!$A44-35,0)","v":1.47E-2},{"$f":"OFFSET(Female!AU$18,'Female - Rev'!$A44-35,0)","v":1.4500000000000001E-2},{"$f":"OFFSET(Female!AV$18,'Female - Rev'!$A44-35,0)","v":1.4E-2},{"$f":"OFFSET(Female!AW$18,'Female - Rev'!$A44-35,0)","v":1.3100000000000001E-2},{"$f":"OFFSET(Female!AX$18,'Female - Rev'!$A44-35,0)","v":1.2E-2},{"$f":"OFFSET(Female!AY$18,'Female - Rev'!$A44-35,0)","v":1.0800000000000001E-2},{"$f":"OFFSET(Female!AZ$18,'Female - Rev'!$A44-35,0)","v":9.9000000000000008E-3},{"$f":"OFFSET(Female!BA$18,'Female - Rev'!$A44-35,0)","v":9.1999999999999998E-3},{"$f":"OFFSET(Female!BB$18,'Female - Rev'!$A44-35,0)","v":8.6E-3},{"$f":"OFFSET(Female!BC$18,'Female - Rev'!$A44-35,0)","v":8.0999999999999996E-3},{"$f":"OFFSET(Female!BD$18,'Female - Rev'!$A44-35,0)","v":7.1999999999999998E-3},{"$f":"OFFSET(Female!BE$18,'Female - Rev'!$A44-35,0)","v":6.0000000000000001E-3},{"$f":"OFFSET(Female!BF$18,'Female - Rev'!$A44-35,0)","v":4.3E-3},{"$f":"OFFSET(Female!BG$18,'Female - Rev'!$A44-35,0)","v":2.2000000000000001E-3},{"$f":"OFFSET(Female!BH$18,'Female - Rev'!$A44-35,0)","v":-2.0000000000000001E-4},{"$f":"OFFSET(Female!BI$18,'Female - Rev'!$A44-35,0)","v":-2.7000000000000001E-3},{"$f":"OFFSET(Female!BJ$18,'Female - Rev'!$A44-35,0)","v":-4.8999999999999998E-3},{"$f":"OFFSET(Female!BK$18,'Female - Rev'!$A44-35,0)","v":-6.4000000000000003E-3},{"$f":"OFFSET(Female!BL$18,'Female - Rev'!$A44-35,0)","v":-6.8999999999999999E-3},{"$f":"OFFSET(Female!BM$18,'Female - Rev'!$A44-35,0)","v":-6.0000000000000001E-3},{"$f":"OFFSET(Female!BN$18,'Female - Rev'!$A44-35,0)","v":-3.8999999999999998E-3},{"$f":"OFFSET(Female!BO$18,'Female - Rev'!$A44-35,0)","v":-6.9999999999999999E-4},{"$f":"OFFSET(Female!BP$18,'Female - Rev'!$A44-35,0)","v":8.0000000000000004E-4},{"$f":"OFFSET(Female!BQ$18,'Female - Rev'!$A44-35,0)","v":2.5000000000000001E-3},{"$f":"OFFSET(Female!BR$18,'Female - Rev'!$A44-35,0)","v":4.3E-3},{"$f":"OFFSET(Female!BS$18,'Female - Rev'!$A44-35,0)","v":5.7999999999999996E-3},{"$f":"OFFSET(Female!BT$18,'Female - Rev'!$A44-35,0)","v":7.1999999999999998E-3},{"$f":"OFFSET(Female!BU$18,'Female - Rev'!$A44-35,0)","v":8.2000000000000007E-3},{"$f":"OFFSET(Female!BV$18,'Female - Rev'!$A44-35,0)","v":8.8000000000000005E-3},{"$f":"OFFSET(Female!BW$18,'Female - Rev'!$A44-35,0)","v":9.1999999999999998E-3},{"$f":"OFFSET(Female!BX$18,'Female - Rev'!$A44-35,0)","v":9.2999999999999992E-3},{"$f":"OFFSET(Female!BY$18,'Female - Rev'!$A44-35,0)","v":9.1000000000000004E-3},{"$f":"OFFSET(Female!BZ$18,'Female - Rev'!$A44-35,0)","v":8.8999999999999999E-3},{"$f":"OFFSET(Female!CA$18,'Female - Rev'!$A44-35,0)","v":8.9999999999999993E-3},{"$f":"OFFSET(Female!CB$18,'Female - Rev'!$A44-35,0)","v":9.1999999999999998E-3},{"$f":"OFFSET(Female!CC$18,'Female - Rev'!$A44-35,0)","v":9.7000000000000003E-3},{"$f":"OFFSET(Female!CD$18,'Female - Rev'!$A44-35,0)","v":1.04E-2},{"$f":"OFFSET(Female!CE$18,'Female - Rev'!$A44-35,0)","v":1.12E-2},{"$f":"OFFSET(Female!CF$18,'Female - Rev'!$A44-35,0)","v":1.2E-2},{"$f":"OFFSET(Female!CG$18,'Female - Rev'!$A44-35,0)","v":1.2800000000000001E-2},{"$f":"OFFSET(Female!CH$18,'Female - Rev'!$A44-35,0)","v":1.3299999999999999E-2},{"$f":"OFFSET(Female!CI$18,'Female - Rev'!$A44-35,0)","v":1.35E-2},{"$f":"CJ44","v":1.35E-2},1.35E-2]
[53,53,{"$f":"OFFSET(Female!B$18,'Female - Rev'!$A45-35,0)","v":2.9100000000000001E-2},{"$f":"OFFSET(Female!C$18,'Female - Rev'!$A45-35,0)","v":2.8199999999999999E-2},{"$f":"OFFSET(Female!D$18,'Female - Rev'!$A45-35,0)","v":2.7E-2},{"$f":"OFFSET(Female!E$18,'Female - Rev'!$A45-35,0)","v":2.5499999999999998E-2},{"$f":"OFFSET(Female!F$18,'Female - Rev'!$A45-35,0)","v":2.35E-2},{"$f":"OFFSET(Female!G$18,'Female - Rev'!$A45-35,0)","v":2.0899999999999998E-2},{"$f":"OFFSET(Female!H$18,'Female - Rev'!$A45-35,0)","v":1.8100000000000002E-2},{"$f":"OFFSET(Female!I$18,'Female - Rev'!$A45-35,0)","v":1.52E-2},{"$f":"OFFSET(Female!J$18,'Female - Rev'!$A45-35,0)","v":1.23E-2},{"$f":"OFFSET(Female!K$18,'Female - Rev'!$A45-35,0)","v":9.2999999999999992E-3},{"$f":"OFFSET(Female!L$18,'Female - Rev'!$A45-35,0)","v":6.4000000000000003E-3},{"$f":"OFFSET(Female!M$18,'Female - Rev'!$A45-35,0)","v":3.7000000000000002E-3},{"$f":"OFFSET(Female!N$18,'Female - Rev'!$A45-35,0)","v":1.6000000000000001E-3},{"$f":"OFFSET(Female!O$18,'Female - Rev'!$A45-35,0)","v":2.0000000000000001E-4},{"$f":"OFFSET(Female!P$18,'Female - Rev'!$A45-35,0)","v":-4.0000000000000002E-4},{"$f":"OFFSET(Female!Q$18,'Female - Rev'!$A45-35,0)","v":0},{"$f":"OFFSET(Female!R$18,'Female - Rev'!$A45-35,0)","v":1.2999999999999999E-3},{"$f":"OFFSET(Female!S$18,'Female - Rev'!$A45-35,0)","v":3.5999999999999999E-3},{"$f":"OFFSET(Female!T$18,'Female - Rev'!$A45-35,0)","v":6.7000000000000002E-3},{"$f":"OFFSET(Female!U$18,'Female - Rev'!$A45-35,0)","v":1.0500000000000001E-2},{"$f":"OFFSET(Female!V$18,'Female - Rev'!$A45-35,0)","v":1.4500000000000001E-2},{"$f":"OFFSET(Female!W$18,'Female - Rev'!$A45-35,0)","v":1.83E-2},{"$f":"OFFSET(Female!X$18,'Female - Rev'!$A45-35,0)","v":2.1399999999999999E-2},{"$f":"OFFSET(Female!Y$18,'Female - Rev'!$A45-35,0)","v":2.3599999999999999E-2},{"$f":"OFFSET(Female!Z$18,'Female - Rev'!$A45-35,0)","v":2.4500000000000001E-2},{"$f":"OFFSET(Female!AA$18,'Female - Rev'!$A45-35,0)","v":2.4299999999999999E-2},{"$f":"OFFSET(Female!AB$18,'Female - Rev'!$A45-35,0)","v":2.3099999999999999E-2},{"$f":"OFFSET(Female!AC$18,'Female - Rev'!$A45-35,0)","v":2.1299999999999999E-2},{"$f":"OFFSET(Female!AD$18,'Female - Rev'!$A45-35,0)","v":1.9E-2},{"$f":"OFFSET(Female!AE$18,'Female - Rev'!$A45-35,0)","v":1.66E-2},{"$f":"OFFSET(Female!AF$18,'Female - Rev'!$A45-35,0)","v":1.44E-2},{"$f":"OFFSET(Female!AG$18,'Female - Rev'!$A45-35,0)","v":1.2500000000000001E-2},{"$f":"OFFSET(Female!AH$18,'Female - Rev'!$A45-35,0)","v":1.11E-2},{"$f":"OFFSET(Female!AI$18,'Female - Rev'!$A45-35,0)","v":1.03E-2},{"$f":"OFFSET(Female!AJ$18,'Female - Rev'!$A45-35,0)","v":1.01E-2},{"$f":"OFFSET(Female!AK$18,'Female - Rev'!$A45-35,0)","v":1.04E-2},{"$f":"OFFSET(Female!AL$18,'Female - Rev'!$A45-35,0)","v":1.12E-2},{"$f":"OFFSET(Female!AM$18,'Female - Rev'!$A45-35,0)","v":1.21E-2},{"$f":"OFFSET(Female!AN$18,'Female - Rev'!$A45-35,0)","v":1.3100000000000001E-2},{"$f":"OFFSET(Female!AO$18,'Female - Rev'!$A45-35,0)","v":1.38E-2},{"$f":"OFFSET(Female!AP$18,'Female - Rev'!$A45-35,0)","v":1.43E-2},{"$f":"OFFSET(Female!AQ$18,'Female - Rev'!$A45-35,0)","v":1.46E-2},{"$f":"OFFSET(Female!AR$18,'Female - Rev'!$A45-35,0)","v":1.47E-2},{"$f":"OFFSET(Female!AS$18,'Female - Rev'!$A45-35,0)","v":1.4800000000000001E-2},{"$f":"OFFSET(Female!AT$18,'Female - Rev'!$A45-35,0)","v":1.4800000000000001E-2},{"$f":"OFFSET(Female!AU$18,'Female - Rev'!$A45-35,0)","v":1.4500000000000001E-2},{"$f":"OFFSET(Female!AV$18,'Female - Rev'!$A45-35,0)","v":1.38E-2},{"$f":"OFFSET(Female!AW$18,'Female - Rev'!$A45-35,0)","v":1.24E-2},{"$f":"OFFSET(Female!AX$18,'Female - Rev'!$A45-35,0)","v":1.0699999999999999E-2},{"$f":"OFFSET(Female!AY$18,'Female - Rev'!$A45-35,0)","v":8.8000000000000005E-3},{"$f":"OFFSET(Female!AZ$18,'Female - Rev'!$A45-35,0)","v":7.1999999999999998E-3},{"$f":"OFFSET(Female!BA$18,'Female - Rev'!$A45-35,0)","v":6.0000000000000001E-3},{"$f":"OFFSET(Female!BB$18,'Female - Rev'!$A45-35,0)","v":5.1000000000000004E-3},{"$f":"OFFSET(Female!BC$18,'Female - Rev'!$A45-35,0)","v":4.4999999999999997E-3},{"$f":"OFFSET(Female!BD$18,'Female - Rev'!$A45-35,0)","v":3.8999999999999998E-3},{"$f":"OFFSET(Female!BE$18,'Female - Rev'!$A45-35,0)","v":3.2000000000000002E-3},{"$f":"OFFSET(Female!BF$18,'Female - Rev'!$A45-35,0)","v":2.2000000000000001E-3},{"$f":"OFFSET(Female!BG$18,'Female - Rev'!$A45-35,0)","v":8.9999999999999998E-4},{"$f":"OFFSET(Female!BH$18,'Female - Rev'!$A45-35,0)","v":-5.9999999999999995E-4},{"$f":"OFFSET(Female!BI$18,'Female - Rev'!$A45-35,0)","v":-2.0999999999999999E-3},{"$f":"OFFSET(Female!BJ$18,'Female - Rev'!$A45-35,0)","v":-3.5000000000000001E-3},{"$f":"OFFSET(Female!BK$18,'Female - Rev'!$A45-35,0)","v":-4.4000000000000003E-3},{"$f":"OFFSET(Female!BL$18,'Female - Rev'!$A45-35,0)","v":-4.4999999999999997E-3},{"$f":"OFFSET(Female!BM$18,'Female - Rev'!$A45-35,0)","v":-3.5000000000000001E-3},{"$f":"OFFSET(Female!BN$18,'Female - Rev'!$A45-35,0)","v":-1.2999999999999999E-3},{"$f":"OFFSET(Female!BO$18,'Female - Rev'!$A45-35,0)","v":1.9E-3},{"$f":"OFFSET(Female!BP$18,'Female - Rev'!$A45-35,0)","v":3.2000000000000002E-3},{"$f":"OFFSET(Female!BQ$18,'Female - Rev'!$A45-35,0)","v":4.4999999999999997E-3},{"$f":"OFFSET(Female!BR$18,'Female - Rev'!$A45-35,0)","v":5.7999999999999996E-3},{"$f":"OFFSET(Female!BS$18,'Female - Rev'!$A45-35,0)","v":6.7999999999999996E-3},{"$f":"OFFSET(Female!BT$18,'Female - Rev'!$A45-35,0)","v":7.6E-3},{"$f":"OFFSET(Female!BU$18,'Female - Rev'!$A45-35,0)","v":8.0999999999999996E-3},{"$f":"OFFSET(Female!BV$18,'Female - Rev'!$A45-35,0)","v":8.3000000000000001E-3},{"$f":"OFFSET(Female!BW$18,'Female - Rev'!$A45-35,0)","v":8.3999999999999995E-3},{"$f":"OFFSET(Female!BX$18,'Female - Rev'!$A45-35,0)","v":8.3999999999999995E-3},{"$f":"OFFSET(Female!BY$18,'Female - Rev'!$A45-35,0)","v":8.2000000000000007E-3},{"$f":"OFFSET(Female!BZ$18,'Female - Rev'!$A45-35,0)","v":8.0000000000000002E-3},{"$f":"OFFSET(Female!CA$18,'Female - Rev'!$A45-35,0)","v":8.0999999999999996E-3},{"$f":"OFFSET(Female!CB$18,'Female - Rev'!$A45-35,0)","v":8.5000000000000006E-3},{"$f":"OFFSET(Female!CC$18,'Female - Rev'!$A45-35,0)","v":9.1999999999999998E-3},{"$f":"OFFSET(Female!CD$18,'Female - Rev'!$A45-35,0)","v":0.01},{"$f":"OFFSET(Female!CE$18,'Female - Rev'!$A45-35,0)","v":1.0999999999999999E-2},{"$f":"OFFSET(Female!CF$18,'Female - Rev'!$A45-35,0)","v":1.1900000000000001E-2},{"$f":"OFFSET(Female!CG$18,'Female - Rev'!$A45-35,0)","v":1.2699999999999999E-2},{"$f":"OFFSET(Female!CH$18,'Female - Rev'!$A45-35,0)","v":1.3299999999999999E-2},{"$f":"OFFSET(Female!CI$18,'Female - Rev'!$A45-35,0)","v":1.35E-2},{"$f":"CJ45","v":1.35E-2},1.35E-2]
[52,52,{"$f":"OFFSET(Female!B$18,'Female - Rev'!$A46-35,0)","v":0.03},{"$f":"OFFSET(Female!C$18,'Female - Rev'!$A46-35,0)","v":2.9000000000000001E-2},{"$f":"OFFSET(Female!D$18,'Female - Rev'!$A46-35,0)","v":2.7699999999999999E-2},{"$f":"OFFSET(Female!E$18,'Female - Rev'!$A46-35,0)","v":2.6100000000000002E-2},{"$f":"OFFSET(Female!F$18,'Female - Rev'!$A46-35,0)","v":2.3900000000000001E-2},{"$f":"OFFSET(Female!G$18,'Female - Rev'!$A46-35,0)","v":2.1100000000000001E-2},{"$f":"OFFSET(Female!H$18,'Female - Rev'!$A46-35,0)","v":1.7999999999999999E-2},{"$f":"OFFSET(Female!I$18,'Female - Rev'!$A46-35,0)","v":1.4800000000000001E-2},{"$f":"OFFSET(Female!J$18,'Female - Rev'!$A46-35,0)","v":1.15E-2},{"$f":"OFFSET(Female!K$18,'Female - Rev'!$A46-35,0)","v":8.3000000000000001E-3},{"$f":"OFFSET(Female!L$18,'Female - Rev'!$A46-35,0)","v":5.1999999999999998E-3},{"$f":"OFFSET(Female!M$18,'Female - Rev'!$A46-35,0)","v":2.5999999999999999E-3},{"$f":"OFFSET(Female!N$18,'Female - Rev'!$A46-35,0)","v":5.0000000000000001E-4},{"$f":"OFFSET(Female!O$18,'Female - Rev'!$A46-35,0)","v":-5.9999999999999995E-4},{"$f":"OFFSET(Female!P$18,'Female - Rev'!$A46-35,0)","v":-8.0000000000000004E-4},{"$f":"OFFSET(Female!Q$18,'Female - Rev'!$A46-35,0)","v":-1E-4},{"$f":"OFFSET(Female!R$18,'Female - Rev'!$A46-35,0)","v":1.5E-3},{"$f":"OFFSET(Female!S$18,'Female - Rev'!$A46-35,0)","v":4.0000000000000001E-3},{"$f":"OFFSET(Female!T$18,'Female - Rev'!$A46-35,0)","v":7.3000000000000001E-3},{"$f":"OFFSET(Female!U$18,'Female - Rev'!$A46-35,0)","v":1.12E-2},{"$f":"OFFSET(Female!V$18,'Female - Rev'!$A46-35,0)","v":1.52E-2},{"$f":"OFFSET(Female!W$18,'Female - Rev'!$A46-35,0)","v":1.9E-2},{"$f":"OFFSET(Female!X$18,'Female - Rev'!$A46-35,0)","v":2.1999999999999999E-2},{"$f":"OFFSET(Female!Y$18,'Female - Rev'!$A46-35,0)","v":2.41E-2},{"$f":"OFFSET(Female!Z$18,'Female - Rev'!$A46-35,0)","v":2.5100000000000001E-2},{"$f":"OFFSET(Female!AA$18,'Female - Rev'!$A46-35,0)","v":2.5000000000000001E-2},{"$f":"OFFSET(Female!AB$18,'Female - Rev'!$A46-35,0)","v":2.3900000000000001E-2},{"$f":"OFFSET(Female!AC$18,'Female - Rev'!$A46-35,0)","v":2.23E-2},{"$f":"OFFSET(Female!AD$18,'Female - Rev'!$A46-35,0)","v":2.0299999999999999E-2},{"$f":"OFFSET(Female!AE$18,'Female - Rev'!$A46-35,0)","v":1.8200000000000001E-2},{"$f":"OFFSET(Female!AF$18,'Female - Rev'!$A46-35,0)","v":1.61E-2},{"$f":"OFFSET(Female!AG$18,'Female - Rev'!$A46-35,0)","v":1.43E-2},{"$f":"OFFSET(Female!AH$18,'Female - Rev'!$A46-35,0)","v":1.2699999999999999E-2},{"$f":"OFFSET(Female!AI$18,'Female - Rev'!$A46-35,0)","v":1.17E-2},{"$f":"OFFSET(Female!AJ$18,'Female - Rev'!$A46-35,0)","v":1.12E-2},{"$f":"OFFSET(Female!AK$18,'Female - Rev'!$A46-35,0)","v":1.14E-2},{"$f":"OFFSET(Female!AL$18,'Female - Rev'!$A46-35,0)","v":1.2E-2},{"$f":"OFFSET(Female!AM$18,'Female - Rev'!$A46-35,0)","v":1.2800000000000001E-2},{"$f":"OFFSET(Female!AN$18,'Female - Rev'!$A46-35,0)","v":1.3599999999999999E-2},{"$f":"OFFSET(Female!AO$18,'Female - Rev'!$A46-35,0)","v":1.4200000000000001E-2},{"$f":"OFFSET(Female!AP$18,'Female - Rev'!$A46-35,0)","v":1.46E-2},{"$f":"OFFSET(Female!AQ$18,'Female - Rev'!$A46-35,0)","v":1.47E-2},{"$f":"OFFSET(Female!AR$18,'Female - Rev'!$A46-35,0)","v":1.47E-2},{"$f":"OFFSET(Female!AS$18,'Female - Rev'!$A46-35,0)","v":1.47E-2},{"$f":"OFFSET(Female!AT$18,'Female - Rev'!$A46-35,0)","v":1.46E-2},{"$f":"OFFSET(Female!AU$18,'Female - Rev'!$A46-35,0)","v":1.41E-2},{"$f":"OFFSET(Female!AV$18,'Female - Rev'!$A46-35,0)","v":1.3100000000000001E-2},{"$f":"OFFSET(Female!AW$18,'Female - Rev'!$A46-35,0)","v":1.12E-2},{"$f":"OFFSET(Female!AX$18,'Female - Rev'!$A46-35,0)","v":8.8999999999999999E-3},{"$f":"OFFSET(Female!AY$18,'Female - Rev'!$A46-35,0)","v":6.4000000000000003E-3},{"$f":"OFFSET(Female!AZ$18,'Female - Rev'!$A46-35,0)","v":4.1999999999999997E-3},{"$f":"OFFSET(Female!BA$18,'Female - Rev'!$A46-35,0)","v":2.5999999999999999E-3},{"$f":"OFFSET(Female!BB$18,'Female - Rev'!$A46-35,0)","v":1.6000000000000001E-3},{"$f":"OFFSET(Female!BC$18,'Female - Rev'!$A46-35,0)","v":1.1999999999999999E-3},{"$f":"OFFSET(Female!BD$18,'Female - Rev'!$A46-35,0)","v":1E-3},{"$f":"OFFSET(Female!BE$18,'Female - Rev'!$A46-35,0)","v":8.9999999999999998E-4},{"$f":"OFFSET(Female!BF$18,'Female - Rev'!$A46-35,0)","v":8.0000000000000004E-4},{"$f":"OFFSET(Female!BG$18,'Female - Rev'!$A46-35,0)","v":4.0000000000000002E-4},{"$f":"OFFSET(Female!BH$18,'Female - Rev'!$A46-35,0)","v":-1E-4},{"$f":"OFFSET(Female!BI$18,'Female - Rev'!$A46-35,0)","v":-8.0000000000000004E-4},{"$f":"OFFSET(Female!BJ$18,'Female - Rev'!$A46-35,0)","v":-1.5E-3},{"$f":"OFFSET(Female!BK$18,'Female - Rev'!$A46-35,0)","v":-2E-3},{"$f":"OFFSET(Female!BL$18,'Female - Rev'!$A46-35,0)","v":-1.9E-3},{"$f":"OFFSET(Female!BM$18,'Female - Rev'!$A46-35,0)","v":-8.9999999999999998E-4},{"$f":"OFFSET(Female!BN$18,'Female - Rev'!$A46-35,0)","v":1.1000000000000001E-3},{"$f":"OFFSET(Female!BO$18,'Female - Rev'!$A46-35,0)","v":4.1000000000000003E-3},{"$f":"OFFSET(Female!BP$18,'Female - Rev'!$A46-35,0)","v":5.1000000000000004E-3},{"$f":"OFFSET(Female!BQ$18,'Female - Rev'!$A46-35,0)","v":6.0000000000000001E-3},{"$f":"OFFSET(Female!BR$18,'Female - Rev'!$A46-35,0)","v":6.7999999999999996E-3},{"$f":"OFFSET(Female!BS$18,'Female - Rev'!$A46-35,0)","v":7.3000000000000001E-3},{"$f":"OFFSET(Female!BT$18,'Female - Rev'!$A46-35,0)","v":7.4999999999999997E-3},{"$f":"OFFSET(Female!BU$18,'Female - Rev'!$A46-35,0)","v":7.6E-3},{"$f":"OFFSET(Female!BV$18,'Female - Rev'!$A46-35,0)","v":7.6E-3},{"$f":"OFFSET(Female!BW$18,'Female - Rev'!$A46-35,0)","v":7.4000000000000003E-3},{"$f":"OFFSET(Female!BX$18,'Female - Rev'!$A46-35,0)","v":7.1999999999999998E-3},{"$f":"OFFSET(Female!BY$18,'Female - Rev'!$A46-35,0)","v":7.1000000000000004E-3},{"$f":"OFFSET(Female!BZ$18,'Female - Rev'!$A46-35,0)","v":7.0000000000000001E-3},{"$f":"OFFSET(Female!CA$18,'Female - Rev'!$A46-35,0)","v":7.3000000000000001E-3},{"$f":"OFFSET(Female!CB$18,'Female - Rev'!$A46-35,0)","v":7.7999999999999996E-3},{"$f":"OFFSET(Female!CC$18,'Female - Rev'!$A46-35,0)","v":8.6999999999999994E-3},{"$f":"OFFSET(Female!CD$18,'Female - Rev'!$A46-35,0)","v":9.7000000000000003E-3},{"$f":"OFFSET(Female!CE$18,'Female - Rev'!$A46-35,0)","v":1.0800000000000001E-2},{"$f":"OFFSET(Female!CF$18,'Female - Rev'!$A46-35,0)","v":1.18E-2},{"$f":"OFFSET(Female!CG$18,'Female - Rev'!$A46-35,0)","v":1.2699999999999999E-2},{"$f":"OFFSET(Female!CH$18,'Female - Rev'!$A46-35,0)","v":1.3299999999999999E-2},{"$f":"OFFSET(Female!CI$18,'Female - Rev'!$A46-35,0)","v":1.35E-2},{"$f":"CJ46","v":1.35E-2},1.35E-2]
[51,51,{"$f":"OFFSET(Female!B$18,'Female - Rev'!$A47-35,0)","v":3.1399999999999997E-2},{"$f":"OFFSET(Female!C$18,'Female - Rev'!$A47-35,0)","v":3.0099999999999998E-2},{"$f":"OFFSET(Female!D$18,'Female - Rev'!$A47-35,0)","v":2.86E-2},{"$f":"OFFSET(Female!E$18,'Female - Rev'!$A47-35,0)","v":2.6700000000000002E-2},{"$f":"OFFSET(Female!F$18,'Female - Rev'!$A47-35,0)","v":2.4199999999999999E-2},{"$f":"OFFSET(Female!G$18,'Female - Rev'!$A47-35,0)","v":2.1100000000000001E-2},{"$f":"OFFSET(Female!H$18,'Female - Rev'!$A47-35,0)","v":1.77E-2},{"$f":"OFFSET(Female!I$18,'Female - Rev'!$A47-35,0)","v":1.4200000000000001E-2},{"$f":"OFFSET(Female!J$18,'Female - Rev'!$A47-35,0)","v":1.0699999999999999E-2},{"$f":"OFFSET(Female!K$18,'Female - Rev'!$A47-35,0)","v":7.3000000000000001E-3},{"$f":"OFFSET(Female!L$18,'Female - Rev'!$A47-35,0)","v":4.1999999999999997E-3},{"$f":"OFFSET(Female!M$18,'Female - Rev'!$A47-35,0)","v":1.5E-3},{"$f":"OFFSET(Female!N$18,'Female - Rev'!$A47-35,0)","v":-4.0000000000000002E-4},{"$f":"OFFSET(Female!O$18,'Female - Rev'!$A47-35,0)","v":-1.2999999999999999E-3},{"$f":"OFFSET(Female!P$18,'Female - Rev'!$A47-35,0)","v":-1.2999999999999999E-3},{"$f":"OFFSET(Female!Q$18,'Female - Rev'!$A47-35,0)","v":-2.9999999999999997E-4},{"$f":"OFFSET(Female!R$18,'Female - Rev'!$A47-35,0)","v":1.6000000000000001E-3},{"$f":"OFFSET(Female!S$18,'Female - Rev'!$A47-35,0)","v":4.3E-3},{"$f":"OFFSET(Female!T$18,'Female - Rev'!$A47-35,0)","v":7.7999999999999996E-3},{"$f":"OFFSET(Female!U$18,'Female - Rev'!$A47-35,0)","v":1.17E-2},{"$f":"OFFSET(Female!V$18,'Female - Rev'!$A47-35,0)","v":1.5699999999999999E-2},{"$f":"OFFSET(Female!W$18,'Female - Rev'!$A47-35,0)","v":1.95E-2},{"$f":"OFFSET(Female!X$18,'Female - Rev'!$A47-35,0)","v":2.2599999999999999E-2},{"$f":"OFFSET(Female!Y$18,'Female - Rev'!$A47-35,0)","v":2.4799999999999999E-2},{"$f":"OFFSET(Female!Z$18,'Female - Rev'!$A47-35,0)","v":2.58E-2},{"$f":"OFFSET(Female!AA$18,'Female - Rev'!$A47-35,0)","v":2.58E-2},{"$f":"OFFSET(Female!AB$18,'Female - Rev'!$A47-35,0)","v":2.5000000000000001E-2},{"$f":"OFFSET(Female!AC$18,'Female - Rev'!$A47-35,0)","v":2.35E-2},{"$f":"OFFSET(Female!AD$18,'Female - Rev'!$A47-35,0)","v":2.18E-2},{"$f":"OFFSET(Female!AE$18,'Female - Rev'!$A47-35,0)","v":1.9800000000000002E-2},{"$f":"OFFSET(Female!AF$18,'Female - Rev'!$A47-35,0)","v":1.7899999999999999E-2},{"$f":"OFFSET(Female!AG$18,'Female - Rev'!$A47-35,0)","v":1.6E-2},{"$f":"OFFSET(Female!AH$18,'Female - Rev'!$A47-35,0)","v":1.44E-2},{"$f":"OFFSET(Female!AI$18,'Female - Rev'!$A47-35,0)","v":1.32E-2},{"$f":"OFFSET(Female!AJ$18,'Female - Rev'!$A47-35,0)","v":1.2500000000000001E-2},{"$f":"OFFSET(Female!AK$18,'Female - Rev'!$A47-35,0)","v":1.24E-2},{"$f":"OFFSET(Female!AL$18,'Female - Rev'!$A47-35,0)","v":1.2800000000000001E-2},{"$f":"OFFSET(Female!AM$18,'Female - Rev'!$A47-35,0)","v":1.34E-2},{"$f":"OFFSET(Female!AN$18,'Female - Rev'!$A47-35,0)","v":1.4E-2},{"$f":"OFFSET(Female!AO$18,'Female - Rev'!$A47-35,0)","v":1.44E-2},{"$f":"OFFSET(Female!AP$18,'Female - Rev'!$A47-35,0)","v":1.4500000000000001E-2},{"$f":"OFFSET(Female!AQ$18,'Female - Rev'!$A47-35,0)","v":1.44E-2},{"$f":"OFFSET(Female!AR$18,'Female - Rev'!$A47-35,0)","v":1.43E-2},{"$f":"OFFSET(Female!AS$18,'Female - Rev'!$A47-35,0)","v":1.4200000000000001E-2},{"$f":"OFFSET(Female!AT$18,'Female - Rev'!$A47-35,0)","v":1.4E-2},{"$f":"OFFSET(Female!AU$18,'Female - Rev'!$A47-35,0)","v":1.3299999999999999E-2},{"$f":"OFFSET(Female!AV$18,'Female - Rev'!$A47-35,0)","v":1.1900000000000001E-2},{"$f":"OFFSET(Female!AW$18,'Female - Rev'!$A47-35,0)","v":9.5999999999999992E-3},{"$f":"OFFSET(Female!AX$18,'Female - Rev'!$A47-35,0)","v":6.6E-3},{"$f":"OFFSET(Female!AY$18,'Female - Rev'!$A47-35,0)","v":3.5999999999999999E-3},{"$f":"OFFSET(Female!AZ$18,'Female - Rev'!$A47-35,0)","v":1E-3},{"$f":"OFFSET(Female!BA$18,'Female - Rev'!$A47-35,0)","v":-6.9999999999999999E-4},{"$f":"OFFSET(Female!BB$18,'Female - Rev'!$A47-35,0)","v":-1.6000000000000001E-3},{"$f":"OFFSET(Female!BC$18,'Female - Rev'!$A47-35,0)","v":-1.6999999999999999E-3},{"$f":"OFFSET(Female!BD$18,'Female - Rev'!$A47-35,0)","v":-1.1999999999999999E-3},{"$f":"OFFSET(Female!BE$18,'Female - Rev'!$A47-35,0)","v":-5.0000000000000001E-4},{"$f":"OFFSET(Female!BF$18,'Female - Rev'!$A47-35,0)","v":2.9999999999999997E-4},{"$f":"OFFSET(Female!BG$18,'Female - Rev'!$A47-35,0)","v":8.0000000000000004E-4},{"$f":"OFFSET(Female!BH$18,'Female - Rev'!$A47-35,0)","v":1.1000000000000001E-3},{"$f":"OFFSET(Female!BI$18,'Female - Rev'!$A47-35,0)","v":1.1999999999999999E-3},{"$f":"OFFSET(Female!BJ$18,'Female - Rev'!$A47-35,0)","v":1E-3},{"$f":"OFFSET(Female!BK$18,'Female - Rev'!$A47-35,0)","v":8.0000000000000004E-4},{"$f":"OFFSET(Female!BL$18,'Female - Rev'!$A47-35,0)","v":8.9999999999999998E-4},{"$f":"OFFSET(Female!BM$18,'Female - Rev'!$A47-35,0)","v":1.6999999999999999E-3},{"$f":"OFFSET(Female!BN$18,'Female - Rev'!$A47-35,0)","v":3.3E-3},{"$f":"OFFSET(Female!BO$18,'Female - Rev'!$A47-35,0)","v":5.7999999999999996E-3},{"$f":"OFFSET(Female!BP$18,'Female - Rev'!$A47-35,0)","v":6.4000000000000003E-3},{"$f":"OFFSET(Female!BQ$18,'Female - Rev'!$A47-35,0)","v":6.8999999999999999E-3},{"$f":"OFFSET(Female!BR$18,'Female - Rev'!$A47-35,0)","v":7.1999999999999998E-3},{"$f":"OFFSET(Female!BS$18,'Female - Rev'!$A47-35,0)","v":7.1999999999999998E-3},{"$f":"OFFSET(Female!BT$18,'Female - Rev'!$A47-35,0)","v":7.1000000000000004E-3},{"$f":"OFFSET(Female!BU$18,'Female - Rev'!$A47-35,0)","v":6.7999999999999996E-3},{"$f":"OFFSET(Female!BV$18,'Female - Rev'!$A47-35,0)","v":6.4999999999999997E-3},{"$f":"OFFSET(Female!BW$18,'Female - Rev'!$A47-35,0)","v":6.1999999999999998E-3},{"$f":"OFFSET(Female!BX$18,'Female - Rev'!$A47-35,0)","v":6.0000000000000001E-3},{"$f":"OFFSET(Female!BY$18,'Female - Rev'!$A47-35,0)","v":5.8999999999999999E-3},{"$f":"OFFSET(Female!BZ$18,'Female - Rev'!$A47-35,0)","v":6.0000000000000001E-3},{"$f":"OFFSET(Female!CA$18,'Female - Rev'!$A47-35,0)","v":6.4000000000000003E-3},{"$f":"OFFSET(Female!CB$18,'Female - Rev'!$A47-35,0)","v":7.1999999999999998E-3},{"$f":"OFFSET(Female!CC$18,'Female - Rev'!$A47-35,0)","v":8.2000000000000007E-3},{"$f":"OFFSET(Female!CD$18,'Female - Rev'!$A47-35,0)","v":9.4000000000000004E-3},{"$f":"OFFSET(Female!CE$18,'Female - Rev'!$A47-35,0)","v":1.06E-2},{"$f":"OFFSET(Female!CF$18,'Female - Rev'!$A47-35,0)","v":1.17E-2},{"$f":"OFFSET(Female!CG$18,'Female - Rev'!$A47-35,0)","v":1.2699999999999999E-2},{"$f":"OFFSET(Female!CH$18,'Female - Rev'!$A47-35,0)","v":1.3299999999999999E-2},{"$f":"OFFSET(Female!CI$18,'Female - Rev'!$A47-35,0)","v":1.35E-2},{"$f":"CJ47","v":1.35E-2},1.35E-2]
[50,50,{"$f":"OFFSET(Female!B$18,'Female - Rev'!$A48-35,0)","v":3.3300000000000003E-2},{"$f":"OFFSET(Female!C$18,'Female - Rev'!$A48-35,0)","v":3.15E-2},{"$f":"OFFSET(Female!D$18,'Female - Rev'!$A48-35,0)","v":2.9600000000000001E-2},{"$f":"OFFSET(Female!E$18,'Female - Rev'!$A48-35,0)","v":2.7199999999999998E-2},{"$f":"OFFSET(Female!F$18,'Female - Rev'!$A48-35,0)","v":2.4299999999999999E-2},{"$f":"OFFSET(Female!G$18,'Female - Rev'!$A48-35,0)","v":2.0899999999999998E-2},{"$f":"OFFSET(Female!H$18,'Female - Rev'!$A48-35,0)","v":1.72E-2},{"$f":"OFFSET(Female!I$18,'Female - Rev'!$A48-35,0)","v":1.35E-2},{"$f":"OFFSET(Female!J$18,'Female - Rev'!$A48-35,0)","v":9.9000000000000008E-3},{"$f":"OFFSET(Female!K$18,'Female - Rev'!$A48-35,0)","v":6.4000000000000003E-3},{"$f":"OFFSET(Female!L$18,'Female - Rev'!$A48-35,0)","v":3.2000000000000002E-3},{"$f":"OFFSET(Female!M$18,'Female - Rev'!$A48-35,0)","v":5.9999999999999995E-4},{"$f":"OFFSET(Female!N$18,'Female - Rev'!$A48-35,0)","v":-1.1999999999999999E-3},{"$f":"OFFSET(Female!O$18,'Female - Rev'!$A48-35,0)","v":-2E-3},{"$f":"OFFSET(Female!P$18,'Female - Rev'!$A48-35,0)","v":-1.8E-3},{"$f":"OFFSET(Female!Q$18,'Female - Rev'!$A48-35,0)","v":-5.0000000000000001E-4},{"$f":"OFFSET(Female!R$18,'Female - Rev'!$A48-35,0)","v":1.6000000000000001E-3},{"$f":"OFFSET(Female!S$18,'Female - Rev'!$A48-35,0)","v":4.4000000000000003E-3},{"$f":"OFFSET(Female!T$18,'Female - Rev'!$A48-35,0)","v":8.0000000000000002E-3},{"$f":"OFFSET(Female!U$18,'Female - Rev'!$A48-35,0)","v":1.2E-2},{"$f":"OFFSET(Female!V$18,'Female - Rev'!$A48-35,0)","v":1.61E-2},{"$f":"OFFSET(Female!W$18,'Female - Rev'!$A48-35,0)","v":1.9900000000000001E-2},{"$f":"OFFSET(Female!X$18,'Female - Rev'!$A48-35,0)","v":2.3199999999999998E-2},{"$f":"OFFSET(Female!Y$18,'Female - Rev'!$A48-35,0)","v":2.5499999999999998E-2},{"$f":"OFFSET(Female!Z$18,'Female - Rev'!$A48-35,0)","v":2.6700000000000002E-2},{"$f":"OFFSET(Female!AA$18,'Female - Rev'!$A48-35,0)","v":2.69E-2},{"$f":"OFFSET(Female!AB$18,'Female - Rev'!$A48-35,0)","v":2.63E-2},{"$f":"OFFSET(Female!AC$18,'Female - Rev'!$A48-35,0)","v":2.5000000000000001E-2},{"$f":"OFFSET(Female!AD$18,'Female - Rev'!$A48-35,0)","v":2.3400000000000001E-2},{"$f":"OFFSET(Female!AE$18,'Female - Rev'!$A48-35,0)","v":2.1499999999999998E-2},{"$f":"OFFSET(Female!AF$18,'Female - Rev'!$A48-35,0)","v":1.9699999999999999E-2},{"$f":"OFFSET(Female!AG$18,'Female - Rev'!$A48-35,0)","v":1.7899999999999999E-2},{"$f":"OFFSET(Female!AH$18,'Female - Rev'!$A48-35,0)","v":1.6199999999999999E-2},{"$f":"OFFSET(Female!AI$18,'Female - Rev'!$A48-35,0)","v":1.4800000000000001E-2},{"$f":"OFFSET(Female!AJ$18,'Female - Rev'!$A48-35,0)","v":1.3899999999999999E-2},{"$f":"OFFSET(Female!AK$18,'Female - Rev'!$A48-35,0)","v":1.3599999999999999E-2},{"$f":"OFFSET(Female!AL$18,'Female - Rev'!$A48-35,0)","v":1.3599999999999999E-2},{"$f":"OFFSET(Female!AM$18,'Female - Rev'!$A48-35,0)","v":1.3899999999999999E-2},{"$f":"OFFSET(Female!AN$18,'Female - Rev'!$A48-35,0)","v":1.4200000000000001E-2},{"$f":"OFFSET(Female!AO$18,'Female - Rev'!$A48-35,0)","v":1.4200000000000001E-2},{"$f":"OFFSET(Female!AP$18,'Female - Rev'!$A48-35,0)","v":1.41E-2},{"$f":"OFFSET(Female!AQ$18,'Female - Rev'!$A48-35,0)","v":1.3899999999999999E-2},{"$f":"OFFSET(Female!AR$18,'Female - Rev'!$A48-35,0)","v":1.3599999999999999E-2},{"$f":"OFFSET(Female!AS$18,'Female - Rev'!$A48-35,0)","v":1.34E-2},{"$f":"OFFSET(Female!AT$18,'Female - Rev'!$A48-35,0)","v":1.2999999999999999E-2},{"$f":"OFFSET(Female!AU$18,'Female - Rev'!$A48-35,0)","v":1.21E-2},{"$f":"OFFSET(Female!AV$18,'Female - Rev'!$A48-35,0)","v":1.03E-2},{"$f":"OFFSET(Female!AW$18,'Female - Rev'!$A48-35,0)","v":7.4999999999999997E-3},{"$f":"OFFSET(Female!AX$18,'Female - Rev'!$A48-35,0)","v":4.1000000000000003E-3},{"$f":"OFFSET(Female!AY$18,'Female - Rev'!$A48-35,0)","v":5.9999999999999995E-4},{"$f":"OFFSET(Female!AZ$18,'Female - Rev'!$A48-35,0)","v":-2.0999999999999999E-3},{"$f":"OFFSET(Female!BA$18,'Female - Rev'!$A48-35,0)","v":-3.8E-3},{"$f":"OFFSET(Female!BB$18,'Female - Rev'!$A48-35,0)","v":-4.3E-3},{"$f":"OFFSET(Female!BC$18,'Female - Rev'!$A48-35,0)","v":-3.8E-3},{"$f":"OFFSET(Female!BD$18,'Female - Rev'!$A48-35,0)","v":-2.5999999999999999E-3},{"$f":"OFFSET(Female!BE$18,'Female - Rev'!$A48-35,0)","v":-1E-3},{"$f":"OFFSET(Female!BF$18,'Female - Rev'!$A48-35,0)","v":5.9999999999999995E-4},{"$f":"OFFSET(Female!BG$18,'Female - Rev'!$A48-35,0)","v":2E-3},{"$f":"OFFSET(Female!BH$18,'Female - Rev'!$A48-35,0)","v":3.0000000000000001E-3},{"$f":"OFFSET(Female!BI$18,'Female - Rev'!$A48-35,0)","v":3.5999999999999999E-3},{"$f":"OFFSET(Female!BJ$18,'Female - Rev'!$A48-35,0)","v":3.7000000000000002E-3},{"$f":"OFFSET(Female!BK$18,'Female - Rev'!$A48-35,0)","v":3.5999999999999999E-3},{"$f":"OFFSET(Female!BL$18,'Female - Rev'!$A48-35,0)","v":3.5000000000000001E-3},{"$f":"OFFSET(Female!BM$18,'Female - Rev'!$A48-35,0)","v":3.8999999999999998E-3},{"$f":"OFFSET(Female!BN$18,'Female - Rev'!$A48-35,0)","v":5.0000000000000001E-3},{"$f":"OFFSET(Female!BO$18,'Female - Rev'!$A48-35,0)","v":6.7999999999999996E-3},{"$f":"OFFSET(Female!BP$18,'Female - Rev'!$A48-35,0)","v":7.1000000000000004E-3},{"$f":"OFFSET(Female!BQ$18,'Female - Rev'!$A48-35,0)","v":7.1000000000000004E-3},{"$f":"OFFSET(Female!BR$18,'Female - Rev'!$A48-35,0)","v":6.8999999999999999E-3},{"$f":"OFFSET(Female!BS$18,'Female - Rev'!$A48-35,0)","v":6.6E-3},{"$f":"OFFSET(Female!BT$18,'Female - Rev'!$A48-35,0)","v":6.1000000000000004E-3},{"$f":"OFFSET(Female!BU$18,'Female - Rev'!$A48-35,0)","v":5.5999999999999999E-3},{"$f":"OFFSET(Female!BV$18,'Female - Rev'!$A48-35,0)","v":5.1000000000000004E-3},{"$f":"OFFSET(Female!BW$18,'Female - Rev'!$A48-35,0)","v":4.7999999999999996E-3},{"$f":"OFFSET(Female!BX$18,'Female - Rev'!$A48-35,0)","v":4.5999999999999999E-3},{"$f":"OFFSET(Female!BY$18,'Female - Rev'!$A48-35,0)","v":4.7000000000000002E-3},{"$f":"OFFSET(Female!BZ$18,'Female - Rev'!$A48-35,0)","v":5.0000000000000001E-3},{"$f":"OFFSET(Female!CA$18,'Female - Rev'!$A48-35,0)","v":5.5999999999999999E-3},{"$f":"OFFSET(Female!CB$18,'Female - Rev'!$A48-35,0)","v":6.6E-3},{"$f":"OFFSET(Female!CC$18,'Female - Rev'!$A48-35,0)","v":7.7999999999999996E-3},{"$f":"OFFSET(Female!CD$18,'Female - Rev'!$A48-35,0)","v":9.1000000000000004E-3},{"$f":"OFFSET(Female!CE$18,'Female - Rev'!$A48-35,0)","v":1.0500000000000001E-2},{"$f":"OFFSET(Female!CF$18,'Female - Rev'!$A48-35,0)","v":1.17E-2},{"$f":"OFFSET(Female!CG$18,'Female - Rev'!$A48-35,0)","v":1.2699999999999999E-2},{"$f":"OFFSET(Female!CH$18,'Female - Rev'!$A48-35,0)","v":1.3299999999999999E-2},{"$f":"OFFSET(Female!CI$18,'Female - Rev'!$A48-35,0)","v":1.35E-2},{"$f":"CJ48","v":1.35E-2},1.35E-2]
[49,49,{"$f":"OFFSET(Female!B$18,'Female - Rev'!$A49-35,0)","v":3.5499999999999997E-2},{"$f":"OFFSET(Female!C$18,'Female - Rev'!$A49-35,0)","v":3.3099999999999997E-2},{"$f":"OFFSET(Female!D$18,'Female - Rev'!$A49-35,0)","v":3.0599999999999999E-2},{"$f":"OFFSET(Female!E$18,'Female - Rev'!$A49-35,0)","v":2.7699999999999999E-2},{"$f":"OFFSET(Female!F$18,'Female - Rev'!$A49-35,0)","v":2.4400000000000002E-2},{"$f":"OFFSET(Female!G$18,'Female - Rev'!$A49-35,0)","v":2.07E-2},{"$f":"OFFSET(Female!H$18,'Female - Rev'!$A49-35,0)","v":1.6799999999999999E-2},{"$f":"OFFSET(Female!I$18,'Female - Rev'!$A49-35,0)","v":1.29E-2},{"$f":"OFFSET(Female!J$18,'Female - Rev'!$A49-35,0)","v":9.1999999999999998E-3},{"$f":"OFFSET(Female!K$18,'Female - Rev'!$A49-35,0)","v":5.5999999999999999E-3},{"$f":"OFFSET(Female!L$18,'Female - Rev'!$A49-35,0)","v":2.5000000000000001E-3},{"$f":"OFFSET(Female!M$18,'Female - Rev'!$A49-35,0)","v":-1E-4},{"$f":"OFFSET(Female!N$18,'Female - Rev'!$A49-35,0)","v":-1.9E-3},{"$f":"OFFSET(Female!O$18,'Female - Rev'!$A49-35,0)","v":-2.5999999999999999E-3},{"$f":"OFFSET(Female!P$18,'Female - Rev'!$A49-35,0)","v":-2.3E-3},{"$f":"OFFSET(Female!Q$18,'Female - Rev'!$A49-35,0)","v":-1E-3},{"$f":"OFFSET(Female!R$18,'Female - Rev'!$A49-35,0)","v":1.2999999999999999E-3},{"$f":"OFFSET(Female!S$18,'Female - Rev'!$A49-35,0)","v":4.3E-3},{"$f":"OFFSET(Female!T$18,'Female - Rev'!$A49-35,0)","v":7.9000000000000008E-3},{"$f":"OFFSET(Female!U$18,'Female - Rev'!$A49-35,0)","v":1.2E-2},{"$f":"OFFSET(Female!V$18,'Female - Rev'!$A49-35,0)","v":1.6199999999999999E-2},{"$f":"OFFSET(Female!W$18,'Female - Rev'!$A49-35,0)","v":2.0199999999999999E-2},{"$f":"OFFSET(Female!X$18,'Female - Rev'!$A49-35,0)","v":2.3699999999999999E-2},{"$f":"OFFSET(Female!Y$18,'Female - Rev'!$A49-35,0)","v":2.63E-2},{"$f":"OFFSET(Female!Z$18,'Female - Rev'!$A49-35,0)","v":2.7900000000000001E-2},{"$f":"OFFSET(Female!AA$18,'Female - Rev'!$A49-35,0)","v":2.8299999999999999E-2},{"$f":"OFFSET(Female!AB$18,'Female - Rev'!$A49-35,0)","v":2.7799999999999998E-2},{"$f":"OFFSET(Female!AC$18,'Female - Rev'!$A49-35,0)","v":2.6700000000000002E-2},{"$f":"OFFSET(Female!AD$18,'Female - Rev'!$A49-35,0)","v":2.5100000000000001E-2},{"$f":"OFFSET(Female!AE$18,'Female - Rev'!$A49-35,0)","v":2.3300000000000001E-2},{"$f":"OFFSET(Female!AF$18,'Female - Rev'!$A49-35,0)","v":2.1499999999999998E-2},{"$f":"OFFSET(Female!AG$18,'Female - Rev'!$A49-35,0)","v":1.9699999999999999E-2},{"$f":"OFFSET(Female!AH$18,'Female - Rev'!$A49-35,0)","v":1.7999999999999999E-2},{"$f":"OFFSET(Female!AI$18,'Female - Rev'!$A49-35,0)","v":1.6500000000000001E-2},{"$f":"OFFSET(Female!AJ$18,'Female - Rev'!$A49-35,0)","v":1.54E-2},{"$f":"OFFSET(Female!AK$18,'Female - Rev'!$A49-35,0)","v":1.47E-2},{"$f":"OFFSET(Female!AL$18,'Female - Rev'!$A49-35,0)","v":1.44E-2},{"$f":"OFFSET(Female!AM$18,'Female - Rev'!$A49-35,0)","v":1.4200000000000001E-2},{"$f":"OFFSET(Female!AN$18,'Female - Rev'!$A49-35,0)","v":1.4E-2},{"$f":"OFFSET(Female!AO$18,'Female - Rev'!$A49-35,0)","v":1.37E-2},{"$f":"OFFSET(Female!AP$18,'Female - Rev'!$A49-35,0)","v":1.3299999999999999E-2},{"$f":"OFFSET(Female!AQ$18,'Female - Rev'!$A49-35,0)","v":1.29E-2},{"$f":"OFFSET(Female!AR$18,'Female - Rev'!$A49-35,0)","v":1.2500000000000001E-2},{"$f":"OFFSET(Female!AS$18,'Female - Rev'!$A49-35,0)","v":1.21E-2},{"$f":"OFFSET(Female!AT$18,'Female - Rev'!$A49-35,0)","v":1.1599999999999999E-2},{"$f":"OFFSET(Female!AU$18,'Female - Rev'!$A49-35,0)","v":1.04E-2},{"$f":"OFFSET(Female!AV$18,'Female - Rev'!$A49-35,0)","v":8.3000000000000001E-3},{"$f":"OFFSET(Female!AW$18,'Female - Rev'!$A49-35,0)","v":5.1000000000000004E-3},{"$f":"OFFSET(Female!AX$18,'Female - Rev'!$A49-35,0)","v":1.2999999999999999E-3},{"$f":"OFFSET(Female!AY$18,'Female - Rev'!$A49-35,0)","v":-2.3E-3},{"$f":"OFFSET(Female!AZ$18,'Female - Rev'!$A49-35,0)","v":-5.1000000000000004E-3},{"$f":"OFFSET(Female!BA$18,'Female - Rev'!$A49-35,0)","v":-6.4999999999999997E-3},{"$f":"OFFSET(Female!BB$18,'Female - Rev'!$A49-35,0)","v":-6.4000000000000003E-3},{"$f":"OFFSET(Female!BC$18,'Female - Rev'!$A49-35,0)","v":-5.1000000000000004E-3},{"$f":"OFFSET(Female!BD$18,'Female - Rev'!$A49-35,0)","v":-3.0999999999999999E-3},{"$f":"OFFSET(Female!BE$18,'Female - Rev'!$A49-35,0)","v":-5.9999999999999995E-4},{"$f":"OFFSET(Female!BF$18,'Female - Rev'!$A49-35,0)","v":1.8E-3},{"$f":"OFFSET(Female!BG$18,'Female - Rev'!$A49-35,0)","v":3.8999999999999998E-3},{"$f":"OFFSET(Female!BH$18,'Female - Rev'!$A49-35,0)","v":5.4000000000000003E-3},{"$f":"OFFSET(Female!BI$18,'Female - Rev'!$A49-35,0)","v":6.3E-3},{"$f":"OFFSET(Female!BJ$18,'Female - Rev'!$A49-35,0)","v":6.4999999999999997E-3},{"$f":"OFFSET(Female!BK$18,'Female - Rev'!$A49-35,0)","v":6.1999999999999998E-3},{"$f":"OFFSET(Female!BL$18,'Female - Rev'!$A49-35,0)","v":5.7000000000000002E-3},{"$f":"OFFSET(Female!BM$18,'Female - Rev'!$A49-35,0)","v":5.5999999999999999E-3},{"$f":"OFFSET(Female!BN$18,'Female - Rev'!$A49-35,0)","v":6.0000000000000001E-3},{"$f":"OFFSET(Female!BO$18,'Female - Rev'!$A49-35,0)","v":7.1000000000000004E-3},{"$f":"OFFSET(Female!BP$18,'Female - Rev'!$A49-35,0)","v":6.8999999999999999E-3},{"$f":"OFFSET(Female!BQ$18,'Female - Rev'!$A49-35,0)","v":6.4999999999999997E-3},{"$f":"OFFSET(Female!BR$18,'Female - Rev'!$A49-35,0)","v":6.0000000000000001E-3},{"$f":"OFFSET(Female!BS$18,'Female - Rev'!$A49-35,0)","v":5.3E-3},{"$f":"OFFSET(Female!BT$18,'Female - Rev'!$A49-35,0)","v":4.5999999999999999E-3},{"$f":"OFFSET(Female!BU$18,'Female - Rev'!$A49-35,0)","v":4.0000000000000001E-3},{"$f":"OFFSET(Female!BV$18,'Female - Rev'!$A49-35,0)","v":3.5999999999999999E-3},{"$f":"OFFSET(Female!BW$18,'Female - Rev'!$A49-35,0)","v":3.3E-3},{"$f":"OFFSET(Female!BX$18,'Female - Rev'!$A49-35,0)","v":3.2000000000000002E-3},{"$f":"OFFSET(Female!BY$18,'Female - Rev'!$A49-35,0)","v":3.5000000000000001E-3},{"$f":"OFFSET(Female!BZ$18,'Female - Rev'!$A49-35,0)","v":4.0000000000000001E-3},{"$f":"OFFSET(Female!CA$18,'Female - Rev'!$A49-35,0)","v":4.8999999999999998E-3},{"$f":"OFFSET(Female!CB$18,'Female - Rev'!$A49-35,0)","v":6.1000000000000004E-3},{"$f":"OFFSET(Female!CC$18,'Female - Rev'!$A49-35,0)","v":7.4999999999999997E-3},{"$f":"OFFSET(Female!CD$18,'Female - Rev'!$A49-35,0)","v":8.9999999999999993E-3},{"$f":"OFFSET(Female!CE$18,'Female - Rev'!$A49-35,0)","v":1.04E-2},{"$f":"OFFSET(Female!CF$18,'Female - Rev'!$A49-35,0)","v":1.17E-2},{"$f":"OFFSET(Female!CG$18,'Female - Rev'!$A49-35,0)","v":1.2699999999999999E-2},{"$f":"OFFSET(Female!CH$18,'Female - Rev'!$A49-35,0)","v":1.3299999999999999E-2},{"$f":"OFFSET(Female!CI$18,'Female - Rev'!$A49-35,0)","v":1.35E-2},{"$f":"CJ49","v":1.35E-2},1.35E-2]
[48,48,{"$f":"OFFSET(Female!B$18,'Female - Rev'!$A50-35,0)","v":3.7699999999999997E-2},{"$f":"OFFSET(Female!C$18,'Female - Rev'!$A50-35,0)","v":3.4700000000000002E-2},{"$f":"OFFSET(Female!D$18,'Female - Rev'!$A50-35,0)","v":3.1600000000000003E-2},{"$f":"OFFSET(Female!E$18,'Female - Rev'!$A50-35,0)","v":2.8199999999999999E-2},{"$f":"OFFSET(Female!F$18,'Female - Rev'!$A50-35,0)","v":2.4500000000000001E-2},{"$f":"OFFSET(Female!G$18,'Female - Rev'!$A50-35,0)","v":2.0400000000000001E-2},{"$f":"OFFSET(Female!H$18,'Female - Rev'!$A50-35,0)","v":1.6400000000000001E-2},{"$f":"OFFSET(Female!I$18,'Female - Rev'!$A50-35,0)","v":1.24E-2},{"$f":"OFFSET(Female!J$18,'Female - Rev'!$A50-35,0)","v":8.6999999999999994E-3},{"$f":"OFFSET(Female!K$18,'Female - Rev'!$A50-35,0)","v":5.1000000000000004E-3},{"$f":"OFFSET(Female!L$18,'Female - Rev'!$A50-35,0)","v":1.9E-3},{"$f":"OFFSET(Female!M$18,'Female - Rev'!$A50-35,0)","v":-6.9999999999999999E-4},{"$f":"OFFSET(Female!N$18,'Female - Rev'!$A50-35,0)","v":-2.3999999999999998E-3},{"$f":"OFFSET(Female!O$18,'Female - Rev'!$A50-35,0)","v":-3.0999999999999999E-3},{"$f":"OFFSET(Female!P$18,'Female - Rev'!$A50-35,0)","v":-2.8E-3},{"$f":"OFFSET(Female!Q$18,'Female - Rev'!$A50-35,0)","v":-1.5E-3},{"$f":"OFFSET(Female!R$18,'Female - Rev'!$A50-35,0)","v":8.0000000000000004E-4},{"$f":"OFFSET(Female!S$18,'Female - Rev'!$A50-35,0)","v":3.8999999999999998E-3},{"$f":"OFFSET(Female!T$18,'Female - Rev'!$A50-35,0)","v":7.7000000000000002E-3},{"$f":"OFFSET(Female!U$18,'Female - Rev'!$A50-35,0)","v":1.1900000000000001E-2},{"$f":"OFFSET(Female!V$18,'Female - Rev'!$A50-35,0)","v":1.6199999999999999E-2},{"$f":"OFFSET(Female!W$18,'Female - Rev'!$A50-35,0)","v":2.0500000000000001E-2},{"$f":"OFFSET(Female!X$18,'Female - Rev'!$A50-35,0)","v":2.4299999999999999E-2},{"$f":"OFFSET(Female!Y$18,'Female - Rev'!$A50-35,0)","v":2.7300000000000001E-2},{"$f":"OFFSET(Female!Z$18,'Female - Rev'!$A50-35,0)","v":2.9100000000000001E-2},{"$f":"OFFSET(Female!AA$18,'Female - Rev'!$A50-35,0)","v":2.98E-2},{"$f":"OFFSET(Female!AB$18,'Female - Rev'!$A50-35,0)","v":2.9499999999999998E-2},{"$f":"OFFSET(Female!AC$18,'Female - Rev'!$A50-35,0)","v":2.8500000000000001E-2},{"$f":"OFFSET(Female!AD$18,'Female - Rev'!$A50-35,0)","v":2.69E-2},{"$f":"OFFSET(Female!AE$18,'Female - Rev'!$A50-35,0)","v":2.5100000000000001E-2},{"$f":"OFFSET(Female!AF$18,'Female - Rev'!$A50-35,0)","v":2.3199999999999998E-2},{"$f":"OFFSET(Female!AG$18,'Female - Rev'!$A50-35,0)","v":2.1399999999999999E-2},{"$f":"OFFSET(Female!AH$18,'Female - Rev'!$A50-35,0)","v":1.9699999999999999E-2},{"$f":"OFFSET(Female!AI$18,'Female - Rev'!$A50-35,0)","v":1.7999999999999999E-2},{"$f":"OFFSET(Female!AJ$18,'Female - Rev'!$A50-35,0)","v":1.67E-2},{"$f":"OFFSET(Female!AK$18,'Female - Rev'!$A50-35,0)","v":1.5699999999999999E-2},{"$f":"OFFSET(Female!AL$18,'Female - Rev'!$A50-35,0)","v":1.49E-2},{"$f":"OFFSET(Female!AM$18,'Female - Rev'!$A50-35,0)","v":1.43E-2},{"$f":"OFFSET(Female!AN$18,'Female - Rev'!$A50-35,0)","v":1.37E-2},{"$f":"OFFSET(Female!AO$18,'Female - Rev'!$A50-35,0)","v":1.29E-2},{"$f":"OFFSET(Female!AP$18,'Female - Rev'!$A50-35,0)","v":1.2200000000000001E-2},{"$f":"OFFSET(Female!AQ$18,'Female - Rev'!$A50-35,0)","v":1.15E-2},{"$f":"OFFSET(Female!AR$18,'Female - Rev'!$A50-35,0)","v":1.09E-2},{"$f":"OFFSET(Female!AS$18,'Female - Rev'!$A50-35,0)","v":1.04E-2},{"$f":"OFFSET(Female!AT$18,'Female - Rev'!$A50-35,0)","v":9.7000000000000003E-3},{"$f":"OFFSET(Female!AU$18,'Female - Rev'!$A50-35,0)","v":8.3999999999999995E-3},{"$f":"OFFSET(Female!AV$18,'Female - Rev'!$A50-35,0)","v":5.8999999999999999E-3},{"$f":"OFFSET(Female!AW$18,'Female - Rev'!$A50-35,0)","v":2.5000000000000001E-3},{"$f":"OFFSET(Female!AX$18,'Female - Rev'!$A50-35,0)","v":-1.5E-3},{"$f":"OFFSET(Female!AY$18,'Female - Rev'!$A50-35,0)","v":-5.1000000000000004E-3},{"$f":"OFFSET(Female!AZ$18,'Female - Rev'!$A50-35,0)","v":-7.6E-3},{"$f":"OFFSET(Female!BA$18,'Female - Rev'!$A50-35,0)","v":-8.5000000000000006E-3},{"$f":"OFFSET(Female!BB$18,'Female - Rev'!$A50-35,0)","v":-7.7000000000000002E-3},{"$f":"OFFSET(Female!BC$18,'Female - Rev'!$A50-35,0)","v":-5.4999999999999997E-3},{"$f":"OFFSET(Female!BD$18,'Female - Rev'!$A50-35,0)","v":-2.5999999999999999E-3},{"$f":"OFFSET(Female!BE$18,'Female - Rev'!$A50-35,0)","v":6.9999999999999999E-4},{"$f":"OFFSET(Female!BF$18,'Female - Rev'!$A50-35,0)","v":3.8E-3},{"$f":"OFFSET(Female!BG$18,'Female - Rev'!$A50-35,0)","v":6.3E-3},{"$f":"OFFSET(Female!BH$18,'Female - Rev'!$A50-35,0)","v":8.2000000000000007E-3},{"$f":"OFFSET(Female!BI$18,'Female - Rev'!$A50-35,0)","v":9.1000000000000004E-3},{"$f":"OFFSET(Female!BJ$18,'Female - Rev'!$A50-35,0)","v":9.1000000000000004E-3},{"$f":"OFFSET(Female!BK$18,'Female - Rev'!$A50-35,0)","v":8.3999999999999995E-3},{"$f":"OFFSET(Female!BL$18,'Female - Rev'!$A50-35,0)","v":7.4000000000000003E-3},{"$f":"OFFSET(Female!BM$18,'Female - Rev'!$A50-35,0)","v":6.6E-3},{"$f":"OFFSET(Female!BN$18,'Female - Rev'!$A50-35,0)","v":6.1999999999999998E-3},{"$f":"OFFSET(Female!BO$18,'Female - Rev'!$A50-35,0)","v":6.4999999999999997E-3},{"$f":"OFFSET(Female!BP$18,'Female - Rev'!$A50-35,0)","v":5.8999999999999999E-3},{"$f":"OFFSET(Female!BQ$18,'Female - Rev'!$A50-35,0)","v":5.1999999999999998E-3},{"$f":"OFFSET(Female!BR$18,'Female - Rev'!$A50-35,0)","v":4.4000000000000003E-3},{"$f":"OFFSET(Female!BS$18,'Female - Rev'!$A50-35,0)","v":3.5000000000000001E-3},{"$f":"OFFSET(Female!BT$18,'Female - Rev'!$A50-35,0)","v":2.8E-3},{"$f":"OFFSET(Female!BU$18,'Female - Rev'!$A50-35,0)","v":2.2000000000000001E-3},{"$f":"OFFSET(Female!BV$18,'Female - Rev'!$A50-35,0)","v":1.8E-3},{"$f":"OFFSET(Female!BW$18,'Female - Rev'!$A50-35,0)","v":1.6999999999999999E-3},{"$f":"OFFSET(Female!BX$18,'Female - Rev'!$A50-35,0)","v":1.9E-3},{"$f":"OFFSET(Female!BY$18,'Female - Rev'!$A50-35,0)","v":2.3E-3},{"$f":"OFFSET(Female!BZ$18,'Female - Rev'!$A50-35,0)","v":3.0999999999999999E-3},{"$f":"OFFSET(Female!CA$18,'Female - Rev'!$A50-35,0)","v":4.1999999999999997E-3},{"$f":"OFFSET(Female!CB$18,'Female - Rev'!$A50-35,0)","v":5.7000000000000002E-3},{"$f":"OFFSET(Female!CC$18,'Female - Rev'!$A50-35,0)","v":7.1999999999999998E-3},{"$f":"OFFSET(Female!CD$18,'Female - Rev'!$A50-35,0)","v":8.8000000000000005E-3},{"$f":"OFFSET(Female!CE$18,'Female - Rev'!$A50-35,0)","v":1.04E-2},{"$f":"OFFSET(Female!CF$18,'Female - Rev'!$A50-35,0)","v":1.17E-2},{"$f":"OFFSET(Female!CG$18,'Female - Rev'!$A50-35,0)","v":1.2699999999999999E-2},{"$f":"OFFSET(Female!CH$18,'Female - Rev'!$A50-35,0)","v":1.3299999999999999E-2},{"$f":"OFFSET(Female!CI$18,'Female - Rev'!$A50-35,0)","v":1.35E-2},{"$f":"CJ50","v":1.35E-2},1.35E-2]
[47,47,{"$f":"OFFSET(Female!B$18,'Female - Rev'!$A51-35,0)","v":3.9800000000000002E-2},{"$f":"OFFSET(Female!C$18,'Female - Rev'!$A51-35,0)","v":3.6200000000000003E-2},{"$f":"OFFSET(Female!D$18,'Female - Rev'!$A51-35,0)","v":3.2599999999999997E-2},{"$f":"OFFSET(Female!E$18,'Female - Rev'!$A51-35,0)","v":2.8799999999999999E-2},{"$f":"OFFSET(Female!F$18,'Female - Rev'!$A51-35,0)","v":2.46E-2},{"$f":"OFFSET(Female!G$18,'Female - Rev'!$A51-35,0)","v":2.0400000000000001E-2},{"$f":"OFFSET(Female!H$18,'Female - Rev'!$A51-35,0)","v":1.6199999999999999E-2},{"$f":"OFFSET(Female!I$18,'Female - Rev'!$A51-35,0)","v":1.2200000000000001E-2},{"$f":"OFFSET(Female!J$18,'Female - Rev'!$A51-35,0)","v":8.3000000000000001E-3},{"$f":"OFFSET(Female!K$18,'Female - Rev'!$A51-35,0)","v":4.7000000000000002E-3},{"$f":"OFFSET(Female!L$18,'Female - Rev'!$A51-35,0)","v":1.5E-3},{"$f":"OFFSET(Female!M$18,'Female - Rev'!$A51-35,0)","v":-1.1000000000000001E-3},{"$f":"OFFSET(Female!N$18,'Female - Rev'!$A51-35,0)","v":-2.8999999999999998E-3},{"$f":"OFFSET(Female!O$18,'Female - Rev'!$A51-35,0)","v":-3.7000000000000002E-3},{"$f":"OFFSET(Female!P$18,'Female - Rev'!$A51-35,0)","v":-3.3999999999999998E-3},{"$f":"OFFSET(Female!Q$18,'Female - Rev'!$A51-35,0)","v":-2.0999999999999999E-3},{"$f":"OFFSET(Female!R$18,'Female - Rev'!$A51-35,0)","v":1E-4},{"$f":"OFFSET(Female!S$18,'Female - Rev'!$A51-35,0)","v":3.3E-3},{"$f":"OFFSET(Female!T$18,'Female - Rev'!$A51-35,0)","v":7.1999999999999998E-3},{"$f":"OFFSET(Female!U$18,'Female - Rev'!$A51-35,0)","v":1.1599999999999999E-2},{"$f":"OFFSET(Female!V$18,'Female - Rev'!$A51-35,0)","v":1.6199999999999999E-2},{"$f":"OFFSET(Female!W$18,'Female - Rev'!$A51-35,0)","v":2.0799999999999999E-2},{"$f":"OFFSET(Female!X$18,'Female - Rev'!$A51-35,0)","v":2.4899999999999999E-2},{"$f":"OFFSET(Female!Y$18,'Female - Rev'!$A51-35,0)","v":2.8299999999999999E-2},{"$f":"OFFSET(Female!Z$18,'Female - Rev'!$A51-35,0)","v":3.0499999999999999E-2},{"$f":"OFFSET(Female!AA$18,'Female - Rev'!$A51-35,0)","v":3.15E-2},{"$f":"OFFSET(Female!AB$18,'Female - Rev'!$A51-35,0)","v":3.1399999999999997E-2},{"$f":"OFFSET(Female!AC$18,'Female - Rev'!$A51-35,0)","v":3.04E-2},{"$f":"OFFSET(Female!AD$18,'Female - Rev'!$A51-35,0)","v":2.8799999999999999E-2},{"$f":"OFFSET(Female!AE$18,'Female - Rev'!$A51-35,0)","v":2.69E-2},{"$f":"OFFSET(Female!AF$18,'Female - Rev'!$A51-35,0)","v":2.5000000000000001E-2},{"$f":"OFFSET(Female!AG$18,'Female - Rev'!$A51-35,0)","v":2.3099999999999999E-2},{"$f":"OFFSET(Female!AH$18,'Female - Rev'!$A51-35,0)","v":2.12E-2},{"$f":"OFFSET(Female!AI$18,'Female - Rev'!$A51-35,0)","v":1.9400000000000001E-2},{"$f":"OFFSET(Female!AJ$18,'Female - Rev'!$A51-35,0)","v":1.78E-2},{"$f":"OFFSET(Female!AK$18,'Female - Rev'!$A51-35,0)","v":1.6500000000000001E-2},{"$f":"OFFSET(Female!AL$18,'Female - Rev'!$A51-35,0)","v":1.5299999999999999E-2},{"$f":"OFFSET(Female!AM$18,'Female - Rev'!$A51-35,0)","v":1.4200000000000001E-2},{"$f":"OFFSET(Female!AN$18,'Female - Rev'!$A51-35,0)","v":1.2999999999999999E-2},{"$f":"OFFSET(Female!AO$18,'Female - Rev'!$A51-35,0)","v":1.18E-2},{"$f":"OFFSET(Female!AP$18,'Female - Rev'!$A51-35,0)","v":1.0699999999999999E-2},{"$f":"OFFSET(Female!AQ$18,'Female - Rev'!$A51-35,0)","v":9.7000000000000003E-3},{"$f":"OFFSET(Female!AR$18,'Female - Rev'!$A51-35,0)","v":8.8999999999999999E-3},{"$f":"OFFSET(Female!AS$18,'Female - Rev'!$A51-35,0)","v":8.2000000000000007E-3},{"$f":"OFFSET(Female!AT$18,'Female - Rev'!$A51-35,0)","v":7.4999999999999997E-3},{"$f":"OFFSET(Female!AU$18,'Female - Rev'!$A51-35,0)","v":6.1000000000000004E-3},{"$f":"OFFSET(Female!AV$18,'Female - Rev'!$A51-35,0)","v":3.5000000000000001E-3},{"$f":"OFFSET(Female!AW$18,'Female - Rev'!$A51-35,0)","v":0},{"$f":"OFFSET(Female!AX$18,'Female - Rev'!$A51-35,0)","v":-3.8999999999999998E-3},{"$f":"OFFSET(Female!AY$18,'Female - Rev'!$A51-35,0)","v":-7.4000000000000003E-3},{"$f":"OFFSET(Female!AZ$18,'Female - Rev'!$A51-35,0)","v":-9.4999999999999998E-3},{"$f":"OFFSET(Female!BA$18,'Female - Rev'!$A51-35,0)","v":-9.7000000000000003E-3},{"$f":"OFFSET(Female!BB$18,'Female - Rev'!$A51-35,0)","v":-8.0999999999999996E-3},{"$f":"OFFSET(Female!BC$18,'Female - Rev'!$A51-35,0)","v":-5.1000000000000004E-3},{"$f":"OFFSET(Female!BD$18,'Female - Rev'!$A51-35,0)","v":-1.2999999999999999E-3},{"$f":"OFFSET(Female!BE$18,'Female - Rev'!$A51-35,0)","v":2.7000000000000001E-3},{"$f":"OFFSET(Female!BF$18,'Female - Rev'!$A51-35,0)","v":6.3E-3},{"$f":"OFFSET(Female!BG$18,'Female - Rev'!$A51-35,0)","v":9.1000000000000004E-3},{"$f":"OFFSET(Female!BH$18,'Female - Rev'!$A51-35,0)","v":1.0999999999999999E-2},{"$f":"OFFSET(Female!BI$18,'Female - Rev'!$A51-35,0)","v":1.17E-2},{"$f":"OFFSET(Female!BJ$18,'Female - Rev'!$A51-35,0)","v":1.1299999999999999E-2},{"$f":"OFFSET(Female!BK$18,'Female - Rev'!$A51-35,0)","v":0.01},{"$f":"OFFSET(Female!BL$18,'Female - Rev'!$A51-35,0)","v":8.3000000000000001E-3},{"$f":"OFFSET(Female!BM$18,'Female - Rev'!$A51-35,0)","v":6.7000000000000002E-3},{"$f":"OFFSET(Female!BN$18,'Female - Rev'!$A51-35,0)","v":5.5999999999999999E-3},{"$f":"OFFSET(Female!BO$18,'Female - Rev'!$A51-35,0)","v":5.1000000000000004E-3},{"$f":"OFFSET(Female!BP$18,'Female - Rev'!$A51-35,0)","v":4.1000000000000003E-3},{"$f":"OFFSET(Female!BQ$18,'Female - Rev'!$A51-35,0)","v":3.0999999999999999E-3},{"$f":"OFFSET(Female!BR$18,'Female - Rev'!$A51-35,0)","v":2.0999999999999999E-3},{"$f":"OFFSET(Female!BS$18,'Female - Rev'!$A51-35,0)","v":1.1999999999999999E-3},{"$f":"OFFSET(Female!BT$18,'Female - Rev'!$A51-35,0)","v":5.0000000000000001E-4},{"$f":"OFFSET(Female!BU$18,'Female - Rev'!$A51-35,0)","v":1E-4},{"$f":"OFFSET(Female!BV$18,'Female - Rev'!$A51-35,0)","v":-1E-4},{"$f":"OFFSET(Female!BW$18,'Female - Rev'!$A51-35,0)","v":0},{"$f":"OFFSET(Female!BX$18,'Female - Rev'!$A51-35,0)","v":5.0000000000000001E-4},{"$f":"OFFSET(Female!BY$18,'Female - Rev'!$A51-35,0)","v":1.2999999999999999E-3},{"$f":"OFFSET(Female!BZ$18,'Female - Rev'!$A51-35,0)","v":2.3E-3},{"$f":"OFFSET(Female!CA$18,'Female - Rev'!$A51-35,0)","v":3.7000000000000002E-3},{"$f":"OFFSET(Female!CB$18,'Female - Rev'!$A51-35,0)","v":5.3E-3},{"$f":"OFFSET(Female!CC$18,'Female - Rev'!$A51-35,0)","v":7.1000000000000004E-3},{"$f":"OFFSET(Female!CD$18,'Female - Rev'!$A51-35,0)","v":8.8000000000000005E-3},{"$f":"OFFSET(Female!CE$18,'Female - Rev'!$A51-35,0)","v":1.04E-2},{"$f":"OFFSET(Female!CF$18,'Female - Rev'!$A51-35,0)","v":1.17E-2},{"$f":"OFFSET(Female!CG$18,'Female - Rev'!$A51-35,0)","v":1.2699999999999999E-2},{"$f":"OFFSET(Female!CH$18,'Female - Rev'!$A51-35,0)","v":1.3299999999999999E-2},{"$f":"OFFSET(Female!CI$18,'Female - Rev'!$A51-35,0)","v":1.35E-2},{"$f":"CJ51","v":1.35E-2},1.35E-2]
[46,46,{"$f":"OFFSET(Female!B$18,'Female - Rev'!$A52-35,0)","v":4.1500000000000002E-2},{"$f":"OFFSET(Female!C$18,'Female - Rev'!$A52-35,0)","v":3.7600000000000001E-2},{"$f":"OFFSET(Female!D$18,'Female - Rev'!$A52-35,0)","v":3.3599999999999998E-2},{"$f":"OFFSET(Female!E$18,'Female - Rev'!$A52-35,0)","v":2.9399999999999999E-2},{"$f":"OFFSET(Female!F$18,'Female - Rev'!$A52-35,0)","v":2.5000000000000001E-2},{"$f":"OFFSET(Female!G$18,'Female - Rev'!$A52-35,0)","v":2.0500000000000001E-2},{"$f":"OFFSET(Female!H$18,'Female - Rev'!$A52-35,0)","v":1.6199999999999999E-2},{"$f":"OFFSET(Female!I$18,'Female - Rev'!$A52-35,0)","v":1.21E-2},{"$f":"OFFSET(Female!J$18,'Female - Rev'!$A52-35,0)","v":8.0999999999999996E-3},{"$f":"OFFSET(Female!K$18,'Female - Rev'!$A52-35,0)","v":4.4999999999999997E-3},{"$f":"OFFSET(Female!L$18,'Female - Rev'!$A52-35,0)","v":1.1999999999999999E-3},{"$f":"OFFSET(Female!M$18,'Female - Rev'!$A52-35,0)","v":-1.4E-3},{"$f":"OFFSET(Female!N$18,'Female - Rev'!$A52-35,0)","v":-3.3E-3},{"$f":"OFFSET(Female!O$18,'Female - Rev'!$A52-35,0)","v":-4.1000000000000003E-3},{"$f":"OFFSET(Female!P$18,'Female - Rev'!$A52-35,0)","v":-4.0000000000000001E-3},{"$f":"OFFSET(Female!Q$18,'Female - Rev'!$A52-35,0)","v":-2.8E-3},{"$f":"OFFSET(Female!R$18,'Female - Rev'!$A52-35,0)","v":-5.0000000000000001E-4},{"$f":"OFFSET(Female!S$18,'Female - Rev'!$A52-35,0)","v":2.7000000000000001E-3},{"$f":"OFFSET(Female!T$18,'Female - Rev'!$A52-35,0)","v":6.7000000000000002E-3},{"$f":"OFFSET(Female!U$18,'Female - Rev'!$A52-35,0)","v":1.1299999999999999E-2},{"$f":"OFFSET(Female!V$18,'Female - Rev'!$A52-35,0)","v":1.6199999999999999E-2},{"$f":"OFFSET(Female!W$18,'Female - Rev'!$A52-35,0)","v":2.1100000000000001E-2},{"$f":"OFFSET(Female!X$18,'Female - Rev'!$A52-35,0)","v":2.5700000000000001E-2},{"$f":"OFFSET(Female!Y$18,'Female - Rev'!$A52-35,0)","v":2.9399999999999999E-2},{"$f":"OFFSET(Female!Z$18,'Female - Rev'!$A52-35,0)","v":3.2000000000000001E-2},{"$f":"OFFSET(Female!AA$18,'Female - Rev'!$A52-35,0)","v":3.32E-2},{"$f":"OFFSET(Female!AB$18,'Female - Rev'!$A52-35,0)","v":3.32E-2},{"$f":"OFFSET(Female!AC$18,'Female - Rev'!$A52-35,0)","v":3.2300000000000002E-2},{"$f":"OFFSET(Female!AD$18,'Female - Rev'!$A52-35,0)","v":3.0700000000000002E-2},{"$f":"OFFSET(Female!AE$18,'Female - Rev'!$A52-35,0)","v":2.87E-2},{"$f":"OFFSET(Female!AF$18,'Female - Rev'!$A52-35,0)","v":2.6599999999999999E-2},{"$f":"OFFSET(Female!AG$18,'Female - Rev'!$A52-35,0)","v":2.46E-2},{"$f":"OFFSET(Female!AH$18,'Female - Rev'!$A52-35,0)","v":2.2499999999999999E-2},{"$f":"OFFSET(Female!AI$18,'Female - Rev'!$A52-35,0)","v":2.0500000000000001E-2},{"$f":"OFFSET(Female!AJ$18,'Female - Rev'!$A52-35,0)","v":1.8599999999999998E-2},{"$f":"OFFSET(Female!AK$18,'Female - Rev'!$A52-35,0)","v":1.6899999999999998E-2},{"$f":"OFFSET(Female!AL$18,'Female - Rev'!$A52-35,0)","v":1.5299999999999999E-2},{"$f":"OFFSET(Female!AM$18,'Female - Rev'!$A52-35,0)","v":1.38E-2},{"$f":"OFFSET(Female!AN$18,'Female - Rev'!$A52-35,0)","v":1.21E-2},{"$f":"OFFSET(Female!AO$18,'Female - Rev'!$A52-35,0)","v":1.04E-2},{"$f":"OFFSET(Female!AP$18,'Female - Rev'!$A52-35,0)","v":8.8000000000000005E-3},{"$f":"OFFSET(Female!AQ$18,'Female - Rev'!$A52-35,0)","v":7.4999999999999997E-3},{"$f":"OFFSET(Female!AR$18,'Female - Rev'!$A52-35,0)","v":6.4000000000000003E-3},{"$f":"OFFSET(Female!AS$18,'Female - Rev'!$A52-35,0)","v":5.7000000000000002E-3},{"$f":"OFFSET(Female!AT$18,'Female - Rev'!$A52-35,0)","v":5.0000000000000001E-3},{"$f":"OFFSET(Female!AU$18,'Female - Rev'!$A52-35,0)","v":3.5999999999999999E-3},{"$f":"OFFSET(Female!AV$18,'Female - Rev'!$A52-35,0)","v":1.1999999999999999E-3},{"$f":"OFFSET(Female!AW$18,'Female - Rev'!$A52-35,0)","v":-2.2000000000000001E-3},{"$f":"OFFSET(Female!AX$18,'Female - Rev'!$A52-35,0)","v":-5.8999999999999999E-3},{"$f":"OFFSET(Female!AY$18,'Female - Rev'!$A52-35,0)","v":-8.9999999999999993E-3},{"$f":"OFFSET(Female!AZ$18,'Female - Rev'!$A52-35,0)","v":-1.06E-2},{"$f":"OFFSET(Female!BA$18,'Female - Rev'!$A52-35,0)","v":-1.01E-2},{"$f":"OFFSET(Female!BB$18,'Female - Rev'!$A52-35,0)","v":-7.7000000000000002E-3},{"$f":"OFFSET(Female!BC$18,'Female - Rev'!$A52-35,0)","v":-3.8999999999999998E-3},{"$f":"OFFSET(Female!BD$18,'Female - Rev'!$A52-35,0)","v":5.9999999999999995E-4},{"$f":"OFFSET(Female!BE$18,'Female - Rev'!$A52-35,0)","v":5.1999999999999998E-3},{"$f":"OFFSET(Female!BF$18,'Female - Rev'!$A52-35,0)","v":9.1000000000000004E-3},{"$f":"OFFSET(Female!BG$18,'Female - Rev'!$A52-35,0)","v":1.2E-2},{"$f":"OFFSET(Female!BH$18,'Female - Rev'!$A52-35,0)","v":1.3599999999999999E-2},{"$f":"OFFSET(Female!BI$18,'Female - Rev'!$A52-35,0)","v":1.4E-2},{"$f":"OFFSET(Female!BJ$18,'Female - Rev'!$A52-35,0)","v":1.29E-2},{"$f":"OFFSET(Female!BK$18,'Female - Rev'!$A52-35,0)","v":1.09E-2},{"$f":"OFFSET(Female!BL$18,'Female - Rev'!$A52-35,0)","v":8.3999999999999995E-3},{"$f":"OFFSET(Female!BM$18,'Female - Rev'!$A52-35,0)","v":6.0000000000000001E-3},{"$f":"OFFSET(Female!BN$18,'Female - Rev'!$A52-35,0)","v":4.1000000000000003E-3},{"$f":"OFFSET(Female!BO$18,'Female - Rev'!$A52-35,0)","v":2.8999999999999998E-3},{"$f":"OFFSET(Female!BP$18,'Female - Rev'!$A52-35,0)","v":1.6000000000000001E-3},{"$f":"OFFSET(Female!BQ$18,'Female - Rev'!$A52-35,0)","v":4.0000000000000002E-4},{"$f":"OFFSET(Female!BR$18,'Female - Rev'!$A52-35,0)","v":-5.9999999999999995E-4},{"$f":"OFFSET(Female!BS$18,'Female - Rev'!$A52-35,0)","v":-1.5E-3},{"$f":"OFFSET(Female!BT$18,'Female - Rev'!$A52-35,0)","v":-2E-3},{"$f":"OFFSET(Female!BU$18,'Female - Rev'!$A52-35,0)","v":-2.2000000000000001E-3},{"$f":"OFFSET(Female!BV$18,'Female - Rev'!$A52-35,0)","v":-2.0999999999999999E-3},{"$f":"OFFSET(Female!BW$18,'Female - Rev'!$A52-35,0)","v":-1.5E-3},{"$f":"OFFSET(Female!BX$18,'Female - Rev'!$A52-35,0)","v":-6.9999999999999999E-4},{"$f":"OFFSET(Female!BY$18,'Female - Rev'!$A52-35,0)","v":2.9999999999999997E-4},{"$f":"OFFSET(Female!BZ$18,'Female - Rev'!$A52-35,0)","v":1.6999999999999999E-3},{"$f":"OFFSET(Female!CA$18,'Female - Rev'!$A52-35,0)","v":3.3E-3},{"$f":"OFFSET(Female!CB$18,'Female - Rev'!$A52-35,0)","v":5.1000000000000004E-3},{"$f":"OFFSET(Female!CC$18,'Female - Rev'!$A52-35,0)","v":7.0000000000000001E-3},{"$f":"OFFSET(Female!CD$18,'Female - Rev'!$A52-35,0)","v":8.8000000000000005E-3},{"$f":"OFFSET(Female!CE$18,'Female - Rev'!$A52-35,0)","v":1.04E-2},{"$f":"OFFSET(Female!CF$18,'Female - Rev'!$A52-35,0)","v":1.17E-2},{"$f":"OFFSET(Female!CG$18,'Female - Rev'!$A52-35,0)","v":1.2699999999999999E-2},{"$f":"OFFSET(Female!CH$18,'Female - Rev'!$A52-35,0)","v":1.3299999999999999E-2},{"$f":"OFFSET(Female!CI$18,'Female - Rev'!$A52-35,0)","v":1.35E-2},{"$f":"CJ52","v":1.35E-2},1.35E-2]
[45,45,{"$f":"OFFSET(Female!B$18,'Female - Rev'!$A53-35,0)","v":4.2900000000000001E-2},{"$f":"OFFSET(Female!C$18,'Female - Rev'!$A53-35,0)","v":3.8699999999999998E-2},{"$f":"OFFSET(Female!D$18,'Female - Rev'!$A53-35,0)","v":3.4500000000000003E-2},{"$f":"OFFSET(Female!E$18,'Female - Rev'!$A53-35,0)","v":3.0099999999999998E-2},{"$f":"OFFSET(Female!F$18,'Female - Rev'!$A53-35,0)","v":2.5499999999999998E-2},{"$f":"OFFSET(Female!G$18,'Female - Rev'!$A53-35,0)","v":2.0899999999999998E-2},{"$f":"OFFSET(Female!H$18,'Female - Rev'!$A53-35,0)","v":1.6400000000000001E-2},{"$f":"OFFSET(Female!I$18,'Female - Rev'!$A53-35,0)","v":1.21E-2},{"$f":"OFFSET(Female!J$18,'Female - Rev'!$A53-35,0)","v":8.0999999999999996E-3},{"$f":"OFFSET(Female!K$18,'Female - Rev'!$A53-35,0)","v":4.3E-3},{"$f":"OFFSET(Female!L$18,'Female - Rev'!$A53-35,0)","v":1E-3},{"$f":"OFFSET(Female!M$18,'Female - Rev'!$A53-35,0)","v":-1.6999999999999999E-3},{"$f":"OFFSET(Female!N$18,'Female - Rev'!$A53-35,0)","v":-3.5999999999999999E-3},{"$f":"OFFSET(Female!O$18,'Female - Rev'!$A53-35,0)","v":-4.5999999999999999E-3},{"$f":"OFFSET(Female!P$18,'Female - Rev'!$A53-35,0)","v":-4.4999999999999997E-3},{"$f":"OFFSET(Female!Q$18,'Female - Rev'!$A53-35,0)","v":-3.3999999999999998E-3},{"$f":"OFFSET(Female!R$18,'Female - Rev'!$A53-35,0)","v":-1.1999999999999999E-3},{"$f":"OFFSET(Female!S$18,'Female - Rev'!$A53-35,0)","v":2.0999999999999999E-3},{"$f":"OFFSET(Female!T$18,'Female - Rev'!$A53-35,0)","v":6.3E-3},{"$f":"OFFSET(Female!U$18,'Female - Rev'!$A53-35,0)","v":1.11E-2},{"$f":"OFFSET(Female!V$18,'Female - Rev'!$A53-35,0)","v":1.6299999999999999E-2},{"$f":"OFFSET(Female!W$18,'Female - Rev'!$A53-35,0)","v":2.1600000000000001E-2},{"$f":"OFFSET(Female!X$18,'Female - Rev'!$A53-35,0)","v":2.6499999999999999E-2},{"$f":"OFFSET(Female!Y$18,'Female - Rev'!$A53-35,0)","v":3.0599999999999999E-2},{"$f":"OFFSET(Female!Z$18,'Female - Rev'!$A53-35,0)","v":3.3399999999999999E-2},{"$f":"OFFSET(Female!AA$18,'Female - Rev'!$A53-35,0)","v":3.49E-2},{"$f":"OFFSET(Female!AB$18,'Female - Rev'!$A53-35,0)","v":3.5000000000000003E-2},{"$f":"OFFSET(Female!AC$18,'Female - Rev'!$A53-35,0)","v":3.4200000000000001E-2},{"$f":"OFFSET(Female!AD$18,'Female - Rev'!$A53-35,0)","v":3.2599999999999997E-2},{"$f":"OFFSET(Female!AE$18,'Female - Rev'!$A53-35,0)","v":3.04E-2},{"$f":"OFFSET(Female!AF$18,'Female - Rev'!$A53-35,0)","v":2.8199999999999999E-2},{"$f":"OFFSET(Female!AG$18,'Female - Rev'!$A53-35,0)","v":2.58E-2},{"$f":"OFFSET(Female!AH$18,'Female - Rev'!$A53-35,0)","v":2.35E-2},{"$f":"OFFSET(Female!AI$18,'Female - Rev'!$A53-35,0)","v":2.12E-2},{"$f":"OFFSET(Female!AJ$18,'Female - Rev'!$A53-35,0)","v":1.9E-2},{"$f":"OFFSET(Female!AK$18,'Female - Rev'!$A53-35,0)","v":1.7000000000000001E-2},{"$f":"OFFSET(Female!AL$18,'Female - Rev'!$A53-35,0)","v":1.4999999999999999E-2},{"$f":"OFFSET(Female!AM$18,'Female - Rev'!$A53-35,0)","v":1.2999999999999999E-2},{"$f":"OFFSET(Female!AN$18,'Female - Rev'!$A53-35,0)","v":1.09E-2},{"$f":"OFFSET(Female!AO$18,'Female - Rev'!$A53-35,0)","v":8.6999999999999994E-3},{"$f":"OFFSET(Female!AP$18,'Female - Rev'!$A53-35,0)","v":6.7000000000000002E-3},{"$f":"OFFSET(Female!AQ$18,'Female - Rev'!$A53-35,0)","v":5.0000000000000001E-3},{"$f":"OFFSET(Female!AR$18,'Female - Rev'!$A53-35,0)","v":3.7000000000000002E-3},{"$f":"OFFSET(Female!AS$18,'Female - Rev'!$A53-35,0)","v":3.0000000000000001E-3},{"$f":"OFFSET(Female!AT$18,'Female - Rev'!$A53-35,0)","v":2.3999999999999998E-3},{"$f":"OFFSET(Female!AU$18,'Female - Rev'!$A53-35,0)","v":1.1999999999999999E-3},{"$f":"OFFSET(Female!AV$18,'Female - Rev'!$A53-35,0)","v":-8.9999999999999998E-4},{"$f":"OFFSET(Female!AW$18,'Female - Rev'!$A53-35,0)","v":-3.8999999999999998E-3},{"$f":"OFFSET(Female!AX$18,'Female - Rev'!$A53-35,0)","v":-7.1999999999999998E-3},{"$f":"OFFSET(Female!AY$18,'Female - Rev'!$A53-35,0)","v":-9.7999999999999997E-3},{"$f":"OFFSET(Female!AZ$18,'Female - Rev'!$A53-35,0)","v":-1.0800000000000001E-2},{"$f":"OFFSET(Female!BA$18,'Female - Rev'!$A53-35,0)","v":-9.5999999999999992E-3},{"$f":"OFFSET(Female!BB$18,'Female - Rev'!$A53-35,0)","v":-6.4999999999999997E-3},{"$f":"OFFSET(Female!BC$18,'Female - Rev'!$A53-35,0)","v":-2E-3},{"$f":"OFFSET(Female!BD$18,'Female - Rev'!$A53-35,0)","v":3.0999999999999999E-3},{"$f":"OFFSET(Female!BE$18,'Female - Rev'!$A53-35,0)","v":7.9000000000000008E-3},{"$f":"OFFSET(Female!BF$18,'Female - Rev'!$A53-35,0)","v":1.1900000000000001E-2},{"$f":"OFFSET(Female!BG$18,'Female - Rev'!$A53-35,0)","v":1.47E-2},{"$f":"OFFSET(Female!BH$18,'Female - Rev'!$A53-35,0)","v":1.6E-2},{"$f":"OFFSET(Female!BI$18,'Female - Rev'!$A53-35,0)","v":1.5699999999999999E-2},{"$f":"OFFSET(Female!BJ$18,'Female - Rev'!$A53-35,0)","v":1.38E-2},{"$f":"OFFSET(Female!BK$18,'Female - Rev'!$A53-35,0)","v":1.09E-2},{"$f":"OFFSET(Female!BL$18,'Female - Rev'!$A53-35,0)","v":7.6E-3},{"$f":"OFFSET(Female!BM$18,'Female - Rev'!$A53-35,0)","v":4.4000000000000003E-3},{"$f":"OFFSET(Female!BN$18,'Female - Rev'!$A53-35,0)","v":1.8E-3},{"$f":"OFFSET(Female!BO$18,'Female - Rev'!$A53-35,0)","v":-1E-4},{"$f":"OFFSET(Female!BP$18,'Female - Rev'!$A53-35,0)","v":-1.6000000000000001E-3},{"$f":"OFFSET(Female!BQ$18,'Female - Rev'!$A53-35,0)","v":-2.8999999999999998E-3},{"$f":"OFFSET(Female!BR$18,'Female - Rev'!$A53-35,0)","v":-3.8999999999999998E-3},{"$f":"OFFSET(Female!BS$18,'Female - Rev'!$A53-35,0)","v":-4.5999999999999999E-3},{"$f":"OFFSET(Female!BT$18,'Female - Rev'!$A53-35,0)","v":-4.7999999999999996E-3},{"$f":"OFFSET(Female!BU$18,'Female - Rev'!$A53-35,0)","v":-4.5999999999999999E-3},{"$f":"OFFSET(Female!BV$18,'Female - Rev'!$A53-35,0)","v":-4.0000000000000001E-3},{"$f":"OFFSET(Female!BW$18,'Female - Rev'!$A53-35,0)","v":-3.0999999999999999E-3},{"$f":"OFFSET(Female!BX$18,'Female - Rev'!$A53-35,0)","v":-1.8E-3},{"$f":"OFFSET(Female!BY$18,'Female - Rev'!$A53-35,0)","v":-4.0000000000000002E-4},{"$f":"OFFSET(Female!BZ$18,'Female - Rev'!$A53-35,0)","v":1.1999999999999999E-3},{"$f":"OFFSET(Female!CA$18,'Female - Rev'!$A53-35,0)","v":3.0000000000000001E-3},{"$f":"OFFSET(Female!CB$18,'Female - Rev'!$A53-35,0)","v":5.0000000000000001E-3},{"$f":"OFFSET(Female!CC$18,'Female - Rev'!$A53-35,0)","v":7.0000000000000001E-3},{"$f":"OFFSET(Female!CD$18,'Female - Rev'!$A53-35,0)","v":8.8999999999999999E-3},{"$f":"OFFSET(Female!CE$18,'Female - Rev'!$A53-35,0)","v":1.0500000000000001E-2},{"$f":"OFFSET(Female!CF$18,'Female - Rev'!$A53-35,0)","v":1.18E-2},{"$f":"OFFSET(Female!CG$18,'Female - Rev'!$A53-35,0)","v":1.2800000000000001E-2},{"$f":"OFFSET(Female!CH$18,'Female - Rev'!$A53-35,0)","v":1.3299999999999999E-2},{"$f":"OFFSET(Female!CI$18,'Female - Rev'!$A53-35,0)","v":1.35E-2},{"$f":"CJ53","v":1.35E-2},1.35E-2]
[44,44,{"$f":"OFFSET(Female!B$18,'Female - Rev'!$A54-35,0)","v":4.3900000000000002E-2},{"$f":"OFFSET(Female!C$18,'Female - Rev'!$A54-35,0)","v":3.9699999999999999E-2},{"$f":"OFFSET(Female!D$18,'Female - Rev'!$A54-35,0)","v":3.5400000000000001E-2},{"$f":"OFFSET(Female!E$18,'Female - Rev'!$A54-35,0)","v":3.09E-2},{"$f":"OFFSET(Female!F$18,'Female - Rev'!$A54-35,0)","v":2.6200000000000001E-2},{"$f":"OFFSET(Female!G$18,'Female - Rev'!$A54-35,0)","v":2.1499999999999998E-2},{"$f":"OFFSET(Female!H$18,'Female - Rev'!$A54-35,0)","v":1.6799999999999999E-2},{"$f":"OFFSET(Female!I$18,'Female - Rev'!$A54-35,0)","v":1.23E-2},{"$f":"OFFSET(Female!J$18,'Female - Rev'!$A54-35,0)","v":8.0999999999999996E-3},{"$f":"OFFSET(Female!K$18,'Female - Rev'!$A54-35,0)","v":4.1999999999999997E-3},{"$f":"OFFSET(Female!L$18,'Female - Rev'!$A54-35,0)","v":8.0000000000000004E-4},{"$f":"OFFSET(Female!M$18,'Female - Rev'!$A54-35,0)","v":-2E-3},{"$f":"OFFSET(Female!N$18,'Female - Rev'!$A54-35,0)","v":-4.0000000000000001E-3},{"$f":"OFFSET(Female!O$18,'Female - Rev'!$A54-35,0)","v":-5.0000000000000001E-3},{"$f":"OFFSET(Female!P$18,'Female - Rev'!$A54-35,0)","v":-5.0000000000000001E-3},{"$f":"OFFSET(Female!Q$18,'Female - Rev'!$A54-35,0)","v":-3.8999999999999998E-3},{"$f":"OFFSET(Female!R$18,'Female - Rev'!$A54-35,0)","v":-1.6999999999999999E-3},{"$f":"OFFSET(Female!S$18,'Female - Rev'!$A54-35,0)","v":1.6000000000000001E-3},{"$f":"OFFSET(Female!T$18,'Female - Rev'!$A54-35,0)","v":5.8999999999999999E-3},{"$f":"OFFSET(Female!U$18,'Female - Rev'!$A54-35,0)","v":1.11E-2},{"$f":"OFFSET(Female!V$18,'Female - Rev'!$A54-35,0)","v":1.67E-2},{"$f":"OFFSET(Female!W$18,'Female - Rev'!$A54-35,0)","v":2.23E-2},{"$f":"OFFSET(Female!X$18,'Female - Rev'!$A54-35,0)","v":2.75E-2},{"$f":"OFFSET(Female!Y$18,'Female - Rev'!$A54-35,0)","v":3.1899999999999998E-2},{"$f":"OFFSET(Female!Z$18,'Female - Rev'!$A54-35,0)","v":3.49E-2},{"$f":"OFFSET(Female!AA$18,'Female - Rev'!$A54-35,0)","v":3.6499999999999998E-2},{"$f":"OFFSET(Female!AB$18,'Female - Rev'!$A54-35,0)","v":3.6799999999999999E-2},{"$f":"OFFSET(Female!AC$18,'Female - Rev'!$A54-35,0)","v":3.5900000000000001E-2},{"$f":"OFFSET(Female!AD$18,'Female - Rev'!$A54-35,0)","v":3.4299999999999997E-2},{"$f":"OFFSET(Female!AE$18,'Female - Rev'!$A54-35,0)","v":3.2000000000000001E-2},{"$f":"OFFSET(Female!AF$18,'Female - Rev'!$A54-35,0)","v":2.9499999999999998E-2},{"$f":"OFFSET(Female!AG$18,'Female - Rev'!$A54-35,0)","v":2.6800000000000001E-2},{"$f":"OFFSET(Female!AH$18,'Female - Rev'!$A54-35,0)","v":2.41E-2},{"$f":"OFFSET(Female!AI$18,'Female - Rev'!$A54-35,0)","v":2.1399999999999999E-2},{"$f":"OFFSET(Female!AJ$18,'Female - Rev'!$A54-35,0)","v":1.89E-2},{"$f":"OFFSET(Female!AK$18,'Female - Rev'!$A54-35,0)","v":1.6500000000000001E-2},{"$f":"OFFSET(Female!AL$18,'Female - Rev'!$A54-35,0)","v":1.4200000000000001E-2},{"$f":"OFFSET(Female!AM$18,'Female - Rev'!$A54-35,0)","v":1.17E-2},{"$f":"OFFSET(Female!AN$18,'Female - Rev'!$A54-35,0)","v":9.1999999999999998E-3},{"$f":"OFFSET(Female!AO$18,'Female - Rev'!$A54-35,0)","v":6.7000000000000002E-3},{"$f":"OFFSET(Female!AP$18,'Female - Rev'!$A54-35,0)","v":4.3E-3},{"$f":"OFFSET(Female!AQ$18,'Female - Rev'!$A54-35,0)","v":2.3E-3},{"$f":"OFFSET(Female!AR$18,'Female - Rev'!$A54-35,0)","v":8.9999999999999998E-4},{"$f":"OFFSET(Female!AS$18,'Female - Rev'!$A54-35,0)","v":2.9999999999999997E-4},{"$f":"OFFSET(Female!AT$18,'Female - Rev'!$A54-35,0)","v":-1E-4},{"$f":"OFFSET(Female!AU$18,'Female - Rev'!$A54-35,0)","v":-8.9999999999999998E-4},{"$f":"OFFSET(Female!AV$18,'Female - Rev'!$A54-35,0)","v":-2.5000000000000001E-3},{"$f":"OFFSET(Female!AW$18,'Female - Rev'!$A54-35,0)","v":-4.8999999999999998E-3},{"$f":"OFFSET(Female!AX$18,'Female - Rev'!$A54-35,0)","v":-7.7000000000000002E-3},{"$f":"OFFSET(Female!AY$18,'Female - Rev'!$A54-35,0)","v":-9.7000000000000003E-3},{"$f":"OFFSET(Female!AZ$18,'Female - Rev'!$A54-35,0)","v":-1.01E-2},{"$f":"OFFSET(Female!BA$18,'Female - Rev'!$A54-35,0)","v":-8.3000000000000001E-3},{"$f":"OFFSET(Female!BB$18,'Female - Rev'!$A54-35,0)","v":-4.5999999999999999E-3},{"$f":"OFFSET(Female!BC$18,'Female - Rev'!$A54-35,0)","v":4.0000000000000002E-4},{"$f":"OFFSET(Female!BD$18,'Female - Rev'!$A54-35,0)","v":5.7999999999999996E-3},{"$f":"OFFSET(Female!BE$18,'Female - Rev'!$A54-35,0)","v":1.0699999999999999E-2},{"$f":"OFFSET(Female!BF$18,'Female - Rev'!$A54-35,0)","v":1.47E-2},{"$f":"OFFSET(Female!BG$18,'Female - Rev'!$A54-35,0)","v":1.7100000000000001E-2},{"$f":"OFFSET(Female!BH$18,'Female - Rev'!$A54-35,0)","v":1.78E-2},{"$f":"OFFSET(Female!BI$18,'Female - Rev'!$A54-35,0)","v":1.67E-2},{"$f":"OFFSET(Female!BJ$18,'Female - Rev'!$A54-35,0)","v":1.4E-2},{"$f":"OFFSET(Female!BK$18,'Female - Rev'!$A54-35,0)","v":1.0200000000000001E-2},{"$f":"OFFSET(Female!BL$18,'Female - Rev'!$A54-35,0)","v":5.8999999999999999E-3},{"$f":"OFFSET(Female!BM$18,'Female - Rev'!$A54-35,0)","v":2E-3},{"$f":"OFFSET(Female!BN$18,'Female - Rev'!$A54-35,0)","v":-1.2999999999999999E-3},{"$f":"OFFSET(Female!BO$18,'Female - Rev'!$A54-35,0)","v":-3.5999999999999999E-3},{"$f":"OFFSET(Female!BP$18,'Female - Rev'!$A54-35,0)","v":-5.4000000000000003E-3},{"$f":"OFFSET(Female!BQ$18,'Female - Rev'!$A54-35,0)","v":-6.7000000000000002E-3},{"$f":"OFFSET(Female!BR$18,'Female - Rev'!$A54-35,0)","v":-7.6E-3},{"$f":"OFFSET(Female!BS$18,'Female - Rev'!$A54-35,0)","v":-7.9000000000000008E-3},{"$f":"OFFSET(Female!BT$18,'Female - Rev'!$A54-35,0)","v":-7.7000000000000002E-3},{"$f":"OFFSET(Female!BU$18,'Female - Rev'!$A54-35,0)","v":-7.1000000000000004E-3},{"$f":"OFFSET(Female!BV$18,'Female - Rev'!$A54-35,0)","v":-5.8999999999999999E-3},{"$f":"OFFSET(Female!BW$18,'Female - Rev'!$A54-35,0)","v":-4.4000000000000003E-3},{"$f":"OFFSET(Female!BX$18,'Female - Rev'!$A54-35,0)","v":-2.7000000000000001E-3},{"$f":"OFFSET(Female!BY$18,'Female - Rev'!$A54-35,0)","v":-1E-3},{"$f":"OFFSET(Female!BZ$18,'Female - Rev'!$A54-35,0)","v":8.0000000000000004E-4},{"$f":"OFFSET(Female!CA$18,'Female - Rev'!$A54-35,0)","v":2.8999999999999998E-3},{"$f":"OFFSET(Female!CB$18,'Female - Rev'!$A54-35,0)","v":5.0000000000000001E-3},{"$f":"OFFSET(Female!CC$18,'Female - Rev'!$A54-35,0)","v":7.1000000000000004E-3},{"$f":"OFFSET(Female!CD$18,'Female - Rev'!$A54-35,0)","v":8.9999999999999993E-3},{"$f":"OFFSET(Female!CE$18,'Female - Rev'!$A54-35,0)","v":1.06E-2},{"$f":"OFFSET(Female!CF$18,'Female - Rev'!$A54-35,0)","v":1.1900000000000001E-2},{"$f":"OFFSET(Female!CG$18,'Female - Rev'!$A54-35,0)","v":1.2800000000000001E-2},{"$f":"OFFSET(Female!CH$18,'Female - Rev'!$A54-35,0)","v":1.3299999999999999E-2},{"$f":"OFFSET(Female!CI$18,'Female - Rev'!$A54-35,0)","v":1.35E-2},{"$f":"CJ54","v":1.35E-2},1.35E-2]
[43,43,{"$f":"OFFSET(Female!B$18,'Female - Rev'!$A55-35,0)","v":4.4699999999999997E-2},{"$f":"OFFSET(Female!C$18,'Female - Rev'!$A55-35,0)","v":4.0500000000000001E-2},{"$f":"OFFSET(Female!D$18,'Female - Rev'!$A55-35,0)","v":3.6200000000000003E-2},{"$f":"OFFSET(Female!E$18,'Female - Rev'!$A55-35,0)","v":3.1800000000000002E-2},{"$f":"OFFSET(Female!F$18,'Female - Rev'!$A55-35,0)","v":2.7E-2},{"$f":"OFFSET(Female!G$18,'Female - Rev'!$A55-35,0)","v":2.2100000000000002E-2},{"$f":"OFFSET(Female!H$18,'Female - Rev'!$A55-35,0)","v":1.72E-2},{"$f":"OFFSET(Female!I$18,'Female - Rev'!$A55-35,0)","v":1.2500000000000001E-2},{"$f":"OFFSET(Female!J$18,'Female - Rev'!$A55-35,0)","v":8.0999999999999996E-3},{"$f":"OFFSET(Female!K$18,'Female - Rev'!$A55-35,0)","v":4.0000000000000001E-3},{"$f":"OFFSET(Female!L$18,'Female - Rev'!$A55-35,0)","v":5.0000000000000001E-4},{"$f":"OFFSET(Female!M$18,'Female - Rev'!$A55-35,0)","v":-2.3E-3},{"$f":"OFFSET(Female!N$18,'Female - Rev'!$A55-35,0)","v":-4.3E-3},{"$f":"OFFSET(Female!O$18,'Female - Rev'!$A55-35,0)","v":-5.4000000000000003E-3},{"$f":"OFFSET(Female!P$18,'Female - Rev'!$A55-35,0)","v":-5.4000000000000003E-3},{"$f":"OFFSET(Female!Q$18,'Female - Rev'!$A55-35,0)","v":-4.3E-3},{"$f":"OFFSET(Female!R$18,'Female - Rev'!$A55-35,0)","v":-2.0999999999999999E-3},{"$f":"OFFSET(Female!S$18,'Female - Rev'!$A55-35,0)","v":1.2999999999999999E-3},{"$f":"OFFSET(Female!T$18,'Female - Rev'!$A55-35,0)","v":5.7999999999999996E-3},{"$f":"OFFSET(Female!U$18,'Female - Rev'!$A55-35,0)","v":1.1299999999999999E-2},{"$f":"OFFSET(Female!V$18,'Female - Rev'!$A55-35,0)","v":1.72E-2},{"$f":"OFFSET(Female!W$18,'Female - Rev'!$A55-35,0)","v":2.3199999999999998E-2},{"$f":"OFFSET(Female!X$18,'Female - Rev'!$A55-35,0)","v":2.8799999999999999E-2},{"$f":"OFFSET(Female!Y$18,'Female - Rev'!$A55-35,0)","v":3.3300000000000003E-2},{"$f":"OFFSET(Female!Z$18,'Female - Rev'!$A55-35,0)","v":3.6499999999999998E-2},{"$f":"OFFSET(Female!AA$18,'Female - Rev'!$A55-35,0)","v":3.8100000000000002E-2},{"$f":"OFFSET(Female!AB$18,'Female - Rev'!$A55-35,0)","v":3.8399999999999997E-2},{"$f":"OFFSET(Female!AC$18,'Female - Rev'!$A55-35,0)","v":3.7499999999999999E-2},{"$f":"OFFSET(Female!AD$18,'Female - Rev'!$A55-35,0)","v":3.5700000000000003E-2},{"$f":"OFFSET(Female!AE$18,'Female - Rev'!$A55-35,0)","v":3.3300000000000003E-2},{"$f":"OFFSET(Female!AF$18,'Female - Rev'!$A55-35,0)","v":3.0499999999999999E-2},{"$f":"OFFSET(Female!AG$18,'Female - Rev'!$A55-35,0)","v":2.7400000000000001E-2},{"$f":"OFFSET(Female!AH$18,'Female - Rev'!$A55-35,0)","v":2.4199999999999999E-2},{"$f":"OFFSET(Female!AI$18,'Female - Rev'!$A55-35,0)","v":2.1100000000000001E-2},{"$f":"OFFSET(Female!AJ$18,'Female - Rev'!$A55-35,0)","v":1.8200000000000001E-2},{"$f":"OFFSET(Female!AK$18,'Female - Rev'!$A55-35,0)","v":1.54E-2},{"$f":"OFFSET(Female!AL$18,'Female - Rev'!$A55-35,0)","v":1.2800000000000001E-2},{"$f":"OFFSET(Female!AM$18,'Female - Rev'!$A55-35,0)","v":0.01},{"$f":"OFFSET(Female!AN$18,'Female - Rev'!$A55-35,0)","v":7.1999999999999998E-3},{"$f":"OFFSET(Female!AO$18,'Female - Rev'!$A55-35,0)","v":4.4000000000000003E-3},{"$f":"OFFSET(Female!AP$18,'Female - Rev'!$A55-35,0)","v":1.6999999999999999E-3},{"$f":"OFFSET(Female!AQ$18,'Female - Rev'!$A55-35,0)","v":-5.0000000000000001E-4},{"$f":"OFFSET(Female!AR$18,'Female - Rev'!$A55-35,0)","v":-1.8E-3},{"$f":"OFFSET(Female!AS$18,'Female - Rev'!$A55-35,0)","v":-2.2000000000000001E-3},{"$f":"OFFSET(Female!AT$18,'Female - Rev'!$A55-35,0)","v":-2.2000000000000001E-3},{"$f":"OFFSET(Female!AU$18,'Female - Rev'!$A55-35,0)","v":-2.3999999999999998E-3},{"$f":"OFFSET(Female!AV$18,'Female - Rev'!$A55-35,0)","v":-3.3999999999999998E-3},{"$f":"OFFSET(Female!AW$18,'Female - Rev'!$A55-35,0)","v":-5.1999999999999998E-3},{"$f":"OFFSET(Female!AX$18,'Female - Rev'!$A55-35,0)","v":-7.4000000000000003E-3},{"$f":"OFFSET(Female!AY$18,'Female - Rev'!$A55-35,0)","v":-8.8000000000000005E-3},{"$f":"OFFSET(Female!AZ$18,'Female - Rev'!$A55-35,0)","v":-8.6E-3},{"$f":"OFFSET(Female!BA$18,'Female - Rev'!$A55-35,0)","v":-6.4000000000000003E-3},{"$f":"OFFSET(Female!BB$18,'Female - Rev'!$A55-35,0)","v":-2.2000000000000001E-3},{"$f":"OFFSET(Female!BC$18,'Female - Rev'!$A55-35,0)","v":3.0999999999999999E-3},{"$f":"OFFSET(Female!BD$18,'Female - Rev'!$A55-35,0)","v":8.5000000000000006E-3},{"$f":"OFFSET(Female!BE$18,'Female - Rev'!$A55-35,0)","v":1.34E-2},{"$f":"OFFSET(Female!BF$18,'Female - Rev'!$A55-35,0)","v":1.7000000000000001E-2},{"$f":"OFFSET(Female!BG$18,'Female - Rev'!$A55-35,0)","v":1.89E-2},{"$f":"OFFSET(Female!BH$18,'Female - Rev'!$A55-35,0)","v":1.89E-2},{"$f":"OFFSET(Female!BI$18,'Female - Rev'!$A55-35,0)","v":1.7000000000000001E-2},{"$f":"OFFSET(Female!BJ$18,'Female - Rev'!$A55-35,0)","v":1.3299999999999999E-2},{"$f":"OFFSET(Female!BK$18,'Female - Rev'!$A55-35,0)","v":8.6E-3},{"$f":"OFFSET(Female!BL$18,'Female - Rev'!$A55-35,0)","v":3.5000000000000001E-3},{"$f":"OFFSET(Female!BM$18,'Female - Rev'!$A55-35,0)","v":-1.1999999999999999E-3},{"$f":"OFFSET(Female!BN$18,'Female - Rev'!$A55-35,0)","v":-4.8999999999999998E-3},{"$f":"OFFSET(Female!BO$18,'Female - Rev'!$A55-35,0)","v":-7.7000000000000002E-3},{"$f":"OFFSET(Female!BP$18,'Female - Rev'!$A55-35,0)","v":-9.5999999999999992E-3},{"$f":"OFFSET(Female!BQ$18,'Female - Rev'!$A55-35,0)","v":-1.09E-2},{"$f":"OFFSET(Female!BR$18,'Female - Rev'!$A55-35,0)","v":-1.14E-2},{"$f":"OFFSET(Female!BS$18,'Female - Rev'!$A55-35,0)","v":-1.14E-2},{"$f":"OFFSET(Female!BT$18,'Female - Rev'!$A55-35,0)","v":-1.0699999999999999E-2},{"$f":"OFFSET(Female!BU$18,'Female - Rev'!$A55-35,0)","v":-9.4000000000000004E-3},{"$f":"OFFSET(Female!BV$18,'Female - Rev'!$A55-35,0)","v":-7.7000000000000002E-3},{"$f":"OFFSET(Female!BW$18,'Female - Rev'!$A55-35,0)","v":-5.5999999999999999E-3},{"$f":"OFFSET(Female!BX$18,'Female - Rev'!$A55-35,0)","v":-3.5000000000000001E-3},{"$f":"OFFSET(Female!BY$18,'Female - Rev'!$A55-35,0)","v":-1.4E-3},{"$f":"OFFSET(Female!BZ$18,'Female - Rev'!$A55-35,0)","v":6.9999999999999999E-4},{"$f":"OFFSET(Female!CA$18,'Female - Rev'!$A55-35,0)","v":2.8999999999999998E-3},{"$f":"OFFSET(Female!CB$18,'Female - Rev'!$A55-35,0)","v":5.1999999999999998E-3},{"$f":"OFFSET(Female!CC$18,'Female - Rev'!$A55-35,0)","v":7.3000000000000001E-3},{"$f":"OFFSET(Female!CD$18,'Female - Rev'!$A55-35,0)","v":9.1999999999999998E-3},{"$f":"OFFSET(Female!CE$18,'Female - Rev'!$A55-35,0)","v":1.0699999999999999E-2},{"$f":"OFFSET(Female!CF$18,'Female - Rev'!$A55-35,0)","v":1.2E-2},{"$f":"OFFSET(Female!CG$18,'Female - Rev'!$A55-35,0)","v":1.2800000000000001E-2},{"$f":"OFFSET(Female!CH$18,'Female - Rev'!$A55-35,0)","v":1.3299999999999999E-2},{"$f":"OFFSET(Female!CI$18,'Female - Rev'!$A55-35,0)","v":1.35E-2},{"$f":"CJ55","v":1.35E-2},1.35E-2]
[42,42,{"$f":"OFFSET(Female!B$18,'Female - Rev'!$A56-35,0)","v":4.5499999999999999E-2},{"$f":"OFFSET(Female!C$18,'Female - Rev'!$A56-35,0)","v":4.1399999999999999E-2},{"$f":"OFFSET(Female!D$18,'Female - Rev'!$A56-35,0)","v":3.7100000000000001E-2},{"$f":"OFFSET(Female!E$18,'Female - Rev'!$A56-35,0)","v":3.2599999999999997E-2},{"$f":"OFFSET(Female!F$18,'Female - Rev'!$A56-35,0)","v":2.7799999999999998E-2},{"$f":"OFFSET(Female!G$18,'Female - Rev'!$A56-35,0)","v":2.2700000000000001E-2},{"$f":"OFFSET(Female!H$18,'Female - Rev'!$A56-35,0)","v":1.7600000000000001E-2},{"$f":"OFFSET(Female!I$18,'Female - Rev'!$A56-35,0)","v":1.2699999999999999E-2},{"$f":"OFFSET(Female!J$18,'Female - Rev'!$A56-35,0)","v":8.0000000000000002E-3},{"$f":"OFFSET(Female!K$18,'Female - Rev'!$A56-35,0)","v":3.7000000000000002E-3},{"$f":"OFFSET(Female!L$18,'Female - Rev'!$A56-35,0)","v":1E-4},{"$f":"OFFSET(Female!M$18,'Female - Rev'!$A56-35,0)","v":-2.7000000000000001E-3},{"$f":"OFFSET(Female!N$18,'Female - Rev'!$A56-35,0)","v":-4.7000000000000002E-3},{"$f":"OFFSET(Female!O$18,'Female - Rev'!$A56-35,0)","v":-5.7000000000000002E-3},{"$f":"OFFSET(Female!P$18,'Female - Rev'!$A56-35,0)","v":-5.7000000000000002E-3},{"$f":"OFFSET(Female!Q$18,'Female - Rev'!$A56-35,0)","v":-4.4999999999999997E-3},{"$f":"OFFSET(Female!R$18,'Female - Rev'!$A56-35,0)","v":-2.3E-3},{"$f":"OFFSET(Female!S$18,'Female - Rev'!$A56-35,0)","v":1.1999999999999999E-3},{"$f":"OFFSET(Female!T$18,'Female - Rev'!$A56-35,0)","v":6.0000000000000001E-3},{"$f":"OFFSET(Female!U$18,'Female - Rev'!$A56-35,0)","v":1.17E-2},{"$f":"OFFSET(Female!V$18,'Female - Rev'!$A56-35,0)","v":1.8100000000000002E-2},{"$f":"OFFSET(Female!W$18,'Female - Rev'!$A56-35,0)","v":2.4400000000000002E-2},{"$f":"OFFSET(Female!X$18,'Female - Rev'!$A56-35,0)","v":3.0200000000000001E-2},{"$f":"OFFSET(Female!Y$18,'Female - Rev'!$A56-35,0)","v":3.4799999999999998E-2},{"$f":"OFFSET(Female!Z$18,'Female - Rev'!$A56-35,0)","v":3.8100000000000002E-2},{"$f":"OFFSET(Female!AA$18,'Female - Rev'!$A56-35,0)","v":3.9699999999999999E-2},{"$f":"OFFSET(Female!AB$18,'Female - Rev'!$A56-35,0)","v":3.9800000000000002E-2},{"$f":"OFFSET(Female!AC$18,'Female - Rev'!$A56-35,0)","v":3.8800000000000001E-2},{"$f":"OFFSET(Female!AD$18,'Female - Rev'!$A56-35,0)","v":3.6900000000000002E-2},{"$f":"OFFSET(Female!AE$18,'Female - Rev'!$A56-35,0)","v":3.4299999999999997E-2},{"$f":"OFFSET(Female!AF$18,'Female - Rev'!$A56-35,0)","v":3.1099999999999999E-2},{"$f":"OFFSET(Female!AG$18,'Female - Rev'!$A56-35,0)","v":2.76E-2},{"$f":"OFFSET(Female!AH$18,'Female - Rev'!$A56-35,0)","v":2.4E-2},{"$f":"OFFSET(Female!AI$18,'Female - Rev'!$A56-35,0)","v":2.0299999999999999E-2},{"$f":"OFFSET(Female!AJ$18,'Female - Rev'!$A56-35,0)","v":1.6899999999999998E-2},{"$f":"OFFSET(Female!AK$18,'Female - Rev'!$A56-35,0)","v":1.38E-2},{"$f":"OFFSET(Female!AL$18,'Female - Rev'!$A56-35,0)","v":1.0800000000000001E-2},{"$f":"OFFSET(Female!AM$18,'Female - Rev'!$A56-35,0)","v":7.7000000000000002E-3},{"$f":"OFFSET(Female!AN$18,'Female - Rev'!$A56-35,0)","v":4.7000000000000002E-3},{"$f":"OFFSET(Female!AO$18,'Female - Rev'!$A56-35,0)","v":1.8E-3},{"$f":"OFFSET(Female!AP$18,'Female - Rev'!$A56-35,0)","v":-1E-3},{"$f":"OFFSET(Female!AQ$18,'Female - Rev'!$A56-35,0)","v":-3.2000000000000002E-3},{"$f":"OFFSET(Female!AR$18,'Female - Rev'!$A56-35,0)","v":-4.3E-3},{"$f":"OFFSET(Female!AS$18,'Female - Rev'!$A56-35,0)","v":-4.3E-3},{"$f":"OFFSET(Female!AT$18,'Female - Rev'!$A56-35,0)","v":-3.7000000000000002E-3},{"$f":"OFFSET(Female!AU$18,'Female - Rev'!$A56-35,0)","v":-3.2000000000000002E-3},{"$f":"OFFSET(Female!AV$18,'Female - Rev'!$A56-35,0)","v":-3.3999999999999998E-3},{"$f":"OFFSET(Female!AW$18,'Female - Rev'!$A56-35,0)","v":-4.5999999999999999E-3},{"$f":"OFFSET(Female!AX$18,'Female - Rev'!$A56-35,0)","v":-6.1999999999999998E-3},{"$f":"OFFSET(Female!AY$18,'Female - Rev'!$A56-35,0)","v":-7.1999999999999998E-3},{"$f":"OFFSET(Female!AZ$18,'Female - Rev'!$A56-35,0)","v":-6.4999999999999997E-3},{"$f":"OFFSET(Female!BA$18,'Female - Rev'!$A56-35,0)","v":-3.8999999999999998E-3},{"$f":"OFFSET(Female!BB$18,'Female - Rev'!$A56-35,0)","v":5.0000000000000001E-4},{"$f":"OFFSET(Female!BC$18,'Female - Rev'!$A56-35,0)","v":5.7999999999999996E-3},{"$f":"OFFSET(Female!BD$18,'Female - Rev'!$A56-35,0)","v":1.11E-2},{"$f":"OFFSET(Female!BE$18,'Female - Rev'!$A56-35,0)","v":1.5599999999999999E-2},{"$f":"OFFSET(Female!BF$18,'Female - Rev'!$A56-35,0)","v":1.8800000000000001E-2},{"$f":"OFFSET(Female!BG$18,'Female - Rev'!$A56-35,0)","v":0.02},{"$f":"OFFSET(Female!BH$18,'Female - Rev'!$A56-35,0)","v":1.9199999999999998E-2},{"$f":"OFFSET(Female!BI$18,'Female - Rev'!$A56-35,0)","v":1.6400000000000001E-2},{"$f":"OFFSET(Female!BJ$18,'Female - Rev'!$A56-35,0)","v":1.1900000000000001E-2},{"$f":"OFFSET(Female!BK$18,'Female - Rev'!$A56-35,0)","v":6.3E-3},{"$f":"OFFSET(Female!BL$18,'Female - Rev'!$A56-35,0)","v":5.0000000000000001E-4},{"$f":"OFFSET(Female!BM$18,'Female - Rev'!$A56-35,0)","v":-4.7999999999999996E-3},{"$f":"OFFSET(Female!BN$18,'Female - Rev'!$A56-35,0)","v":-9.1000000000000004E-3},{"$f":"OFFSET(Female!BO$18,'Female - Rev'!$A56-35,0)","v":-1.23E-2},{"$f":"OFFSET(Female!BP$18,'Female - Rev'!$A56-35,0)","v":-1.4200000000000001E-2},{"$f":"OFFSET(Female!BQ$18,'Female - Rev'!$A56-35,0)","v":-1.52E-2},{"$f":"OFFSET(Female!BR$18,'Female - Rev'!$A56-35,0)","v":-1.55E-2},{"$f":"OFFSET(Female!BS$18,'Female - Rev'!$A56-35,0)","v":-1.49E-2},{"$f":"OFFSET(Female!BT$18,'Female - Rev'!$A56-35,0)","v":-1.3599999999999999E-2},{"$f":"OFFSET(Female!BU$18,'Female - Rev'!$A56-35,0)","v":-1.17E-2},{"$f":"OFFSET(Female!BV$18,'Female - Rev'!$A56-35,0)","v":-9.2999999999999992E-3},{"$f":"OFFSET(Female!BW$18,'Female - Rev'!$A56-35,0)","v":-6.6E-3},{"$f":"OFFSET(Female!BX$18,'Female - Rev'!$A56-35,0)","v":-4.0000000000000001E-3},{"$f":"OFFSET(Female!BY$18,'Female - Rev'!$A56-35,0)","v":-1.6000000000000001E-3},{"$f":"OFFSET(Female!BZ$18,'Female - Rev'!$A56-35,0)","v":6.9999999999999999E-4},{"$f":"OFFSET(Female!CA$18,'Female - Rev'!$A56-35,0)","v":3.0999999999999999E-3},{"$f":"OFFSET(Female!CB$18,'Female - Rev'!$A56-35,0)","v":5.4000000000000003E-3},{"$f":"OFFSET(Female!CC$18,'Female - Rev'!$A56-35,0)","v":7.4999999999999997E-3},{"$f":"OFFSET(Female!CD$18,'Female - Rev'!$A56-35,0)","v":9.4000000000000004E-3},{"$f":"OFFSET(Female!CE$18,'Female - Rev'!$A56-35,0)","v":1.09E-2},{"$f":"OFFSET(Female!CF$18,'Female - Rev'!$A56-35,0)","v":1.21E-2},{"$f":"OFFSET(Female!CG$18,'Female - Rev'!$A56-35,0)","v":1.29E-2},{"$f":"OFFSET(Female!CH$18,'Female - Rev'!$A56-35,0)","v":1.3299999999999999E-2},{"$f":"OFFSET(Female!CI$18,'Female - Rev'!$A56-35,0)","v":1.35E-2},{"$f":"CJ56","v":1.35E-2},1.35E-2]
[41,41,{"$f":"OFFSET(Female!B$18,'Female - Rev'!$A57-35,0)","v":4.6399999999999997E-2},{"$f":"OFFSET(Female!C$18,'Female - Rev'!$A57-35,0)","v":4.2200000000000001E-2},{"$f":"OFFSET(Female!D$18,'Female - Rev'!$A57-35,0)","v":3.7999999999999999E-2},{"$f":"OFFSET(Female!E$18,'Female - Rev'!$A57-35,0)","v":3.3399999999999999E-2},{"$f":"OFFSET(Female!F$18,'Female - Rev'!$A57-35,0)","v":2.8500000000000001E-2},{"$f":"OFFSET(Female!G$18,'Female - Rev'!$A57-35,0)","v":2.3199999999999998E-2},{"$f":"OFFSET(Female!H$18,'Female - Rev'!$A57-35,0)","v":1.7899999999999999E-2},{"$f":"OFFSET(Female!I$18,'Female - Rev'!$A57-35,0)","v":1.2699999999999999E-2},{"$f":"OFFSET(Female!J$18,'Female - Rev'!$A57-35,0)","v":7.7999999999999996E-3},{"$f":"OFFSET(Female!K$18,'Female - Rev'!$A57-35,0)","v":3.3999999999999998E-3},{"$f":"OFFSET(Female!L$18,'Female - Rev'!$A57-35,0)","v":-2.9999999999999997E-4},{"$f":"OFFSET(Female!M$18,'Female - Rev'!$A57-35,0)","v":-3.2000000000000002E-3},{"$f":"OFFSET(Female!N$18,'Female - Rev'!$A57-35,0)","v":-5.1000000000000004E-3},{"$f":"OFFSET(Female!O$18,'Female - Rev'!$A57-35,0)","v":-6.0000000000000001E-3},{"$f":"OFFSET(Female!P$18,'Female - Rev'!$A57-35,0)","v":-5.7999999999999996E-3},{"$f":"OFFSET(Female!Q$18,'Female - Rev'!$A57-35,0)","v":-4.5999999999999999E-3},{"$f":"OFFSET(Female!R$18,'Female - Rev'!$A57-35,0)","v":-2.3E-3},{"$f":"OFFSET(Female!S$18,'Female - Rev'!$A57-35,0)","v":1.4E-3},{"$f":"OFFSET(Female!T$18,'Female - Rev'!$A57-35,0)","v":6.4000000000000003E-3},{"$f":"OFFSET(Female!U$18,'Female - Rev'!$A57-35,0)","v":1.2500000000000001E-2},{"$f":"OFFSET(Female!V$18,'Female - Rev'!$A57-35,0)","v":1.9099999999999999E-2},{"$f":"OFFSET(Female!W$18,'Female - Rev'!$A57-35,0)","v":2.5700000000000001E-2},{"$f":"OFFSET(Female!X$18,'Female - Rev'!$A57-35,0)","v":3.1699999999999999E-2},{"$f":"OFFSET(Female!Y$18,'Female - Rev'!$A57-35,0)","v":3.6499999999999998E-2},{"$f":"OFFSET(Female!Z$18,'Female - Rev'!$A57-35,0)","v":3.9699999999999999E-2},{"$f":"OFFSET(Female!AA$18,'Female - Rev'!$A57-35,0)","v":4.1200000000000001E-2},{"$f":"OFFSET(Female!AB$18,'Female - Rev'!$A57-35,0)","v":4.1099999999999998E-2},{"$f":"OFFSET(Female!AC$18,'Female - Rev'!$A57-35,0)","v":3.9899999999999998E-2},{"$f":"OFFSET(Female!AD$18,'Female - Rev'!$A57-35,0)","v":3.7699999999999997E-2},{"$f":"OFFSET(Female!AE$18,'Female - Rev'!$A57-35,0)","v":3.4799999999999998E-2},{"$f":"OFFSET(Female!AF$18,'Female - Rev'!$A57-35,0)","v":3.1300000000000001E-2},{"$f":"OFFSET(Female!AG$18,'Female - Rev'!$A57-35,0)","v":2.7400000000000001E-2},{"$f":"OFFSET(Female!AH$18,'Female - Rev'!$A57-35,0)","v":2.3199999999999998E-2},{"$f":"OFFSET(Female!AI$18,'Female - Rev'!$A57-35,0)","v":1.9099999999999999E-2},{"$f":"OFFSET(Female!AJ$18,'Female - Rev'!$A57-35,0)","v":1.5100000000000001E-2},{"$f":"OFFSET(Female!AK$18,'Female - Rev'!$A57-35,0)","v":1.15E-2},{"$f":"OFFSET(Female!AL$18,'Female - Rev'!$A57-35,0)","v":8.2000000000000007E-3},{"$f":"OFFSET(Female!AM$18,'Female - Rev'!$A57-35,0)","v":5.0000000000000001E-3},{"$f":"OFFSET(Female!AN$18,'Female - Rev'!$A57-35,0)","v":1.9E-3},{"$f":"OFFSET(Female!AO$18,'Female - Rev'!$A57-35,0)","v":-1E-3},{"$f":"OFFSET(Female!AP$18,'Female - Rev'!$A57-35,0)","v":-3.7000000000000002E-3},{"$f":"OFFSET(Female!AQ$18,'Female - Rev'!$A57-35,0)","v":-5.5999999999999999E-3},{"$f":"OFFSET(Female!AR$18,'Female - Rev'!$A57-35,0)","v":-6.1999999999999998E-3},{"$f":"OFFSET(Female!AS$18,'Female - Rev'!$A57-35,0)","v":-5.7000000000000002E-3},{"$f":"OFFSET(Female!AT$18,'Female - Rev'!$A57-35,0)","v":-4.3E-3},{"$f":"OFFSET(Female!AU$18,'Female - Rev'!$A57-35,0)","v":-3.0000000000000001E-3},{"$f":"OFFSET(Female!AV$18,'Female - Rev'!$A57-35,0)","v":-2.5999999999999999E-3},{"$f":"OFFSET(Female!AW$18,'Female - Rev'!$A57-35,0)","v":-3.2000000000000002E-3},{"$f":"OFFSET(Female!AX$18,'Female - Rev'!$A57-35,0)","v":-4.3E-3},{"$f":"OFFSET(Female!AY$18,'Female - Rev'!$A57-35,0)","v":-4.8999999999999998E-3},{"$f":"OFFSET(Female!AZ$18,'Female - Rev'!$A57-35,0)","v":-4.0000000000000001E-3},{"$f":"OFFSET(Female!BA$18,'Female - Rev'!$A57-35,0)","v":-1.1000000000000001E-3},{"$f":"OFFSET(Female!BB$18,'Female - Rev'!$A57-35,0)","v":3.3E-3},{"$f":"OFFSET(Female!BC$18,'Female - Rev'!$A57-35,0)","v":8.3999999999999995E-3},{"$f":"OFFSET(Female!BD$18,'Female - Rev'!$A57-35,0)","v":1.3299999999999999E-2},{"$f":"OFFSET(Female!BE$18,'Female - Rev'!$A57-35,0)","v":1.7299999999999999E-2},{"$f":"OFFSET(Female!BF$18,'Female - Rev'!$A57-35,0)","v":1.9800000000000002E-2},{"$f":"OFFSET(Female!BG$18,'Female - Rev'!$A57-35,0)","v":2.0299999999999999E-2},{"$f":"OFFSET(Female!BH$18,'Female - Rev'!$A57-35,0)","v":1.8800000000000001E-2},{"$f":"OFFSET(Female!BI$18,'Female - Rev'!$A57-35,0)","v":1.52E-2},{"$f":"OFFSET(Female!BJ$18,'Female - Rev'!$A57-35,0)","v":9.7999999999999997E-3},{"$f":"OFFSET(Female!BK$18,'Female - Rev'!$A57-35,0)","v":3.5000000000000001E-3},{"$f":"OFFSET(Female!BL$18,'Female - Rev'!$A57-35,0)","v":-3.0000000000000001E-3},{"$f":"OFFSET(Female!BM$18,'Female - Rev'!$A57-35,0)","v":-8.8000000000000005E-3},{"$f":"OFFSET(Female!BN$18,'Female - Rev'!$A57-35,0)","v":-1.35E-2},{"$f":"OFFSET(Female!BO$18,'Female - Rev'!$A57-35,0)","v":-1.7000000000000001E-2},{"$f":"OFFSET(Female!BP$18,'Female - Rev'!$A57-35,0)","v":-1.89E-2},{"$f":"OFFSET(Female!BQ$18,'Female - Rev'!$A57-35,0)","v":-1.9699999999999999E-2},{"$f":"OFFSET(Female!BR$18,'Female - Rev'!$A57-35,0)","v":-1.95E-2},{"$f":"OFFSET(Female!BS$18,'Female - Rev'!$A57-35,0)","v":-1.83E-2},{"$f":"OFFSET(Female!BT$18,'Female - Rev'!$A57-35,0)","v":-1.6299999999999999E-2},{"$f":"OFFSET(Female!BU$18,'Female - Rev'!$A57-35,0)","v":-1.37E-2},{"$f":"OFFSET(Female!BV$18,'Female - Rev'!$A57-35,0)","v":-1.06E-2},{"$f":"OFFSET(Female!BW$18,'Female - Rev'!$A57-35,0)","v":-7.4000000000000003E-3},{"$f":"OFFSET(Female!BX$18,'Female - Rev'!$A57-35,0)","v":-4.3E-3},{"$f":"OFFSET(Female!BY$18,'Female - Rev'!$A57-35,0)","v":-1.5E-3},{"$f":"OFFSET(Female!BZ$18,'Female - Rev'!$A57-35,0)","v":8.9999999999999998E-4},{"$f":"OFFSET(Female!CA$18,'Female - Rev'!$A57-35,0)","v":3.3999999999999998E-3},{"$f":"OFFSET(Female!CB$18,'Female - Rev'!$A57-35,0)","v":5.7000000000000002E-3},{"$f":"OFFSET(Female!CC$18,'Female - Rev'!$A57-35,0)","v":7.7999999999999996E-3},{"$f":"OFFSET(Female!CD$18,'Female - Rev'!$A57-35,0)","v":9.5999999999999992E-3},{"$f":"OFFSET(Female!CE$18,'Female - Rev'!$A57-35,0)","v":1.0999999999999999E-2},{"$f":"OFFSET(Female!CF$18,'Female - Rev'!$A57-35,0)","v":1.21E-2},{"$f":"OFFSET(Female!CG$18,'Female - Rev'!$A57-35,0)","v":1.29E-2},{"$f":"OFFSET(Female!CH$18,'Female - Rev'!$A57-35,0)","v":1.34E-2},{"$f":"OFFSET(Female!CI$18,'Female - Rev'!$A57-35,0)","v":1.35E-2},{"$f":"CJ57","v":1.35E-2},1.35E-2]
[40,40,{"$f":"OFFSET(Female!B$18,'Female - Rev'!$A58-35,0)","v":4.7500000000000001E-2},{"$f":"OFFSET(Female!C$18,'Female - Rev'!$A58-35,0)","v":4.3299999999999998E-2},{"$f":"OFFSET(Female!D$18,'Female - Rev'!$A58-35,0)","v":3.8899999999999997E-2},{"$f":"OFFSET(Female!E$18,'Female - Rev'!$A58-35,0)","v":3.4099999999999998E-2},{"$f":"OFFSET(Female!F$18,'Female - Rev'!$A58-35,0)","v":2.9000000000000001E-2},{"$f":"OFFSET(Female!G$18,'Female - Rev'!$A58-35,0)","v":2.35E-2},{"$f":"OFFSET(Female!H$18,'Female - Rev'!$A58-35,0)","v":1.7999999999999999E-2},{"$f":"OFFSET(Female!I$18,'Female - Rev'!$A58-35,0)","v":1.26E-2},{"$f":"OFFSET(Female!J$18,'Female - Rev'!$A58-35,0)","v":7.6E-3},{"$f":"OFFSET(Female!K$18,'Female - Rev'!$A58-35,0)","v":3.0000000000000001E-3},{"$f":"OFFSET(Female!L$18,'Female - Rev'!$A58-35,0)","v":-8.0000000000000004E-4},{"$f":"OFFSET(Female!M$18,'Female - Rev'!$A58-35,0)","v":-3.5999999999999999E-3},{"$f":"OFFSET(Female!N$18,'Female - Rev'!$A58-35,0)","v":-5.4000000000000003E-3},{"$f":"OFFSET(Female!O$18,'Female - Rev'!$A58-35,0)","v":-6.1999999999999998E-3},{"$f":"OFFSET(Female!P$18,'Female - Rev'!$A58-35,0)","v":-5.8999999999999999E-3},{"$f":"OFFSET(Female!Q$18,'Female - Rev'!$A58-35,0)","v":-4.4999999999999997E-3},{"$f":"OFFSET(Female!R$18,'Female - Rev'!$A58-35,0)","v":-2.0999999999999999E-3},{"$f":"OFFSET(Female!S$18,'Female - Rev'!$A58-35,0)","v":1.8E-3},{"$f":"OFFSET(Female!T$18,'Female - Rev'!$A58-35,0)","v":7.0000000000000001E-3},{"$f":"OFFSET(Female!U$18,'Female - Rev'!$A58-35,0)","v":1.34E-2},{"$f":"OFFSET(Female!V$18,'Female - Rev'!$A58-35,0)","v":2.0400000000000001E-2},{"$f":"OFFSET(Female!W$18,'Female - Rev'!$A58-35,0)","v":2.7199999999999998E-2},{"$f":"OFFSET(Female!X$18,'Female - Rev'!$A58-35,0)","v":3.3399999999999999E-2},{"$f":"OFFSET(Female!Y$18,'Female - Rev'!$A58-35,0)","v":3.8199999999999998E-2},{"$f":"OFFSET(Female!Z$18,'Female - Rev'!$A58-35,0)","v":4.1300000000000003E-2},{"$f":"OFFSET(Female!AA$18,'Female - Rev'!$A58-35,0)","v":4.2599999999999999E-2},{"$f":"OFFSET(Female!AB$18,'Female - Rev'!$A58-35,0)","v":4.2200000000000001E-2},{"$f":"OFFSET(Female!AC$18,'Female - Rev'!$A58-35,0)","v":4.07E-2},{"$f":"OFFSET(Female!AD$18,'Female - Rev'!$A58-35,0)","v":3.8199999999999998E-2},{"$f":"OFFSET(Female!AE$18,'Female - Rev'!$A58-35,0)","v":3.49E-2},{"$f":"OFFSET(Female!AF$18,'Female - Rev'!$A58-35,0)","v":3.1099999999999999E-2},{"$f":"OFFSET(Female!AG$18,'Female - Rev'!$A58-35,0)","v":2.6700000000000002E-2},{"$f":"OFFSET(Female!AH$18,'Female - Rev'!$A58-35,0)","v":2.1999999999999999E-2},{"$f":"OFFSET(Female!AI$18,'Female - Rev'!$A58-35,0)","v":1.7299999999999999E-2},{"$f":"OFFSET(Female!AJ$18,'Female - Rev'!$A58-35,0)","v":1.2800000000000001E-2},{"$f":"OFFSET(Female!AK$18,'Female - Rev'!$A58-35,0)","v":8.6999999999999994E-3},{"$f":"OFFSET(Female!AL$18,'Female - Rev'!$A58-35,0)","v":5.1000000000000004E-3},{"$f":"OFFSET(Female!AM$18,'Female - Rev'!$A58-35,0)","v":1.8E-3},{"$f":"OFFSET(Female!AN$18,'Female - Rev'!$A58-35,0)","v":-1.1000000000000001E-3},{"$f":"OFFSET(Female!AO$18,'Female - Rev'!$A58-35,0)","v":-3.8E-3},{"$f":"OFFSET(Female!AP$18,'Female - Rev'!$A58-35,0)","v":-6.1999999999999998E-3},{"$f":"OFFSET(Female!AQ$18,'Female - Rev'!$A58-35,0)","v":-7.6E-3},{"$f":"OFFSET(Female!AR$18,'Female - Rev'!$A58-35,0)","v":-7.6E-3},{"$f":"OFFSET(Female!AS$18,'Female - Rev'!$A58-35,0)","v":-6.3E-3},{"$f":"OFFSET(Female!AT$18,'Female - Rev'!$A58-35,0)","v":-4.1000000000000003E-3},{"$f":"OFFSET(Female!AU$18,'Female - Rev'!$A58-35,0)","v":-2E-3},{"$f":"OFFSET(Female!AV$18,'Female - Rev'!$A58-35,0)","v":-8.9999999999999998E-4},{"$f":"OFFSET(Female!AW$18,'Female - Rev'!$A58-35,0)","v":-1E-3},{"$f":"OFFSET(Female!AX$18,'Female - Rev'!$A58-35,0)","v":-1.8E-3},{"$f":"OFFSET(Female!AY$18,'Female - Rev'!$A58-35,0)","v":-2.0999999999999999E-3},{"$f":"OFFSET(Female!AZ$18,'Female - Rev'!$A58-35,0)","v":-1.1000000000000001E-3},{"$f":"OFFSET(Female!BA$18,'Female - Rev'!$A58-35,0)","v":1.6999999999999999E-3},{"$f":"OFFSET(Female!BB$18,'Female - Rev'!$A58-35,0)","v":5.8999999999999999E-3},{"$f":"OFFSET(Female!BC$18,'Female - Rev'!$A58-35,0)","v":1.06E-2},{"$f":"OFFSET(Female!BD$18,'Female - Rev'!$A58-35,0)","v":1.4999999999999999E-2},{"$f":"OFFSET(Female!BE$18,'Female - Rev'!$A58-35,0)","v":1.83E-2},{"$f":"OFFSET(Female!BF$18,'Female - Rev'!$A58-35,0)","v":2.01E-2},{"$f":"OFFSET(Female!BG$18,'Female - Rev'!$A58-35,0)","v":1.9800000000000002E-2},{"$f":"OFFSET(Female!BH$18,'Female - Rev'!$A58-35,0)","v":1.7500000000000002E-2},{"$f":"OFFSET(Female!BI$18,'Female - Rev'!$A58-35,0)","v":1.32E-2},{"$f":"OFFSET(Female!BJ$18,'Female - Rev'!$A58-35,0)","v":7.1999999999999998E-3},{"$f":"OFFSET(Female!BK$18,'Female - Rev'!$A58-35,0)","v":2.9999999999999997E-4},{"$f":"OFFSET(Female!BL$18,'Female - Rev'!$A58-35,0)","v":-6.7000000000000002E-3},{"$f":"OFFSET(Female!BM$18,'Female - Rev'!$A58-35,0)","v":-1.2999999999999999E-2},{"$f":"OFFSET(Female!BN$18,'Female - Rev'!$A58-35,0)","v":-1.8100000000000002E-2},{"$f":"OFFSET(Female!BO$18,'Female - Rev'!$A58-35,0)","v":-2.1899999999999999E-2},{"$f":"OFFSET(Female!BP$18,'Female - Rev'!$A58-35,0)","v":-2.3599999999999999E-2},{"$f":"OFFSET(Female!BQ$18,'Female - Rev'!$A58-35,0)","v":-2.41E-2},{"$f":"OFFSET(Female!BR$18,'Female - Rev'!$A58-35,0)","v":-2.3300000000000001E-2},{"$f":"OFFSET(Female!BS$18,'Female - Rev'!$A58-35,0)","v":-2.1499999999999998E-2},{"$f":"OFFSET(Female!BT$18,'Female - Rev'!$A58-35,0)","v":-1.8800000000000001E-2},{"$f":"OFFSET(Female!BU$18,'Female - Rev'!$A58-35,0)","v":-1.55E-2},{"$f":"OFFSET(Female!BV$18,'Female - Rev'!$A58-35,0)","v":-1.17E-2},{"$f":"OFFSET(Female!BW$18,'Female - Rev'!$A58-35,0)","v":-7.9000000000000008E-3},{"$f":"OFFSET(Female!BX$18,'Female - Rev'!$A58-35,0)","v":-4.3E-3},{"$f":"OFFSET(Female!BY$18,'Female - Rev'!$A58-35,0)","v":-1.2999999999999999E-3},{"$f":"OFFSET(Female!BZ$18,'Female - Rev'!$A58-35,0)","v":1.1999999999999999E-3},{"$f":"OFFSET(Female!CA$18,'Female - Rev'!$A58-35,0)","v":3.7000000000000002E-3},{"$f":"OFFSET(Female!CB$18,'Female - Rev'!$A58-35,0)","v":6.0000000000000001E-3},{"$f":"OFFSET(Female!CC$18,'Female - Rev'!$A58-35,0)","v":8.0999999999999996E-3},{"$f":"OFFSET(Female!CD$18,'Female - Rev'!$A58-35,0)","v":9.7999999999999997E-3},{"$f":"OFFSET(Female!CE$18,'Female - Rev'!$A58-35,0)","v":1.12E-2},{"$f":"OFFSET(Female!CF$18,'Female - Rev'!$A58-35,0)","v":1.2200000000000001E-2},{"$f":"OFFSET(Female!CG$18,'Female - Rev'!$A58-35,0)","v":1.29E-2},{"$f":"OFFSET(Female!CH$18,'Female - Rev'!$A58-35,0)","v":1.34E-2},{"$f":"OFFSET(Female!CI$18,'Female - Rev'!$A58-35,0)","v":1.35E-2},{"$f":"CJ58","v":1.35E-2},1.35E-2]
[39,39,{"$f":"OFFSET(Female!B$18,'Female - Rev'!$A59-35,0)","v":4.8899999999999999E-2},{"$f":"OFFSET(Female!C$18,'Female - Rev'!$A59-35,0)","v":4.4400000000000002E-2},{"$f":"OFFSET(Female!D$18,'Female - Rev'!$A59-35,0)","v":3.9800000000000002E-2},{"$f":"OFFSET(Female!E$18,'Female - Rev'!$A59-35,0)","v":3.4799999999999998E-2},{"$f":"OFFSET(Female!F$18,'Female - Rev'!$A59-35,0)","v":2.93E-2},{"$f":"OFFSET(Female!G$18,'Female - Rev'!$A59-35,0)","v":2.3599999999999999E-2},{"$f":"OFFSET(Female!H$18,'Female - Rev'!$A59-35,0)","v":1.7899999999999999E-2},{"$f":"OFFSET(Female!I$18,'Female - Rev'!$A59-35,0)","v":1.24E-2},{"$f":"OFFSET(Female!J$18,'Female - Rev'!$A59-35,0)","v":7.1999999999999998E-3},{"$f":"OFFSET(Female!K$18,'Female - Rev'!$A59-35,0)","v":2.5999999999999999E-3},{"$f":"OFFSET(Female!L$18,'Female - Rev'!$A59-35,0)","v":-1.1999999999999999E-3},{"$f":"OFFSET(Female!M$18,'Female - Rev'!$A59-35,0)","v":-4.0000000000000001E-3},{"$f":"OFFSET(Female!N$18,'Female - Rev'!$A59-35,0)","v":-5.7000000000000002E-3},{"$f":"OFFSET(Female!O$18,'Female - Rev'!$A59-35,0)","v":-6.1999999999999998E-3},{"$f":"OFFSET(Female!P$18,'Female - Rev'!$A59-35,0)","v":-5.7999999999999996E-3},{"$f":"OFFSET(Female!Q$18,'Female - Rev'!$A59-35,0)","v":-4.3E-3},{"$f":"OFFSET(Female!R$18,'Female - Rev'!$A59-35,0)","v":-1.6000000000000001E-3},{"$f":"OFFSET(Female!S$18,'Female - Rev'!$A59-35,0)","v":2.3999999999999998E-3},{"$f":"OFFSET(Female!T$18,'Female - Rev'!$A59-35,0)","v":7.9000000000000008E-3},{"$f":"OFFSET(Female!U$18,'Female - Rev'!$A59-35,0)","v":1.4500000000000001E-2},{"$f":"OFFSET(Female!V$18,'Female - Rev'!$A59-35,0)","v":2.1700000000000001E-2},{"$f":"OFFSET(Female!W$18,'Female - Rev'!$A59-35,0)","v":2.8799999999999999E-2},{"$f":"OFFSET(Female!X$18,'Female - Rev'!$A59-35,0)","v":3.5000000000000003E-2},{"$f":"OFFSET(Female!Y$18,'Female - Rev'!$A59-35,0)","v":3.9800000000000002E-2},{"$f":"OFFSET(Female!Z$18,'Female - Rev'!$A59-35,0)","v":4.2799999999999998E-2},{"$f":"OFFSET(Female!AA$18,'Female - Rev'!$A59-35,0)","v":4.3799999999999999E-2},{"$f":"OFFSET(Female!AB$18,'Female - Rev'!$A59-35,0)","v":4.3200000000000002E-2},{"$f":"OFFSET(Female!AC$18,'Female - Rev'!$A59-35,0)","v":4.1200000000000001E-2},{"$f":"OFFSET(Female!AD$18,'Female - Rev'!$A59-35,0)","v":3.8300000000000001E-2},{"$f":"OFFSET(Female!AE$18,'Female - Rev'!$A59-35,0)","v":3.4599999999999999E-2},{"$f":"OFFSET(Female!AF$18,'Female - Rev'!$A59-35,0)","v":3.04E-2},{"$f":"OFFSET(Female!AG$18,'Female - Rev'!$A59-35,0)","v":2.5600000000000001E-2},{"$f":"OFFSET(Female!AH$18,'Female - Rev'!$A59-35,0)","v":2.0299999999999999E-2},{"$f":"OFFSET(Female!AI$18,'Female - Rev'!$A59-35,0)","v":1.4999999999999999E-2},{"$f":"OFFSET(Female!AJ$18,'Female - Rev'!$A59-35,0)","v":0.01},{"$f":"OFFSET(Female!AK$18,'Female - Rev'!$A59-35,0)","v":5.4999999999999997E-3},{"$f":"OFFSET(Female!AL$18,'Female - Rev'!$A59-35,0)","v":1.6999999999999999E-3},{"$f":"OFFSET(Female!AM$18,'Female - Rev'!$A59-35,0)","v":-1.5E-3},{"$f":"OFFSET(Female!AN$18,'Female - Rev'!$A59-35,0)","v":-4.1999999999999997E-3},{"$f":"OFFSET(Female!AO$18,'Female - Rev'!$A59-35,0)","v":-6.4999999999999997E-3},{"$f":"OFFSET(Female!AP$18,'Female - Rev'!$A59-35,0)","v":-8.3000000000000001E-3},{"$f":"OFFSET(Female!AQ$18,'Female - Rev'!$A59-35,0)","v":-8.9999999999999993E-3},{"$f":"OFFSET(Female!AR$18,'Female - Rev'!$A59-35,0)","v":-8.3000000000000001E-3},{"$f":"OFFSET(Female!AS$18,'Female - Rev'!$A59-35,0)","v":-6.1000000000000004E-3},{"$f":"OFFSET(Female!AT$18,'Female - Rev'!$A59-35,0)","v":-3.0000000000000001E-3},{"$f":"OFFSET(Female!AU$18,'Female - Rev'!$A59-35,0)","v":-1E-4},{"$f":"OFFSET(Female!AV$18,'Female - Rev'!$A59-35,0)","v":1.6000000000000001E-3},{"$f":"OFFSET(Female!AW$18,'Female - Rev'!$A59-35,0)","v":1.8E-3},{"$f":"OFFSET(Female!AX$18,'Female - Rev'!$A59-35,0)","v":1.2999999999999999E-3},{"$f":"OFFSET(Female!AY$18,'Female - Rev'!$A59-35,0)","v":1E-3},{"$f":"OFFSET(Female!AZ$18,'Female - Rev'!$A59-35,0)","v":1.9E-3},{"$f":"OFFSET(Female!BA$18,'Female - Rev'!$A59-35,0)","v":4.4000000000000003E-3},{"$f":"OFFSET(Female!BB$18,'Female - Rev'!$A59-35,0)","v":8.2000000000000007E-3},{"$f":"OFFSET(Female!BC$18,'Female - Rev'!$A59-35,0)","v":1.23E-2},{"$f":"OFFSET(Female!BD$18,'Female - Rev'!$A59-35,0)","v":1.5900000000000001E-2},{"$f":"OFFSET(Female!BE$18,'Female - Rev'!$A59-35,0)","v":1.8499999999999999E-2},{"$f":"OFFSET(Female!BF$18,'Female - Rev'!$A59-35,0)","v":1.95E-2},{"$f":"OFFSET(Female!BG$18,'Female - Rev'!$A59-35,0)","v":1.8499999999999999E-2},{"$f":"OFFSET(Female!BH$18,'Female - Rev'!$A59-35,0)","v":1.55E-2},{"$f":"OFFSET(Female!BI$18,'Female - Rev'!$A59-35,0)","v":1.06E-2},{"$f":"OFFSET(Female!BJ$18,'Female - Rev'!$A59-35,0)","v":4.1999999999999997E-3},{"$f":"OFFSET(Female!BK$18,'Female - Rev'!$A59-35,0)","v":-3.0999999999999999E-3},{"$f":"OFFSET(Female!BL$18,'Female - Rev'!$A59-35,0)","v":-1.0500000000000001E-2},{"$f":"OFFSET(Female!BM$18,'Female - Rev'!$A59-35,0)","v":-1.72E-2},{"$f":"OFFSET(Female!BN$18,'Female - Rev'!$A59-35,0)","v":-2.2599999999999999E-2},{"$f":"OFFSET(Female!BO$18,'Female - Rev'!$A59-35,0)","v":-2.6700000000000002E-2},{"$f":"OFFSET(Female!BP$18,'Female - Rev'!$A59-35,0)","v":-2.8199999999999999E-2},{"$f":"OFFSET(Female!BQ$18,'Female - Rev'!$A59-35,0)","v":-2.8299999999999999E-2},{"$f":"OFFSET(Female!BR$18,'Female - Rev'!$A59-35,0)","v":-2.7E-2},{"$f":"OFFSET(Female!BS$18,'Female - Rev'!$A59-35,0)","v":-2.4500000000000001E-2},{"$f":"OFFSET(Female!BT$18,'Female - Rev'!$A59-35,0)","v":-2.1000000000000001E-2},{"$f":"OFFSET(Female!BU$18,'Female - Rev'!$A59-35,0)","v":-1.6899999999999998E-2},{"$f":"OFFSET(Female!BV$18,'Female - Rev'!$A59-35,0)","v":-1.2500000000000001E-2},{"$f":"OFFSET(Female!BW$18,'Female - Rev'!$A59-35,0)","v":-8.0999999999999996E-3},{"$f":"OFFSET(Female!BX$18,'Female - Rev'!$A59-35,0)","v":-4.1000000000000003E-3},{"$f":"OFFSET(Female!BY$18,'Female - Rev'!$A59-35,0)","v":-8.9999999999999998E-4},{"$f":"OFFSET(Female!BZ$18,'Female - Rev'!$A59-35,0)","v":1.6999999999999999E-3},{"$f":"OFFSET(Female!CA$18,'Female - Rev'!$A59-35,0)","v":4.1999999999999997E-3},{"$f":"OFFSET(Female!CB$18,'Female - Rev'!$A59-35,0)","v":6.4000000000000003E-3},{"$f":"OFFSET(Female!CC$18,'Female - Rev'!$A59-35,0)","v":8.3999999999999995E-3},{"$f":"OFFSET(Female!CD$18,'Female - Rev'!$A59-35,0)","v":0.01},{"$f":"OFFSET(Female!CE$18,'Female - Rev'!$A59-35,0)","v":1.1299999999999999E-2},{"$f":"OFFSET(Female!CF$18,'Female - Rev'!$A59-35,0)","v":1.23E-2},{"$f":"OFFSET(Female!CG$18,'Female - Rev'!$A59-35,0)","v":1.2999999999999999E-2},{"$f":"OFFSET(Female!CH$18,'Female - Rev'!$A59-35,0)","v":1.34E-2},{"$f":"OFFSET(Female!CI$18,'Female - Rev'!$A59-35,0)","v":1.35E-2},{"$f":"CJ59","v":1.35E-2},1.35E-2]
[38,38,{"$f":"OFFSET(Female!B$18,'Female - Rev'!$A60-35,0)","v":5.0599999999999999E-2},{"$f":"OFFSET(Female!C$18,'Female - Rev'!$A60-35,0)","v":4.58E-2},{"$f":"OFFSET(Female!D$18,'Female - Rev'!$A60-35,0)","v":4.0800000000000003E-2},{"$f":"OFFSET(Female!E$18,'Female - Rev'!$A60-35,0)","v":3.5400000000000001E-2},{"$f":"OFFSET(Female!F$18,'Female - Rev'!$A60-35,0)","v":2.9499999999999998E-2},{"$f":"OFFSET(Female!G$18,'Female - Rev'!$A60-35,0)","v":2.35E-2},{"$f":"OFFSET(Female!H$18,'Female - Rev'!$A60-35,0)","v":1.7600000000000001E-2},{"$f":"OFFSET(Female!I$18,'Female - Rev'!$A60-35,0)","v":1.2E-2},{"$f":"OFFSET(Female!J$18,'Female - Rev'!$A60-35,0)","v":6.7999999999999996E-3},{"$f":"OFFSET(Female!K$18,'Female - Rev'!$A60-35,0)","v":2.2000000000000001E-3},{"$f":"OFFSET(Female!L$18,'Female - Rev'!$A60-35,0)","v":-1.6000000000000001E-3},{"$f":"OFFSET(Female!M$18,'Female - Rev'!$A60-35,0)","v":-4.3E-3},{"$f":"OFFSET(Female!N$18,'Female - Rev'!$A60-35,0)","v":-5.7999999999999996E-3},{"$f":"OFFSET(Female!O$18,'Female - Rev'!$A60-35,0)","v":-6.1999999999999998E-3},{"$f":"OFFSET(Female!P$18,'Female - Rev'!$A60-35,0)","v":-5.4999999999999997E-3},{"$f":"OFFSET(Female!Q$18,'Female - Rev'!$A60-35,0)","v":-3.8E-3},{"$f":"OFFSET(Female!R$18,'Female - Rev'!$A60-35,0)","v":-1E-3},{"$f":"OFFSET(Female!S$18,'Female - Rev'!$A60-35,0)","v":3.2000000000000002E-3},{"$f":"OFFSET(Female!T$18,'Female - Rev'!$A60-35,0)","v":8.8999999999999999E-3},{"$f":"OFFSET(Female!U$18,'Female - Rev'!$A60-35,0)","v":1.5699999999999999E-2},{"$f":"OFFSET(Female!V$18,'Female - Rev'!$A60-35,0)","v":2.3099999999999999E-2},{"$f":"OFFSET(Female!W$18,'Female - Rev'!$A60-35,0)","v":3.0200000000000001E-2},{"$f":"OFFSET(Female!X$18,'Female - Rev'!$A60-35,0)","v":3.6499999999999998E-2},{"$f":"OFFSET(Female!Y$18,'Female - Rev'!$A60-35,0)","v":4.1300000000000003E-2},{"$f":"OFFSET(Female!Z$18,'Female - Rev'!$A60-35,0)","v":4.41E-2},{"$f":"OFFSET(Female!AA$18,'Female - Rev'!$A60-35,0)","v":4.4900000000000002E-2},{"$f":"OFFSET(Female!AB$18,'Female - Rev'!$A60-35,0)","v":4.3799999999999999E-2},{"$f":"OFFSET(Female!AC$18,'Female - Rev'!$A60-35,0)","v":4.1399999999999999E-2},{"$f":"OFFSET(Female!AD$18,'Female - Rev'!$A60-35,0)","v":3.7999999999999999E-2},{"$f":"OFFSET(Female!AE$18,'Female - Rev'!$A60-35,0)","v":3.39E-2},{"$f":"OFFSET(Female!AF$18,'Female - Rev'!$A60-35,0)","v":2.92E-2},{"$f":"OFFSET(Female!AG$18,'Female - Rev'!$A60-35,0)","v":2.4E-2},{"$f":"OFFSET(Female!AH$18,'Female - Rev'!$A60-35,0)","v":1.8200000000000001E-2},{"$f":"OFFSET(Female!AI$18,'Female - Rev'!$A60-35,0)","v":1.23E-2},{"$f":"OFFSET(Female!AJ$18,'Female - Rev'!$A60-35,0)","v":6.7999999999999996E-3},{"$f":"OFFSET(Female!AK$18,'Female - Rev'!$A60-35,0)","v":2E-3},{"$f":"OFFSET(Female!AL$18,'Female - Rev'!$A60-35,0)","v":-1.9E-3},{"$f":"OFFSET(Female!AM$18,'Female - Rev'!$A60-35,0)","v":-4.8999999999999998E-3},{"$f":"OFFSET(Female!AN$18,'Female - Rev'!$A60-35,0)","v":-7.1000000000000004E-3},{"$f":"OFFSET(Female!AO$18,'Female - Rev'!$A60-35,0)","v":-8.8999999999999999E-3},{"$f":"OFFSET(Female!AP$18,'Female - Rev'!$A60-35,0)","v":-9.9000000000000008E-3},{"$f":"OFFSET(Female!AQ$18,'Female - Rev'!$A60-35,0)","v":-9.9000000000000008E-3},{"$f":"OFFSET(Female!AR$18,'Female - Rev'!$A60-35,0)","v":-8.2000000000000007E-3},{"$f":"OFFSET(Female!AS$18,'Female - Rev'!$A60-35,0)","v":-5.1000000000000004E-3},{"$f":"OFFSET(Female!AT$18,'Female - Rev'!$A60-35,0)","v":-1.1999999999999999E-3},{"$f":"OFFSET(Female!AU$18,'Female - Rev'!$A60-35,0)","v":2.5000000000000001E-3},{"$f":"OFFSET(Female!AV$18,'Female - Rev'!$A60-35,0)","v":4.7000000000000002E-3},{"$f":"OFFSET(Female!AW$18,'Female - Rev'!$A60-35,0)","v":5.1999999999999998E-3},{"$f":"OFFSET(Female!AX$18,'Female - Rev'!$A60-35,0)","v":4.7000000000000002E-3},{"$f":"OFFSET(Female!AY$18,'Female - Rev'!$A60-35,0)","v":4.3E-3},{"$f":"OFFSET(Female!AZ$18,'Female - Rev'!$A60-35,0)","v":4.8999999999999998E-3},{"$f":"OFFSET(Female!BA$18,'Female - Rev'!$A60-35,0)","v":6.8999999999999999E-3},{"$f":"OFFSET(Female!BB$18,'Female - Rev'!$A60-35,0)","v":0.01},{"$f":"OFFSET(Female!BC$18,'Female - Rev'!$A60-35,0)","v":1.3299999999999999E-2},{"$f":"OFFSET(Female!BD$18,'Female - Rev'!$A60-35,0)","v":1.61E-2},{"$f":"OFFSET(Female!BE$18,'Female - Rev'!$A60-35,0)","v":1.78E-2},{"$f":"OFFSET(Female!BF$18,'Female - Rev'!$A60-35,0)","v":1.8100000000000002E-2},{"$f":"OFFSET(Female!BG$18,'Female - Rev'!$A60-35,0)","v":1.6500000000000001E-2},{"$f":"OFFSET(Female!BH$18,'Female - Rev'!$A60-35,0)","v":1.2999999999999999E-2},{"$f":"OFFSET(Female!BI$18,'Female - Rev'!$A60-35,0)","v":7.7000000000000002E-3},{"$f":"OFFSET(Female!BJ$18,'Female - Rev'!$A60-35,0)","v":1E-3},{"$f":"OFFSET(Female!BK$18,'Female - Rev'!$A60-35,0)","v":-6.4999999999999997E-3},{"$f":"OFFSET(Female!BL$18,'Female - Rev'!$A60-35,0)","v":-1.41E-2},{"$f":"OFFSET(Female!BM$18,'Female - Rev'!$A60-35,0)","v":-2.1100000000000001E-2},{"$f":"OFFSET(Female!BN$18,'Female - Rev'!$A60-35,0)","v":-2.6800000000000001E-2},{"$f":"OFFSET(Female!BO$18,'Female - Rev'!$A60-35,0)","v":-3.1199999999999999E-2},{"$f":"OFFSET(Female!BP$18,'Female - Rev'!$A60-35,0)","v":-3.2500000000000001E-2},{"$f":"OFFSET(Female!BQ$18,'Female - Rev'!$A60-35,0)","v":-3.2099999999999997E-2},{"$f":"OFFSET(Female!BR$18,'Female - Rev'!$A60-35,0)","v":-3.0200000000000001E-2},{"$f":"OFFSET(Female!BS$18,'Female - Rev'!$A60-35,0)","v":-2.7E-2},{"$f":"OFFSET(Female!BT$18,'Female - Rev'!$A60-35,0)","v":-2.2800000000000001E-2},{"$f":"OFFSET(Female!BU$18,'Female - Rev'!$A60-35,0)","v":-1.7999999999999999E-2},{"$f":"OFFSET(Female!BV$18,'Female - Rev'!$A60-35,0)","v":-1.29E-2},{"$f":"OFFSET(Female!BW$18,'Female - Rev'!$A60-35,0)","v":-8.0000000000000002E-3},{"$f":"OFFSET(Female!BX$18,'Female - Rev'!$A60-35,0)","v":-3.7000000000000002E-3},{"$f":"OFFSET(Female!BY$18,'Female - Rev'!$A60-35,0)","v":-4.0000000000000002E-4},{"$f":"OFFSET(Female!BZ$18,'Female - Rev'!$A60-35,0)","v":2.2000000000000001E-3},{"$f":"OFFSET(Female!CA$18,'Female - Rev'!$A60-35,0)","v":4.7000000000000002E-3},{"$f":"OFFSET(Female!CB$18,'Female - Rev'!$A60-35,0)","v":6.7999999999999996E-3},{"$f":"OFFSET(Female!CC$18,'Female - Rev'!$A60-35,0)","v":8.6999999999999994E-3},{"$f":"OFFSET(Female!CD$18,'Female - Rev'!$A60-35,0)","v":1.0200000000000001E-2},{"$f":"OFFSET(Female!CE$18,'Female - Rev'!$A60-35,0)","v":1.14E-2},{"$f":"OFFSET(Female!CF$18,'Female - Rev'!$A60-35,0)","v":1.24E-2},{"$f":"OFFSET(Female!CG$18,'Female - Rev'!$A60-35,0)","v":1.2999999999999999E-2},{"$f":"OFFSET(Female!CH$18,'Female - Rev'!$A60-35,0)","v":1.34E-2},{"$f":"OFFSET(Female!CI$18,'Female - Rev'!$A60-35,0)","v":1.35E-2},{"$f":"CJ60","v":1.35E-2},1.35E-2]
[37,37,{"$f":"OFFSET(Female!B$18,'Female - Rev'!$A61-35,0)","v":5.2600000000000001E-2},{"$f":"OFFSET(Female!C$18,'Female - Rev'!$A61-35,0)","v":4.7300000000000002E-2},{"$f":"OFFSET(Female!D$18,'Female - Rev'!$A61-35,0)","v":4.1799999999999997E-2},{"$f":"OFFSET(Female!E$18,'Female - Rev'!$A61-35,0)","v":3.5900000000000001E-2},{"$f":"OFFSET(Female!F$18,'Female - Rev'!$A61-35,0)","v":2.9600000000000001E-2},{"$f":"OFFSET(Female!G$18,'Female - Rev'!$A61-35,0)","v":2.3300000000000001E-2},{"$f":"OFFSET(Female!H$18,'Female - Rev'!$A61-35,0)","v":1.72E-2},{"$f":"OFFSET(Female!I$18,'Female - Rev'!$A61-35,0)","v":1.1599999999999999E-2},{"$f":"OFFSET(Female!J$18,'Female - Rev'!$A61-35,0)","v":6.4999999999999997E-3},{"$f":"OFFSET(Female!K$18,'Female - Rev'!$A61-35,0)","v":1.9E-3},{"$f":"OFFSET(Female!L$18,'Female - Rev'!$A61-35,0)","v":-1.8E-3},{"$f":"OFFSET(Female!M$18,'Female - Rev'!$A61-35,0)","v":-4.4000000000000003E-3},{"$f":"OFFSET(Female!N$18,'Female - Rev'!$A61-35,0)","v":-5.7999999999999996E-3},{"$f":"OFFSET(Female!O$18,'Female - Rev'!$A61-35,0)","v":-6.0000000000000001E-3},{"$f":"OFFSET(Female!P$18,'Female - Rev'!$A61-35,0)","v":-5.1000000000000004E-3},{"$f":"OFFSET(Female!Q$18,'Female - Rev'!$A61-35,0)","v":-3.2000000000000002E-3},{"$f":"OFFSET(Female!R$18,'Female - Rev'!$A61-35,0)","v":-2.0000000000000001E-4},{"$f":"OFFSET(Female!S$18,'Female - Rev'!$A61-35,0)","v":4.1999999999999997E-3},{"$f":"OFFSET(Female!T$18,'Female - Rev'!$A61-35,0)","v":0.01},{"$f":"OFFSET(Female!U$18,'Female - Rev'!$A61-35,0)","v":1.6899999999999998E-2},{"$f":"OFFSET(Female!V$18,'Female - Rev'!$A61-35,0)","v":2.4299999999999999E-2},{"$f":"OFFSET(Female!W$18,'Female - Rev'!$A61-35,0)","v":3.15E-2},{"$f":"OFFSET(Female!X$18,'Female - Rev'!$A61-35,0)","v":3.78E-2},{"$f":"OFFSET(Female!Y$18,'Female - Rev'!$A61-35,0)","v":4.2500000000000003E-2},{"$f":"OFFSET(Female!Z$18,'Female - Rev'!$A61-35,0)","v":4.5199999999999997E-2},{"$f":"OFFSET(Female!AA$18,'Female - Rev'!$A61-35,0)","v":4.5699999999999998E-2},{"$f":"OFFSET(Female!AB$18,'Female - Rev'!$A61-35,0)","v":4.4299999999999999E-2},{"$f":"OFFSET(Female!AC$18,'Female - Rev'!$A61-35,0)","v":4.1399999999999999E-2},{"$f":"OFFSET(Female!AD$18,'Female - Rev'!$A61-35,0)","v":3.7499999999999999E-2},{"$f":"OFFSET(Female!AE$18,'Female - Rev'!$A61-35,0)","v":3.3000000000000002E-2},{"$f":"OFFSET(Female!AF$18,'Female - Rev'!$A61-35,0)","v":2.7799999999999998E-2},{"$f":"OFFSET(Female!AG$18,'Female - Rev'!$A61-35,0)","v":2.1999999999999999E-2},{"$f":"OFFSET(Female!AH$18,'Female - Rev'!$A61-35,0)","v":1.5699999999999999E-2},{"$f":"OFFSET(Female!AI$18,'Female - Rev'!$A61-35,0)","v":9.2999999999999992E-3},{"$f":"OFFSET(Female!AJ$18,'Female - Rev'!$A61-35,0)","v":3.3999999999999998E-3},{"$f":"OFFSET(Female!AK$18,'Female - Rev'!$A61-35,0)","v":-1.6000000000000001E-3},{"$f":"OFFSET(Female!AL$18,'Female - Rev'!$A61-35,0)","v":-5.4999999999999997E-3},{"$f":"OFFSET(Female!AM$18,'Female - Rev'!$A61-35,0)","v":-8.0000000000000002E-3},{"$f":"OFFSET(Female!AN$18,'Female - Rev'!$A61-35,0)","v":-9.5999999999999992E-3},{"$f":"OFFSET(Female!AO$18,'Female - Rev'!$A61-35,0)","v":-1.0699999999999999E-2},{"$f":"OFFSET(Female!AP$18,'Female - Rev'!$A61-35,0)","v":-1.09E-2},{"$f":"OFFSET(Female!AQ$18,'Female - Rev'!$A61-35,0)","v":-0.01},{"$f":"OFFSET(Female!AR$18,'Female - Rev'!$A61-35,0)","v":-7.4999999999999997E-3},{"$f":"OFFSET(Female!AS$18,'Female - Rev'!$A61-35,0)","v":-3.5000000000000001E-3},{"$f":"OFFSET(Female!AT$18,'Female - Rev'!$A61-35,0)","v":1.1999999999999999E-3},{"$f":"OFFSET(Female!AU$18,'Female - Rev'!$A61-35,0)","v":5.4999999999999997E-3},{"$f":"OFFSET(Female!AV$18,'Female - Rev'!$A61-35,0)","v":8.0999999999999996E-3},{"$f":"OFFSET(Female!AW$18,'Female - Rev'!$A61-35,0)","v":8.8000000000000005E-3},{"$f":"OFFSET(Female!AX$18,'Female - Rev'!$A61-35,0)","v":8.3000000000000001E-3},{"$f":"OFFSET(Female!AY$18,'Female - Rev'!$A61-35,0)","v":7.4999999999999997E-3},{"$f":"OFFSET(Female!AZ$18,'Female - Rev'!$A61-35,0)","v":7.4999999999999997E-3},{"$f":"OFFSET(Female!BA$18,'Female - Rev'!$A61-35,0)","v":8.8000000000000005E-3},{"$f":"OFFSET(Female!BB$18,'Female - Rev'!$A61-35,0)","v":1.11E-2},{"$f":"OFFSET(Female!BC$18,'Female - Rev'!$A61-35,0)","v":1.35E-2},{"$f":"OFFSET(Female!BD$18,'Female - Rev'!$A61-35,0)","v":1.54E-2},{"$f":"OFFSET(Female!BE$18,'Female - Rev'!$A61-35,0)","v":1.6299999999999999E-2},{"$f":"OFFSET(Female!BF$18,'Female - Rev'!$A61-35,0)","v":1.6E-2},{"$f":"OFFSET(Female!BG$18,'Female - Rev'!$A61-35,0)","v":1.4E-2},{"$f":"OFFSET(Female!BH$18,'Female - Rev'!$A61-35,0)","v":1.01E-2},{"$f":"OFFSET(Female!BI$18,'Female - Rev'!$A61-35,0)","v":4.7000000000000002E-3},{"$f":"OFFSET(Female!BJ$18,'Female - Rev'!$A61-35,0)","v":-2E-3},{"$f":"OFFSET(Female!BK$18,'Female - Rev'!$A61-35,0)","v":-9.5999999999999992E-3},{"$f":"OFFSET(Female!BL$18,'Female - Rev'!$A61-35,0)","v":-1.7399999999999999E-2},{"$f":"OFFSET(Female!BM$18,'Female - Rev'!$A61-35,0)","v":-2.46E-2},{"$f":"OFFSET(Female!BN$18,'Female - Rev'!$A61-35,0)","v":-3.0700000000000002E-2},{"$f":"OFFSET(Female!BO$18,'Female - Rev'!$A61-35,0)","v":-3.5400000000000001E-2},{"$f":"OFFSET(Female!BP$18,'Female - Rev'!$A61-35,0)","v":-3.6400000000000002E-2},{"$f":"OFFSET(Female!BQ$18,'Female - Rev'!$A61-35,0)","v":-3.5499999999999997E-2},{"$f":"OFFSET(Female!BR$18,'Female - Rev'!$A61-35,0)","v":-3.2899999999999999E-2},{"$f":"OFFSET(Female!BS$18,'Female - Rev'!$A61-35,0)","v":-2.9000000000000001E-2},{"$f":"OFFSET(Female!BT$18,'Female - Rev'!$A61-35,0)","v":-2.4199999999999999E-2},{"$f":"OFFSET(Female!BU$18,'Female - Rev'!$A61-35,0)","v":-1.8700000000000001E-2},{"$f":"OFFSET(Female!BV$18,'Female - Rev'!$A61-35,0)","v":-1.3100000000000001E-2},{"$f":"OFFSET(Female!BW$18,'Female - Rev'!$A61-35,0)","v":-7.7000000000000002E-3},{"$f":"OFFSET(Female!BX$18,'Female - Rev'!$A61-35,0)","v":-3.0999999999999999E-3},{"$f":"OFFSET(Female!BY$18,'Female - Rev'!$A61-35,0)","v":2.0000000000000001E-4},{"$f":"OFFSET(Female!BZ$18,'Female - Rev'!$A61-35,0)","v":2.8E-3},{"$f":"OFFSET(Female!CA$18,'Female - Rev'!$A61-35,0)","v":5.1000000000000004E-3},{"$f":"OFFSET(Female!CB$18,'Female - Rev'!$A61-35,0)","v":7.1999999999999998E-3},{"$f":"OFFSET(Female!CC$18,'Female - Rev'!$A61-35,0)","v":8.9999999999999993E-3},{"$f":"OFFSET(Female!CD$18,'Female - Rev'!$A61-35,0)","v":1.04E-2},{"$f":"OFFSET(Female!CE$18,'Female - Rev'!$A61-35,0)","v":1.15E-2},{"$f":"OFFSET(Female!CF$18,'Female - Rev'!$A61-35,0)","v":1.24E-2},{"$f":"OFFSET(Female!CG$18,'Female - Rev'!$A61-35,0)","v":1.2999999999999999E-2},{"$f":"OFFSET(Female!CH$18,'Female - Rev'!$A61-35,0)","v":1.34E-2},{"$f":"OFFSET(Female!CI$18,'Female - Rev'!$A61-35,0)","v":1.35E-2},{"$f":"CJ61","v":1.35E-2},1.35E-2]
[36,36,{"$f":"OFFSET(Female!B$18,'Female - Rev'!$A62-35,0)","v":5.4800000000000001E-2},{"$f":"OFFSET(Female!C$18,'Female - Rev'!$A62-35,0)","v":4.8899999999999999E-2},{"$f":"OFFSET(Female!D$18,'Female - Rev'!$A62-35,0)","v":4.2799999999999998E-2},{"$f":"OFFSET(Female!E$18,'Female - Rev'!$A62-35,0)","v":3.6299999999999999E-2},{"$f":"OFFSET(Female!F$18,'Female - Rev'!$A62-35,0)","v":2.9600000000000001E-2},{"$f":"OFFSET(Female!G$18,'Female - Rev'!$A62-35,0)","v":2.29E-2},{"$f":"OFFSET(Female!H$18,'Female - Rev'!$A62-35,0)","v":1.67E-2},{"$f":"OFFSET(Female!I$18,'Female - Rev'!$A62-35,0)","v":1.11E-2},{"$f":"OFFSET(Female!J$18,'Female - Rev'!$A62-35,0)","v":6.1999999999999998E-3},{"$f":"OFFSET(Female!K$18,'Female - Rev'!$A62-35,0)","v":1.8E-3},{"$f":"OFFSET(Female!L$18,'Female - Rev'!$A62-35,0)","v":-1.6999999999999999E-3},{"$f":"OFFSET(Female!M$18,'Female - Rev'!$A62-35,0)","v":-4.3E-3},{"$f":"OFFSET(Female!N$18,'Female - Rev'!$A62-35,0)","v":-5.5999999999999999E-3},{"$f":"OFFSET(Female!O$18,'Female - Rev'!$A62-35,0)","v":-5.7000000000000002E-3},{"$f":"OFFSET(Female!P$18,'Female - Rev'!$A62-35,0)","v":-4.5999999999999999E-3},{"$f":"OFFSET(Female!Q$18,'Female - Rev'!$A62-35,0)","v":-2.5000000000000001E-3},{"$f":"OFFSET(Female!R$18,'Female - Rev'!$A62-35,0)","v":6.9999999999999999E-4},{"$f":"OFFSET(Female!S$18,'Female - Rev'!$A62-35,0)","v":5.3E-3},{"$f":"OFFSET(Female!T$18,'Female - Rev'!$A62-35,0)","v":1.11E-2},{"$f":"OFFSET(Female!U$18,'Female - Rev'!$A62-35,0)","v":1.7999999999999999E-2},{"$f":"OFFSET(Female!V$18,'Female - Rev'!$A62-35,0)","v":2.53E-2},{"$f":"OFFSET(Female!W$18,'Female - Rev'!$A62-35,0)","v":3.2399999999999998E-2},{"$f":"OFFSET(Female!X$18,'Female - Rev'!$A62-35,0)","v":3.8699999999999998E-2},{"$f":"OFFSET(Female!Y$18,'Female - Rev'!$A62-35,0)","v":4.3299999999999998E-2},{"$f":"OFFSET(Female!Z$18,'Female - Rev'!$A62-35,0)","v":4.58E-2},{"$f":"OFFSET(Female!AA$18,'Female - Rev'!$A62-35,0)","v":4.6100000000000002E-2},{"$f":"OFFSET(Female!AB$18,'Female - Rev'!$A62-35,0)","v":4.4299999999999999E-2},{"$f":"OFFSET(Female!AC$18,'Female - Rev'!$A62-35,0)","v":4.1099999999999998E-2},{"$f":"OFFSET(Female!AD$18,'Female - Rev'!$A62-35,0)","v":3.6799999999999999E-2},{"$f":"OFFSET(Female!AE$18,'Female - Rev'!$A62-35,0)","v":3.1699999999999999E-2},{"$f":"OFFSET(Female!AF$18,'Female - Rev'!$A62-35,0)","v":2.6100000000000002E-2},{"$f":"OFFSET(Female!AG$18,'Female - Rev'!$A62-35,0)","v":1.9900000000000001E-2},{"$f":"OFFSET(Female!AH$18,'Female - Rev'!$A62-35,0)","v":1.3100000000000001E-2},{"$f":"OFFSET(Female!AI$18,'Female - Rev'!$A62-35,0)","v":6.3E-3},{"$f":"OFFSET(Female!AJ$18,'Female - Rev'!$A62-35,0)","v":0},{"$f":"OFFSET(Female!AK$18,'Female - Rev'!$A62-35,0)","v":-5.0000000000000001E-3},{"$f":"OFFSET(Female!AL$18,'Female - Rev'!$A62-35,0)","v":-8.6999999999999994E-3},{"$f":"OFFSET(Female!AM$18,'Female - Rev'!$A62-35,0)","v":-1.0699999999999999E-2},{"$f":"OFFSET(Female!AN$18,'Female - Rev'!$A62-35,0)","v":-1.1599999999999999E-2},{"$f":"OFFSET(Female!AO$18,'Female - Rev'!$A62-35,0)","v":-1.1900000000000001E-2},{"$f":"OFFSET(Female!AP$18,'Female - Rev'!$A62-35,0)","v":-1.12E-2},{"$f":"OFFSET(Female!AQ$18,'Female - Rev'!$A62-35,0)","v":-9.4000000000000004E-3},{"$f":"OFFSET(Female!AR$18,'Female - Rev'!$A62-35,0)","v":-6.1000000000000004E-3},{"$f":"OFFSET(Female!AS$18,'Female - Rev'!$A62-35,0)","v":-1.4E-3},{"$f":"OFFSET(Female!AT$18,'Female - Rev'!$A62-35,0)","v":4.0000000000000001E-3},{"$f":"OFFSET(Female!AU$18,'Female - Rev'!$A62-35,0)","v":8.8000000000000005E-3},{"$f":"OFFSET(Female!AV$18,'Female - Rev'!$A62-35,0)","v":1.18E-2},{"$f":"OFFSET(Female!AW$18,'Female - Rev'!$A62-35,0)","v":1.2500000000000001E-2},{"$f":"OFFSET(Female!AX$18,'Female - Rev'!$A62-35,0)","v":1.18E-2},{"$f":"OFFSET(Female!AY$18,'Female - Rev'!$A62-35,0)","v":1.06E-2},{"$f":"OFFSET(Female!AZ$18,'Female - Rev'!$A62-35,0)","v":9.7999999999999997E-3},{"$f":"OFFSET(Female!BA$18,'Female - Rev'!$A62-35,0)","v":1.0200000000000001E-2},{"$f":"OFFSET(Female!BB$18,'Female - Rev'!$A62-35,0)","v":1.14E-2},{"$f":"OFFSET(Female!BC$18,'Female - Rev'!$A62-35,0)","v":1.2800000000000001E-2},{"$f":"OFFSET(Female!BD$18,'Female - Rev'!$A62-35,0)","v":1.38E-2},{"$f":"OFFSET(Female!BE$18,'Female - Rev'!$A62-35,0)","v":1.4200000000000001E-2},{"$f":"OFFSET(Female!BF$18,'Female - Rev'!$A62-35,0)","v":1.34E-2},{"$f":"OFFSET(Female!BG$18,'Female - Rev'!$A62-35,0)","v":1.11E-2},{"$f":"OFFSET(Female!BH$18,'Female - Rev'!$A62-35,0)","v":7.1000000000000004E-3},{"$f":"OFFSET(Female!BI$18,'Female - Rev'!$A62-35,0)","v":1.6999999999999999E-3},{"$f":"OFFSET(Female!BJ$18,'Female - Rev'!$A62-35,0)","v":-4.8999999999999998E-3},{"$f":"OFFSET(Female!BK$18,'Female - Rev'!$A62-35,0)","v":-1.24E-2},{"$f":"OFFSET(Female!BL$18,'Female - Rev'!$A62-35,0)","v":-2.0199999999999999E-2},{"$f":"OFFSET(Female!BM$18,'Female - Rev'!$A62-35,0)","v":-2.7699999999999999E-2},{"$f":"OFFSET(Female!BN$18,'Female - Rev'!$A62-35,0)","v":-3.4099999999999998E-2},{"$f":"OFFSET(Female!BO$18,'Female - Rev'!$A62-35,0)","v":-3.9100000000000003E-2},{"$f":"OFFSET(Female!BP$18,'Female - Rev'!$A62-35,0)","v":-3.9699999999999999E-2},{"$f":"OFFSET(Female!BQ$18,'Female - Rev'!$A62-35,0)","v":-3.8300000000000001E-2},{"$f":"OFFSET(Female!BR$18,'Female - Rev'!$A62-35,0)","v":-3.5099999999999999E-2},{"$f":"OFFSET(Female!BS$18,'Female - Rev'!$A62-35,0)","v":-3.0599999999999999E-2},{"$f":"OFFSET(Female!BT$18,'Female - Rev'!$A62-35,0)","v":-2.5000000000000001E-2},{"$f":"OFFSET(Female!BU$18,'Female - Rev'!$A62-35,0)","v":-1.9E-2},{"$f":"OFFSET(Female!BV$18,'Female - Rev'!$A62-35,0)","v":-1.29E-2},{"$f":"OFFSET(Female!BW$18,'Female - Rev'!$A62-35,0)","v":-7.1999999999999998E-3},{"$f":"OFFSET(Female!BX$18,'Female - Rev'!$A62-35,0)","v":-2.5000000000000001E-3},{"$f":"OFFSET(Female!BY$18,'Female - Rev'!$A62-35,0)","v":8.9999999999999998E-4},{"$f":"OFFSET(Female!BZ$18,'Female - Rev'!$A62-35,0)","v":3.3999999999999998E-3},{"$f":"OFFSET(Female!CA$18,'Female - Rev'!$A62-35,0)","v":5.5999999999999999E-3},{"$f":"OFFSET(Female!CB$18,'Female - Rev'!$A62-35,0)","v":7.6E-3},{"$f":"OFFSET(Female!CC$18,'Female - Rev'!$A62-35,0)","v":9.1999999999999998E-3},{"$f":"OFFSET(Female!CD$18,'Female - Rev'!$A62-35,0)","v":1.06E-2},{"$f":"OFFSET(Female!CE$18,'Female - Rev'!$A62-35,0)","v":1.1599999999999999E-2},{"$f":"OFFSET(Female!CF$18,'Female - Rev'!$A62-35,0)","v":1.24E-2},{"$f":"OFFSET(Female!CG$18,'Female - Rev'!$A62-35,0)","v":1.2999999999999999E-2},{"$f":"OFFSET(Female!CH$18,'Female - Rev'!$A62-35,0)","v":1.34E-2},{"$f":"OFFSET(Female!CI$18,'Female - Rev'!$A62-35,0)","v":1.35E-2},{"$f":"CJ62","v":1.35E-2},1.35E-2]
[35,35,{"$f":"OFFSET(Female!B$18,'Female - Rev'!$A63-35,0)","v":5.7200000000000001E-2},{"$f":"OFFSET(Female!C$18,'Female - Rev'!$A63-35,0)","v":5.0599999999999999E-2},{"$f":"OFFSET(Female!D$18,'Female - Rev'!$A63-35,0)","v":4.3900000000000002E-2},{"$f":"OFFSET(Female!E$18,'Female - Rev'!$A63-35,0)","v":3.6900000000000002E-2},{"$f":"OFFSET(Female!F$18,'Female - Rev'!$A63-35,0)","v":2.9600000000000001E-2},{"$f":"OFFSET(Female!G$18,'Female - Rev'!$A63-35,0)","v":2.2599999999999999E-2},{"$f":"OFFSET(Female!H$18,'Female - Rev'!$A63-35,0)","v":1.6199999999999999E-2},{"$f":"OFFSET(Female!I$18,'Female - Rev'!$A63-35,0)","v":1.0699999999999999E-2},{"$f":"OFFSET(Female!J$18,'Female - Rev'!$A63-35,0)","v":5.8999999999999999E-3},{"$f":"OFFSET(Female!K$18,'Female - Rev'!$A63-35,0)","v":1.8E-3},{"$f":"OFFSET(Female!L$18,'Female - Rev'!$A63-35,0)","v":-1.5E-3},{"$f":"OFFSET(Female!M$18,'Female - Rev'!$A63-35,0)","v":-3.8999999999999998E-3},{"$f":"OFFSET(Female!N$18,'Female - Rev'!$A63-35,0)","v":-5.1999999999999998E-3},{"$f":"OFFSET(Female!O$18,'Female - Rev'!$A63-35,0)","v":-5.1999999999999998E-3},{"$f":"OFFSET(Female!P$18,'Female - Rev'!$A63-35,0)","v":-4.0000000000000001E-3},{"$f":"OFFSET(Female!Q$18,'Female - Rev'!$A63-35,0)","v":-1.6000000000000001E-3},{"$f":"OFFSET(Female!R$18,'Female - Rev'!$A63-35,0)","v":1.8E-3},{"$f":"OFFSET(Female!S$18,'Female - Rev'!$A63-35,0)","v":6.4000000000000003E-3},{"$f":"OFFSET(Female!T$18,'Female - Rev'!$A63-35,0)","v":1.2200000000000001E-2},{"$f":"OFFSET(Female!U$18,'Female - Rev'!$A63-35,0)","v":1.89E-2},{"$f":"OFFSET(Female!V$18,'Female - Rev'!$A63-35,0)","v":2.5999999999999999E-2},{"$f":"OFFSET(Female!W$18,'Female - Rev'!$A63-35,0)","v":3.3000000000000002E-2},{"$f":"OFFSET(Female!X$18,'Female - Rev'!$A63-35,0)","v":3.9100000000000003E-2},{"$f":"OFFSET(Female!Y$18,'Female - Rev'!$A63-35,0)","v":4.3700000000000003E-2},{"$f":"OFFSET(Female!Z$18,'Female - Rev'!$A63-35,0)","v":4.5999999999999999E-2},{"$f":"OFFSET(Female!AA$18,'Female - Rev'!$A63-35,0)","v":4.6100000000000002E-2},{"$f":"OFFSET(Female!AB$18,'Female - Rev'!$A63-35,0)","v":4.41E-2},{"$f":"OFFSET(Female!AC$18,'Female - Rev'!$A63-35,0)","v":4.0500000000000001E-2},{"$f":"OFFSET(Female!AD$18,'Female - Rev'!$A63-35,0)","v":3.5799999999999998E-2},{"$f":"OFFSET(Female!AE$18,'Female - Rev'!$A63-35,0)","v":3.04E-2},{"$f":"OFFSET(Female!AF$18,'Female - Rev'!$A63-35,0)","v":2.4299999999999999E-2},{"$f":"OFFSET(Female!AG$18,'Female - Rev'!$A63-35,0)","v":1.77E-2},{"$f":"OFFSET(Female!AH$18,'Female - Rev'!$A63-35,0)","v":1.0500000000000001E-2},{"$f":"OFFSET(Female!AI$18,'Female - Rev'!$A63-35,0)","v":3.3E-3},{"$f":"OFFSET(Female!AJ$18,'Female - Rev'!$A63-35,0)","v":-3.0999999999999999E-3},{"$f":"OFFSET(Female!AK$18,'Female - Rev'!$A63-35,0)","v":-8.0999999999999996E-3},{"$f":"OFFSET(Female!AL$18,'Female - Rev'!$A63-35,0)","v":-1.14E-2},{"$f":"OFFSET(Female!AM$18,'Female - Rev'!$A63-35,0)","v":-1.2800000000000001E-2},{"$f":"OFFSET(Female!AN$18,'Female - Rev'!$A63-35,0)","v":-1.2999999999999999E-2},{"$f":"OFFSET(Female!AO$18,'Female - Rev'!$A63-35,0)","v":-1.23E-2},{"$f":"OFFSET(Female!AP$18,'Female - Rev'!$A63-35,0)","v":-1.0800000000000001E-2},{"$f":"OFFSET(Female!AQ$18,'Female - Rev'!$A63-35,0)","v":-8.2000000000000007E-3},{"$f":"OFFSET(Female!AR$18,'Female - Rev'!$A63-35,0)","v":-4.1999999999999997E-3},{"$f":"OFFSET(Female!AS$18,'Female - Rev'!$A63-35,0)","v":1E-3},{"$f":"OFFSET(Female!AT$18,'Female - Rev'!$A63-35,0)","v":7.0000000000000001E-3},{"$f":"OFFSET(Female!AU$18,'Female - Rev'!$A63-35,0)","v":1.2200000000000001E-2},{"$f":"OFFSET(Female!AV$18,'Female - Rev'!$A63-35,0)","v":1.54E-2},{"$f":"OFFSET(Female!AW$18,'Female - Rev'!$A63-35,0)","v":1.61E-2},{"$f":"OFFSET(Female!AX$18,'Female - Rev'!$A63-35,0)","v":1.4999999999999999E-2},{"$f":"OFFSET(Female!AY$18,'Female - Rev'!$A63-35,0)","v":1.32E-2},{"$f":"OFFSET(Female!AZ$18,'Female - Rev'!$A63-35,0)","v":1.1599999999999999E-2},{"$f":"OFFSET(Female!BA$18,'Female - Rev'!$A63-35,0)","v":1.0800000000000001E-2},{"$f":"OFFSET(Female!BB$18,'Female - Rev'!$A63-35,0)","v":1.09E-2},{"$f":"OFFSET(Female!BC$18,'Female - Rev'!$A63-35,0)","v":1.1299999999999999E-2},{"$f":"OFFSET(Female!BD$18,'Female - Rev'!$A63-35,0)","v":1.1599999999999999E-2},{"$f":"OFFSET(Female!BE$18,'Female - Rev'!$A63-35,0)","v":1.14E-2},{"$f":"OFFSET(Female!BF$18,'Female - Rev'!$A63-35,0)","v":1.03E-2},{"$f":"OFFSET(Female!BG$18,'Female - Rev'!$A63-35,0)","v":7.9000000000000008E-3},{"$f":"OFFSET(Female!BH$18,'Female - Rev'!$A63-35,0)","v":4.1000000000000003E-3},{"$f":"OFFSET(Female!BI$18,'Female - Rev'!$A63-35,0)","v":-1.1000000000000001E-3},{"$f":"OFFSET(Female!BJ$18,'Female - Rev'!$A63-35,0)","v":-7.4000000000000003E-3},{"$f":"OFFSET(Female!BK$18,'Female - Rev'!$A63-35,0)","v":-1.46E-2},{"$f":"OFFSET(Female!BL$18,'Female - Rev'!$A63-35,0)","v":-2.24E-2},{"$f":"OFFSET(Female!BM$18,'Female - Rev'!$A63-35,0)","v":-0.03},{"$f":"OFFSET(Female!BN$18,'Female - Rev'!$A63-35,0)","v":-3.6799999999999999E-2},{"$f":"OFFSET(Female!BO$18,'Female - Rev'!$A63-35,0)","v":-4.2200000000000001E-2},{"$f":"OFFSET(Female!BP$18,'Female - Rev'!$A63-35,0)","v":-4.24E-2},{"$f":"OFFSET(Female!BQ$18,'Female - Rev'!$A63-35,0)","v":-4.0399999999999998E-2},{"$f":"OFFSET(Female!BR$18,'Female - Rev'!$A63-35,0)","v":-3.6600000000000001E-2},{"$f":"OFFSET(Female!BS$18,'Female - Rev'!$A63-35,0)","v":-3.15E-2},{"$f":"OFFSET(Female!BT$18,'Female - Rev'!$A63-35,0)","v":-2.5399999999999999E-2},{"$f":"OFFSET(Female!BU$18,'Female - Rev'!$A63-35,0)","v":-1.89E-2},{"$f":"OFFSET(Female!BV$18,'Female - Rev'!$A63-35,0)","v":-1.2500000000000001E-2},{"$f":"OFFSET(Female!BW$18,'Female - Rev'!$A63-35,0)","v":-6.6E-3},{"$f":"OFFSET(Female!BX$18,'Female - Rev'!$A63-35,0)","v":-1.6999999999999999E-3},{"$f":"OFFSET(Female!BY$18,'Female - Rev'!$A63-35,0)","v":1.6000000000000001E-3},{"$f":"OFFSET(Female!BZ$18,'Female - Rev'!$A63-35,0)","v":4.0000000000000001E-3},{"$f":"OFFSET(Female!CA$18,'Female - Rev'!$A63-35,0)","v":6.1000000000000004E-3},{"$f":"OFFSET(Female!CB$18,'Female - Rev'!$A63-35,0)","v":7.9000000000000008E-3},{"$f":"OFFSET(Female!CC$18,'Female - Rev'!$A63-35,0)","v":9.4000000000000004E-3},{"$f":"OFFSET(Female!CD$18,'Female - Rev'!$A63-35,0)","v":1.0699999999999999E-2},{"$f":"OFFSET(Female!CE$18,'Female - Rev'!$A63-35,0)","v":1.1599999999999999E-2},{"$f":"OFFSET(Female!CF$18,'Female - Rev'!$A63-35,0)","v":1.24E-2},{"$f":"OFFSET(Female!CG$18,'Female - Rev'!$A63-35,0)","v":1.2999999999999999E-2},{"$f":"OFFSET(Female!CH$18,'Female - Rev'!$A63-35,0)","v":1.34E-2},{"$f":"OFFSET(Female!CI$18,'Female - Rev'!$A63-35,0)","v":1.35E-2},{"$f":"CJ63","v":1.35E-2},1.35E-2]

{"sheet":"Heat Maps","index":5,"n_rows":0,"n_cols":0,"rows_kept":0,"cut":false,"hidden":false,"merged":[]}