{"text_format":"1","workbook":"xlsx","n_sheets":6,"sheets":["Input","Male","Female","Male Rev","Female Rev","Heat Maps"],"not_rendered":{"charts":2,"images":0,"macros":1,"external_links":0,"defined_names":12,"comments":1,"pivot_tables":0},"unopened":[],"bounds":{"document_bytes":16777216,"sheet_cells":100000,"rows_first":2000,"rows_last":500,"rows_between":2000,"halvings":0,"cell_chars":16384,"cell_head_chars":4096},"cells_cut":0,"cells_raw":0,"read":"whole","date_system":"1900"}

{"sheet":"Input","index":0,"n_rows":107,"n_cols":25,"rows_kept":107,"cut":false,"hidden":false,"merged":[]}
["The RPEC_O2_v2019 model to construct a mortality improvement scale",null,null,null,null,null,null,null,null,null,null,null,null,"NOTE: THIS TOOL DOES NOT CREATE ANY",null,null,null,"Unrounded Historical Order 2 Rates"]
["Written Oct, 2014 by Bob Howard & modified October, 2019",null,null,null,null,null,"bob@howardfamily.ca",null,null,null,null,null,null,"ORDER-3 SCALE, INCLUDING SCALE MP-2019!",null,null,null,"Male",null,"Female"]
[null,null,null,null,null,null,null,null,null,null,null,null,null,null,null,null,null,2014,2015,2014,2015]
["Name of improvement scale",null,null,"O2-2019",null,null,null,null,null,null,null,null,null,null,null,null,20,-2.1973568272883881E-3,-7.9857091946686776E-3,-5.1271998844906186E-3,-9.8299201419189686E-3]
["Long term rates",null,null,null,null,null,null,"Convergence",null,null,null,null,null,"Rounding",null,null,21,-5.1568367193797204E-3,-1.0779555003282537E-2,-8.1112848008253469E-3,-1.2715483195516741E-2,null,"Manual Ultimate"]
[null,null,"Age","Rate",null,null,null,"The rates for intervening years are obtained by",null,null,null,null,null,4,"decimals",null,22,-8.2302100199269645E-3,-1.3740991730657237E-2,-1.1043449277523099E-2,-1.5545428805271211E-2,null,null,"Male","Female"]
["Line segments",null,85,0.01,null,null,null,"combining cubics running from historical to long term",null,null,null,null,null,"Calculations are done without",null,null,23,-1.1375701990361753E-2,-1.6831896985797012E-2,-1.3884048894223788E-2,-1.8279679372542823E-2,null,20]
[null,null,95,8.5000000000000006E-3,null,null,null,"1. by attained age",null,null,null,null,null,"rounding until the final",null,null,24,-1.4526019750712438E-2,-1.997670289280884E-2,-1.6580163139662707E-2,-2.0873568990609881E-2,null,21]
[null,null,115,0,null,null,null,"2. by birth cohort",null,null,null,null,null,"numbers are displayed.",null,null,25,-1.7602117333619161E-2,-2.3075567100197203E-2,-1.9068070768282652E-2,-2.3275966992321928E-2,null,22]
[null,null,null,null,null,null,null,null,"Birth cohort proportion",null,null,null,null,null,null,null,26,-2.0521153859502483E-2,-2.6022618628286809E-2,-2.1287176110399431E-2,-2.5445138546697388E-2,null,23]
[null,null,null,null,null,null,null,"Male",0.5,null,null,null,null,null,null,null,27,-2.3196246578175206E-2,-2.87203283277917E-2,-2.3179236679847781E-2,-2.7342999149990943E-2,null,24]
["The long term rates are developed as line segments.",null,null,null,null,null,null,"Female",0.5,null,null,null,null,null,null,null,28,-2.5543120353624937E-2,-3.1078665398042604E-2,-2.4691892549101535E-2,-2.8917461925284105E-2,null,25]
["The first line segment is flat from age 20 to the age specified.",null,null,null,null,null,null,null,null,null,null,null,null,null,null,null,29,-2.7489095551587406E-2,-3.3021845976086039E-2,-2.5783579690623393E-2,-3.0100323953875519E-2,null,26]
["Tne next segment begins there and ends at the next age and rate",null,null,null,null,null,null,"Convergence to ultimate in year",null,null,null,null,null,null,null,null,30,-2.8971654610930209E-2,-3.4494446285455727E-2,-2.642450182035283E-2,-3.082178549204051E-2,null,27]
["specified, until all the age-rates are used. The ages must be ",null,null,null,null,null,null,"Age",2025,null,null,null,null,null,null,null,31,-2.9938230396343357E-2,-3.5455837520496303E-2,-2.6593987474351266E-2,-3.1018362927001775E-2,null,28]
["ascending order. ",null,null,null,null,null,null,"Cohort",2035,null,null,null,null,null,null,null,32,-3.0354308202992897E-2,-3.5871598864759324E-2,-2.6281217825517622E-2,-3.0646164790955721E-2,null,29]
["Alternatively, cell C7 can be set to \"Manual\". In that case the ",null,null,null,null,null,null,null,null,null,null,null,null,null,null,null,33,-3.0197457129200744E-2,-3.5714401268108542E-2,-2.5487129552030252E-2,-2.9697628827725087E-2,null,30]
["values shown in cells X7:Y107 are used for the ultimate.",null,null,null,null,null,null,"Constraint on initial slope",null,null,null,null,null,null,null,null,34,-2.9456640399966538E-2,-3.4962548600519394E-2,-2.4225536876204989E-2,-2.8207673609571104E-2,null,31]
["Otherwise the values in cells X7:Y107 are ignored.",null,null,null,null,null,null,"Age",0,null,null,null,null,null,null,null,35,-2.8136376578013378E-2,-3.3606376943720706E-2,-2.2525531592103132E-2,-2.6238783485629247E-2,null,32]
[null,null,null,null,null,null,null,"Cohort",0,null,null,null,null,null,null,null,36,-2.6256110809041555E-2,-3.1656356142699016E-2,-2.0433662428255506E-2,-2.3872659348066261E-2,null,33]
[null,null,null,null,null,null,null,null,null,null,null,null,null,null,null,null,37,-2.3856208873120899E-2,-2.9149850069308814E-2,-1.8016598809773576E-2,-2.119582188453184E-2,null,34]
["About RPEC_O2_v2019",null,null,null,null,null,null,null,null,null,null,null,null,null,null,null,38,-2.1010190179893584E-2,-2.6155292853758283E-2,-1.5360458256945764E-2,-1.8298282580729408E-2,null,35]
["This model includes historical data through 2017. Historical mortality improvement rates have been developed using Order 2 Whittaker-Henderson graduation.",null,null,null,null,null,null,null,null,null,null,null,null,null,null,null,39,-1.7818639214882914E-2,-2.2773971381981895E-2,-1.2563082139481097E-2,-1.527554459217173E-2,null,36]
[null,null,null,null,null,null,null,null,null,null,null,null,null,null,null,null,40,-1.440581079016523E-2,-1.9128111371063516E-2,-9.7314435958124612E-3,-1.2222679419270577E-2,null,37]
[null,null,null,null,null,null,null,null,null,null,null,null,null,null,null,null,41,-1.0899619748540701E-2,-1.5352788052657163E-2,-6.9661858922518416E-3,-9.2389586023291503E-3,null,38]
["How to…",null,null,null,null,null,null,null,null,null,null,null,null,null,null,null,42,-7.4310201467338022E-3,-1.1580137028488258E-2,-4.3635799460388647E-3,-6.4226213548927991E-3,null,39]
["You can enter values in any of the cells with a pale yellow background. These fields provide the parameters for the RPEC_O2_v2019 model, which along with the historical",null,null,null,null,null,null,null,null,null,null,null,null,null,null,null,43,-4.1326063080144859E-3,-7.942913965297782E-3,-2.0180693618689904E-3,-3.8659688681426108E-3,null,40]
["improvement rates, will be used to construct improvement scales in the worksheets \"Male\" and \"Female\". The rates in the new scales reflect historical data developed using ",null,null,null,null,null,null,null,null,null,null,null,null,null,null,null,44,-1.1366774280054948E-3,-4.5710406647021529E-3,-2.2997505388255846E-5,-1.6537381800076911E-3,null,41]
["Order 2 Whittaker-Henderson graduation through year 2015 (with a light blue or pink background); projected rates are shown for year 2016 and later (with a yellow ",null,null,null,null,null,null,null,null,null,null,null,null,null,null,null,45,1.4470724970259141E-3,-1.5867682193375643E-3,1.5457316056490811E-3,1.4211238945116555E-4,null,42]
["background). The name for your scale cannot include the text \"O2-2019\" or \"MP-2019\". Click on the button \"Calculate\" to calculate the new scale.",null,null,null,null,null,null,null,null,null,null,null,null,null,null,null,46,3.539790208372362E-3,9.1432024688264946E-4,2.6388751362308449E-3,1.4728444332623436E-3,null,43]
["You can compute the scale (named \"O2-2019\" in this model) that uses the same projection assumptions as used in Scale MP-2019 by clicking the button, \"Calculate",null,null,null,null,null,null,null,null,null,null,null,null,null,null,null,47,5.0995284540357178E-3,2.8732590925207857E-3,3.239539955826265E-3,2.3171366200372967E-3,null,44]
["Order-2 Scale with Committee-Selected Assumptions\". ",null,null,null,null,null,null,null,null,null,null,null,null,null,null,null,48,6.1194960164435708E-3,4.2727992524689284E-3,3.3637203892680212E-3,2.6818337615275301E-3,null,45]
[null,null,null,null,null,null,null,null,null,null,null,null,null,null,null,null,49,6.6269347959215796E-3,5.1311654295926878E-3,3.059801798238726E-3,2.5987223537160542E-3,null,46]
["Troubleshooting",null,null,null,null,null,null,null,null,null,null,null,null,null,null,null,50,6.6762322084211734E-3,5.4945369429454383E-3,2.4020994438920251E-3,2.1235348869684811E-3,null,47]
["Some when clicking on the buttons on this worksheet have received the error, “Can’t find project or library”. This is most likely caused by a missing",null,null,null,null,null,null,null,null,null,null,null,null,null,null,null,51,6.340369829044068E-3,5.4288631046917057E-3,1.4828303121612318E-3,1.3342961538891362E-3,null,48]
["reference. It can be fixed by the following steps:",null,null,null,null,null,null,null,null,null,null,null,null,null,null,null,52,5.7003404738436014E-3,5.0110183706562061E-3,4.0588884602887898E-4,3.2771554212940313E-4,null,49]
[null,"Bring up the list of workbook macros (Alt + T + M + M)",null,null,null,null,null,null,null,null,null,null,null,null,null,null,53,4.8381742396772509E-3,4.3202058725200221E-3,-7.1530922633522565E-4,-7.8486031554780844E-4,null,50]
[null,"Select “Edit”",null,null,null,null,null,null,null,null,null,null,null,null,null,null,54,3.8330599208132865E-3,3.4341562083021193E-3,-1.7613741167894492E-3,-1.8845325098859611E-3,null,51]
[null,"In the Visual Basic Window, select “Tools” -> “References”",null,null,null,null,null,null,null,null,null,null,null,null,null,null,55,2.7591915496704145E-3,2.4305078505979516E-3,-2.6210239085349141E-3,-2.8531006744856313E-3,null,52]
[null,"Look at the list of available references.  If any have the text “MISSING” in front of them, uncheck the box for that reference",null,null,null,null,null,null,null,null,null,null,null,null,null,null,56,1.6865709147092511E-3,1.3860030637506959E-3,-3.201071707144898E-3,-3.5876928751679138E-3,null,53]
[null,null,null,null,null,null,null,null,null,null,null,null,null,null,null,null,57,6.8610414165148903E-4,3.7989156647533218E-4,-3.4353006141352171E-3,-4.0082687167921627E-3,null,54]
["Disclaimer",null,null,null,null,null,null,null,null,null,null,null,null,null,null,null,58,-1.6544723653688642E-4,-5.0524750807356966E-4,-3.2874239648819081E-3,-4.0610726983700829E-3,null,55]
["This software is made available free of charge with the understanding that neither the author nor the Society of Actuaries accepts",null,null,null,null,null,null,null,null,null,null,null,null,null,null,null,59,-7.8909161157758589E-4,-1.1857824146208618E-3,-2.7527009161494309E-3,-3.7198949022876349E-3,null,56]
["any liability for its use. It may be used for any personal, research or commercial use provided that the user does not represent it ",null,null,null,null,null,null,null,null,null,null,null,null,null,null,null,60,-1.1126951135873586E-3,-1.5875577500825688E-3,-1.8550945196493807E-3,-2.9868624616027351E-3,null,57]
["as his or her own work and does not distribute it to others for a fee.",null,null,null,null,null,null,null,null,null,null,null,null,null,null,null,61,-1.0838472421579315E-3,-1.6565005160384949E-3,-6.4083663468417207E-4,-1.8910944200938307E-3,null,58]
[null,null,null,null,null,null,null,null,null,null,null,null,null,null,null,null,62,-6.8342820428313189E-4,-1.3695026731057602E-3,8.2279476380608951E-4,-4.9108065537772916E-4,null,59]
[null,null,null,null,null,null,null,null,null,null,null,null,null,null,null,null,63,6.6665560795264867E-5,-7.3958393739537165E-4,2.4476510086069991E-3,1.1253688924732774E-3,null,60]
[null,null,null,null,null,null,null,null,null,null,null,null,null,null,null,null,64,1.1063964774982171E-3,1.8675733719319965E-4,4.1302987318451168E-3,2.8485663250217286E-3,null,61]
[null,null,null,null,null,null,null,null,null,null,null,null,null,null,null,null,65,2.3507074631257119E-3,1.3396753695767982E-3,5.7660133486276965E-3,4.5618447979904886E-3,null,62]
[null,null,null,null,null,null,null,null,null,null,null,null,null,null,null,null,66,3.7053959234042422E-3,2.6392753030959337E-3,7.2618804764110756E-3,6.1596110662412995E-3,null,63]
[null,null,null,null,null,null,null,null,null,null,null,null,null,null,null,null,67,5.0822126325248407E-3,4.0062762096321203E-3,8.5504366848044855E-3,7.5630558395837211E-3,null,64]
[null,null,null,null,null,null,null,null,null,null,null,null,null,null,null,null,68,6.4073530583707017E-3,5.3686605992686598E-3,9.6005450833316353E-3,8.7288471050497307E-3,null,65]
[null,null,null,null,null,null,null,null,null,null,null,null,null,null,null,null,69,7.640209240287521E-3,6.6629940775558838E-3,1.041257559083808E-2,9.6463852473713807E-3,null,66]
[null,null,null,null,null,null,null,null,null,null,null,null,null,null,null,null,70,8.7558945424217605E-3,7.8509021076959007E-3,1.1007077056701231E-2,1.0330819745970832E-2,null,67]
[null,null,null,null,null,null,null,null,null,null,null,null,null,null,null,null,71,9.7407429559371872E-3,8.9068798915326042E-3,1.1414098556602359E-2,1.0809615710203113E-2,null,68]
[null,null,null,null,null,null,null,null,null,null,null,null,null,null,null,null,72,1.0587510348913809E-2,9.8164745551145849E-3,1.1662640635878185E-2,1.111216968423312E-2,null,69]
[null,null,null,null,null,null,null,null,null,null,null,null,null,null,null,null,73,1.1295469124547819E-2,1.0575231706968391E-2,1.1774981873440726E-2,1.1264290267172461E-2,null,70]
[null,null,null,null,null,null,null,null,null,null,null,null,null,null,null,null,74,1.1867761403450139E-2,1.1187240415344357E-2,1.1765582031890376E-2,1.1284295888857265E-2,null,71]
[null,null,null,null,null,null,null,null,null,null,null,null,null,null,null,null,75,1.2310550301885326E-2,1.1662607006057257E-2,1.1644877455474489E-2,1.1187361887575076E-2,null,72]
[null,null,null,null,null,null,null,null,null,null,null,null,null,null,null,null,76,1.2632048367455018E-2,1.2014474762825023E-2,1.1422937972475622E-2,1.0989157270149708E-2,null,73]
[null,null,null,null,null,null,null,null,null,null,null,null,null,null,null,null,77,1.2841590828453819E-2,1.2256017598553326E-2,1.111321986651248E-2,1.0707164223147436E-2,null,74]
[null,null,null,null,null,null,null,null,null,null,null,null,null,null,null,null,78,1.2948657650336148E-2,1.2398479472839341E-2,1.0734247005755315E-2,1.0360139053152362E-2,null,75]
[null,null,null,null,null,null,null,null,null,null,null,null,null,null,null,null,79,1.296201718185308E-2,1.2450629678401937E-2,1.0307980123363092E-2,9.9674471489263894E-3,null,76]
[null,null,null,null,null,null,null,null,null,null,null,null,null,null,null,null,80,1.2889729225875501E-2,1.2419509330539591E-2,9.8565564568425801E-3,9.5476650771117999E-3,null,77]
[null,null,null,null,null,null,null,null,null,null,null,null,null,null,null,null,81,1.2739573090241874E-2,1.2311578305846838E-2,9.3996647461342953E-3,9.1164762995215032E-3,null,78]
[null,null,null,null,null,null,null,null,null,null,null,null,null,null,null,null,82,1.2518934538473969E-2,1.213306090969779E-2,8.9508777496966063E-3,8.6853241819900839E-3,null,79]
[null,null,null,null,null,null,null,null,null,null,null,null,null,null,null,null,83,1.2235003156421564E-2,1.1890321291603501E-2,8.5162806190189899E-3,8.2614547202910504E-3,null,80]
[null,null,null,null,null,null,null,null,null,null,null,null,null,null,null,null,84,1.1894858880599157E-2,1.1589704171656945E-2,8.095336677651499E-3,7.8480707726651389E-3,null,81]
[null,null,null,null,null,null,null,null,null,null,null,null,null,null,null,null,85,1.1505478402970004E-2,1.1237747399788445E-2,7.6838059393705693E-3,7.4451868288648582E-3,null,82]
[null,null,null,null,null,null,null,null,null,null,null,null,null,null,null,null,86,1.1073499935525755E-2,1.0841116334833978E-2,7.2766346907829904E-3,7.050701780335733E-3,null,83]
[null,null,null,null,null,null,null,null,null,null,null,null,null,null,null,null,87,1.0605383457855222E-2,1.0406338634134316E-2,6.8698235364247351E-3,6.6618079284112008E-3,null,84]
[null,null,null,null,null,null,null,null,null,null,null,null,null,null,null,null,88,1.0107345554176139E-2,9.9400076146741734E-3,6.4612918660348351E-3,6.2761421490209468E-3,null,85]
[null,null,null,null,null,null,null,null,null,null,null,null,null,null,null,null,89,9.5847786435818705E-3,9.4483309594207698E-3,6.050461009963648E-3,5.8920243311779696E-3,null,86]
[null,null,null,null,null,null,null,null,null,null,null,null,null,null,null,null,90,9.0423588686771028E-3,8.9364234403970233E-3,5.6377098846797091E-3,5.5084055819397681E-3,null,87]
[null,null,null,null,null,null,null,null,null,null,null,null,null,null,null,null,91,8.4840969136910083E-3,8.4086235895870498E-3,5.2236960805899235E-3,5.1249243609368111E-3,null,88]
[null,null,null,null,null,null,null,null,null,null,null,null,null,null,null,null,92,7.9133757840714747E-3,7.8685392710712287E-3,4.8088172101641291E-3,4.7413464733703226E-3,null,89]
[null,null,null,null,null,null,null,null,null,null,null,null,null,null,null,null,93,7.3332000881063397E-3,7.3191690975317192E-3,4.3933398779961719E-3,4.357481584373657E-3,null,90]
[null,null,null,null,null,null,null,null,null,null,null,null,null,null,null,null,94,6.7462103814285301E-3,6.7631334422946221E-3,3.9773798015719786E-3,3.9732977499256084E-3,null,91]
[null,null,null,null,null,null,null,null,null,null,null,null,null,null,null,null,95,6.1546646434584851E-3,6.2026108640679256E-3,3.5609082153830185E-3,3.5886343753080974E-3,null,92]
[null,null,null,null,null,null,null,null,null,null,null,null,null,null,null,null,null,null,null,null,null,null,93]
[null,null,null,null,null,null,null,null,null,null,null,null,null,null,null,null,null,null,null,null,null,null,94]
[null,null,null,null,null,null,null,null,null,null,null,null,null,null,null,null,null,null,null,null,null,null,95]
[null,null,null,null,null,null,null,null,null,null,null,null,null,null,null,null,null,null,null,null,null,null,96]
[null,null,null,null,null,null,null,null,null,null,null,null,null,null,null,null,null,null,null,null,null,null,97]
[null,null,null,null,null,null,null,null,null,null,null,null,null,null,null,null,null,null,null,null,null,null,98]
[null,null,null,null,null,null,null,null,null,null,null,null,null,null,null,null,null,null,null,null,null,null,99]
[null,null,null,null,null,null,null,null,null,null,null,null,null,null,null,null,null,null,null,null,null,null,100]
[null,null,null,null,null,null,null,null,null,null,null,null,null,null,null,null,null,null,null,null,null,null,101]
[null,null,null,null,null,null,null,null,null,null,null,null,null,null,null,null,null,null,null,null,null,null,102]
[null,null,null,null,null,null,null,null,null,null,null,null,null,null,null,null,null,null,null,null,null,null,103]
[null,null,null,null,null,null,null,null,null,null,null,null,null,null,null,null,null,null,null,null,null,null,104]
[null,null,null,null,null,null,null,null,null,null,null,null,null,null,null,null,null,null,null,null,null,null,105]
[null,null,null,null,null,null,null,null,null,null,null,null,null,null,null,null,null,null,null,null,null,null,106]
[null,null,null,null,null,null,null,null,null,null,null,null,null,null,null,null,null,null,null,null,null,null,107]
[null,null,null,null,null,null,null,null,null,null,null,null,null,null,null,null,null,null,null,null,null,null,108]
[null,null,null,null,null,null,null,null,null,null,null,null,null,null,null,null,null,null,null,null,null,null,109]
[null,null,null,null,null,null,null,null,null,null,null,null,null,null,null,null,null,null,null,null,null,null,110]
[null,null,null,null,null,null,null,null,null,null,null,null,null,null,null,null,null,null,null,null,null,null,111]
[null,null,null,null,null,null,null,null,null,null,null,null,null,null,null,null,null,null,null,null,null,null,112]
[null,null,null,null,null,null,null,null,null,null,null,null,null,null,null,null,null,null,null,null,null,null,113]
[null,null,null,null,null,null,null,null,null,null,null,null,null,null,null,null,null,null,null,null,null,null,114]
[null,null,null,null,null,null,null,null,null,null,null,null,null,null,null,null,null,null,null,null,null,null,115]
[null,null,null,null,null,null,null,null,null,null,null,null,null,null,null,null,null,null,null,null,null,null,116]
[null,null,null,null,null,null,null,null,null,null,null,null,null,null,null,null,null,null,null,null,null,null,117]
[null,null,null,null,null,null,null,null,null,null,null,null,null,null,null,null,null,null,null,null,null,null,118]
[null,null,null,null,null,null,null,null,null,null,null,null,null,null,null,null,null,null,null,null,null,null,119]
[null,null,null,null,null,null,null,null,null,null,null,null,null,null,null,null,null,null,null,null,null,null,120]

{"sheet":"Male","index":1,"n_rows":103,"n_cols":86,"rows_kept":103,"cut":false,"hidden":false,"merged":[]}
["O2-2019 - Male"]
[null,1951,1952,1953,1954,1955,1956,1957,1958,1959,1960,1961,1962,1963,1964,1965,1966,1967,1968,1969,1970,1971,1972,1973,1974,1975,1976,1977,1978,1979,1980,1981,1982,1983,1984,1985,1986,1987,1988,1989,1990,1991,1992,1993,1994,1995,1996,1997,1998,1999,2000,2001,2002,2003,2004,2005,2006,2007,2008,2009,2010,2011,2012,2013,2014,2015,2016,2017,2018,2019,2020,2021,2022,2023,2024,2025,2026,2027,2028,2029,2030,2031,2032,2033,2034,"2035+"]
["≤ 20",1.21E-2,1.2500000000000001E-2,1.3100000000000001E-2,1.3599999999999999E-2,1.35E-2,1.29E-2,1.18E-2,9.7999999999999997E-3,6.6E-3,2.3999999999999998E-3,-2.8E-3,-8.5000000000000006E-3,-1.4E-2,-1.9E-2,-2.2800000000000001E-2,-2.5000000000000001E-2,-2.5100000000000001E-2,-2.3E-2,-1.8599999999999998E-2,-1.2800000000000001E-2,-6.7000000000000002E-3,-6.9999999999999999E-4,5.0000000000000001E-3,9.9000000000000008E-3,1.35E-2,1.5800000000000002E-2,1.7299999999999999E-2,1.9E-2,2.1000000000000001E-2,2.3099999999999999E-2,2.46E-2,2.3699999999999999E-2,2.0500000000000001E-2,1.55E-2,1.03E-2,6.0000000000000001E-3,3.5000000000000001E-3,2.3999999999999998E-3,2.8999999999999998E-3,4.5999999999999999E-3,7.7000000000000002E-3,1.17E-2,1.5800000000000002E-2,1.9900000000000001E-2,2.3400000000000001E-2,2.5399999999999999E-2,2.5499999999999998E-2,2.35E-2,2.01E-2,1.6E-2,1.26E-2,1.04E-2,9.7999999999999997E-3,1.0699999999999999E-2,1.29E-2,1.6400000000000001E-2,2.0400000000000001E-2,2.3199999999999998E-2,2.3800000000000002E-2,2.1600000000000001E-2,1.7299999999999999E-2,1.1599999999999999E-2,4.7999999999999996E-3,-2.2000000000000001E-3,-8.0000000000000002E-3,-7.7000000000000002E-3,-6.7999999999999996E-3,-5.4999999999999997E-3,-3.8999999999999998E-3,-2.0999999999999999E-3,-2.0000000000000001E-4,1.6000000000000001E-3,3.2000000000000002E-3,4.5999999999999999E-3,5.4999999999999997E-3,6.1999999999999998E-3,6.7999999999999996E-3,7.4999999999999997E-3,8.0999999999999996E-3,8.6E-3,9.1000000000000004E-3,9.4999999999999998E-3,9.7000000000000003E-3,9.9000000000000008E-3,0.01]
[21,1.2200000000000001E-2,1.2500000000000001E-2,1.3100000000000001E-2,1.35E-2,1.3299999999999999E-2,1.2699999999999999E-2,1.15E-2,9.2999999999999992E-3,6.1000000000000004E-3,1.8E-3,-3.3E-3,-8.8000000000000005E-3,-1.41E-2,-1.8800000000000001E-2,-2.24E-2,-2.46E-2,-2.46E-2,-2.2499999999999999E-2,-1.8200000000000001E-2,-1.2500000000000001E-2,-6.4999999999999997E-3,-6.9999999999999999E-4,4.7000000000000002E-3,9.2999999999999992E-3,1.2699999999999999E-2,1.49E-2,1.6299999999999999E-2,1.78E-2,1.9699999999999999E-2,2.18E-2,2.3300000000000001E-2,2.2599999999999999E-2,1.9599999999999999E-2,1.4800000000000001E-2,9.7999999999999997E-3,5.7000000000000002E-3,3.5000000000000001E-3,2.7000000000000001E-3,3.5000000000000001E-3,5.4000000000000003E-3,8.6E-3,1.26E-2,1.66E-2,2.0500000000000001E-2,2.3699999999999999E-2,2.5399999999999999E-2,2.5000000000000001E-2,2.2599999999999999E-2,1.8700000000000001E-2,1.4200000000000001E-2,1.0200000000000001E-2,7.7000000000000002E-3,6.7999999999999996E-3,7.4000000000000003E-3,9.2999999999999992E-3,1.26E-2,1.6400000000000001E-2,1.9300000000000001E-2,0.02,1.7899999999999999E-2,1.37E-2,8.2000000000000007E-3,1.6000000000000001E-3,-5.1999999999999998E-3,-1.0800000000000001E-2,-8.9999999999999993E-3,-8.0999999999999996E-3,-6.6E-3,-4.7999999999999996E-3,-2.8E-3,-6.9999999999999999E-4,1.2999999999999999E-3,3.0999999999999999E-3,4.4999999999999997E-3,5.4999999999999997E-3,6.1999999999999998E-3,6.7999999999999996E-3,7.4999999999999997E-3,8.0999999999999996E-3,8.6E-3,9.1000000000000004E-3,9.4999999999999998E-3,9.7000000000000003E-3,9.9000000000000008E-3,0.01]
[22,1.24E-2,1.2699999999999999E-2,1.32E-2,1.3599999999999999E-2,1.34E-2,1.26E-2,1.12E-2,8.8999999999999999E-3,5.5999999999999999E-3,1.2999999999999999E-3,-3.7000000000000002E-3,-8.9999999999999993E-3,-1.41E-2,-1.8499999999999999E-2,-2.1899999999999999E-2,-2.3800000000000002E-2,-2.3800000000000002E-2,-2.1700000000000001E-2,-1.7500000000000002E-2,-1.2E-2,-6.1000000000000004E-3,-5.0000000000000001E-4,4.5999999999999999E-3,8.9999999999999993E-3,1.21E-2,1.4200000000000001E-2,1.55E-2,1.67E-2,1.84E-2,2.0299999999999999E-2,2.18E-2,2.1299999999999999E-2,1.84E-2,1.37E-2,8.8999999999999999E-3,5.0000000000000001E-3,3.0999999999999999E-3,2.5999999999999999E-3,3.7000000000000002E-3,5.8999999999999999E-3,9.2999999999999992E-3,1.34E-2,1.7500000000000002E-2,2.1399999999999999E-2,2.4500000000000001E-2,2.5899999999999999E-2,2.52E-2,2.24E-2,1.7999999999999999E-2,1.29E-2,8.5000000000000006E-3,5.4999999999999997E-3,4.1000000000000003E-3,4.4000000000000003E-3,6.0000000000000001E-3,9.1000000000000004E-3,1.2800000000000001E-2,1.5599999999999999E-2,1.6299999999999999E-2,1.44E-2,1.03E-2,4.7999999999999996E-3,-1.6000000000000001E-3,-8.2000000000000007E-3,-1.37E-2,-1.1900000000000001E-2,-9.4000000000000004E-3,-7.7999999999999996E-3,-5.7000000000000002E-3,-3.5000000000000001E-3,-1.1999999999999999E-3,1E-3,2.8999999999999998E-3,4.4999999999999997E-3,5.4999999999999997E-3,6.1999999999999998E-3,6.7999999999999996E-3,7.4999999999999997E-3,8.0999999999999996E-3,8.6E-3,9.1000000000000004E-3,9.4999999999999998E-3,9.7000000000000003E-3,9.9000000000000008E-3,0.01]
[23,1.29E-2,1.32E-2,1.37E-2,1.3899999999999999E-2,1.35E-2,1.26E-2,1.0999999999999999E-2,8.5000000000000006E-3,5.1000000000000004E-3,8.0000000000000004E-4,-4.1000000000000003E-3,-9.1999999999999998E-3,-1.4E-2,-1.8100000000000002E-2,-2.12E-2,-2.29E-2,-2.2700000000000001E-2,-2.0500000000000001E-2,-1.6500000000000001E-2,-1.12E-2,-5.4999999999999997E-3,-1E-4,4.7999999999999996E-3,8.8999999999999999E-3,1.18E-2,1.37E-2,1.47E-2,1.5800000000000002E-2,1.7100000000000001E-2,1.8800000000000001E-2,2.0199999999999999E-2,1.9599999999999999E-2,1.6799999999999999E-2,1.2200000000000001E-2,7.6E-3,3.8E-3,2.0999999999999999E-3,1.9E-3,3.3999999999999998E-3,6.0000000000000001E-3,9.7999999999999997E-3,1.4200000000000001E-2,1.84E-2,2.2499999999999999E-2,2.5700000000000001E-2,2.7099999999999999E-2,2.6100000000000002E-2,2.2800000000000001E-2,1.7899999999999999E-2,1.2200000000000001E-2,7.3000000000000001E-3,3.8999999999999998E-3,2.0999999999999999E-3,2E-3,3.3E-3,6.1000000000000004E-3,9.5999999999999992E-3,1.2200000000000001E-2,1.29E-2,1.09E-2,6.7999999999999996E-3,1.5E-3,-4.8999999999999998E-3,-1.14E-2,-1.6799999999999999E-2,-1.4800000000000001E-2,-1.21E-2,-8.9999999999999993E-3,-6.7999999999999996E-3,-4.3E-3,-1.8E-3,5.9999999999999995E-4,2.8E-3,4.4999999999999997E-3,5.4999999999999997E-3,6.1999999999999998E-3,6.7999999999999996E-3,7.4999999999999997E-3,8.0999999999999996E-3,8.6E-3,9.1000000000000004E-3,9.4999999999999998E-3,9.7000000000000003E-3,9.9000000000000008E-3,0.01]
[24,1.37E-2,1.3899999999999999E-2,1.43E-2,1.43E-2,1.38E-2,1.26E-2,1.0800000000000001E-2,8.0999999999999996E-3,4.5999999999999999E-3,2.9999999999999997E-4,-4.4000000000000003E-3,-9.2999999999999992E-3,-1.38E-2,-1.77E-2,-2.0400000000000001E-2,-2.18E-2,-2.1399999999999999E-2,-1.9199999999999998E-2,-1.52E-2,-1.01E-2,-4.7000000000000002E-3,5.0000000000000001E-4,5.1999999999999998E-3,9.1000000000000004E-3,1.18E-2,1.35E-2,1.4200000000000001E-2,1.49E-2,1.5900000000000001E-2,1.7299999999999999E-2,1.84E-2,1.78E-2,1.49E-2,1.04E-2,5.7999999999999996E-3,2.2000000000000001E-3,5.9999999999999995E-4,6.9999999999999999E-4,2.5000000000000001E-3,5.7000000000000002E-3,0.01,1.4800000000000001E-2,1.9400000000000001E-2,2.3800000000000002E-2,2.7199999999999998E-2,2.87E-2,2.76E-2,2.3900000000000001E-2,1.8499999999999999E-2,1.23E-2,6.7999999999999996E-3,2.8999999999999998E-3,5.9999999999999995E-4,1E-4,1.1000000000000001E-3,3.5999999999999999E-3,6.7999999999999996E-3,9.1999999999999998E-3,9.5999999999999992E-3,7.6E-3,3.5999999999999999E-3,-1.8E-3,-8.0999999999999996E-3,-1.4500000000000001E-2,-0.02,-1.7899999999999999E-2,-1.4999999999999999E-2,-1.15E-2,-7.7999999999999996E-3,-5.1000000000000004E-3,-2.3E-3,2.9999999999999997E-4,2.5999999999999999E-3,4.4000000000000003E-3,5.4999999999999997E-3,6.1999999999999998E-3,6.7999999999999996E-3,7.4999999999999997E-3,8.0999999999999996E-3,8.6E-3,9.1000000000000004E-3,9.4999999999999998E-3,9.7000000000000003E-3,9.9000000000000008E-3,0.01]
[25,1.4500000000000001E-2,1.4800000000000001E-2,1.5100000000000001E-2,1.49E-2,1.41E-2,1.2699999999999999E-2,1.06E-2,7.7000000000000002E-3,4.1000000000000003E-3,-1E-4,-4.5999999999999999E-3,-9.2999999999999992E-3,-1.37E-2,-1.7100000000000001E-2,-1.95E-2,-2.06E-2,-0.02,-1.77E-2,-1.38E-2,-8.8000000000000005E-3,-3.5999999999999999E-3,1.4E-3,5.8999999999999999E-3,9.5999999999999992E-3,1.21E-2,1.35E-2,1.4E-2,1.43E-2,1.49E-2,1.5800000000000002E-2,1.6500000000000001E-2,1.5699999999999999E-2,1.2800000000000001E-2,8.3000000000000001E-3,3.7000000000000002E-3,1E-4,-1.2999999999999999E-3,-1E-3,1.1999999999999999E-3,4.8999999999999998E-3,9.7999999999999997E-3,1.5100000000000001E-2,2.0299999999999999E-2,2.52E-2,2.9000000000000001E-2,3.0800000000000001E-2,2.9600000000000001E-2,2.5700000000000001E-2,1.9699999999999999E-2,1.2999999999999999E-2,6.8999999999999999E-3,2.5000000000000001E-3,-2.0000000000000001E-4,-1.1999999999999999E-3,-5.9999999999999995E-4,1.6000000000000001E-3,4.4000000000000003E-3,6.4999999999999997E-3,6.7000000000000002E-3,4.5999999999999999E-3,4.0000000000000002E-4,-5.0000000000000001E-3,-1.12E-2,-1.7600000000000001E-2,-2.3099999999999999E-2,-2.1000000000000001E-2,-1.7899999999999999E-2,-1.41E-2,-0.01,-5.8999999999999999E-3,-2.8999999999999998E-3,0,2.5000000000000001E-3,4.4000000000000003E-3,5.4999999999999997E-3,6.1999999999999998E-3,6.7999999999999996E-3,7.4999999999999997E-3,8.0999999999999996E-3,8.6E-3,9.1000000000000004E-3,9.4999999999999998E-3,9.7000000000000003E-3,9.9000000000000008E-3,0.01]
[26,1.55E-2,1.5800000000000002E-2,1.5900000000000001E-2,1.55E-2,1.4500000000000001E-2,1.2800000000000001E-2,1.04E-2,7.3000000000000001E-3,3.5999999999999999E-3,-5.0000000000000001E-4,-4.8999999999999998E-3,-9.2999999999999992E-3,-1.34E-2,-1.66E-2,-1.8599999999999998E-2,-1.9300000000000001E-2,-1.8499999999999999E-2,-1.61E-2,-1.2200000000000001E-2,-7.4000000000000003E-3,-2.3999999999999998E-3,2.5000000000000001E-3,6.7999999999999996E-3,1.04E-2,1.26E-2,1.3899999999999999E-2,1.4E-2,1.4E-2,1.4E-2,1.44E-2,1.46E-2,1.35E-2,1.04E-2,5.7999999999999996E-3,1.1999999999999999E-3,-2.3E-3,-3.5999999999999999E-3,-3.0000000000000001E-3,-5.0000000000000001E-4,3.8E-3,9.2999999999999992E-3,1.52E-2,2.1000000000000001E-2,2.6499999999999999E-2,3.0800000000000001E-2,3.3099999999999997E-2,3.2000000000000001E-2,2.7900000000000001E-2,2.1499999999999998E-2,1.43E-2,7.7000000000000002E-3,2.8999999999999998E-3,-2.9999999999999997E-4,-1.8E-3,-1.6000000000000001E-3,1E-4,2.5000000000000001E-3,4.1999999999999997E-3,4.1000000000000003E-3,1.8E-3,-2.3999999999999998E-3,-7.9000000000000008E-3,-1.41E-2,-2.0500000000000001E-2,-2.5999999999999999E-2,-2.3900000000000001E-2,-2.07E-2,-1.67E-2,-1.23E-2,-7.7999999999999996E-3,-3.3999999999999998E-3,-2.9999999999999997E-4,2.3E-3,4.3E-3,5.4999999999999997E-3,6.1999999999999998E-3,6.7999999999999996E-3,7.4999999999999997E-3,8.0999999999999996E-3,8.6E-3,9.1000000000000004E-3,9.4999999999999998E-3,9.7000000000000003E-3,9.9000000000000008E-3,0.01]
[27,1.66E-2,1.6799999999999999E-2,1.6799999999999999E-2,1.6199999999999999E-2,1.4800000000000001E-2,1.2800000000000001E-2,1.0200000000000001E-2,7.0000000000000001E-3,3.2000000000000002E-3,-8.9999999999999998E-4,-5.0000000000000001E-3,-9.2999999999999992E-3,-1.3100000000000001E-2,-1.5900000000000001E-2,-1.7600000000000001E-2,-1.7999999999999999E-2,-1.6899999999999998E-2,-1.4500000000000001E-2,-1.06E-2,-5.8999999999999999E-3,-1E-3,3.8E-3,7.9000000000000008E-3,1.14E-2,1.35E-2,1.46E-2,1.44E-2,1.3899999999999999E-2,1.34E-2,1.32E-2,1.2699999999999999E-2,1.12E-2,7.7999999999999996E-3,3.0999999999999999E-3,-1.6000000000000001E-3,-5.0000000000000001E-3,-6.1999999999999998E-3,-5.3E-3,-2.3999999999999998E-3,2.3999999999999998E-3,8.3999999999999995E-3,1.49E-2,2.1299999999999999E-2,2.76E-2,3.2599999999999997E-2,3.5499999999999997E-2,3.4700000000000002E-2,3.0499999999999999E-2,2.3800000000000002E-2,1.6199999999999999E-2,9.1000000000000004E-3,3.8E-3,1E-4,-1.8E-3,-2E-3,-8.0000000000000004E-4,1.1000000000000001E-3,2.3E-3,1.9E-3,-5.9999999999999995E-4,-5.0000000000000001E-3,-1.0500000000000001E-2,-1.6799999999999999E-2,-2.3199999999999998E-2,-2.87E-2,-2.6700000000000002E-2,-2.3400000000000001E-2,-1.9300000000000001E-2,-1.46E-2,-9.7000000000000003E-3,-5.0000000000000001E-3,-5.9999999999999995E-4,2.2000000000000001E-3,4.3E-3,5.4999999999999997E-3,6.1999999999999998E-3,6.7999999999999996E-3,7.4999999999999997E-3,8.0999999999999996E-3,8.6E-3,9.1000000000000004E-3,9.4999999999999998E-3,9.7000000000000003E-3,9.9000000000000008E-3,0.01]
[28,1.7600000000000001E-2,1.78E-2,1.7600000000000001E-2,1.6799999999999999E-2,1.5100000000000001E-2,1.2800000000000001E-2,9.9000000000000008E-3,6.6E-3,2.8E-3,-1.1000000000000001E-3,-5.1000000000000004E-3,-9.1999999999999998E-3,-1.2699999999999999E-2,-1.5299999999999999E-2,-1.66E-2,-1.67E-2,-1.55E-2,-1.29E-2,-8.9999999999999993E-3,-4.4000000000000003E-3,4.0000000000000002E-4,5.1000000000000004E-3,9.1999999999999998E-3,1.26E-2,1.47E-2,1.5599999999999999E-2,1.5100000000000001E-2,1.4200000000000001E-2,1.2999999999999999E-2,1.2200000000000001E-2,1.11E-2,8.9999999999999993E-3,5.1999999999999998E-3,2.9999999999999997E-4,-4.4999999999999997E-3,-7.9000000000000008E-3,-8.8999999999999999E-3,-7.7000000000000002E-3,-4.4000000000000003E-3,6.9999999999999999E-4,7.1999999999999998E-3,1.4200000000000001E-2,2.1299999999999999E-2,2.8299999999999999E-2,3.4200000000000001E-2,3.78E-2,3.7400000000000003E-2,3.3300000000000003E-2,2.64E-2,1.8499999999999999E-2,1.0999999999999999E-2,5.3E-3,1.1999999999999999E-3,-1.1999999999999999E-3,-1.9E-3,-1.1999999999999999E-3,2.0000000000000001E-4,8.9999999999999998E-4,1E-4,-2.7000000000000001E-3,-7.1999999999999998E-3,-1.2800000000000001E-2,-1.9099999999999999E-2,-2.5499999999999998E-2,-3.1099999999999999E-2,-2.92E-2,-2.5899999999999999E-2,-2.1600000000000001E-2,-1.67E-2,-1.1599999999999999E-2,-6.4999999999999997E-3,-1.9E-3,2E-3,4.3E-3,5.4999999999999997E-3,6.1999999999999998E-3,6.7999999999999996E-3,7.4999999999999997E-3,8.0999999999999996E-3,8.6E-3,9.1000000000000004E-3,9.4999999999999998E-3,9.7000000000000003E-3,9.9000000000000008E-3,0.01]
[29,1.8599999999999998E-2,1.8599999999999998E-2,1.84E-2,1.7299999999999999E-2,1.54E-2,1.2800000000000001E-2,9.7000000000000003E-3,6.3E-3,2.5999999999999999E-3,-1.2999999999999999E-3,-5.1999999999999998E-3,-8.9999999999999993E-3,-1.23E-2,-1.46E-2,-1.5699999999999999E-2,-1.55E-2,-1.41E-2,-1.14E-2,-7.4999999999999997E-3,-2.8999999999999998E-3,1.9E-3,6.6E-3,1.0699999999999999E-2,1.4E-2,1.61E-2,1.6799999999999999E-2,1.61E-2,1.47E-2,1.2999999999999999E-2,1.15E-2,9.5999999999999992E-3,6.7999999999999996E-3,2.7000000000000001E-3,-2.5000000000000001E-3,-7.4000000000000003E-3,-1.0699999999999999E-2,-1.15E-2,-1.01E-2,-6.6E-3,-1E-3,5.7000000000000002E-3,1.3100000000000001E-2,2.0899999999999998E-2,2.87E-2,3.5499999999999997E-2,3.9800000000000002E-2,3.9899999999999998E-2,3.5999999999999997E-2,2.9100000000000001E-2,2.1000000000000001E-2,1.3299999999999999E-2,7.1999999999999998E-3,2.8E-3,0,-1.1999999999999999E-3,-1E-3,-2.0000000000000001E-4,0,-1.1999999999999999E-3,-4.1999999999999997E-3,-8.8999999999999999E-3,-1.47E-2,-2.1100000000000001E-2,-2.75E-2,-3.3000000000000002E-2,-3.1300000000000001E-2,-2.81E-2,-2.3800000000000002E-2,-1.8800000000000001E-2,-1.34E-2,-8.0999999999999996E-3,-3.2000000000000002E-3,1E-3,4.1999999999999997E-3,5.4999999999999997E-3,6.1999999999999998E-3,6.7999999999999996E-3,7.4999999999999997E-3,8.0999999999999996E-3,8.6E-3,9.1000000000000004E-3,9.4999999999999998E-3,9.7000000000000003E-3,9.9000000000000008E-3,0.01]
[30,1.95E-2,1.9400000000000001E-2,1.9E-2,1.78E-2,1.5599999999999999E-2,1.2800000000000001E-2,9.4999999999999998E-3,6.1000000000000004E-3,2.3999999999999998E-3,-1.4E-3,-5.1999999999999998E-3,-8.8000000000000005E-3,-1.1900000000000001E-2,-1.3899999999999999E-2,-1.47E-2,-1.44E-2,-1.2800000000000001E-2,-0.01,-6.1000000000000004E-3,-1.4E-3,3.3999999999999998E-3,8.0000000000000002E-3,1.2200000000000001E-2,1.55E-2,1.7600000000000001E-2,1.8200000000000001E-2,1.7299999999999999E-2,1.55E-2,1.3299999999999999E-2,1.11E-2,8.5000000000000006E-3,5.0000000000000001E-3,4.0000000000000002E-4,-5.0000000000000001E-3,-1.01E-2,-1.35E-2,-1.41E-2,-1.2500000000000001E-2,-8.6999999999999994E-3,-2.8999999999999998E-3,4.1000000000000003E-3,1.18E-2,2.01E-2,2.87E-2,3.6299999999999999E-2,4.1500000000000002E-2,4.2099999999999999E-2,3.8399999999999997E-2,3.1600000000000003E-2,2.35E-2,1.5699999999999999E-2,9.4000000000000004E-3,4.7999999999999996E-3,1.6999999999999999E-3,0,-4.0000000000000002E-4,-1E-4,-4.0000000000000002E-4,-2E-3,-5.3E-3,-1.01E-2,-1.6E-2,-2.2499999999999999E-2,-2.9000000000000001E-2,-3.4500000000000003E-2,-3.3000000000000002E-2,-2.9899999999999999E-2,-2.5600000000000001E-2,-2.06E-2,-1.5100000000000001E-2,-9.5999999999999992E-3,-4.4000000000000003E-3,0,3.3999999999999998E-3,5.4999999999999997E-3,6.1999999999999998E-3,6.7999999999999996E-3,7.4999999999999997E-3,8.0999999999999996E-3,8.6E-3,9.1000000000000004E-3,9.4999999999999998E-3,9.7000000000000003E-3,9.9000000000000008E-3,0.01]
[31,2.0199999999999999E-2,0.02,1.95E-2,1.8100000000000002E-2,1.5800000000000002E-2,1.2699999999999999E-2,9.4000000000000004E-3,5.8999999999999999E-3,2.3E-3,-1.4E-3,-5.1000000000000004E-3,-8.6E-3,-1.14E-2,-1.3299999999999999E-2,-1.38E-2,-1.3299999999999999E-2,-1.15E-2,-8.6999999999999994E-3,-4.7000000000000002E-3,-1E-4,4.7999999999999996E-3,9.4999999999999998E-3,1.37E-2,1.7000000000000001E-2,1.9099999999999999E-2,1.9599999999999999E-2,1.8599999999999998E-2,1.66E-2,1.4E-2,1.11E-2,7.9000000000000008E-3,3.7000000000000002E-3,-1.5E-3,-7.1999999999999998E-3,-1.24E-2,-1.5900000000000001E-2,-1.6500000000000001E-2,-1.47E-2,-1.0699999999999999E-2,-4.7999999999999996E-3,2.3E-3,1.03E-2,1.9099999999999999E-2,2.8299999999999999E-2,3.6700000000000003E-2,4.2599999999999999E-2,4.3799999999999999E-2,4.0399999999999998E-2,3.3799999999999997E-2,2.5899999999999999E-2,1.8100000000000002E-2,1.17E-2,7.0000000000000001E-3,3.8E-3,1.6000000000000001E-3,8.0000000000000004E-4,5.0000000000000001E-4,-2.9999999999999997E-4,-2.2000000000000001E-3,-5.7999999999999996E-3,-1.0800000000000001E-2,-1.6799999999999999E-2,-2.3400000000000001E-2,-2.9899999999999999E-2,-3.5499999999999997E-2,-3.4200000000000001E-2,-3.1300000000000001E-2,-2.7099999999999999E-2,-2.2100000000000002E-2,-1.66E-2,-1.0999999999999999E-2,-5.7000000000000002E-3,-1.1000000000000001E-3,2.5000000000000001E-3,4.7999999999999996E-3,6.1999999999999998E-3,6.7999999999999996E-3,7.4999999999999997E-3,8.0999999999999996E-3,8.6E-3,9.1000000000000004E-3,9.4999999999999998E-3,9.7000000000000003E-3,9.9000000000000008E-3,0.01]
[32,2.07E-2,2.0500000000000001E-2,1.9900000000000001E-2,1.84E-2,1.5900000000000001E-2,1.2699999999999999E-2,9.1999999999999998E-3,5.7999999999999996E-3,2.2000000000000001E-3,-1.4E-3,-5.0000000000000001E-3,-8.3000000000000001E-3,-1.09E-2,-1.26E-2,-1.29E-2,-1.23E-2,-1.04E-2,-7.4999999999999997E-3,-3.3999999999999998E-3,1.1999999999999999E-3,6.1000000000000004E-3,1.0800000000000001E-2,1.5100000000000001E-2,1.8499999999999999E-2,2.0500000000000001E-2,2.1000000000000001E-2,1.9900000000000001E-2,1.77E-2,1.4800000000000001E-2,1.15E-2,7.6E-3,2.8999999999999998E-3,-2.7000000000000001E-3,-8.8000000000000005E-3,-1.43E-2,-1.78E-2,-1.84E-2,-1.66E-2,-1.26E-2,-6.6E-3,5.0000000000000001E-4,8.8000000000000005E-3,1.78E-2,2.76E-2,3.6600000000000001E-2,4.3099999999999999E-2,4.4900000000000002E-2,4.1700000000000001E-2,3.5400000000000001E-2,2.7699999999999999E-2,2.0199999999999999E-2,1.4E-2,9.4000000000000004E-3,6.1000000000000004E-3,3.5999999999999999E-3,2.3999999999999998E-3,1.6000000000000001E-3,4.0000000000000002E-4,-1.9E-3,-5.7000000000000002E-3,-1.09E-2,-1.7100000000000001E-2,-2.3800000000000002E-2,-3.04E-2,-3.5900000000000001E-2,-3.49E-2,-3.2199999999999999E-2,-2.8199999999999999E-2,-2.3300000000000001E-2,-1.78E-2,-1.2200000000000001E-2,-6.7999999999999996E-3,-2.0999999999999999E-3,1.6000000000000001E-3,4.1000000000000003E-3,5.5999999999999999E-3,6.7999999999999996E-3,7.4999999999999997E-3,8.0999999999999996E-3,8.6E-3,9.1000000000000004E-3,9.4999999999999998E-3,9.7000000000000003E-3,9.9000000000000008E-3,0.01]
[33,2.1100000000000001E-2,2.0899999999999998E-2,2.01E-2,1.8499999999999999E-2,1.5900000000000001E-2,1.26E-2,9.1000000000000004E-3,5.7000000000000002E-3,2.0999999999999999E-3,-1.4E-3,-4.7999999999999996E-3,-8.0000000000000002E-3,-1.04E-2,-1.1900000000000001E-2,-1.21E-2,-1.1299999999999999E-2,-9.4000000000000004E-3,-6.3E-3,-2.2000000000000001E-3,2.5000000000000001E-3,7.4000000000000003E-3,1.21E-2,1.6400000000000001E-2,1.9800000000000002E-2,2.1899999999999999E-2,2.23E-2,2.12E-2,1.89E-2,1.5900000000000001E-2,1.2200000000000001E-2,7.9000000000000008E-3,2.7000000000000001E-3,-3.3999999999999998E-3,-9.7999999999999997E-3,-1.55E-2,-1.9199999999999998E-2,-0.02,-1.83E-2,-1.43E-2,-8.3000000000000001E-3,-1.1000000000000001E-3,7.1999999999999998E-3,1.6500000000000001E-2,2.6499999999999999E-2,3.5999999999999997E-2,4.2999999999999997E-2,4.5199999999999997E-2,4.24E-2,3.6400000000000002E-2,2.9100000000000001E-2,2.1899999999999999E-2,1.61E-2,1.17E-2,8.3999999999999995E-3,5.8999999999999999E-3,4.3E-3,3.0999999999999999E-3,1.5E-3,-1.1000000000000001E-3,-5.1000000000000004E-3,-1.0500000000000001E-2,-1.6799999999999999E-2,-2.3599999999999999E-2,-3.0200000000000001E-2,-3.5700000000000003E-2,-3.5000000000000003E-2,-3.2599999999999997E-2,-2.8799999999999999E-2,-2.41E-2,-1.8800000000000001E-2,-1.32E-2,-7.9000000000000008E-3,-3.0999999999999999E-3,6.9999999999999999E-4,3.3E-3,5.0000000000000001E-3,6.3E-3,7.4999999999999997E-3,8.0999999999999996E-3,8.6E-3,9.1000000000000004E-3,9.4999999999999998E-3,9.7000000000000003E-3,9.9000000000000008E-3,0.01]
[34,2.1299999999999999E-2,2.1100000000000001E-2,2.0299999999999999E-2,1.8599999999999998E-2,1.5900000000000001E-2,1.26E-2,9.1000000000000004E-3,5.5999999999999999E-3,2.0999999999999999E-3,-1.2999999999999999E-3,-4.5999999999999999E-3,-7.6E-3,-9.9000000000000008E-3,-1.11E-2,-1.1299999999999999E-2,-1.04E-2,-8.3999999999999995E-3,-5.3E-3,-1.1000000000000001E-3,3.5999999999999999E-3,8.5000000000000006E-3,1.3299999999999999E-2,1.7600000000000001E-2,2.1000000000000001E-2,2.3099999999999999E-2,2.35E-2,2.24E-2,2.0199999999999999E-2,1.7100000000000001E-2,1.32E-2,8.6E-3,3.0999999999999999E-3,-3.3E-3,-0.01,-1.5900000000000001E-2,-1.9900000000000001E-2,-2.0899999999999998E-2,-1.9400000000000001E-2,-1.5599999999999999E-2,-9.7999999999999997E-3,-2.7000000000000001E-3,5.7000000000000002E-3,1.5100000000000001E-2,2.52E-2,3.49E-2,4.2200000000000001E-2,4.48E-2,4.24E-2,3.6700000000000003E-2,2.98E-2,2.3199999999999998E-2,1.7899999999999999E-2,1.38E-2,1.0800000000000001E-2,8.3000000000000001E-3,6.4999999999999997E-3,5.0000000000000001E-3,3.0999999999999999E-3,2.0000000000000001E-4,-4.0000000000000001E-3,-9.4999999999999998E-3,-1.5900000000000001E-2,-2.2800000000000001E-2,-2.9499999999999998E-2,-3.5000000000000003E-2,-3.4500000000000003E-2,-3.2399999999999998E-2,-2.9000000000000001E-2,-2.4500000000000001E-2,-1.9400000000000001E-2,-1.4E-2,-8.8000000000000005E-3,-4.0000000000000001E-3,-1E-4,2.5000000000000001E-3,4.3E-3,5.7999999999999996E-3,7.1000000000000004E-3,8.0999999999999996E-3,8.6E-3,9.1000000000000004E-3,9.4999999999999998E-3,9.7000000000000003E-3,9.9000000000000008E-3,0.01]
[35,2.1399999999999999E-2,2.1100000000000001E-2,2.0299999999999999E-2,1.8499999999999999E-2,1.5900000000000001E-2,1.26E-2,9.1000000000000004E-3,5.5999999999999999E-3,2.2000000000000001E-3,-1.1999999999999999E-3,-4.3E-3,-7.1999999999999998E-3,-9.2999999999999992E-3,-1.04E-2,-1.0500000000000001E-2,-9.4999999999999998E-3,-7.4000000000000003E-3,-4.3E-3,-1E-4,4.5999999999999999E-3,9.5999999999999992E-3,1.44E-2,1.8599999999999998E-2,2.1999999999999999E-2,2.41E-2,2.46E-2,2.3599999999999999E-2,2.1399999999999999E-2,1.83E-2,1.44E-2,9.5999999999999992E-3,4.0000000000000001E-3,-2.5999999999999999E-3,-9.5999999999999992E-3,-1.5699999999999999E-2,-1.9800000000000002E-2,-2.12E-2,-0.02,-1.6500000000000001E-2,-1.0999999999999999E-2,-4.0000000000000001E-3,4.1999999999999997E-3,1.35E-2,2.3599999999999999E-2,3.3399999999999999E-2,4.0800000000000003E-2,4.3700000000000003E-2,4.1599999999999998E-2,3.6400000000000002E-2,0.03,2.3900000000000001E-2,1.9199999999999998E-2,1.5599999999999999E-2,1.29E-2,1.06E-2,8.8000000000000005E-3,7.1999999999999998E-3,5.1000000000000004E-3,2E-3,-2.3999999999999998E-3,-8.0000000000000002E-3,-1.4500000000000001E-2,-2.1499999999999998E-2,-2.81E-2,-3.3599999999999998E-2,-3.3500000000000002E-2,-3.1800000000000002E-2,-2.86E-2,-2.4500000000000001E-2,-1.9699999999999999E-2,-1.4500000000000001E-2,-9.4999999999999998E-3,-4.7999999999999996E-3,-1E-3,1.6999999999999999E-3,3.5999999999999999E-3,5.3E-3,6.7000000000000002E-3,7.7999999999999996E-3,8.6E-3,9.1000000000000004E-3,9.4999999999999998E-3,9.7000000000000003E-3,9.9000000000000008E-3,0.01]
[36,2.12E-2,2.1000000000000001E-2,2.01E-2,1.84E-2,1.5800000000000002E-2,1.26E-2,9.1000000000000004E-3,5.7000000000000002E-3,2.3E-3,-1E-3,-4.0000000000000001E-3,-6.7000000000000002E-3,-8.6999999999999994E-3,-9.7000000000000003E-3,-9.5999999999999992E-3,-8.6E-3,-6.4999999999999997E-3,-3.3999999999999998E-3,8.0000000000000004E-4,5.5999999999999999E-3,1.0500000000000001E-2,1.5299999999999999E-2,1.95E-2,2.29E-2,2.4899999999999999E-2,2.5499999999999998E-2,2.46E-2,2.2599999999999999E-2,1.9599999999999999E-2,1.5699999999999999E-2,1.09E-2,5.1999999999999998E-3,-1.5E-3,-8.5000000000000006E-3,-1.47E-2,-1.9E-2,-2.0799999999999999E-2,-1.9900000000000001E-2,-1.6799999999999999E-2,-1.17E-2,-5.1000000000000004E-3,2.8E-3,1.1900000000000001E-2,2.18E-2,3.1399999999999997E-2,3.8899999999999997E-2,4.2000000000000003E-2,4.02E-2,3.5499999999999997E-2,2.9700000000000001E-2,2.4199999999999999E-2,2.01E-2,1.7000000000000001E-2,1.47E-2,1.2699999999999999E-2,1.0999999999999999E-2,9.4000000000000004E-3,7.1999999999999998E-3,4.0000000000000001E-3,-4.0000000000000002E-4,-6.1000000000000004E-3,-1.2699999999999999E-2,-1.9599999999999999E-2,-2.63E-2,-3.1699999999999999E-2,-3.1899999999999998E-2,-3.0499999999999999E-2,-2.7799999999999998E-2,-2.4E-2,-1.9599999999999999E-2,-1.4800000000000001E-2,-9.9000000000000008E-3,-5.4999999999999997E-3,-1.6999999999999999E-3,1E-3,3.0000000000000001E-3,4.7000000000000002E-3,6.1999999999999998E-3,7.4000000000000003E-3,8.3999999999999995E-3,9.1000000000000004E-3,9.4999999999999998E-3,9.7000000000000003E-3,9.9000000000000008E-3,0.01]
[37,2.0899999999999998E-2,2.07E-2,1.9900000000000001E-2,1.8200000000000001E-2,1.5599999999999999E-2,1.2500000000000001E-2,9.1000000000000004E-3,5.7999999999999996E-3,2.5000000000000001E-3,-6.9999999999999999E-4,-3.5999999999999999E-3,-6.1999999999999998E-3,-8.0000000000000002E-3,-8.8999999999999999E-3,-8.8000000000000005E-3,-7.7999999999999996E-3,-5.7000000000000002E-3,-2.5000000000000001E-3,1.6999999999999999E-3,6.4000000000000003E-3,1.14E-2,1.61E-2,2.0299999999999999E-2,2.3599999999999999E-2,2.5600000000000001E-2,2.63E-2,2.5499999999999998E-2,2.3699999999999999E-2,2.0899999999999998E-2,1.7000000000000001E-2,1.23E-2,6.7000000000000002E-3,1E-4,-6.8999999999999999E-3,-1.3100000000000001E-2,-1.7500000000000002E-2,-1.9599999999999999E-2,-1.9199999999999998E-2,-1.66E-2,-1.2E-2,-6.0000000000000001E-3,1.5E-3,1.0200000000000001E-2,1.9800000000000002E-2,2.9100000000000001E-2,3.6499999999999998E-2,3.9699999999999999E-2,3.8300000000000001E-2,3.4099999999999998E-2,2.8799999999999999E-2,2.4E-2,2.0500000000000001E-2,1.7999999999999999E-2,1.61E-2,1.4500000000000001E-2,1.3100000000000001E-2,1.1599999999999999E-2,9.4999999999999998E-3,6.3E-3,1.9E-3,-3.8999999999999998E-3,-1.04E-2,-1.7299999999999999E-2,-2.3900000000000001E-2,-2.9100000000000001E-2,-2.9700000000000001E-2,-2.87E-2,-2.6499999999999999E-2,-2.3199999999999998E-2,-1.9099999999999999E-2,-1.47E-2,-1.0200000000000001E-2,-6.0000000000000001E-3,-2.3999999999999998E-3,2.9999999999999997E-4,2.3E-3,4.1999999999999997E-3,5.7999999999999996E-3,7.1000000000000004E-3,8.0999999999999996E-3,8.8999999999999999E-3,9.4999999999999998E-3,9.7000000000000003E-3,9.9000000000000008E-3,0.01]
[38,2.0500000000000001E-2,2.0299999999999999E-2,1.95E-2,1.7899999999999999E-2,1.54E-2,1.24E-2,9.1000000000000004E-3,5.8999999999999999E-3,2.7000000000000001E-3,-2.9999999999999997E-4,-3.0999999999999999E-3,-5.4999999999999997E-3,-7.3000000000000001E-3,-8.0999999999999996E-3,-8.0000000000000002E-3,-6.8999999999999999E-3,-4.8999999999999998E-3,-1.6999999999999999E-3,2.3999999999999998E-3,7.1999999999999998E-3,1.21E-2,1.6799999999999999E-2,2.0899999999999998E-2,2.41E-2,2.6100000000000002E-2,2.69E-2,2.63E-2,2.47E-2,2.2100000000000002E-2,1.84E-2,1.38E-2,8.3000000000000001E-3,1.9E-3,-4.7999999999999996E-3,-1.09E-2,-1.5299999999999999E-2,-1.77E-2,-1.78E-2,-1.5699999999999999E-2,-1.1900000000000001E-2,-6.4999999999999997E-3,2.9999999999999997E-4,8.5000000000000006E-3,1.7600000000000001E-2,2.6599999999999999E-2,3.3799999999999997E-2,3.6999999999999998E-2,3.5900000000000001E-2,3.2199999999999999E-2,2.76E-2,2.3300000000000001E-2,2.0400000000000001E-2,1.84E-2,1.7100000000000001E-2,1.5900000000000001E-2,1.49E-2,1.3599999999999999E-2,1.17E-2,8.6E-3,4.3E-3,-1.4E-3,-7.9000000000000008E-3,-1.46E-2,-2.1000000000000001E-2,-2.6200000000000001E-2,-2.7E-2,-2.64E-2,-2.47E-2,-2.1899999999999999E-2,-1.83E-2,-1.43E-2,-1.0200000000000001E-2,-6.3E-3,-2.8999999999999998E-3,-2.9999999999999997E-4,1.8E-3,3.7000000000000002E-3,5.3E-3,6.7999999999999996E-3,7.9000000000000008E-3,8.8000000000000005E-3,9.4000000000000004E-3,9.7000000000000003E-3,9.9000000000000008E-3,0.01]
[39,1.9900000000000001E-2,1.9699999999999999E-2,1.9099999999999999E-2,1.7600000000000001E-2,1.5100000000000001E-2,1.2200000000000001E-2,9.1000000000000004E-3,6.0000000000000001E-3,3.0000000000000001E-3,1E-4,-2.5999999999999999E-3,-4.8999999999999998E-3,-6.4999999999999997E-3,-7.3000000000000001E-3,-7.1999999999999998E-3,-6.1000000000000004E-3,-4.0000000000000001E-3,-1E-3,3.0999999999999999E-3,7.7999999999999996E-3,1.2699999999999999E-2,1.7299999999999999E-2,2.1299999999999999E-2,2.4500000000000001E-2,2.6499999999999999E-2,2.7400000000000001E-2,2.7E-2,2.5600000000000001E-2,2.3099999999999999E-2,1.9699999999999999E-2,1.54E-2,1.01E-2,3.8999999999999998E-3,-2.5000000000000001E-3,-8.3000000000000001E-3,-1.26E-2,-1.52E-2,-1.5800000000000002E-2,-1.44E-2,-1.12E-2,-6.6E-3,-5.9999999999999995E-4,6.8999999999999999E-3,1.55E-2,2.4E-2,3.0800000000000001E-2,3.4000000000000002E-2,3.32E-2,0.03,2.5999999999999999E-2,2.23E-2,1.9900000000000001E-2,1.84E-2,1.7600000000000001E-2,1.6899999999999998E-2,1.6299999999999999E-2,1.54E-2,1.37E-2,1.0800000000000001E-2,6.7000000000000002E-3,1.1999999999999999E-3,-5.1000000000000004E-3,-1.17E-2,-1.78E-2,-2.2800000000000001E-2,-2.3900000000000001E-2,-2.3699999999999999E-2,-2.24E-2,-2.0199999999999999E-2,-1.72E-2,-1.37E-2,-0.01,-6.4000000000000003E-3,-3.2000000000000002E-3,-8.0000000000000004E-4,1.2999999999999999E-3,3.2000000000000002E-3,4.8999999999999998E-3,6.4000000000000003E-3,7.7000000000000002E-3,8.6E-3,9.2999999999999992E-3,9.7000000000000003E-3,9.9000000000000008E-3,0.01]
[40,1.9199999999999998E-2,1.9099999999999999E-2,1.8499999999999999E-2,1.7100000000000001E-2,1.4800000000000001E-2,1.2E-2,8.9999999999999993E-3,6.1000000000000004E-3,3.3E-3,5.0000000000000001E-4,-2.0999999999999999E-3,-4.1999999999999997E-3,-5.7000000000000002E-3,-6.4999999999999997E-3,-6.4000000000000003E-3,-5.3E-3,-3.3E-3,-2.0000000000000001E-4,3.7000000000000002E-3,8.3999999999999995E-3,1.32E-2,1.77E-2,2.1600000000000001E-2,2.4799999999999999E-2,2.6800000000000001E-2,2.7699999999999999E-2,2.75E-2,2.63E-2,2.41E-2,2.0899999999999998E-2,1.6899999999999998E-2,1.1900000000000001E-2,6.1000000000000004E-3,1E-4,-5.4000000000000003E-3,-9.5999999999999992E-3,-1.23E-2,-1.3299999999999999E-2,-1.2500000000000001E-2,-1.01E-2,-6.4000000000000003E-3,-1.1999999999999999E-3,5.5999999999999999E-3,1.35E-2,2.1399999999999999E-2,2.7799999999999998E-2,3.09E-2,3.0300000000000001E-2,2.75E-2,2.4E-2,2.1000000000000001E-2,1.89E-2,1.7999999999999999E-2,1.77E-2,1.7399999999999999E-2,1.7299999999999999E-2,1.6799999999999999E-2,1.55E-2,1.29E-2,9.1000000000000004E-3,3.7000000000000002E-3,-2.3E-3,-8.6E-3,-1.44E-2,-1.9099999999999999E-2,-2.0400000000000001E-2,-2.06E-2,-1.9800000000000002E-2,-1.8100000000000002E-2,-1.5699999999999999E-2,-1.2800000000000001E-2,-9.5999999999999992E-3,-6.4000000000000003E-3,-3.5000000000000001E-3,-1.1000000000000001E-3,8.9999999999999998E-4,2.8E-3,4.4999999999999997E-3,6.1000000000000004E-3,7.4000000000000003E-3,8.3999999999999995E-3,9.1999999999999998E-3,9.7000000000000003E-3,9.9000000000000008E-3,0.01]
[41,1.8499999999999999E-2,1.84E-2,1.78E-2,1.66E-2,1.44E-2,1.18E-2,8.8999999999999999E-3,6.1999999999999998E-3,3.5000000000000001E-3,8.0000000000000004E-4,-1.5E-3,-3.5000000000000001E-3,-5.0000000000000001E-3,-5.7000000000000002E-3,-5.4999999999999997E-3,-4.4999999999999997E-3,-2.5000000000000001E-3,4.0000000000000002E-4,4.3E-3,8.8999999999999999E-3,1.3599999999999999E-2,1.7999999999999999E-2,2.18E-2,2.4899999999999999E-2,2.7E-2,2.8000000000000001E-2,2.7900000000000001E-2,2.69E-2,2.4899999999999999E-2,2.1999999999999999E-2,1.83E-2,1.37E-2,8.3000000000000001E-3,2.7000000000000001E-3,-2.3E-3,-6.4000000000000003E-3,-9.1000000000000004E-3,-1.0500000000000001E-2,-1.03E-2,-8.6E-3,-5.5999999999999999E-3,-1.2999999999999999E-3,4.5999999999999999E-3,1.17E-2,1.89E-2,2.4799999999999999E-2,2.76E-2,2.7199999999999998E-2,2.4799999999999999E-2,2.1899999999999999E-2,1.9300000000000001E-2,1.77E-2,1.7299999999999999E-2,1.7399999999999999E-2,1.7600000000000001E-2,1.7899999999999999E-2,1.78E-2,1.6799999999999999E-2,1.4500000000000001E-2,1.11E-2,6.1000000000000004E-3,5.0000000000000001E-4,-5.4000000000000003E-3,-1.09E-2,-1.54E-2,-1.6799999999999999E-2,-1.7299999999999999E-2,-1.6899999999999998E-2,-1.5800000000000002E-2,-1.3899999999999999E-2,-1.1599999999999999E-2,-8.8999999999999999E-3,-6.1000000000000004E-3,-3.5000000000000001E-3,-1.4E-3,5.0000000000000001E-4,2.3999999999999998E-3,4.1999999999999997E-3,5.7999999999999996E-3,7.1999999999999998E-3,8.3000000000000001E-3,9.1000000000000004E-3,9.5999999999999992E-3,9.9000000000000008E-3,0.01]
[42,1.77E-2,1.7600000000000001E-2,1.7100000000000001E-2,1.6E-2,1.4E-2,1.15E-2,8.8000000000000005E-3,6.3E-3,3.7000000000000002E-3,1.1999999999999999E-3,-1E-3,-2.8999999999999998E-3,-4.1999999999999997E-3,-4.8999999999999998E-3,-4.7000000000000002E-3,-3.7000000000000002E-3,-1.6999999999999999E-3,1.1000000000000001E-3,4.8999999999999998E-3,9.2999999999999992E-3,1.38E-2,1.8100000000000002E-2,2.1899999999999999E-2,2.5000000000000001E-2,2.7099999999999999E-2,2.8199999999999999E-2,2.8199999999999999E-2,2.7400000000000001E-2,2.5600000000000001E-2,2.29E-2,1.9599999999999999E-2,1.54E-2,1.0500000000000001E-2,5.4000000000000003E-3,6.9999999999999999E-4,-3.0999999999999999E-3,-5.8999999999999999E-3,-7.4999999999999997E-3,-7.7999999999999996E-3,-6.7000000000000002E-3,-4.4999999999999997E-3,-8.9999999999999998E-4,4.1999999999999997E-3,1.03E-2,1.67E-2,2.1899999999999999E-2,2.4400000000000002E-2,2.41E-2,2.2100000000000002E-2,1.9599999999999999E-2,1.7500000000000002E-2,1.6299999999999999E-2,1.6199999999999999E-2,1.6799999999999999E-2,1.7299999999999999E-2,1.8100000000000002E-2,1.84E-2,1.77E-2,1.5800000000000002E-2,1.2800000000000001E-2,8.3000000000000001E-3,3.0999999999999999E-3,-2.3999999999999998E-3,-7.4000000000000003E-3,-1.1599999999999999E-2,-1.3100000000000001E-2,-1.38E-2,-1.3899999999999999E-2,-1.32E-2,-1.1900000000000001E-2,-1.01E-2,-8.0000000000000002E-3,-5.7000000000000002E-3,-3.3999999999999998E-3,-1.5E-3,2.9999999999999997E-4,2.2000000000000001E-3,3.8999999999999998E-3,5.5999999999999999E-3,7.0000000000000001E-3,8.0999999999999996E-3,8.9999999999999993E-3,9.5999999999999992E-3,9.9000000000000008E-3,0.01]
[43,1.6899999999999998E-2,1.6799999999999999E-2,1.6400000000000001E-2,1.5299999999999999E-2,1.35E-2,1.11E-2,8.6E-3,6.1999999999999998E-3,3.8E-3,1.5E-3,-5.9999999999999995E-4,-2.3E-3,-3.5000000000000001E-3,-4.1000000000000003E-3,-3.8999999999999998E-3,-2.8999999999999998E-3,-1E-3,1.8E-3,5.4000000000000003E-3,9.5999999999999992E-3,1.4E-2,1.8100000000000002E-2,2.18E-2,2.4899999999999999E-2,2.7099999999999999E-2,2.8199999999999999E-2,2.8400000000000002E-2,2.7699999999999999E-2,2.6100000000000002E-2,2.3699999999999999E-2,2.07E-2,1.7000000000000001E-2,1.26E-2,8.0000000000000002E-3,3.7000000000000002E-3,1E-4,-2.7000000000000001E-3,-4.4999999999999997E-3,-5.1000000000000004E-3,-4.4999999999999997E-3,-2.8999999999999998E-3,-1E-4,4.1999999999999997E-3,9.4000000000000004E-3,1.4800000000000001E-2,1.9199999999999998E-2,2.1399999999999999E-2,2.1100000000000001E-2,1.9300000000000001E-2,1.72E-2,1.5599999999999999E-2,1.4800000000000001E-2,1.4999999999999999E-2,1.5900000000000001E-2,1.6799999999999999E-2,1.7899999999999999E-2,1.8499999999999999E-2,1.8100000000000002E-2,1.66E-2,1.4E-2,0.01,5.4000000000000003E-3,5.0000000000000001E-4,-4.1000000000000003E-3,-7.9000000000000008E-3,-9.4000000000000004E-3,-1.04E-2,-1.0699999999999999E-2,-1.0500000000000001E-2,-9.7000000000000003E-3,-8.5000000000000006E-3,-6.8999999999999999E-3,-5.1000000000000004E-3,-3.2000000000000002E-3,-1.4E-3,2.0000000000000001E-4,2E-3,3.7000000000000002E-3,5.4000000000000003E-3,6.7999999999999996E-3,8.0000000000000002E-3,8.8999999999999999E-3,9.4999999999999998E-3,9.9000000000000008E-3,0.01]
[44,1.61E-2,1.6E-2,1.5599999999999999E-2,1.46E-2,1.29E-2,1.0699999999999999E-2,8.3999999999999995E-3,6.1000000000000004E-3,3.8999999999999998E-3,1.6999999999999999E-3,-2.0000000000000001E-4,-1.8E-3,-2.8999999999999998E-3,-3.3E-3,-3.0999999999999999E-3,-2.0999999999999999E-3,-2.0000000000000001E-4,2.3999999999999998E-3,5.8999999999999999E-3,9.9000000000000008E-3,1.41E-2,1.7999999999999999E-2,2.1700000000000001E-2,2.4799999999999999E-2,2.7E-2,2.8199999999999999E-2,2.8500000000000001E-2,2.7900000000000001E-2,2.6499999999999999E-2,2.4299999999999999E-2,2.1700000000000001E-2,1.84E-2,1.46E-2,1.0500000000000001E-2,6.6E-3,3.2000000000000002E-3,5.0000000000000001E-4,-1.5E-3,-2.3E-3,-2.2000000000000001E-3,-1E-3,1.1999999999999999E-3,4.5999999999999999E-3,8.8999999999999999E-3,1.3299999999999999E-2,1.7000000000000001E-2,1.8700000000000001E-2,1.83E-2,1.67E-2,1.49E-2,1.3599999999999999E-2,1.32E-2,1.37E-2,1.4800000000000001E-2,1.6E-2,1.7299999999999999E-2,1.8100000000000002E-2,1.8100000000000002E-2,1.7000000000000001E-2,1.47E-2,1.14E-2,7.4000000000000003E-3,3.0000000000000001E-3,-1.1000000000000001E-3,-4.5999999999999999E-3,-6.0000000000000001E-3,-7.0000000000000001E-3,-7.6E-3,-7.7999999999999996E-3,-7.4999999999999997E-3,-6.7000000000000002E-3,-5.5999999999999999E-3,-4.3E-3,-2.7000000000000001E-3,-1.1999999999999999E-3,2.9999999999999997E-4,1.9E-3,3.5999999999999999E-3,5.1999999999999998E-3,6.6E-3,7.9000000000000008E-3,8.8000000000000005E-3,9.4999999999999998E-3,9.9000000000000008E-3,0.01]
[45,1.5299999999999999E-2,1.52E-2,1.4800000000000001E-2,1.3899999999999999E-2,1.23E-2,1.03E-2,8.0999999999999996E-3,6.0000000000000001E-3,3.8999999999999998E-3,1.9E-3,2.0000000000000001E-4,-1.2999999999999999E-3,-2.3E-3,-2.5999999999999999E-3,-2.3E-3,-1.2999999999999999E-3,5.0000000000000001E-4,3.0999999999999999E-3,6.4000000000000003E-3,1.0200000000000001E-2,1.4200000000000001E-2,1.7899999999999999E-2,2.1499999999999998E-2,2.46E-2,2.6800000000000001E-2,2.81E-2,2.8400000000000002E-2,2.7900000000000001E-2,2.6700000000000002E-2,2.4799999999999999E-2,2.2499999999999999E-2,1.9699999999999999E-2,1.6299999999999999E-2,1.2699999999999999E-2,9.1000000000000004E-3,6.0000000000000001E-3,3.3999999999999998E-3,1.5E-3,5.0000000000000001E-4,2.9999999999999997E-4,1.1000000000000001E-3,2.8E-3,5.4000000000000003E-3,8.8000000000000005E-3,1.23E-2,1.5100000000000001E-2,1.6400000000000001E-2,1.5900000000000001E-2,1.44E-2,1.2800000000000001E-2,1.17E-2,1.15E-2,1.2200000000000001E-2,1.35E-2,1.49E-2,1.6400000000000001E-2,1.7399999999999999E-2,1.7600000000000001E-2,1.6899999999999998E-2,1.5100000000000001E-2,1.23E-2,8.8999999999999999E-3,5.1000000000000004E-3,1.4E-3,-1.6000000000000001E-3,-2.8999999999999998E-3,-3.8999999999999998E-3,-4.7000000000000002E-3,-5.1000000000000004E-3,-5.1999999999999998E-3,-4.8999999999999998E-3,-4.1999999999999997E-3,-3.3E-3,-2.0999999999999999E-3,-8.9999999999999998E-4,4.0000000000000002E-4,2E-3,3.5000000000000001E-3,5.1000000000000004E-3,6.4999999999999997E-3,7.7999999999999996E-3,8.8000000000000005E-3,9.4999999999999998E-3,9.9000000000000008E-3,0.01]
[46,1.4500000000000001E-2,1.43E-2,1.3899999999999999E-2,1.3100000000000001E-2,1.17E-2,9.7999999999999997E-3,7.7999999999999996E-3,5.7999999999999996E-3,3.8E-3,2E-3,5.0000000000000001E-4,-8.9999999999999998E-4,-1.6999999999999999E-3,-1.9E-3,-1.6000000000000001E-3,-5.0000000000000001E-4,1.2999999999999999E-3,3.7000000000000002E-3,7.0000000000000001E-3,1.0500000000000001E-2,1.4200000000000001E-2,1.78E-2,2.1299999999999999E-2,2.4299999999999999E-2,2.6599999999999999E-2,2.7799999999999998E-2,2.8199999999999999E-2,2.7799999999999998E-2,2.6800000000000001E-2,2.52E-2,2.3199999999999998E-2,2.0799999999999999E-2,1.7899999999999999E-2,1.46E-2,1.15E-2,8.6E-3,6.1999999999999998E-3,4.3E-3,3.2000000000000002E-3,2.8999999999999998E-3,3.3E-3,4.5999999999999999E-3,6.4999999999999997E-3,8.9999999999999993E-3,1.17E-2,1.38E-2,1.46E-2,1.3899999999999999E-2,1.24E-2,1.09E-2,0.01,9.9000000000000008E-3,1.0699999999999999E-2,1.21E-2,1.37E-2,1.5299999999999999E-2,1.6400000000000001E-2,1.6899999999999998E-2,1.6400000000000001E-2,1.4999999999999999E-2,1.2800000000000001E-2,9.9000000000000008E-3,6.6E-3,3.5000000000000001E-3,8.9999999999999998E-4,-2.0000000000000001E-4,-1.1999999999999999E-3,-2E-3,-2.5999999999999999E-3,-3.0000000000000001E-3,-3.0000000000000001E-3,-2.8E-3,-2.2000000000000001E-3,-1.4E-3,-4.0000000000000002E-4,6.9999999999999999E-4,2.0999999999999999E-3,3.5999999999999999E-3,5.0000000000000001E-3,6.4000000000000003E-3,7.7000000000000002E-3,8.6999999999999994E-3,9.4000000000000004E-3,9.9000000000000008E-3,0.01]
[47,1.37E-2,1.35E-2,1.3100000000000001E-2,1.24E-2,1.0999999999999999E-2,9.2999999999999992E-3,7.4000000000000003E-3,5.4999999999999997E-3,3.7000000000000002E-3,2E-3,6.9999999999999999E-4,-5.0000000000000001E-4,-1.1999999999999999E-3,-1.2999999999999999E-3,-8.9999999999999998E-4,2.0000000000000001E-4,2E-3,4.4000000000000003E-3,7.4999999999999997E-3,1.09E-2,1.44E-2,1.77E-2,2.1100000000000001E-2,2.4E-2,2.6200000000000001E-2,2.7400000000000001E-2,2.7900000000000001E-2,2.76E-2,2.6700000000000002E-2,2.5399999999999999E-2,2.3699999999999999E-2,2.1600000000000001E-2,1.9099999999999999E-2,1.6299999999999999E-2,1.34E-2,1.09E-2,8.6999999999999994E-3,7.0000000000000001E-3,5.8999999999999999E-3,5.4999999999999997E-3,5.5999999999999999E-3,6.4000000000000003E-3,7.7999999999999996E-3,9.5999999999999992E-3,1.15E-2,1.2999999999999999E-2,1.34E-2,1.2500000000000001E-2,1.0999999999999999E-2,9.4999999999999998E-3,8.5000000000000006E-3,8.5000000000000006E-3,9.1999999999999998E-3,1.06E-2,1.2200000000000001E-2,1.3899999999999999E-2,1.52E-2,1.5800000000000002E-2,1.5699999999999999E-2,1.46E-2,1.29E-2,1.0500000000000001E-2,7.7000000000000002E-3,5.1000000000000004E-3,2.8999999999999998E-3,2E-3,1.1999999999999999E-3,4.0000000000000002E-4,-2.9999999999999997E-4,-8.9999999999999998E-4,-1.1999999999999999E-3,-1.1999999999999999E-3,-1E-3,-5.0000000000000001E-4,2.0000000000000001E-4,1.1000000000000001E-3,2.3E-3,3.7000000000000002E-3,5.1000000000000004E-3,6.4000000000000003E-3,7.6E-3,8.6E-3,9.4000000000000004E-3,9.9000000000000008E-3,0.01]
[48,1.2800000000000001E-2,1.2699999999999999E-2,1.24E-2,1.17E-2,1.04E-2,8.8000000000000005E-3,7.0000000000000001E-3,5.3E-3,3.5999999999999999E-3,2.0999999999999999E-3,8.9999999999999998E-4,-2.0000000000000001E-4,-8.0000000000000004E-4,-8.0000000000000004E-4,-2.9999999999999997E-4,8.0000000000000004E-4,2.5999999999999999E-3,5.0000000000000001E-3,8.0000000000000002E-3,1.12E-2,1.4500000000000001E-2,1.77E-2,2.0899999999999998E-2,2.3599999999999999E-2,2.5700000000000001E-2,2.7E-2,2.7400000000000001E-2,2.7300000000000001E-2,2.6599999999999999E-2,2.5399999999999999E-2,2.4E-2,2.2200000000000001E-2,2.01E-2,1.7600000000000001E-2,1.5100000000000001E-2,1.29E-2,1.09E-2,9.4000000000000004E-3,8.3999999999999995E-3,7.9000000000000008E-3,7.7999999999999996E-3,8.3000000000000001E-3,9.1000000000000004E-3,1.03E-2,1.17E-2,1.2699999999999999E-2,1.2699999999999999E-2,1.17E-2,0.01,8.3999999999999995E-3,7.4000000000000003E-3,7.1999999999999998E-3,7.7999999999999996E-3,9.1000000000000004E-3,1.0800000000000001E-2,1.2500000000000001E-2,1.3899999999999999E-2,1.46E-2,1.47E-2,1.4E-2,1.2500000000000001E-2,1.06E-2,8.3000000000000001E-3,6.1000000000000004E-3,4.3E-3,3.7000000000000002E-3,3.0000000000000001E-3,2.3E-3,1.6000000000000001E-3,1E-3,5.0000000000000001E-4,2.9999999999999997E-4,2.9999999999999997E-4,5.0000000000000001E-4,1E-3,1.6999999999999999E-3,2.7000000000000001E-3,3.8999999999999998E-3,5.1000000000000004E-3,6.4000000000000003E-3,7.6E-3,8.6E-3,9.4000000000000004E-3,9.7999999999999997E-3,0.01]
[49,1.2E-2,1.1900000000000001E-2,1.1599999999999999E-2,1.0999999999999999E-2,9.7999999999999997E-3,8.3000000000000001E-3,6.6E-3,4.8999999999999998E-3,3.3999999999999998E-3,2.0999999999999999E-3,1E-3,1E-4,-4.0000000000000002E-4,-2.9999999999999997E-4,2.9999999999999997E-4,1.4E-3,3.2000000000000002E-3,5.4999999999999997E-3,8.3999999999999995E-3,1.15E-2,1.47E-2,1.77E-2,2.07E-2,2.3300000000000001E-2,2.53E-2,2.64E-2,2.69E-2,2.6800000000000001E-2,2.63E-2,2.5399999999999999E-2,2.4199999999999999E-2,2.2599999999999999E-2,2.0799999999999999E-2,1.8599999999999998E-2,1.6500000000000001E-2,1.46E-2,1.29E-2,1.17E-2,1.0800000000000001E-2,1.0200000000000001E-2,9.9000000000000008E-3,0.01,1.0500000000000001E-2,1.12E-2,1.2200000000000001E-2,1.2800000000000001E-2,1.26E-2,1.1299999999999999E-2,9.5999999999999992E-3,7.7999999999999996E-3,6.6E-3,6.1999999999999998E-3,6.6E-3,7.7999999999999996E-3,9.4000000000000004E-3,1.11E-2,1.2500000000000001E-2,1.3299999999999999E-2,1.35E-2,1.2999999999999999E-2,1.1900000000000001E-2,1.03E-2,8.3999999999999995E-3,6.6E-3,5.1000000000000004E-3,4.7999999999999996E-3,4.4000000000000003E-3,3.8E-3,3.2000000000000002E-3,2.5999999999999999E-3,2.0999999999999999E-3,1.6999999999999999E-3,1.5E-3,1.6000000000000001E-3,1.8E-3,2.3E-3,3.0999999999999999E-3,4.1000000000000003E-3,5.3E-3,6.4999999999999997E-3,7.6E-3,8.6E-3,9.4000000000000004E-3,9.7999999999999997E-3,0.01]
[50,1.12E-2,1.11E-2,1.09E-2,1.03E-2,9.1999999999999998E-3,7.7000000000000002E-3,6.1000000000000004E-3,4.5999999999999999E-3,3.3E-3,2E-3,1.1000000000000001E-3,2.9999999999999997E-4,-1E-4,1E-4,6.9999999999999999E-4,1.9E-3,3.7000000000000002E-3,6.0000000000000001E-3,8.8000000000000005E-3,1.18E-2,1.4800000000000001E-2,1.78E-2,2.06E-2,2.3E-2,2.4799999999999999E-2,2.5899999999999999E-2,2.64E-2,2.64E-2,2.5999999999999999E-2,2.52E-2,2.4199999999999999E-2,2.2800000000000001E-2,2.12E-2,1.9400000000000001E-2,1.7600000000000001E-2,1.6E-2,1.46E-2,1.3599999999999999E-2,1.2800000000000001E-2,1.23E-2,1.1900000000000001E-2,1.17E-2,1.18E-2,1.23E-2,1.29E-2,1.32E-2,1.2800000000000001E-2,1.14E-2,9.4999999999999998E-3,7.7000000000000002E-3,6.3E-3,5.5999999999999999E-3,5.7999999999999996E-3,6.7999999999999996E-3,8.2000000000000007E-3,9.7999999999999997E-3,1.11E-2,1.2E-2,1.23E-2,1.1900000000000001E-2,1.09E-2,9.5999999999999992E-3,8.0999999999999996E-3,6.7000000000000002E-3,5.4999999999999997E-3,5.4000000000000003E-3,5.1999999999999998E-3,4.8999999999999998E-3,4.4999999999999997E-3,4.0000000000000001E-3,3.5000000000000001E-3,3.0999999999999999E-3,2.8E-3,2.7000000000000001E-3,2.7000000000000001E-3,3.0000000000000001E-3,3.5999999999999999E-3,4.4999999999999997E-3,5.4999999999999997E-3,6.6E-3,7.7000000000000002E-3,8.6E-3,9.4000000000000004E-3,9.7999999999999997E-3,0.01]
[51,1.04E-2,1.04E-2,1.0200000000000001E-2,9.5999999999999992E-3,8.6E-3,7.1999999999999998E-3,5.7000000000000002E-3,4.3E-3,3.0999999999999999E-3,2E-3,1.1000000000000001E-3,5.0000000000000001E-4,2.0000000000000001E-4,2.9999999999999997E-4,1E-3,2.3E-3,4.1000000000000003E-3,6.3E-3,9.1000000000000004E-3,1.2E-2,1.49E-2,1.78E-2,2.0500000000000001E-2,2.2700000000000001E-2,2.4400000000000002E-2,2.5399999999999999E-2,2.5899999999999999E-2,2.5899999999999999E-2,2.5499999999999998E-2,2.4899999999999999E-2,2.4E-2,2.2800000000000001E-2,2.1399999999999999E-2,1.9900000000000001E-2,1.84E-2,1.7100000000000001E-2,1.6E-2,1.5299999999999999E-2,1.46E-2,1.41E-2,1.3599999999999999E-2,1.3299999999999999E-2,1.32E-2,1.34E-2,1.37E-2,1.3899999999999999E-2,1.3299999999999999E-2,1.18E-2,9.9000000000000008E-3,8.0000000000000002E-3,6.4000000000000003E-3,5.4999999999999997E-3,5.4000000000000003E-3,6.1000000000000004E-3,7.1999999999999998E-3,8.6E-3,9.9000000000000008E-3,1.06E-2,1.09E-2,1.06E-2,9.7999999999999997E-3,8.6999999999999994E-3,7.4999999999999997E-3,6.3E-3,5.4000000000000003E-3,5.4999999999999997E-3,5.5999999999999999E-3,5.4999999999999997E-3,5.3E-3,5.0000000000000001E-3,4.7000000000000002E-3,4.3E-3,3.8999999999999998E-3,3.7000000000000002E-3,3.7000000000000002E-3,3.8E-3,4.1999999999999997E-3,4.8999999999999998E-3,5.7999999999999996E-3,6.7000000000000002E-3,7.7000000000000002E-3,8.6E-3,9.4000000000000004E-3,9.7999999999999997E-3,0.01]
[52,9.7000000000000003E-3,9.7000000000000003E-3,9.4999999999999998E-3,8.9999999999999993E-3,8.0000000000000002E-3,6.7000000000000002E-3,5.3E-3,4.0000000000000001E-3,2.8999999999999998E-3,1.9E-3,1.1999999999999999E-3,5.9999999999999995E-4,2.9999999999999997E-4,5.9999999999999995E-4,1.1999999999999999E-3,2.5000000000000001E-3,4.3E-3,6.4999999999999997E-3,9.1999999999999998E-3,1.21E-2,1.4999999999999999E-2,1.78E-2,2.0400000000000001E-2,2.2499999999999999E-2,2.41E-2,2.5000000000000001E-2,2.5399999999999999E-2,2.5399999999999999E-2,2.5000000000000001E-2,2.4400000000000002E-2,2.3599999999999999E-2,2.2599999999999999E-2,2.1399999999999999E-2,2.0199999999999999E-2,1.9E-2,1.7999999999999999E-2,1.72E-2,1.66E-2,1.61E-2,1.5599999999999999E-2,1.5100000000000001E-2,1.47E-2,1.4500000000000001E-2,1.4500000000000001E-2,1.47E-2,1.46E-2,1.3899999999999999E-2,1.24E-2,1.0500000000000001E-2,8.6E-3,7.0000000000000001E-3,5.7999999999999996E-3,5.5999999999999999E-3,5.8999999999999999E-3,6.7000000000000002E-3,7.7999999999999996E-3,8.6999999999999994E-3,9.2999999999999992E-3,9.4999999999999998E-3,9.2999999999999992E-3,8.5000000000000006E-3,7.4999999999999997E-3,6.6E-3,5.7000000000000002E-3,5.0000000000000001E-3,5.3E-3,5.5999999999999999E-3,5.7999999999999996E-3,5.7999999999999996E-3,5.7000000000000002E-3,5.5999999999999999E-3,5.3E-3,5.0000000000000001E-3,4.7999999999999996E-3,4.5999999999999999E-3,4.5999999999999999E-3,4.8999999999999998E-3,5.4000000000000003E-3,6.1000000000000004E-3,6.8999999999999999E-3,7.7999999999999996E-3,8.6999999999999994E-3,9.4000000000000004E-3,9.7999999999999997E-3,0.01]
[53,8.9999999999999993E-3,8.9999999999999993E-3,8.8999999999999999E-3,8.3999999999999995E-3,7.4000000000000003E-3,6.1999999999999998E-3,4.8999999999999998E-3,3.7000000000000002E-3,2.7000000000000001E-3,1.8E-3,1.1000000000000001E-3,5.9999999999999995E-4,4.0000000000000002E-4,6.9999999999999999E-4,1.4E-3,2.5999999999999999E-3,4.4000000000000003E-3,6.6E-3,9.2999999999999992E-3,1.21E-2,1.4999999999999999E-2,1.77E-2,2.0299999999999999E-2,2.23E-2,2.3800000000000002E-2,2.47E-2,2.5000000000000001E-2,2.4899999999999999E-2,2.4500000000000001E-2,2.3900000000000001E-2,2.3099999999999999E-2,2.23E-2,2.1299999999999999E-2,2.0299999999999999E-2,1.9400000000000001E-2,1.8599999999999998E-2,1.7999999999999999E-2,1.7600000000000001E-2,1.72E-2,1.6799999999999999E-2,1.6400000000000001E-2,1.6E-2,1.5699999999999999E-2,1.5599999999999999E-2,1.5599999999999999E-2,1.54E-2,1.46E-2,1.32E-2,1.1299999999999999E-2,9.4999999999999998E-3,7.9000000000000008E-3,6.7000000000000002E-3,6.1999999999999998E-3,6.1999999999999998E-3,6.6E-3,7.1999999999999998E-3,7.7999999999999996E-3,8.0999999999999996E-3,8.2000000000000007E-3,7.9000000000000008E-3,7.1999999999999998E-3,6.3E-3,5.4999999999999997E-3,4.7999999999999996E-3,4.3E-3,4.7999999999999996E-3,5.1999999999999998E-3,5.7000000000000002E-3,6.0000000000000001E-3,6.1999999999999998E-3,6.1999999999999998E-3,6.1000000000000004E-3,6.0000000000000001E-3,5.7000000000000002E-3,5.4999999999999997E-3,5.4000000000000003E-3,5.4999999999999997E-3,5.8999999999999999E-3,6.4999999999999997E-3,7.1999999999999998E-3,8.0000000000000002E-3,8.6999999999999994E-3,9.4000000000000004E-3,9.7999999999999997E-3,0.01]
[54,8.3999999999999995E-3,8.3999999999999995E-3,8.3000000000000001E-3,7.7999999999999996E-3,6.7999999999999996E-3,5.7000000000000002E-3,4.4000000000000003E-3,3.3999999999999998E-3,2.5000000000000001E-3,1.6999999999999999E-3,1.1000000000000001E-3,5.9999999999999995E-4,4.0000000000000002E-4,8.0000000000000004E-4,1.5E-3,2.7000000000000001E-3,4.4000000000000003E-3,6.6E-3,9.1999999999999998E-3,1.21E-2,1.49E-2,1.7600000000000001E-2,2.01E-2,2.2200000000000001E-2,2.3599999999999999E-2,2.4400000000000002E-2,2.47E-2,2.4500000000000001E-2,2.4E-2,2.3300000000000001E-2,2.2599999999999999E-2,2.18E-2,2.1000000000000001E-2,2.0199999999999999E-2,1.9599999999999999E-2,1.9099999999999999E-2,1.8700000000000001E-2,1.84E-2,1.8100000000000002E-2,1.78E-2,1.7399999999999999E-2,1.7100000000000001E-2,1.6799999999999999E-2,1.66E-2,1.6500000000000001E-2,1.6199999999999999E-2,1.54E-2,1.4E-2,1.23E-2,1.06E-2,9.1000000000000004E-3,7.9000000000000008E-3,7.1999999999999998E-3,6.8999999999999999E-3,6.8999999999999999E-3,7.0000000000000001E-3,7.1999999999999998E-3,7.1999999999999998E-3,7.0000000000000001E-3,6.6E-3,5.8999999999999999E-3,5.1000000000000004E-3,4.4000000000000003E-3,3.8E-3,3.3999999999999998E-3,4.0000000000000001E-3,4.5999999999999999E-3,5.3E-3,5.8999999999999999E-3,6.3E-3,6.6E-3,6.7000000000000002E-3,6.7000000000000002E-3,6.6E-3,6.4000000000000003E-3,6.1999999999999998E-3,6.1999999999999998E-3,6.4000000000000003E-3,6.8999999999999999E-3,7.4000000000000003E-3,8.0999999999999996E-3,8.8000000000000005E-3,9.4000000000000004E-3,9.7999999999999997E-3,0.01]
[55,7.7999999999999996E-3,7.7999999999999996E-3,7.6E-3,7.1999999999999998E-3,6.1999999999999998E-3,5.1000000000000004E-3,4.0000000000000001E-3,3.0999999999999999E-3,2.2000000000000001E-3,1.5E-3,1E-3,5.0000000000000001E-4,4.0000000000000002E-4,8.0000000000000004E-4,1.5E-3,2.7000000000000001E-3,4.4000000000000003E-3,6.6E-3,9.1999999999999998E-3,1.2E-2,1.4800000000000001E-2,1.7500000000000002E-2,0.02,2.1999999999999999E-2,2.3400000000000001E-2,2.4199999999999999E-2,2.4400000000000002E-2,2.41E-2,2.35E-2,2.2700000000000001E-2,2.1999999999999999E-2,2.1299999999999999E-2,2.06E-2,0.02,1.9599999999999999E-2,1.9300000000000001E-2,1.9E-2,1.8800000000000001E-2,1.8700000000000001E-2,1.8499999999999999E-2,1.83E-2,1.7999999999999999E-2,1.77E-2,1.7600000000000001E-2,1.7299999999999999E-2,1.6899999999999998E-2,1.61E-2,1.49E-2,1.34E-2,1.1900000000000001E-2,1.0500000000000001E-2,9.4000000000000004E-3,8.5000000000000006E-3,8.0000000000000002E-3,7.4999999999999997E-3,7.1999999999999998E-3,6.8999999999999999E-3,6.6E-3,6.1999999999999998E-3,5.5999999999999999E-3,4.7999999999999996E-3,4.0000000000000001E-3,3.3E-3,2.8E-3,2.3999999999999998E-3,3.0999999999999999E-3,3.8E-3,4.7000000000000002E-3,5.4999999999999997E-3,6.1999999999999998E-3,6.7999999999999996E-3,7.1000000000000004E-3,7.3000000000000001E-3,7.3000000000000001E-3,7.1000000000000004E-3,6.8999999999999999E-3,6.7999999999999996E-3,7.0000000000000001E-3,7.3000000000000001E-3,7.7000000000000002E-3,8.3000000000000001E-3,8.8999999999999999E-3,9.4999999999999998E-3,9.7999999999999997E-3,0.01]
[56,7.1999999999999998E-3,7.1999999999999998E-3,7.0000000000000001E-3,6.4999999999999997E-3,5.5999999999999999E-3,4.5999999999999999E-3,3.5999999999999999E-3,2.7000000000000001E-3,1.9E-3,1.2999999999999999E-3,8.0000000000000004E-4,4.0000000000000002E-4,2.9999999999999997E-4,6.9999999999999999E-4,1.5E-3,2.7000000000000001E-3,4.4000000000000003E-3,6.4999999999999997E-3,9.1000000000000004E-3,1.18E-2,1.47E-2,1.7299999999999999E-2,1.9699999999999999E-2,2.18E-2,2.3199999999999998E-2,2.3900000000000001E-2,2.4E-2,2.3699999999999999E-2,2.3E-2,2.2200000000000001E-2,2.1399999999999999E-2,2.0799999999999999E-2,2.0199999999999999E-2,1.9699999999999999E-2,1.9400000000000001E-2,1.9300000000000001E-2,1.9199999999999998E-2,1.9099999999999999E-2,1.9099999999999999E-2,1.9E-2,1.89E-2,1.8700000000000001E-2,1.8499999999999999E-2,1.83E-2,1.8100000000000002E-2,1.7600000000000001E-2,1.6899999999999998E-2,1.5800000000000002E-2,1.4500000000000001E-2,1.3299999999999999E-2,1.2E-2,1.0999999999999999E-2,0.01,9.2999999999999992E-3,8.5000000000000006E-3,7.7999999999999996E-3,7.1000000000000004E-3,6.4000000000000003E-3,5.5999999999999999E-3,4.7999999999999996E-3,3.8E-3,3.0000000000000001E-3,2.2000000000000001E-3,1.6999999999999999E-3,1.4E-3,2.0999999999999999E-3,2.8999999999999998E-3,4.0000000000000001E-3,5.0000000000000001E-3,5.8999999999999999E-3,6.7000000000000002E-3,7.3000000000000001E-3,7.7000000000000002E-3,7.7999999999999996E-3,7.7000000000000002E-3,7.4999999999999997E-3,7.4000000000000003E-3,7.4999999999999997E-3,7.7000000000000002E-3,8.0000000000000002E-3,8.5000000000000006E-3,8.9999999999999993E-3,9.4999999999999998E-3,9.9000000000000008E-3,0.01]
[57,6.4999999999999997E-3,6.4999999999999997E-3,6.4000000000000003E-3,5.8999999999999999E-3,5.0000000000000001E-3,4.0000000000000001E-3,3.0999999999999999E-3,2.3E-3,1.6000000000000001E-3,1E-3,5.9999999999999995E-4,2.0000000000000001E-4,2.0000000000000001E-4,5.9999999999999995E-4,1.4E-3,2.5999999999999999E-3,4.4000000000000003E-3,6.4999999999999997E-3,8.9999999999999993E-3,1.17E-2,1.4500000000000001E-2,1.7100000000000001E-2,1.95E-2,2.1499999999999998E-2,2.2800000000000001E-2,2.35E-2,2.3599999999999999E-2,2.3300000000000001E-2,2.2499999999999999E-2,2.1700000000000001E-2,2.0899999999999998E-2,2.0299999999999999E-2,1.9699999999999999E-2,1.9400000000000001E-2,1.9199999999999998E-2,1.9199999999999998E-2,1.9199999999999998E-2,1.9199999999999998E-2,1.9300000000000001E-2,1.9300000000000001E-2,1.9300000000000001E-2,1.9199999999999998E-2,1.9E-2,1.89E-2,1.8700000000000001E-2,1.83E-2,1.77E-2,1.6799999999999999E-2,1.5699999999999999E-2,1.47E-2,1.3599999999999999E-2,1.26E-2,1.1599999999999999E-2,1.0699999999999999E-2,9.7000000000000003E-3,8.6999999999999994E-3,7.6E-3,6.4999999999999997E-3,5.4999999999999997E-3,4.4000000000000003E-3,3.2000000000000002E-3,2.0999999999999999E-3,1.2999999999999999E-3,6.9999999999999999E-4,4.0000000000000002E-4,1E-3,2E-3,3.0999999999999999E-3,4.3E-3,5.4999999999999997E-3,6.4999999999999997E-3,7.3000000000000001E-3,7.9000000000000008E-3,8.2000000000000007E-3,8.2000000000000007E-3,8.0999999999999996E-3,8.0000000000000002E-3,7.9000000000000008E-3,8.0999999999999996E-3,8.3000000000000001E-3,8.6999999999999994E-3,9.1000000000000004E-3,9.4999999999999998E-3,9.9000000000000008E-3,0.01]
[58,5.8999999999999999E-3,5.8999999999999999E-3,5.7000000000000002E-3,5.3E-3,4.4000000000000003E-3,3.5000000000000001E-3,2.5999999999999999E-3,1.9E-3,1.1999999999999999E-3,6.9999999999999999E-4,2.9999999999999997E-4,0,0,5.0000000000000001E-4,1.4E-3,2.7000000000000001E-3,4.4000000000000003E-3,6.4999999999999997E-3,8.9999999999999993E-3,1.1599999999999999E-2,1.43E-2,1.6799999999999999E-2,1.9099999999999999E-2,2.1100000000000001E-2,2.24E-2,2.3099999999999999E-2,2.3199999999999998E-2,2.2800000000000001E-2,2.2100000000000002E-2,2.1299999999999999E-2,2.0500000000000001E-2,1.9800000000000002E-2,1.9300000000000001E-2,1.9E-2,1.89E-2,1.89E-2,1.9E-2,1.9199999999999998E-2,1.9400000000000001E-2,1.95E-2,1.95E-2,1.95E-2,1.9400000000000001E-2,1.9300000000000001E-2,1.9099999999999999E-2,1.89E-2,1.84E-2,1.78E-2,1.6899999999999998E-2,1.6E-2,1.5100000000000001E-2,1.4200000000000001E-2,1.32E-2,1.2200000000000001E-2,1.11E-2,9.7999999999999997E-3,8.5000000000000006E-3,7.1000000000000004E-3,5.7000000000000002E-3,4.3E-3,2.8999999999999998E-3,1.5E-3,5.0000000000000001E-4,-2.0000000000000001E-4,-5.0000000000000001E-4,1E-4,1.1000000000000001E-3,2.3E-3,3.7000000000000002E-3,5.0000000000000001E-3,6.1999999999999998E-3,7.1999999999999998E-3,8.0000000000000002E-3,8.5000000000000006E-3,8.6E-3,8.5000000000000006E-3,8.3999999999999995E-3,8.3999999999999995E-3,8.3999999999999995E-3,8.6E-3,8.8999999999999999E-3,9.1999999999999998E-3,9.5999999999999992E-3,9.9000000000000008E-3,0.01]
[59,5.3E-3,5.1999999999999998E-3,5.1000000000000004E-3,4.5999999999999999E-3,3.8E-3,2.8999999999999998E-3,2.0999999999999999E-3,1.4E-3,8.0000000000000004E-4,2.9999999999999997E-4,0,-2.0000000000000001E-4,-1E-4,5.0000000000000001E-4,1.4E-3,2.7000000000000001E-3,4.4000000000000003E-3,6.4999999999999997E-3,8.8999999999999999E-3,1.15E-2,1.4E-2,1.6400000000000001E-2,1.8700000000000001E-2,2.06E-2,2.1899999999999999E-2,2.2499999999999999E-2,2.2700000000000001E-2,2.24E-2,2.1700000000000001E-2,2.0899999999999998E-2,2.01E-2,1.9400000000000001E-2,1.8800000000000001E-2,1.8499999999999999E-2,1.84E-2,1.8599999999999998E-2,1.8800000000000001E-2,1.9E-2,1.9300000000000001E-2,1.95E-2,1.9599999999999999E-2,1.9599999999999999E-2,1.9599999999999999E-2,1.9599999999999999E-2,1.95E-2,1.9400000000000001E-2,1.9099999999999999E-2,1.8700000000000001E-2,1.7999999999999999E-2,1.7299999999999999E-2,1.6500000000000001E-2,1.5699999999999999E-2,1.4800000000000001E-2,1.38E-2,1.2500000000000001E-2,1.12E-2,9.5999999999999992E-3,8.0000000000000002E-3,6.4000000000000003E-3,4.5999999999999999E-3,2.8999999999999998E-3,1.2999999999999999E-3,0,-8.0000000000000004E-4,-1.1999999999999999E-3,-6.9999999999999999E-4,2.9999999999999997E-4,1.6000000000000001E-3,3.0000000000000001E-3,4.4000000000000003E-3,5.7999999999999996E-3,7.0000000000000001E-3,7.9000000000000008E-3,8.5000000000000006E-3,8.8000000000000005E-3,8.8000000000000005E-3,8.6999999999999994E-3,8.6999999999999994E-3,8.6999999999999994E-3,8.8999999999999999E-3,9.1000000000000004E-3,9.2999999999999992E-3,9.5999999999999992E-3,9.9000000000000008E-3,0.01]
[60,4.7000000000000002E-3,4.5999999999999999E-3,4.4000000000000003E-3,4.0000000000000001E-3,3.2000000000000002E-3,2.3999999999999998E-3,1.6000000000000001E-3,1E-3,4.0000000000000002E-4,0,-2.9999999999999997E-4,-4.0000000000000002E-4,-2.0000000000000001E-4,4.0000000000000002E-4,1.4E-3,2.7000000000000001E-3,4.4999999999999997E-3,6.4999999999999997E-3,8.8999999999999999E-3,1.1299999999999999E-2,1.38E-2,1.61E-2,1.8200000000000001E-2,0.02,2.1299999999999999E-2,2.1899999999999999E-2,2.2100000000000002E-2,2.1899999999999999E-2,2.1299999999999999E-2,2.0500000000000001E-2,1.9699999999999999E-2,1.9E-2,1.84E-2,1.8100000000000002E-2,1.7999999999999999E-2,1.8200000000000001E-2,1.84E-2,1.8800000000000001E-2,1.9099999999999999E-2,1.9400000000000001E-2,1.9599999999999999E-2,1.9599999999999999E-2,1.9599999999999999E-2,1.9699999999999999E-2,1.9699999999999999E-2,1.9800000000000002E-2,1.9699999999999999E-2,1.95E-2,1.9E-2,1.8499999999999999E-2,1.78E-2,1.7100000000000001E-2,1.6199999999999999E-2,1.5299999999999999E-2,1.4E-2,1.26E-2,1.0999999999999999E-2,9.1000000000000004E-3,7.3000000000000001E-3,5.3E-3,3.2000000000000002E-3,1.2999999999999999E-3,-2.0000000000000001E-4,-1.1000000000000001E-3,-1.6000000000000001E-3,-1.1999999999999999E-3,-2.9999999999999997E-4,8.9999999999999998E-4,2.3999999999999998E-3,3.8999999999999998E-3,5.4000000000000003E-3,6.7000000000000002E-3,7.7999999999999996E-3,8.5000000000000006E-3,8.8999999999999999E-3,8.9999999999999993E-3,8.9999999999999993E-3,8.9999999999999993E-3,8.9999999999999993E-3,9.1000000000000004E-3,9.1999999999999998E-3,9.4999999999999998E-3,9.7000000000000003E-3,9.9000000000000008E-3,0.01]
[61,4.1000000000000003E-3,4.0000000000000001E-3,3.8E-3,3.3999999999999998E-3,2.7000000000000001E-3,1.8E-3,1.1000000000000001E-3,5.0000000000000001E-4,1E-4,-4.0000000000000002E-4,-5.9999999999999995E-4,-5.9999999999999995E-4,-4.0000000000000002E-4,2.9999999999999997E-4,1.4E-3,2.8E-3,4.4999999999999997E-3,6.4999999999999997E-3,8.8000000000000005E-3,1.12E-2,1.35E-2,1.5599999999999999E-2,1.77E-2,1.9400000000000001E-2,2.06E-2,2.1299999999999999E-2,2.1499999999999998E-2,2.1299999999999999E-2,2.0899999999999998E-2,2.0199999999999999E-2,1.9300000000000001E-2,1.8599999999999998E-2,1.7999999999999999E-2,1.7600000000000001E-2,1.7600000000000001E-2,1.78E-2,1.8100000000000002E-2,1.8499999999999999E-2,1.89E-2,1.9199999999999998E-2,1.9400000000000001E-2,1.95E-2,1.95E-2,1.9599999999999999E-2,1.9800000000000002E-2,2.01E-2,2.0199999999999999E-2,2.0199999999999999E-2,1.9900000000000001E-2,1.95E-2,1.9E-2,1.84E-2,1.7600000000000001E-2,1.67E-2,1.55E-2,1.41E-2,1.24E-2,1.04E-2,8.3999999999999995E-3,6.1999999999999998E-3,3.8E-3,1.6999999999999999E-3,0,-1.1000000000000001E-3,-1.6999999999999999E-3,-1.4E-3,-6.9999999999999999E-4,5.0000000000000001E-4,1.9E-3,3.5000000000000001E-3,5.0000000000000001E-3,6.4000000000000003E-3,7.6E-3,8.3999999999999995E-3,8.8999999999999999E-3,8.9999999999999993E-3,9.1000000000000004E-3,9.1999999999999998E-3,9.1999999999999998E-3,9.2999999999999992E-3,9.4000000000000004E-3,9.5999999999999992E-3,9.7000000000000003E-3,9.9000000000000008E-3,0.01]
[62,3.5000000000000001E-3,3.3999999999999998E-3,3.2000000000000002E-3,2.8E-3,2.0999999999999999E-3,1.2999999999999999E-3,6.9999999999999999E-4,2.0000000000000001E-4,-2.9999999999999997E-4,-5.9999999999999995E-4,-8.0000000000000004E-4,-8.0000000000000004E-4,-4.0000000000000002E-4,2.9999999999999997E-4,1.4E-3,2.8999999999999998E-3,4.5999999999999999E-3,6.4999999999999997E-3,8.6999999999999994E-3,1.09E-2,1.3100000000000001E-2,1.52E-2,1.7100000000000001E-2,1.8800000000000001E-2,1.9900000000000001E-2,2.06E-2,2.0799999999999999E-2,2.07E-2,2.0299999999999999E-2,1.9699999999999999E-2,1.89E-2,1.8200000000000001E-2,1.7600000000000001E-2,1.72E-2,1.72E-2,1.7399999999999999E-2,1.77E-2,1.8200000000000001E-2,1.8599999999999998E-2,1.89E-2,1.9099999999999999E-2,1.9199999999999998E-2,1.9300000000000001E-2,1.95E-2,1.9800000000000002E-2,2.0199999999999999E-2,2.06E-2,2.07E-2,2.07E-2,2.0500000000000001E-2,2.01E-2,1.95E-2,1.89E-2,1.7999999999999999E-2,1.6899999999999998E-2,1.55E-2,1.38E-2,1.17E-2,9.5999999999999992E-3,7.1999999999999998E-3,4.7000000000000002E-3,2.3999999999999998E-3,5.9999999999999995E-4,-6.9999999999999999E-4,-1.4E-3,-1.2999999999999999E-3,-6.9999999999999999E-4,2.9999999999999997E-4,1.6000000000000001E-3,3.0999999999999999E-3,4.5999999999999999E-3,6.1000000000000004E-3,7.3000000000000001E-3,8.2000000000000007E-3,8.8000000000000005E-3,8.9999999999999993E-3,9.1999999999999998E-3,9.2999999999999992E-3,9.4000000000000004E-3,9.4000000000000004E-3,9.4999999999999998E-3,9.5999999999999992E-3,9.7999999999999997E-3,9.9000000000000008E-3,0.01]
[63,2.8999999999999998E-3,2.8E-3,2.5999999999999999E-3,2.2000000000000001E-3,1.6000000000000001E-3,8.9999999999999998E-4,2.9999999999999997E-4,-2.0000000000000001E-4,-5.9999999999999995E-4,-8.9999999999999998E-4,-1E-3,-8.9999999999999998E-4,-5.0000000000000001E-4,2.9999999999999997E-4,1.5E-3,2.8999999999999998E-3,4.5999999999999999E-3,6.4999999999999997E-3,8.6E-3,1.0699999999999999E-2,1.2699999999999999E-2,1.47E-2,1.6500000000000001E-2,1.8100000000000002E-2,1.9199999999999998E-2,1.9800000000000002E-2,2.01E-2,0.02,1.9699999999999999E-2,1.9199999999999998E-2,1.8499999999999999E-2,1.78E-2,1.72E-2,1.6899999999999998E-2,1.6799999999999999E-2,1.7000000000000001E-2,1.7399999999999999E-2,1.78E-2,1.8200000000000001E-2,1.8599999999999998E-2,1.8800000000000001E-2,1.89E-2,1.9E-2,1.9300000000000001E-2,1.9800000000000002E-2,2.0299999999999999E-2,2.0799999999999999E-2,2.1100000000000001E-2,2.1299999999999999E-2,2.12E-2,2.1000000000000001E-2,2.06E-2,2.01E-2,1.9300000000000001E-2,1.8200000000000001E-2,1.6799999999999999E-2,1.5100000000000001E-2,1.3100000000000001E-2,1.09E-2,8.3999999999999995E-3,5.7999999999999996E-3,3.3999999999999998E-3,1.4E-3,1E-4,-6.9999999999999999E-4,-8.9999999999999998E-4,-5.0000000000000001E-4,2.9999999999999997E-4,1.5E-3,2.8999999999999998E-3,4.3E-3,5.7000000000000002E-3,7.0000000000000001E-3,8.0000000000000002E-3,8.6E-3,8.8999999999999999E-3,9.1999999999999998E-3,9.4000000000000004E-3,9.4999999999999998E-3,9.5999999999999992E-3,9.5999999999999992E-3,9.7000000000000003E-3,9.7999999999999997E-3,9.9000000000000008E-3,0.01]
[64,2.3999999999999998E-3,2.3E-3,2.0999999999999999E-3,1.8E-3,1.1999999999999999E-3,5.0000000000000001E-4,-1E-4,-4.0000000000000002E-4,-8.0000000000000004E-4,-1E-3,-1.1000000000000001E-3,-8.9999999999999998E-4,-5.0000000000000001E-4,4.0000000000000002E-4,1.5E-3,2.8999999999999998E-3,4.5999999999999999E-3,6.4000000000000003E-3,8.3999999999999995E-3,1.03E-2,1.23E-2,1.4200000000000001E-2,1.5900000000000001E-2,1.7399999999999999E-2,1.84E-2,1.9099999999999999E-2,1.9400000000000001E-2,1.9300000000000001E-2,1.9099999999999999E-2,1.8599999999999998E-2,1.7999999999999999E-2,1.7399999999999999E-2,1.6799999999999999E-2,1.6500000000000001E-2,1.6500000000000001E-2,1.67E-2,1.7000000000000001E-2,1.7399999999999999E-2,1.7899999999999999E-2,1.8200000000000001E-2,1.84E-2,1.8499999999999999E-2,1.8700000000000001E-2,1.9099999999999999E-2,1.9599999999999999E-2,2.0199999999999999E-2,2.0799999999999999E-2,2.1399999999999999E-2,2.1700000000000001E-2,2.18E-2,2.18E-2,2.1499999999999998E-2,2.1100000000000001E-2,2.0400000000000001E-2,1.9400000000000001E-2,1.7999999999999999E-2,1.6299999999999999E-2,1.43E-2,1.21E-2,9.5999999999999992E-3,7.1000000000000004E-3,4.5999999999999999E-3,2.5999999999999999E-3,1.1000000000000001E-3,2.0000000000000001E-4,-1E-4,1E-4,6.9999999999999999E-4,1.6000000000000001E-3,2.8E-3,4.1999999999999997E-3,5.4999999999999997E-3,6.7000000000000002E-3,7.7000000000000002E-3,8.3999999999999995E-3,8.8000000000000005E-3,9.1000000000000004E-3,9.4000000000000004E-3,9.4999999999999998E-3,9.5999999999999992E-3,9.7000000000000003E-3,9.7999999999999997E-3,9.9000000000000008E-3,0.01,0.01]
[65,2E-3,1.9E-3,1.6999999999999999E-3,1.4E-3,8.0000000000000004E-4,2.0000000000000001E-4,-2.9999999999999997E-4,-6.9999999999999999E-4,-8.9999999999999998E-4,-1.1000000000000001E-3,-1.1000000000000001E-3,-1E-3,-4.0000000000000002E-4,4.0000000000000002E-4,1.5E-3,2.8999999999999998E-3,4.4999999999999997E-3,6.1999999999999998E-3,8.0999999999999996E-3,0.01,1.1900000000000001E-2,1.3599999999999999E-2,1.5299999999999999E-2,1.67E-2,1.77E-2,1.83E-2,1.8599999999999998E-2,1.8599999999999998E-2,1.84E-2,1.7899999999999999E-2,1.7500000000000002E-2,1.6899999999999998E-2,1.6500000000000001E-2,1.6199999999999999E-2,1.6199999999999999E-2,1.6299999999999999E-2,1.67E-2,1.7100000000000001E-2,1.7500000000000002E-2,1.78E-2,1.7999999999999999E-2,1.8100000000000002E-2,1.83E-2,1.8700000000000001E-2,1.9300000000000001E-2,0.02,2.0799999999999999E-2,2.1399999999999999E-2,2.1999999999999999E-2,2.23E-2,2.24E-2,2.23E-2,2.1999999999999999E-2,2.1399999999999999E-2,2.0400000000000001E-2,1.9099999999999999E-2,1.7399999999999999E-2,1.55E-2,1.3299999999999999E-2,1.09E-2,8.3000000000000001E-3,5.8999999999999999E-3,3.8999999999999998E-3,2.3999999999999998E-3,1.2999999999999999E-3,8.9999999999999998E-4,8.9999999999999998E-4,1.2999999999999999E-3,2E-3,2.8999999999999998E-3,4.1000000000000003E-3,5.3E-3,6.4000000000000003E-3,7.4000000000000003E-3,8.0999999999999996E-3,8.6E-3,8.9999999999999993E-3,9.2999999999999992E-3,9.4999999999999998E-3,9.5999999999999992E-3,9.7000000000000003E-3,9.7999999999999997E-3,9.9000000000000008E-3,0.01,0.01]
[66,1.6000000000000001E-3,1.5E-3,1.4E-3,1E-3,5.0000000000000001E-4,0,-5.0000000000000001E-4,-8.0000000000000004E-4,-1E-3,-1.1999999999999999E-3,-1.1999999999999999E-3,-8.9999999999999998E-4,-4.0000000000000002E-4,5.0000000000000001E-4,1.5E-3,2.8E-3,4.4000000000000003E-3,6.0000000000000001E-3,7.7999999999999996E-3,9.5999999999999992E-3,1.14E-2,1.3100000000000001E-2,1.47E-2,1.6E-2,1.7000000000000001E-2,1.7600000000000001E-2,1.7899999999999999E-2,1.78E-2,1.7600000000000001E-2,1.7299999999999999E-2,1.6899999999999998E-2,1.6400000000000001E-2,1.6E-2,1.5800000000000002E-2,1.5800000000000002E-2,1.6E-2,1.6400000000000001E-2,1.67E-2,1.7100000000000001E-2,1.7399999999999999E-2,1.7600000000000001E-2,1.77E-2,1.7899999999999999E-2,1.84E-2,1.9E-2,1.9699999999999999E-2,2.06E-2,2.1399999999999999E-2,2.2100000000000002E-2,2.2599999999999999E-2,2.2800000000000001E-2,2.29E-2,2.2700000000000001E-2,2.2200000000000001E-2,2.1299999999999999E-2,0.02,1.84E-2,1.6500000000000001E-2,1.44E-2,1.2E-2,9.5999999999999992E-3,7.3000000000000001E-3,5.3E-3,3.7000000000000002E-3,2.5999999999999999E-3,2.0999999999999999E-3,1.9E-3,2.0999999999999999E-3,2.5000000000000001E-3,3.2000000000000002E-3,4.1999999999999997E-3,5.1999999999999998E-3,6.1999999999999998E-3,7.1000000000000004E-3,7.7999999999999996E-3,8.3999999999999995E-3,8.8000000000000005E-3,9.1999999999999998E-3,9.4999999999999998E-3,9.5999999999999992E-3,9.7999999999999997E-3,9.9000000000000008E-3,9.9000000000000008E-3,0.01,0.01]
[67,1.2999999999999999E-3,1.2999999999999999E-3,1.1000000000000001E-3,8.0000000000000004E-4,2.9999999999999997E-4,-2.0000000000000001E-4,-5.9999999999999995E-4,-8.9999999999999998E-4,-1.1000000000000001E-3,-1.1999999999999999E-3,-1.1000000000000001E-3,-8.9999999999999998E-4,-2.9999999999999997E-4,5.0000000000000001E-4,1.5E-3,2.8E-3,4.1999999999999997E-3,5.7999999999999996E-3,7.6E-3,9.2999999999999992E-3,1.0999999999999999E-2,1.26E-2,1.41E-2,1.54E-2,1.6299999999999999E-2,1.6899999999999998E-2,1.7100000000000001E-2,1.7100000000000001E-2,1.6899999999999998E-2,1.66E-2,1.6299999999999999E-2,1.5900000000000001E-2,1.5599999999999999E-2,1.54E-2,1.55E-2,1.5699999999999999E-2,1.6E-2,1.6400000000000001E-2,1.6799999999999999E-2,1.7000000000000001E-2,1.72E-2,1.7299999999999999E-2,1.7500000000000002E-2,1.7999999999999999E-2,1.8599999999999998E-2,1.9400000000000001E-2,2.0299999999999999E-2,2.12E-2,2.1999999999999999E-2,2.2700000000000001E-2,2.3099999999999999E-2,2.3300000000000001E-2,2.3300000000000001E-2,2.29E-2,2.1999999999999999E-2,2.0799999999999999E-2,1.9300000000000001E-2,1.7399999999999999E-2,1.54E-2,1.3100000000000001E-2,1.0800000000000001E-2,8.6E-3,6.6E-3,5.1000000000000004E-3,4.0000000000000001E-3,3.3999999999999998E-3,3.0999999999999999E-3,3.0000000000000001E-3,3.2000000000000002E-3,3.7000000000000002E-3,4.4000000000000003E-3,5.1999999999999998E-3,6.1000000000000004E-3,6.8999999999999999E-3,7.6E-3,8.2000000000000007E-3,8.6999999999999994E-3,9.1000000000000004E-3,9.4000000000000004E-3,9.5999999999999992E-3,9.7999999999999997E-3,9.9000000000000008E-3,9.9000000000000008E-3,0.01,0.01]
[68,1.1000000000000001E-3,1.1000000000000001E-3,8.9999999999999998E-4,5.9999999999999995E-4,2.0000000000000001E-4,-2.9999999999999997E-4,-6.9999999999999999E-4,-8.9999999999999998E-4,-1E-3,-1.1000000000000001E-3,-1E-3,-8.0000000000000004E-4,-2.9999999999999997E-4,5.0000000000000001E-4,1.5E-3,2.7000000000000001E-3,4.1000000000000003E-3,5.5999999999999999E-3,7.3000000000000001E-3,8.8999999999999999E-3,1.0500000000000001E-2,1.21E-2,1.3599999999999999E-2,1.4800000000000001E-2,1.5699999999999999E-2,1.6199999999999999E-2,1.6400000000000001E-2,1.6400000000000001E-2,1.6199999999999999E-2,1.5900000000000001E-2,1.5599999999999999E-2,1.54E-2,1.5100000000000001E-2,1.4999999999999999E-2,1.5100000000000001E-2,1.54E-2,1.5699999999999999E-2,1.61E-2,1.6400000000000001E-2,1.67E-2,1.6799999999999999E-2,1.6899999999999998E-2,1.7100000000000001E-2,1.7600000000000001E-2,1.8200000000000001E-2,1.9E-2,1.9900000000000001E-2,2.0899999999999998E-2,2.18E-2,2.2599999999999999E-2,2.3199999999999998E-2,2.3599999999999999E-2,2.3699999999999999E-2,2.3400000000000001E-2,2.2599999999999999E-2,2.1399999999999999E-2,0.02,1.8200000000000001E-2,1.6299999999999999E-2,1.41E-2,1.1900000000000001E-2,9.7999999999999997E-3,7.9000000000000008E-3,6.4000000000000003E-3,5.4000000000000003E-3,4.7999999999999996E-3,4.3E-3,4.1000000000000003E-3,4.1000000000000003E-3,4.3E-3,4.7000000000000002E-3,5.3E-3,6.0000000000000001E-3,6.7000000000000002E-3,7.4000000000000003E-3,8.0000000000000002E-3,8.5000000000000006E-3,8.8999999999999999E-3,9.2999999999999992E-3,9.5999999999999992E-3,9.7000000000000003E-3,9.9000000000000008E-3,9.9000000000000008E-3,0.01,0.01]
[69,1E-3,1E-3,8.0000000000000004E-4,5.0000000000000001E-4,1E-4,-2.9999999999999997E-4,-6.9999999999999999E-4,-8.9999999999999998E-4,-1E-3,-1.1000000000000001E-3,-8.9999999999999998E-4,-6.9999999999999999E-4,-2.0000000000000001E-4,5.9999999999999995E-4,1.5E-3,2.5999999999999999E-3,3.8999999999999998E-3,5.4000000000000003E-3,7.0000000000000001E-3,8.6E-3,1.01E-2,1.1599999999999999E-2,1.2999999999999999E-2,1.4200000000000001E-2,1.4999999999999999E-2,1.55E-2,1.5699999999999999E-2,1.5699999999999999E-2,1.55E-2,1.52E-2,1.4999999999999999E-2,1.4800000000000001E-2,1.46E-2,1.46E-2,1.47E-2,1.4999999999999999E-2,1.54E-2,1.5699999999999999E-2,1.61E-2,1.6299999999999999E-2,1.6400000000000001E-2,1.6500000000000001E-2,1.67E-2,1.72E-2,1.78E-2,1.8599999999999998E-2,1.95E-2,2.0500000000000001E-2,2.1499999999999998E-2,2.2499999999999999E-2,2.3199999999999998E-2,2.3699999999999999E-2,2.3900000000000001E-2,2.3699999999999999E-2,2.3E-2,2.1999999999999999E-2,2.06E-2,1.89E-2,1.7000000000000001E-2,1.4999999999999999E-2,1.29E-2,1.0800000000000001E-2,8.9999999999999993E-3,7.6E-3,6.7000000000000002E-3,6.1000000000000004E-3,5.5999999999999999E-3,5.1999999999999998E-3,5.0000000000000001E-3,5.0000000000000001E-3,5.1999999999999998E-3,5.5999999999999999E-3,6.0000000000000001E-3,6.6E-3,7.1999999999999998E-3,7.7999999999999996E-3,8.3000000000000001E-3,8.8000000000000005E-3,9.1999999999999998E-3,9.4999999999999998E-3,9.7000000000000003E-3,9.7999999999999997E-3,9.9000000000000008E-3,0.01,0.01]
[70,1E-3,8.9999999999999998E-4,6.9999999999999999E-4,4.0000000000000002E-4,1E-4,-2.9999999999999997E-4,-6.9999999999999999E-4,-8.0000000000000004E-4,-8.9999999999999998E-4,-1E-3,-8.0000000000000004E-4,-5.9999999999999995E-4,-1E-4,5.9999999999999995E-4,1.4E-3,2.5000000000000001E-3,3.8E-3,5.1999999999999998E-3,6.7000000000000002E-3,8.2000000000000007E-3,9.7000000000000003E-3,1.12E-2,1.2500000000000001E-2,1.3599999999999999E-2,1.44E-2,1.4800000000000001E-2,1.4999999999999999E-2,1.4999999999999999E-2,1.4800000000000001E-2,1.46E-2,1.44E-2,1.4200000000000001E-2,1.4E-2,1.4E-2,1.4200000000000001E-2,1.46E-2,1.4999999999999999E-2,1.54E-2,1.5699999999999999E-2,1.5900000000000001E-2,1.61E-2,1.6199999999999999E-2,1.6299999999999999E-2,1.6799999999999999E-2,1.7299999999999999E-2,1.8100000000000002E-2,1.9E-2,0.02,2.1100000000000001E-2,2.2200000000000001E-2,2.3099999999999999E-2,2.3699999999999999E-2,2.4E-2,2.3900000000000001E-2,2.3300000000000001E-2,2.24E-2,2.1100000000000001E-2,1.95E-2,1.77E-2,1.5699999999999999E-2,1.37E-2,1.18E-2,1.01E-2,8.8000000000000005E-3,7.9000000000000008E-3,7.3000000000000001E-3,6.7999999999999996E-3,6.3E-3,6.0000000000000001E-3,5.7999999999999996E-3,5.7999999999999996E-3,5.8999999999999999E-3,6.1999999999999998E-3,6.6E-3,7.1000000000000004E-3,7.6E-3,8.2000000000000007E-3,8.6E-3,9.1000000000000004E-3,9.4000000000000004E-3,9.7000000000000003E-3,9.7999999999999997E-3,9.9000000000000008E-3,0.01,0.01]
[71,8.9999999999999998E-4,8.9999999999999998E-4,6.9999999999999999E-4,4.0000000000000002E-4,1E-4,-2.9999999999999997E-4,-5.9999999999999995E-4,-6.9999999999999999E-4,-8.0000000000000004E-4,-8.0000000000000004E-4,-6.9999999999999999E-4,-5.0000000000000001E-4,-1E-4,5.9999999999999995E-4,1.4E-3,2.3999999999999998E-3,3.5999999999999999E-3,5.0000000000000001E-3,6.4999999999999997E-3,8.0000000000000002E-3,9.4000000000000004E-3,1.0800000000000001E-2,1.2E-2,1.3100000000000001E-2,1.38E-2,1.4200000000000001E-2,1.44E-2,1.43E-2,1.4200000000000001E-2,1.3899999999999999E-2,1.37E-2,1.3599999999999999E-2,1.34E-2,1.35E-2,1.37E-2,1.41E-2,1.4500000000000001E-2,1.4999999999999999E-2,1.5299999999999999E-2,1.55E-2,1.5699999999999999E-2,1.5800000000000002E-2,1.5900000000000001E-2,1.6299999999999999E-2,1.6899999999999998E-2,1.7600000000000001E-2,1.8499999999999999E-2,1.95E-2,2.07E-2,2.18E-2,2.2800000000000001E-2,2.35E-2,2.3900000000000001E-2,2.3900000000000001E-2,2.3400000000000001E-2,2.2599999999999999E-2,2.1399999999999999E-2,1.9900000000000001E-2,1.8200000000000001E-2,1.6299999999999999E-2,1.44E-2,1.26E-2,1.0999999999999999E-2,9.7000000000000003E-3,8.8999999999999999E-3,8.3999999999999995E-3,7.9000000000000008E-3,7.4000000000000003E-3,6.8999999999999999E-3,6.6E-3,6.4000000000000003E-3,6.4000000000000003E-3,6.4999999999999997E-3,6.7000000000000002E-3,7.1000000000000004E-3,7.4999999999999997E-3,8.0000000000000002E-3,8.5000000000000006E-3,8.9999999999999993E-3,9.2999999999999992E-3,9.5999999999999992E-3,9.7999999999999997E-3,9.9000000000000008E-3,0.01,0.01]
[72,8.9999999999999998E-4,8.9999999999999998E-4,6.9999999999999999E-4,5.0000000000000001E-4,1E-4,-2.0000000000000001E-4,-5.0000000000000001E-4,-5.9999999999999995E-4,-6.9999999999999999E-4,-6.9999999999999999E-4,-5.9999999999999995E-4,-4.0000000000000002E-4,0,6.9999999999999999E-4,1.4E-3,2.3999999999999998E-3,3.5000000000000001E-3,4.8999999999999998E-3,6.3E-3,7.7000000000000002E-3,9.1000000000000004E-3,1.04E-2,1.1599999999999999E-2,1.26E-2,1.3299999999999999E-2,1.3599999999999999E-2,1.38E-2,1.37E-2,1.35E-2,1.3299999999999999E-2,1.3100000000000001E-2,1.2999999999999999E-2,1.29E-2,1.2999999999999999E-2,1.32E-2,1.3599999999999999E-2,1.41E-2,1.4500000000000001E-2,1.49E-2,1.5100000000000001E-2,1.52E-2,1.5299999999999999E-2,1.55E-2,1.5900000000000001E-2,1.6400000000000001E-2,1.7100000000000001E-2,1.7999999999999999E-2,1.9E-2,2.01E-2,2.1299999999999999E-2,2.23E-2,2.3199999999999998E-2,2.3699999999999999E-2,2.3800000000000002E-2,2.3400000000000001E-2,2.2700000000000001E-2,2.1600000000000001E-2,2.0199999999999999E-2,1.8599999999999998E-2,1.6799999999999999E-2,1.49E-2,1.32E-2,1.17E-2,1.06E-2,9.7999999999999997E-3,9.4000000000000004E-3,8.8999999999999999E-3,8.3000000000000001E-3,7.7999999999999996E-3,7.4000000000000003E-3,7.1000000000000004E-3,6.8999999999999999E-3,6.7999999999999996E-3,6.8999999999999999E-3,7.1999999999999998E-3,7.4999999999999997E-3,8.0000000000000002E-3,8.3999999999999995E-3,8.8999999999999999E-3,9.1999999999999998E-3,9.5999999999999992E-3,9.7999999999999997E-3,9.9000000000000008E-3,0.01,0.01]
[73,8.9999999999999998E-4,8.9999999999999998E-4,6.9999999999999999E-4,5.0000000000000001E-4,2.0000000000000001E-4,-1E-4,-4.0000000000000002E-4,-5.0000000000000001E-4,-5.9999999999999995E-4,-5.9999999999999995E-4,-5.0000000000000001E-4,-2.9999999999999997E-4,1E-4,6.9999999999999999E-4,1.5E-3,2.3999999999999998E-3,3.5000000000000001E-3,4.7000000000000002E-3,6.1000000000000004E-3,7.4999999999999997E-3,8.8000000000000005E-3,0.01,1.12E-2,1.21E-2,1.2699999999999999E-2,1.3100000000000001E-2,1.32E-2,1.3100000000000001E-2,1.29E-2,1.2699999999999999E-2,1.2500000000000001E-2,1.24E-2,1.23E-2,1.24E-2,1.2699999999999999E-2,1.3100000000000001E-2,1.3599999999999999E-2,1.4E-2,1.44E-2,1.46E-2,1.4800000000000001E-2,1.49E-2,1.5100000000000001E-2,1.54E-2,1.5900000000000001E-2,1.66E-2,1.7500000000000002E-2,1.8499999999999999E-2,1.9599999999999999E-2,2.0799999999999999E-2,2.18E-2,2.2700000000000001E-2,2.3300000000000001E-2,2.35E-2,2.3300000000000001E-2,2.2700000000000001E-2,2.1700000000000001E-2,2.0400000000000001E-2,1.8800000000000001E-2,1.7100000000000001E-2,1.54E-2,1.38E-2,1.24E-2,1.1299999999999999E-2,1.06E-2,1.0200000000000001E-2,9.7000000000000003E-3,9.1999999999999998E-3,8.6999999999999994E-3,8.2000000000000007E-3,7.7000000000000002E-3,7.4000000000000003E-3,7.1999999999999998E-3,7.1999999999999998E-3,7.3000000000000001E-3,7.6E-3,7.9000000000000008E-3,8.3999999999999995E-3,8.8000000000000005E-3,9.1999999999999998E-3,9.4999999999999998E-3,9.7000000000000003E-3,9.9000000000000008E-3,0.01,0.01]
[74,8.9999999999999998E-4,8.9999999999999998E-4,8.0000000000000004E-4,5.0000000000000001E-4,2.9999999999999997E-4,0,-2.0000000000000001E-4,-4.0000000000000002E-4,-4.0000000000000002E-4,-4.0000000000000002E-4,-2.9999999999999997E-4,-1E-4,2.0000000000000001E-4,8.0000000000000004E-4,1.5E-3,2.3999999999999998E-3,3.5000000000000001E-3,4.7000000000000002E-3,6.0000000000000001E-3,7.3000000000000001E-3,8.5000000000000006E-3,9.7000000000000003E-3,1.0800000000000001E-2,1.17E-2,1.2200000000000001E-2,1.2500000000000001E-2,1.26E-2,1.26E-2,1.24E-2,1.21E-2,1.1900000000000001E-2,1.18E-2,1.17E-2,1.18E-2,1.21E-2,1.2500000000000001E-2,1.2999999999999999E-2,1.35E-2,1.38E-2,1.41E-2,1.43E-2,1.44E-2,1.46E-2,1.49E-2,1.54E-2,1.61E-2,1.6899999999999998E-2,1.7899999999999999E-2,1.9E-2,2.0199999999999999E-2,2.1299999999999999E-2,2.2200000000000001E-2,2.29E-2,2.3199999999999998E-2,2.3E-2,2.2499999999999999E-2,2.1600000000000001E-2,2.0400000000000001E-2,1.9E-2,1.7299999999999999E-2,1.5699999999999999E-2,1.4200000000000001E-2,1.29E-2,1.1900000000000001E-2,1.12E-2,1.09E-2,1.04E-2,9.9000000000000008E-3,9.4000000000000004E-3,8.8000000000000005E-3,8.3000000000000001E-3,7.9000000000000008E-3,7.7000000000000002E-3,7.4999999999999997E-3,7.4999999999999997E-3,7.7000000000000002E-3,8.0000000000000002E-3,8.3999999999999995E-3,8.6999999999999994E-3,9.1000000000000004E-3,9.4999999999999998E-3,9.7000000000000003E-3,9.9000000000000008E-3,0.01,0.01]
[75,8.9999999999999998E-4,8.9999999999999998E-4,8.0000000000000004E-4,5.9999999999999995E-4,2.9999999999999997E-4,1E-4,-1E-4,-2.0000000000000001E-4,-2.9999999999999997E-4,-2.9999999999999997E-4,-2.0000000000000001E-4,0,4.0000000000000002E-4,8.9999999999999998E-4,1.6000000000000001E-3,2.5000000000000001E-3,3.5000000000000001E-3,4.5999999999999999E-3,5.8999999999999999E-3,7.1000000000000004E-3,8.3000000000000001E-3,9.4000000000000004E-3,1.04E-2,1.12E-2,1.18E-2,1.2E-2,1.21E-2,1.2E-2,1.18E-2,1.1599999999999999E-2,1.14E-2,1.12E-2,1.11E-2,1.1299999999999999E-2,1.15E-2,1.1900000000000001E-2,1.24E-2,1.29E-2,1.3299999999999999E-2,1.35E-2,1.37E-2,1.38E-2,1.4E-2,1.44E-2,1.49E-2,1.55E-2,1.6400000000000001E-2,1.7299999999999999E-2,1.84E-2,1.95E-2,2.06E-2,2.1600000000000001E-2,2.23E-2,2.2700000000000001E-2,2.2599999999999999E-2,2.2200000000000001E-2,2.1399999999999999E-2,2.0299999999999999E-2,1.9E-2,1.7500000000000002E-2,1.5900000000000001E-2,1.4500000000000001E-2,1.3299999999999999E-2,1.23E-2,1.17E-2,1.14E-2,1.0999999999999999E-2,1.0500000000000001E-2,0.01,9.4999999999999998E-3,8.8999999999999999E-3,8.5000000000000006E-3,8.0999999999999996E-3,7.9000000000000008E-3,7.7999999999999996E-3,7.9000000000000008E-3,8.0999999999999996E-3,8.3999999999999995E-3,8.6999999999999994E-3,9.1000000000000004E-3,9.4000000000000004E-3,9.7000000000000003E-3,9.9000000000000008E-3,0.01,0.01]
[76,8.9999999999999998E-4,8.9999999999999998E-4,8.0000000000000004E-4,5.9999999999999995E-4,4.0000000000000002E-4,2.0000000000000001E-4,0,-1E-4,-1E-4,-1E-4,0,1E-4,5.0000000000000001E-4,1E-3,1.6999999999999999E-3,2.5999999999999999E-3,3.5000000000000001E-3,4.5999999999999999E-3,5.7999999999999996E-3,6.8999999999999999E-3,8.0000000000000002E-3,9.1000000000000004E-3,1.01E-2,1.0800000000000001E-2,1.1299999999999999E-2,1.1599999999999999E-2,1.1599999999999999E-2,1.15E-2,1.1299999999999999E-2,1.0999999999999999E-2,1.0800000000000001E-2,1.0699999999999999E-2,1.06E-2,1.0699999999999999E-2,1.09E-2,1.1299999999999999E-2,1.18E-2,1.2200000000000001E-2,1.26E-2,1.29E-2,1.3100000000000001E-2,1.32E-2,1.34E-2,1.38E-2,1.43E-2,1.49E-2,1.5699999999999999E-2,1.67E-2,1.78E-2,1.89E-2,0.02,2.0899999999999998E-2,2.1700000000000001E-2,2.2100000000000002E-2,2.2100000000000002E-2,2.18E-2,2.1100000000000001E-2,2.01E-2,1.8800000000000001E-2,1.7399999999999999E-2,1.6E-2,1.47E-2,1.35E-2,1.26E-2,1.2E-2,1.18E-2,1.15E-2,1.0999999999999999E-2,1.0500000000000001E-2,0.01,9.4000000000000004E-3,8.8999999999999999E-3,8.5000000000000006E-3,8.2000000000000007E-3,8.0999999999999996E-3,8.2000000000000007E-3,8.3000000000000001E-3,8.5000000000000006E-3,8.8000000000000005E-3,9.1000000000000004E-3,9.4000000000000004E-3,9.7000000000000003E-3,9.9000000000000008E-3,0.01,0.01]
[77,8.9999999999999998E-4,8.9999999999999998E-4,8.0000000000000004E-4,5.9999999999999995E-4,5.0000000000000001E-4,2.9999999999999997E-4,1E-4,1E-4,0,0,1E-4,2.9999999999999997E-4,6.9999999999999999E-4,1.1999999999999999E-3,1.9E-3,2.7000000000000001E-3,3.5999999999999999E-3,4.5999999999999999E-3,5.7000000000000002E-3,6.7999999999999996E-3,7.7999999999999996E-3,8.8000000000000005E-3,9.7000000000000003E-3,1.0500000000000001E-2,1.09E-2,1.11E-2,1.12E-2,1.0999999999999999E-2,1.0800000000000001E-2,1.0500000000000001E-2,1.03E-2,1.01E-2,0.01,1.01E-2,1.03E-2,1.0699999999999999E-2,1.11E-2,1.15E-2,1.1900000000000001E-2,1.2200000000000001E-2,1.24E-2,1.26E-2,1.2800000000000001E-2,1.32E-2,1.37E-2,1.43E-2,1.5100000000000001E-2,1.6E-2,1.7100000000000001E-2,1.8200000000000001E-2,1.9199999999999998E-2,2.0199999999999999E-2,2.1000000000000001E-2,2.1399999999999999E-2,2.1499999999999998E-2,2.1299999999999999E-2,2.07E-2,1.9699999999999999E-2,1.8599999999999998E-2,1.7299999999999999E-2,1.6E-2,1.4800000000000001E-2,1.37E-2,1.2800000000000001E-2,1.23E-2,1.21E-2,1.18E-2,1.14E-2,1.09E-2,1.04E-2,9.9000000000000008E-3,9.4000000000000004E-3,8.8999999999999999E-3,8.6E-3,8.3999999999999995E-3,8.3999999999999995E-3,8.5000000000000006E-3,8.6E-3,8.8000000000000005E-3,9.1000000000000004E-3,9.4000000000000004E-3,9.5999999999999992E-3,9.7999999999999997E-3,0.01,0.01]
[78,8.9999999999999998E-4,8.0000000000000004E-4,8.0000000000000004E-4,6.9999999999999999E-4,5.0000000000000001E-4,4.0000000000000002E-4,2.0000000000000001E-4,2.0000000000000001E-4,2.0000000000000001E-4,2.0000000000000001E-4,2.9999999999999997E-4,5.0000000000000001E-4,8.9999999999999998E-4,1.4E-3,2E-3,2.8E-3,3.7000000000000002E-3,4.5999999999999999E-3,5.5999999999999999E-3,6.7000000000000002E-3,7.7000000000000002E-3,8.6E-3,9.4000000000000004E-3,1.01E-2,1.0500000000000001E-2,1.0699999999999999E-2,1.0699999999999999E-2,1.06E-2,1.04E-2,1.01E-2,9.7999999999999997E-3,9.5999999999999992E-3,9.4999999999999998E-3,9.5999999999999992E-3,9.7000000000000003E-3,1.01E-2,1.04E-2,1.0800000000000001E-2,1.12E-2,1.15E-2,1.17E-2,1.1900000000000001E-2,1.21E-2,1.2500000000000001E-2,1.2999999999999999E-2,1.3599999999999999E-2,1.44E-2,1.5299999999999999E-2,1.6400000000000001E-2,1.7399999999999999E-2,1.8499999999999999E-2,1.9400000000000001E-2,2.0199999999999999E-2,2.07E-2,2.0899999999999998E-2,2.07E-2,2.01E-2,1.9300000000000001E-2,1.83E-2,1.7100000000000001E-2,1.5900000000000001E-2,1.47E-2,1.37E-2,1.29E-2,1.24E-2,1.23E-2,1.2E-2,1.17E-2,1.12E-2,1.0699999999999999E-2,1.0200000000000001E-2,9.7000000000000003E-3,9.2999999999999992E-3,8.8999999999999999E-3,8.6999999999999994E-3,8.6E-3,8.6999999999999994E-3,8.8000000000000005E-3,8.8999999999999999E-3,9.1999999999999998E-3,9.4000000000000004E-3,9.5999999999999992E-3,9.7999999999999997E-3,0.01,0.01]
[79,8.0000000000000004E-4,8.0000000000000004E-4,8.0000000000000004E-4,6.9999999999999999E-4,5.9999999999999995E-4,4.0000000000000002E-4,2.9999999999999997E-4,2.9999999999999997E-4,2.9999999999999997E-4,4.0000000000000002E-4,5.0000000000000001E-4,6.9999999999999999E-4,1.1000000000000001E-3,1.6000000000000001E-3,2.2000000000000001E-3,2.8999999999999998E-3,3.7000000000000002E-3,4.5999999999999999E-3,5.5999999999999999E-3,6.6E-3,7.4999999999999997E-3,8.3999999999999995E-3,9.1999999999999998E-3,9.7999999999999997E-3,1.0200000000000001E-2,1.03E-2,1.03E-2,1.0200000000000001E-2,9.9000000000000008E-3,9.5999999999999992E-3,9.4000000000000004E-3,9.1000000000000004E-3,8.9999999999999993E-3,8.9999999999999993E-3,9.1999999999999998E-3,9.4000000000000004E-3,9.7999999999999997E-3,1.01E-2,1.0500000000000001E-2,1.0800000000000001E-2,1.0999999999999999E-2,1.12E-2,1.14E-2,1.18E-2,1.23E-2,1.29E-2,1.37E-2,1.46E-2,1.5599999999999999E-2,1.67E-2,1.77E-2,1.8599999999999998E-2,1.9400000000000001E-2,1.9900000000000001E-2,2.01E-2,0.02,1.95E-2,1.8800000000000001E-2,1.7899999999999999E-2,1.6799999999999999E-2,1.5699999999999999E-2,1.46E-2,1.37E-2,1.2999999999999999E-2,1.2500000000000001E-2,1.24E-2,1.2200000000000001E-2,1.18E-2,1.15E-2,1.0999999999999999E-2,1.0500000000000001E-2,1.01E-2,9.5999999999999992E-3,9.2999999999999992E-3,8.9999999999999993E-3,8.8999999999999999E-3,8.8000000000000005E-3,8.8999999999999999E-3,9.1000000000000004E-3,9.1999999999999998E-3,9.4000000000000004E-3,9.7000000000000003E-3,9.7999999999999997E-3,0.01,0.01]
[80,8.0000000000000004E-4,8.0000000000000004E-4,8.0000000000000004E-4,6.9999999999999999E-4,5.9999999999999995E-4,5.0000000000000001E-4,4.0000000000000002E-4,4.0000000000000002E-4,4.0000000000000002E-4,5.0000000000000001E-4,6.9999999999999999E-4,8.9999999999999998E-4,1.2999999999999999E-3,1.8E-3,2.3999999999999998E-3,3.0000000000000001E-3,3.8E-3,4.7000000000000002E-3,5.5999999999999999E-3,6.4999999999999997E-3,7.3000000000000001E-3,8.2000000000000007E-3,8.8999999999999999E-3,9.4999999999999998E-3,9.7999999999999997E-3,9.9000000000000008E-3,9.9000000000000008E-3,9.7000000000000003E-3,9.4999999999999998E-3,9.1999999999999998E-3,8.8999999999999999E-3,8.6999999999999994E-3,8.5000000000000006E-3,8.5000000000000006E-3,8.6E-3,8.8000000000000005E-3,9.1000000000000004E-3,9.4000000000000004E-3,9.7000000000000003E-3,0.01,1.0200000000000001E-2,1.04E-2,1.0699999999999999E-2,1.11E-2,1.1599999999999999E-2,1.2200000000000001E-2,1.2999999999999999E-2,1.38E-2,1.4800000000000001E-2,1.5900000000000001E-2,1.6899999999999998E-2,1.78E-2,1.8499999999999999E-2,1.9099999999999999E-2,1.9300000000000001E-2,1.9199999999999998E-2,1.8800000000000001E-2,1.8200000000000001E-2,1.7399999999999999E-2,1.6400000000000001E-2,1.54E-2,1.44E-2,1.3599999999999999E-2,1.29E-2,1.24E-2,1.24E-2,1.2200000000000001E-2,1.1900000000000001E-2,1.1599999999999999E-2,1.12E-2,1.0699999999999999E-2,1.03E-2,9.9000000000000008E-3,9.4999999999999998E-3,9.2999999999999992E-3,9.1000000000000004E-3,8.9999999999999993E-3,8.9999999999999993E-3,9.1000000000000004E-3,9.2999999999999992E-3,9.4999999999999998E-3,9.7000000000000003E-3,9.7999999999999997E-3,0.01,0.01]
[81,8.0000000000000004E-4,8.0000000000000004E-4,8.0000000000000004E-4,6.9999999999999999E-4,6.9999999999999999E-4,5.9999999999999995E-4,5.0000000000000001E-4,5.0000000000000001E-4,5.9999999999999995E-4,6.9999999999999999E-4,8.9999999999999998E-4,1.1000000000000001E-3,1.5E-3,2E-3,2.5000000000000001E-3,3.2000000000000002E-3,3.8999999999999998E-3,4.7000000000000002E-3,5.5999999999999999E-3,6.4000000000000003E-3,7.1999999999999998E-3,7.9000000000000008E-3,8.6E-3,9.1000000000000004E-3,9.4999999999999998E-3,9.5999999999999992E-3,9.4999999999999998E-3,9.2999999999999992E-3,9.1000000000000004E-3,8.8000000000000005E-3,8.5000000000000006E-3,8.2000000000000007E-3,8.0000000000000002E-3,8.0000000000000002E-3,8.0000000000000002E-3,8.2000000000000007E-3,8.3999999999999995E-3,8.6999999999999994E-3,8.9999999999999993E-3,9.1999999999999998E-3,9.4000000000000004E-3,9.5999999999999992E-3,9.9000000000000008E-3,1.03E-2,1.0800000000000001E-2,1.14E-2,1.2200000000000001E-2,1.2999999999999999E-2,1.4E-2,1.4999999999999999E-2,1.6E-2,1.6899999999999998E-2,1.77E-2,1.8200000000000001E-2,1.84E-2,1.84E-2,1.8100000000000002E-2,1.7500000000000002E-2,1.6799999999999999E-2,1.5900000000000001E-2,1.4999999999999999E-2,1.41E-2,1.3299999999999999E-2,1.2699999999999999E-2,1.23E-2,1.23E-2,1.2200000000000001E-2,1.1900000000000001E-2,1.1599999999999999E-2,1.1299999999999999E-2,1.09E-2,1.0500000000000001E-2,1.01E-2,9.7999999999999997E-3,9.4999999999999998E-3,9.2999999999999992E-3,9.1999999999999998E-3,9.1999999999999998E-3,9.1999999999999998E-3,9.4000000000000004E-3,9.4999999999999998E-3,9.7000000000000003E-3,9.7999999999999997E-3,0.01,0.01]
[82,8.9999999999999998E-4,8.0000000000000004E-4,8.0000000000000004E-4,8.0000000000000004E-4,6.9999999999999999E-4,6.9999999999999999E-4,5.9999999999999995E-4,5.9999999999999995E-4,6.9999999999999999E-4,8.0000000000000004E-4,1E-3,1.2999999999999999E-3,1.6999999999999999E-3,2.2000000000000001E-3,2.7000000000000001E-3,3.3E-3,4.0000000000000001E-3,4.7999999999999996E-3,5.4999999999999997E-3,6.3E-3,7.1000000000000004E-3,7.7000000000000002E-3,8.3999999999999995E-3,8.8000000000000005E-3,9.1000000000000004E-3,9.1999999999999998E-3,9.1000000000000004E-3,8.8999999999999999E-3,8.6999999999999994E-3,8.3999999999999995E-3,8.0999999999999996E-3,7.7999999999999996E-3,7.4999999999999997E-3,7.4000000000000003E-3,7.4000000000000003E-3,7.4999999999999997E-3,7.7000000000000002E-3,7.9000000000000008E-3,8.2000000000000007E-3,8.3999999999999995E-3,8.6E-3,8.8000000000000005E-3,9.1000000000000004E-3,9.4999999999999998E-3,0.01,1.06E-2,1.14E-2,1.2200000000000001E-2,1.3100000000000001E-2,1.41E-2,1.5100000000000001E-2,1.6E-2,1.67E-2,1.72E-2,1.7500000000000002E-2,1.7500000000000002E-2,1.7299999999999999E-2,1.6799999999999999E-2,1.6199999999999999E-2,1.54E-2,1.4500000000000001E-2,1.37E-2,1.3100000000000001E-2,1.2500000000000001E-2,1.21E-2,1.2200000000000001E-2,1.21E-2,1.1900000000000001E-2,1.1599999999999999E-2,1.1299999999999999E-2,1.0999999999999999E-2,1.06E-2,1.03E-2,9.9000000000000008E-3,9.7000000000000003E-3,9.4999999999999998E-3,9.4000000000000004E-3,9.2999999999999992E-3,9.2999999999999992E-3,9.4000000000000004E-3,9.5999999999999992E-3,9.7000000000000003E-3,9.9000000000000008E-3,0.01,0.01]
[83,8.9999999999999998E-4,8.9999999999999998E-4,8.9999999999999998E-4,8.0000000000000004E-4,8.0000000000000004E-4,6.9999999999999999E-4,6.9999999999999999E-4,6.9999999999999999E-4,8.0000000000000004E-4,1E-3,1.1999999999999999E-3,1.5E-3,1.9E-3,2.3E-3,2.8999999999999998E-3,3.5000000000000001E-3,4.1000000000000003E-3,4.7999999999999996E-3,5.4999999999999997E-3,6.3E-3,6.8999999999999999E-3,7.6E-3,8.0999999999999996E-3,8.5000000000000006E-3,8.8000000000000005E-3,8.8000000000000005E-3,8.8000000000000005E-3,8.6E-3,8.3000000000000001E-3,8.0000000000000002E-3,7.6E-3,7.3000000000000001E-3,7.1000000000000004E-3,6.8999999999999999E-3,6.8999999999999999E-3,6.8999999999999999E-3,7.1000000000000004E-3,7.1999999999999998E-3,7.4000000000000003E-3,7.6E-3,7.7999999999999996E-3,8.0000000000000002E-3,8.3000000000000001E-3,8.6999999999999994E-3,9.1999999999999998E-3,9.7999999999999997E-3,1.0500000000000001E-2,1.1299999999999999E-2,1.2200000000000001E-2,1.32E-2,1.41E-2,1.4999999999999999E-2,1.5699999999999999E-2,1.6299999999999999E-2,1.6500000000000001E-2,1.66E-2,1.6400000000000001E-2,1.6E-2,1.55E-2,1.4800000000000001E-2,1.4E-2,1.3299999999999999E-2,1.2699999999999999E-2,1.2200000000000001E-2,1.1900000000000001E-2,1.2E-2,1.1900000000000001E-2,1.18E-2,1.15E-2,1.1299999999999999E-2,1.0999999999999999E-2,1.0699999999999999E-2,1.04E-2,1.01E-2,9.7999999999999997E-3,9.7000000000000003E-3,9.4999999999999998E-3,9.4000000000000004E-3,9.4000000000000004E-3,9.4000000000000004E-3,9.5999999999999992E-3,9.7000000000000003E-3,9.9000000000000008E-3,0.01,0.01]
[84,1E-3,1E-3,1E-3,8.9999999999999998E-4,8.9999999999999998E-4,8.0000000000000004E-4,8.0000000000000004E-4,8.9999999999999998E-4,1E-3,1.1000000000000001E-3,1.2999999999999999E-3,1.6000000000000001E-3,2E-3,2.5000000000000001E-3,3.0000000000000001E-3,3.5999999999999999E-3,4.1999999999999997E-3,4.8999999999999998E-3,5.4999999999999997E-3,6.1999999999999998E-3,6.7999999999999996E-3,7.4000000000000003E-3,7.7999999999999996E-3,8.2000000000000007E-3,8.3999999999999995E-3,8.5000000000000006E-3,8.3999999999999995E-3,8.2000000000000007E-3,7.9000000000000008E-3,7.6E-3,7.1999999999999998E-3,6.8999999999999999E-3,6.6E-3,6.4000000000000003E-3,6.3E-3,6.3E-3,6.4000000000000003E-3,6.4999999999999997E-3,6.7000000000000002E-3,6.7999999999999996E-3,7.0000000000000001E-3,7.1999999999999998E-3,7.4999999999999997E-3,7.9000000000000008E-3,8.3000000000000001E-3,8.8999999999999999E-3,9.7000000000000003E-3,1.0500000000000001E-2,1.1299999999999999E-2,1.23E-2,1.32E-2,1.4E-2,1.47E-2,1.5299999999999999E-2,1.5599999999999999E-2,1.5699999999999999E-2,1.55E-2,1.52E-2,1.47E-2,1.41E-2,1.35E-2,1.29E-2,1.23E-2,1.1900000000000001E-2,1.1599999999999999E-2,1.17E-2,1.17E-2,1.1599999999999999E-2,1.14E-2,1.12E-2,1.09E-2,1.0699999999999999E-2,1.04E-2,1.0200000000000001E-2,0.01,9.7999999999999997E-3,9.5999999999999992E-3,9.4999999999999998E-3,9.4999999999999998E-3,9.4999999999999998E-3,9.5999999999999992E-3,9.7000000000000003E-3,9.7999999999999997E-3,0.01,0.01]
[85,1.1000000000000001E-3,1.1000000000000001E-3,1E-3,1E-3,1E-3,8.9999999999999998E-4,8.9999999999999998E-4,1E-3,1.1000000000000001E-3,1.2999999999999999E-3,1.5E-3,1.8E-3,2.2000000000000001E-3,2.7000000000000001E-3,3.2000000000000002E-3,3.7000000000000002E-3,4.3E-3,4.8999999999999998E-3,5.4999999999999997E-3,6.1000000000000004E-3,6.7000000000000002E-3,7.1999999999999998E-3,7.6E-3,7.9000000000000008E-3,8.0999999999999996E-3,8.0999999999999996E-3,8.0000000000000002E-3,7.7999999999999996E-3,7.4999999999999997E-3,7.1999999999999998E-3,6.7999999999999996E-3,6.4999999999999997E-3,6.1999999999999998E-3,6.0000000000000001E-3,5.7999999999999996E-3,5.7000000000000002E-3,5.7000000000000002E-3,5.7999999999999996E-3,5.8999999999999999E-3,6.1000000000000004E-3,6.1999999999999998E-3,6.4000000000000003E-3,6.7000000000000002E-3,7.0000000000000001E-3,7.4999999999999997E-3,8.0999999999999996E-3,8.8000000000000005E-3,9.4999999999999998E-3,1.04E-2,1.1299999999999999E-2,1.2200000000000001E-2,1.2999999999999999E-2,1.37E-2,1.4200000000000001E-2,1.4500000000000001E-2,1.47E-2,1.46E-2,1.44E-2,1.4E-2,1.34E-2,1.29E-2,1.23E-2,1.1900000000000001E-2,1.15E-2,1.12E-2,1.14E-2,1.14E-2,1.14E-2,1.12E-2,1.0999999999999999E-2,1.0800000000000001E-2,1.06E-2,1.04E-2,1.0200000000000001E-2,0.01,9.9000000000000008E-3,9.7000000000000003E-3,9.5999999999999992E-3,9.4999999999999998E-3,9.4999999999999998E-3,9.5999999999999992E-3,9.5999999999999992E-3,9.7999999999999997E-3,9.9000000000000008E-3,0.01]
[86,1.1999999999999999E-3,1.1999999999999999E-3,1.1000000000000001E-3,1.1000000000000001E-3,1.1000000000000001E-3,1E-3,1.1000000000000001E-3,1.1000000000000001E-3,1.1999999999999999E-3,1.4E-3,1.6999999999999999E-3,2E-3,2.3999999999999998E-3,2.8E-3,3.3E-3,3.8E-3,4.4000000000000003E-3,5.0000000000000001E-3,5.4999999999999997E-3,6.1000000000000004E-3,6.4999999999999997E-3,7.0000000000000001E-3,7.3000000000000001E-3,7.6E-3,7.7000000000000002E-3,7.7000000000000002E-3,7.6E-3,7.4000000000000003E-3,7.1000000000000004E-3,6.7999999999999996E-3,6.4000000000000003E-3,6.1000000000000004E-3,5.7000000000000002E-3,5.4999999999999997E-3,5.3E-3,5.1999999999999998E-3,5.1000000000000004E-3,5.1000000000000004E-3,5.1999999999999998E-3,5.3E-3,5.4000000000000003E-3,5.5999999999999999E-3,5.7999999999999996E-3,6.1999999999999998E-3,6.7000000000000002E-3,7.1999999999999998E-3,7.9000000000000008E-3,8.6E-3,9.4000000000000004E-3,1.03E-2,1.11E-2,1.1900000000000001E-2,1.26E-2,1.32E-2,1.35E-2,1.37E-2,1.37E-2,1.35E-2,1.32E-2,1.2699999999999999E-2,1.23E-2,1.18E-2,1.14E-2,1.11E-2,1.0800000000000001E-2,1.0999999999999999E-2,1.11E-2,1.11E-2,1.0999999999999999E-2,1.0800000000000001E-2,1.0699999999999999E-2,1.0500000000000001E-2,1.03E-2,1.01E-2,9.9000000000000008E-3,9.7999999999999997E-3,9.7000000000000003E-3,9.5999999999999992E-3,9.4999999999999998E-3,9.4999999999999998E-3,9.4999999999999998E-3,9.4999999999999998E-3,9.5999999999999992E-3,9.7999999999999997E-3,9.9000000000000008E-3]
[87,1.2999999999999999E-3,1.2999999999999999E-3,1.2999999999999999E-3,1.1999999999999999E-3,1.1999999999999999E-3,1.1999999999999999E-3,1.1999999999999999E-3,1.2999999999999999E-3,1.4E-3,1.6000000000000001E-3,1.8E-3,2.0999999999999999E-3,2.5000000000000001E-3,3.0000000000000001E-3,3.3999999999999998E-3,4.0000000000000001E-3,4.4999999999999997E-3,5.0000000000000001E-3,5.4999999999999997E-3,6.0000000000000001E-3,6.4000000000000003E-3,6.7999999999999996E-3,7.1000000000000004E-3,7.3000000000000001E-3,7.4000000000000003E-3,7.4000000000000003E-3,7.1999999999999998E-3,7.0000000000000001E-3,6.7000000000000002E-3,6.4000000000000003E-3,6.0000000000000001E-3,5.7000000000000002E-3,5.3E-3,5.0000000000000001E-3,4.7999999999999996E-3,4.5999999999999999E-3,4.4999999999999997E-3,4.4999999999999997E-3,4.4999999999999997E-3,4.4999999999999997E-3,4.5999999999999999E-3,4.7999999999999996E-3,5.0000000000000001E-3,5.4000000000000003E-3,5.7999999999999996E-3,6.4000000000000003E-3,7.0000000000000001E-3,7.7000000000000002E-3,8.3999999999999995E-3,9.2999999999999992E-3,1.01E-2,1.0800000000000001E-2,1.15E-2,1.21E-2,1.24E-2,1.26E-2,1.2699999999999999E-2,1.26E-2,1.23E-2,1.2E-2,1.1599999999999999E-2,1.12E-2,1.09E-2,1.06E-2,1.04E-2,1.06E-2,1.0699999999999999E-2,1.0699999999999999E-2,1.0699999999999999E-2,1.06E-2,1.04E-2,1.03E-2,1.01E-2,0.01,9.7999999999999997E-3,9.7000000000000003E-3,9.7000000000000003E-3,9.4999999999999998E-3,9.4000000000000004E-3,9.4000000000000004E-3,9.4000000000000004E-3,9.4000000000000004E-3,9.4999999999999998E-3,9.5999999999999992E-3,9.7000000000000003E-3]
[88,1.4E-3,1.4E-3,1.4E-3,1.2999999999999999E-3,1.2999999999999999E-3,1.2999999999999999E-3,1.4E-3,1.4E-3,1.6000000000000001E-3,1.8E-3,2E-3,2.3E-3,2.7000000000000001E-3,3.0999999999999999E-3,3.5999999999999999E-3,4.1000000000000003E-3,4.4999999999999997E-3,5.0000000000000001E-3,5.4999999999999997E-3,5.8999999999999999E-3,6.3E-3,6.6E-3,6.7999999999999996E-3,7.0000000000000001E-3,7.1000000000000004E-3,7.0000000000000001E-3,6.8999999999999999E-3,6.6E-3,6.3E-3,6.0000000000000001E-3,5.5999999999999999E-3,5.1999999999999998E-3,4.7999999999999996E-3,4.4999999999999997E-3,4.1999999999999997E-3,4.0000000000000001E-3,3.8999999999999998E-3,3.8E-3,3.8E-3,3.8E-3,3.8999999999999998E-3,4.0000000000000001E-3,4.1999999999999997E-3,4.4999999999999997E-3,5.0000000000000001E-3,5.4999999999999997E-3,6.1000000000000004E-3,6.7000000000000002E-3,7.4999999999999997E-3,8.2000000000000007E-3,8.9999999999999993E-3,9.7000000000000003E-3,1.04E-2,1.0999999999999999E-2,1.14E-2,1.1599999999999999E-2,1.17E-2,1.1599999999999999E-2,1.15E-2,1.12E-2,1.09E-2,1.06E-2,1.03E-2,1.01E-2,9.9000000000000008E-3,1.01E-2,1.03E-2,1.03E-2,1.03E-2,1.03E-2,1.0200000000000001E-2,1.01E-2,9.9000000000000008E-3,9.7999999999999997E-3,9.7000000000000003E-3,9.5999999999999992E-3,9.4999999999999998E-3,9.4999999999999998E-3,9.4000000000000004E-3,9.2999999999999992E-3,9.2999999999999992E-3,9.2999999999999992E-3,9.4000000000000004E-3,9.4999999999999998E-3,9.5999999999999992E-3]
[89,1.5E-3,1.5E-3,1.5E-3,1.5E-3,1.5E-3,1.5E-3,1.5E-3,1.6000000000000001E-3,1.8E-3,2E-3,2.2000000000000001E-3,2.5000000000000001E-3,2.8999999999999998E-3,3.3E-3,3.7000000000000002E-3,4.1000000000000003E-3,4.5999999999999999E-3,5.0000000000000001E-3,5.4000000000000003E-3,5.7999999999999996E-3,6.1000000000000004E-3,6.4000000000000003E-3,6.6E-3,6.7000000000000002E-3,6.7000000000000002E-3,6.6E-3,6.4999999999999997E-3,6.1999999999999998E-3,5.8999999999999999E-3,5.5999999999999999E-3,5.1999999999999998E-3,4.7999999999999996E-3,4.4000000000000003E-3,4.0000000000000001E-3,3.7000000000000002E-3,3.5000000000000001E-3,3.3E-3,3.2000000000000002E-3,3.0999999999999999E-3,3.0999999999999999E-3,3.0999999999999999E-3,3.2000000000000002E-3,3.3999999999999998E-3,3.7000000000000002E-3,4.1000000000000003E-3,4.5999999999999999E-3,5.1999999999999998E-3,5.7999999999999996E-3,6.4999999999999997E-3,7.1999999999999998E-3,7.9000000000000008E-3,8.6E-3,9.2999999999999992E-3,9.7999999999999997E-3,1.03E-2,1.0500000000000001E-2,1.0699999999999999E-2,1.0699999999999999E-2,1.06E-2,1.04E-2,1.0200000000000001E-2,0.01,9.7999999999999997E-3,9.5999999999999992E-3,9.4000000000000004E-3,9.7000000000000003E-3,9.7999999999999997E-3,9.9000000000000008E-3,0.01,0.01,9.9000000000000008E-3,9.7999999999999997E-3,9.7000000000000003E-3,9.5999999999999992E-3,9.4999999999999998E-3,9.4000000000000004E-3,9.2999999999999992E-3,9.2999999999999992E-3,9.2999999999999992E-3,9.1999999999999998E-3,9.1999999999999998E-3,9.1999999999999998E-3,9.1999999999999998E-3,9.2999999999999992E-3,9.4000000000000004E-3]
[90,1.6999999999999999E-3,1.6999999999999999E-3,1.6000000000000001E-3,1.6000000000000001E-3,1.6000000000000001E-3,1.6000000000000001E-3,1.6999999999999999E-3,1.8E-3,2E-3,2.2000000000000001E-3,2.3999999999999998E-3,2.7000000000000001E-3,3.0000000000000001E-3,3.3999999999999998E-3,3.8E-3,4.1999999999999997E-3,4.5999999999999999E-3,5.0000000000000001E-3,5.4000000000000003E-3,5.7000000000000002E-3,6.0000000000000001E-3,6.1999999999999998E-3,6.3E-3,6.4000000000000003E-3,6.4000000000000003E-3,6.3E-3,6.1000000000000004E-3,5.7999999999999996E-3,5.4999999999999997E-3,5.1999999999999998E-3,4.7999999999999996E-3,4.4000000000000003E-3,3.8999999999999998E-3,3.5999999999999999E-3,3.2000000000000002E-3,2.8999999999999998E-3,2.7000000000000001E-3,2.5000000000000001E-3,2.3999999999999998E-3,2.3999999999999998E-3,2.3999999999999998E-3,2.5000000000000001E-3,2.7000000000000001E-3,2.8999999999999998E-3,3.3E-3,3.7000000000000002E-3,4.1999999999999997E-3,4.7999999999999996E-3,5.4999999999999997E-3,6.1999999999999998E-3,6.8999999999999999E-3,7.4999999999999997E-3,8.2000000000000007E-3,8.6999999999999994E-3,9.1999999999999998E-3,9.4999999999999998E-3,9.7000000000000003E-3,9.7999999999999997E-3,9.7000000000000003E-3,9.5999999999999992E-3,9.4999999999999998E-3,9.2999999999999992E-3,9.1999999999999998E-3,8.9999999999999993E-3,8.8999999999999999E-3,9.1999999999999998E-3,9.4000000000000004E-3,9.4999999999999998E-3,9.5999999999999992E-3,9.5999999999999992E-3,9.5999999999999992E-3,9.5999999999999992E-3,9.4999999999999998E-3,9.4000000000000004E-3,9.2999999999999992E-3,9.1999999999999998E-3,9.1000000000000004E-3,9.1000000000000004E-3,9.1000000000000004E-3,9.1000000000000004E-3,9.1000000000000004E-3,9.1000000000000004E-3,9.1000000000000004E-3,9.1999999999999998E-3,9.2999999999999992E-3]
[91,1.8E-3,1.8E-3,1.8E-3,1.8E-3,1.8E-3,1.8E-3,1.9E-3,2E-3,2.2000000000000001E-3,2.3999999999999998E-3,2.5999999999999999E-3,2.8999999999999998E-3,3.2000000000000002E-3,3.5999999999999999E-3,3.8999999999999998E-3,4.3E-3,4.7000000000000002E-3,5.0000000000000001E-3,5.3E-3,5.5999999999999999E-3,5.7999999999999996E-3,6.0000000000000001E-3,6.1000000000000004E-3,6.1000000000000004E-3,6.1000000000000004E-3,5.8999999999999999E-3,5.7000000000000002E-3,5.4999999999999997E-3,5.1000000000000004E-3,4.7999999999999996E-3,4.4000000000000003E-3,3.8999999999999998E-3,3.5000000000000001E-3,3.0999999999999999E-3,2.7000000000000001E-3,2.3999999999999998E-3,2.0999999999999999E-3,1.9E-3,1.8E-3,1.6999999999999999E-3,1.6999999999999999E-3,1.6999999999999999E-3,1.9E-3,2.0999999999999999E-3,2.3999999999999998E-3,2.8E-3,3.3E-3,3.8999999999999998E-3,4.4999999999999997E-3,5.1000000000000004E-3,5.7999999999999996E-3,6.4000000000000003E-3,7.0000000000000001E-3,7.6E-3,8.0000000000000002E-3,8.3999999999999995E-3,8.6999999999999994E-3,8.8000000000000005E-3,8.8999999999999999E-3,8.8000000000000005E-3,8.8000000000000005E-3,8.6999999999999994E-3,8.6E-3,8.5000000000000006E-3,8.3999999999999995E-3,8.6999999999999994E-3,8.8999999999999999E-3,8.9999999999999993E-3,9.1999999999999998E-3,9.1999999999999998E-3,9.2999999999999992E-3,9.2999999999999992E-3,9.2999999999999992E-3,9.1999999999999998E-3,9.1000000000000004E-3,8.9999999999999993E-3,8.8999999999999999E-3,8.8999999999999999E-3,8.8999999999999999E-3,8.8999999999999999E-3,8.9999999999999993E-3,8.9999999999999993E-3,8.9999999999999993E-3,8.9999999999999993E-3,9.1000000000000004E-3]
[92,1.9E-3,1.9E-3,1.9E-3,1.9E-3,2E-3,2E-3,2.0999999999999999E-3,2.2000000000000001E-3,2.3999999999999998E-3,2.5999999999999999E-3,2.8E-3,3.0999999999999999E-3,3.3999999999999998E-3,3.7000000000000002E-3,4.1000000000000003E-3,4.4000000000000003E-3,4.7000000000000002E-3,5.0000000000000001E-3,5.3E-3,5.4999999999999997E-3,5.7000000000000002E-3,5.7999999999999996E-3,5.7999999999999996E-3,5.7999999999999996E-3,5.7000000000000002E-3,5.5999999999999999E-3,5.3E-3,5.1000000000000004E-3,4.7000000000000002E-3,4.3E-3,3.8999999999999998E-3,3.5000000000000001E-3,3.0000000000000001E-3,2.5999999999999999E-3,2.2000000000000001E-3,1.8E-3,1.5E-3,1.2999999999999999E-3,1.1000000000000001E-3,1E-3,1E-3,1E-3,1.1000000000000001E-3,1.2999999999999999E-3,1.6000000000000001E-3,2E-3,2.3999999999999998E-3,2.8999999999999998E-3,3.5000000000000001E-3,4.1000000000000003E-3,4.7000000000000002E-3,5.3E-3,5.8999999999999999E-3,6.4999999999999997E-3,6.8999999999999999E-3,7.3000000000000001E-3,7.6E-3,7.7999999999999996E-3,8.0000000000000002E-3,8.0000000000000002E-3,8.0000000000000002E-3,8.0000000000000002E-3,8.0000000000000002E-3,7.9000000000000008E-3,7.9000000000000008E-3,8.0999999999999996E-3,8.3999999999999995E-3,8.6E-3,8.6999999999999994E-3,8.8999999999999999E-3,8.8999999999999999E-3,8.9999999999999993E-3,8.9999999999999993E-3,8.9999999999999993E-3,8.8999999999999999E-3,8.8000000000000005E-3,8.6999999999999994E-3,8.6999999999999994E-3,8.6E-3,8.6999999999999994E-3,8.6999999999999994E-3,8.8000000000000005E-3,8.8000000000000005E-3,8.8999999999999999E-3,8.9999999999999993E-3]
[93,2.0999999999999999E-3,2.0999999999999999E-3,2.0999999999999999E-3,2.0999999999999999E-3,2.0999999999999999E-3,2.2000000000000001E-3,2.3E-3,2.3999999999999998E-3,2.5999999999999999E-3,2.8E-3,3.0000000000000001E-3,3.3E-3,3.5999999999999999E-3,3.8999999999999998E-3,4.1999999999999997E-3,4.4999999999999997E-3,4.7999999999999996E-3,5.0000000000000001E-3,5.1999999999999998E-3,5.4000000000000003E-3,5.4999999999999997E-3,5.5999999999999999E-3,5.5999999999999999E-3,5.4999999999999997E-3,5.4000000000000003E-3,5.1999999999999998E-3,5.0000000000000001E-3,4.7000000000000002E-3,4.3E-3,3.8999999999999998E-3,3.5000000000000001E-3,3.0000000000000001E-3,2.5999999999999999E-3,2.0999999999999999E-3,1.6999999999999999E-3,1.2999999999999999E-3,1E-3,6.9999999999999999E-4,5.0000000000000001E-4,2.9999999999999997E-4,2.0000000000000001E-4,2.0000000000000001E-4,2.9999999999999997E-4,5.0000000000000001E-4,6.9999999999999999E-4,1.1000000000000001E-3,1.5E-3,2E-3,2.5000000000000001E-3,3.0000000000000001E-3,3.5999999999999999E-3,4.1999999999999997E-3,4.7999999999999996E-3,5.3E-3,5.7999999999999996E-3,6.1999999999999998E-3,6.6E-3,6.8999999999999999E-3,7.1000000000000004E-3,7.1999999999999998E-3,7.3000000000000001E-3,7.3000000000000001E-3,7.3000000000000001E-3,7.3000000000000001E-3,7.3000000000000001E-3,7.6E-3,7.7999999999999996E-3,8.0999999999999996E-3,8.3000000000000001E-3,8.5000000000000006E-3,8.6E-3,8.6999999999999994E-3,8.6999999999999994E-3,8.6999999999999994E-3,8.6E-3,8.6E-3,8.5000000000000006E-3,8.3999999999999995E-3,8.3999999999999995E-3,8.3999999999999995E-3,8.5000000000000006E-3,8.6E-3,8.6999999999999994E-3,8.6999999999999994E-3,8.8000000000000005E-3]
[94,2.2000000000000001E-3,2.2000000000000001E-3,2.2000000000000001E-3,2.3E-3,2.3E-3,2.3999999999999998E-3,2.5000000000000001E-3,2.5999999999999999E-3,2.8E-3,3.0000000000000001E-3,3.2000000000000002E-3,3.5000000000000001E-3,3.7000000000000002E-3,4.0000000000000001E-3,4.3E-3,4.4999999999999997E-3,4.7999999999999996E-3,5.0000000000000001E-3,5.1999999999999998E-3,5.3E-3,5.3E-3,5.4000000000000003E-3,5.3E-3,5.1999999999999998E-3,5.1000000000000004E-3,4.8999999999999998E-3,4.5999999999999999E-3,4.3E-3,3.8999999999999998E-3,3.5000000000000001E-3,3.0000000000000001E-3,2.5999999999999999E-3,2.0999999999999999E-3,1.6000000000000001E-3,1.1999999999999999E-3,8.0000000000000004E-4,4.0000000000000002E-4,1E-4,-2.0000000000000001E-4,-2.9999999999999997E-4,-5.0000000000000001E-4,-5.0000000000000001E-4,-4.0000000000000002E-4,-2.9999999999999997E-4,-1E-4,2.0000000000000001E-4,5.9999999999999995E-4,1E-3,1.5E-3,2E-3,2.5000000000000001E-3,3.0999999999999999E-3,3.7000000000000002E-3,4.1999999999999997E-3,4.7000000000000002E-3,5.1999999999999998E-3,5.5999999999999999E-3,5.8999999999999999E-3,6.1999999999999998E-3,6.4000000000000003E-3,6.4999999999999997E-3,6.6E-3,6.7000000000000002E-3,6.7000000000000002E-3,6.7999999999999996E-3,7.0000000000000001E-3,7.3000000000000001E-3,7.6E-3,7.7999999999999996E-3,8.0000000000000002E-3,8.2000000000000007E-3,8.3000000000000001E-3,8.3999999999999995E-3,8.3999999999999995E-3,8.3999999999999995E-3,8.3000000000000001E-3,8.3000000000000001E-3,8.2000000000000007E-3,8.2000000000000007E-3,8.2000000000000007E-3,8.2000000000000007E-3,8.3000000000000001E-3,8.3999999999999995E-3,8.6E-3,8.6999999999999994E-3]
[95,2.3999999999999998E-3,2.3999999999999998E-3,2.3999999999999998E-3,2.3999999999999998E-3,2.5000000000000001E-3,2.5999999999999999E-3,2.7000000000000001E-3,2.8999999999999998E-3,3.0000000000000001E-3,3.2000000000000002E-3,3.3999999999999998E-3,3.7000000000000002E-3,3.8999999999999998E-3,4.1999999999999997E-3,4.4000000000000003E-3,4.5999999999999999E-3,4.7999999999999996E-3,5.0000000000000001E-3,5.1000000000000004E-3,5.1999999999999998E-3,5.1999999999999998E-3,5.1000000000000004E-3,5.1000000000000004E-3,4.8999999999999998E-3,4.7000000000000002E-3,4.4999999999999997E-3,4.1999999999999997E-3,3.8999999999999998E-3,3.5000000000000001E-3,3.0999999999999999E-3,2.5999999999999999E-3,2.0999999999999999E-3,1.6000000000000001E-3,1.1000000000000001E-3,6.9999999999999999E-4,2.0000000000000001E-4,-2.0000000000000001E-4,-5.0000000000000001E-4,-8.0000000000000004E-4,-1E-3,-1.1999999999999999E-3,-1.1999999999999999E-3,-1.1999999999999999E-3,-1.1000000000000001E-3,-8.9999999999999998E-4,-6.9999999999999999E-4,-4.0000000000000002E-4,0,5.0000000000000001E-4,8.9999999999999998E-4,1.5E-3,2E-3,2.5000000000000001E-3,3.0999999999999999E-3,3.5999999999999999E-3,4.1000000000000003E-3,4.4999999999999997E-3,4.8999999999999998E-3,5.3E-3,5.4999999999999997E-3,5.7999999999999996E-3,5.8999999999999999E-3,6.1000000000000004E-3,6.1999999999999998E-3,6.1999999999999998E-3,6.4999999999999997E-3,6.7999999999999996E-3,7.1000000000000004E-3,7.4000000000000003E-3,7.6E-3,7.7999999999999996E-3,8.0000000000000002E-3,8.0999999999999996E-3,8.0999999999999996E-3,8.0999999999999996E-3,8.0999999999999996E-3,8.0000000000000002E-3,7.9000000000000008E-3,7.9000000000000008E-3,7.9000000000000008E-3,7.9000000000000008E-3,8.0000000000000002E-3,8.0999999999999996E-3,8.3000000000000001E-3,8.5000000000000006E-3]
[96,2.3E-3,2.3E-3,2.3E-3,2.3E-3,2.3999999999999998E-3,2.5000000000000001E-3,2.5999999999999999E-3,2.7000000000000001E-3,2.8999999999999998E-3,3.0999999999999999E-3,3.3E-3,3.5000000000000001E-3,3.7000000000000002E-3,4.0000000000000001E-3,4.1999999999999997E-3,4.4000000000000003E-3,4.5999999999999999E-3,4.7000000000000002E-3,4.7999999999999996E-3,4.8999999999999998E-3,4.8999999999999998E-3,4.8999999999999998E-3,4.7999999999999996E-3,4.7000000000000002E-3,4.4999999999999997E-3,4.3E-3,4.0000000000000001E-3,3.7000000000000002E-3,3.3E-3,2.8999999999999998E-3,2.5000000000000001E-3,2E-3,1.6000000000000001E-3,1.1000000000000001E-3,5.9999999999999995E-4,2.0000000000000001E-4,-2.0000000000000001E-4,-5.0000000000000001E-4,-8.0000000000000004E-4,-1E-3,-1.1000000000000001E-3,-1.1999999999999999E-3,-1.1000000000000001E-3,-1.1000000000000001E-3,-8.9999999999999998E-4,-5.9999999999999995E-4,-2.9999999999999997E-4,0,4.0000000000000002E-4,8.9999999999999998E-4,1.4E-3,1.9E-3,2.3999999999999998E-3,2.8999999999999998E-3,3.3999999999999998E-3,3.8999999999999998E-3,4.3E-3,4.7000000000000002E-3,5.0000000000000001E-3,5.3E-3,5.4999999999999997E-3,5.5999999999999999E-3,5.7999999999999996E-3,5.7999999999999996E-3,5.8999999999999999E-3,6.1999999999999998E-3,6.4999999999999997E-3,6.7000000000000002E-3,7.0000000000000001E-3,7.1999999999999998E-3,7.4000000000000003E-3,7.6E-3,7.7000000000000002E-3,7.7000000000000002E-3,7.7000000000000002E-3,7.7000000000000002E-3,7.6E-3,7.4999999999999997E-3,7.4999999999999997E-3,7.4999999999999997E-3,7.4999999999999997E-3,7.6E-3,7.7000000000000002E-3,7.9000000000000008E-3,8.0999999999999996E-3]
[97,2.0999999999999999E-3,2.2000000000000001E-3,2.2000000000000001E-3,2.2000000000000001E-3,2.3E-3,2.3E-3,2.3999999999999998E-3,2.5999999999999999E-3,2.7000000000000001E-3,2.8999999999999998E-3,3.0999999999999999E-3,3.3E-3,3.5000000000000001E-3,3.8E-3,4.0000000000000001E-3,4.1999999999999997E-3,4.3E-3,4.4999999999999997E-3,4.5999999999999999E-3,4.5999999999999999E-3,4.7000000000000002E-3,4.5999999999999999E-3,4.5999999999999999E-3,4.4000000000000003E-3,4.3E-3,4.1000000000000003E-3,3.8E-3,3.5000000000000001E-3,3.0999999999999999E-3,2.8E-3,2.3E-3,1.9E-3,1.5E-3,1E-3,5.9999999999999995E-4,2.0000000000000001E-4,-2.0000000000000001E-4,-5.0000000000000001E-4,-6.9999999999999999E-4,-8.9999999999999998E-4,-1E-3,-1.1000000000000001E-3,-1.1000000000000001E-3,-1E-3,-8.0000000000000004E-4,-5.9999999999999995E-4,-2.9999999999999997E-4,0,4.0000000000000002E-4,8.0000000000000004E-4,1.2999999999999999E-3,1.8E-3,2.3E-3,2.8E-3,3.2000000000000002E-3,3.7000000000000002E-3,4.1000000000000003E-3,4.4000000000000003E-3,4.7000000000000002E-3,5.0000000000000001E-3,5.1999999999999998E-3,5.4000000000000003E-3,5.4999999999999997E-3,5.4999999999999997E-3,5.5999999999999999E-3,5.7999999999999996E-3,6.1000000000000004E-3,6.4000000000000003E-3,6.6E-3,6.8999999999999999E-3,7.0000000000000001E-3,7.1999999999999998E-3,7.3000000000000001E-3,7.3000000000000001E-3,7.3000000000000001E-3,7.3000000000000001E-3,7.1999999999999998E-3,7.1000000000000004E-3,7.1000000000000004E-3,7.1000000000000004E-3,7.1000000000000004E-3,7.1999999999999998E-3,7.3000000000000001E-3,7.4999999999999997E-3,7.7000000000000002E-3]
[98,2E-3,2E-3,2E-3,2.0999999999999999E-3,2.0999999999999999E-3,2.2000000000000001E-3,2.3E-3,2.3999999999999998E-3,2.5999999999999999E-3,2.7000000000000001E-3,2.8999999999999998E-3,3.0999999999999999E-3,3.3E-3,3.5000000000000001E-3,3.7000000000000002E-3,3.8999999999999998E-3,4.1000000000000003E-3,4.1999999999999997E-3,4.3E-3,4.4000000000000003E-3,4.4000000000000003E-3,4.4000000000000003E-3,4.3E-3,4.1999999999999997E-3,4.0000000000000001E-3,3.8E-3,3.5999999999999999E-3,3.3E-3,3.0000000000000001E-3,2.5999999999999999E-3,2.2000000000000001E-3,1.8E-3,1.4E-3,1E-3,5.9999999999999995E-4,2.0000000000000001E-4,-1E-4,-4.0000000000000002E-4,-6.9999999999999999E-4,-8.9999999999999998E-4,-1E-3,-1E-3,-1E-3,-8.9999999999999998E-4,-8.0000000000000004E-4,-5.9999999999999995E-4,-2.9999999999999997E-4,0,4.0000000000000002E-4,8.0000000000000004E-4,1.1999999999999999E-3,1.6999999999999999E-3,2.2000000000000001E-3,2.5999999999999999E-3,3.0999999999999999E-3,3.5000000000000001E-3,3.8999999999999998E-3,4.1999999999999997E-3,4.4999999999999997E-3,4.7000000000000002E-3,4.8999999999999998E-3,5.1000000000000004E-3,5.1999999999999998E-3,5.1999999999999998E-3,5.3E-3,5.4999999999999997E-3,5.7999999999999996E-3,6.0000000000000001E-3,6.3E-3,6.4999999999999997E-3,6.7000000000000002E-3,6.7999999999999996E-3,6.8999999999999999E-3,6.8999999999999999E-3,6.8999999999999999E-3,6.7999999999999996E-3,6.7999999999999996E-3,6.7999999999999996E-3,6.7000000000000002E-3,6.7000000000000002E-3,6.7999999999999996E-3,6.7999999999999996E-3,6.8999999999999999E-3,7.1000000000000004E-3,7.1999999999999998E-3]
[99,1.9E-3,1.9E-3,1.9E-3,2E-3,2E-3,2.0999999999999999E-3,2.2000000000000001E-3,2.3E-3,2.3999999999999998E-3,2.5999999999999999E-3,2.8E-3,2.8999999999999998E-3,3.0999999999999999E-3,3.3E-3,3.5000000000000001E-3,3.7000000000000002E-3,3.8E-3,4.0000000000000001E-3,4.1000000000000003E-3,4.1000000000000003E-3,4.1000000000000003E-3,4.1000000000000003E-3,4.1000000000000003E-3,3.8999999999999998E-3,3.8E-3,3.5999999999999999E-3,3.3999999999999998E-3,3.0999999999999999E-3,2.8E-3,2.3999999999999998E-3,2.0999999999999999E-3,1.6999999999999999E-3,1.2999999999999999E-3,8.9999999999999998E-4,5.0000000000000001E-4,2.0000000000000001E-4,-1E-4,-4.0000000000000002E-4,-5.9999999999999995E-4,-8.0000000000000004E-4,-8.9999999999999998E-4,-1E-3,-1E-3,-8.9999999999999998E-4,-6.9999999999999999E-4,-5.0000000000000001E-4,-2.9999999999999997E-4,0,4.0000000000000002E-4,8.0000000000000004E-4,1.1999999999999999E-3,1.6000000000000001E-3,2E-3,2.5000000000000001E-3,2.8999999999999998E-3,3.3E-3,3.5999999999999999E-3,3.8999999999999998E-3,4.1999999999999997E-3,4.4000000000000003E-3,4.5999999999999999E-3,4.7999999999999996E-3,4.8999999999999998E-3,4.8999999999999998E-3,5.0000000000000001E-3,5.1999999999999998E-3,5.4000000000000003E-3,5.7000000000000002E-3,5.8999999999999999E-3,6.1000000000000004E-3,6.3E-3,6.4000000000000003E-3,6.4999999999999997E-3,6.4999999999999997E-3,6.4999999999999997E-3,6.4000000000000003E-3,6.4000000000000003E-3,6.4000000000000003E-3,6.3E-3,6.3E-3,6.4000000000000003E-3,6.4000000000000003E-3,6.4999999999999997E-3,6.6E-3,6.7999999999999996E-3]
[100,1.8E-3,1.8E-3,1.8E-3,1.8E-3,1.9E-3,1.9E-3,2E-3,2.0999999999999999E-3,2.3E-3,2.3999999999999998E-3,2.5999999999999999E-3,2.8E-3,2.8999999999999998E-3,3.0999999999999999E-3,3.3E-3,3.5000000000000001E-3,3.5999999999999999E-3,3.7000000000000002E-3,3.8E-3,3.8999999999999998E-3,3.8999999999999998E-3,3.8999999999999998E-3,3.8E-3,3.7000000000000002E-3,3.5999999999999999E-3,3.3999999999999998E-3,3.2000000000000002E-3,2.8999999999999998E-3,2.5999999999999999E-3,2.3E-3,2E-3,1.6000000000000001E-3,1.1999999999999999E-3,8.9999999999999998E-4,5.0000000000000001E-4,2.0000000000000001E-4,-1E-4,-4.0000000000000002E-4,-5.9999999999999995E-4,-8.0000000000000004E-4,-8.9999999999999998E-4,-8.9999999999999998E-4,-8.9999999999999998E-4,-8.0000000000000004E-4,-6.9999999999999999E-4,-5.0000000000000001E-4,-2.9999999999999997E-4,0,2.9999999999999997E-4,6.9999999999999999E-4,1.1000000000000001E-3,1.5E-3,1.9E-3,2.3E-3,2.7000000000000001E-3,3.0999999999999999E-3,3.3999999999999998E-3,3.7000000000000002E-3,4.0000000000000001E-3,4.1999999999999997E-3,4.3E-3,4.4999999999999997E-3,4.5999999999999999E-3,4.5999999999999999E-3,4.7000000000000002E-3,4.8999999999999998E-3,5.1000000000000004E-3,5.3E-3,5.4999999999999997E-3,5.7000000000000002E-3,5.8999999999999999E-3,6.0000000000000001E-3,6.1000000000000004E-3,6.1000000000000004E-3,6.1000000000000004E-3,6.0000000000000001E-3,6.0000000000000001E-3,6.0000000000000001E-3,5.8999999999999999E-3,5.8999999999999999E-3,6.0000000000000001E-3,6.0000000000000001E-3,6.1000000000000004E-3,6.1999999999999998E-3,6.4000000000000003E-3]
[101,1.6999999999999999E-3,1.6999999999999999E-3,1.6999999999999999E-3,1.6999999999999999E-3,1.8E-3,1.8E-3,1.9E-3,2E-3,2.0999999999999999E-3,2.3E-3,2.3999999999999998E-3,2.5999999999999999E-3,2.7000000000000001E-3,2.8999999999999998E-3,3.0999999999999999E-3,3.2000000000000002E-3,3.3999999999999998E-3,3.5000000000000001E-3,3.5999999999999999E-3,3.5999999999999999E-3,3.5999999999999999E-3,3.5999999999999999E-3,3.5000000000000001E-3,3.5000000000000001E-3,3.3E-3,3.2000000000000002E-3,2.8999999999999998E-3,2.7000000000000001E-3,2.3999999999999998E-3,2.0999999999999999E-3,1.8E-3,1.5E-3,1.1000000000000001E-3,8.0000000000000004E-4,5.0000000000000001E-4,2.0000000000000001E-4,-1E-4,-4.0000000000000002E-4,-5.9999999999999995E-4,-6.9999999999999999E-4,-8.0000000000000004E-4,-8.9999999999999998E-4,-8.0000000000000004E-4,-8.0000000000000004E-4,-6.9999999999999999E-4,-5.0000000000000001E-4,-2.9999999999999997E-4,0,2.9999999999999997E-4,6.9999999999999999E-4,1E-3,1.4E-3,1.8E-3,2.2000000000000001E-3,2.5000000000000001E-3,2.8999999999999998E-3,3.2000000000000002E-3,3.3999999999999998E-3,3.7000000000000002E-3,3.8999999999999998E-3,4.0000000000000001E-3,4.1999999999999997E-3,4.3E-3,4.3E-3,4.3E-3,4.4999999999999997E-3,4.7999999999999996E-3,5.0000000000000001E-3,5.1999999999999998E-3,5.3E-3,5.4999999999999997E-3,5.5999999999999999E-3,5.7000000000000002E-3,5.7000000000000002E-3,5.7000000000000002E-3,5.5999999999999999E-3,5.5999999999999999E-3,5.5999999999999999E-3,5.4999999999999997E-3,5.4999999999999997E-3,5.5999999999999999E-3,5.5999999999999999E-3,5.7000000000000002E-3,5.7999999999999996E-3,6.0000000000000001E-3]
[102,1.6000000000000001E-3,1.6000000000000001E-3,1.6000000000000001E-3,1.6000000000000001E-3,1.6000000000000001E-3,1.6999999999999999E-3,1.8E-3,1.9E-3,2E-3,2.0999999999999999E-3,2.2000000000000001E-3,2.3999999999999998E-3,2.5000000000000001E-3,2.7000000000000001E-3,2.8999999999999998E-3,3.0000000000000001E-3,3.0999999999999999E-3,3.2000000000000002E-3,3.3E-3,3.3999999999999998E-3,3.3999999999999998E-3,3.3E-3,3.3E-3,3.2000000000000002E-3,3.0999999999999999E-3,2.8999999999999998E-3,2.7000000000000001E-3,2.5000000000000001E-3,2.3E-3,2E-3,1.6999999999999999E-3,1.4E-3,1.1000000000000001E-3,6.9999999999999999E-4,4.0000000000000002E-4,1E-4,-1E-4,-2.9999999999999997E-4,-5.0000000000000001E-4,-6.9999999999999999E-4,-8.0000000000000004E-4,-8.0000000000000004E-4,-8.0000000000000004E-4,-6.9999999999999999E-4,-5.9999999999999995E-4,-4.0000000000000002E-4,-2.0000000000000001E-4,0,2.9999999999999997E-4,5.9999999999999995E-4,8.9999999999999998E-4,1.2999999999999999E-3,1.6999999999999999E-3,2E-3,2.3E-3,2.7000000000000001E-3,2.8999999999999998E-3,3.2000000000000002E-3,3.3999999999999998E-3,3.5999999999999999E-3,3.8E-3,3.8999999999999998E-3,3.8999999999999998E-3,4.0000000000000001E-3,4.0000000000000001E-3,4.1999999999999997E-3,4.4000000000000003E-3,4.5999999999999999E-3,4.7999999999999996E-3,4.8999999999999998E-3,5.1000000000000004E-3,5.1999999999999998E-3,5.3E-3,5.3E-3,5.3E-3,5.1999999999999998E-3,5.1999999999999998E-3,5.1999999999999998E-3,5.1000000000000004E-3,5.1000000000000004E-3,5.1999999999999998E-3,5.1999999999999998E-3,5.3E-3,5.4000000000000003E-3,5.4999999999999997E-3]
[103,1.4E-3,1.4E-3,1.4E-3,1.5E-3,1.5E-3,1.6000000000000001E-3,1.6000000000000001E-3,1.6999999999999999E-3,1.8E-3,1.9E-3,2.0999999999999999E-3,2.2000000000000001E-3,2.3999999999999998E-3,2.5000000000000001E-3,2.5999999999999999E-3,2.8E-3,2.8999999999999998E-3,3.0000000000000001E-3,3.0999999999999999E-3,3.0999999999999999E-3,3.0999999999999999E-3,3.0999999999999999E-3,3.0000000000000001E-3,3.0000000000000001E-3,2.8E-3,2.7000000000000001E-3,2.5000000000000001E-3,2.3E-3,2.0999999999999999E-3,1.8E-3,1.6000000000000001E-3,1.2999999999999999E-3,1E-3,6.9999999999999999E-4,4.0000000000000002E-4,1E-4,-1E-4,-2.9999999999999997E-4,-5.0000000000000001E-4,-5.9999999999999995E-4,-6.9999999999999999E-4,-6.9999999999999999E-4,-6.9999999999999999E-4,-6.9999999999999999E-4,-5.9999999999999995E-4,-4.0000000000000002E-4,-2.0000000000000001E-4,0,2.9999999999999997E-4,5.9999999999999995E-4,8.9999999999999998E-4,1.1999999999999999E-3,1.5E-3,1.8E-3,2.2000000000000001E-3,2.5000000000000001E-3,2.7000000000000001E-3,3.0000000000000001E-3,3.2000000000000002E-3,3.3E-3,3.5000000000000001E-3,3.5999999999999999E-3,3.5999999999999999E-3,3.7000000000000002E-3,3.7000000000000002E-3,3.8999999999999998E-3,4.1000000000000003E-3,4.3E-3,4.4000000000000003E-3,4.5999999999999999E-3,4.7000000000000002E-3,4.7999999999999996E-3,4.8999999999999998E-3,4.8999999999999998E-3,4.8999999999999998E-3,4.7999999999999996E-3,4.7999999999999996E-3,4.7999999999999996E-3,4.7000000000000002E-3,4.7000000000000002E-3,4.7999999999999996E-3,4.7999999999999996E-3,4.8999999999999998E-3,5.0000000000000001E-3,5.1000000000000004E-3]
[104,1.2999999999999999E-3,1.2999999999999999E-3,1.2999999999999999E-3,1.2999999999999999E-3,1.4E-3,1.4E-3,1.5E-3,1.6000000000000001E-3,1.6999999999999999E-3,1.8E-3,1.9E-3,2E-3,2.2000000000000001E-3,2.3E-3,2.3999999999999998E-3,2.5000000000000001E-3,2.5999999999999999E-3,2.7000000000000001E-3,2.8E-3,2.8E-3,2.8E-3,2.8E-3,2.8E-3,2.7000000000000001E-3,2.5999999999999999E-3,2.5000000000000001E-3,2.3E-3,2.0999999999999999E-3,1.9E-3,1.6999999999999999E-3,1.4E-3,1.1999999999999999E-3,8.9999999999999998E-4,5.9999999999999995E-4,4.0000000000000002E-4,1E-4,-1E-4,-2.9999999999999997E-4,-4.0000000000000002E-4,-5.9999999999999995E-4,-5.9999999999999995E-4,-6.9999999999999999E-4,-6.9999999999999999E-4,-5.9999999999999995E-4,-5.0000000000000001E-4,-4.0000000000000002E-4,-2.0000000000000001E-4,0,2.9999999999999997E-4,5.0000000000000001E-4,8.0000000000000004E-4,1.1000000000000001E-3,1.4E-3,1.6999999999999999E-3,2E-3,2.2000000000000001E-3,2.5000000000000001E-3,2.7000000000000001E-3,2.8999999999999998E-3,3.0999999999999999E-3,3.2000000000000002E-3,3.3E-3,3.3E-3,3.3999999999999998E-3,3.3999999999999998E-3,3.5999999999999999E-3,3.7000000000000002E-3,3.8999999999999998E-3,4.0000000000000001E-3,4.1999999999999997E-3,4.3E-3,4.4000000000000003E-3,4.4999999999999997E-3,4.4999999999999997E-3,4.4999999999999997E-3,4.4000000000000003E-3,4.4000000000000003E-3,4.4000000000000003E-3,4.4000000000000003E-3,4.4000000000000003E-3,4.4000000000000003E-3,4.4000000000000003E-3,4.4999999999999997E-3,4.5999999999999999E-3,4.7000000000000002E-3]
[105,1.1999999999999999E-3,1.1999999999999999E-3,1.1999999999999999E-3,1.1999999999999999E-3,1.2999999999999999E-3,1.2999999999999999E-3,1.4E-3,1.4E-3,1.5E-3,1.6000000000000001E-3,1.6999999999999999E-3,1.8E-3,2E-3,2.0999999999999999E-3,2.2000000000000001E-3,2.3E-3,2.3999999999999998E-3,2.5000000000000001E-3,2.5000000000000001E-3,2.5999999999999999E-3,2.5999999999999999E-3,2.5999999999999999E-3,2.5000000000000001E-3,2.5000000000000001E-3,2.3999999999999998E-3,2.3E-3,2.0999999999999999E-3,1.9E-3,1.6999999999999999E-3,1.5E-3,1.2999999999999999E-3,1.1000000000000001E-3,8.0000000000000004E-4,5.9999999999999995E-4,2.9999999999999997E-4,1E-4,-1E-4,-2.9999999999999997E-4,-4.0000000000000002E-4,-5.0000000000000001E-4,-5.9999999999999995E-4,-5.9999999999999995E-4,-5.9999999999999995E-4,-5.9999999999999995E-4,-5.0000000000000001E-4,-2.9999999999999997E-4,-2.0000000000000001E-4,0,2.0000000000000001E-4,5.0000000000000001E-4,6.9999999999999999E-4,1E-3,1.2999999999999999E-3,1.5E-3,1.8E-3,2E-3,2.3E-3,2.5000000000000001E-3,2.5999999999999999E-3,2.8E-3,2.8999999999999998E-3,3.0000000000000001E-3,3.0000000000000001E-3,3.0999999999999999E-3,3.0999999999999999E-3,3.2000000000000002E-3,3.3999999999999998E-3,3.5000000000000001E-3,3.7000000000000002E-3,3.8E-3,3.8999999999999998E-3,4.0000000000000001E-3,4.1000000000000003E-3,4.1000000000000003E-3,4.1000000000000003E-3,4.0000000000000001E-3,4.0000000000000001E-3,4.0000000000000001E-3,4.0000000000000001E-3,4.0000000000000001E-3,4.0000000000000001E-3,4.0000000000000001E-3,4.1000000000000003E-3,4.1999999999999997E-3,4.3E-3]
[106,1.1000000000000001E-3,1.1000000000000001E-3,1.1000000000000001E-3,1.1000000000000001E-3,1.1000000000000001E-3,1.1999999999999999E-3,1.1999999999999999E-3,1.2999999999999999E-3,1.4E-3,1.5E-3,1.5E-3,1.6999999999999999E-3,1.8E-3,1.9E-3,2E-3,2.0999999999999999E-3,2.2000000000000001E-3,2.2000000000000001E-3,2.3E-3,2.3E-3,2.3E-3,2.3E-3,2.3E-3,2.2000000000000001E-3,2.0999999999999999E-3,2E-3,1.9E-3,1.6999999999999999E-3,1.6000000000000001E-3,1.4E-3,1.1999999999999999E-3,1E-3,6.9999999999999999E-4,5.0000000000000001E-4,2.9999999999999997E-4,1E-4,-1E-4,-2.0000000000000001E-4,-4.0000000000000002E-4,-5.0000000000000001E-4,-5.0000000000000001E-4,-5.9999999999999995E-4,-5.0000000000000001E-4,-5.0000000000000001E-4,-4.0000000000000002E-4,-2.9999999999999997E-4,-2.0000000000000001E-4,0,2.0000000000000001E-4,4.0000000000000002E-4,6.9999999999999999E-4,8.9999999999999998E-4,1.1000000000000001E-3,1.4E-3,1.6000000000000001E-3,1.8E-3,2E-3,2.2000000000000001E-3,2.3999999999999998E-3,2.5000000000000001E-3,2.5999999999999999E-3,2.7000000000000001E-3,2.7000000000000001E-3,2.8E-3,2.8E-3,2.8999999999999998E-3,3.0999999999999999E-3,3.2000000000000002E-3,3.3E-3,3.3999999999999998E-3,3.5000000000000001E-3,3.5999999999999999E-3,3.5999999999999999E-3,3.7000000000000002E-3,3.7000000000000002E-3,3.5999999999999999E-3,3.5999999999999999E-3,3.5999999999999999E-3,3.5999999999999999E-3,3.5999999999999999E-3,3.5999999999999999E-3,3.5999999999999999E-3,3.7000000000000002E-3,3.7000000000000002E-3,3.8E-3]
[107,1E-3,1E-3,1E-3,1E-3,1E-3,1E-3,1.1000000000000001E-3,1.1000000000000001E-3,1.1999999999999999E-3,1.2999999999999999E-3,1.4E-3,1.5E-3,1.6000000000000001E-3,1.6999999999999999E-3,1.8E-3,1.8E-3,1.9E-3,2E-3,2E-3,2.0999999999999999E-3,2.0999999999999999E-3,2.0999999999999999E-3,2E-3,2E-3,1.9E-3,1.8E-3,1.6999999999999999E-3,1.5E-3,1.4E-3,1.1999999999999999E-3,1E-3,8.9999999999999998E-4,6.9999999999999999E-4,5.0000000000000001E-4,2.9999999999999997E-4,1E-4,-1E-4,-2.0000000000000001E-4,-2.9999999999999997E-4,-4.0000000000000002E-4,-5.0000000000000001E-4,-5.0000000000000001E-4,-5.0000000000000001E-4,-4.0000000000000002E-4,-4.0000000000000002E-4,-2.9999999999999997E-4,-1E-4,0,2.0000000000000001E-4,4.0000000000000002E-4,5.9999999999999995E-4,8.0000000000000004E-4,1E-3,1.1999999999999999E-3,1.4E-3,1.6000000000000001E-3,1.8E-3,2E-3,2.0999999999999999E-3,2.2000000000000001E-3,2.3E-3,2.3999999999999998E-3,2.3999999999999998E-3,2.5000000000000001E-3,2.5000000000000001E-3,2.5999999999999999E-3,2.7000000000000001E-3,2.8E-3,2.8999999999999998E-3,3.0000000000000001E-3,3.0999999999999999E-3,3.2000000000000002E-3,3.2000000000000002E-3,3.3E-3,3.2000000000000002E-3,3.2000000000000002E-3,3.2000000000000002E-3,3.2000000000000002E-3,3.2000000000000002E-3,3.2000000000000002E-3,3.2000000000000002E-3,3.2000000000000002E-3,3.3E-3,3.3E-3,3.3999999999999998E-3]
[108,8.0000000000000004E-4,8.0000000000000004E-4,8.0000000000000004E-4,8.9999999999999998E-4,8.9999999999999998E-4,8.9999999999999998E-4,8.9999999999999998E-4,1E-3,1.1000000000000001E-3,1.1000000000000001E-3,1.1999999999999999E-3,1.2999999999999999E-3,1.4E-3,1.5E-3,1.5E-3,1.6000000000000001E-3,1.6999999999999999E-3,1.6999999999999999E-3,1.8E-3,1.8E-3,1.8E-3,1.8E-3,1.8E-3,1.6999999999999999E-3,1.6999999999999999E-3,1.6000000000000001E-3,1.5E-3,1.4E-3,1.1999999999999999E-3,1.1000000000000001E-3,8.9999999999999998E-4,6.9999999999999999E-4,5.9999999999999995E-4,4.0000000000000002E-4,2.0000000000000001E-4,1E-4,-1E-4,-2.0000000000000001E-4,-2.9999999999999997E-4,-4.0000000000000002E-4,-4.0000000000000002E-4,-4.0000000000000002E-4,-4.0000000000000002E-4,-4.0000000000000002E-4,-2.9999999999999997E-4,-2.0000000000000001E-4,-1E-4,0,2.0000000000000001E-4,2.9999999999999997E-4,5.0000000000000001E-4,6.9999999999999999E-4,8.9999999999999998E-4,1.1000000000000001E-3,1.2999999999999999E-3,1.4E-3,1.6000000000000001E-3,1.6999999999999999E-3,1.8E-3,1.9E-3,2E-3,2.0999999999999999E-3,2.0999999999999999E-3,2.2000000000000001E-3,2.2000000000000001E-3,2.3E-3,2.3999999999999998E-3,2.5000000000000001E-3,2.5999999999999999E-3,2.7000000000000001E-3,2.7000000000000001E-3,2.8E-3,2.8E-3,2.8999999999999998E-3,2.8E-3,2.8E-3,2.8E-3,2.8E-3,2.8E-3,2.8E-3,2.8E-3,2.8E-3,2.8E-3,2.8999999999999998E-3,3.0000000000000001E-3]
[109,6.9999999999999999E-4,6.9999999999999999E-4,6.9999999999999999E-4,6.9999999999999999E-4,8.0000000000000004E-4,8.0000000000000004E-4,8.0000000000000004E-4,8.9999999999999998E-4,8.9999999999999998E-4,1E-3,1E-3,1.1000000000000001E-3,1.1999999999999999E-3,1.2999999999999999E-3,1.2999999999999999E-3,1.4E-3,1.4E-3,1.5E-3,1.5E-3,1.5E-3,1.6000000000000001E-3,1.5E-3,1.5E-3,1.5E-3,1.4E-3,1.4E-3,1.2999999999999999E-3,1.1999999999999999E-3,1E-3,8.9999999999999998E-4,8.0000000000000004E-4,5.9999999999999995E-4,5.0000000000000001E-4,2.9999999999999997E-4,2.0000000000000001E-4,1E-4,-1E-4,-2.0000000000000001E-4,-2.0000000000000001E-4,-2.9999999999999997E-4,-2.9999999999999997E-4,-4.0000000000000002E-4,-4.0000000000000002E-4,-2.9999999999999997E-4,-2.9999999999999997E-4,-2.0000000000000001E-4,-1E-4,0,1E-4,2.9999999999999997E-4,4.0000000000000002E-4,5.9999999999999995E-4,8.0000000000000004E-4,8.9999999999999998E-4,1.1000000000000001E-3,1.1999999999999999E-3,1.4E-3,1.5E-3,1.6000000000000001E-3,1.6999999999999999E-3,1.6999999999999999E-3,1.8E-3,1.8E-3,1.8E-3,1.9E-3,1.9E-3,2E-3,2.0999999999999999E-3,2.2000000000000001E-3,2.3E-3,2.3E-3,2.3999999999999998E-3,2.3999999999999998E-3,2.3999999999999998E-3,2.3999999999999998E-3,2.3999999999999998E-3,2.3999999999999998E-3,2.3999999999999998E-3,2.3999999999999998E-3,2.3999999999999998E-3,2.3999999999999998E-3,2.3999999999999998E-3,2.3999999999999998E-3,2.5000000000000001E-3,2.5999999999999999E-3]
[110,5.9999999999999995E-4,5.9999999999999995E-4,5.9999999999999995E-4,5.9999999999999995E-4,5.9999999999999995E-4,5.9999999999999995E-4,6.9999999999999999E-4,6.9999999999999999E-4,8.0000000000000004E-4,8.0000000000000004E-4,8.9999999999999998E-4,8.9999999999999998E-4,1E-3,1E-3,1.1000000000000001E-3,1.1999999999999999E-3,1.1999999999999999E-3,1.1999999999999999E-3,1.2999999999999999E-3,1.2999999999999999E-3,1.2999999999999999E-3,1.2999999999999999E-3,1.2999999999999999E-3,1.1999999999999999E-3,1.1999999999999999E-3,1.1000000000000001E-3,1.1000000000000001E-3,1E-3,8.9999999999999998E-4,8.0000000000000004E-4,6.9999999999999999E-4,5.0000000000000001E-4,4.0000000000000002E-4,2.9999999999999997E-4,2.0000000000000001E-4,1E-4,0,-1E-4,-2.0000000000000001E-4,-2.9999999999999997E-4,-2.9999999999999997E-4,-2.9999999999999997E-4,-2.9999999999999997E-4,-2.9999999999999997E-4,-2.0000000000000001E-4,-2.0000000000000001E-4,-1E-4,0,1E-4,2.0000000000000001E-4,4.0000000000000002E-4,5.0000000000000001E-4,5.9999999999999995E-4,8.0000000000000004E-4,8.9999999999999998E-4,1E-3,1.1000000000000001E-3,1.1999999999999999E-3,1.2999999999999999E-3,1.4E-3,1.4E-3,1.5E-3,1.5E-3,1.5E-3,1.6000000000000001E-3,1.6000000000000001E-3,1.6999999999999999E-3,1.8E-3,1.8E-3,1.9E-3,2E-3,2E-3,2E-3,2E-3,2E-3,2E-3,2E-3,2E-3,2E-3,2E-3,2E-3,2E-3,2E-3,2.0999999999999999E-3,2.0999999999999999E-3]
[111,5.0000000000000001E-4,5.0000000000000001E-4,5.0000000000000001E-4,5.0000000000000001E-4,5.0000000000000001E-4,5.0000000000000001E-4,5.0000000000000001E-4,5.9999999999999995E-4,5.9999999999999995E-4,5.9999999999999995E-4,6.9999999999999999E-4,6.9999999999999999E-4,8.0000000000000004E-4,8.0000000000000004E-4,8.9999999999999998E-4,8.9999999999999998E-4,1E-3,1E-3,1E-3,1E-3,1E-3,1E-3,1E-3,1E-3,8.9999999999999998E-4,8.9999999999999998E-4,8.0000000000000004E-4,8.0000000000000004E-4,6.9999999999999999E-4,5.9999999999999995E-4,5.0000000000000001E-4,4.0000000000000002E-4,2.9999999999999997E-4,2.0000000000000001E-4,1E-4,0,0,-1E-4,-2.0000000000000001E-4,-2.0000000000000001E-4,-2.0000000000000001E-4,-2.0000000000000001E-4,-2.0000000000000001E-4,-2.0000000000000001E-4,-2.0000000000000001E-4,-1E-4,-1E-4,0,1E-4,2.0000000000000001E-4,2.9999999999999997E-4,4.0000000000000002E-4,5.0000000000000001E-4,5.9999999999999995E-4,6.9999999999999999E-4,8.0000000000000004E-4,8.9999999999999998E-4,1E-3,1.1000000000000001E-3,1.1000000000000001E-3,1.1999999999999999E-3,1.1999999999999999E-3,1.1999999999999999E-3,1.1999999999999999E-3,1.1999999999999999E-3,1.2999999999999999E-3,1.4E-3,1.4E-3,1.5E-3,1.5E-3,1.6000000000000001E-3,1.6000000000000001E-3,1.6000000000000001E-3,1.6000000000000001E-3,1.6000000000000001E-3,1.6000000000000001E-3,1.6000000000000001E-3,1.6000000000000001E-3,1.6000000000000001E-3,1.6000000000000001E-3,1.6000000000000001E-3,1.6000000000000001E-3,1.6000000000000001E-3,1.6999999999999999E-3,1.6999999999999999E-3]
[112,4.0000000000000002E-4,4.0000000000000002E-4,4.0000000000000002E-4,4.0000000000000002E-4,4.0000000000000002E-4,4.0000000000000002E-4,4.0000000000000002E-4,4.0000000000000002E-4,5.0000000000000001E-4,5.0000000000000001E-4,5.0000000000000001E-4,5.9999999999999995E-4,5.9999999999999995E-4,5.9999999999999995E-4,6.9999999999999999E-4,6.9999999999999999E-4,6.9999999999999999E-4,6.9999999999999999E-4,8.0000000000000004E-4,8.0000000000000004E-4,8.0000000000000004E-4,8.0000000000000004E-4,8.0000000000000004E-4,6.9999999999999999E-4,6.9999999999999999E-4,6.9999999999999999E-4,5.9999999999999995E-4,5.9999999999999995E-4,5.0000000000000001E-4,5.0000000000000001E-4,4.0000000000000002E-4,2.9999999999999997E-4,2.0000000000000001E-4,2.0000000000000001E-4,1E-4,0,0,-1E-4,-1E-4,-2.0000000000000001E-4,-2.0000000000000001E-4,-2.0000000000000001E-4,-2.0000000000000001E-4,-2.0000000000000001E-4,-1E-4,-1E-4,-1E-4,0,1E-4,1E-4,2.0000000000000001E-4,2.9999999999999997E-4,4.0000000000000002E-4,5.0000000000000001E-4,5.0000000000000001E-4,5.9999999999999995E-4,6.9999999999999999E-4,6.9999999999999999E-4,8.0000000000000004E-4,8.0000000000000004E-4,8.9999999999999998E-4,8.9999999999999998E-4,8.9999999999999998E-4,8.9999999999999998E-4,8.9999999999999998E-4,1E-3,1E-3,1.1000000000000001E-3,1.1000000000000001E-3,1.1000000000000001E-3,1.1999999999999999E-3,1.1999999999999999E-3,1.1999999999999999E-3,1.1999999999999999E-3,1.1999999999999999E-3,1.1999999999999999E-3,1.1999999999999999E-3,1.1999999999999999E-3,1.1999999999999999E-3,1.1999999999999999E-3,1.1999999999999999E-3,1.1999999999999999E-3,1.1999999999999999E-3,1.1999999999999999E-3,1.2999999999999999E-3]
[113,2.0000000000000001E-4,2.0000000000000001E-4,2.0000000000000001E-4,2.0000000000000001E-4,2.9999999999999997E-4,2.9999999999999997E-4,2.9999999999999997E-4,2.9999999999999997E-4,2.9999999999999997E-4,2.9999999999999997E-4,2.9999999999999997E-4,4.0000000000000002E-4,4.0000000000000002E-4,4.0000000000000002E-4,4.0000000000000002E-4,5.0000000000000001E-4,5.0000000000000001E-4,5.0000000000000001E-4,5.0000000000000001E-4,5.0000000000000001E-4,5.0000000000000001E-4,5.0000000000000001E-4,5.0000000000000001E-4,5.0000000000000001E-4,5.0000000000000001E-4,5.0000000000000001E-4,4.0000000000000002E-4,4.0000000000000002E-4,2.9999999999999997E-4,2.9999999999999997E-4,2.9999999999999997E-4,2.0000000000000001E-4,2.0000000000000001E-4,1E-4,1E-4,0,0,-1E-4,-1E-4,-1E-4,-1E-4,-1E-4,-1E-4,-1E-4,-1E-4,-1E-4,0,0,0,1E-4,1E-4,2.0000000000000001E-4,2.9999999999999997E-4,2.9999999999999997E-4,4.0000000000000002E-4,4.0000000000000002E-4,5.0000000000000001E-4,5.0000000000000001E-4,5.0000000000000001E-4,5.9999999999999995E-4,5.9999999999999995E-4,5.9999999999999995E-4,5.9999999999999995E-4,5.9999999999999995E-4,5.9999999999999995E-4,5.9999999999999995E-4,6.9999999999999999E-4,6.9999999999999999E-4,6.9999999999999999E-4,8.0000000000000004E-4,8.0000000000000004E-4,8.0000000000000004E-4,8.0000000000000004E-4,8.0000000000000004E-4,8.0000000000000004E-4,8.0000000000000004E-4,8.0000000000000004E-4,8.0000000000000004E-4,8.0000000000000004E-4,8.0000000000000004E-4,8.0000000000000004E-4,8.0000000000000004E-4,8.0000000000000004E-4,8.0000000000000004E-4,8.9999999999999998E-4]
[114,1E-4,1E-4,1E-4,1E-4,1E-4,1E-4,1E-4,1E-4,2.0000000000000001E-4,2.0000000000000001E-4,2.0000000000000001E-4,2.0000000000000001E-4,2.0000000000000001E-4,2.0000000000000001E-4,2.0000000000000001E-4,2.0000000000000001E-4,2.0000000000000001E-4,2.0000000000000001E-4,2.9999999999999997E-4,2.9999999999999997E-4,2.9999999999999997E-4,2.9999999999999997E-4,2.9999999999999997E-4,2.0000000000000001E-4,2.0000000000000001E-4,2.0000000000000001E-4,2.0000000000000001E-4,2.0000000000000001E-4,2.0000000000000001E-4,2.0000000000000001E-4,1E-4,1E-4,1E-4,1E-4,0,0,0,0,0,-1E-4,-1E-4,-1E-4,-1E-4,-1E-4,0,0,0,0,0,0,1E-4,1E-4,1E-4,2.0000000000000001E-4,2.0000000000000001E-4,2.0000000000000001E-4,2.0000000000000001E-4,2.0000000000000001E-4,2.9999999999999997E-4,2.9999999999999997E-4,2.9999999999999997E-4,2.9999999999999997E-4,2.9999999999999997E-4,2.9999999999999997E-4,2.9999999999999997E-4,2.9999999999999997E-4,2.9999999999999997E-4,4.0000000000000002E-4,4.0000000000000002E-4,4.0000000000000002E-4,4.0000000000000002E-4,4.0000000000000002E-4,4.0000000000000002E-4,4.0000000000000002E-4,4.0000000000000002E-4,4.0000000000000002E-4,4.0000000000000002E-4,4.0000000000000002E-4,4.0000000000000002E-4,4.0000000000000002E-4,4.0000000000000002E-4,4.0000000000000002E-4,4.0000000000000002E-4,4.0000000000000002E-4,4.0000000000000002E-4]
[115,0,0,0,0,0,0,0,0,0,0,0,0,0,0,0,0,0,0,0,0,0,0,0,0,0,0,0,0,0,0,0,0,0,0,0,0,0,0,0,0,0,0,0,0,0,0,0,0,0,0,0,0,0,0,0,0,0,0,0,0,0,0,0,0,0,0,0,0,0,0,0,0,0,0,0,0,0,0,0,0,0,0,0,0,0]
[116,0,0,0,0,0,0,0,0,0,0,0,0,0,0,0,0,0,0,0,0,0,0,0,0,0,0,0,0,0,0,0,0,0,0,0,0,0,0,0,0,0,0,0,0,0,0,0,0,0,0,0,0,0,0,0,0,0,0,0,0,0,0,0,0,0,0,0,0,0,0,0,0,0,0,0,0,0,0,0,0,0,0,0,0,0]
[117,0,0,0,0,0,0,0,0,0,0,0,0,0,0,0,0,0,0,0,0,0,0,0,0,0,0,0,0,0,0,0,0,0,0,0,0,0,0,0,0,0,0,0,0,0,0,0,0,0,0,0,0,0,0,0,0,0,0,0,0,0,0,0,0,0,0,0,0,0,0,0,0,0,0,0,0,0,0,0,0,0,0,0,0,0]
[118,0,0,0,0,0,0,0,0,0,0,0,0,0,0,0,0,0,0,0,0,0,0,0,0,0,0,0,0,0,0,0,0,0,0,0,0,0,0,0,0,0,0,0,0,0,0,0,0,0,0,0,0,0,0,0,0,0,0,0,0,0,0,0,0,0,0,0,0,0,0,0,0,0,0,0,0,0,0,0,0,0,0,0,0,0]
[119,0,0,0,0,0,0,0,0,0,0,0,0,0,0,0,0,0,0,0,0,0,0,0,0,0,0,0,0,0,0,0,0,0,0,0,0,0,0,0,0,0,0,0,0,0,0,0,0,0,0,0,0,0,0,0,0,0,0,0,0,0,0,0,0,0,0,0,0,0,0,0,0,0,0,0,0,0,0,0,0,0,0,0,0,0]
[120,0,0,0,0,0,0,0,0,0,0,0,0,0,0,0,0,0,0,0,0,0,0,0,0,0,0,0,0,0,0,0,0,0,0,0,0,0,0,0,0,0,0,0,0,0,0,0,0,0,0,0,0,0,0,0,0,0,0,0,0,0,0,0,0,0,0,0,0,0,0,0,0,0,0,0,0,0,0,0,0,0,0,0,0,0]

{"sheet":"Female","index":2,"n_rows":103,"n_cols":86,"rows_kept":103,"cut":false,"hidden":false,"merged":[]}
["O2-2019 - Female"]
[null,1951,1952,1953,1954,1955,1956,1957,1958,1959,1960,1961,1962,1963,1964,1965,1966,1967,1968,1969,1970,1971,1972,1973,1974,1975,1976,1977,1978,1979,1980,1981,1982,1983,1984,1985,1986,1987,1988,1989,1990,1991,1992,1993,1994,1995,1996,1997,1998,1999,2000,2001,2002,2003,2004,2005,2006,2007,2008,{"$f":"BG2+1","v":2009},2010,2011,2012,2013,2014,2015,2016,2017,2018,2019,2020,2021,2022,2023,2024,2025,2026,2027,2028,2029,2030,2031,2032,2033,2034,"2035+"]
["≤ 20",4.1799999999999997E-2,4.1399999999999999E-2,4.0099999999999997E-2,3.7600000000000001E-2,3.4000000000000002E-2,2.98E-2,2.53E-2,2.06E-2,1.55E-2,1.03E-2,5.1000000000000004E-3,2.9999999999999997E-4,-3.7000000000000002E-3,-6.6E-3,-8.5000000000000006E-3,-9.4000000000000004E-3,-8.8999999999999999E-3,-7.0000000000000001E-3,-3.7000000000000002E-3,6.9999999999999999E-4,5.4999999999999997E-3,1.0200000000000001E-2,1.44E-2,1.77E-2,1.9400000000000001E-2,2.01E-2,2.0199999999999999E-2,2.06E-2,2.12E-2,2.1399999999999999E-2,2.0899999999999998E-2,1.9199999999999998E-2,1.6299999999999999E-2,1.29E-2,9.9000000000000008E-3,7.6E-3,6.7000000000000002E-3,6.7000000000000002E-3,7.6E-3,8.6999999999999994E-3,9.9000000000000008E-3,1.11E-2,1.2E-2,1.2800000000000001E-2,1.3299999999999999E-2,1.35E-2,1.2999999999999999E-2,1.2200000000000001E-2,1.09E-2,9.7999999999999997E-3,8.9999999999999993E-3,8.8999999999999999E-3,9.9000000000000008E-3,1.2E-2,1.44E-2,1.6899999999999998E-2,1.9E-2,0.02,1.9E-2,1.6199999999999999E-2,1.1900000000000001E-2,6.4999999999999997E-3,5.9999999999999995E-4,-5.1000000000000004E-3,-9.7999999999999997E-3,-9.4999999999999998E-3,-8.5000000000000006E-3,-7.1000000000000004E-3,-5.3E-3,-3.3E-3,-1.2999999999999999E-3,6.9999999999999999E-4,2.5000000000000001E-3,4.0000000000000001E-3,5.0000000000000001E-3,5.7999999999999996E-3,6.4999999999999997E-3,7.1999999999999998E-3,7.9000000000000008E-3,8.5000000000000006E-3,8.9999999999999993E-3,9.4000000000000004E-3,9.7000000000000003E-3,9.9000000000000008E-3,0.01]
[21,4.1799999999999997E-2,4.1300000000000003E-2,3.9800000000000002E-2,3.7199999999999997E-2,3.3399999999999999E-2,2.92E-2,2.46E-2,1.9900000000000001E-2,1.49E-2,0.01,5.1000000000000004E-3,6.9999999999999999E-4,-2.8E-3,-5.4000000000000003E-3,-6.8999999999999999E-3,-7.4999999999999997E-3,-6.8999999999999999E-3,-5.0000000000000001E-3,-1.8E-3,2.3999999999999998E-3,7.0000000000000001E-3,1.14E-2,1.55E-2,1.8599999999999998E-2,2.0199999999999999E-2,2.0799999999999999E-2,2.0899999999999998E-2,2.1000000000000001E-2,2.1399999999999999E-2,2.1399999999999999E-2,2.0799999999999999E-2,1.9E-2,1.6199999999999999E-2,1.2800000000000001E-2,9.7999999999999997E-3,7.4000000000000003E-3,6.4000000000000003E-3,6.4000000000000003E-3,7.1999999999999998E-3,8.3000000000000001E-3,9.4999999999999998E-3,1.09E-2,1.1900000000000001E-2,1.29E-2,1.3599999999999999E-2,1.37E-2,1.2999999999999999E-2,1.1900000000000001E-2,1.0200000000000001E-2,8.6999999999999994E-3,7.4999999999999997E-3,7.0000000000000001E-3,7.4999999999999997E-3,9.1000000000000004E-3,1.09E-2,1.2999999999999999E-2,1.4800000000000001E-2,1.55E-2,1.4500000000000001E-2,1.2E-2,8.0000000000000002E-3,2.8999999999999998E-3,-2.5999999999999999E-3,-8.0999999999999996E-3,-1.2699999999999999E-2,-1.09E-2,-9.7999999999999997E-3,-8.2000000000000007E-3,-6.1999999999999998E-3,-4.0000000000000001E-3,-1.8E-3,4.0000000000000002E-4,2.3999999999999998E-3,4.0000000000000001E-3,5.0000000000000001E-3,5.7999999999999996E-3,6.4999999999999997E-3,7.1999999999999998E-3,7.9000000000000008E-3,8.5000000000000006E-3,8.9999999999999993E-3,9.4000000000000004E-3,9.7000000000000003E-3,9.9000000000000008E-3,0.01]
[22,4.1599999999999998E-2,4.1099999999999998E-2,3.9600000000000003E-2,3.6700000000000003E-2,3.2899999999999999E-2,2.86E-2,2.4E-2,1.9300000000000001E-2,1.44E-2,9.7000000000000003E-3,5.1999999999999998E-3,1.1000000000000001E-3,-2E-3,-4.1000000000000003E-3,-5.3E-3,-5.5999999999999999E-3,-4.8999999999999998E-3,-3.0000000000000001E-3,1E-4,4.1000000000000003E-3,8.6E-3,1.2800000000000001E-2,1.67E-2,1.9699999999999999E-2,2.12E-2,2.18E-2,2.1600000000000001E-2,2.1499999999999998E-2,2.1600000000000001E-2,2.1399999999999999E-2,2.0500000000000001E-2,1.8700000000000001E-2,1.5900000000000001E-2,1.2500000000000001E-2,9.4000000000000004E-3,6.7999999999999996E-3,5.7000000000000002E-3,5.7000000000000002E-3,6.6E-3,7.7999999999999996E-3,9.1000000000000004E-3,1.0500000000000001E-2,1.18E-2,1.2999999999999999E-2,1.3899999999999999E-2,1.41E-2,1.3299999999999999E-2,1.2E-2,9.9000000000000008E-3,7.9000000000000008E-3,6.4000000000000003E-3,5.4000000000000003E-3,5.4000000000000003E-3,6.4999999999999997E-3,7.7999999999999996E-3,9.4000000000000004E-3,1.0800000000000001E-2,1.14E-2,1.04E-2,8.0000000000000002E-3,4.1999999999999997E-3,-5.0000000000000001E-4,-5.7999999999999996E-3,-1.0999999999999999E-2,-1.55E-2,-1.37E-2,-1.11E-2,-9.2999999999999992E-3,-7.1999999999999998E-3,-4.7999999999999996E-3,-2.3E-3,1E-4,2.2000000000000001E-3,3.8999999999999998E-3,5.0000000000000001E-3,5.7999999999999996E-3,6.4999999999999997E-3,7.1999999999999998E-3,7.9000000000000008E-3,8.5000000000000006E-3,8.9999999999999993E-3,9.4000000000000004E-3,9.7000000000000003E-3,9.9000000000000008E-3,0.01]
[23,4.1399999999999999E-2,4.0800000000000003E-2,3.9300000000000002E-2,3.6299999999999999E-2,3.2399999999999998E-2,2.8000000000000001E-2,2.3300000000000001E-2,1.8599999999999998E-2,1.38E-2,9.2999999999999992E-3,5.1999999999999998E-3,1.5E-3,-1.1000000000000001E-3,-2.8999999999999998E-3,-3.8E-3,-3.8E-3,-2.8999999999999998E-3,-1E-3,2E-3,5.8999999999999999E-3,1.0200000000000001E-2,1.44E-2,1.8100000000000002E-2,2.0899999999999998E-2,2.24E-2,2.29E-2,2.2599999999999999E-2,2.2200000000000001E-2,2.1899999999999999E-2,2.1299999999999999E-2,2.0199999999999999E-2,1.83E-2,1.54E-2,1.2E-2,8.6999999999999994E-3,6.0000000000000001E-3,4.7000000000000002E-3,4.7000000000000002E-3,5.7000000000000002E-3,7.0000000000000001E-3,8.3999999999999995E-3,0.01,1.15E-2,1.29E-2,1.41E-2,1.4500000000000001E-2,1.38E-2,1.23E-2,0.01,7.6E-3,5.5999999999999999E-3,4.3E-3,3.8E-3,4.4000000000000003E-3,5.1000000000000004E-3,6.1999999999999998E-3,7.3000000000000001E-3,7.6E-3,6.6E-3,4.3E-3,8.0000000000000004E-4,-3.8E-3,-8.8000000000000005E-3,-1.3899999999999999E-2,-1.83E-2,-1.6400000000000001E-2,-1.37E-2,-1.04E-2,-8.0000000000000002E-3,-5.4000000000000003E-3,-2.8E-3,-2.0000000000000001E-4,2.0999999999999999E-3,3.8999999999999998E-3,5.0000000000000001E-3,5.7999999999999996E-3,6.4999999999999997E-3,7.1999999999999998E-3,7.9000000000000008E-3,8.5000000000000006E-3,8.9999999999999993E-3,9.4000000000000004E-3,9.7000000000000003E-3,9.9000000000000008E-3,0.01]
[24,4.1000000000000002E-2,4.0500000000000001E-2,3.8899999999999997E-2,3.5999999999999997E-2,3.1899999999999998E-2,2.7400000000000001E-2,2.2599999999999999E-2,1.7899999999999999E-2,1.3299999999999999E-2,8.9999999999999993E-3,5.1999999999999998E-3,1.9E-3,-4.0000000000000002E-4,-1.6999999999999999E-3,-2.3E-3,-2.0999999999999999E-3,-1.1000000000000001E-3,8.9999999999999998E-4,3.8999999999999998E-3,7.7000000000000002E-3,1.1900000000000001E-2,1.61E-2,1.9699999999999999E-2,2.24E-2,2.3800000000000002E-2,2.4199999999999999E-2,2.3699999999999999E-2,2.29E-2,2.23E-2,2.1299999999999999E-2,1.9900000000000001E-2,1.78E-2,1.4800000000000001E-2,1.1299999999999999E-2,7.7999999999999996E-3,4.7999999999999996E-3,3.3999999999999998E-3,3.5000000000000001E-3,4.5999999999999999E-3,6.1000000000000004E-3,7.7000000000000002E-3,9.4000000000000004E-3,1.0999999999999999E-2,1.2800000000000001E-2,1.43E-2,1.4999999999999999E-2,1.4500000000000001E-2,1.29E-2,1.03E-2,7.6E-3,5.1999999999999998E-3,3.5999999999999999E-3,2.7000000000000001E-3,2.7000000000000001E-3,3.0000000000000001E-3,3.5999999999999999E-3,4.3E-3,4.4000000000000003E-3,3.3E-3,1.1000000000000001E-3,-2.3E-3,-6.7000000000000002E-3,-1.1599999999999999E-2,-1.66E-2,-2.0899999999999998E-2,-1.9E-2,-1.6199999999999999E-2,-1.2800000000000001E-2,-8.8999999999999999E-3,-6.1000000000000004E-3,-3.2000000000000002E-3,-5.0000000000000001E-4,2E-3,3.8999999999999998E-3,5.0000000000000001E-3,5.7999999999999996E-3,6.4999999999999997E-3,7.1999999999999998E-3,7.9000000000000008E-3,8.5000000000000006E-3,8.9999999999999993E-3,9.4000000000000004E-3,9.7000000000000003E-3,9.9000000000000008E-3,0.01]
[25,4.0500000000000001E-2,0.04,3.85E-2,3.5499999999999997E-2,3.1399999999999997E-2,2.6700000000000002E-2,2.1899999999999999E-2,1.7299999999999999E-2,1.2800000000000001E-2,8.6999999999999994E-3,5.1999999999999998E-3,2.2000000000000001E-3,2.9999999999999997E-4,-6.9999999999999999E-4,-1E-3,-5.9999999999999995E-4,5.9999999999999995E-4,2.7000000000000001E-3,5.7000000000000002E-3,9.4000000000000004E-3,1.37E-2,1.78E-2,2.1399999999999999E-2,2.4E-2,2.5399999999999999E-2,2.5600000000000001E-2,2.4899999999999999E-2,2.3800000000000002E-2,2.2800000000000001E-2,2.1399999999999999E-2,1.9699999999999999E-2,1.7399999999999999E-2,1.41E-2,1.04E-2,6.6E-3,3.5000000000000001E-3,2E-3,2E-3,3.3E-3,5.0000000000000001E-3,6.7999999999999996E-3,8.6E-3,1.04E-2,1.2500000000000001E-2,1.44E-2,1.55E-2,1.5299999999999999E-2,1.37E-2,1.09E-2,7.9000000000000008E-3,5.1999999999999998E-3,3.3E-3,2E-3,1.6000000000000001E-3,1.4E-3,1.5E-3,1.8E-3,1.6999999999999999E-3,5.0000000000000001E-4,-1.6000000000000001E-3,-5.0000000000000001E-3,-9.4000000000000004E-3,-1.4200000000000001E-2,-1.9099999999999999E-2,-2.3300000000000001E-2,-2.1499999999999998E-2,-1.8700000000000001E-2,-1.4999999999999999E-2,-1.0999999999999999E-2,-6.7000000000000002E-3,-3.5999999999999999E-3,-6.9999999999999999E-4,1.8E-3,3.8E-3,5.0000000000000001E-3,5.7999999999999996E-3,6.4999999999999997E-3,7.1999999999999998E-3,7.9000000000000008E-3,8.5000000000000006E-3,8.9999999999999993E-3,9.4000000000000004E-3,9.7000000000000003E-3,9.9000000000000008E-3,0.01]
[26,3.9899999999999998E-2,3.9399999999999998E-2,3.7999999999999999E-2,3.5000000000000003E-2,3.0800000000000001E-2,2.6100000000000002E-2,2.12E-2,1.66E-2,1.23E-2,8.3999999999999995E-3,5.1000000000000004E-3,2.5000000000000001E-3,8.0000000000000004E-4,1E-4,0,6.9999999999999999E-4,2.0999999999999999E-3,4.3E-3,7.4000000000000003E-3,1.11E-2,1.54E-2,1.9599999999999999E-2,2.3099999999999999E-2,2.5600000000000001E-2,2.7E-2,2.7099999999999999E-2,2.6200000000000001E-2,2.4899999999999999E-2,2.3400000000000001E-2,2.1600000000000001E-2,1.95E-2,1.6899999999999998E-2,1.34E-2,9.4000000000000004E-3,5.3E-3,2E-3,4.0000000000000002E-4,5.0000000000000001E-4,1.9E-3,3.7000000000000002E-3,5.7000000000000002E-3,7.6E-3,9.5999999999999992E-3,1.2E-2,1.43E-2,1.5900000000000001E-2,1.6E-2,1.4500000000000001E-2,1.17E-2,8.3999999999999995E-3,5.4999999999999997E-3,3.3999999999999998E-3,1.8E-3,1E-3,4.0000000000000002E-4,0,0,-5.0000000000000001E-4,-1.8E-3,-3.8999999999999998E-3,-7.3000000000000001E-3,-1.17E-2,-1.6400000000000001E-2,-2.1299999999999999E-2,-2.5399999999999999E-2,-2.3699999999999999E-2,-2.0899999999999998E-2,-1.72E-2,-1.29E-2,-8.3999999999999995E-3,-4.0000000000000001E-3,-8.9999999999999998E-4,1.6999999999999999E-3,3.8E-3,5.0000000000000001E-3,5.7999999999999996E-3,6.4999999999999997E-3,7.1999999999999998E-3,7.9000000000000008E-3,8.5000000000000006E-3,8.9999999999999993E-3,9.4000000000000004E-3,9.7000000000000003E-3,9.9000000000000008E-3,0.01]
[27,3.9199999999999999E-2,3.8800000000000001E-2,3.7400000000000003E-2,3.4500000000000003E-2,3.0200000000000001E-2,2.5399999999999999E-2,2.0500000000000001E-2,1.6E-2,1.18E-2,8.0999999999999996E-3,5.1000000000000004E-3,2.5999999999999999E-3,1.1999999999999999E-3,6.9999999999999999E-4,8.9999999999999998E-4,1.8E-3,3.5000000000000001E-3,5.7999999999999996E-3,8.9999999999999993E-3,1.2800000000000001E-2,1.7000000000000001E-2,2.12E-2,2.47E-2,2.7300000000000001E-2,2.87E-2,2.8799999999999999E-2,2.7699999999999999E-2,2.6100000000000002E-2,2.4199999999999999E-2,2.1999999999999999E-2,1.95E-2,1.6500000000000001E-2,1.26E-2,8.3000000000000001E-3,4.0000000000000001E-3,5.9999999999999995E-4,-1.1000000000000001E-3,-1E-3,4.0000000000000002E-4,2.3999999999999998E-3,4.4999999999999997E-3,6.4999999999999997E-3,8.6999999999999994E-3,1.1299999999999999E-2,1.4E-2,1.6E-2,1.66E-2,1.52E-2,1.2500000000000001E-2,9.1999999999999998E-3,6.1000000000000004E-3,3.8E-3,2E-3,8.0000000000000004E-4,-1E-4,-8.0000000000000004E-4,-1.2999999999999999E-3,-2.0999999999999999E-3,-3.5999999999999999E-3,-5.7999999999999996E-3,-9.1999999999999998E-3,-1.3599999999999999E-2,-1.83E-2,-2.3199999999999998E-2,-2.7300000000000001E-2,-2.5700000000000001E-2,-2.29E-2,-1.9099999999999999E-2,-1.4800000000000001E-2,-1.01E-2,-5.4999999999999997E-3,-1.1999999999999999E-3,1.6000000000000001E-3,3.8E-3,5.0000000000000001E-3,5.7999999999999996E-3,6.4999999999999997E-3,7.1999999999999998E-3,7.9000000000000008E-3,8.5000000000000006E-3,8.9999999999999993E-3,9.4000000000000004E-3,9.7000000000000003E-3,9.9000000000000008E-3,0.01]
[28,3.85E-2,3.8100000000000002E-2,3.6700000000000003E-2,3.3799999999999997E-2,2.9499999999999998E-2,2.47E-2,1.9800000000000002E-2,1.55E-2,1.14E-2,7.9000000000000008E-3,5.0000000000000001E-3,2.7000000000000001E-3,1.4E-3,1E-3,1.5E-3,2.5999999999999999E-3,4.5999999999999999E-3,7.1000000000000004E-3,1.04E-2,1.4200000000000001E-2,1.8499999999999999E-2,2.2700000000000001E-2,2.63E-2,2.9000000000000001E-2,3.04E-2,3.04E-2,2.93E-2,2.7400000000000001E-2,2.52E-2,2.2499999999999999E-2,1.95E-2,1.61E-2,1.1900000000000001E-2,7.3000000000000001E-3,2.8E-3,-6.9999999999999999E-4,-2.5000000000000001E-3,-2.5000000000000001E-3,-1.1000000000000001E-3,8.9999999999999998E-4,3.0999999999999999E-3,5.1999999999999998E-3,7.6E-3,1.0500000000000001E-2,1.35E-2,1.5900000000000001E-2,1.6799999999999999E-2,1.5800000000000002E-2,1.32E-2,0.01,6.7999999999999996E-3,4.4999999999999997E-3,2.5000000000000001E-3,1E-3,-1E-4,-1.1000000000000001E-3,-1.9E-3,-3.0000000000000001E-3,-4.7999999999999996E-3,-7.1999999999999998E-3,-1.0699999999999999E-2,-1.4999999999999999E-2,-1.9800000000000002E-2,-2.47E-2,-2.8899999999999999E-2,-2.75E-2,-2.47E-2,-2.0899999999999998E-2,-1.6400000000000001E-2,-1.17E-2,-6.8999999999999999E-3,-2.3999999999999998E-3,1.6000000000000001E-3,3.8E-3,5.0000000000000001E-3,5.7999999999999996E-3,6.4999999999999997E-3,7.1999999999999998E-3,7.9000000000000008E-3,8.5000000000000006E-3,8.9999999999999993E-3,9.4000000000000004E-3,9.7000000000000003E-3,9.9000000000000008E-3,0.01]
[29,3.7699999999999997E-2,3.73E-2,3.5900000000000001E-2,3.3000000000000002E-2,2.8799999999999999E-2,2.4E-2,1.9199999999999998E-2,1.4999999999999999E-2,1.11E-2,7.7000000000000002E-3,4.7999999999999996E-3,2.7000000000000001E-3,1.5E-3,1.1999999999999999E-3,1.8E-3,3.3E-3,5.4999999999999997E-3,8.2000000000000007E-3,1.1599999999999999E-2,1.5599999999999999E-2,1.9800000000000002E-2,2.41E-2,2.7799999999999998E-2,3.0599999999999999E-2,3.2099999999999997E-2,3.2099999999999997E-2,3.09E-2,2.8799999999999999E-2,2.6200000000000001E-2,2.3099999999999999E-2,1.9800000000000002E-2,1.6E-2,1.14E-2,6.4999999999999997E-3,1.8E-3,-1.8E-3,-3.5999999999999999E-3,-3.7000000000000002E-3,-2.5000000000000001E-3,-5.0000000000000001E-4,1.6999999999999999E-3,3.8999999999999998E-3,6.3E-3,9.4000000000000004E-3,1.2699999999999999E-2,1.55E-2,1.6799999999999999E-2,1.6E-2,1.38E-2,1.0699999999999999E-2,7.7000000000000002E-3,5.3E-3,3.3E-3,1.6999999999999999E-3,2.9999999999999997E-4,-8.9999999999999998E-4,-2E-3,-3.5000000000000001E-3,-5.5999999999999999E-3,-8.2000000000000007E-3,-1.18E-2,-1.6E-2,-2.0799999999999999E-2,-2.58E-2,-3.0099999999999998E-2,-2.8799999999999999E-2,-2.6100000000000002E-2,-2.24E-2,-1.7899999999999999E-2,-1.2999999999999999E-2,-8.0999999999999996E-3,-3.5000000000000001E-3,5.9999999999999995E-4,3.7000000000000002E-3,5.0000000000000001E-3,5.7999999999999996E-3,6.4999999999999997E-3,7.1999999999999998E-3,7.9000000000000008E-3,8.5000000000000006E-3,8.9999999999999993E-3,9.4000000000000004E-3,9.7000000000000003E-3,9.9000000000000008E-3,0.01]
[30,3.6900000000000002E-2,3.6400000000000002E-2,3.5000000000000003E-2,3.2199999999999999E-2,2.81E-2,2.3400000000000001E-2,1.8700000000000001E-2,1.46E-2,1.0800000000000001E-2,7.4000000000000003E-3,4.7000000000000002E-3,2.5999999999999999E-3,1.4E-3,1.1999999999999999E-3,2E-3,3.7000000000000002E-3,6.1000000000000004E-3,8.9999999999999993E-3,1.26E-2,1.67E-2,2.1000000000000001E-2,2.53E-2,2.9100000000000001E-2,3.2000000000000001E-2,3.3500000000000002E-2,3.3599999999999998E-2,3.2399999999999998E-2,3.0200000000000001E-2,2.7300000000000001E-2,2.3900000000000001E-2,2.0199999999999999E-2,1.6E-2,1.11E-2,5.8999999999999999E-3,1.1000000000000001E-3,-2.5000000000000001E-3,-4.4000000000000003E-3,-4.7000000000000002E-3,-3.7000000000000002E-3,-1.8E-3,2.0000000000000001E-4,2.5000000000000001E-3,4.8999999999999998E-3,8.0999999999999996E-3,1.17E-2,1.4800000000000001E-2,1.6400000000000001E-2,1.6E-2,1.41E-2,1.1299999999999999E-2,8.5000000000000006E-3,6.3E-3,4.3E-3,2.5999999999999999E-3,1.1000000000000001E-3,-2.0000000000000001E-4,-1.6000000000000001E-3,-3.3E-3,-5.7999999999999996E-3,-8.6E-3,-1.24E-2,-1.66E-2,-2.1399999999999999E-2,-2.64E-2,-3.0800000000000001E-2,-2.9700000000000001E-2,-2.7199999999999998E-2,-2.35E-2,-1.9099999999999999E-2,-1.4200000000000001E-2,-9.2999999999999992E-3,-4.5999999999999999E-3,-4.0000000000000002E-4,2.8999999999999998E-3,5.0000000000000001E-3,5.7999999999999996E-3,6.4999999999999997E-3,7.1999999999999998E-3,7.9000000000000008E-3,8.5000000000000006E-3,8.9999999999999993E-3,9.4000000000000004E-3,9.7000000000000003E-3,9.9000000000000008E-3,0.01]
[31,3.61E-2,3.56E-2,3.4099999999999998E-2,3.1399999999999997E-2,2.7400000000000001E-2,2.2800000000000001E-2,1.8200000000000001E-2,1.4200000000000001E-2,1.0500000000000001E-2,7.1999999999999998E-3,4.4999999999999997E-3,2.3999999999999998E-3,1.1999999999999999E-3,1.1000000000000001E-3,2.0999999999999999E-3,3.8999999999999998E-3,6.6E-3,9.5999999999999992E-3,1.3299999999999999E-2,1.7600000000000001E-2,2.1899999999999999E-2,2.63E-2,3.0300000000000001E-2,3.32E-2,3.4799999999999998E-2,3.49E-2,3.3799999999999997E-2,3.15E-2,2.8500000000000001E-2,2.4799999999999999E-2,2.0799999999999999E-2,1.6299999999999999E-2,1.11E-2,5.7000000000000002E-3,8.0000000000000004E-4,-2.8999999999999998E-3,-4.8999999999999998E-3,-5.4000000000000003E-3,-4.7000000000000002E-3,-3.0999999999999999E-3,-1.1999999999999999E-3,1E-3,3.5000000000000001E-3,6.7000000000000002E-3,1.04E-2,1.38E-2,1.5599999999999999E-2,1.55E-2,1.4E-2,1.17E-2,9.1999999999999998E-3,7.1999999999999998E-3,5.3E-3,3.7000000000000002E-3,2.2000000000000001E-3,8.9999999999999998E-4,-6.9999999999999999E-4,-2.7000000000000001E-3,-5.4999999999999997E-3,-8.6E-3,-1.2500000000000001E-2,-1.67E-2,-2.1499999999999998E-2,-2.6599999999999999E-2,-3.1E-2,-3.0200000000000001E-2,-2.7900000000000001E-2,-2.4400000000000002E-2,-0.02,-1.52E-2,-1.03E-2,-5.4999999999999997E-3,-1.2999999999999999E-3,2.0999999999999999E-3,4.3E-3,5.7999999999999996E-3,6.4999999999999997E-3,7.1999999999999998E-3,7.9000000000000008E-3,8.5000000000000006E-3,8.9999999999999993E-3,9.4000000000000004E-3,9.7000000000000003E-3,9.9000000000000008E-3,0.01]
[32,3.5200000000000002E-2,3.4700000000000002E-2,3.3300000000000003E-2,3.0599999999999999E-2,2.6800000000000001E-2,2.23E-2,1.78E-2,1.3899999999999999E-2,1.0200000000000001E-2,7.0000000000000001E-3,4.1999999999999997E-3,2.2000000000000001E-3,1E-3,8.9999999999999998E-4,2E-3,4.0000000000000001E-3,6.7000000000000002E-3,0.01,1.38E-2,1.8200000000000001E-2,2.2700000000000001E-2,2.7099999999999999E-2,3.1199999999999999E-2,3.4200000000000001E-2,3.5900000000000001E-2,3.61E-2,3.49E-2,3.2599999999999997E-2,2.9499999999999998E-2,2.5700000000000001E-2,2.1600000000000001E-2,1.6799999999999999E-2,1.15E-2,5.8999999999999999E-3,8.9999999999999998E-4,-2.8999999999999998E-3,-5.1000000000000004E-3,-5.7999999999999996E-3,-5.4999999999999997E-3,-4.1000000000000003E-3,-2.5000000000000001E-3,-4.0000000000000002E-4,2E-3,5.1999999999999998E-3,8.9999999999999993E-3,1.2500000000000001E-2,1.46E-2,1.47E-2,1.3599999999999999E-2,1.1599999999999999E-2,9.5999999999999992E-3,7.9000000000000008E-3,6.4000000000000003E-3,5.0000000000000001E-3,3.5000000000000001E-3,2.2000000000000001E-3,5.0000000000000001E-4,-1.6999999999999999E-3,-4.7000000000000002E-3,-8.0000000000000002E-3,-1.21E-2,-1.6400000000000001E-2,-2.1299999999999999E-2,-2.63E-2,-3.0599999999999999E-2,-3.0099999999999998E-2,-2.8000000000000001E-2,-2.4799999999999999E-2,-2.06E-2,-1.5900000000000001E-2,-1.0999999999999999E-2,-6.3E-3,-2.0999999999999999E-3,1.2999999999999999E-3,3.5999999999999999E-3,5.1999999999999998E-3,6.4999999999999997E-3,7.1999999999999998E-3,7.9000000000000008E-3,8.5000000000000006E-3,8.9999999999999993E-3,9.4000000000000004E-3,9.7000000000000003E-3,9.9000000000000008E-3,0.01]
[33,3.4299999999999997E-2,3.3799999999999997E-2,3.2500000000000001E-2,2.9899999999999999E-2,2.6200000000000001E-2,2.18E-2,1.7500000000000002E-2,1.3599999999999999E-2,0.01,6.7000000000000002E-3,3.8999999999999998E-3,1.9E-3,8.0000000000000004E-4,6.9999999999999999E-4,1.9E-3,3.8999999999999998E-3,6.7000000000000002E-3,1.01E-2,1.41E-2,1.8599999999999998E-2,2.3199999999999998E-2,2.7699999999999999E-2,3.1800000000000002E-2,3.5000000000000003E-2,3.6700000000000003E-2,3.6999999999999998E-2,3.5900000000000001E-2,3.3599999999999998E-2,3.0499999999999999E-2,2.6700000000000002E-2,2.2499999999999999E-2,1.7600000000000001E-2,1.21E-2,6.4999999999999997E-3,1.5E-3,-2.3999999999999998E-3,-4.7999999999999996E-3,-5.7999999999999996E-3,-5.7999999999999996E-3,-4.8999999999999998E-3,-3.5999999999999999E-3,-1.8E-3,5.0000000000000001E-4,3.7000000000000002E-3,7.4999999999999997E-3,1.11E-2,1.32E-2,1.35E-2,1.2699999999999999E-2,1.12E-2,9.7000000000000003E-3,8.3999999999999995E-3,7.4000000000000003E-3,6.1999999999999998E-3,5.0000000000000001E-3,3.7000000000000002E-3,2E-3,-4.0000000000000002E-4,-3.5000000000000001E-3,-7.1000000000000004E-3,-1.12E-2,-1.5599999999999999E-2,-2.06E-2,-2.5499999999999998E-2,-2.9700000000000001E-2,-2.9499999999999998E-2,-2.7699999999999999E-2,-2.47E-2,-2.0799999999999999E-2,-1.6299999999999999E-2,-1.1599999999999999E-2,-7.0000000000000001E-3,-2.8E-3,5.9999999999999995E-4,2.8999999999999998E-3,4.5999999999999999E-3,6.0000000000000001E-3,7.1999999999999998E-3,7.9000000000000008E-3,8.5000000000000006E-3,8.9999999999999993E-3,9.4000000000000004E-3,9.7000000000000003E-3,9.9000000000000008E-3,0.01]
[34,3.3399999999999999E-2,3.2899999999999999E-2,3.1699999999999999E-2,2.92E-2,2.5700000000000001E-2,2.1499999999999998E-2,1.7299999999999999E-2,1.34E-2,9.7999999999999997E-3,6.4000000000000003E-3,3.5999999999999999E-3,1.6000000000000001E-3,5.0000000000000001E-4,5.9999999999999995E-4,1.6999999999999999E-3,3.7000000000000002E-3,6.4999999999999997E-3,0.01,1.41E-2,1.8700000000000001E-2,2.3400000000000001E-2,2.8000000000000001E-2,3.2199999999999999E-2,3.5400000000000001E-2,3.73E-2,3.7600000000000001E-2,3.6600000000000001E-2,3.44E-2,3.1300000000000001E-2,2.76E-2,2.3400000000000001E-2,1.8599999999999998E-2,1.3100000000000001E-2,7.4999999999999997E-3,2.5000000000000001E-3,-1.5E-3,-4.1999999999999997E-3,-5.4999999999999997E-3,-5.7999999999999996E-3,-5.4000000000000003E-3,-4.4999999999999997E-3,-3.0000000000000001E-3,-8.9999999999999998E-4,2.2000000000000001E-3,5.8999999999999999E-3,9.4000000000000004E-3,1.1599999999999999E-2,1.21E-2,1.1599999999999999E-2,1.0500000000000001E-2,9.4000000000000004E-3,8.6999999999999994E-3,8.0999999999999996E-3,7.4000000000000003E-3,6.4000000000000003E-3,5.3E-3,3.5999999999999999E-3,1.1999999999999999E-3,-2E-3,-5.7000000000000002E-3,-0.01,-1.4500000000000001E-2,-1.9400000000000001E-2,-2.4199999999999999E-2,-2.8199999999999999E-2,-2.8299999999999999E-2,-2.69E-2,-2.4199999999999999E-2,-2.07E-2,-1.6500000000000001E-2,-1.2E-2,-7.4999999999999997E-3,-3.5000000000000001E-3,-1E-4,2.3E-3,4.0000000000000001E-3,5.4999999999999997E-3,6.7999999999999996E-3,7.9000000000000008E-3,8.5000000000000006E-3,8.9999999999999993E-3,9.4000000000000004E-3,9.7000000000000003E-3,9.9000000000000008E-3,0.01]
[35,3.2500000000000001E-2,3.2099999999999997E-2,3.09E-2,2.86E-2,2.52E-2,2.12E-2,1.7100000000000001E-2,1.3299999999999999E-2,9.5999999999999992E-3,6.1999999999999998E-3,3.3999999999999998E-3,1.2999999999999999E-3,2.9999999999999997E-4,4.0000000000000002E-4,1.5E-3,3.5000000000000001E-3,6.1999999999999998E-3,9.7000000000000003E-3,1.3899999999999999E-2,1.8599999999999998E-2,2.35E-2,2.81E-2,3.2300000000000002E-2,3.56E-2,3.7499999999999999E-2,3.7900000000000003E-2,3.6999999999999998E-2,3.5000000000000003E-2,3.2000000000000001E-2,2.8500000000000001E-2,2.4400000000000002E-2,1.9699999999999999E-2,1.43E-2,8.8000000000000005E-3,3.8999999999999998E-3,-2.0000000000000001E-4,-3.2000000000000002E-3,-4.7999999999999996E-3,-5.4999999999999997E-3,-5.5999999999999999E-3,-5.1000000000000004E-3,-4.0000000000000001E-3,-2.0999999999999999E-3,8.0000000000000004E-4,4.3E-3,7.7000000000000002E-3,9.7999999999999997E-3,1.03E-2,1.01E-2,9.4000000000000004E-3,8.6999999999999994E-3,8.6E-3,8.6E-3,8.3999999999999995E-3,7.7000000000000002E-3,6.7999999999999996E-3,5.3E-3,3.0000000000000001E-3,-2.9999999999999997E-4,-4.1000000000000003E-3,-8.3000000000000001E-3,-1.2999999999999999E-2,-1.7899999999999999E-2,-2.2499999999999999E-2,-2.6200000000000001E-2,-2.6599999999999999E-2,-2.5499999999999998E-2,-2.3300000000000001E-2,-2.01E-2,-1.6299999999999999E-2,-1.21E-2,-7.9000000000000008E-3,-4.0000000000000001E-3,-6.9999999999999999E-4,1.6999999999999999E-3,3.3999999999999998E-3,5.0000000000000001E-3,6.4000000000000003E-3,7.4999999999999997E-3,8.5000000000000006E-3,8.9999999999999993E-3,9.4000000000000004E-3,9.7000000000000003E-3,9.9000000000000008E-3,0.01]
[36,3.1600000000000003E-2,3.1199999999999999E-2,3.0200000000000001E-2,2.8000000000000001E-2,2.4799999999999999E-2,2.1000000000000001E-2,1.6899999999999998E-2,1.32E-2,9.4999999999999998E-3,6.0000000000000001E-3,3.2000000000000002E-3,1.1000000000000001E-3,1E-4,2.0000000000000001E-4,1.2999999999999999E-3,3.2000000000000002E-3,5.7999999999999996E-3,9.2999999999999992E-3,1.3599999999999999E-2,1.83E-2,2.3300000000000001E-2,2.8000000000000001E-2,3.2199999999999999E-2,3.5499999999999997E-2,3.7499999999999999E-2,3.7999999999999999E-2,3.7199999999999997E-2,3.5400000000000001E-2,3.2599999999999997E-2,2.92E-2,2.53E-2,2.0799999999999999E-2,1.5599999999999999E-2,1.03E-2,5.4000000000000003E-3,1.2999999999999999E-3,-1.9E-3,-3.7000000000000002E-3,-4.7000000000000002E-3,-5.3E-3,-5.3E-3,-4.5999999999999999E-3,-3.0999999999999999E-3,-5.0000000000000001E-4,2.8E-3,5.8999999999999999E-3,7.9000000000000008E-3,8.5000000000000006E-3,8.3999999999999995E-3,8.0000000000000002E-3,7.7999999999999996E-3,8.2000000000000007E-3,8.6999999999999994E-3,9.1000000000000004E-3,8.8000000000000005E-3,8.0999999999999996E-3,6.8999999999999999E-3,4.7000000000000002E-3,1.6000000000000001E-3,-2.2000000000000001E-3,-6.4999999999999997E-3,-1.12E-2,-1.6E-2,-2.0400000000000001E-2,-2.3900000000000001E-2,-2.4500000000000001E-2,-2.3699999999999999E-2,-2.1899999999999999E-2,-1.9199999999999998E-2,-1.5800000000000002E-2,-1.2E-2,-8.0999999999999996E-3,-4.4000000000000003E-3,-1.1999999999999999E-3,1.1000000000000001E-3,2.8999999999999998E-3,4.5999999999999999E-3,6.0000000000000001E-3,7.1999999999999998E-3,8.2000000000000007E-3,8.9999999999999993E-3,9.4000000000000004E-3,9.7000000000000003E-3,9.9000000000000008E-3,0.01]
[37,3.0700000000000002E-2,3.04E-2,2.9399999999999999E-2,2.7400000000000001E-2,2.4400000000000002E-2,2.0799999999999999E-2,1.6799999999999999E-2,1.3100000000000001E-2,9.4000000000000004E-3,5.8999999999999999E-3,3.0000000000000001E-3,8.9999999999999998E-4,0,1E-4,1.1000000000000001E-3,2.8999999999999998E-3,5.4000000000000003E-3,8.8000000000000005E-3,1.3100000000000001E-2,1.7899999999999999E-2,2.29E-2,2.76E-2,3.1800000000000002E-2,3.5200000000000002E-2,3.7199999999999997E-2,3.78E-2,3.7199999999999997E-2,3.56E-2,3.3000000000000002E-2,2.9899999999999999E-2,2.6100000000000002E-2,2.18E-2,1.6899999999999998E-2,1.18E-2,7.1999999999999998E-3,3.0999999999999999E-3,-2.0000000000000001E-4,-2.3E-3,-3.7000000000000002E-3,-4.7000000000000002E-3,-5.1999999999999998E-3,-4.8999999999999998E-3,-3.7000000000000002E-3,-1.6000000000000001E-3,1.4E-3,4.1999999999999997E-3,6.0000000000000001E-3,6.4999999999999997E-3,6.4999999999999997E-3,6.4000000000000003E-3,6.6E-3,7.4000000000000003E-3,8.5000000000000006E-3,9.4000000000000004E-3,9.4999999999999998E-3,9.2999999999999992E-3,8.3000000000000001E-3,6.4000000000000003E-3,3.5000000000000001E-3,-2.0000000000000001E-4,-4.4000000000000003E-3,-9.1000000000000004E-3,-1.38E-2,-1.7999999999999999E-2,-2.12E-2,-2.1999999999999999E-2,-2.1600000000000001E-2,-2.0199999999999999E-2,-1.7899999999999999E-2,-1.49E-2,-1.1599999999999999E-2,-8.0000000000000002E-3,-4.5999999999999999E-3,-1.6000000000000001E-3,6.9999999999999999E-4,2.5000000000000001E-3,4.1000000000000003E-3,5.7000000000000002E-3,6.8999999999999999E-3,8.0000000000000002E-3,8.8000000000000005E-3,9.4000000000000004E-3,9.7000000000000003E-3,9.9000000000000008E-3,0.01]
[38,2.9899999999999999E-2,2.9600000000000001E-2,2.87E-2,2.6800000000000001E-2,2.4E-2,2.0500000000000001E-2,1.67E-2,1.2999999999999999E-2,9.2999999999999992E-3,5.7999999999999996E-3,3.0000000000000001E-3,8.9999999999999998E-4,-1E-4,-1E-4,8.0000000000000004E-4,2.5000000000000001E-3,5.0000000000000001E-3,8.3999999999999995E-3,1.26E-2,1.7399999999999999E-2,2.23E-2,2.7E-2,3.1199999999999999E-2,3.4599999999999999E-2,3.6700000000000003E-2,3.7499999999999999E-2,3.6999999999999998E-2,3.56E-2,3.3300000000000003E-2,3.04E-2,2.6800000000000001E-2,2.2800000000000001E-2,1.8100000000000002E-2,1.34E-2,8.8999999999999999E-3,5.0000000000000001E-3,1.6999999999999999E-3,-6.9999999999999999E-4,-2.3E-3,-3.7000000000000002E-3,-4.5999999999999999E-3,-4.7999999999999996E-3,-4.0000000000000001E-3,-2.3E-3,1E-4,2.5999999999999999E-3,4.1999999999999997E-3,4.7000000000000002E-3,4.7000000000000002E-3,4.7000000000000002E-3,5.1999999999999998E-3,6.4000000000000003E-3,7.9000000000000008E-3,9.1999999999999998E-3,9.9000000000000008E-3,0.01,9.4999999999999998E-3,7.9000000000000008E-3,5.3E-3,1.9E-3,-2.3E-3,-6.7999999999999996E-3,-1.14E-2,-1.54E-2,-1.83E-2,-1.9199999999999998E-2,-1.9099999999999999E-2,-1.8100000000000002E-2,-1.6299999999999999E-2,-1.38E-2,-1.09E-2,-7.7999999999999996E-3,-4.7000000000000002E-3,-1.9E-3,2.9999999999999997E-4,2.0999999999999999E-3,3.8E-3,5.3E-3,6.7000000000000002E-3,7.7999999999999996E-3,8.6999999999999994E-3,9.2999999999999992E-3,9.7000000000000003E-3,9.9000000000000008E-3,0.01]
[39,2.9100000000000001E-2,2.8899999999999999E-2,2.8000000000000001E-2,2.63E-2,2.3599999999999999E-2,2.0299999999999999E-2,1.66E-2,1.2999999999999999E-2,9.2999999999999992E-3,5.7999999999999996E-3,3.0000000000000001E-3,8.9999999999999998E-4,-2.0000000000000001E-4,-2.0000000000000001E-4,5.9999999999999995E-4,2.2000000000000001E-3,4.5999999999999999E-3,7.9000000000000008E-3,1.21E-2,1.6799999999999999E-2,2.1600000000000001E-2,2.63E-2,3.0499999999999999E-2,3.3799999999999997E-2,3.5999999999999997E-2,3.6900000000000002E-2,3.6600000000000001E-2,3.5400000000000001E-2,3.3399999999999999E-2,3.0700000000000002E-2,2.7400000000000001E-2,2.3599999999999999E-2,1.9199999999999998E-2,1.4800000000000001E-2,1.0699999999999999E-2,6.8999999999999999E-3,3.7000000000000002E-3,1.1999999999999999E-3,-6.9999999999999999E-4,-2.3E-3,-3.5999999999999999E-3,-4.3E-3,-4.0000000000000001E-3,-2.7000000000000001E-3,-8.0000000000000004E-4,1.2999999999999999E-3,2.5999999999999999E-3,2.8999999999999998E-3,2.8999999999999998E-3,3.0000000000000001E-3,3.5999999999999999E-3,5.1000000000000004E-3,7.0000000000000001E-3,8.8000000000000005E-3,9.9000000000000008E-3,1.0500000000000001E-2,1.03E-2,9.1000000000000004E-3,6.8999999999999999E-3,3.8E-3,-1E-4,-4.4999999999999997E-3,-8.8000000000000005E-3,-1.26E-2,-1.5299999999999999E-2,-1.6299999999999999E-2,-1.6500000000000001E-2,-1.5800000000000002E-2,-1.44E-2,-1.24E-2,-0.01,-7.3000000000000001E-3,-4.5999999999999999E-3,-2.0999999999999999E-3,0,1.6999999999999999E-3,3.3999999999999998E-3,5.0000000000000001E-3,6.4000000000000003E-3,7.6E-3,8.5000000000000006E-3,9.1999999999999998E-3,9.7000000000000003E-3,9.9000000000000008E-3,0.01]
[40,2.8400000000000002E-2,2.81E-2,2.7300000000000001E-2,2.5700000000000001E-2,2.3199999999999998E-2,0.02,1.6500000000000001E-2,1.29E-2,9.2999999999999992E-3,5.8999999999999999E-3,3.0999999999999999E-3,1E-3,-1E-4,-2.9999999999999997E-4,4.0000000000000002E-4,2E-3,4.3E-3,7.4000000000000003E-3,1.15E-2,1.61E-2,2.0899999999999998E-2,2.5499999999999998E-2,2.9600000000000001E-2,3.2899999999999999E-2,3.5200000000000002E-2,3.6200000000000003E-2,3.61E-2,3.5099999999999999E-2,3.3300000000000003E-2,3.0800000000000001E-2,2.7799999999999998E-2,2.4199999999999999E-2,2.0199999999999999E-2,1.61E-2,1.23E-2,8.6999999999999994E-3,5.7000000000000002E-3,3.0999999999999999E-3,1E-3,-8.0000000000000004E-4,-2.3999999999999998E-3,-3.5000000000000001E-3,-3.5999999999999999E-3,-2.8E-3,-1.4E-3,2.0000000000000001E-4,1.1999999999999999E-3,1.4E-3,1.2999999999999999E-3,1.4E-3,2.0999999999999999E-3,3.7000000000000002E-3,5.7999999999999996E-3,8.0000000000000002E-3,9.4999999999999998E-3,1.0500000000000001E-2,1.0800000000000001E-2,0.01,8.2000000000000007E-3,5.4999999999999997E-3,1.9E-3,-2.2000000000000001E-3,-6.1999999999999998E-3,-9.7000000000000003E-3,-1.2200000000000001E-2,-1.3299999999999999E-2,-1.37E-2,-1.34E-2,-1.24E-2,-1.0800000000000001E-2,-8.8999999999999999E-3,-6.7000000000000002E-3,-4.3E-3,-2.0999999999999999E-3,-2.0000000000000001E-4,1.5E-3,3.2000000000000002E-3,4.7000000000000002E-3,6.1999999999999998E-3,7.4000000000000003E-3,8.3999999999999995E-3,9.1000000000000004E-3,9.5999999999999992E-3,9.9000000000000008E-3,0.01]
[41,2.7699999999999999E-2,2.75E-2,2.6700000000000002E-2,2.5100000000000001E-2,2.2700000000000001E-2,1.9699999999999999E-2,1.6299999999999999E-2,1.2800000000000001E-2,9.2999999999999992E-3,6.0000000000000001E-3,3.3E-3,1.1999999999999999E-3,-1E-4,-2.9999999999999997E-4,2.9999999999999997E-4,1.6999999999999999E-3,4.0000000000000001E-3,7.0000000000000001E-3,1.0999999999999999E-2,1.55E-2,2.01E-2,2.46E-2,2.86E-2,3.1899999999999998E-2,3.4200000000000001E-2,3.5299999999999998E-2,3.5299999999999998E-2,3.4599999999999999E-2,3.3000000000000002E-2,3.0700000000000002E-2,2.8000000000000001E-2,2.46E-2,2.1000000000000001E-2,1.72E-2,1.37E-2,1.04E-2,7.6E-3,4.8999999999999998E-3,2.7000000000000001E-3,8.0000000000000004E-4,-1E-3,-2.3E-3,-2.8E-3,-2.3999999999999998E-3,-1.5E-3,-4.0000000000000002E-4,2.9999999999999997E-4,2.0000000000000001E-4,-1E-4,-1E-4,5.9999999999999995E-4,2.3E-3,4.5999999999999999E-3,6.8999999999999999E-3,8.8000000000000005E-3,1.0200000000000001E-2,1.09E-2,1.0500000000000001E-2,9.1999999999999998E-3,7.0000000000000001E-3,3.5999999999999999E-3,0,-3.7000000000000002E-3,-7.0000000000000001E-3,-9.1999999999999998E-3,-1.04E-2,-1.09E-2,-1.0800000000000001E-2,-1.0200000000000001E-2,-9.1000000000000004E-3,-7.6E-3,-5.7999999999999996E-3,-3.8999999999999998E-3,-2E-3,-2.9999999999999997E-4,1.2999999999999999E-3,2.8999999999999998E-3,4.4999999999999997E-3,6.0000000000000001E-3,7.1999999999999998E-3,8.3000000000000001E-3,9.1000000000000004E-3,9.5999999999999992E-3,9.9000000000000008E-3,0.01]
[42,2.7099999999999999E-2,2.69E-2,2.6100000000000002E-2,2.46E-2,2.23E-2,1.9400000000000001E-2,1.61E-2,1.2800000000000001E-2,9.2999999999999992E-3,6.1000000000000004E-3,3.5000000000000001E-3,1.2999999999999999E-3,1E-4,-2.9999999999999997E-4,2.0000000000000001E-4,1.6000000000000001E-3,3.8E-3,6.7000000000000002E-3,1.0500000000000001E-2,1.4800000000000001E-2,1.9199999999999998E-2,2.3599999999999999E-2,2.76E-2,3.0800000000000001E-2,3.3099999999999997E-2,3.4299999999999997E-2,3.4500000000000003E-2,3.39E-2,3.2500000000000001E-2,3.04E-2,2.7900000000000001E-2,2.4899999999999999E-2,2.1499999999999998E-2,1.8100000000000002E-2,1.49E-2,1.1900000000000001E-2,9.1999999999999998E-3,6.6E-3,4.4000000000000003E-3,2.5000000000000001E-3,5.9999999999999995E-4,-1E-3,-1.6999999999999999E-3,-1.6999999999999999E-3,-1.1999999999999999E-3,-5.0000000000000001E-4,-2.9999999999999997E-4,-5.9999999999999995E-4,-1.1000000000000001E-3,-1.2999999999999999E-3,-6.9999999999999999E-4,8.9999999999999998E-4,3.2000000000000002E-3,5.7000000000000002E-3,7.9000000000000008E-3,9.5999999999999992E-3,1.06E-2,1.06E-2,9.7999999999999997E-3,8.0000000000000002E-3,5.1000000000000004E-3,1.9E-3,-1.4E-3,-4.4000000000000003E-3,-6.4000000000000003E-3,-7.4999999999999997E-3,-8.2000000000000007E-3,-8.3000000000000001E-3,-8.0000000000000002E-3,-7.3000000000000001E-3,-6.1999999999999998E-3,-4.7999999999999996E-3,-3.2000000000000002E-3,-1.6000000000000001E-3,-2.0000000000000001E-4,1.2999999999999999E-3,2.8E-3,4.4000000000000003E-3,5.7999999999999996E-3,7.1000000000000004E-3,8.2000000000000007E-3,8.9999999999999993E-3,9.5999999999999992E-3,9.9000000000000008E-3,0.01]
[43,2.6499999999999999E-2,2.63E-2,2.5499999999999998E-2,2.4E-2,2.18E-2,1.9E-2,1.5900000000000001E-2,1.2699999999999999E-2,9.4000000000000004E-3,6.1999999999999998E-3,3.7000000000000002E-3,1.5E-3,2.0000000000000001E-4,-2.0000000000000001E-4,2.0000000000000001E-4,1.5E-3,3.5999999999999999E-3,6.4000000000000003E-3,1.01E-2,1.4200000000000001E-2,1.8499999999999999E-2,2.2700000000000001E-2,2.6499999999999999E-2,2.9700000000000001E-2,3.2000000000000001E-2,3.3300000000000003E-2,3.3500000000000002E-2,3.3000000000000002E-2,3.1800000000000002E-2,2.9899999999999999E-2,2.76E-2,2.4899999999999999E-2,2.1899999999999999E-2,1.8800000000000001E-2,1.5900000000000001E-2,1.3100000000000001E-2,1.0699999999999999E-2,8.2000000000000007E-3,6.1000000000000004E-3,4.1000000000000003E-3,2.2000000000000001E-3,5.9999999999999995E-4,-4.0000000000000002E-4,-5.9999999999999995E-4,-5.0000000000000001E-4,-2.0000000000000001E-4,-4.0000000000000002E-4,-1E-3,-1.8E-3,-2.2000000000000001E-3,-1.8E-3,-2.9999999999999997E-4,1.9E-3,4.4000000000000003E-3,6.7000000000000002E-3,8.6999999999999994E-3,0.01,1.04E-2,9.9000000000000008E-3,8.6E-3,6.3E-3,3.5000000000000001E-3,5.9999999999999995E-4,-2E-3,-3.8999999999999998E-3,-4.8999999999999998E-3,-5.5999999999999999E-3,-5.8999999999999999E-3,-5.7999999999999996E-3,-5.4000000000000003E-3,-4.7000000000000002E-3,-3.7000000000000002E-3,-2.5000000000000001E-3,-1.1999999999999999E-3,1E-4,1.4E-3,2.8E-3,4.1999999999999997E-3,5.7000000000000002E-3,7.0000000000000001E-3,8.0999999999999996E-3,8.8999999999999999E-3,9.4999999999999998E-3,9.9000000000000008E-3,0.01]
[44,2.5999999999999999E-2,2.5700000000000001E-2,2.4899999999999999E-2,2.35E-2,2.1299999999999999E-2,1.8599999999999998E-2,1.5699999999999999E-2,1.26E-2,9.4000000000000004E-3,6.4000000000000003E-3,3.8999999999999998E-3,1.8E-3,4.0000000000000002E-4,-1E-4,2.9999999999999997E-4,1.5E-3,3.5000000000000001E-3,6.1999999999999998E-3,9.7000000000000003E-3,1.37E-2,1.77E-2,2.18E-2,2.5499999999999998E-2,2.86E-2,3.09E-2,3.2099999999999997E-2,3.2399999999999998E-2,3.2000000000000001E-2,3.09E-2,2.9100000000000001E-2,2.7099999999999999E-2,2.47E-2,2.1999999999999999E-2,1.9199999999999998E-2,1.66E-2,1.41E-2,1.18E-2,9.5999999999999992E-3,7.4999999999999997E-3,5.5999999999999999E-3,3.8E-3,2.3E-3,1.1000000000000001E-3,6.9999999999999999E-4,5.0000000000000001E-4,4.0000000000000002E-4,-1E-4,-1E-3,-2E-3,-2.7000000000000001E-3,-2.5000000000000001E-3,-1.2999999999999999E-3,8.0000000000000004E-4,3.2000000000000002E-3,5.5999999999999999E-3,7.6E-3,9.1000000000000004E-3,9.7999999999999997E-3,9.7000000000000003E-3,8.8999999999999999E-3,7.0000000000000001E-3,4.7000000000000002E-3,2.2000000000000001E-3,0,-1.6999999999999999E-3,-2.5000000000000001E-3,-3.2000000000000002E-3,-3.5999999999999999E-3,-3.7000000000000002E-3,-3.5999999999999999E-3,-3.0999999999999999E-3,-2.5000000000000001E-3,-1.6000000000000001E-3,-5.9999999999999995E-4,4.0000000000000002E-4,1.6000000000000001E-3,2.8E-3,4.1999999999999997E-3,5.5999999999999999E-3,6.8999999999999999E-3,8.0000000000000002E-3,8.8999999999999999E-3,9.4999999999999998E-3,9.9000000000000008E-3,0.01]
[45,2.5399999999999999E-2,2.5100000000000001E-2,2.4400000000000002E-2,2.3E-2,2.0899999999999998E-2,1.83E-2,1.54E-2,1.2500000000000001E-2,9.4999999999999998E-3,6.6E-3,4.1000000000000003E-3,2E-3,6.9999999999999999E-4,2.0000000000000001E-4,4.0000000000000002E-4,1.5E-3,3.5000000000000001E-3,6.1000000000000004E-3,9.4999999999999998E-3,1.32E-2,1.7100000000000001E-2,2.0899999999999998E-2,2.4500000000000001E-2,2.75E-2,2.9700000000000001E-2,3.09E-2,3.1199999999999999E-2,3.0800000000000001E-2,2.98E-2,2.8199999999999999E-2,2.64E-2,2.4299999999999999E-2,2.1899999999999999E-2,1.9400000000000001E-2,1.7000000000000001E-2,1.4800000000000001E-2,1.2699999999999999E-2,1.0699999999999999E-2,8.8000000000000005E-3,7.0000000000000001E-3,5.3E-3,3.8999999999999998E-3,2.7000000000000001E-3,2.0999999999999999E-3,1.8E-3,1.4E-3,5.9999999999999995E-4,-5.9999999999999995E-4,-1.9E-3,-2.8E-3,-2.8999999999999998E-3,-1.9E-3,-1E-4,2.0999999999999999E-3,4.4000000000000003E-3,6.4999999999999997E-3,8.0999999999999996E-3,8.8999999999999999E-3,9.1999999999999998E-3,8.6999999999999994E-3,7.3000000000000001E-3,5.4999999999999997E-3,3.3999999999999998E-3,1.5E-3,1E-4,-5.9999999999999995E-4,-1.1999999999999999E-3,-1.6000000000000001E-3,-1.8E-3,-1.8E-3,-1.6000000000000001E-3,-1.1999999999999999E-3,-5.9999999999999995E-4,1E-4,8.9999999999999998E-4,1.9E-3,3.0000000000000001E-3,4.3E-3,5.5999999999999999E-3,6.7999999999999996E-3,7.9000000000000008E-3,8.8000000000000005E-3,9.4999999999999998E-3,9.9000000000000008E-3,0.01]
[46,2.4899999999999999E-2,2.46E-2,2.3900000000000001E-2,2.2599999999999999E-2,2.0500000000000001E-2,1.7999999999999999E-2,1.5299999999999999E-2,1.2500000000000001E-2,9.5999999999999992E-3,6.7999999999999996E-3,4.3E-3,2.3E-3,1E-3,4.0000000000000002E-4,5.9999999999999995E-4,1.6999999999999999E-3,3.5999999999999999E-3,6.1000000000000004E-3,9.2999999999999992E-3,1.2800000000000001E-2,1.6500000000000001E-2,2.01E-2,2.35E-2,2.64E-2,2.8500000000000001E-2,2.9600000000000001E-2,2.9899999999999999E-2,2.9600000000000001E-2,2.87E-2,2.7199999999999998E-2,2.5499999999999998E-2,2.3699999999999999E-2,2.1600000000000001E-2,1.9300000000000001E-2,1.72E-2,1.52E-2,1.3299999999999999E-2,1.1599999999999999E-2,9.9000000000000008E-3,8.3000000000000001E-3,6.7999999999999996E-3,5.4999999999999997E-3,4.3E-3,3.5999999999999999E-3,3.2000000000000002E-3,2.5999999999999999E-3,1.6000000000000001E-3,2.0000000000000001E-4,-1.2999999999999999E-3,-2.3999999999999998E-3,-2.8E-3,-2.0999999999999999E-3,-5.9999999999999995E-4,1.2999999999999999E-3,3.3999999999999998E-3,5.4000000000000003E-3,6.8999999999999999E-3,7.9000000000000008E-3,8.3999999999999995E-3,8.2000000000000007E-3,7.1999999999999998E-3,5.7999999999999996E-3,4.1999999999999997E-3,2.5999999999999999E-3,1.5E-3,1E-3,5.0000000000000001E-4,1E-4,-1E-4,-2.0000000000000001E-4,-2.0000000000000001E-4,0,4.0000000000000002E-4,8.9999999999999998E-4,1.5E-3,2.3E-3,3.3E-3,4.4000000000000003E-3,5.5999999999999999E-3,6.7999999999999996E-3,7.9000000000000008E-3,8.8000000000000005E-3,9.4999999999999998E-3,9.9000000000000008E-3,0.01]
[47,2.4199999999999999E-2,2.4E-2,2.3300000000000001E-2,2.2100000000000002E-2,2.0199999999999999E-2,1.78E-2,1.5100000000000001E-2,1.2500000000000001E-2,9.7000000000000003E-3,7.0000000000000001E-3,4.5999999999999999E-3,2.5999999999999999E-3,1.2999999999999999E-3,8.0000000000000004E-4,8.9999999999999998E-4,2E-3,3.7000000000000002E-3,6.1000000000000004E-3,9.1000000000000004E-3,1.24E-2,1.5900000000000001E-2,1.9300000000000001E-2,2.2599999999999999E-2,2.53E-2,2.7199999999999998E-2,2.8199999999999999E-2,2.86E-2,2.8199999999999999E-2,2.7400000000000001E-2,2.5999999999999999E-2,2.4500000000000001E-2,2.29E-2,2.1000000000000001E-2,1.9E-2,1.7100000000000001E-2,1.54E-2,1.38E-2,1.23E-2,1.09E-2,9.4000000000000004E-3,8.0999999999999996E-3,7.0000000000000001E-3,5.7999999999999996E-3,5.1000000000000004E-3,4.5999999999999999E-3,3.8999999999999998E-3,2.8E-3,1.2999999999999999E-3,-2.9999999999999997E-4,-1.6000000000000001E-3,-2.3E-3,-1.9E-3,-8.0000000000000004E-4,8.0000000000000004E-4,2.5999999999999999E-3,4.4000000000000003E-3,5.7999999999999996E-3,6.7999999999999996E-3,7.4000000000000003E-3,7.4999999999999997E-3,6.7999999999999996E-3,5.7000000000000002E-3,4.4999999999999997E-3,3.2000000000000002E-3,2.3E-3,2E-3,1.8E-3,1.5E-3,1.2999999999999999E-3,1.1999999999999999E-3,1.1000000000000001E-3,1.1999999999999999E-3,1.4E-3,1.8E-3,2.2000000000000001E-3,2.8E-3,3.5999999999999999E-3,4.5999999999999999E-3,5.7000000000000002E-3,6.7999999999999996E-3,7.9000000000000008E-3,8.8000000000000005E-3,9.4000000000000004E-3,9.9000000000000008E-3,0.01]
[48,2.3599999999999999E-2,2.3400000000000001E-2,2.2800000000000001E-2,2.1700000000000001E-2,0.02,1.7600000000000001E-2,1.5100000000000001E-2,1.2500000000000001E-2,9.9000000000000008E-3,7.3000000000000001E-3,5.0000000000000001E-3,3.0000000000000001E-3,1.6999999999999999E-3,1.1999999999999999E-3,1.2999999999999999E-3,2.3E-3,3.8999999999999998E-3,6.1999999999999998E-3,8.9999999999999993E-3,1.21E-2,1.54E-2,1.8700000000000001E-2,2.1700000000000001E-2,2.4199999999999999E-2,2.5999999999999999E-2,2.69E-2,2.7199999999999998E-2,2.6800000000000001E-2,2.6100000000000002E-2,2.4799999999999999E-2,2.35E-2,2.1899999999999999E-2,2.0199999999999999E-2,1.8499999999999999E-2,1.6799999999999999E-2,1.5299999999999999E-2,1.4E-2,1.2800000000000001E-2,1.1599999999999999E-2,1.04E-2,9.2999999999999992E-3,8.2000000000000007E-3,7.1999999999999998E-3,6.4999999999999997E-3,6.0000000000000001E-3,5.3E-3,4.1999999999999997E-3,2.5999999999999999E-3,8.9999999999999998E-4,-5.0000000000000001E-4,-1.2999999999999999E-3,-1.2999999999999999E-3,-5.0000000000000001E-4,6.9999999999999999E-4,2.0999999999999999E-3,3.5999999999999999E-3,4.8999999999999998E-3,5.7999999999999996E-3,6.3E-3,6.4999999999999997E-3,6.1000000000000004E-3,5.3E-3,4.3E-3,3.3999999999999998E-3,2.7000000000000001E-3,2.5999999999999999E-3,2.5999999999999999E-3,2.5000000000000001E-3,2.3999999999999998E-3,2.3E-3,2.3E-3,2.3E-3,2.3999999999999998E-3,2.5999999999999999E-3,2.8999999999999998E-3,3.3999999999999998E-3,4.0000000000000001E-3,4.8999999999999998E-3,5.8999999999999999E-3,6.8999999999999999E-3,7.9000000000000008E-3,8.8000000000000005E-3,9.4000000000000004E-3,9.9000000000000008E-3,0.01]
[49,2.29E-2,2.2700000000000001E-2,2.23E-2,2.1299999999999999E-2,1.9699999999999999E-2,1.7600000000000001E-2,1.5100000000000001E-2,1.26E-2,1.01E-2,7.6E-3,5.4000000000000003E-3,3.5000000000000001E-3,2.2000000000000001E-3,1.6000000000000001E-3,1.8E-3,2.7000000000000001E-3,4.1999999999999997E-3,6.3E-3,8.8999999999999999E-3,1.1900000000000001E-2,1.4999999999999999E-2,1.7999999999999999E-2,2.0799999999999999E-2,2.3099999999999999E-2,2.47E-2,2.5499999999999998E-2,2.5700000000000001E-2,2.5399999999999999E-2,2.47E-2,2.3599999999999999E-2,2.23E-2,2.0899999999999998E-2,1.9300000000000001E-2,1.77E-2,1.6299999999999999E-2,1.4999999999999999E-2,1.4E-2,1.3100000000000001E-2,1.2200000000000001E-2,1.12E-2,1.0200000000000001E-2,9.2999999999999992E-3,8.3999999999999995E-3,7.7999999999999996E-3,7.3000000000000001E-3,6.6E-3,5.5999999999999999E-3,4.1000000000000003E-3,2.3999999999999998E-3,8.9999999999999998E-4,0,-2.9999999999999997E-4,1E-4,1E-3,2E-3,3.0999999999999999E-3,4.1000000000000003E-3,4.7999999999999996E-3,5.3E-3,5.4999999999999997E-3,5.1000000000000004E-3,4.4999999999999997E-3,3.8E-3,3.0999999999999999E-3,2.5999999999999999E-3,2.8E-3,3.0000000000000001E-3,3.0999999999999999E-3,3.2000000000000002E-3,3.2000000000000002E-3,3.3E-3,3.3E-3,3.3999999999999998E-3,3.5000000000000001E-3,3.7000000000000002E-3,4.0000000000000001E-3,4.4999999999999997E-3,5.1999999999999998E-3,6.1000000000000004E-3,7.0000000000000001E-3,7.9000000000000008E-3,8.8000000000000005E-3,9.4000000000000004E-3,9.9000000000000008E-3,0.01]
[50,2.2200000000000001E-2,2.2100000000000002E-2,2.18E-2,2.1000000000000001E-2,1.95E-2,1.7500000000000002E-2,1.5100000000000001E-2,1.2800000000000001E-2,1.04E-2,8.0000000000000002E-3,5.7999999999999996E-3,4.0000000000000001E-3,2.7000000000000001E-3,2.0999999999999999E-3,2.3E-3,3.0999999999999999E-3,4.4000000000000003E-3,6.4000000000000003E-3,8.8999999999999999E-3,1.1599999999999999E-2,1.46E-2,1.7500000000000002E-2,0.02,2.2100000000000002E-2,2.3599999999999999E-2,2.4299999999999999E-2,2.4400000000000002E-2,2.4E-2,2.3300000000000001E-2,2.2200000000000001E-2,2.1000000000000001E-2,1.9699999999999999E-2,1.83E-2,1.6899999999999998E-2,1.5599999999999999E-2,1.46E-2,1.38E-2,1.32E-2,1.2500000000000001E-2,1.18E-2,1.0999999999999999E-2,1.0200000000000001E-2,9.4999999999999998E-3,8.8999999999999999E-3,8.3999999999999995E-3,7.7999999999999996E-3,6.8999999999999999E-3,5.5999999999999999E-3,4.0000000000000001E-3,2.5000000000000001E-3,1.5E-3,1.1000000000000001E-3,1.1999999999999999E-3,1.6999999999999999E-3,2.3E-3,3.0999999999999999E-3,3.7000000000000002E-3,4.1000000000000003E-3,4.4000000000000003E-3,4.4000000000000003E-3,4.1000000000000003E-3,3.5999999999999999E-3,2.8999999999999998E-3,2.3999999999999998E-3,2.0999999999999999E-3,2.5000000000000001E-3,2.8999999999999998E-3,3.3E-3,3.5999999999999999E-3,3.8999999999999998E-3,4.0000000000000001E-3,4.1999999999999997E-3,4.3E-3,4.4000000000000003E-3,4.4000000000000003E-3,4.5999999999999999E-3,5.0000000000000001E-3,5.5999999999999999E-3,6.3E-3,7.1999999999999998E-3,8.0000000000000002E-3,8.8000000000000005E-3,9.4000000000000004E-3,9.9000000000000008E-3,0.01]
[51,2.1600000000000001E-2,2.1600000000000001E-2,2.1299999999999999E-2,2.06E-2,1.9300000000000001E-2,1.7399999999999999E-2,1.5100000000000001E-2,1.2999999999999999E-2,1.0699999999999999E-2,8.5000000000000006E-3,6.4000000000000003E-3,4.5999999999999999E-3,3.3E-3,2.7000000000000001E-3,2.8E-3,3.5000000000000001E-3,4.7000000000000002E-3,6.4999999999999997E-3,8.8000000000000005E-3,1.14E-2,1.4200000000000001E-2,1.6899999999999998E-2,1.9300000000000001E-2,2.12E-2,2.2499999999999999E-2,2.3E-2,2.3099999999999999E-2,2.2700000000000001E-2,2.1899999999999999E-2,2.0899999999999998E-2,1.9699999999999999E-2,1.8499999999999999E-2,1.7100000000000001E-2,1.5900000000000001E-2,1.49E-2,1.41E-2,1.35E-2,1.3100000000000001E-2,1.26E-2,1.21E-2,1.1599999999999999E-2,1.09E-2,1.03E-2,9.7999999999999997E-3,9.4000000000000004E-3,8.8999999999999999E-3,8.2000000000000007E-3,7.0000000000000001E-3,5.5999999999999999E-3,4.3E-3,3.3E-3,2.7000000000000001E-3,2.5999999999999999E-3,2.8E-3,3.0000000000000001E-3,3.3999999999999998E-3,3.7000000000000002E-3,3.8E-3,3.7000000000000002E-3,3.5000000000000001E-3,3.0999999999999999E-3,2.5000000000000001E-3,1.9E-3,1.5E-3,1.2999999999999999E-3,1.9E-3,2.5000000000000001E-3,3.2000000000000002E-3,3.8E-3,4.1999999999999997E-3,4.5999999999999999E-3,4.8999999999999998E-3,5.1000000000000004E-3,5.1999999999999998E-3,5.1999999999999998E-3,5.3E-3,5.5999999999999999E-3,6.0000000000000001E-3,6.6E-3,7.4000000000000003E-3,8.0999999999999996E-3,8.8000000000000005E-3,9.4000000000000004E-3,9.9000000000000008E-3,0.01]
[52,2.1000000000000001E-2,2.1100000000000001E-2,2.0799999999999999E-2,2.0199999999999999E-2,1.9E-2,1.72E-2,1.52E-2,1.3100000000000001E-2,1.11E-2,8.8999999999999999E-3,7.0000000000000001E-3,5.1999999999999998E-3,4.0000000000000001E-3,3.3E-3,3.3E-3,3.8999999999999998E-3,5.0000000000000001E-3,6.6E-3,8.6999999999999994E-3,1.12E-2,1.38E-2,1.6400000000000001E-2,1.8499999999999999E-2,2.0299999999999999E-2,2.1499999999999998E-2,2.1899999999999999E-2,2.1899999999999999E-2,2.1399999999999999E-2,2.06E-2,1.95E-2,1.84E-2,1.72E-2,1.5900000000000001E-2,1.49E-2,1.4E-2,1.34E-2,1.3100000000000001E-2,1.2800000000000001E-2,1.26E-2,1.23E-2,1.1900000000000001E-2,1.14E-2,1.09E-2,1.0500000000000001E-2,1.0200000000000001E-2,9.9000000000000008E-3,9.2999999999999992E-3,8.3000000000000001E-3,7.1000000000000004E-3,6.0000000000000001E-3,5.1000000000000004E-3,4.4999999999999997E-3,4.3E-3,4.1999999999999997E-3,4.1000000000000003E-3,4.1999999999999997E-3,4.1000000000000003E-3,3.7000000000000002E-3,3.3E-3,2.8E-3,2.0999999999999999E-3,1.4E-3,8.0000000000000004E-4,4.0000000000000002E-4,2.9999999999999997E-4,1E-3,1.8E-3,2.7000000000000001E-3,3.5999999999999999E-3,4.3E-3,5.0000000000000001E-3,5.4000000000000003E-3,5.7000000000000002E-3,5.8999999999999999E-3,5.8999999999999999E-3,5.8999999999999999E-3,6.1000000000000004E-3,6.4000000000000003E-3,6.8999999999999999E-3,7.6E-3,8.2000000000000007E-3,8.8999999999999999E-3,9.4999999999999998E-3,9.9000000000000008E-3,0.01]
[53,2.06E-2,2.06E-2,2.0400000000000001E-2,1.9800000000000002E-2,1.8700000000000001E-2,1.7000000000000001E-2,1.5100000000000001E-2,1.3299999999999999E-2,1.14E-2,9.4000000000000004E-3,7.6E-3,5.8999999999999999E-3,4.7000000000000002E-3,4.0000000000000001E-3,3.8999999999999998E-3,4.3E-3,5.1999999999999998E-3,6.7000000000000002E-3,8.6999999999999994E-3,1.0999999999999999E-2,1.34E-2,1.5800000000000002E-2,1.7899999999999999E-2,1.95E-2,2.06E-2,2.0899999999999998E-2,2.0799999999999999E-2,2.0199999999999999E-2,1.9300000000000001E-2,1.8100000000000002E-2,1.7000000000000001E-2,1.5800000000000002E-2,1.47E-2,1.3899999999999999E-2,1.32E-2,1.2800000000000001E-2,1.2500000000000001E-2,1.24E-2,1.24E-2,1.23E-2,1.2E-2,1.17E-2,1.14E-2,1.11E-2,1.09E-2,1.06E-2,1.0200000000000001E-2,9.4999999999999998E-3,8.5000000000000006E-3,7.6E-3,6.8999999999999999E-3,6.4000000000000003E-3,6.1000000000000004E-3,5.8999999999999999E-3,5.5999999999999999E-3,5.3E-3,4.7999999999999996E-3,4.1000000000000003E-3,3.2000000000000002E-3,2.3999999999999998E-3,1.4E-3,5.0000000000000001E-4,-2.9999999999999997E-4,-6.9999999999999999E-4,-8.0000000000000004E-4,0,1E-3,2.0999999999999999E-3,3.2000000000000002E-3,4.1999999999999997E-3,5.1000000000000004E-3,5.7999999999999996E-3,6.1999999999999998E-3,6.4999999999999997E-3,6.4999999999999997E-3,6.4999999999999997E-3,6.6E-3,6.8999999999999999E-3,7.3000000000000001E-3,7.7999999999999996E-3,8.3999999999999995E-3,8.9999999999999993E-3,9.4999999999999998E-3,9.9000000000000008E-3,0.01]
[54,2.0199999999999999E-2,2.0199999999999999E-2,0.02,1.9400000000000001E-2,1.83E-2,1.6799999999999999E-2,1.5100000000000001E-2,1.34E-2,1.17E-2,9.9000000000000008E-3,8.2000000000000007E-3,6.6E-3,5.4000000000000003E-3,4.7000000000000002E-3,4.4999999999999997E-3,4.7999999999999996E-3,5.5999999999999999E-3,6.7999999999999996E-3,8.6999999999999994E-3,1.0800000000000001E-2,1.3100000000000001E-2,1.5299999999999999E-2,1.7299999999999999E-2,1.89E-2,1.9800000000000002E-2,2.01E-2,1.9800000000000002E-2,1.9099999999999999E-2,1.7999999999999999E-2,1.6799999999999999E-2,1.5599999999999999E-2,1.4500000000000001E-2,1.3599999999999999E-2,1.29E-2,1.24E-2,1.21E-2,1.1900000000000001E-2,1.1900000000000001E-2,1.2E-2,1.21E-2,1.2E-2,1.18E-2,1.17E-2,1.15E-2,1.14E-2,1.12E-2,1.09E-2,1.04E-2,9.7000000000000003E-3,9.1000000000000004E-3,8.6E-3,8.3000000000000001E-3,8.0000000000000002E-3,7.7999999999999996E-3,7.3000000000000001E-3,6.7000000000000002E-3,5.8999999999999999E-3,4.7999999999999996E-3,3.5000000000000001E-3,2.2000000000000001E-3,8.9999999999999998E-4,-2.9999999999999997E-4,-1.1999999999999999E-3,-1.8E-3,-1.9E-3,-1.1000000000000001E-3,0,1.2999999999999999E-3,2.5999999999999999E-3,3.8999999999999998E-3,5.0000000000000001E-3,6.0000000000000001E-3,6.6E-3,7.0000000000000001E-3,7.1000000000000004E-3,7.1000000000000004E-3,7.1000000000000004E-3,7.3000000000000001E-3,7.6E-3,8.0000000000000002E-3,8.5000000000000006E-3,9.1000000000000004E-3,9.4999999999999998E-3,9.9000000000000008E-3,0.01]
[55,0.02,1.9900000000000001E-2,1.9699999999999999E-2,1.9E-2,1.7899999999999999E-2,1.6500000000000001E-2,1.4999999999999999E-2,1.34E-2,1.1900000000000001E-2,1.03E-2,8.6999999999999994E-3,7.1999999999999998E-3,6.1000000000000004E-3,5.4000000000000003E-3,5.1999999999999998E-3,5.3E-3,5.8999999999999999E-3,7.1000000000000004E-3,8.8000000000000005E-3,1.0699999999999999E-2,1.29E-2,1.49E-2,1.67E-2,1.8200000000000001E-2,1.9E-2,1.9199999999999998E-2,1.8800000000000001E-2,1.7999999999999999E-2,1.6799999999999999E-2,1.54E-2,1.43E-2,1.32E-2,1.24E-2,1.18E-2,1.15E-2,1.14E-2,1.1299999999999999E-2,1.14E-2,1.1599999999999999E-2,1.18E-2,1.18E-2,1.18E-2,1.18E-2,1.18E-2,1.17E-2,1.17E-2,1.15E-2,1.12E-2,1.0800000000000001E-2,1.04E-2,1.0200000000000001E-2,1.01E-2,9.9000000000000008E-3,9.7000000000000003E-3,9.1999999999999998E-3,8.3000000000000001E-3,7.1999999999999998E-3,5.7999999999999996E-3,4.1999999999999997E-3,2.5000000000000001E-3,6.9999999999999999E-4,-8.0000000000000004E-4,-1.9E-3,-2.5999999999999999E-3,-2.8999999999999998E-3,-2.0999999999999999E-3,-1E-3,4.0000000000000002E-4,2E-3,3.5000000000000001E-3,4.7999999999999996E-3,6.0000000000000001E-3,6.7999999999999996E-3,7.4000000000000003E-3,7.4999999999999997E-3,7.4999999999999997E-3,7.6E-3,7.7000000000000002E-3,7.9000000000000008E-3,8.3000000000000001E-3,8.6999999999999994E-3,9.1000000000000004E-3,9.5999999999999992E-3,9.9000000000000008E-3,0.01]
[56,1.9699999999999999E-2,1.9599999999999999E-2,1.9300000000000001E-2,1.8700000000000001E-2,1.7500000000000002E-2,1.6199999999999999E-2,1.4800000000000001E-2,1.34E-2,1.2E-2,1.06E-2,9.1999999999999998E-3,7.7999999999999996E-3,6.7999999999999996E-3,6.1999999999999998E-3,5.8999999999999999E-3,6.0000000000000001E-3,6.4999999999999997E-3,7.4999999999999997E-3,8.9999999999999993E-3,1.0800000000000001E-2,1.2699999999999999E-2,1.46E-2,1.6299999999999999E-2,1.7600000000000001E-2,1.83E-2,1.84E-2,1.7999999999999999E-2,1.7000000000000001E-2,1.5699999999999999E-2,1.4200000000000001E-2,1.2999999999999999E-2,1.2E-2,1.1299999999999999E-2,1.0800000000000001E-2,1.06E-2,1.06E-2,1.06E-2,1.0800000000000001E-2,1.11E-2,1.14E-2,1.15E-2,1.1599999999999999E-2,1.17E-2,1.18E-2,1.1900000000000001E-2,1.1900000000000001E-2,1.1900000000000001E-2,1.18E-2,1.17E-2,1.1599999999999999E-2,1.1599999999999999E-2,1.17E-2,1.17E-2,1.1599999999999999E-2,1.0999999999999999E-2,1.01E-2,8.8000000000000005E-3,7.1000000000000004E-3,5.1000000000000004E-3,3.0999999999999999E-3,1E-3,-8.9999999999999998E-4,-2.3E-3,-3.2000000000000002E-3,-3.5999999999999999E-3,-3.0000000000000001E-3,-1.9E-3,-4.0000000000000002E-4,1.2999999999999999E-3,2.8999999999999998E-3,4.4999999999999997E-3,5.8999999999999999E-3,6.8999999999999999E-3,7.6E-3,7.9000000000000008E-3,7.9000000000000008E-3,7.9000000000000008E-3,8.0000000000000002E-3,8.2000000000000007E-3,8.5000000000000006E-3,8.8000000000000005E-3,9.1999999999999998E-3,9.5999999999999992E-3,9.9000000000000008E-3,0.01]
[57,1.9400000000000001E-2,1.9300000000000001E-2,1.9E-2,1.83E-2,1.72E-2,1.5900000000000001E-2,1.46E-2,1.3299999999999999E-2,1.21E-2,1.0800000000000001E-2,9.5999999999999992E-3,8.3999999999999995E-3,7.4999999999999997E-3,7.0000000000000001E-3,6.7000000000000002E-3,6.7000000000000002E-3,7.1000000000000004E-3,8.0000000000000002E-3,9.2999999999999992E-3,1.0999999999999999E-2,1.2699999999999999E-2,1.43E-2,1.5900000000000001E-2,1.7100000000000001E-2,1.7600000000000001E-2,1.7600000000000001E-2,1.7100000000000001E-2,1.6E-2,1.46E-2,1.3100000000000001E-2,1.1900000000000001E-2,1.09E-2,1.0200000000000001E-2,9.7999999999999997E-3,9.7999999999999997E-3,9.7999999999999997E-3,9.9000000000000008E-3,1.0200000000000001E-2,1.06E-2,1.09E-2,1.11E-2,1.14E-2,1.15E-2,1.17E-2,1.18E-2,1.2E-2,1.2200000000000001E-2,1.23E-2,1.24E-2,1.26E-2,1.2800000000000001E-2,1.3100000000000001E-2,1.3299999999999999E-2,1.3299999999999999E-2,1.2800000000000001E-2,1.18E-2,1.04E-2,8.5000000000000006E-3,6.4000000000000003E-3,4.0000000000000001E-3,1.6000000000000001E-3,-5.9999999999999995E-4,-2.3E-3,-3.3999999999999998E-3,-4.0000000000000001E-3,-3.5999999999999999E-3,-2.5000000000000001E-3,-1.1000000000000001E-3,5.9999999999999995E-4,2.3999999999999998E-3,4.1000000000000003E-3,5.7000000000000002E-3,6.8999999999999999E-3,7.7000000000000002E-3,8.0999999999999996E-3,8.2000000000000007E-3,8.3000000000000001E-3,8.3999999999999995E-3,8.5000000000000006E-3,8.6999999999999994E-3,8.9999999999999993E-3,9.2999999999999992E-3,9.5999999999999992E-3,9.9000000000000008E-3,0.01]
[58,1.9099999999999999E-2,1.9E-2,1.8700000000000001E-2,1.7999999999999999E-2,1.6799999999999999E-2,1.55E-2,1.43E-2,1.32E-2,1.2E-2,1.09E-2,9.7999999999999997E-3,8.8000000000000005E-3,8.0999999999999996E-3,7.7000000000000002E-3,7.4999999999999997E-3,7.6E-3,8.0000000000000002E-3,8.6999999999999994E-3,9.9000000000000008E-3,1.1299999999999999E-2,1.2800000000000001E-2,1.4200000000000001E-2,1.55E-2,1.6500000000000001E-2,1.7000000000000001E-2,1.6899999999999998E-2,1.6199999999999999E-2,1.5100000000000001E-2,1.37E-2,1.21E-2,1.0800000000000001E-2,9.9000000000000008E-3,9.1999999999999998E-3,8.8999999999999999E-3,8.8999999999999999E-3,9.1000000000000004E-3,9.2999999999999992E-3,9.5999999999999992E-3,1.01E-2,1.0500000000000001E-2,1.0699999999999999E-2,1.0999999999999999E-2,1.12E-2,1.14E-2,1.17E-2,1.2E-2,1.23E-2,1.2699999999999999E-2,1.2999999999999999E-2,1.34E-2,1.3899999999999999E-2,1.44E-2,1.47E-2,1.4800000000000001E-2,1.44E-2,1.34E-2,1.2E-2,0.01,7.7000000000000002E-3,5.1999999999999998E-3,2.5999999999999999E-3,1E-4,-1.9E-3,-3.3E-3,-4.1000000000000003E-3,-3.8E-3,-2.8999999999999998E-3,-1.5E-3,1E-4,1.9E-3,3.7000000000000002E-3,5.4000000000000003E-3,6.7000000000000002E-3,7.7000000000000002E-3,8.2000000000000007E-3,8.3999999999999995E-3,8.5000000000000006E-3,8.6E-3,8.6999999999999994E-3,8.8999999999999999E-3,9.1000000000000004E-3,9.4000000000000004E-3,9.7000000000000003E-3,9.9000000000000008E-3,0.01]
[59,1.8800000000000001E-2,1.8700000000000001E-2,1.83E-2,1.7600000000000001E-2,1.6500000000000001E-2,1.5299999999999999E-2,1.41E-2,1.2999999999999999E-2,1.1900000000000001E-2,1.09E-2,0.01,9.1999999999999998E-3,8.6999999999999994E-3,8.5000000000000006E-3,8.3999999999999995E-3,8.5000000000000006E-3,8.8999999999999999E-3,9.4999999999999998E-3,1.0500000000000001E-2,1.17E-2,1.2999999999999999E-2,1.4200000000000001E-2,1.5299999999999999E-2,1.61E-2,1.6400000000000001E-2,1.61E-2,1.54E-2,1.4200000000000001E-2,1.2800000000000001E-2,1.1299999999999999E-2,9.9000000000000008E-3,8.8999999999999999E-3,8.3000000000000001E-3,8.0000000000000002E-3,8.0999999999999996E-3,8.3000000000000001E-3,8.6E-3,8.9999999999999993E-3,9.5999999999999992E-3,0.01,1.03E-2,1.0500000000000001E-2,1.0699999999999999E-2,1.0999999999999999E-2,1.14E-2,1.18E-2,1.23E-2,1.29E-2,1.34E-2,1.4E-2,1.47E-2,1.5299999999999999E-2,1.5800000000000002E-2,1.6E-2,1.5699999999999999E-2,1.49E-2,1.35E-2,1.15E-2,9.1999999999999998E-3,6.6E-3,3.8E-3,1.1000000000000001E-3,-1.1000000000000001E-3,-2.8E-3,-3.7000000000000002E-3,-3.5999999999999999E-3,-3.0000000000000001E-3,-1.8E-3,-2.0000000000000001E-4,1.6000000000000001E-3,3.3999999999999998E-3,5.0000000000000001E-3,6.4999999999999997E-3,7.4999999999999997E-3,8.0999999999999996E-3,8.3999999999999995E-3,8.6E-3,8.8000000000000005E-3,8.8999999999999999E-3,9.1000000000000004E-3,9.2999999999999992E-3,9.4999999999999998E-3,9.7000000000000003E-3,9.9000000000000008E-3,0.01]
[60,1.8499999999999999E-2,1.83E-2,1.7999999999999999E-2,1.7299999999999999E-2,1.6199999999999999E-2,1.4999999999999999E-2,1.38E-2,1.2800000000000001E-2,1.18E-2,1.09E-2,1.0200000000000001E-2,9.5999999999999992E-3,9.2999999999999992E-3,9.1999999999999998E-3,9.2999999999999992E-3,9.4999999999999998E-3,9.9000000000000008E-3,1.04E-2,1.1299999999999999E-2,1.23E-2,1.3299999999999999E-2,1.43E-2,1.5100000000000001E-2,1.5699999999999999E-2,1.5800000000000002E-2,1.54E-2,1.46E-2,1.34E-2,1.2E-2,1.0500000000000001E-2,9.1000000000000004E-3,8.0999999999999996E-3,7.4999999999999997E-3,7.1999999999999998E-3,7.3000000000000001E-3,7.6E-3,8.0000000000000002E-3,8.5000000000000006E-3,9.1000000000000004E-3,9.4999999999999998E-3,9.7999999999999997E-3,0.01,1.0200000000000001E-2,1.0500000000000001E-2,1.0999999999999999E-2,1.15E-2,1.2200000000000001E-2,1.2999999999999999E-2,1.37E-2,1.4500000000000001E-2,1.5299999999999999E-2,1.61E-2,1.67E-2,1.7100000000000001E-2,1.6899999999999998E-2,1.6199999999999999E-2,1.49E-2,1.2999999999999999E-2,1.0699999999999999E-2,8.0999999999999996E-3,5.1999999999999998E-3,2.3999999999999998E-3,0,-1.9E-3,-3.0000000000000001E-3,-3.0999999999999999E-3,-2.7000000000000001E-3,-1.6999999999999999E-3,-2.9999999999999997E-4,1.2999999999999999E-3,3.0999999999999999E-3,4.7000000000000002E-3,6.1999999999999998E-3,7.3000000000000001E-3,8.0000000000000002E-3,8.3999999999999995E-3,8.6999999999999994E-3,8.8999999999999999E-3,9.1000000000000004E-3,9.1999999999999998E-3,9.4000000000000004E-3,9.5999999999999992E-3,9.7999999999999997E-3,9.9000000000000008E-3,0.01]
[61,1.8100000000000002E-2,1.7899999999999999E-2,1.7600000000000001E-2,1.6899999999999998E-2,1.5900000000000001E-2,1.47E-2,1.3599999999999999E-2,1.26E-2,1.18E-2,1.0999999999999999E-2,1.04E-2,9.9000000000000008E-3,9.7999999999999997E-3,9.9000000000000008E-3,1.0200000000000001E-2,1.0500000000000001E-2,1.09E-2,1.14E-2,1.21E-2,1.29E-2,1.38E-2,1.4500000000000001E-2,1.5100000000000001E-2,1.54E-2,1.5299999999999999E-2,1.4800000000000001E-2,1.3899999999999999E-2,1.2699999999999999E-2,1.1299999999999999E-2,9.7999999999999997E-3,8.3999999999999995E-3,7.4000000000000003E-3,6.7000000000000002E-3,6.4999999999999997E-3,6.6E-3,6.8999999999999999E-3,7.4000000000000003E-3,8.0000000000000002E-3,8.6E-3,8.9999999999999993E-3,9.2999999999999992E-3,9.4999999999999998E-3,9.5999999999999992E-3,0.01,1.0500000000000001E-2,1.12E-2,1.2E-2,1.29E-2,1.38E-2,1.4800000000000001E-2,1.5800000000000002E-2,1.67E-2,1.7399999999999999E-2,1.7899999999999999E-2,1.78E-2,1.72E-2,1.61E-2,1.43E-2,1.21E-2,9.5999999999999992E-3,6.7000000000000002E-3,3.8E-3,1.2999999999999999E-3,-5.9999999999999995E-4,-1.9E-3,-2.2000000000000001E-3,-2E-3,-1.2999999999999999E-3,-1E-4,1.2999999999999999E-3,2.8999999999999998E-3,4.4000000000000003E-3,5.8999999999999999E-3,7.1000000000000004E-3,7.7999999999999996E-3,8.3000000000000001E-3,8.6999999999999994E-3,8.9999999999999993E-3,9.1999999999999998E-3,9.2999999999999992E-3,9.4999999999999998E-3,9.5999999999999992E-3,9.7999999999999997E-3,9.9000000000000008E-3,0.01]
[62,1.7600000000000001E-2,1.7500000000000002E-2,1.7100000000000001E-2,1.6500000000000001E-2,1.55E-2,1.44E-2,1.34E-2,1.2500000000000001E-2,1.18E-2,1.11E-2,1.06E-2,1.03E-2,1.03E-2,1.0500000000000001E-2,1.09E-2,1.14E-2,1.18E-2,1.23E-2,1.2999999999999999E-2,1.3599999999999999E-2,1.4200000000000001E-2,1.4800000000000001E-2,1.5100000000000001E-2,1.5299999999999999E-2,1.4999999999999999E-2,1.43E-2,1.3299999999999999E-2,1.2E-2,1.06E-2,9.1000000000000004E-3,7.7999999999999996E-3,6.7999999999999996E-3,6.1000000000000004E-3,5.8999999999999999E-3,5.8999999999999999E-3,6.3E-3,6.8999999999999999E-3,7.4999999999999997E-3,8.0999999999999996E-3,8.5000000000000006E-3,8.6999999999999994E-3,8.8999999999999999E-3,9.1000000000000004E-3,9.4000000000000004E-3,0.01,1.0699999999999999E-2,1.17E-2,1.2699999999999999E-2,1.38E-2,1.49E-2,1.6E-2,1.7100000000000001E-2,1.7899999999999999E-2,1.8499999999999999E-2,1.8499999999999999E-2,1.8100000000000002E-2,1.7000000000000001E-2,1.54E-2,1.34E-2,1.09E-2,8.0999999999999996E-3,5.3E-3,2.8E-3,8.0000000000000004E-4,-5.0000000000000001E-4,-1E-3,-1E-3,-5.9999999999999995E-4,2.9999999999999997E-4,1.5E-3,2.8E-3,4.3E-3,5.5999999999999999E-3,6.7999999999999996E-3,7.6E-3,8.2000000000000007E-3,8.6E-3,8.9999999999999993E-3,9.1999999999999998E-3,9.4000000000000004E-3,9.5999999999999992E-3,9.7000000000000003E-3,9.7999999999999997E-3,9.9000000000000008E-3,0.01]
[63,1.7100000000000001E-2,1.7000000000000001E-2,1.66E-2,1.6E-2,1.52E-2,1.4200000000000001E-2,1.3299999999999999E-2,1.2500000000000001E-2,1.18E-2,1.12E-2,1.09E-2,1.0699999999999999E-2,1.0800000000000001E-2,1.11E-2,1.1599999999999999E-2,1.2200000000000001E-2,1.2699999999999999E-2,1.32E-2,1.38E-2,1.43E-2,1.47E-2,1.5100000000000001E-2,1.5299999999999999E-2,1.52E-2,1.4800000000000001E-2,1.3899999999999999E-2,1.2800000000000001E-2,1.14E-2,0.01,8.5000000000000006E-3,7.3000000000000001E-3,6.3E-3,5.5999999999999999E-3,5.3E-3,5.4000000000000003E-3,5.7999999999999996E-3,6.4000000000000003E-3,7.0000000000000001E-3,7.6E-3,8.0000000000000002E-3,8.2000000000000007E-3,8.3000000000000001E-3,8.5000000000000006E-3,8.8000000000000005E-3,9.4000000000000004E-3,1.0200000000000001E-2,1.1299999999999999E-2,1.24E-2,1.3599999999999999E-2,1.4800000000000001E-2,1.61E-2,1.7299999999999999E-2,1.83E-2,1.89E-2,1.9E-2,1.8700000000000001E-2,1.78E-2,1.6299999999999999E-2,1.44E-2,1.21E-2,9.4000000000000004E-3,6.7999999999999996E-3,4.4000000000000003E-3,2.3999999999999998E-3,1.1000000000000001E-3,5.0000000000000001E-4,2.0000000000000001E-4,4.0000000000000002E-4,1E-3,1.8E-3,2.8999999999999998E-3,4.1999999999999997E-3,5.4000000000000003E-3,6.4999999999999997E-3,7.3000000000000001E-3,7.9000000000000008E-3,8.5000000000000006E-3,8.8999999999999999E-3,9.1999999999999998E-3,9.4000000000000004E-3,9.5999999999999992E-3,9.7000000000000003E-3,9.9000000000000008E-3,0.01,0.01]
[64,1.6500000000000001E-2,1.6400000000000001E-2,1.61E-2,1.5599999999999999E-2,1.4800000000000001E-2,1.4E-2,1.32E-2,1.2500000000000001E-2,1.1900000000000001E-2,1.15E-2,1.12E-2,1.11E-2,1.12E-2,1.17E-2,1.2200000000000001E-2,1.2800000000000001E-2,1.35E-2,1.41E-2,1.46E-2,1.4999999999999999E-2,1.5299999999999999E-2,1.55E-2,1.55E-2,1.5299999999999999E-2,1.47E-2,1.37E-2,1.24E-2,1.0999999999999999E-2,9.4999999999999998E-3,8.0999999999999996E-3,6.7999999999999996E-3,5.7999999999999996E-3,5.1999999999999998E-3,4.8999999999999998E-3,5.0000000000000001E-3,5.4000000000000003E-3,6.0000000000000001E-3,6.6E-3,7.1000000000000004E-3,7.4999999999999997E-3,7.7000000000000002E-3,7.7999999999999996E-3,7.9000000000000008E-3,8.2000000000000007E-3,8.8999999999999999E-3,9.7000000000000003E-3,1.0800000000000001E-2,1.2E-2,1.3299999999999999E-2,1.46E-2,1.61E-2,1.7399999999999999E-2,1.84E-2,1.9199999999999998E-2,1.9400000000000001E-2,1.9099999999999999E-2,1.83E-2,1.7000000000000001E-2,1.5299999999999999E-2,1.3100000000000001E-2,1.06E-2,8.2000000000000007E-3,5.8999999999999999E-3,4.1000000000000003E-3,2.8E-3,2.0999999999999999E-3,1.6999999999999999E-3,1.6000000000000001E-3,1.9E-3,2.3999999999999998E-3,3.2000000000000002E-3,4.1999999999999997E-3,5.1999999999999998E-3,6.1999999999999998E-3,7.0000000000000001E-3,7.7000000000000002E-3,8.3000000000000001E-3,8.8000000000000005E-3,9.1000000000000004E-3,9.4000000000000004E-3,9.5999999999999992E-3,9.7999999999999997E-3,9.9000000000000008E-3,0.01,0.01]
[65,1.6E-2,1.5900000000000001E-2,1.5699999999999999E-2,1.52E-2,1.4500000000000001E-2,1.38E-2,1.3100000000000001E-2,1.26E-2,1.21E-2,1.17E-2,1.15E-2,1.15E-2,1.17E-2,1.21E-2,1.2699999999999999E-2,1.34E-2,1.4200000000000001E-2,1.49E-2,1.54E-2,1.5599999999999999E-2,1.5800000000000002E-2,1.5900000000000001E-2,1.5800000000000002E-2,1.55E-2,1.47E-2,1.3599999999999999E-2,1.2200000000000001E-2,1.0699999999999999E-2,9.1999999999999998E-3,7.7000000000000002E-3,6.4999999999999997E-3,5.4999999999999997E-3,4.7999999999999996E-3,4.5999999999999999E-3,4.5999999999999999E-3,5.0000000000000001E-3,5.5999999999999999E-3,6.1999999999999998E-3,6.7000000000000002E-3,7.0000000000000001E-3,7.1999999999999998E-3,7.1999999999999998E-3,7.3000000000000001E-3,7.7000000000000002E-3,8.3000000000000001E-3,9.1000000000000004E-3,1.0200000000000001E-2,1.15E-2,1.2800000000000001E-2,1.43E-2,1.5900000000000001E-2,1.7299999999999999E-2,1.84E-2,1.9199999999999998E-2,1.95E-2,1.9400000000000001E-2,1.8700000000000001E-2,1.7500000000000002E-2,1.5900000000000001E-2,1.3899999999999999E-2,1.17E-2,9.4000000000000004E-3,7.4000000000000003E-3,5.7999999999999996E-3,4.5999999999999999E-3,3.8E-3,3.3E-3,2.8999999999999998E-3,2.8999999999999998E-3,3.2000000000000002E-3,3.7000000000000002E-3,4.4000000000000003E-3,5.1999999999999998E-3,6.0000000000000001E-3,6.7999999999999996E-3,7.4999999999999997E-3,8.0999999999999996E-3,8.6E-3,9.1000000000000004E-3,9.4000000000000004E-3,9.5999999999999992E-3,9.7999999999999997E-3,9.9000000000000008E-3,0.01,0.01]
[66,1.55E-2,1.55E-2,1.52E-2,1.4800000000000001E-2,1.4200000000000001E-2,1.3599999999999999E-2,1.2999999999999999E-2,1.26E-2,1.23E-2,1.2E-2,1.1900000000000001E-2,1.1900000000000001E-2,1.21E-2,1.26E-2,1.32E-2,1.3899999999999999E-2,1.47E-2,1.55E-2,1.6E-2,1.6199999999999999E-2,1.6299999999999999E-2,1.6299999999999999E-2,1.6199999999999999E-2,1.5800000000000002E-2,1.49E-2,1.3599999999999999E-2,1.2200000000000001E-2,1.06E-2,8.9999999999999993E-3,7.4000000000000003E-3,6.1999999999999998E-3,5.3E-3,4.5999999999999999E-3,4.3E-3,4.4000000000000003E-3,4.7999999999999996E-3,5.3E-3,5.8999999999999999E-3,6.3E-3,6.6E-3,6.7000000000000002E-3,6.7000000000000002E-3,6.7999999999999996E-3,7.1000000000000004E-3,7.7000000000000002E-3,8.6E-3,9.7000000000000003E-3,1.09E-2,1.23E-2,1.3899999999999999E-2,1.5599999999999999E-2,1.7100000000000001E-2,1.83E-2,1.9199999999999998E-2,1.95E-2,1.9400000000000001E-2,1.89E-2,1.78E-2,1.6400000000000001E-2,1.46E-2,1.26E-2,1.06E-2,8.6999999999999994E-3,7.3000000000000001E-3,6.1999999999999998E-3,5.4000000000000003E-3,4.7999999999999996E-3,4.3E-3,4.1000000000000003E-3,4.0000000000000001E-3,4.1999999999999997E-3,4.7000000000000002E-3,5.1999999999999998E-3,5.8999999999999999E-3,6.6E-3,7.3000000000000001E-3,7.9000000000000008E-3,8.5000000000000006E-3,8.9999999999999993E-3,9.2999999999999992E-3,9.5999999999999992E-3,9.7999999999999997E-3,9.9000000000000008E-3,0.01,0.01]
[67,1.5100000000000001E-2,1.4999999999999999E-2,1.4800000000000001E-2,1.4500000000000001E-2,1.3899999999999999E-2,1.34E-2,1.2999999999999999E-2,1.2699999999999999E-2,1.24E-2,1.2200000000000001E-2,1.2200000000000001E-2,1.2200000000000001E-2,1.2500000000000001E-2,1.2999999999999999E-2,1.3599999999999999E-2,1.44E-2,1.52E-2,1.6E-2,1.6500000000000001E-2,1.67E-2,1.6799999999999999E-2,1.6799999999999999E-2,1.66E-2,1.61E-2,1.52E-2,1.38E-2,1.23E-2,1.06E-2,8.8999999999999999E-3,7.4000000000000003E-3,6.1000000000000004E-3,5.1999999999999998E-3,4.4999999999999997E-3,4.1999999999999997E-3,4.1999999999999997E-3,4.5999999999999999E-3,5.1000000000000004E-3,5.5999999999999999E-3,6.0000000000000001E-3,6.3E-3,6.3E-3,6.3E-3,6.3E-3,6.6E-3,7.1999999999999998E-3,8.0000000000000002E-3,8.9999999999999993E-3,1.03E-2,1.18E-2,1.34E-2,1.5100000000000001E-2,1.67E-2,1.7999999999999999E-2,1.89E-2,1.9400000000000001E-2,1.9400000000000001E-2,1.89E-2,1.7999999999999999E-2,1.6799999999999999E-2,1.5100000000000001E-2,1.3299999999999999E-2,1.15E-2,9.9000000000000008E-3,8.6E-3,7.6E-3,6.8999999999999999E-3,6.3E-3,5.7000000000000002E-3,5.1999999999999998E-3,5.0000000000000001E-3,4.8999999999999998E-3,5.1000000000000004E-3,5.4000000000000003E-3,5.8999999999999999E-3,6.4999999999999997E-3,7.1000000000000004E-3,7.7000000000000002E-3,8.3000000000000001E-3,8.8000000000000005E-3,9.1999999999999998E-3,9.4999999999999998E-3,9.7999999999999997E-3,9.9000000000000008E-3,0.01,0.01]
[68,1.47E-2,1.46E-2,1.4500000000000001E-2,1.4200000000000001E-2,1.37E-2,1.3299999999999999E-2,1.29E-2,1.2699999999999999E-2,1.2500000000000001E-2,1.24E-2,1.24E-2,1.2500000000000001E-2,1.2800000000000001E-2,1.34E-2,1.4E-2,1.47E-2,1.55E-2,1.6299999999999999E-2,1.6899999999999998E-2,1.7100000000000001E-2,1.7299999999999999E-2,1.7299999999999999E-2,1.7100000000000001E-2,1.6500000000000001E-2,1.55E-2,1.41E-2,1.2500000000000001E-2,1.0699999999999999E-2,8.9999999999999993E-3,7.4000000000000003E-3,6.1999999999999998E-3,5.1999999999999998E-3,4.4999999999999997E-3,4.1000000000000003E-3,4.1999999999999997E-3,4.4000000000000003E-3,4.8999999999999998E-3,5.4000000000000003E-3,5.7999999999999996E-3,6.0000000000000001E-3,6.0000000000000001E-3,5.8999999999999999E-3,5.8999999999999999E-3,6.1000000000000004E-3,6.6E-3,7.4000000000000003E-3,8.3999999999999995E-3,9.7000000000000003E-3,1.11E-2,1.2800000000000001E-2,1.46E-2,1.6199999999999999E-2,1.7600000000000001E-2,1.8599999999999998E-2,1.9099999999999999E-2,1.9199999999999998E-2,1.89E-2,1.8100000000000002E-2,1.7000000000000001E-2,1.55E-2,1.3899999999999999E-2,1.2200000000000001E-2,1.0800000000000001E-2,9.5999999999999992E-3,8.6999999999999994E-3,8.2000000000000007E-3,7.6E-3,6.8999999999999999E-3,6.4000000000000003E-3,5.8999999999999999E-3,5.7000000000000002E-3,5.5999999999999999E-3,5.7000000000000002E-3,6.0000000000000001E-3,6.4999999999999997E-3,7.0000000000000001E-3,7.6E-3,8.2000000000000007E-3,8.6999999999999994E-3,9.1999999999999998E-3,9.4999999999999998E-3,9.7000000000000003E-3,9.9000000000000008E-3,0.01,0.01]
[69,1.44E-2,1.43E-2,1.4200000000000001E-2,1.3899999999999999E-2,1.35E-2,1.3100000000000001E-2,1.2800000000000001E-2,1.2699999999999999E-2,1.26E-2,1.26E-2,1.26E-2,1.2800000000000001E-2,1.3100000000000001E-2,1.37E-2,1.43E-2,1.4999999999999999E-2,1.5800000000000002E-2,1.66E-2,1.7100000000000001E-2,1.7500000000000002E-2,1.77E-2,1.77E-2,1.7500000000000002E-2,1.7000000000000001E-2,1.6E-2,1.4500000000000001E-2,1.29E-2,1.0999999999999999E-2,9.2999999999999992E-3,7.6E-3,6.3E-3,5.3E-3,4.4999999999999997E-3,4.1999999999999997E-3,4.1000000000000003E-3,4.4000000000000003E-3,4.7999999999999996E-3,5.1999999999999998E-3,5.5999999999999999E-3,5.7000000000000002E-3,5.5999999999999999E-3,5.4999999999999997E-3,5.4999999999999997E-3,5.7000000000000002E-3,6.1000000000000004E-3,6.7999999999999996E-3,7.7999999999999996E-3,8.9999999999999993E-3,1.0500000000000001E-2,1.2200000000000001E-2,1.4E-2,1.5599999999999999E-2,1.7000000000000001E-2,1.8100000000000002E-2,1.8700000000000001E-2,1.89E-2,1.8700000000000001E-2,1.8100000000000002E-2,1.7100000000000001E-2,1.5800000000000002E-2,1.43E-2,1.2800000000000001E-2,1.15E-2,1.04E-2,9.5999999999999992E-3,9.1999999999999998E-3,8.6999999999999994E-3,8.0999999999999996E-3,7.4000000000000003E-3,6.8999999999999999E-3,6.4999999999999997E-3,6.1999999999999998E-3,6.1000000000000004E-3,6.3E-3,6.6E-3,7.0000000000000001E-3,7.4999999999999997E-3,8.0999999999999996E-3,8.6E-3,9.1000000000000004E-3,9.4000000000000004E-3,9.7000000000000003E-3,9.9000000000000008E-3,0.01,0.01]
[70,1.4E-2,1.4E-2,1.3899999999999999E-2,1.37E-2,1.34E-2,1.2999999999999999E-2,1.2699999999999999E-2,1.26E-2,1.26E-2,1.26E-2,1.2800000000000001E-2,1.2999999999999999E-2,1.34E-2,1.3899999999999999E-2,1.4500000000000001E-2,1.52E-2,1.6E-2,1.6799999999999999E-2,1.7399999999999999E-2,1.78E-2,1.7999999999999999E-2,1.8100000000000002E-2,1.7999999999999999E-2,1.7399999999999999E-2,1.6400000000000001E-2,1.4999999999999999E-2,1.3299999999999999E-2,1.15E-2,9.5999999999999992E-3,7.9000000000000008E-3,6.6E-3,5.4999999999999997E-3,4.7000000000000002E-3,4.3E-3,4.1999999999999997E-3,4.4000000000000003E-3,4.7999999999999996E-3,5.1000000000000004E-3,5.4000000000000003E-3,5.4999999999999997E-3,5.4000000000000003E-3,5.1999999999999998E-3,5.1000000000000004E-3,5.3E-3,5.5999999999999999E-3,6.3E-3,7.1999999999999998E-3,8.3999999999999995E-3,9.9000000000000008E-3,1.15E-2,1.3299999999999999E-2,1.4999999999999999E-2,1.6400000000000001E-2,1.7600000000000001E-2,1.83E-2,1.8599999999999998E-2,1.8499999999999999E-2,1.7899999999999999E-2,1.7100000000000001E-2,1.5900000000000001E-2,1.4500000000000001E-2,1.32E-2,1.2E-2,1.0999999999999999E-2,1.03E-2,0.01,9.4999999999999998E-3,8.9999999999999993E-3,8.3999999999999995E-3,7.7999999999999996E-3,7.3000000000000001E-3,6.7999999999999996E-3,6.6E-3,6.6E-3,6.7999999999999996E-3,7.1000000000000004E-3,7.4999999999999997E-3,8.0000000000000002E-3,8.5000000000000006E-3,8.9999999999999993E-3,9.4000000000000004E-3,9.7000000000000003E-3,9.9000000000000008E-3,0.01,0.01]
[71,1.37E-2,1.37E-2,1.3599999999999999E-2,1.34E-2,1.3100000000000001E-2,1.2800000000000001E-2,1.26E-2,1.26E-2,1.26E-2,1.2699999999999999E-2,1.29E-2,1.3100000000000001E-2,1.35E-2,1.41E-2,1.47E-2,1.54E-2,1.6199999999999999E-2,1.6899999999999998E-2,1.7600000000000001E-2,1.7999999999999999E-2,1.83E-2,1.8499999999999999E-2,1.84E-2,1.7899999999999999E-2,1.6899999999999998E-2,1.55E-2,1.38E-2,1.2E-2,1.01E-2,8.3999999999999995E-3,7.0000000000000001E-3,5.7999999999999996E-3,4.8999999999999998E-3,4.4000000000000003E-3,4.3E-3,4.4999999999999997E-3,4.7999999999999996E-3,5.1000000000000004E-3,5.3E-3,5.3E-3,5.1000000000000004E-3,4.8999999999999998E-3,4.7999999999999996E-3,4.8999999999999998E-3,5.1999999999999998E-3,5.7999999999999996E-3,6.6E-3,7.7999999999999996E-3,9.1999999999999998E-3,1.09E-2,1.26E-2,1.43E-2,1.5800000000000002E-2,1.7000000000000001E-2,1.77E-2,1.8100000000000002E-2,1.8100000000000002E-2,1.77E-2,1.7000000000000001E-2,1.5900000000000001E-2,1.47E-2,1.34E-2,1.23E-2,1.14E-2,1.0800000000000001E-2,1.06E-2,1.0200000000000001E-2,9.7000000000000003E-3,9.1999999999999998E-3,8.6E-3,8.0000000000000002E-3,7.4999999999999997E-3,7.1999999999999998E-3,7.0000000000000001E-3,7.0000000000000001E-3,7.1999999999999998E-3,7.6E-3,8.0000000000000002E-3,8.5000000000000006E-3,8.8999999999999999E-3,9.2999999999999992E-3,9.5999999999999992E-3,9.7999999999999997E-3,0.01,0.01]
[72,1.34E-2,1.34E-2,1.3299999999999999E-2,1.32E-2,1.29E-2,1.2699999999999999E-2,1.2500000000000001E-2,1.24E-2,1.2500000000000001E-2,1.26E-2,1.29E-2,1.32E-2,1.3599999999999999E-2,1.4200000000000001E-2,1.4800000000000001E-2,1.55E-2,1.6299999999999999E-2,1.7000000000000001E-2,1.77E-2,1.8200000000000001E-2,1.8599999999999998E-2,1.8800000000000001E-2,1.8700000000000001E-2,1.83E-2,1.7399999999999999E-2,1.6E-2,1.44E-2,1.2500000000000001E-2,1.06E-2,8.8999999999999999E-3,7.4000000000000003E-3,6.1999999999999998E-3,5.1999999999999998E-3,4.7000000000000002E-3,4.4999999999999997E-3,4.5999999999999999E-3,4.7999999999999996E-3,5.1000000000000004E-3,5.1999999999999998E-3,5.1999999999999998E-3,4.8999999999999998E-3,4.5999999999999999E-3,4.4999999999999997E-3,4.4999999999999997E-3,4.7000000000000002E-3,5.3E-3,6.1000000000000004E-3,7.1999999999999998E-3,8.5000000000000006E-3,1.0200000000000001E-2,1.1900000000000001E-2,1.3599999999999999E-2,1.5100000000000001E-2,1.6299999999999999E-2,1.72E-2,1.7600000000000001E-2,1.77E-2,1.7399999999999999E-2,1.67E-2,1.5800000000000002E-2,1.47E-2,1.35E-2,1.2500000000000001E-2,1.17E-2,1.11E-2,1.09E-2,1.06E-2,1.03E-2,9.7999999999999997E-3,9.1999999999999998E-3,8.6999999999999994E-3,8.2000000000000007E-3,7.7000000000000002E-3,7.4999999999999997E-3,7.4000000000000003E-3,7.4999999999999997E-3,7.7000000000000002E-3,8.0999999999999996E-3,8.5000000000000006E-3,8.8999999999999999E-3,9.2999999999999992E-3,9.5999999999999992E-3,9.7999999999999997E-3,0.01,0.01]
[73,1.3100000000000001E-2,1.3100000000000001E-2,1.2999999999999999E-2,1.29E-2,1.26E-2,1.24E-2,1.23E-2,1.23E-2,1.24E-2,1.26E-2,1.2800000000000001E-2,1.32E-2,1.37E-2,1.43E-2,1.49E-2,1.5599999999999999E-2,1.6400000000000001E-2,1.7100000000000001E-2,1.78E-2,1.84E-2,1.8800000000000001E-2,1.9099999999999999E-2,1.9099999999999999E-2,1.8700000000000001E-2,1.78E-2,1.66E-2,1.49E-2,1.3100000000000001E-2,1.12E-2,9.4000000000000004E-3,7.9000000000000008E-3,6.6E-3,5.5999999999999999E-3,5.0000000000000001E-3,4.7000000000000002E-3,4.7000000000000002E-3,4.8999999999999998E-3,5.0000000000000001E-3,5.1000000000000004E-3,5.0000000000000001E-3,4.7000000000000002E-3,4.4000000000000003E-3,4.1000000000000003E-3,4.1000000000000003E-3,4.3E-3,4.7999999999999996E-3,5.5999999999999999E-3,6.6E-3,7.9000000000000008E-3,9.4999999999999998E-3,1.12E-2,1.2800000000000001E-2,1.44E-2,1.5699999999999999E-2,1.66E-2,1.7100000000000001E-2,1.72E-2,1.6899999999999998E-2,1.6400000000000001E-2,1.55E-2,1.4500000000000001E-2,1.35E-2,1.2500000000000001E-2,1.18E-2,1.1299999999999999E-2,1.12E-2,1.09E-2,1.06E-2,1.0200000000000001E-2,9.7000000000000003E-3,9.1999999999999998E-3,8.6999999999999994E-3,8.3000000000000001E-3,8.0000000000000002E-3,7.7999999999999996E-3,7.7999999999999996E-3,7.9000000000000008E-3,8.2000000000000007E-3,8.5000000000000006E-3,8.8999999999999999E-3,9.2999999999999992E-3,9.5999999999999992E-3,9.7999999999999997E-3,0.01,0.01]
[74,1.2699999999999999E-2,1.2699999999999999E-2,1.26E-2,1.2500000000000001E-2,1.23E-2,1.2200000000000001E-2,1.21E-2,1.21E-2,1.23E-2,1.2500000000000001E-2,1.2800000000000001E-2,1.3100000000000001E-2,1.3599999999999999E-2,1.43E-2,1.49E-2,1.5599999999999999E-2,1.6400000000000001E-2,1.72E-2,1.7899999999999999E-2,1.8599999999999998E-2,1.9E-2,1.9300000000000001E-2,1.9400000000000001E-2,1.9099999999999999E-2,1.83E-2,1.7000000000000001E-2,1.55E-2,1.37E-2,1.18E-2,0.01,8.5000000000000006E-3,7.1000000000000004E-3,6.0000000000000001E-3,5.3E-3,4.8999999999999998E-3,4.8999999999999998E-3,4.8999999999999998E-3,5.0000000000000001E-3,5.0000000000000001E-3,4.8999999999999998E-3,4.4999999999999997E-3,4.1000000000000003E-3,3.8E-3,3.8E-3,3.8999999999999998E-3,4.4000000000000003E-3,5.0000000000000001E-3,6.0000000000000001E-3,7.3000000000000001E-3,8.8000000000000005E-3,1.0500000000000001E-2,1.2200000000000001E-2,1.37E-2,1.4999999999999999E-2,1.6E-2,1.6500000000000001E-2,1.67E-2,1.6500000000000001E-2,1.6E-2,1.52E-2,1.43E-2,1.3299999999999999E-2,1.2500000000000001E-2,1.18E-2,1.1299999999999999E-2,1.12E-2,1.11E-2,1.09E-2,1.0500000000000001E-2,1.01E-2,9.7000000000000003E-3,9.1999999999999998E-3,8.8000000000000005E-3,8.5000000000000006E-3,8.2000000000000007E-3,8.0999999999999996E-3,8.2000000000000007E-3,8.3000000000000001E-3,8.6E-3,8.8999999999999999E-3,9.2999999999999992E-3,9.5999999999999992E-3,9.7999999999999997E-3,0.01,0.01]
[75,1.24E-2,1.23E-2,1.23E-2,1.2200000000000001E-2,1.2E-2,1.1900000000000001E-2,1.1900000000000001E-2,1.1900000000000001E-2,1.21E-2,1.23E-2,1.26E-2,1.2999999999999999E-2,1.3599999999999999E-2,1.4200000000000001E-2,1.49E-2,1.5599999999999999E-2,1.6500000000000001E-2,1.7299999999999999E-2,1.7999999999999999E-2,1.8700000000000001E-2,1.9199999999999998E-2,1.95E-2,1.9599999999999999E-2,1.9400000000000001E-2,1.8700000000000001E-2,1.7500000000000002E-2,1.6E-2,1.4200000000000001E-2,1.24E-2,1.06E-2,8.9999999999999993E-3,7.6E-3,6.4999999999999997E-3,5.7000000000000002E-3,5.1999999999999998E-3,5.0000000000000001E-3,5.0000000000000001E-3,5.0000000000000001E-3,5.0000000000000001E-3,4.7000000000000002E-3,4.4000000000000003E-3,3.8999999999999998E-3,3.5000000000000001E-3,3.3999999999999998E-3,3.5000000000000001E-3,3.8999999999999998E-3,4.5999999999999999E-3,5.4999999999999997E-3,6.7000000000000002E-3,8.0999999999999996E-3,9.7999999999999997E-3,1.15E-2,1.3100000000000001E-2,1.44E-2,1.5299999999999999E-2,1.5900000000000001E-2,1.61E-2,1.5900000000000001E-2,1.55E-2,1.4800000000000001E-2,1.3899999999999999E-2,1.3100000000000001E-2,1.23E-2,1.1599999999999999E-2,1.12E-2,1.12E-2,1.11E-2,1.0999999999999999E-2,1.0699999999999999E-2,1.04E-2,0.01,9.5999999999999992E-3,9.1999999999999998E-3,8.8999999999999999E-3,8.6E-3,8.5000000000000006E-3,8.3999999999999995E-3,8.5000000000000006E-3,8.6999999999999994E-3,8.9999999999999993E-3,9.2999999999999992E-3,9.5999999999999992E-3,9.7999999999999997E-3,0.01,0.01]
[76,1.2E-2,1.1900000000000001E-2,1.1900000000000001E-2,1.18E-2,1.1599999999999999E-2,1.1599999999999999E-2,1.1599999999999999E-2,1.17E-2,1.1900000000000001E-2,1.2200000000000001E-2,1.2500000000000001E-2,1.29E-2,1.35E-2,1.41E-2,1.49E-2,1.5599999999999999E-2,1.6500000000000001E-2,1.7299999999999999E-2,1.8100000000000002E-2,1.8700000000000001E-2,1.9300000000000001E-2,1.9599999999999999E-2,1.9800000000000002E-2,1.9599999999999999E-2,1.9E-2,1.7899999999999999E-2,1.6500000000000001E-2,1.4800000000000001E-2,1.2999999999999999E-2,1.12E-2,9.5999999999999992E-3,8.0999999999999996E-3,6.8999999999999999E-3,6.1000000000000004E-3,5.4999999999999997E-3,5.1999999999999998E-3,5.1000000000000004E-3,5.0000000000000001E-3,4.8999999999999998E-3,4.5999999999999999E-3,4.1999999999999997E-3,3.7000000000000002E-3,3.2000000000000002E-3,3.0999999999999999E-3,3.0999999999999999E-3,3.5000000000000001E-3,4.1000000000000003E-3,4.8999999999999998E-3,6.1000000000000004E-3,7.4999999999999997E-3,9.1000000000000004E-3,1.0800000000000001E-2,1.24E-2,1.38E-2,1.47E-2,1.5299999999999999E-2,1.55E-2,1.54E-2,1.4999999999999999E-2,1.43E-2,1.35E-2,1.2699999999999999E-2,1.2E-2,1.14E-2,1.0999999999999999E-2,1.11E-2,1.0999999999999999E-2,1.09E-2,1.0800000000000001E-2,1.0500000000000001E-2,1.0200000000000001E-2,9.9000000000000008E-3,9.5999999999999992E-3,9.1999999999999998E-3,8.9999999999999993E-3,8.8000000000000005E-3,8.6999999999999994E-3,8.6999999999999994E-3,8.8999999999999999E-3,9.1000000000000004E-3,9.2999999999999992E-3,9.5999999999999992E-3,9.7999999999999997E-3,9.9000000000000008E-3,0.01]
[77,1.15E-2,1.15E-2,1.15E-2,1.14E-2,1.1299999999999999E-2,1.12E-2,1.1299999999999999E-2,1.14E-2,1.1599999999999999E-2,1.1900000000000001E-2,1.23E-2,1.2800000000000001E-2,1.34E-2,1.41E-2,1.4800000000000001E-2,1.5599999999999999E-2,1.6500000000000001E-2,1.7299999999999999E-2,1.8100000000000002E-2,1.8800000000000001E-2,1.9300000000000001E-2,1.9699999999999999E-2,1.9900000000000001E-2,1.9800000000000002E-2,1.9199999999999998E-2,1.8200000000000001E-2,1.6899999999999998E-2,1.52E-2,1.35E-2,1.17E-2,1.01E-2,8.6999999999999994E-3,7.4000000000000003E-3,6.4000000000000003E-3,5.7999999999999996E-3,5.4000000000000003E-3,5.1999999999999998E-3,5.0000000000000001E-3,4.7999999999999996E-3,4.4999999999999997E-3,4.0000000000000001E-3,3.3999999999999998E-3,2.8999999999999998E-3,2.7000000000000001E-3,2.7000000000000001E-3,3.0000000000000001E-3,3.5999999999999999E-3,4.4000000000000003E-3,5.4999999999999997E-3,6.8999999999999999E-3,8.5000000000000006E-3,1.0200000000000001E-2,1.18E-2,1.3100000000000001E-2,1.41E-2,1.47E-2,1.49E-2,1.4800000000000001E-2,1.44E-2,1.38E-2,1.3100000000000001E-2,1.23E-2,1.17E-2,1.11E-2,1.0699999999999999E-2,1.0800000000000001E-2,1.09E-2,1.0800000000000001E-2,1.0699999999999999E-2,1.06E-2,1.03E-2,1.01E-2,9.7999999999999997E-3,9.4999999999999998E-3,9.2999999999999992E-3,9.1000000000000004E-3,8.9999999999999993E-3,8.9999999999999993E-3,8.9999999999999993E-3,9.1999999999999998E-3,9.4000000000000004E-3,9.5999999999999992E-3,9.7999999999999997E-3,9.9000000000000008E-3,0.01]
[78,1.11E-2,1.11E-2,1.11E-2,1.0999999999999999E-2,1.09E-2,1.09E-2,1.09E-2,1.11E-2,1.14E-2,1.17E-2,1.2200000000000001E-2,1.2699999999999999E-2,1.3299999999999999E-2,1.4E-2,1.47E-2,1.5599999999999999E-2,1.6400000000000001E-2,1.7299999999999999E-2,1.8100000000000002E-2,1.8800000000000001E-2,1.9300000000000001E-2,1.9800000000000002E-2,0.02,1.9900000000000001E-2,1.9400000000000001E-2,1.8499999999999999E-2,1.72E-2,1.5599999999999999E-2,1.3899999999999999E-2,1.2200000000000001E-2,1.06E-2,9.1999999999999998E-3,7.7999999999999996E-3,6.7999999999999996E-3,6.1000000000000004E-3,5.5999999999999999E-3,5.3E-3,5.0000000000000001E-3,4.7000000000000002E-3,4.3E-3,3.8E-3,3.2000000000000002E-3,2.5999999999999999E-3,2.3999999999999998E-3,2.3E-3,2.5999999999999999E-3,3.0999999999999999E-3,3.8E-3,4.8999999999999998E-3,6.3E-3,7.9000000000000008E-3,9.5999999999999992E-3,1.12E-2,1.2500000000000001E-2,1.34E-2,1.41E-2,1.43E-2,1.4200000000000001E-2,1.3899999999999999E-2,1.32E-2,1.2500000000000001E-2,1.1900000000000001E-2,1.12E-2,1.0699999999999999E-2,1.04E-2,1.0500000000000001E-2,1.06E-2,1.0699999999999999E-2,1.06E-2,1.0500000000000001E-2,1.04E-2,1.0200000000000001E-2,0.01,9.7999999999999997E-3,9.5999999999999992E-3,9.4000000000000004E-3,9.2999999999999992E-3,9.1999999999999998E-3,9.1999999999999998E-3,9.2999999999999992E-3,9.4999999999999998E-3,9.5999999999999992E-3,9.7999999999999997E-3,0.01,0.01]
[79,1.0699999999999999E-2,1.0699999999999999E-2,1.06E-2,1.06E-2,1.0500000000000001E-2,1.0500000000000001E-2,1.06E-2,1.0800000000000001E-2,1.11E-2,1.15E-2,1.2E-2,1.2500000000000001E-2,1.32E-2,1.3899999999999999E-2,1.47E-2,1.55E-2,1.6400000000000001E-2,1.72E-2,1.7999999999999999E-2,1.8800000000000001E-2,1.9300000000000001E-2,1.9800000000000002E-2,0.02,1.9900000000000001E-2,1.95E-2,1.8599999999999998E-2,1.7399999999999999E-2,1.6E-2,1.43E-2,1.2699999999999999E-2,1.11E-2,9.5999999999999992E-3,8.3000000000000001E-3,7.1999999999999998E-3,6.4000000000000003E-3,5.7999999999999996E-3,5.4000000000000003E-3,5.0000000000000001E-3,4.7000000000000002E-3,4.1999999999999997E-3,3.5999999999999999E-3,2.8999999999999998E-3,2.3E-3,2E-3,1.9E-3,2.0999999999999999E-3,2.5999999999999999E-3,3.3E-3,4.4000000000000003E-3,5.7000000000000002E-3,7.3000000000000001E-3,8.9999999999999993E-3,1.0500000000000001E-2,1.1900000000000001E-2,1.2800000000000001E-2,1.34E-2,1.37E-2,1.3599999999999999E-2,1.3299999999999999E-2,1.2699999999999999E-2,1.2E-2,1.14E-2,1.0800000000000001E-2,1.03E-2,0.01,1.0200000000000001E-2,1.03E-2,1.04E-2,1.04E-2,1.04E-2,1.04E-2,1.0200000000000001E-2,1.01E-2,9.9000000000000008E-3,9.7999999999999997E-3,9.5999999999999992E-3,9.4999999999999998E-3,9.4000000000000004E-3,9.4000000000000004E-3,9.4000000000000004E-3,9.4999999999999998E-3,9.7000000000000003E-3,9.7999999999999997E-3,0.01,0.01]
[80,1.03E-2,1.03E-2,1.03E-2,1.0200000000000001E-2,1.0200000000000001E-2,1.0200000000000001E-2,1.03E-2,1.0500000000000001E-2,1.0800000000000001E-2,1.1299999999999999E-2,1.18E-2,1.24E-2,1.2999999999999999E-2,1.38E-2,1.46E-2,1.54E-2,1.6299999999999999E-2,1.7100000000000001E-2,1.7999999999999999E-2,1.8700000000000001E-2,1.9300000000000001E-2,1.9699999999999999E-2,0.02,1.9900000000000001E-2,1.95E-2,1.8800000000000001E-2,1.7600000000000001E-2,1.6199999999999999E-2,1.47E-2,1.2999999999999999E-2,1.15E-2,0.01,8.6999999999999994E-3,7.6E-3,6.7000000000000002E-3,6.0000000000000001E-3,5.4999999999999997E-3,5.0000000000000001E-3,4.5999999999999999E-3,4.0000000000000001E-3,3.3999999999999998E-3,2.7000000000000001E-3,2E-3,1.6999999999999999E-3,1.5E-3,1.6999999999999999E-3,2.0999999999999999E-3,2.8E-3,3.8E-3,5.1999999999999998E-3,6.7000000000000002E-3,8.3000000000000001E-3,9.9000000000000008E-3,1.12E-2,1.2200000000000001E-2,1.2800000000000001E-2,1.3100000000000001E-2,1.2999999999999999E-2,1.2699999999999999E-2,1.21E-2,1.15E-2,1.0800000000000001E-2,1.03E-2,9.9000000000000008E-3,9.4999999999999998E-3,9.7999999999999997E-3,9.9000000000000008E-3,1.01E-2,1.0200000000000001E-2,1.03E-2,1.03E-2,1.0200000000000001E-2,1.0200000000000001E-2,0.01,9.9000000000000008E-3,9.7999999999999997E-3,9.5999999999999992E-3,9.4999999999999998E-3,9.4999999999999998E-3,9.5999999999999992E-3,9.5999999999999992E-3,9.7000000000000003E-3,9.9000000000000008E-3,0.01,0.01]
[81,9.9000000000000008E-3,9.9000000000000008E-3,9.9000000000000008E-3,9.9000000000000008E-3,9.7999999999999997E-3,9.9000000000000008E-3,0.01,1.0200000000000001E-2,1.06E-2,1.0999999999999999E-2,1.1599999999999999E-2,1.2200000000000001E-2,1.29E-2,1.37E-2,1.4500000000000001E-2,1.54E-2,1.6199999999999999E-2,1.7100000000000001E-2,1.7899999999999999E-2,1.8599999999999998E-2,1.9199999999999998E-2,1.9599999999999999E-2,1.9900000000000001E-2,1.9900000000000001E-2,1.95E-2,1.8800000000000001E-2,1.77E-2,1.6400000000000001E-2,1.49E-2,1.34E-2,1.1900000000000001E-2,1.04E-2,8.9999999999999993E-3,7.9000000000000008E-3,6.8999999999999999E-3,6.1999999999999998E-3,5.4999999999999997E-3,5.0000000000000001E-3,4.4999999999999997E-3,3.8999999999999998E-3,3.2000000000000002E-3,2.3999999999999998E-3,1.6999999999999999E-3,1.2999999999999999E-3,1.1000000000000001E-3,1.1999999999999999E-3,1.6000000000000001E-3,2.3E-3,3.3E-3,4.5999999999999999E-3,6.1000000000000004E-3,7.7000000000000002E-3,9.1999999999999998E-3,1.0500000000000001E-2,1.15E-2,1.21E-2,1.24E-2,1.24E-2,1.21E-2,1.15E-2,1.09E-2,1.03E-2,9.7999999999999997E-3,9.4000000000000004E-3,9.1000000000000004E-3,9.2999999999999992E-3,9.4999999999999998E-3,9.7000000000000003E-3,9.9000000000000008E-3,0.01,1.01E-2,1.0200000000000001E-2,1.0200000000000001E-2,1.01E-2,0.01,9.9000000000000008E-3,9.7000000000000003E-3,9.7000000000000003E-3,9.5999999999999992E-3,9.5999999999999992E-3,9.7000000000000003E-3,9.7999999999999997E-3,9.9000000000000008E-3,0.01,0.01]
[82,9.5999999999999992E-3,9.5999999999999992E-3,9.4999999999999998E-3,9.4999999999999998E-3,9.4999999999999998E-3,9.5999999999999992E-3,9.7000000000000003E-3,0.01,1.03E-2,1.0800000000000001E-2,1.14E-2,1.2E-2,1.2800000000000001E-2,1.3599999999999999E-2,1.44E-2,1.5299999999999999E-2,1.61E-2,1.7000000000000001E-2,1.78E-2,1.8499999999999999E-2,1.9099999999999999E-2,1.95E-2,1.9800000000000002E-2,1.9800000000000002E-2,1.9400000000000001E-2,1.8800000000000001E-2,1.78E-2,1.6500000000000001E-2,1.5100000000000001E-2,1.3599999999999999E-2,1.21E-2,1.0699999999999999E-2,9.2999999999999992E-3,8.0999999999999996E-3,7.1000000000000004E-3,6.3E-3,5.5999999999999999E-3,5.0000000000000001E-3,4.4000000000000003E-3,3.7000000000000002E-3,2.8999999999999998E-3,2.0999999999999999E-3,1.4E-3,1E-3,8.0000000000000004E-4,8.0000000000000004E-4,1.1000000000000001E-3,1.8E-3,2.8E-3,4.1000000000000003E-3,5.4999999999999997E-3,7.1000000000000004E-3,8.6E-3,9.9000000000000008E-3,1.0800000000000001E-2,1.15E-2,1.18E-2,1.17E-2,1.15E-2,1.0999999999999999E-2,1.04E-2,9.7999999999999997E-3,9.2999999999999992E-3,8.9999999999999993E-3,8.6999999999999994E-3,8.8999999999999999E-3,9.1000000000000004E-3,9.4000000000000004E-3,9.5999999999999992E-3,9.7999999999999997E-3,9.9000000000000008E-3,1.01E-2,1.01E-2,1.01E-2,0.01,9.9000000000000008E-3,9.7999999999999997E-3,9.7000000000000003E-3,9.7000000000000003E-3,9.7000000000000003E-3,9.7000000000000003E-3,9.7999999999999997E-3,9.9000000000000008E-3,0.01,0.01]
[83,9.1999999999999998E-3,9.1999999999999998E-3,9.1999999999999998E-3,9.1999999999999998E-3,9.1999999999999998E-3,9.2999999999999992E-3,9.4999999999999998E-3,9.7000000000000003E-3,1.01E-2,1.06E-2,1.12E-2,1.1900000000000001E-2,1.26E-2,1.35E-2,1.43E-2,1.52E-2,1.61E-2,1.6899999999999998E-2,1.77E-2,1.84E-2,1.89E-2,1.9400000000000001E-2,1.9599999999999999E-2,1.9599999999999999E-2,1.9300000000000001E-2,1.8700000000000001E-2,1.77E-2,1.66E-2,1.52E-2,1.38E-2,1.24E-2,1.09E-2,9.5999999999999992E-3,8.3999999999999995E-3,7.3000000000000001E-3,6.4000000000000003E-3,5.5999999999999999E-3,4.8999999999999998E-3,4.3E-3,3.5000000000000001E-3,2.7000000000000001E-3,1.9E-3,1.1000000000000001E-3,5.9999999999999995E-4,4.0000000000000002E-4,4.0000000000000002E-4,6.9999999999999999E-4,1.2999999999999999E-3,2.2000000000000001E-3,3.5000000000000001E-3,4.8999999999999998E-3,6.4000000000000003E-3,7.9000000000000008E-3,9.1999999999999998E-3,1.01E-2,1.0800000000000001E-2,1.11E-2,1.11E-2,1.09E-2,1.04E-2,9.7999999999999997E-3,9.2999999999999992E-3,8.8999999999999999E-3,8.5000000000000006E-3,8.3000000000000001E-3,8.5000000000000006E-3,8.6999999999999994E-3,8.9999999999999993E-3,9.2999999999999992E-3,9.4999999999999998E-3,9.7000000000000003E-3,9.9000000000000008E-3,0.01,1.01E-2,0.01,9.9000000000000008E-3,9.9000000000000008E-3,9.7999999999999997E-3,9.7000000000000003E-3,9.7000000000000003E-3,9.7000000000000003E-3,9.7999999999999997E-3,9.9000000000000008E-3,0.01,0.01]
[84,8.9999999999999993E-3,8.9999999999999993E-3,8.9999999999999993E-3,8.9999999999999993E-3,8.9999999999999993E-3,9.1000000000000004E-3,9.2999999999999992E-3,9.5999999999999992E-3,0.01,1.0500000000000001E-2,1.0999999999999999E-2,1.17E-2,1.2500000000000001E-2,1.34E-2,1.4200000000000001E-2,1.5100000000000001E-2,1.6E-2,1.6799999999999999E-2,1.7600000000000001E-2,1.83E-2,1.8800000000000001E-2,1.9199999999999998E-2,1.9400000000000001E-2,1.9400000000000001E-2,1.9099999999999999E-2,1.8499999999999999E-2,1.77E-2,1.66E-2,1.5299999999999999E-2,1.3899999999999999E-2,1.2500000000000001E-2,1.11E-2,9.7999999999999997E-3,8.5000000000000006E-3,7.4000000000000003E-3,6.4999999999999997E-3,5.5999999999999999E-3,4.8999999999999998E-3,4.1000000000000003E-3,3.3E-3,2.5000000000000001E-3,1.6000000000000001E-3,8.0000000000000004E-4,2.9999999999999997E-4,0,0,2.9999999999999997E-4,8.0000000000000004E-4,1.6999999999999999E-3,2.8999999999999998E-3,4.3E-3,5.7999999999999996E-3,7.1999999999999998E-3,8.5000000000000006E-3,9.4000000000000004E-3,1.01E-2,1.04E-2,1.04E-2,1.0200000000000001E-2,9.7999999999999997E-3,9.2999999999999992E-3,8.8000000000000005E-3,8.3999999999999995E-3,8.0999999999999996E-3,7.7999999999999996E-3,8.0999999999999996E-3,8.3000000000000001E-3,8.6E-3,8.8999999999999999E-3,9.1999999999999998E-3,9.4999999999999998E-3,9.7000000000000003E-3,9.9000000000000008E-3,0.01,0.01,9.9000000000000008E-3,9.9000000000000008E-3,9.7999999999999997E-3,9.7000000000000003E-3,9.7000000000000003E-3,9.7000000000000003E-3,9.7999999999999997E-3,9.9000000000000008E-3,0.01,0.01]
[85,8.8000000000000005E-3,8.8000000000000005E-3,8.8000000000000005E-3,8.8000000000000005E-3,8.8000000000000005E-3,8.8999999999999999E-3,9.1000000000000004E-3,9.4000000000000004E-3,9.7999999999999997E-3,1.03E-2,1.09E-2,1.1599999999999999E-2,1.24E-2,1.32E-2,1.41E-2,1.4999999999999999E-2,1.5900000000000001E-2,1.67E-2,1.7500000000000002E-2,1.8100000000000002E-2,1.8599999999999998E-2,1.9E-2,1.9199999999999998E-2,1.9199999999999998E-2,1.89E-2,1.84E-2,1.7500000000000002E-2,1.6500000000000001E-2,1.5299999999999999E-2,1.4E-2,1.26E-2,1.1299999999999999E-2,9.9000000000000008E-3,8.6999999999999994E-3,7.4999999999999997E-3,6.4999999999999997E-3,5.5999999999999999E-3,4.7999999999999996E-3,4.0000000000000001E-3,3.0999999999999999E-3,2.2000000000000001E-3,1.4E-3,5.9999999999999995E-4,0,-2.9999999999999997E-4,-4.0000000000000002E-4,-1E-4,4.0000000000000002E-4,1.1999999999999999E-3,2.3999999999999998E-3,3.7000000000000002E-3,5.1000000000000004E-3,6.4999999999999997E-3,7.7000000000000002E-3,8.6999999999999994E-3,9.2999999999999992E-3,9.7000000000000003E-3,9.7999999999999997E-3,9.5999999999999992E-3,9.1999999999999998E-3,8.8000000000000005E-3,8.3999999999999995E-3,8.0000000000000002E-3,7.7000000000000002E-3,7.4000000000000003E-3,7.7000000000000002E-3,7.9000000000000008E-3,8.2000000000000007E-3,8.6E-3,8.8999999999999999E-3,9.1999999999999998E-3,9.4999999999999998E-3,9.7000000000000003E-3,9.7999999999999997E-3,9.9000000000000008E-3,9.9000000000000008E-3,9.7999999999999997E-3,9.7999999999999997E-3,9.7000000000000003E-3,9.7000000000000003E-3,9.7000000000000003E-3,9.7999999999999997E-3,9.7999999999999997E-3,9.9000000000000008E-3,0.01]
[86,8.6E-3,8.6E-3,8.6E-3,8.6E-3,8.6E-3,8.8000000000000005E-3,8.9999999999999993E-3,9.2999999999999992E-3,9.7000000000000003E-3,1.0200000000000001E-2,1.0800000000000001E-2,1.15E-2,1.23E-2,1.3100000000000001E-2,1.4E-2,1.49E-2,1.5800000000000002E-2,1.66E-2,1.7299999999999999E-2,1.7899999999999999E-2,1.84E-2,1.8700000000000001E-2,1.89E-2,1.89E-2,1.8700000000000001E-2,1.8100000000000002E-2,1.7399999999999999E-2,1.6400000000000001E-2,1.52E-2,1.4E-2,1.2699999999999999E-2,1.14E-2,0.01,8.8000000000000005E-3,7.6E-3,6.6E-3,5.5999999999999999E-3,4.7000000000000002E-3,3.8E-3,3.0000000000000001E-3,2E-3,1.1000000000000001E-3,2.9999999999999997E-4,-2.9999999999999997E-4,-5.9999999999999995E-4,-6.9999999999999999E-4,-5.0000000000000001E-4,0,8.0000000000000004E-4,1.9E-3,3.0999999999999999E-3,4.4999999999999997E-3,5.7999999999999996E-3,7.0000000000000001E-3,7.9000000000000008E-3,8.6E-3,8.9999999999999993E-3,9.1000000000000004E-3,8.9999999999999993E-3,8.6E-3,8.3000000000000001E-3,7.9000000000000008E-3,7.4999999999999997E-3,7.3000000000000001E-3,7.1000000000000004E-3,7.3000000000000001E-3,7.6E-3,7.9000000000000008E-3,8.2000000000000007E-3,8.5000000000000006E-3,8.8999999999999999E-3,9.1999999999999998E-3,9.4000000000000004E-3,9.5999999999999992E-3,9.7000000000000003E-3,9.7000000000000003E-3,9.7000000000000003E-3,9.7000000000000003E-3,9.5999999999999992E-3,9.5999999999999992E-3,9.5999999999999992E-3,9.5999999999999992E-3,9.7000000000000003E-3,9.7999999999999997E-3,9.9000000000000008E-3]
[87,8.3999999999999995E-3,8.3999999999999995E-3,8.3999999999999995E-3,8.3999999999999995E-3,8.5000000000000006E-3,8.6E-3,8.8999999999999999E-3,9.1999999999999998E-3,9.5999999999999992E-3,1.01E-2,1.0699999999999999E-2,1.14E-2,1.2200000000000001E-2,1.2999999999999999E-2,1.3899999999999999E-2,1.4800000000000001E-2,1.5699999999999999E-2,1.6500000000000001E-2,1.72E-2,1.77E-2,1.8200000000000001E-2,1.8499999999999999E-2,1.8700000000000001E-2,1.8700000000000001E-2,1.84E-2,1.7899999999999999E-2,1.72E-2,1.6199999999999999E-2,1.52E-2,1.4E-2,1.2699999999999999E-2,1.14E-2,1.01E-2,8.8000000000000005E-3,7.6E-3,6.6E-3,5.4999999999999997E-3,4.5999999999999999E-3,3.7000000000000002E-3,2.8E-3,1.8E-3,8.9999999999999998E-4,0,-5.9999999999999995E-4,-8.9999999999999998E-4,-1E-3,-8.9999999999999998E-4,-4.0000000000000002E-4,2.9999999999999997E-4,1.2999999999999999E-3,2.5000000000000001E-3,3.8E-3,5.1000000000000004E-3,6.1999999999999998E-3,7.1000000000000004E-3,7.7999999999999996E-3,8.2000000000000007E-3,8.3999999999999995E-3,8.3000000000000001E-3,8.0999999999999996E-3,7.7000000000000002E-3,7.4000000000000003E-3,7.1000000000000004E-3,6.8999999999999999E-3,6.7000000000000002E-3,6.8999999999999999E-3,7.1999999999999998E-3,7.4999999999999997E-3,7.7999999999999996E-3,8.2000000000000007E-3,8.5000000000000006E-3,8.8000000000000005E-3,9.1000000000000004E-3,9.2999999999999992E-3,9.4000000000000004E-3,9.4999999999999998E-3,9.5999999999999992E-3,9.4999999999999998E-3,9.4999999999999998E-3,9.4999999999999998E-3,9.4999999999999998E-3,9.4999999999999998E-3,9.5999999999999992E-3,9.5999999999999992E-3,9.7000000000000003E-3]
[88,8.3000000000000001E-3,8.3000000000000001E-3,8.3000000000000001E-3,8.3000000000000001E-3,8.3999999999999995E-3,8.6E-3,8.8000000000000005E-3,9.1000000000000004E-3,9.5999999999999992E-3,1.01E-2,1.0699999999999999E-2,1.1299999999999999E-2,1.21E-2,1.2999999999999999E-2,1.38E-2,1.47E-2,1.55E-2,1.6299999999999999E-2,1.7000000000000001E-2,1.7500000000000002E-2,1.7999999999999999E-2,1.83E-2,1.84E-2,1.84E-2,1.8100000000000002E-2,1.7600000000000001E-2,1.6899999999999998E-2,1.61E-2,1.4999999999999999E-2,1.3899999999999999E-2,1.2699999999999999E-2,1.14E-2,1.01E-2,8.8000000000000005E-3,7.6E-3,6.4999999999999997E-3,5.4999999999999997E-3,4.4999999999999997E-3,3.5000000000000001E-3,2.5999999999999999E-3,1.6000000000000001E-3,6.9999999999999999E-4,-2.0000000000000001E-4,-8.0000000000000004E-4,-1.1999999999999999E-3,-1.2999999999999999E-3,-1.1999999999999999E-3,-8.0000000000000004E-4,-1E-4,8.0000000000000004E-4,1.9E-3,3.0999999999999999E-3,4.3E-3,5.4000000000000003E-3,6.3E-3,7.0000000000000001E-3,7.4000000000000003E-3,7.6E-3,7.6E-3,7.4999999999999997E-3,7.1999999999999998E-3,6.8999999999999999E-3,6.7000000000000002E-3,6.4999999999999997E-3,6.3E-3,6.4999999999999997E-3,6.7999999999999996E-3,7.1000000000000004E-3,7.4999999999999997E-3,7.7999999999999996E-3,8.2000000000000007E-3,8.5000000000000006E-3,8.8000000000000005E-3,8.9999999999999993E-3,9.1999999999999998E-3,9.2999999999999992E-3,9.2999999999999992E-3,9.4000000000000004E-3,9.4000000000000004E-3,9.4000000000000004E-3,9.4000000000000004E-3,9.4000000000000004E-3,9.4000000000000004E-3,9.4999999999999998E-3,9.5999999999999992E-3]
[89,8.2000000000000007E-3,8.2000000000000007E-3,8.2000000000000007E-3,8.3000000000000001E-3,8.3999999999999995E-3,8.5000000000000006E-3,8.8000000000000005E-3,9.1000000000000004E-3,9.4999999999999998E-3,0.01,1.06E-2,1.1299999999999999E-2,1.21E-2,1.29E-2,1.37E-2,1.46E-2,1.54E-2,1.6199999999999999E-2,1.6799999999999999E-2,1.7299999999999999E-2,1.77E-2,1.7999999999999999E-2,1.8100000000000002E-2,1.8100000000000002E-2,1.78E-2,1.7399999999999999E-2,1.67E-2,1.5900000000000001E-2,1.49E-2,1.38E-2,1.26E-2,1.14E-2,1.01E-2,8.8000000000000005E-3,7.6E-3,6.4999999999999997E-3,5.4000000000000003E-3,4.4000000000000003E-3,3.3999999999999998E-3,2.3999999999999998E-3,1.4E-3,4.0000000000000002E-4,-4.0000000000000002E-4,-1E-3,-1.4E-3,-1.6000000000000001E-3,-1.5E-3,-1.1999999999999999E-3,-5.9999999999999995E-4,2.9999999999999997E-4,1.4E-3,2.5000000000000001E-3,3.5999999999999999E-3,4.7000000000000002E-3,5.4999999999999997E-3,6.1999999999999998E-3,6.7000000000000002E-3,6.8999999999999999E-3,7.0000000000000001E-3,6.7999999999999996E-3,6.6E-3,6.4000000000000003E-3,6.1999999999999998E-3,6.1000000000000004E-3,5.8999999999999999E-3,6.1000000000000004E-3,6.4000000000000003E-3,6.7999999999999996E-3,7.1000000000000004E-3,7.4999999999999997E-3,7.9000000000000008E-3,8.2000000000000007E-3,8.5000000000000006E-3,8.8000000000000005E-3,8.8999999999999999E-3,8.9999999999999993E-3,9.1000000000000004E-3,9.1000000000000004E-3,9.1999999999999998E-3,9.1999999999999998E-3,9.1999999999999998E-3,9.1999999999999998E-3,9.2999999999999992E-3,9.2999999999999992E-3,9.4000000000000004E-3]
[90,8.0999999999999996E-3,8.0999999999999996E-3,8.0999999999999996E-3,8.2000000000000007E-3,8.3000000000000001E-3,8.5000000000000006E-3,8.6999999999999994E-3,9.1000000000000004E-3,9.4999999999999998E-3,0.01,1.06E-2,1.1299999999999999E-2,1.2E-2,1.2800000000000001E-2,1.37E-2,1.4500000000000001E-2,1.5299999999999999E-2,1.6E-2,1.66E-2,1.7100000000000001E-2,1.7500000000000002E-2,1.77E-2,1.78E-2,1.78E-2,1.7500000000000002E-2,1.7100000000000001E-2,1.6400000000000001E-2,1.5699999999999999E-2,1.47E-2,1.37E-2,1.2500000000000001E-2,1.1299999999999999E-2,1.01E-2,8.8000000000000005E-3,7.6E-3,6.4000000000000003E-3,5.3E-3,4.1999999999999997E-3,3.2000000000000002E-3,2.2000000000000001E-3,1.1999999999999999E-3,2.0000000000000001E-4,-5.9999999999999995E-4,-1.1999999999999999E-3,-1.6999999999999999E-3,-1.9E-3,-1.8E-3,-1.5E-3,-1E-3,-2.0000000000000001E-4,8.0000000000000004E-4,1.8E-3,2.8999999999999998E-3,3.8999999999999998E-3,4.7000000000000002E-3,5.4000000000000003E-3,5.8999999999999999E-3,6.1999999999999998E-3,6.3E-3,6.1999999999999998E-3,6.1000000000000004E-3,5.8999999999999999E-3,5.7999999999999996E-3,5.5999999999999999E-3,5.4999999999999997E-3,5.7000000000000002E-3,6.0000000000000001E-3,6.4000000000000003E-3,6.7999999999999996E-3,7.1999999999999998E-3,7.4999999999999997E-3,7.9000000000000008E-3,8.2000000000000007E-3,8.5000000000000006E-3,8.6E-3,8.6999999999999994E-3,8.8000000000000005E-3,8.8999999999999999E-3,8.9999999999999993E-3,9.1000000000000004E-3,9.1000000000000004E-3,9.1000000000000004E-3,9.1000000000000004E-3,9.1999999999999998E-3,9.2999999999999992E-3]
[91,8.0999999999999996E-3,8.0999999999999996E-3,8.0999999999999996E-3,8.2000000000000007E-3,8.3000000000000001E-3,8.5000000000000006E-3,8.6999999999999994E-3,9.1000000000000004E-3,9.4999999999999998E-3,0.01,1.06E-2,1.1299999999999999E-2,1.2E-2,1.2800000000000001E-2,1.3599999999999999E-2,1.44E-2,1.5100000000000001E-2,1.5800000000000002E-2,1.6400000000000001E-2,1.6899999999999998E-2,1.72E-2,1.7399999999999999E-2,1.7500000000000002E-2,1.7399999999999999E-2,1.72E-2,1.6799999999999999E-2,1.6199999999999999E-2,1.54E-2,1.46E-2,1.35E-2,1.24E-2,1.1299999999999999E-2,0.01,8.8000000000000005E-3,7.4999999999999997E-3,6.4000000000000003E-3,5.1999999999999998E-3,4.1000000000000003E-3,3.0999999999999999E-3,2E-3,1E-3,1E-4,-8.0000000000000004E-4,-1.4E-3,-1.9E-3,-2.0999999999999999E-3,-2.0999999999999999E-3,-1.9E-3,-1.4E-3,-6.9999999999999999E-4,2.0000000000000001E-4,1.1999999999999999E-3,2.2000000000000001E-3,3.0999999999999999E-3,3.8999999999999998E-3,4.5999999999999999E-3,5.1000000000000004E-3,5.4000000000000003E-3,5.5999999999999999E-3,5.5999999999999999E-3,5.4999999999999997E-3,5.4000000000000003E-3,5.3E-3,5.1999999999999998E-3,5.1000000000000004E-3,5.4000000000000003E-3,5.7000000000000002E-3,6.0000000000000001E-3,6.4000000000000003E-3,6.7999999999999996E-3,7.1999999999999998E-3,7.6E-3,7.9000000000000008E-3,8.2000000000000007E-3,8.3000000000000001E-3,8.3999999999999995E-3,8.5000000000000006E-3,8.6E-3,8.6999999999999994E-3,8.8000000000000005E-3,8.8999999999999999E-3,8.9999999999999993E-3,8.9999999999999993E-3,8.9999999999999993E-3,9.1000000000000004E-3]
[92,8.0000000000000002E-3,8.0000000000000002E-3,8.0999999999999996E-3,8.2000000000000007E-3,8.3000000000000001E-3,8.5000000000000006E-3,8.8000000000000005E-3,9.1000000000000004E-3,9.5999999999999992E-3,1.01E-2,1.06E-2,1.1299999999999999E-2,1.2E-2,1.2800000000000001E-2,1.35E-2,1.43E-2,1.4999999999999999E-2,1.5599999999999999E-2,1.6199999999999999E-2,1.66E-2,1.7000000000000001E-2,1.7100000000000001E-2,1.72E-2,1.7100000000000001E-2,1.6899999999999998E-2,1.6500000000000001E-2,1.5900000000000001E-2,1.52E-2,1.44E-2,1.34E-2,1.23E-2,1.12E-2,0.01,8.6999999999999994E-3,7.4999999999999997E-3,6.3E-3,5.1000000000000004E-3,4.0000000000000001E-3,2.8999999999999998E-3,1.9E-3,8.0000000000000004E-4,-1E-4,-1E-3,-1.6000000000000001E-3,-2.0999999999999999E-3,-2.3999999999999998E-3,-2.3999999999999998E-3,-2.2000000000000001E-3,-1.8E-3,-1.1000000000000001E-3,-4.0000000000000002E-4,5.0000000000000001E-4,1.4E-3,2.3E-3,3.0999999999999999E-3,3.7000000000000002E-3,4.3E-3,4.5999999999999999E-3,4.8999999999999998E-3,5.0000000000000001E-3,5.0000000000000001E-3,4.8999999999999998E-3,4.8999999999999998E-3,4.7999999999999996E-3,4.7000000000000002E-3,5.0000000000000001E-3,5.3E-3,5.7000000000000002E-3,6.1000000000000004E-3,6.4999999999999997E-3,6.8999999999999999E-3,7.3000000000000001E-3,7.6E-3,7.9000000000000008E-3,8.0000000000000002E-3,8.0999999999999996E-3,8.2000000000000007E-3,8.3000000000000001E-3,8.3999999999999995E-3,8.5000000000000006E-3,8.6999999999999994E-3,8.8000000000000005E-3,8.8000000000000005E-3,8.8999999999999999E-3,8.9999999999999993E-3]
[93,8.0000000000000002E-3,8.0000000000000002E-3,8.0999999999999996E-3,8.2000000000000007E-3,8.3000000000000001E-3,8.5000000000000006E-3,8.8000000000000005E-3,9.1999999999999998E-3,9.5999999999999992E-3,1.01E-2,1.0699999999999999E-2,1.1299999999999999E-2,1.2E-2,1.2699999999999999E-2,1.34E-2,1.4200000000000001E-2,1.4800000000000001E-2,1.54E-2,1.6E-2,1.6400000000000001E-2,1.67E-2,1.6899999999999998E-2,1.6899999999999998E-2,1.6799999999999999E-2,1.66E-2,1.6199999999999999E-2,1.5599999999999999E-2,1.4999999999999999E-2,1.4200000000000001E-2,1.32E-2,1.2200000000000001E-2,1.11E-2,9.9000000000000008E-3,8.6999999999999994E-3,7.4000000000000003E-3,6.1999999999999998E-3,5.0000000000000001E-3,3.8999999999999998E-3,2.8E-3,1.6999999999999999E-3,6.9999999999999999E-4,-2.9999999999999997E-4,-1.1000000000000001E-3,-1.8E-3,-2.3E-3,-2.5999999999999999E-3,-2.7000000000000001E-3,-2.5000000000000001E-3,-2.2000000000000001E-3,-1.6000000000000001E-3,-8.9999999999999998E-4,-1E-4,6.9999999999999999E-4,1.5E-3,2.3E-3,2.8999999999999998E-3,3.5000000000000001E-3,3.8999999999999998E-3,4.1999999999999997E-3,4.3E-3,4.4000000000000003E-3,4.4000000000000003E-3,4.4000000000000003E-3,4.4000000000000003E-3,4.4000000000000003E-3,4.5999999999999999E-3,4.8999999999999998E-3,5.3E-3,5.7000000000000002E-3,6.1999999999999998E-3,6.6E-3,7.0000000000000001E-3,7.3000000000000001E-3,7.6E-3,7.7000000000000002E-3,7.7999999999999996E-3,7.9000000000000008E-3,8.0000000000000002E-3,8.0999999999999996E-3,8.3000000000000001E-3,8.3999999999999995E-3,8.5000000000000006E-3,8.6999999999999994E-3,8.6999999999999994E-3,8.8000000000000005E-3]
[94,8.0000000000000002E-3,8.0000000000000002E-3,8.0999999999999996E-3,8.2000000000000007E-3,8.3000000000000001E-3,8.5000000000000006E-3,8.8000000000000005E-3,9.1999999999999998E-3,9.5999999999999992E-3,1.01E-2,1.0699999999999999E-2,1.1299999999999999E-2,1.2E-2,1.2699999999999999E-2,1.34E-2,1.4E-2,1.47E-2,1.52E-2,1.5699999999999999E-2,1.61E-2,1.6400000000000001E-2,1.66E-2,1.66E-2,1.6500000000000001E-2,1.6299999999999999E-2,1.5900000000000001E-2,1.54E-2,1.47E-2,1.4E-2,1.3100000000000001E-2,1.21E-2,1.0999999999999999E-2,9.7999999999999997E-3,8.6E-3,7.3000000000000001E-3,6.1000000000000004E-3,4.8999999999999998E-3,3.7000000000000002E-3,2.5999999999999999E-3,1.5E-3,5.0000000000000001E-4,-5.0000000000000001E-4,-1.2999999999999999E-3,-2E-3,-2.5000000000000001E-3,-2.8E-3,-2.8999999999999998E-3,-2.8E-3,-2.5000000000000001E-3,-2.0999999999999999E-3,-1.5E-3,-8.0000000000000004E-4,0,6.9999999999999999E-4,1.5E-3,2.0999999999999999E-3,2.7000000000000001E-3,3.0999999999999999E-3,3.5000000000000001E-3,3.7000000000000002E-3,3.8E-3,3.8999999999999998E-3,4.0000000000000001E-3,4.0000000000000001E-3,4.0000000000000001E-3,4.1999999999999997E-3,4.5999999999999999E-3,5.0000000000000001E-3,5.4000000000000003E-3,5.7999999999999996E-3,6.3E-3,6.7000000000000002E-3,7.0000000000000001E-3,7.3000000000000001E-3,7.4999999999999997E-3,7.4999999999999997E-3,7.6E-3,7.7000000000000002E-3,7.9000000000000008E-3,8.0000000000000002E-3,8.0999999999999996E-3,8.2000000000000007E-3,8.3999999999999995E-3,8.6E-3,8.6999999999999994E-3]
[95,8.0000000000000002E-3,8.0000000000000002E-3,8.0999999999999996E-3,8.2000000000000007E-3,8.3000000000000001E-3,8.6E-3,8.8999999999999999E-3,9.1999999999999998E-3,9.7000000000000003E-3,1.0200000000000001E-2,1.0699999999999999E-2,1.1299999999999999E-2,1.2E-2,1.26E-2,1.3299999999999999E-2,1.3899999999999999E-2,1.4500000000000001E-2,1.5100000000000001E-2,1.55E-2,1.5900000000000001E-2,1.61E-2,1.6299999999999999E-2,1.6299999999999999E-2,1.6199999999999999E-2,1.6E-2,1.5599999999999999E-2,1.5100000000000001E-2,1.4500000000000001E-2,1.38E-2,1.29E-2,1.1900000000000001E-2,1.09E-2,9.7000000000000003E-3,8.5000000000000006E-3,7.3000000000000001E-3,6.0000000000000001E-3,4.7999999999999996E-3,3.5999999999999999E-3,2.5000000000000001E-3,1.4E-3,2.9999999999999997E-4,-5.9999999999999995E-4,-1.5E-3,-2.0999999999999999E-3,-2.7000000000000001E-3,-3.0000000000000001E-3,-3.2000000000000002E-3,-3.0999999999999999E-3,-2.8999999999999998E-3,-2.5000000000000001E-3,-2E-3,-1.4E-3,-6.9999999999999999E-4,0,5.9999999999999995E-4,1.2999999999999999E-3,1.9E-3,2.3E-3,2.7000000000000001E-3,3.0000000000000001E-3,3.2000000000000002E-3,3.3999999999999998E-3,3.5000000000000001E-3,3.5999999999999999E-3,3.5999999999999999E-3,3.8E-3,4.1999999999999997E-3,4.5999999999999999E-3,5.0000000000000001E-3,5.4999999999999997E-3,6.0000000000000001E-3,6.4000000000000003E-3,6.7999999999999996E-3,7.0000000000000001E-3,7.1999999999999998E-3,7.3000000000000001E-3,7.4000000000000003E-3,7.4999999999999997E-3,7.6E-3,7.7000000000000002E-3,7.7999999999999996E-3,8.0000000000000002E-3,8.0999999999999996E-3,8.3000000000000001E-3,8.5000000000000006E-3]
[96,7.6E-3,7.6E-3,7.7000000000000002E-3,7.7999999999999996E-3,7.9000000000000008E-3,8.0999999999999996E-3,8.3999999999999995E-3,8.8000000000000005E-3,9.1999999999999998E-3,9.7000000000000003E-3,1.0200000000000001E-2,1.0800000000000001E-2,1.14E-2,1.2E-2,1.26E-2,1.32E-2,1.38E-2,1.43E-2,1.47E-2,1.5100000000000001E-2,1.5299999999999999E-2,1.55E-2,1.55E-2,1.54E-2,1.52E-2,1.4800000000000001E-2,1.43E-2,1.38E-2,1.3100000000000001E-2,1.2200000000000001E-2,1.1299999999999999E-2,1.03E-2,9.1999999999999998E-3,8.0999999999999996E-3,6.8999999999999999E-3,5.7000000000000002E-3,4.5999999999999999E-3,3.3999999999999998E-3,2.3999999999999998E-3,1.2999999999999999E-3,2.9999999999999997E-4,-5.9999999999999995E-4,-1.4E-3,-2E-3,-2.5000000000000001E-3,-2.8999999999999998E-3,-3.0000000000000001E-3,-3.0000000000000001E-3,-2.8E-3,-2.3999999999999998E-3,-1.9E-3,-1.2999999999999999E-3,-6.9999999999999999E-4,0,5.9999999999999995E-4,1.1999999999999999E-3,1.8E-3,2.2000000000000001E-3,2.5999999999999999E-3,2.8999999999999998E-3,3.0999999999999999E-3,3.2000000000000002E-3,3.3E-3,3.3999999999999998E-3,3.3999999999999998E-3,3.5999999999999999E-3,4.0000000000000001E-3,4.4000000000000003E-3,4.7999999999999996E-3,5.1999999999999998E-3,5.7000000000000002E-3,6.1000000000000004E-3,6.4000000000000003E-3,6.7000000000000002E-3,6.7999999999999996E-3,6.8999999999999999E-3,7.0000000000000001E-3,7.1000000000000004E-3,7.1999999999999998E-3,7.3000000000000001E-3,7.4000000000000003E-3,7.6E-3,7.7000000000000002E-3,7.9000000000000008E-3,8.0999999999999996E-3]
[97,7.1999999999999998E-3,7.1999999999999998E-3,7.3000000000000001E-3,7.4000000000000003E-3,7.4999999999999997E-3,7.7000000000000002E-3,8.0000000000000002E-3,8.3000000000000001E-3,8.6999999999999994E-3,9.1999999999999998E-3,9.7000000000000003E-3,1.0200000000000001E-2,1.0800000000000001E-2,1.14E-2,1.2E-2,1.2500000000000001E-2,1.3100000000000001E-2,1.3599999999999999E-2,1.4E-2,1.43E-2,1.4500000000000001E-2,1.46E-2,1.47E-2,1.46E-2,1.44E-2,1.4E-2,1.3599999999999999E-2,1.2999999999999999E-2,1.24E-2,1.1599999999999999E-2,1.0699999999999999E-2,9.7999999999999997E-3,8.6999999999999994E-3,7.7000000000000002E-3,6.4999999999999997E-3,5.4000000000000003E-3,4.3E-3,3.3E-3,2.2000000000000001E-3,1.1999999999999999E-3,2.9999999999999997E-4,-5.0000000000000001E-4,-1.2999999999999999E-3,-1.9E-3,-2.3999999999999998E-3,-2.7000000000000001E-3,-2.8999999999999998E-3,-2.8E-3,-2.5999999999999999E-3,-2.3E-3,-1.8E-3,-1.2999999999999999E-3,-5.9999999999999995E-4,0,5.9999999999999995E-4,1.1999999999999999E-3,1.6999999999999999E-3,2.0999999999999999E-3,2.5000000000000001E-3,2.7000000000000001E-3,2.8999999999999998E-3,3.0999999999999999E-3,3.2000000000000002E-3,3.2000000000000002E-3,3.2000000000000002E-3,3.5000000000000001E-3,3.8E-3,4.1000000000000003E-3,4.4999999999999997E-3,5.0000000000000001E-3,5.4000000000000003E-3,5.7999999999999996E-3,6.1000000000000004E-3,6.3E-3,6.4999999999999997E-3,6.4999999999999997E-3,6.6E-3,6.7000000000000002E-3,6.7999999999999996E-3,6.8999999999999999E-3,7.0000000000000001E-3,7.1999999999999998E-3,7.3000000000000001E-3,7.4999999999999997E-3,7.7000000000000002E-3]
[98,6.7999999999999996E-3,6.7999999999999996E-3,6.8999999999999999E-3,7.0000000000000001E-3,7.1000000000000004E-3,7.3000000000000001E-3,7.4999999999999997E-3,7.9000000000000008E-3,8.2000000000000007E-3,8.6999999999999994E-3,9.1000000000000004E-3,9.5999999999999992E-3,1.0200000000000001E-2,1.0800000000000001E-2,1.1299999999999999E-2,1.18E-2,1.23E-2,1.2800000000000001E-2,1.32E-2,1.35E-2,1.37E-2,1.38E-2,1.38E-2,1.38E-2,1.3599999999999999E-2,1.3299999999999999E-2,1.2800000000000001E-2,1.23E-2,1.17E-2,1.0999999999999999E-2,1.01E-2,9.1999999999999998E-3,8.3000000000000001E-3,7.1999999999999998E-3,6.1999999999999998E-3,5.1000000000000004E-3,4.1000000000000003E-3,3.0999999999999999E-3,2.0999999999999999E-3,1.1999999999999999E-3,2.9999999999999997E-4,-5.0000000000000001E-4,-1.1999999999999999E-3,-1.8E-3,-2.3E-3,-2.5999999999999999E-3,-2.7000000000000001E-3,-2.7000000000000001E-3,-2.5000000000000001E-3,-2.2000000000000001E-3,-1.6999999999999999E-3,-1.1999999999999999E-3,-5.9999999999999995E-4,0,5.9999999999999995E-4,1.1000000000000001E-3,1.6000000000000001E-3,2E-3,2.3E-3,2.5999999999999999E-3,2.8E-3,2.8999999999999998E-3,3.0000000000000001E-3,3.0000000000000001E-3,3.0999999999999999E-3,3.3E-3,3.5999999999999999E-3,3.8999999999999998E-3,4.3E-3,4.7000000000000002E-3,5.1000000000000004E-3,5.4000000000000003E-3,5.7000000000000002E-3,6.0000000000000001E-3,6.1000000000000004E-3,6.1999999999999998E-3,6.3E-3,6.3E-3,6.4000000000000003E-3,6.4999999999999997E-3,6.6E-3,6.7999999999999996E-3,6.8999999999999999E-3,7.1000000000000004E-3,7.1999999999999998E-3]
[99,6.4000000000000003E-3,6.4000000000000003E-3,6.4999999999999997E-3,6.4999999999999997E-3,6.7000000000000002E-3,6.8999999999999999E-3,7.1000000000000004E-3,7.4000000000000003E-3,7.7000000000000002E-3,8.0999999999999996E-3,8.6E-3,9.1000000000000004E-3,9.5999999999999992E-3,1.01E-2,1.06E-2,1.11E-2,1.1599999999999999E-2,1.2E-2,1.24E-2,1.2699999999999999E-2,1.29E-2,1.2999999999999999E-2,1.2999999999999999E-2,1.2999999999999999E-2,1.2800000000000001E-2,1.2500000000000001E-2,1.21E-2,1.1599999999999999E-2,1.0999999999999999E-2,1.03E-2,9.4999999999999998E-3,8.6999999999999994E-3,7.7999999999999996E-3,6.7999999999999996E-3,5.7999999999999996E-3,4.7999999999999996E-3,3.8999999999999998E-3,2.8999999999999998E-3,2E-3,1.1000000000000001E-3,2.9999999999999997E-4,-5.0000000000000001E-4,-1.1999999999999999E-3,-1.6999999999999999E-3,-2.0999999999999999E-3,-2.3999999999999998E-3,-2.5000000000000001E-3,-2.5000000000000001E-3,-2.3E-3,-2E-3,-1.6000000000000001E-3,-1.1000000000000001E-3,-5.9999999999999995E-4,0,5.0000000000000001E-4,1E-3,1.5E-3,1.9E-3,2.2000000000000001E-3,2.3999999999999998E-3,2.5999999999999999E-3,2.7000000000000001E-3,2.8E-3,2.8E-3,2.8999999999999998E-3,3.0999999999999999E-3,3.3E-3,3.7000000000000002E-3,4.0000000000000001E-3,4.4000000000000003E-3,4.7999999999999996E-3,5.1000000000000004E-3,5.4000000000000003E-3,5.5999999999999999E-3,5.7000000000000002E-3,5.7999999999999996E-3,5.8999999999999999E-3,6.0000000000000001E-3,6.1000000000000004E-3,6.1000000000000004E-3,6.3E-3,6.4000000000000003E-3,6.4999999999999997E-3,6.6E-3,6.7999999999999996E-3]
[100,6.0000000000000001E-3,6.0000000000000001E-3,6.1000000000000004E-3,6.1000000000000004E-3,6.3E-3,6.4000000000000003E-3,6.7000000000000002E-3,6.8999999999999999E-3,7.3000000000000001E-3,7.6E-3,8.0999999999999996E-3,8.5000000000000006E-3,8.9999999999999993E-3,9.4999999999999998E-3,0.01,1.0500000000000001E-2,1.09E-2,1.1299999999999999E-2,1.1599999999999999E-2,1.1900000000000001E-2,1.21E-2,1.2200000000000001E-2,1.2200000000000001E-2,1.21E-2,1.2E-2,1.17E-2,1.1299999999999999E-2,1.09E-2,1.03E-2,9.7000000000000003E-3,8.8999999999999999E-3,8.0999999999999996E-3,7.3000000000000001E-3,6.4000000000000003E-3,5.4999999999999997E-3,4.4999999999999997E-3,3.5999999999999999E-3,2.7000000000000001E-3,1.9E-3,1E-3,2.9999999999999997E-4,-5.0000000000000001E-4,-1.1000000000000001E-3,-1.6000000000000001E-3,-2E-3,-2.3E-3,-2.3999999999999998E-3,-2.3999999999999998E-3,-2.2000000000000001E-3,-1.9E-3,-1.5E-3,-1.1000000000000001E-3,-5.0000000000000001E-4,0,5.0000000000000001E-4,1E-3,1.4E-3,1.8E-3,2.0999999999999999E-3,2.3E-3,2.3999999999999998E-3,2.5999999999999999E-3,2.5999999999999999E-3,2.7000000000000001E-3,2.7000000000000001E-3,2.8999999999999998E-3,3.0999999999999999E-3,3.3999999999999998E-3,3.8E-3,4.1000000000000003E-3,4.4999999999999997E-3,4.7999999999999996E-3,5.1000000000000004E-3,5.3E-3,5.4000000000000003E-3,5.4000000000000003E-3,5.4999999999999997E-3,5.5999999999999999E-3,5.7000000000000002E-3,5.7999999999999996E-3,5.8999999999999999E-3,6.0000000000000001E-3,6.1000000000000004E-3,6.1999999999999998E-3,6.4000000000000003E-3]
[101,5.5999999999999999E-3,5.5999999999999999E-3,5.7000000000000002E-3,5.7000000000000002E-3,5.7999999999999996E-3,6.0000000000000001E-3,6.1999999999999998E-3,6.4999999999999997E-3,6.7999999999999996E-3,7.1000000000000004E-3,7.4999999999999997E-3,7.9000000000000008E-3,8.3999999999999995E-3,8.8999999999999999E-3,9.2999999999999992E-3,9.7999999999999997E-3,1.0200000000000001E-2,1.0500000000000001E-2,1.09E-2,1.11E-2,1.1299999999999999E-2,1.14E-2,1.14E-2,1.1299999999999999E-2,1.12E-2,1.09E-2,1.06E-2,1.01E-2,9.5999999999999992E-3,8.9999999999999993E-3,8.3000000000000001E-3,7.6E-3,6.7999999999999996E-3,6.0000000000000001E-3,5.1000000000000004E-3,4.1999999999999997E-3,3.3999999999999998E-3,2.5000000000000001E-3,1.6999999999999999E-3,1E-3,2.0000000000000001E-4,-4.0000000000000002E-4,-1E-3,-1.5E-3,-1.9E-3,-2.0999999999999999E-3,-2.2000000000000001E-3,-2.2000000000000001E-3,-2E-3,-1.8E-3,-1.4E-3,-1E-3,-5.0000000000000001E-4,0,5.0000000000000001E-4,8.9999999999999998E-4,1.2999999999999999E-3,1.6000000000000001E-3,1.9E-3,2.0999999999999999E-3,2.3E-3,2.3999999999999998E-3,2.5000000000000001E-3,2.5000000000000001E-3,2.5000000000000001E-3,2.7000000000000001E-3,2.8999999999999998E-3,3.2000000000000002E-3,3.5000000000000001E-3,3.8999999999999998E-3,4.1999999999999997E-3,4.4999999999999997E-3,4.7000000000000002E-3,4.8999999999999998E-3,5.0000000000000001E-3,5.1000000000000004E-3,5.1000000000000004E-3,5.1999999999999998E-3,5.3E-3,5.4000000000000003E-3,5.4999999999999997E-3,5.5999999999999999E-3,5.7000000000000002E-3,5.7999999999999996E-3,6.0000000000000001E-3]
[102,5.1999999999999998E-3,5.1999999999999998E-3,5.3E-3,5.3E-3,5.4000000000000003E-3,5.5999999999999999E-3,5.7999999999999996E-3,6.0000000000000001E-3,6.3E-3,6.6E-3,7.0000000000000001E-3,7.4000000000000003E-3,7.7999999999999996E-3,8.2000000000000007E-3,8.6E-3,9.1000000000000004E-3,9.4000000000000004E-3,9.7999999999999997E-3,1.01E-2,1.03E-2,1.0500000000000001E-2,1.06E-2,1.06E-2,1.0500000000000001E-2,1.04E-2,1.01E-2,9.7999999999999997E-3,9.4000000000000004E-3,8.8999999999999999E-3,8.3999999999999995E-3,7.7999999999999996E-3,7.1000000000000004E-3,6.3E-3,5.4999999999999997E-3,4.7000000000000002E-3,3.8999999999999998E-3,3.0999999999999999E-3,2.3999999999999998E-3,1.6000000000000001E-3,8.9999999999999998E-4,2.0000000000000001E-4,-4.0000000000000002E-4,-8.9999999999999998E-4,-1.4E-3,-1.6999999999999999E-3,-2E-3,-2.0999999999999999E-3,-2E-3,-1.9E-3,-1.6999999999999999E-3,-1.2999999999999999E-3,-8.9999999999999998E-4,-5.0000000000000001E-4,0,4.0000000000000002E-4,8.0000000000000004E-4,1.1999999999999999E-3,1.5E-3,1.8E-3,2E-3,2.0999999999999999E-3,2.2000000000000001E-3,2.3E-3,2.3E-3,2.3E-3,2.5000000000000001E-3,2.7000000000000001E-3,3.0000000000000001E-3,3.3E-3,3.5999999999999999E-3,3.8999999999999998E-3,4.1999999999999997E-3,4.4000000000000003E-3,4.5999999999999999E-3,4.7000000000000002E-3,4.7000000000000002E-3,4.7999999999999996E-3,4.7999999999999996E-3,4.8999999999999998E-3,5.0000000000000001E-3,5.1000000000000004E-3,5.1999999999999998E-3,5.3E-3,5.4000000000000003E-3,5.4999999999999997E-3]
[103,4.7999999999999996E-3,4.7999999999999996E-3,4.7999999999999996E-3,4.8999999999999998E-3,5.0000000000000001E-3,5.1000000000000004E-3,5.3E-3,5.4999999999999997E-3,5.7999999999999996E-3,6.1000000000000004E-3,6.4000000000000003E-3,6.7999999999999996E-3,7.1999999999999998E-3,7.6E-3,8.0000000000000002E-3,8.3999999999999995E-3,8.6999999999999994E-3,8.9999999999999993E-3,9.2999999999999992E-3,9.4999999999999998E-3,9.7000000000000003E-3,9.7999999999999997E-3,9.7999999999999997E-3,9.7000000000000003E-3,9.5999999999999992E-3,9.4000000000000004E-3,9.1000000000000004E-3,8.6999999999999994E-3,8.3000000000000001E-3,7.7000000000000002E-3,7.1999999999999998E-3,6.4999999999999997E-3,5.7999999999999996E-3,5.1000000000000004E-3,4.4000000000000003E-3,3.5999999999999999E-3,2.8999999999999998E-3,2.2000000000000001E-3,1.5E-3,8.0000000000000004E-4,2.0000000000000001E-4,-4.0000000000000002E-4,-8.9999999999999998E-4,-1.2999999999999999E-3,-1.6000000000000001E-3,-1.8E-3,-1.9E-3,-1.9E-3,-1.8E-3,-1.5E-3,-1.1999999999999999E-3,-8.0000000000000004E-4,-4.0000000000000002E-4,0,4.0000000000000002E-4,8.0000000000000004E-4,1.1000000000000001E-3,1.4E-3,1.6000000000000001E-3,1.8E-3,1.9E-3,2E-3,2.0999999999999999E-3,2.0999999999999999E-3,2.2000000000000001E-3,2.3E-3,2.5000000000000001E-3,2.8E-3,3.0000000000000001E-3,3.3E-3,3.5999999999999999E-3,3.8E-3,4.1000000000000003E-3,4.1999999999999997E-3,4.3E-3,4.4000000000000003E-3,4.4000000000000003E-3,4.4999999999999997E-3,4.4999999999999997E-3,4.5999999999999999E-3,4.7000000000000002E-3,4.7999999999999996E-3,4.8999999999999998E-3,5.0000000000000001E-3,5.1000000000000004E-3]
[104,4.4000000000000003E-3,4.4000000000000003E-3,4.4000000000000003E-3,4.4999999999999997E-3,4.5999999999999999E-3,4.7000000000000002E-3,4.8999999999999998E-3,5.1000000000000004E-3,5.3E-3,5.5999999999999999E-3,5.8999999999999999E-3,6.1999999999999998E-3,6.6E-3,7.0000000000000001E-3,7.3000000000000001E-3,7.7000000000000002E-3,8.0000000000000002E-3,8.3000000000000001E-3,8.5000000000000006E-3,8.6999999999999994E-3,8.8999999999999999E-3,8.8999999999999999E-3,8.9999999999999993E-3,8.8999999999999999E-3,8.8000000000000005E-3,8.6E-3,8.3000000000000001E-3,8.0000000000000002E-3,7.6E-3,7.1000000000000004E-3,6.6E-3,6.0000000000000001E-3,5.3E-3,4.7000000000000002E-3,4.0000000000000001E-3,3.3E-3,2.7000000000000001E-3,2E-3,1.4E-3,8.0000000000000004E-4,2.0000000000000001E-4,-2.9999999999999997E-4,-8.0000000000000004E-4,-1.1999999999999999E-3,-1.5E-3,-1.6999999999999999E-3,-1.6999999999999999E-3,-1.6999999999999999E-3,-1.6000000000000001E-3,-1.4E-3,-1.1000000000000001E-3,-8.0000000000000004E-4,-4.0000000000000002E-4,0,4.0000000000000002E-4,6.9999999999999999E-4,1E-3,1.2999999999999999E-3,1.5E-3,1.6999999999999999E-3,1.8E-3,1.9E-3,1.9E-3,2E-3,2E-3,2.0999999999999999E-3,2.3E-3,2.5000000000000001E-3,2.8E-3,3.0000000000000001E-3,3.3E-3,3.5000000000000001E-3,3.7000000000000002E-3,3.8999999999999998E-3,3.8999999999999998E-3,4.0000000000000001E-3,4.0000000000000001E-3,4.1000000000000003E-3,4.1999999999999997E-3,4.1999999999999997E-3,4.3E-3,4.4000000000000003E-3,4.4999999999999997E-3,4.5999999999999999E-3,4.7000000000000002E-3]
[105,4.0000000000000001E-3,4.0000000000000001E-3,4.0000000000000001E-3,4.1000000000000003E-3,4.1999999999999997E-3,4.3E-3,4.4000000000000003E-3,4.5999999999999999E-3,4.7999999999999996E-3,5.1000000000000004E-3,5.4000000000000003E-3,5.7000000000000002E-3,6.0000000000000001E-3,6.3E-3,6.7000000000000002E-3,7.0000000000000001E-3,7.3000000000000001E-3,7.4999999999999997E-3,7.7999999999999996E-3,7.9000000000000008E-3,8.0999999999999996E-3,8.0999999999999996E-3,8.0999999999999996E-3,8.0999999999999996E-3,8.0000000000000002E-3,7.7999999999999996E-3,7.6E-3,7.1999999999999998E-3,6.8999999999999999E-3,6.4000000000000003E-3,6.0000000000000001E-3,5.4000000000000003E-3,4.8999999999999998E-3,4.3E-3,3.5999999999999999E-3,3.0000000000000001E-3,2.3999999999999998E-3,1.8E-3,1.1999999999999999E-3,6.9999999999999999E-4,2.0000000000000001E-4,-2.9999999999999997E-4,-6.9999999999999999E-4,-1.1000000000000001E-3,-1.2999999999999999E-3,-1.5E-3,-1.6000000000000001E-3,-1.6000000000000001E-3,-1.5E-3,-1.2999999999999999E-3,-1E-3,-6.9999999999999999E-4,-4.0000000000000002E-4,0,2.9999999999999997E-4,5.9999999999999995E-4,8.9999999999999998E-4,1.1999999999999999E-3,1.4E-3,1.5E-3,1.6000000000000001E-3,1.6999999999999999E-3,1.8E-3,1.8E-3,1.8E-3,1.9E-3,2.0999999999999999E-3,2.3E-3,2.5000000000000001E-3,2.8E-3,3.0000000000000001E-3,3.2000000000000002E-3,3.3999999999999998E-3,3.5000000000000001E-3,3.5999999999999999E-3,3.5999999999999999E-3,3.7000000000000002E-3,3.7000000000000002E-3,3.8E-3,3.8E-3,3.8999999999999998E-3,4.0000000000000001E-3,4.1000000000000003E-3,4.1000000000000003E-3,4.3E-3]
[106,3.5999999999999999E-3,3.5999999999999999E-3,3.5999999999999999E-3,3.7000000000000002E-3,3.8E-3,3.8999999999999998E-3,4.0000000000000001E-3,4.1999999999999997E-3,4.4000000000000003E-3,4.5999999999999999E-3,4.7999999999999996E-3,5.1000000000000004E-3,5.4000000000000003E-3,5.7000000000000002E-3,6.0000000000000001E-3,6.3E-3,6.4999999999999997E-3,6.7999999999999996E-3,7.0000000000000001E-3,7.1000000000000004E-3,7.3000000000000001E-3,7.3000000000000001E-3,7.3000000000000001E-3,7.3000000000000001E-3,7.1999999999999998E-3,7.0000000000000001E-3,6.7999999999999996E-3,6.4999999999999997E-3,6.1999999999999998E-3,5.7999999999999996E-3,5.4000000000000003E-3,4.8999999999999998E-3,4.4000000000000003E-3,3.8E-3,3.3E-3,2.7000000000000001E-3,2.2000000000000001E-3,1.6000000000000001E-3,1.1000000000000001E-3,5.9999999999999995E-4,2.0000000000000001E-4,-2.9999999999999997E-4,-6.9999999999999999E-4,-1E-3,-1.1999999999999999E-3,-1.4E-3,-1.4E-3,-1.4E-3,-1.2999999999999999E-3,-1.1000000000000001E-3,-8.9999999999999998E-4,-5.9999999999999995E-4,-2.9999999999999997E-4,0,2.9999999999999997E-4,5.9999999999999995E-4,8.0000000000000004E-4,1.1000000000000001E-3,1.1999999999999999E-3,1.4E-3,1.5E-3,1.5E-3,1.6000000000000001E-3,1.6000000000000001E-3,1.6000000000000001E-3,1.6999999999999999E-3,1.9E-3,2.0999999999999999E-3,2.3E-3,2.5000000000000001E-3,2.7000000000000001E-3,2.8999999999999998E-3,3.0000000000000001E-3,3.2000000000000002E-3,3.2000000000000002E-3,3.3E-3,3.3E-3,3.3999999999999998E-3,3.3999999999999998E-3,3.5000000000000001E-3,3.5000000000000001E-3,3.5999999999999999E-3,3.7000000000000002E-3,3.7000000000000002E-3,3.8E-3]
[107,3.2000000000000002E-3,3.2000000000000002E-3,3.2000000000000002E-3,3.3E-3,3.3E-3,3.3999999999999998E-3,3.5000000000000001E-3,3.7000000000000002E-3,3.8999999999999998E-3,4.1000000000000003E-3,4.3E-3,4.4999999999999997E-3,4.7999999999999996E-3,5.1000000000000004E-3,5.3E-3,5.5999999999999999E-3,5.7999999999999996E-3,6.0000000000000001E-3,6.1999999999999998E-3,6.3E-3,6.4000000000000003E-3,6.4999999999999997E-3,6.4999999999999997E-3,6.4999999999999997E-3,6.4000000000000003E-3,6.1999999999999998E-3,6.0000000000000001E-3,5.7999999999999996E-3,5.4999999999999997E-3,5.1999999999999998E-3,4.7999999999999996E-3,4.3E-3,3.8999999999999998E-3,3.3999999999999998E-3,2.8999999999999998E-3,2.3999999999999998E-3,1.9E-3,1.5E-3,1E-3,5.9999999999999995E-4,1E-4,-2.0000000000000001E-4,-5.9999999999999995E-4,-8.9999999999999998E-4,-1.1000000000000001E-3,-1.1999999999999999E-3,-1.2999999999999999E-3,-1.2999999999999999E-3,-1.1999999999999999E-3,-1E-3,-8.0000000000000004E-4,-5.9999999999999995E-4,-2.9999999999999997E-4,0,2.9999999999999997E-4,5.0000000000000001E-4,6.9999999999999999E-4,8.9999999999999998E-4,1.1000000000000001E-3,1.1999999999999999E-3,1.2999999999999999E-3,1.4E-3,1.4E-3,1.4E-3,1.4E-3,1.5E-3,1.6999999999999999E-3,1.8E-3,2E-3,2.2000000000000001E-3,2.3999999999999998E-3,2.5999999999999999E-3,2.7000000000000001E-3,2.8E-3,2.8999999999999998E-3,2.8999999999999998E-3,2.8999999999999998E-3,3.0000000000000001E-3,3.0000000000000001E-3,3.0999999999999999E-3,3.0999999999999999E-3,3.2000000000000002E-3,3.2000000000000002E-3,3.3E-3,3.3999999999999998E-3]
[108,2.8E-3,2.8E-3,2.8E-3,2.8999999999999998E-3,2.8999999999999998E-3,3.0000000000000001E-3,3.0999999999999999E-3,3.2000000000000002E-3,3.3999999999999998E-3,3.5999999999999999E-3,3.8E-3,4.0000000000000001E-3,4.1999999999999997E-3,4.4000000000000003E-3,4.7000000000000002E-3,4.8999999999999998E-3,5.1000000000000004E-3,5.3E-3,5.4000000000000003E-3,5.5999999999999999E-3,5.5999999999999999E-3,5.7000000000000002E-3,5.7000000000000002E-3,5.7000000000000002E-3,5.5999999999999999E-3,5.4999999999999997E-3,5.3E-3,5.1000000000000004E-3,4.7999999999999996E-3,4.4999999999999997E-3,4.1999999999999997E-3,3.8E-3,3.3999999999999998E-3,3.0000000000000001E-3,2.5000000000000001E-3,2.0999999999999999E-3,1.6999999999999999E-3,1.2999999999999999E-3,8.9999999999999998E-4,5.0000000000000001E-4,1E-4,-2.0000000000000001E-4,-5.0000000000000001E-4,-6.9999999999999999E-4,-8.9999999999999998E-4,-1.1000000000000001E-3,-1.1000000000000001E-3,-1.1000000000000001E-3,-1E-3,-8.9999999999999998E-4,-6.9999999999999999E-4,-5.0000000000000001E-4,-2.9999999999999997E-4,0,2.0000000000000001E-4,4.0000000000000002E-4,5.9999999999999995E-4,8.0000000000000004E-4,1E-3,1.1000000000000001E-3,1.1000000000000001E-3,1.1999999999999999E-3,1.1999999999999999E-3,1.1999999999999999E-3,1.2999999999999999E-3,1.2999999999999999E-3,1.5E-3,1.6000000000000001E-3,1.8E-3,1.9E-3,2.0999999999999999E-3,2.2000000000000001E-3,2.3999999999999998E-3,2.5000000000000001E-3,2.5000000000000001E-3,2.5000000000000001E-3,2.5999999999999999E-3,2.5999999999999999E-3,2.5999999999999999E-3,2.7000000000000001E-3,2.7000000000000001E-3,2.8E-3,2.8E-3,2.8999999999999998E-3,3.0000000000000001E-3]
[109,2.3999999999999998E-3,2.3999999999999998E-3,2.3999999999999998E-3,2.5000000000000001E-3,2.5000000000000001E-3,2.5999999999999999E-3,2.7000000000000001E-3,2.8E-3,2.8999999999999998E-3,3.0999999999999999E-3,3.2000000000000002E-3,3.3999999999999998E-3,3.5999999999999999E-3,3.8E-3,4.0000000000000001E-3,4.1999999999999997E-3,4.4000000000000003E-3,4.4999999999999997E-3,4.7000000000000002E-3,4.7999999999999996E-3,4.7999999999999996E-3,4.8999999999999998E-3,4.8999999999999998E-3,4.8999999999999998E-3,4.7999999999999996E-3,4.7000000000000002E-3,4.4999999999999997E-3,4.3E-3,4.1000000000000003E-3,3.8999999999999998E-3,3.5999999999999999E-3,3.3E-3,2.8999999999999998E-3,2.5999999999999999E-3,2.2000000000000001E-3,1.8E-3,1.4E-3,1.1000000000000001E-3,6.9999999999999999E-4,4.0000000000000002E-4,1E-4,-2.0000000000000001E-4,-4.0000000000000002E-4,-5.9999999999999995E-4,-8.0000000000000004E-4,-8.9999999999999998E-4,-1E-3,-8.9999999999999998E-4,-8.9999999999999998E-4,-8.0000000000000004E-4,-5.9999999999999995E-4,-4.0000000000000002E-4,-2.0000000000000001E-4,0,2.0000000000000001E-4,4.0000000000000002E-4,5.9999999999999995E-4,6.9999999999999999E-4,8.0000000000000004E-4,8.9999999999999998E-4,1E-3,1E-3,1.1000000000000001E-3,1.1000000000000001E-3,1.1000000000000001E-3,1.1999999999999999E-3,1.2999999999999999E-3,1.4E-3,1.5E-3,1.6999999999999999E-3,1.8E-3,1.9E-3,2E-3,2.0999999999999999E-3,2.2000000000000001E-3,2.2000000000000001E-3,2.2000000000000001E-3,2.2000000000000001E-3,2.3E-3,2.3E-3,2.3E-3,2.3999999999999998E-3,2.3999999999999998E-3,2.5000000000000001E-3,2.5999999999999999E-3]
[110,2E-3,2E-3,2E-3,2E-3,2.0999999999999999E-3,2.0999999999999999E-3,2.2000000000000001E-3,2.3E-3,2.3999999999999998E-3,2.5000000000000001E-3,2.7000000000000001E-3,2.8E-3,3.0000000000000001E-3,3.2000000000000002E-3,3.3E-3,3.5000000000000001E-3,3.5999999999999999E-3,3.8E-3,3.8999999999999998E-3,4.0000000000000001E-3,4.0000000000000001E-3,4.1000000000000003E-3,4.1000000000000003E-3,4.0000000000000001E-3,4.0000000000000001E-3,3.8999999999999998E-3,3.8E-3,3.5999999999999999E-3,3.3999999999999998E-3,3.2000000000000002E-3,3.0000000000000001E-3,2.7000000000000001E-3,2.3999999999999998E-3,2.0999999999999999E-3,1.8E-3,1.5E-3,1.1999999999999999E-3,8.9999999999999998E-4,5.9999999999999995E-4,2.9999999999999997E-4,1E-4,-2.0000000000000001E-4,-4.0000000000000002E-4,-5.0000000000000001E-4,-6.9999999999999999E-4,-8.0000000000000004E-4,-8.0000000000000004E-4,-8.0000000000000004E-4,-6.9999999999999999E-4,-5.9999999999999995E-4,-5.0000000000000001E-4,-4.0000000000000002E-4,-2.0000000000000001E-4,0,2.0000000000000001E-4,2.9999999999999997E-4,5.0000000000000001E-4,5.9999999999999995E-4,6.9999999999999999E-4,8.0000000000000004E-4,8.0000000000000004E-4,8.9999999999999998E-4,8.9999999999999998E-4,8.9999999999999998E-4,8.9999999999999998E-4,1E-3,1E-3,1.1000000000000001E-3,1.2999999999999999E-3,1.4E-3,1.5E-3,1.6000000000000001E-3,1.6999999999999999E-3,1.8E-3,1.8E-3,1.8E-3,1.8E-3,1.9E-3,1.9E-3,1.9E-3,2E-3,2E-3,2E-3,2.0999999999999999E-3,2.0999999999999999E-3]
[111,1.6000000000000001E-3,1.6000000000000001E-3,1.6000000000000001E-3,1.6000000000000001E-3,1.6999999999999999E-3,1.6999999999999999E-3,1.8E-3,1.8E-3,1.9E-3,2E-3,2.0999999999999999E-3,2.3E-3,2.3999999999999998E-3,2.5000000000000001E-3,2.7000000000000001E-3,2.8E-3,2.8999999999999998E-3,3.0000000000000001E-3,3.0999999999999999E-3,3.2000000000000002E-3,3.2000000000000002E-3,3.3E-3,3.3E-3,3.2000000000000002E-3,3.2000000000000002E-3,3.0999999999999999E-3,3.0000000000000001E-3,2.8999999999999998E-3,2.8E-3,2.5999999999999999E-3,2.3999999999999998E-3,2.2000000000000001E-3,1.9E-3,1.6999999999999999E-3,1.5E-3,1.1999999999999999E-3,1E-3,6.9999999999999999E-4,5.0000000000000001E-4,2.9999999999999997E-4,1E-4,-1E-4,-2.9999999999999997E-4,-4.0000000000000002E-4,-5.0000000000000001E-4,-5.9999999999999995E-4,-5.9999999999999995E-4,-5.9999999999999995E-4,-5.9999999999999995E-4,-5.0000000000000001E-4,-4.0000000000000002E-4,-2.9999999999999997E-4,-1E-4,0,1E-4,2.9999999999999997E-4,4.0000000000000002E-4,5.0000000000000001E-4,5.0000000000000001E-4,5.9999999999999995E-4,5.9999999999999995E-4,6.9999999999999999E-4,6.9999999999999999E-4,6.9999999999999999E-4,6.9999999999999999E-4,8.0000000000000004E-4,8.0000000000000004E-4,8.9999999999999998E-4,1E-3,1.1000000000000001E-3,1.1999999999999999E-3,1.2999999999999999E-3,1.4E-3,1.4E-3,1.4E-3,1.5E-3,1.5E-3,1.5E-3,1.5E-3,1.5E-3,1.6000000000000001E-3,1.6000000000000001E-3,1.6000000000000001E-3,1.6999999999999999E-3,1.6999999999999999E-3]
[112,1.1999999999999999E-3,1.1999999999999999E-3,1.1999999999999999E-3,1.1999999999999999E-3,1.2999999999999999E-3,1.2999999999999999E-3,1.2999999999999999E-3,1.4E-3,1.5E-3,1.5E-3,1.6000000000000001E-3,1.6999999999999999E-3,1.8E-3,1.9E-3,2E-3,2.0999999999999999E-3,2.2000000000000001E-3,2.3E-3,2.3E-3,2.3999999999999998E-3,2.3999999999999998E-3,2.3999999999999998E-3,2.3999999999999998E-3,2.3999999999999998E-3,2.3999999999999998E-3,2.3E-3,2.3E-3,2.2000000000000001E-3,2.0999999999999999E-3,1.9E-3,1.8E-3,1.6000000000000001E-3,1.5E-3,1.2999999999999999E-3,1.1000000000000001E-3,8.9999999999999998E-4,6.9999999999999999E-4,5.0000000000000001E-4,4.0000000000000002E-4,2.0000000000000001E-4,1E-4,-1E-4,-2.0000000000000001E-4,-2.9999999999999997E-4,-4.0000000000000002E-4,-5.0000000000000001E-4,-5.0000000000000001E-4,-5.0000000000000001E-4,-4.0000000000000002E-4,-4.0000000000000002E-4,-2.9999999999999997E-4,-2.0000000000000001E-4,-1E-4,0,1E-4,2.0000000000000001E-4,2.9999999999999997E-4,4.0000000000000002E-4,4.0000000000000002E-4,5.0000000000000001E-4,5.0000000000000001E-4,5.0000000000000001E-4,5.0000000000000001E-4,5.0000000000000001E-4,5.0000000000000001E-4,5.9999999999999995E-4,5.9999999999999995E-4,6.9999999999999999E-4,8.0000000000000004E-4,8.0000000000000004E-4,8.9999999999999998E-4,1E-3,1E-3,1.1000000000000001E-3,1.1000000000000001E-3,1.1000000000000001E-3,1.1000000000000001E-3,1.1000000000000001E-3,1.1000000000000001E-3,1.1999999999999999E-3,1.1999999999999999E-3,1.1999999999999999E-3,1.1999999999999999E-3,1.1999999999999999E-3,1.2999999999999999E-3]
[113,8.0000000000000004E-4,8.0000000000000004E-4,8.0000000000000004E-4,8.0000000000000004E-4,8.0000000000000004E-4,8.9999999999999998E-4,8.9999999999999998E-4,8.9999999999999998E-4,1E-3,1E-3,1.1000000000000001E-3,1.1000000000000001E-3,1.1999999999999999E-3,1.2999999999999999E-3,1.2999999999999999E-3,1.4E-3,1.5E-3,1.5E-3,1.6000000000000001E-3,1.6000000000000001E-3,1.6000000000000001E-3,1.6000000000000001E-3,1.6000000000000001E-3,1.6000000000000001E-3,1.6000000000000001E-3,1.6000000000000001E-3,1.5E-3,1.4E-3,1.4E-3,1.2999999999999999E-3,1.1999999999999999E-3,1.1000000000000001E-3,1E-3,8.9999999999999998E-4,6.9999999999999999E-4,5.9999999999999995E-4,5.0000000000000001E-4,4.0000000000000002E-4,2.0000000000000001E-4,1E-4,0,-1E-4,-1E-4,-2.0000000000000001E-4,-2.9999999999999997E-4,-2.9999999999999997E-4,-2.9999999999999997E-4,-2.9999999999999997E-4,-2.9999999999999997E-4,-2.9999999999999997E-4,-2.0000000000000001E-4,-1E-4,-1E-4,0,1E-4,1E-4,2.0000000000000001E-4,2.0000000000000001E-4,2.9999999999999997E-4,2.9999999999999997E-4,2.9999999999999997E-4,2.9999999999999997E-4,4.0000000000000002E-4,4.0000000000000002E-4,4.0000000000000002E-4,4.0000000000000002E-4,4.0000000000000002E-4,5.0000000000000001E-4,5.0000000000000001E-4,5.9999999999999995E-4,5.9999999999999995E-4,5.9999999999999995E-4,6.9999999999999999E-4,6.9999999999999999E-4,6.9999999999999999E-4,6.9999999999999999E-4,6.9999999999999999E-4,6.9999999999999999E-4,8.0000000000000004E-4,8.0000000000000004E-4,8.0000000000000004E-4,8.0000000000000004E-4,8.0000000000000004E-4,8.0000000000000004E-4,8.9999999999999998E-4]
[114,4.0000000000000002E-4,4.0000000000000002E-4,4.0000000000000002E-4,4.0000000000000002E-4,4.0000000000000002E-4,4.0000000000000002E-4,4.0000000000000002E-4,5.0000000000000001E-4,5.0000000000000001E-4,5.0000000000000001E-4,5.0000000000000001E-4,5.9999999999999995E-4,5.9999999999999995E-4,5.9999999999999995E-4,6.9999999999999999E-4,6.9999999999999999E-4,6.9999999999999999E-4,8.0000000000000004E-4,8.0000000000000004E-4,8.0000000000000004E-4,8.0000000000000004E-4,8.0000000000000004E-4,8.0000000000000004E-4,8.0000000000000004E-4,8.0000000000000004E-4,8.0000000000000004E-4,8.0000000000000004E-4,6.9999999999999999E-4,6.9999999999999999E-4,5.9999999999999995E-4,5.9999999999999995E-4,5.0000000000000001E-4,5.0000000000000001E-4,4.0000000000000002E-4,4.0000000000000002E-4,2.9999999999999997E-4,2.0000000000000001E-4,2.0000000000000001E-4,1E-4,1E-4,0,0,-1E-4,-1E-4,-1E-4,-2.0000000000000001E-4,-2.0000000000000001E-4,-2.0000000000000001E-4,-1E-4,-1E-4,-1E-4,-1E-4,0,0,0,1E-4,1E-4,1E-4,1E-4,2.0000000000000001E-4,2.0000000000000001E-4,2.0000000000000001E-4,2.0000000000000001E-4,2.0000000000000001E-4,2.0000000000000001E-4,2.0000000000000001E-4,2.0000000000000001E-4,2.0000000000000001E-4,2.9999999999999997E-4,2.9999999999999997E-4,2.9999999999999997E-4,2.9999999999999997E-4,2.9999999999999997E-4,4.0000000000000002E-4,4.0000000000000002E-4,4.0000000000000002E-4,4.0000000000000002E-4,4.0000000000000002E-4,4.0000000000000002E-4,4.0000000000000002E-4,4.0000000000000002E-4,4.0000000000000002E-4,4.0000000000000002E-4,4.0000000000000002E-4,4.0000000000000002E-4]
[115,0,0,0,0,0,0,0,0,0,0,0,0,0,0,0,0,0,0,0,0,0,0,0,0,0,0,0,0,0,0,0,0,0,0,0,0,0,0,0,0,0,0,0,0,0,0,0,0,0,0,0,0,0,0,0,0,0,0,0,0,0,0,0,0,0,0,0,0,0,0,0,0,0,0,0,0,0,0,0,0,0,0,0,0,0]
[116,0,0,0,0,0,0,0,0,0,0,0,0,0,0,0,0,0,0,0,0,0,0,0,0,0,0,0,0,0,0,0,0,0,0,0,0,0,0,0,0,0,0,0,0,0,0,0,0,0,0,0,0,0,0,0,0,0,0,0,0,0,0,0,0,0,0,0,0,0,0,0,0,0,0,0,0,0,0,0,0,0,0,0,0,0]
[117,0,0,0,0,0,0,0,0,0,0,0,0,0,0,0,0,0,0,0,0,0,0,0,0,0,0,0,0,0,0,0,0,0,0,0,0,0,0,0,0,0,0,0,0,0,0,0,0,0,0,0,0,0,0,0,0,0,0,0,0,0,0,0,0,0,0,0,0,0,0,0,0,0,0,0,0,0,0,0,0,0,0,0,0,0]
[118,0,0,0,0,0,0,0,0,0,0,0,0,0,0,0,0,0,0,0,0,0,0,0,0,0,0,0,0,0,0,0,0,0,0,0,0,0,0,0,0,0,0,0,0,0,0,0,0,0,0,0,0,0,0,0,0,0,0,0,0,0,0,0,0,0,0,0,0,0,0,0,0,0,0,0,0,0,0,0,0,0,0,0,0,0]
[119,0,0,0,0,0,0,0,0,0,0,0,0,0,0,0,0,0,0,0,0,0,0,0,0,0,0,0,0,0,0,0,0,0,0,0,0,0,0,0,0,0,0,0,0,0,0,0,0,0,0,0,0,0,0,0,0,0,0,0,0,0,0,0,0,0,0,0,0,0,0,0,0,0,0,0,0,0,0,0,0,0,0,0,0,0]
[120,0,0,0,0,0,0,0,0,0,0,0,0,0,0,0,0,0,0,0,0,0,0,0,0,0,0,0,0,0,0,0,0,0,0,0,0,0,0,0,0,0,0,0,0,0,0,0,0,0,0,0,0,0,0,0,0,0,0,0,0,0,0,0,0,0,0,0,0,0,0,0,0,0,0,0,0,0,0,0,0,0,0,0,0,0]

{"sheet":"Male Rev","index":3,"n_rows":63,"n_cols":87,"rows_kept":63,"cut":false,"hidden":true,"merged":[]}
[null,"O2-2019 - Male"]
[null,null,1951,null,null,null,null,null,null,null,null,1960,null,null,null,null,null,null,null,null,null,1970,null,null,null,null,null,null,null,null,null,1980,null,null,null,null,null,null,null,null,null,1990,null,null,null,null,null,null,null,null,null,2000,null,null,null,null,null,null,null,null,null,2010,null,null,null,null,null,null,null,null,null,2020,null,null,null,null,null,null,null,null,null,2030]
[95,95,{"$f":"MIN(OFFSET(Male!B$18,'Male Rev'!$A3-35,0),0.03999)","v":2.3999999999999998E-3},{"$f":"MIN(OFFSET(Male!C$18,'Male Rev'!$A3-35,0),0.03999)","v":2.3999999999999998E-3},{"$f":"MIN(OFFSET(Male!D$18,'Male Rev'!$A3-35,0),0.03999)","v":2.3999999999999998E-3},{"$f":"MIN(OFFSET(Male!E$18,'Male Rev'!$A3-35,0),0.03999)","v":2.3999999999999998E-3},{"$f":"MIN(OFFSET(Male!F$18,'Male Rev'!$A3-35,0),0.03999)","v":2.5000000000000001E-3},{"$f":"MIN(OFFSET(Male!G$18,'Male Rev'!$A3-35,0),0.03999)","v":2.5999999999999999E-3},{"$f":"MIN(OFFSET(Male!H$18,'Male Rev'!$A3-35,0),0.03999)","v":2.7000000000000001E-3},{"$f":"MIN(OFFSET(Male!I$18,'Male Rev'!$A3-35,0),0.03999)","v":2.8999999999999998E-3},{"$f":"MIN(OFFSET(Male!J$18,'Male Rev'!$A3-35,0),0.03999)","v":3.0000000000000001E-3},{"$f":"MIN(OFFSET(Male!K$18,'Male Rev'!$A3-35,0),0.03999)","v":3.2000000000000002E-3},{"$f":"MIN(OFFSET(Male!L$18,'Male Rev'!$A3-35,0),0.03999)","v":3.3999999999999998E-3},{"$f":"MIN(OFFSET(Male!M$18,'Male Rev'!$A3-35,0),0.03999)","v":3.7000000000000002E-3},{"$f":"MIN(OFFSET(Male!N$18,'Male Rev'!$A3-35,0),0.03999)","v":3.8999999999999998E-3},{"$f":"MIN(OFFSET(Male!O$18,'Male Rev'!$A3-35,0),0.03999)","v":4.1999999999999997E-3},{"$f":"MIN(OFFSET(Male!P$18,'Male Rev'!$A3-35,0),0.03999)","v":4.4000000000000003E-3},{"$f":"MIN(OFFSET(Male!Q$18,'Male Rev'!$A3-35,0),0.03999)","v":4.5999999999999999E-3},{"$f":"MIN(OFFSET(Male!R$18,'Male Rev'!$A3-35,0),0.03999)","v":4.7999999999999996E-3},{"$f":"MIN(OFFSET(Male!S$18,'Male Rev'!$A3-35,0),0.03999)","v":5.0000000000000001E-3},{"$f":"MIN(OFFSET(Male!T$18,'Male Rev'!$A3-35,0),0.03999)","v":5.1000000000000004E-3},{"$f":"MIN(OFFSET(Male!U$18,'Male Rev'!$A3-35,0),0.03999)","v":5.1999999999999998E-3},{"$f":"MIN(OFFSET(Male!V$18,'Male Rev'!$A3-35,0),0.03999)","v":5.1999999999999998E-3},{"$f":"MIN(OFFSET(Male!W$18,'Male Rev'!$A3-35,0),0.03999)","v":5.1000000000000004E-3},{"$f":"MIN(OFFSET(Male!X$18,'Male Rev'!$A3-35,0),0.03999)","v":5.1000000000000004E-3},{"$f":"MIN(OFFSET(Male!Y$18,'Male Rev'!$A3-35,0),0.03999)","v":4.8999999999999998E-3},{"$f":"MIN(OFFSET(Male!Z$18,'Male Rev'!$A3-35,0),0.03999)","v":4.7000000000000002E-3},{"$f":"MIN(OFFSET(Male!AA$18,'Male Rev'!$A3-35,0),0.03999)","v":4.4999999999999997E-3},{"$f":"MIN(OFFSET(Male!AB$18,'Male Rev'!$A3-35,0),0.03999)","v":4.1999999999999997E-3},{"$f":"MIN(OFFSET(Male!AC$18,'Male Rev'!$A3-35,0),0.03999)","v":3.8999999999999998E-3},{"$f":"MIN(OFFSET(Male!AD$18,'Male Rev'!$A3-35,0),0.03999)","v":3.5000000000000001E-3},{"$f":"MIN(OFFSET(Male!AE$18,'Male Rev'!$A3-35,0),0.03999)","v":3.0999999999999999E-3},{"$f":"MIN(OFFSET(Male!AF$18,'Male Rev'!$A3-35,0),0.03999)","v":2.5999999999999999E-3},{"$f":"MIN(OFFSET(Male!AG$18,'Male Rev'!$A3-35,0),0.03999)","v":2.0999999999999999E-3},{"$f":"MIN(OFFSET(Male!AH$18,'Male Rev'!$A3-35,0),0.03999)","v":1.6000000000000001E-3},{"$f":"MIN(OFFSET(Male!AI$18,'Male Rev'!$A3-35,0),0.03999)","v":1.1000000000000001E-3},{"$f":"MIN(OFFSET(Male!AJ$18,'Male Rev'!$A3-35,0),0.03999)","v":6.9999999999999999E-4},{"$f":"MIN(OFFSET(Male!AK$18,'Male Rev'!$A3-35,0),0.03999)","v":2.0000000000000001E-4},{"$f":"MIN(OFFSET(Male!AL$18,'Male Rev'!$A3-35,0),0.03999)","v":-2.0000000000000001E-4},{"$f":"MIN(OFFSET(Male!AM$18,'Male Rev'!$A3-35,0),0.03999)","v":-5.0000000000000001E-4},{"$f":"MIN(OFFSET(Male!AN$18,'Male Rev'!$A3-35,0),0.03999)","v":-8.0000000000000004E-4},{"$f":"MIN(OFFSET(Male!AO$18,'Male Rev'!$A3-35,0),0.03999)","v":-1E-3},{"$f":"MIN(OFFSET(Male!AP$18,'Male Rev'!$A3-35,0),0.03999)","v":-1.1999999999999999E-3},{"$f":"MIN(OFFSET(Male!AQ$18,'Male Rev'!$A3-35,0),0.03999)","v":-1.1999999999999999E-3},{"$f":"MIN(OFFSET(Male!AR$18,'Male Rev'!$A3-35,0),0.03999)","v":-1.1999999999999999E-3},{"$f":"MIN(OFFSET(Male!AS$18,'Male Rev'!$A3-35,0),0.03999)","v":-1.1000000000000001E-3},{"$f":"MIN(OFFSET(Male!AT$18,'Male Rev'!$A3-35,0),0.03999)","v":-8.9999999999999998E-4},{"$f":"MIN(OFFSET(Male!AU$18,'Male Rev'!$A3-35,0),0.03999)","v":-6.9999999999999999E-4},{"$f":"MIN(OFFSET(Male!AV$18,'Male Rev'!$A3-35,0),0.03999)","v":-4.0000000000000002E-4},{"$f":"MIN(OFFSET(Male!AW$18,'Male Rev'!$A3-35,0),0.03999)","v":0},{"$f":"MIN(OFFSET(Male!AX$18,'Male Rev'!$A3-35,0),0.03999)","v":5.0000000000000001E-4},{"$f":"MIN(OFFSET(Male!AY$18,'Male Rev'!$A3-35,0),0.03999)","v":8.9999999999999998E-4},{"$f":"MIN(OFFSET(Male!AZ$18,'Male Rev'!$A3-35,0),0.03999)","v":1.5E-3},{"$f":"MIN(OFFSET(Male!BA$18,'Male Rev'!$A3-35,0),0.03999)","v":2E-3},{"$f":"MIN(OFFSET(Male!BB$18,'Male Rev'!$A3-35,0),0.03999)","v":2.5000000000000001E-3},{"$f":"MIN(OFFSET(Male!BC$18,'Male Rev'!$A3-35,0),0.03999)","v":3.0999999999999999E-3},{"$f":"MIN(OFFSET(Male!BD$18,'Male Rev'!$A3-35,0),0.03999)","v":3.5999999999999999E-3},{"$f":"MIN(OFFSET(Male!BE$18,'Male Rev'!$A3-35,0),0.03999)","v":4.1000000000000003E-3},{"$f":"MIN(OFFSET(Male!BF$18,'Male Rev'!$A3-35,0),0.03999)","v":4.4999999999999997E-3},{"$f":"MIN(OFFSET(Male!BG$18,'Male Rev'!$A3-35,0),0.03999)","v":4.8999999999999998E-3},{"$f":"MIN(OFFSET(Male!BH$18,'Male Rev'!$A3-35,0),0.03999)","v":5.3E-3},{"$f":"MIN(OFFSET(Male!BI$18,'Male Rev'!$A3-35,0),0.03999)","v":5.4999999999999997E-3},{"$f":"MIN(OFFSET(Male!BJ$18,'Male Rev'!$A3-35,0),0.03999)","v":5.7999999999999996E-3},{"$f":"MIN(OFFSET(Male!BK$18,'Male Rev'!$A3-35,0),0.03999)","v":5.8999999999999999E-3},{"$f":"MIN(OFFSET(Male!BL$18,'Male Rev'!$A3-35,0),0.03999)","v":6.1000000000000004E-3},{"$f":"MIN(OFFSET(Male!BM$18,'Male Rev'!$A3-35,0),0.03999)","v":6.1999999999999998E-3},{"$f":"MIN(OFFSET(Male!BN$18,'Male Rev'!$A3-35,0),0.03999)","v":6.1999999999999998E-3},{"$f":"MIN(OFFSET(Male!BO$18,'Male Rev'!$A3-35,0),0.03999)","v":6.4999999999999997E-3},{"$f":"MIN(OFFSET(Male!BP$18,'Male Rev'!$A3-35,0),0.03999)","v":6.7999999999999996E-3},{"$f":"MIN(OFFSET(Male!BQ$18,'Male Rev'!$A3-35,0),0.03999)","v":7.1000000000000004E-3},{"$f":"MIN(OFFSET(Male!BR$18,'Male Rev'!$A3-35,0),0.03999)","v":7.4000000000000003E-3},{"$f":"MIN(OFFSET(Male!BS$18,'Male Rev'!$A3-35,0),0.03999)","v":7.6E-3},{"$f":"MIN(OFFSET(Male!BT$18,'Male Rev'!$A3-35,0),0.03999)","v":7.7999999999999996E-3},{"$f":"MIN(OFFSET(Male!BU$18,'Male Rev'!$A3-35,0),0.03999)","v":8.0000000000000002E-3},{"$f":"MIN(OFFSET(Male!BV$18,'Male Rev'!$A3-35,0),0.03999)","v":8.0999999999999996E-3},{"$f":"MIN(OFFSET(Male!BW$18,'Male Rev'!$A3-35,0),0.03999)","v":8.0999999999999996E-3},{"$f":"MIN(OFFSET(Male!BX$18,'Male Rev'!$A3-35,0),0.03999)","v":8.0999999999999996E-3},{"$f":"MIN(OFFSET(Male!BY$18,'Male Rev'!$A3-35,0),0.03999)","v":8.0999999999999996E-3},{"$f":"MIN(OFFSET(Male!BZ$18,'Male Rev'!$A3-35,0),0.03999)","v":8.0000000000000002E-3},{"$f":"MIN(OFFSET(Male!CA$18,'Male Rev'!$A3-35,0),0.03999)","v":7.9000000000000008E-3},{"$f":"MIN(OFFSET(Male!CB$18,'Male Rev'!$A3-35,0),0.03999)","v":7.9000000000000008E-3},{"$f":"MIN(OFFSET(Male!CC$18,'Male Rev'!$A3-35,0),0.03999)","v":7.9000000000000008E-3},{"$f":"MIN(OFFSET(Male!CD$18,'Male Rev'!$A3-35,0),0.03999)","v":7.9000000000000008E-3},{"$f":"MIN(OFFSET(Male!CE$18,'Male Rev'!$A3-35,0),0.03999)","v":8.0000000000000002E-3},{"$f":"MIN(OFFSET(Male!CF$18,'Male Rev'!$A3-35,0),0.03999)","v":8.0999999999999996E-3},{"$f":"MIN(OFFSET(Male!CG$18,'Male Rev'!$A3-35,0),0.03999)","v":8.3000000000000001E-3},{"$f":"MIN(OFFSET(Male!CH$18,'Male Rev'!$A3-35,0),0.03999)","v":8.5000000000000006E-3}]
[{"$f":"A3-1","v":94},{"$f":"B3-1","v":94},{"$f":"MIN(OFFSET(Male!B$18,'Male Rev'!$A4-35,0),0.03999)","v":2.2000000000000001E-3},{"$f":"MIN(OFFSET(Male!C$18,'Male Rev'!$A4-35,0),0.03999)","v":2.2000000000000001E-3},{"$f":"MIN(OFFSET(Male!D$18,'Male Rev'!$A4-35,0),0.03999)","v":2.2000000000000001E-3},{"$f":"MIN(OFFSET(Male!E$18,'Male Rev'!$A4-35,0),0.03999)","v":2.3E-3},{"$f":"MIN(OFFSET(Male!F$18,'Male Rev'!$A4-35,0),0.03999)","v":2.3E-3},{"$f":"MIN(OFFSET(Male!G$18,'Male Rev'!$A4-35,0),0.03999)","v":2.3999999999999998E-3},{"$f":"MIN(OFFSET(Male!H$18,'Male Rev'!$A4-35,0),0.03999)","v":2.5000000000000001E-3},{"$f":"MIN(OFFSET(Male!I$18,'Male Rev'!$A4-35,0),0.03999)","v":2.5999999999999999E-3},{"$f":"MIN(OFFSET(Male!J$18,'Male Rev'!$A4-35,0),0.03999)","v":2.8E-3},{"$f":"MIN(OFFSET(Male!K$18,'Male Rev'!$A4-35,0),0.03999)","v":3.0000000000000001E-3},{"$f":"MIN(OFFSET(Male!L$18,'Male Rev'!$A4-35,0),0.03999)","v":3.2000000000000002E-3},{"$f":"MIN(OFFSET(Male!M$18,'Male Rev'!$A4-35,0),0.03999)","v":3.5000000000000001E-3},{"$f":"MIN(OFFSET(Male!N$18,'Male Rev'!$A4-35,0),0.03999)","v":3.7000000000000002E-3},{"$f":"MIN(OFFSET(Male!O$18,'Male Rev'!$A4-35,0),0.03999)","v":4.0000000000000001E-3},{"$f":"MIN(OFFSET(Male!P$18,'Male Rev'!$A4-35,0),0.03999)","v":4.3E-3},{"$f":"MIN(OFFSET(Male!Q$18,'Male Rev'!$A4-35,0),0.03999)","v":4.4999999999999997E-3},{"$f":"MIN(OFFSET(Male!R$18,'Male Rev'!$A4-35,0),0.03999)","v":4.7999999999999996E-3},{"$f":"MIN(OFFSET(Male!S$18,'Male Rev'!$A4-35,0),0.03999)","v":5.0000000000000001E-3},{"$f":"MIN(OFFSET(Male!T$18,'Male Rev'!$A4-35,0),0.03999)","v":5.1999999999999998E-3},{"$f":"MIN(OFFSET(Male!U$18,'Male Rev'!$A4-35,0),0.03999)","v":5.3E-3},{"$f":"MIN(OFFSET(Male!V$18,'Male Rev'!$A4-35,0),0.03999)","v":5.3E-3},{"$f":"MIN(OFFSET(Male!W$18,'Male Rev'!$A4-35,0),0.03999)","v":5.4000000000000003E-3},{"$f":"MIN(OFFSET(Male!X$18,'Male Rev'!$A4-35,0),0.03999)","v":5.3E-3},{"$f":"MIN(OFFSET(Male!Y$18,'Male Rev'!$A4-35,0),0.03999)","v":5.1999999999999998E-3},{"$f":"MIN(OFFSET(Male!Z$18,'Male Rev'!$A4-35,0),0.03999)","v":5.1000000000000004E-3},{"$f":"MIN(OFFSET(Male!AA$18,'Male Rev'!$A4-35,0),0.03999)","v":4.8999999999999998E-3},{"$f":"MIN(OFFSET(Male!AB$18,'Male Rev'!$A4-35,0),0.03999)","v":4.5999999999999999E-3},{"$f":"MIN(OFFSET(Male!AC$18,'Male Rev'!$A4-35,0),0.03999)","v":4.3E-3},{"$f":"MIN(OFFSET(Male!AD$18,'Male Rev'!$A4-35,0),0.03999)","v":3.8999999999999998E-3},{"$f":"MIN(OFFSET(Male!AE$18,'Male Rev'!$A4-35,0),0.03999)","v":3.5000000000000001E-3},{"$f":"MIN(OFFSET(Male!AF$18,'Male Rev'!$A4-35,0),0.03999)","v":3.0000000000000001E-3},{"$f":"MIN(OFFSET(Male!AG$18,'Male Rev'!$A4-35,0),0.03999)","v":2.5999999999999999E-3},{"$f":"MIN(OFFSET(Male!AH$18,'Male Rev'!$A4-35,0),0.03999)","v":2.0999999999999999E-3},{"$f":"MIN(OFFSET(Male!AI$18,'Male Rev'!$A4-35,0),0.03999)","v":1.6000000000000001E-3},{"$f":"MIN(OFFSET(Male!AJ$18,'Male Rev'!$A4-35,0),0.03999)","v":1.1999999999999999E-3},{"$f":"MIN(OFFSET(Male!AK$18,'Male Rev'!$A4-35,0),0.03999)","v":8.0000000000000004E-4},{"$f":"MIN(OFFSET(Male!AL$18,'Male Rev'!$A4-35,0),0.03999)","v":4.0000000000000002E-4},{"$f":"MIN(OFFSET(Male!AM$18,'Male Rev'!$A4-35,0),0.03999)","v":1E-4},{"$f":"MIN(OFFSET(Male!AN$18,'Male Rev'!$A4-35,0),0.03999)","v":-2.0000000000000001E-4},{"$f":"MIN(OFFSET(Male!AO$18,'Male Rev'!$A4-35,0),0.03999)","v":-2.9999999999999997E-4},{"$f":"MIN(OFFSET(Male!AP$18,'Male Rev'!$A4-35,0),0.03999)","v":-5.0000000000000001E-4},{"$f":"MIN(OFFSET(Male!AQ$18,'Male Rev'!$A4-35,0),0.03999)","v":-5.0000000000000001E-4},{"$f":"MIN(OFFSET(Male!AR$18,'Male Rev'!$A4-35,0),0.03999)","v":-4.0000000000000002E-4},{"$f":"MIN(OFFSET(Male!AS$18,'Male Rev'!$A4-35,0),0.03999)","v":-2.9999999999999997E-4},{"$f":"MIN(OFFSET(Male!AT$18,'Male Rev'!$A4-35,0),0.03999)","v":-1E-4},{"$f":"MIN(OFFSET(Male!AU$18,'Male Rev'!$A4-35,0),0.03999)","v":2.0000000000000001E-4},{"$f":"MIN(OFFSET(Male!AV$18,'Male Rev'!$A4-35,0),0.03999)","v":5.9999999999999995E-4},{"$f":"MIN(OFFSET(Male!AW$18,'Male Rev'!$A4-35,0),0.03999)","v":1E-3},{"$f":"MIN(OFFSET(Male!AX$18,'Male Rev'!$A4-35,0),0.03999)","v":1.5E-3},{"$f":"MIN(OFFSET(Male!AY$18,'Male Rev'!$A4-35,0),0.03999)","v":2E-3},{"$f":"MIN(OFFSET(Male!AZ$18,'Male Rev'!$A4-35,0),0.03999)","v":2.5000000000000001E-3},{"$f":"MIN(OFFSET(Male!BA$18,'Male Rev'!$A4-35,0),0.03999)","v":3.0999999999999999E-3},{"$f":"MIN(OFFSET(Male!BB$18,'Male Rev'!$A4-35,0),0.03999)","v":3.7000000000000002E-3},{"$f":"MIN(OFFSET(Male!BC$18,'Male Rev'!$A4-35,0),0.03999)","v":4.1999999999999997E-3},{"$f":"MIN(OFFSET(Male!BD$18,'Male Rev'!$A4-35,0),0.03999)","v":4.7000000000000002E-3},{"$f":"MIN(OFFSET(Male!BE$18,'Male Rev'!$A4-35,0),0.03999)","v":5.1999999999999998E-3},{"$f":"MIN(OFFSET(Male!BF$18,'Male Rev'!$A4-35,0),0.03999)","v":5.5999999999999999E-3},{"$f":"MIN(OFFSET(Male!BG$18,'Male Rev'!$A4-35,0),0.03999)","v":5.8999999999999999E-3},{"$f":"MIN(OFFSET(Male!BH$18,'Male Rev'!$A4-35,0),0.03999)","v":6.1999999999999998E-3},{"$f":"MIN(OFFSET(Male!BI$18,'Male Rev'!$A4-35,0),0.03999)","v":6.4000000000000003E-3},{"$f":"MIN(OFFSET(Male!BJ$18,'Male Rev'!$A4-35,0),0.03999)","v":6.4999999999999997E-3},{"$f":"MIN(OFFSET(Male!BK$18,'Male Rev'!$A4-35,0),0.03999)","v":6.6E-3},{"$f":"MIN(OFFSET(Male!BL$18,'Male Rev'!$A4-35,0),0.03999)","v":6.7000000000000002E-3},{"$f":"MIN(OFFSET(Male!BM$18,'Male Rev'!$A4-35,0),0.03999)","v":6.7000000000000002E-3},{"$f":"MIN(OFFSET(Male!BN$18,'Male Rev'!$A4-35,0),0.03999)","v":6.7999999999999996E-3},{"$f":"MIN(OFFSET(Male!BO$18,'Male Rev'!$A4-35,0),0.03999)","v":7.0000000000000001E-3},{"$f":"MIN(OFFSET(Male!BP$18,'Male Rev'!$A4-35,0),0.03999)","v":7.3000000000000001E-3},{"$f":"MIN(OFFSET(Male!BQ$18,'Male Rev'!$A4-35,0),0.03999)","v":7.6E-3},{"$f":"MIN(OFFSET(Male!BR$18,'Male Rev'!$A4-35,0),0.03999)","v":7.7999999999999996E-3},{"$f":"MIN(OFFSET(Male!BS$18,'Male Rev'!$A4-35,0),0.03999)","v":8.0000000000000002E-3},{"$f":"MIN(OFFSET(Male!BT$18,'Male Rev'!$A4-35,0),0.03999)","v":8.2000000000000007E-3},{"$f":"MIN(OFFSET(Male!BU$18,'Male Rev'!$A4-35,0),0.03999)","v":8.3000000000000001E-3},{"$f":"MIN(OFFSET(Male!BV$18,'Male Rev'!$A4-35,0),0.03999)","v":8.3999999999999995E-3},{"$f":"MIN(OFFSET(Male!BW$18,'Male Rev'!$A4-35,0),0.03999)","v":8.3999999999999995E-3},{"$f":"MIN(OFFSET(Male!BX$18,'Male Rev'!$A4-35,0),0.03999)","v":8.3999999999999995E-3},{"$f":"MIN(OFFSET(Male!BY$18,'Male Rev'!$A4-35,0),0.03999)","v":8.3000000000000001E-3},{"$f":"MIN(OFFSET(Male!BZ$18,'Male Rev'!$A4-35,0),0.03999)","v":8.3000000000000001E-3},{"$f":"MIN(OFFSET(Male!CA$18,'Male Rev'!$A4-35,0),0.03999)","v":8.2000000000000007E-3},{"$f":"MIN(OFFSET(Male!CB$18,'Male Rev'!$A4-35,0),0.03999)","v":8.2000000000000007E-3},{"$f":"MIN(OFFSET(Male!CC$18,'Male Rev'!$A4-35,0),0.03999)","v":8.2000000000000007E-3},{"$f":"MIN(OFFSET(Male!CD$18,'Male Rev'!$A4-35,0),0.03999)","v":8.2000000000000007E-3},{"$f":"MIN(OFFSET(Male!CE$18,'Male Rev'!$A4-35,0),0.03999)","v":8.3000000000000001E-3},{"$f":"MIN(OFFSET(Male!CF$18,'Male Rev'!$A4-35,0),0.03999)","v":8.3999999999999995E-3},{"$f":"MIN(OFFSET(Male!CG$18,'Male Rev'!$A4-35,0),0.03999)","v":8.6E-3},{"$f":"MIN(OFFSET(Male!CH$18,'Male Rev'!$A4-35,0),0.03999)","v":8.6999999999999994E-3}]
[{"$f":"A4-1","v":93},93,{"$f":"MIN(OFFSET(Male!B$18,'Male Rev'!$A5-35,0),0.03999)","v":2.0999999999999999E-3},{"$f":"MIN(OFFSET(Male!C$18,'Male Rev'!$A5-35,0),0.03999)","v":2.0999999999999999E-3},{"$f":"MIN(OFFSET(Male!D$18,'Male Rev'!$A5-35,0),0.03999)","v":2.0999999999999999E-3},{"$f":"MIN(OFFSET(Male!E$18,'Male Rev'!$A5-35,0),0.03999)","v":2.0999999999999999E-3},{"$f":"MIN(OFFSET(Male!F$18,'Male Rev'!$A5-35,0),0.03999)","v":2.0999999999999999E-3},{"$f":"MIN(OFFSET(Male!G$18,'Male Rev'!$A5-35,0),0.03999)","v":2.2000000000000001E-3},{"$f":"MIN(OFFSET(Male!H$18,'Male Rev'!$A5-35,0),0.03999)","v":2.3E-3},{"$f":"MIN(OFFSET(Male!I$18,'Male Rev'!$A5-35,0),0.03999)","v":2.3999999999999998E-3},{"$f":"MIN(OFFSET(Male!J$18,'Male Rev'!$A5-35,0),0.03999)","v":2.5999999999999999E-3},{"$f":"MIN(OFFSET(Male!K$18,'Male Rev'!$A5-35,0),0.03999)","v":2.8E-3},{"$f":"MIN(OFFSET(Male!L$18,'Male Rev'!$A5-35,0),0.03999)","v":3.0000000000000001E-3},{"$f":"MIN(OFFSET(Male!M$18,'Male Rev'!$A5-35,0),0.03999)","v":3.3E-3},{"$f":"MIN(OFFSET(Male!N$18,'Male Rev'!$A5-35,0),0.03999)","v":3.5999999999999999E-3},{"$f":"MIN(OFFSET(Male!O$18,'Male Rev'!$A5-35,0),0.03999)","v":3.8999999999999998E-3},{"$f":"MIN(OFFSET(Male!P$18,'Male Rev'!$A5-35,0),0.03999)","v":4.1999999999999997E-3},{"$f":"MIN(OFFSET(Male!Q$18,'Male Rev'!$A5-35,0),0.03999)","v":4.4999999999999997E-3},{"$f":"MIN(OFFSET(Male!R$18,'Male Rev'!$A5-35,0),0.03999)","v":4.7999999999999996E-3},{"$f":"MIN(OFFSET(Male!S$18,'Male Rev'!$A5-35,0),0.03999)","v":5.0000000000000001E-3},{"$f":"MIN(OFFSET(Male!T$18,'Male Rev'!$A5-35,0),0.03999)","v":5.1999999999999998E-3},{"$f":"MIN(OFFSET(Male!U$18,'Male Rev'!$A5-35,0),0.03999)","v":5.4000000000000003E-3},{"$f":"MIN(OFFSET(Male!V$18,'Male Rev'!$A5-35,0),0.03999)","v":5.4999999999999997E-3},{"$f":"MIN(OFFSET(Male!W$18,'Male Rev'!$A5-35,0),0.03999)","v":5.5999999999999999E-3},{"$f":"MIN(OFFSET(Male!X$18,'Male Rev'!$A5-35,0),0.03999)","v":5.5999999999999999E-3},{"$f":"MIN(OFFSET(Male!Y$18,'Male Rev'!$A5-35,0),0.03999)","v":5.4999999999999997E-3},{"$f":"MIN(OFFSET(Male!Z$18,'Male Rev'!$A5-35,0),0.03999)","v":5.4000000000000003E-3},{"$f":"MIN(OFFSET(Male!AA$18,'Male Rev'!$A5-35,0),0.03999)","v":5.1999999999999998E-3},{"$f":"MIN(OFFSET(Male!AB$18,'Male Rev'!$A5-35,0),0.03999)","v":5.0000000000000001E-3},{"$f":"MIN(OFFSET(Male!AC$18,'Male Rev'!$A5-35,0),0.03999)","v":4.7000000000000002E-3},{"$f":"MIN(OFFSET(Male!AD$18,'Male Rev'!$A5-35,0),0.03999)","v":4.3E-3},{"$f":"MIN(OFFSET(Male!AE$18,'Male Rev'!$A5-35,0),0.03999)","v":3.8999999999999998E-3},{"$f":"MIN(OFFSET(Male!AF$18,'Male Rev'!$A5-35,0),0.03999)","v":3.5000000000000001E-3},{"$f":"MIN(OFFSET(Male!AG$18,'Male Rev'!$A5-35,0),0.03999)","v":3.0000000000000001E-3},{"$f":"MIN(OFFSET(Male!AH$18,'Male Rev'!$A5-35,0),0.03999)","v":2.5999999999999999E-3},{"$f":"MIN(OFFSET(Male!AI$18,'Male Rev'!$A5-35,0),0.03999)","v":2.0999999999999999E-3},{"$f":"MIN(OFFSET(Male!AJ$18,'Male Rev'!$A5-35,0),0.03999)","v":1.6999999999999999E-3},{"$f":"MIN(OFFSET(Male!AK$18,'Male Rev'!$A5-35,0),0.03999)","v":1.2999999999999999E-3},{"$f":"MIN(OFFSET(Male!AL$18,'Male Rev'!$A5-35,0),0.03999)","v":1E-3},{"$f":"MIN(OFFSET(Male!AM$18,'Male Rev'!$A5-35,0),0.03999)","v":6.9999999999999999E-4},{"$f":"MIN(OFFSET(Male!AN$18,'Male Rev'!$A5-35,0),0.03999)","v":5.0000000000000001E-4},{"$f":"MIN(OFFSET(Male!AO$18,'Male Rev'!$A5-35,0),0.03999)","v":2.9999999999999997E-4},{"$f":"MIN(OFFSET(Male!AP$18,'Male Rev'!$A5-35,0),0.03999)","v":2.0000000000000001E-4},{"$f":"MIN(OFFSET(Male!AQ$18,'Male Rev'!$A5-35,0),0.03999)","v":2.0000000000000001E-4},{"$f":"MIN(OFFSET(Male!AR$18,'Male Rev'!$A5-35,0),0.03999)","v":2.9999999999999997E-4},{"$f":"MIN(OFFSET(Male!AS$18,'Male Rev'!$A5-35,0),0.03999)","v":5.0000000000000001E-4},{"$f":"MIN(OFFSET(Male!AT$18,'Male Rev'!$A5-35,0),0.03999)","v":6.9999999999999999E-4},{"$f":"MIN(OFFSET(Male!AU$18,'Male Rev'!$A5-35,0),0.03999)","v":1.1000000000000001E-3},{"$f":"MIN(OFFSET(Male!AV$18,'Male Rev'!$A5-35,0),0.03999)","v":1.5E-3},{"$f":"MIN(OFFSET(Male!AW$18,'Male Rev'!$A5-35,0),0.03999)","v":2E-3},{"$f":"MIN(OFFSET(Male!AX$18,'Male Rev'!$A5-35,0),0.03999)","v":2.5000000000000001E-3},{"$f":"MIN(OFFSET(Male!AY$18,'Male Rev'!$A5-35,0),0.03999)","v":3.0000000000000001E-3},{"$f":"MIN(OFFSET(Male!AZ$18,'Male Rev'!$A5-35,0),0.03999)","v":3.5999999999999999E-3},{"$f":"MIN(OFFSET(Male!BA$18,'Male Rev'!$A5-35,0),0.03999)","v":4.1999999999999997E-3},{"$f":"MIN(OFFSET(Male!BB$18,'Male Rev'!$A5-35,0),0.03999)","v":4.7999999999999996E-3},{"$f":"MIN(OFFSET(Male!BC$18,'Male Rev'!$A5-35,0),0.03999)","v":5.3E-3},{"$f":"MIN(OFFSET(Male!BD$18,'Male Rev'!$A5-35,0),0.03999)","v":5.7999999999999996E-3},{"$f":"MIN(OFFSET(Male!BE$18,'Male Rev'!$A5-35,0),0.03999)","v":6.1999999999999998E-3},{"$f":"MIN(OFFSET(Male!BF$18,'Male Rev'!$A5-35,0),0.03999)","v":6.6E-3},{"$f":"MIN(OFFSET(Male!BG$18,'Male Rev'!$A5-35,0),0.03999)","v":6.8999999999999999E-3},{"$f":"MIN(OFFSET(Male!BH$18,'Male Rev'!$A5-35,0),0.03999)","v":7.1000000000000004E-3},{"$f":"MIN(OFFSET(Male!BI$18,'Male Rev'!$A5-35,0),0.03999)","v":7.1999999999999998E-3},{"$f":"MIN(OFFSET(Male!BJ$18,'Male Rev'!$A5-35,0),0.03999)","v":7.3000000000000001E-3},{"$f":"MIN(OFFSET(Male!BK$18,'Male Rev'!$A5-35,0),0.03999)","v":7.3000000000000001E-3},{"$f":"MIN(OFFSET(Male!BL$18,'Male Rev'!$A5-35,0),0.03999)","v":7.3000000000000001E-3},{"$f":"MIN(OFFSET(Male!BM$18,'Male Rev'!$A5-35,0),0.03999)","v":7.3000000000000001E-3},{"$f":"MIN(OFFSET(Male!BN$18,'Male Rev'!$A5-35,0),0.03999)","v":7.3000000000000001E-3},{"$f":"MIN(OFFSET(Male!BO$18,'Male Rev'!$A5-35,0),0.03999)","v":7.6E-3},{"$f":"MIN(OFFSET(Male!BP$18,'Male Rev'!$A5-35,0),0.03999)","v":7.7999999999999996E-3},{"$f":"MIN(OFFSET(Male!BQ$18,'Male Rev'!$A5-35,0),0.03999)","v":8.0999999999999996E-3},{"$f":"MIN(OFFSET(Male!BR$18,'Male Rev'!$A5-35,0),0.03999)","v":8.3000000000000001E-3},{"$f":"MIN(OFFSET(Male!BS$18,'Male Rev'!$A5-35,0),0.03999)","v":8.5000000000000006E-3},{"$f":"MIN(OFFSET(Male!BT$18,'Male Rev'!$A5-35,0),0.03999)","v":8.6E-3},{"$f":"MIN(OFFSET(Male!BU$18,'Male Rev'!$A5-35,0),0.03999)","v":8.6999999999999994E-3},{"$f":"MIN(OFFSET(Male!BV$18,'Male Rev'!$A5-35,0),0.03999)","v":8.6999999999999994E-3},{"$f":"MIN(OFFSET(Male!BW$18,'Male Rev'!$A5-35,0),0.03999)","v":8.6999999999999994E-3},{"$f":"MIN(OFFSET(Male!BX$18,'Male Rev'!$A5-35,0),0.03999)","v":8.6E-3},{"$f":"MIN(OFFSET(Male!BY$18,'Male Rev'!$A5-35,0),0.03999)","v":8.6E-3},{"$f":"MIN(OFFSET(Male!BZ$18,'Male Rev'!$A5-35,0),0.03999)","v":8.5000000000000006E-3},{"$f":"MIN(OFFSET(Male!CA$18,'Male Rev'!$A5-35,0),0.03999)","v":8.3999999999999995E-3},{"$f":"MIN(OFFSET(Male!CB$18,'Male Rev'!$A5-35,0),0.03999)","v":8.3999999999999995E-3},{"$f":"MIN(OFFSET(Male!CC$18,'Male Rev'!$A5-35,0),0.03999)","v":8.3999999999999995E-3},{"$f":"MIN(OFFSET(Male!CD$18,'Male Rev'!$A5-35,0),0.03999)","v":8.5000000000000006E-3},{"$f":"MIN(OFFSET(Male!CE$18,'Male Rev'!$A5-35,0),0.03999)","v":8.6E-3},{"$f":"MIN(OFFSET(Male!CF$18,'Male Rev'!$A5-35,0),0.03999)","v":8.6999999999999994E-3},{"$f":"MIN(OFFSET(Male!CG$18,'Male Rev'!$A5-35,0),0.03999)","v":8.6999999999999994E-3},{"$f":"MIN(OFFSET(Male!CH$18,'Male Rev'!$A5-35,0),0.03999)","v":8.8000000000000005E-3}]
[92,92,{"$f":"MIN(OFFSET(Male!B$18,'Male Rev'!$A6-35,0),0.03999)","v":1.9E-3},{"$f":"MIN(OFFSET(Male!C$18,'Male Rev'!$A6-35,0),0.03999)","v":1.9E-3},{"$f":"MIN(OFFSET(Male!D$18,'Male Rev'!$A6-35,0),0.03999)","v":1.9E-3},{"$f":"MIN(OFFSET(Male!E$18,'Male Rev'!$A6-35,0),0.03999)","v":1.9E-3},{"$f":"MIN(OFFSET(Male!F$18,'Male Rev'!$A6-35,0),0.03999)","v":2E-3},{"$f":"MIN(OFFSET(Male!G$18,'Male Rev'!$A6-35,0),0.03999)","v":2E-3},{"$f":"MIN(OFFSET(Male!H$18,'Male Rev'!$A6-35,0),0.03999)","v":2.0999999999999999E-3},{"$f":"MIN(OFFSET(Male!I$18,'Male Rev'!$A6-35,0),0.03999)","v":2.2000000000000001E-3},{"$f":"MIN(OFFSET(Male!J$18,'Male Rev'!$A6-35,0),0.03999)","v":2.3999999999999998E-3},{"$f":"MIN(OFFSET(Male!K$18,'Male Rev'!$A6-35,0),0.03999)","v":2.5999999999999999E-3},{"$f":"MIN(OFFSET(Male!L$18,'Male Rev'!$A6-35,0),0.03999)","v":2.8E-3},{"$f":"MIN(OFFSET(Male!M$18,'Male Rev'!$A6-35,0),0.03999)","v":3.0999999999999999E-3},{"$f":"MIN(OFFSET(Male!N$18,'Male Rev'!$A6-35,0),0.03999)","v":3.3999999999999998E-3},{"$f":"MIN(OFFSET(Male!O$18,'Male Rev'!$A6-35,0),0.03999)","v":3.7000000000000002E-3},{"$f":"MIN(OFFSET(Male!P$18,'Male Rev'!$A6-35,0),0.03999)","v":4.1000000000000003E-3},{"$f":"MIN(OFFSET(Male!Q$18,'Male Rev'!$A6-35,0),0.03999)","v":4.4000000000000003E-3},{"$f":"MIN(OFFSET(Male!R$18,'Male Rev'!$A6-35,0),0.03999)","v":4.7000000000000002E-3},{"$f":"MIN(OFFSET(Male!S$18,'Male Rev'!$A6-35,0),0.03999)","v":5.0000000000000001E-3},{"$f":"MIN(OFFSET(Male!T$18,'Male Rev'!$A6-35,0),0.03999)","v":5.3E-3},{"$f":"MIN(OFFSET(Male!U$18,'Male Rev'!$A6-35,0),0.03999)","v":5.4999999999999997E-3},{"$f":"MIN(OFFSET(Male!V$18,'Male Rev'!$A6-35,0),0.03999)","v":5.7000000000000002E-3},{"$f":"MIN(OFFSET(Male!W$18,'Male Rev'!$A6-35,0),0.03999)","v":5.7999999999999996E-3},{"$f":"MIN(OFFSET(Male!X$18,'Male Rev'!$A6-35,0),0.03999)","v":5.7999999999999996E-3},{"$f":"MIN(OFFSET(Male!Y$18,'Male Rev'!$A6-35,0),0.03999)","v":5.7999999999999996E-3},{"$f":"MIN(OFFSET(Male!Z$18,'Male Rev'!$A6-35,0),0.03999)","v":5.7000000000000002E-3},{"$f":"MIN(OFFSET(Male!AA$18,'Male Rev'!$A6-35,0),0.03999)","v":5.5999999999999999E-3},{"$f":"MIN(OFFSET(Male!AB$18,'Male Rev'!$A6-35,0),0.03999)","v":5.3E-3},{"$f":"MIN(OFFSET(Male!AC$18,'Male Rev'!$A6-35,0),0.03999)","v":5.1000000000000004E-3},{"$f":"MIN(OFFSET(Male!AD$18,'Male Rev'!$A6-35,0),0.03999)","v":4.7000000000000002E-3},{"$f":"MIN(OFFSET(Male!AE$18,'Male Rev'!$A6-35,0),0.03999)","v":4.3E-3},{"$f":"MIN(OFFSET(Male!AF$18,'Male Rev'!$A6-35,0),0.03999)","v":3.8999999999999998E-3},{"$f":"MIN(OFFSET(Male!AG$18,'Male Rev'!$A6-35,0),0.03999)","v":3.5000000000000001E-3},{"$f":"MIN(OFFSET(Male!AH$18,'Male Rev'!$A6-35,0),0.03999)","v":3.0000000000000001E-3},{"$f":"MIN(OFFSET(Male!AI$18,'Male Rev'!$A6-35,0),0.03999)","v":2.5999999999999999E-3},{"$f":"MIN(OFFSET(Male!AJ$18,'Male Rev'!$A6-35,0),0.03999)","v":2.2000000000000001E-3},{"$f":"MIN(OFFSET(Male!AK$18,'Male Rev'!$A6-35,0),0.03999)","v":1.8E-3},{"$f":"MIN(OFFSET(Male!AL$18,'Male Rev'!$A6-35,0),0.03999)","v":1.5E-3},{"$f":"MIN(OFFSET(Male!AM$18,'Male Rev'!$A6-35,0),0.03999)","v":1.2999999999999999E-3},{"$f":"MIN(OFFSET(Male!AN$18,'Male Rev'!$A6-35,0),0.03999)","v":1.1000000000000001E-3},{"$f":"MIN(OFFSET(Male!AO$18,'Male Rev'!$A6-35,0),0.03999)","v":1E-3},{"$f":"MIN(OFFSET(Male!AP$18,'Male Rev'!$A6-35,0),0.03999)","v":1E-3},{"$f":"MIN(OFFSET(Male!AQ$18,'Male Rev'!$A6-35,0),0.03999)","v":1E-3},{"$f":"MIN(OFFSET(Male!AR$18,'Male Rev'!$A6-35,0),0.03999)","v":1.1000000000000001E-3},{"$f":"MIN(OFFSET(Male!AS$18,'Male Rev'!$A6-35,0),0.03999)","v":1.2999999999999999E-3},{"$f":"MIN(OFFSET(Male!AT$18,'Male Rev'!$A6-35,0),0.03999)","v":1.6000000000000001E-3},{"$f":"MIN(OFFSET(Male!AU$18,'Male Rev'!$A6-35,0),0.03999)","v":2E-3},{"$f":"MIN(OFFSET(Male!AV$18,'Male Rev'!$A6-35,0),0.03999)","v":2.3999999999999998E-3},{"$f":"MIN(OFFSET(Male!AW$18,'Male Rev'!$A6-35,0),0.03999)","v":2.8999999999999998E-3},{"$f":"MIN(OFFSET(Male!AX$18,'Male Rev'!$A6-35,0),0.03999)","v":3.5000000000000001E-3},{"$f":"MIN(OFFSET(Male!AY$18,'Male Rev'!$A6-35,0),0.03999)","v":4.1000000000000003E-3},{"$f":"MIN(OFFSET(Male!AZ$18,'Male Rev'!$A6-35,0),0.03999)","v":4.7000000000000002E-3},{"$f":"MIN(OFFSET(Male!BA$18,'Male Rev'!$A6-35,0),0.03999)","v":5.3E-3},{"$f":"MIN(OFFSET(Male!BB$18,'Male Rev'!$A6-35,0),0.03999)","v":5.8999999999999999E-3},{"$f":"MIN(OFFSET(Male!BC$18,'Male Rev'!$A6-35,0),0.03999)","v":6.4999999999999997E-3},{"$f":"MIN(OFFSET(Male!BD$18,'Male Rev'!$A6-35,0),0.03999)","v":6.8999999999999999E-3},{"$f":"MIN(OFFSET(Male!BE$18,'Male Rev'!$A6-35,0),0.03999)","v":7.3000000000000001E-3},{"$f":"MIN(OFFSET(Male!BF$18,'Male Rev'!$A6-35,0),0.03999)","v":7.6E-3},{"$f":"MIN(OFFSET(Male!BG$18,'Male Rev'!$A6-35,0),0.03999)","v":7.7999999999999996E-3},{"$f":"MIN(OFFSET(Male!BH$18,'Male Rev'!$A6-35,0),0.03999)","v":8.0000000000000002E-3},{"$f":"MIN(OFFSET(Male!BI$18,'Male Rev'!$A6-35,0),0.03999)","v":8.0000000000000002E-3},{"$f":"MIN(OFFSET(Male!BJ$18,'Male Rev'!$A6-35,0),0.03999)","v":8.0000000000000002E-3},{"$f":"MIN(OFFSET(Male!BK$18,'Male Rev'!$A6-35,0),0.03999)","v":8.0000000000000002E-3},{"$f":"MIN(OFFSET(Male!BL$18,'Male Rev'!$A6-35,0),0.03999)","v":8.0000000000000002E-3},{"$f":"MIN(OFFSET(Male!BM$18,'Male Rev'!$A6-35,0),0.03999)","v":7.9000000000000008E-3},{"$f":"MIN(OFFSET(Male!BN$18,'Male Rev'!$A6-35,0),0.03999)","v":7.9000000000000008E-3},{"$f":"MIN(OFFSET(Male!BO$18,'Male Rev'!$A6-35,0),0.03999)","v":8.0999999999999996E-3},{"$f":"MIN(OFFSET(Male!BP$18,'Male Rev'!$A6-35,0),0.03999)","v":8.3999999999999995E-3},{"$f":"MIN(OFFSET(Male!BQ$18,'Male Rev'!$A6-35,0),0.03999)","v":8.6E-3},{"$f":"MIN(OFFSET(Male!BR$18,'Male Rev'!$A6-35,0),0.03999)","v":8.6999999999999994E-3},{"$f":"MIN(OFFSET(Male!BS$18,'Male Rev'!$A6-35,0),0.03999)","v":8.8999999999999999E-3},{"$f":"MIN(OFFSET(Male!BT$18,'Male Rev'!$A6-35,0),0.03999)","v":8.8999999999999999E-3},{"$f":"MIN(OFFSET(Male!BU$18,'Male Rev'!$A6-35,0),0.03999)","v":8.9999999999999993E-3},{"$f":"MIN(OFFSET(Male!BV$18,'Male Rev'!$A6-35,0),0.03999)","v":8.9999999999999993E-3},{"$f":"MIN(OFFSET(Male!BW$18,'Male Rev'!$A6-35,0),0.03999)","v":8.9999999999999993E-3},{"$f":"MIN(OFFSET(Male!BX$18,'Male Rev'!$A6-35,0),0.03999)","v":8.8999999999999999E-3},{"$f":"MIN(OFFSET(Male!BY$18,'Male Rev'!$A6-35,0),0.03999)","v":8.8000000000000005E-3},{"$f":"MIN(OFFSET(Male!BZ$18,'Male Rev'!$A6-35,0),0.03999)","v":8.6999999999999994E-3},{"$f":"MIN(OFFSET(Male!CA$18,'Male Rev'!$A6-35,0),0.03999)","v":8.6999999999999994E-3},{"$f":"MIN(OFFSET(Male!CB$18,'Male Rev'!$A6-35,0),0.03999)","v":8.6E-3},{"$f":"MIN(OFFSET(Male!CC$18,'Male Rev'!$A6-35,0),0.03999)","v":8.6999999999999994E-3},{"$f":"MIN(OFFSET(Male!CD$18,'Male Rev'!$A6-35,0),0.03999)","v":8.6999999999999994E-3},{"$f":"MIN(OFFSET(Male!CE$18,'Male Rev'!$A6-35,0),0.03999)","v":8.8000000000000005E-3},{"$f":"MIN(OFFSET(Male!CF$18,'Male Rev'!$A6-35,0),0.03999)","v":8.8000000000000005E-3},{"$f":"MIN(OFFSET(Male!CG$18,'Male Rev'!$A6-35,0),0.03999)","v":8.8999999999999999E-3},{"$f":"MIN(OFFSET(Male!CH$18,'Male Rev'!$A6-35,0),0.03999)","v":8.9999999999999993E-3}]
[91,91,{"$f":"MIN(OFFSET(Male!B$18,'Male Rev'!$A7-35,0),0.03999)","v":1.8E-3},{"$f":"MIN(OFFSET(Male!C$18,'Male Rev'!$A7-35,0),0.03999)","v":1.8E-3},{"$f":"MIN(OFFSET(Male!D$18,'Male Rev'!$A7-35,0),0.03999)","v":1.8E-3},{"$f":"MIN(OFFSET(Male!E$18,'Male Rev'!$A7-35,0),0.03999)","v":1.8E-3},{"$f":"MIN(OFFSET(Male!F$18,'Male Rev'!$A7-35,0),0.03999)","v":1.8E-3},{"$f":"MIN(OFFSET(Male!G$18,'Male Rev'!$A7-35,0),0.03999)","v":1.8E-3},{"$f":"MIN(OFFSET(Male!H$18,'Male Rev'!$A7-35,0),0.03999)","v":1.9E-3},{"$f":"MIN(OFFSET(Male!I$18,'Male Rev'!$A7-35,0),0.03999)","v":2E-3},{"$f":"MIN(OFFSET(Male!J$18,'Male Rev'!$A7-35,0),0.03999)","v":2.2000000000000001E-3},{"$f":"MIN(OFFSET(Male!K$18,'Male Rev'!$A7-35,0),0.03999)","v":2.3999999999999998E-3},{"$f":"MIN(OFFSET(Male!L$18,'Male Rev'!$A7-35,0),0.03999)","v":2.5999999999999999E-3},{"$f":"MIN(OFFSET(Male!M$18,'Male Rev'!$A7-35,0),0.03999)","v":2.8999999999999998E-3},{"$f":"MIN(OFFSET(Male!N$18,'Male Rev'!$A7-35,0),0.03999)","v":3.2000000000000002E-3},{"$f":"MIN(OFFSET(Male!O$18,'Male Rev'!$A7-35,0),0.03999)","v":3.5999999999999999E-3},{"$f":"MIN(OFFSET(Male!P$18,'Male Rev'!$A7-35,0),0.03999)","v":3.8999999999999998E-3},{"$f":"MIN(OFFSET(Male!Q$18,'Male Rev'!$A7-35,0),0.03999)","v":4.3E-3},{"$f":"MIN(OFFSET(Male!R$18,'Male Rev'!$A7-35,0),0.03999)","v":4.7000000000000002E-3},{"$f":"MIN(OFFSET(Male!S$18,'Male Rev'!$A7-35,0),0.03999)","v":5.0000000000000001E-3},{"$f":"MIN(OFFSET(Male!T$18,'Male Rev'!$A7-35,0),0.03999)","v":5.3E-3},{"$f":"MIN(OFFSET(Male!U$18,'Male Rev'!$A7-35,0),0.03999)","v":5.5999999999999999E-3},{"$f":"MIN(OFFSET(Male!V$18,'Male Rev'!$A7-35,0),0.03999)","v":5.7999999999999996E-3},{"$f":"MIN(OFFSET(Male!W$18,'Male Rev'!$A7-35,0),0.03999)","v":6.0000000000000001E-3},{"$f":"MIN(OFFSET(Male!X$18,'Male Rev'!$A7-35,0),0.03999)","v":6.1000000000000004E-3},{"$f":"MIN(OFFSET(Male!Y$18,'Male Rev'!$A7-35,0),0.03999)","v":6.1000000000000004E-3},{"$f":"MIN(OFFSET(Male!Z$18,'Male Rev'!$A7-35,0),0.03999)","v":6.1000000000000004E-3},{"$f":"MIN(OFFSET(Male!AA$18,'Male Rev'!$A7-35,0),0.03999)","v":5.8999999999999999E-3},{"$f":"MIN(OFFSET(Male!AB$18,'Male Rev'!$A7-35,0),0.03999)","v":5.7000000000000002E-3},{"$f":"MIN(OFFSET(Male!AC$18,'Male Rev'!$A7-35,0),0.03999)","v":5.4999999999999997E-3},{"$f":"MIN(OFFSET(Male!AD$18,'Male Rev'!$A7-35,0),0.03999)","v":5.1000000000000004E-3},{"$f":"MIN(OFFSET(Male!AE$18,'Male Rev'!$A7-35,0),0.03999)","v":4.7999999999999996E-3},{"$f":"MIN(OFFSET(Male!AF$18,'Male Rev'!$A7-35,0),0.03999)","v":4.4000000000000003E-3},{"$f":"MIN(OFFSET(Male!AG$18,'Male Rev'!$A7-35,0),0.03999)","v":3.8999999999999998E-3},{"$f":"MIN(OFFSET(Male!AH$18,'Male Rev'!$A7-35,0),0.03999)","v":3.5000000000000001E-3},{"$f":"MIN(OFFSET(Male!AI$18,'Male Rev'!$A7-35,0),0.03999)","v":3.0999999999999999E-3},{"$f":"MIN(OFFSET(Male!AJ$18,'Male Rev'!$A7-35,0),0.03999)","v":2.7000000000000001E-3},{"$f":"MIN(OFFSET(Male!AK$18,'Male Rev'!$A7-35,0),0.03999)","v":2.3999999999999998E-3},{"$f":"MIN(OFFSET(Male!AL$18,'Male Rev'!$A7-35,0),0.03999)","v":2.0999999999999999E-3},{"$f":"MIN(OFFSET(Male!AM$18,'Male Rev'!$A7-35,0),0.03999)","v":1.9E-3},{"$f":"MIN(OFFSET(Male!AN$18,'Male Rev'!$A7-35,0),0.03999)","v":1.8E-3},{"$f":"MIN(OFFSET(Male!AO$18,'Male Rev'!$A7-35,0),0.03999)","v":1.6999999999999999E-3},{"$f":"MIN(OFFSET(Male!AP$18,'Male Rev'!$A7-35,0),0.03999)","v":1.6999999999999999E-3},{"$f":"MIN(OFFSET(Male!AQ$18,'Male Rev'!$A7-35,0),0.03999)","v":1.6999999999999999E-3},{"$f":"MIN(OFFSET(Male!AR$18,'Male Rev'!$A7-35,0),0.03999)","v":1.9E-3},{"$f":"MIN(OFFSET(Male!AS$18,'Male Rev'!$A7-35,0),0.03999)","v":2.0999999999999999E-3},{"$f":"MIN(OFFSET(Male!AT$18,'Male Rev'!$A7-35,0),0.03999)","v":2.3999999999999998E-3},{"$f":"MIN(OFFSET(Male!AU$18,'Male Rev'!$A7-35,0),0.03999)","v":2.8E-3},{"$f":"MIN(OFFSET(Male!AV$18,'Male Rev'!$A7-35,0),0.03999)","v":3.3E-3},{"$f":"MIN(OFFSET(Male!AW$18,'Male Rev'!$A7-35,0),0.03999)","v":3.8999999999999998E-3},{"$f":"MIN(OFFSET(Male!AX$18,'Male Rev'!$A7-35,0),0.03999)","v":4.4999999999999997E-3},{"$f":"MIN(OFFSET(Male!AY$18,'Male Rev'!$A7-35,0),0.03999)","v":5.1000000000000004E-3},{"$f":"MIN(OFFSET(Male!AZ$18,'Male Rev'!$A7-35,0),0.03999)","v":5.7999999999999996E-3},{"$f":"MIN(OFFSET(Male!BA$18,'Male Rev'!$A7-35,0),0.03999)","v":6.4000000000000003E-3},{"$f":"MIN(OFFSET(Male!BB$18,'Male Rev'!$A7-35,0),0.03999)","v":7.0000000000000001E-3},{"$f":"MIN(OFFSET(Male!BC$18,'Male Rev'!$A7-35,0),0.03999)","v":7.6E-3},{"$f":"MIN(OFFSET(Male!BD$18,'Male Rev'!$A7-35,0),0.03999)","v":8.0000000000000002E-3},{"$f":"MIN(OFFSET(Male!BE$18,'Male Rev'!$A7-35,0),0.03999)","v":8.3999999999999995E-3},{"$f":"MIN(OFFSET(Male!BF$18,'Male Rev'!$A7-35,0),0.03999)","v":8.6999999999999994E-3},{"$f":"MIN(OFFSET(Male!BG$18,'Male Rev'!$A7-35,0),0.03999)","v":8.8000000000000005E-3},{"$f":"MIN(OFFSET(Male!BH$18,'Male Rev'!$A7-35,0),0.03999)","v":8.8999999999999999E-3},{"$f":"MIN(OFFSET(Male!BI$18,'Male Rev'!$A7-35,0),0.03999)","v":8.8000000000000005E-3},{"$f":"MIN(OFFSET(Male!BJ$18,'Male Rev'!$A7-35,0),0.03999)","v":8.8000000000000005E-3},{"$f":"MIN(OFFSET(Male!BK$18,'Male Rev'!$A7-35,0),0.03999)","v":8.6999999999999994E-3},{"$f":"MIN(OFFSET(Male!BL$18,'Male Rev'!$A7-35,0),0.03999)","v":8.6E-3},{"$f":"MIN(OFFSET(Male!BM$18,'Male Rev'!$A7-35,0),0.03999)","v":8.5000000000000006E-3},{"$f":"MIN(OFFSET(Male!BN$18,'Male Rev'!$A7-35,0),0.03999)","v":8.3999999999999995E-3},{"$f":"MIN(OFFSET(Male!BO$18,'Male Rev'!$A7-35,0),0.03999)","v":8.6999999999999994E-3},{"$f":"MIN(OFFSET(Male!BP$18,'Male Rev'!$A7-35,0),0.03999)","v":8.8999999999999999E-3},{"$f":"MIN(OFFSET(Male!BQ$18,'Male Rev'!$A7-35,0),0.03999)","v":8.9999999999999993E-3},{"$f":"MIN(OFFSET(Male!BR$18,'Male Rev'!$A7-35,0),0.03999)","v":9.1999999999999998E-3},{"$f":"MIN(OFFSET(Male!BS$18,'Male Rev'!$A7-35,0),0.03999)","v":9.1999999999999998E-3},{"$f":"MIN(OFFSET(Male!BT$18,'Male Rev'!$A7-35,0),0.03999)","v":9.2999999999999992E-3},{"$f":"MIN(OFFSET(Male!BU$18,'Male Rev'!$A7-35,0),0.03999)","v":9.2999999999999992E-3},{"$f":"MIN(OFFSET(Male!BV$18,'Male Rev'!$A7-35,0),0.03999)","v":9.2999999999999992E-3},{"$f":"MIN(OFFSET(Male!BW$18,'Male Rev'!$A7-35,0),0.03999)","v":9.1999999999999998E-3},{"$f":"MIN(OFFSET(Male!BX$18,'Male Rev'!$A7-35,0),0.03999)","v":9.1000000000000004E-3},{"$f":"MIN(OFFSET(Male!BY$18,'Male Rev'!$A7-35,0),0.03999)","v":8.9999999999999993E-3},{"$f":"MIN(OFFSET(Male!BZ$18,'Male Rev'!$A7-35,0),0.03999)","v":8.8999999999999999E-3},{"$f":"MIN(OFFSET(Male!CA$18,'Male Rev'!$A7-35,0),0.03999)","v":8.8999999999999999E-3},{"$f":"MIN(OFFSET(Male!CB$18,'Male Rev'!$A7-35,0),0.03999)","v":8.8999999999999999E-3},{"$f":"MIN(OFFSET(Male!CC$18,'Male Rev'!$A7-35,0),0.03999)","v":8.8999999999999999E-3},{"$f":"MIN(OFFSET(Male!CD$18,'Male Rev'!$A7-35,0),0.03999)","v":8.9999999999999993E-3},{"$f":"MIN(OFFSET(Male!CE$18,'Male Rev'!$A7-35,0),0.03999)","v":8.9999999999999993E-3},{"$f":"MIN(OFFSET(Male!CF$18,'Male Rev'!$A7-35,0),0.03999)","v":8.9999999999999993E-3},{"$f":"MIN(OFFSET(Male!CG$18,'Male Rev'!$A7-35,0),0.03999)","v":8.9999999999999993E-3},{"$f":"MIN(OFFSET(Male!CH$18,'Male Rev'!$A7-35,0),0.03999)","v":9.1000000000000004E-3}]
[90,90,{"$f":"MIN(OFFSET(Male!B$18,'Male Rev'!$A8-35,0),0.03999)","v":1.6999999999999999E-3},{"$f":"MIN(OFFSET(Male!C$18,'Male Rev'!$A8-35,0),0.03999)","v":1.6999999999999999E-3},{"$f":"MIN(OFFSET(Male!D$18,'Male Rev'!$A8-35,0),0.03999)","v":1.6000000000000001E-3},{"$f":"MIN(OFFSET(Male!E$18,'Male Rev'!$A8-35,0),0.03999)","v":1.6000000000000001E-3},{"$f":"MIN(OFFSET(Male!F$18,'Male Rev'!$A8-35,0),0.03999)","v":1.6000000000000001E-3},{"$f":"MIN(OFFSET(Male!G$18,'Male Rev'!$A8-35,0),0.03999)","v":1.6000000000000001E-3},{"$f":"MIN(OFFSET(Male!H$18,'Male Rev'!$A8-35,0),0.03999)","v":1.6999999999999999E-3},{"$f":"MIN(OFFSET(Male!I$18,'Male Rev'!$A8-35,0),0.03999)","v":1.8E-3},{"$f":"MIN(OFFSET(Male!J$18,'Male Rev'!$A8-35,0),0.03999)","v":2E-3},{"$f":"MIN(OFFSET(Male!K$18,'Male Rev'!$A8-35,0),0.03999)","v":2.2000000000000001E-3},{"$f":"MIN(OFFSET(Male!L$18,'Male Rev'!$A8-35,0),0.03999)","v":2.3999999999999998E-3},{"$f":"MIN(OFFSET(Male!M$18,'Male Rev'!$A8-35,0),0.03999)","v":2.7000000000000001E-3},{"$f":"MIN(OFFSET(Male!N$18,'Male Rev'!$A8-35,0),0.03999)","v":3.0000000000000001E-3},{"$f":"MIN(OFFSET(Male!O$18,'Male Rev'!$A8-35,0),0.03999)","v":3.3999999999999998E-3},{"$f":"MIN(OFFSET(Male!P$18,'Male Rev'!$A8-35,0),0.03999)","v":3.8E-3},{"$f":"MIN(OFFSET(Male!Q$18,'Male Rev'!$A8-35,0),0.03999)","v":4.1999999999999997E-3},{"$f":"MIN(OFFSET(Male!R$18,'Male Rev'!$A8-35,0),0.03999)","v":4.5999999999999999E-3},{"$f":"MIN(OFFSET(Male!S$18,'Male Rev'!$A8-35,0),0.03999)","v":5.0000000000000001E-3},{"$f":"MIN(OFFSET(Male!T$18,'Male Rev'!$A8-35,0),0.03999)","v":5.4000000000000003E-3},{"$f":"MIN(OFFSET(Male!U$18,'Male Rev'!$A8-35,0),0.03999)","v":5.7000000000000002E-3},{"$f":"MIN(OFFSET(Male!V$18,'Male Rev'!$A8-35,0),0.03999)","v":6.0000000000000001E-3},{"$f":"MIN(OFFSET(Male!W$18,'Male Rev'!$A8-35,0),0.03999)","v":6.1999999999999998E-3},{"$f":"MIN(OFFSET(Male!X$18,'Male Rev'!$A8-35,0),0.03999)","v":6.3E-3},{"$f":"MIN(OFFSET(Male!Y$18,'Male Rev'!$A8-35,0),0.03999)","v":6.4000000000000003E-3},{"$f":"MIN(OFFSET(Male!Z$18,'Male Rev'!$A8-35,0),0.03999)","v":6.4000000000000003E-3},{"$f":"MIN(OFFSET(Male!AA$18,'Male Rev'!$A8-35,0),0.03999)","v":6.3E-3},{"$f":"MIN(OFFSET(Male!AB$18,'Male Rev'!$A8-35,0),0.03999)","v":6.1000000000000004E-3},{"$f":"MIN(OFFSET(Male!AC$18,'Male Rev'!$A8-35,0),0.03999)","v":5.7999999999999996E-3},{"$f":"MIN(OFFSET(Male!AD$18,'Male Rev'!$A8-35,0),0.03999)","v":5.4999999999999997E-3},{"$f":"MIN(OFFSET(Male!AE$18,'Male Rev'!$A8-35,0),0.03999)","v":5.1999999999999998E-3},{"$f":"MIN(OFFSET(Male!AF$18,'Male Rev'!$A8-35,0),0.03999)","v":4.7999999999999996E-3},{"$f":"MIN(OFFSET(Male!AG$18,'Male Rev'!$A8-35,0),0.03999)","v":4.4000000000000003E-3},{"$f":"MIN(OFFSET(Male!AH$18,'Male Rev'!$A8-35,0),0.03999)","v":3.8999999999999998E-3},{"$f":"MIN(OFFSET(Male!AI$18,'Male Rev'!$A8-35,0),0.03999)","v":3.5999999999999999E-3},{"$f":"MIN(OFFSET(Male!AJ$18,'Male Rev'!$A8-35,0),0.03999)","v":3.2000000000000002E-3},{"$f":"MIN(OFFSET(Male!AK$18,'Male Rev'!$A8-35,0),0.03999)","v":2.8999999999999998E-3},{"$f":"MIN(OFFSET(Male!AL$18,'Male Rev'!$A8-35,0),0.03999)","v":2.7000000000000001E-3},{"$f":"MIN(OFFSET(Male!AM$18,'Male Rev'!$A8-35,0),0.03999)","v":2.5000000000000001E-3},{"$f":"MIN(OFFSET(Male!AN$18,'Male Rev'!$A8-35,0),0.03999)","v":2.3999999999999998E-3},{"$f":"MIN(OFFSET(Male!AO$18,'Male Rev'!$A8-35,0),0.03999)","v":2.3999999999999998E-3},{"$f":"MIN(OFFSET(Male!AP$18,'Male Rev'!$A8-35,0),0.03999)","v":2.3999999999999998E-3},{"$f":"MIN(OFFSET(Male!AQ$18,'Male Rev'!$A8-35,0),0.03999)","v":2.5000000000000001E-3},{"$f":"MIN(OFFSET(Male!AR$18,'Male Rev'!$A8-35,0),0.03999)","v":2.7000000000000001E-3},{"$f":"MIN(OFFSET(Male!AS$18,'Male Rev'!$A8-35,0),0.03999)","v":2.8999999999999998E-3},{"$f":"MIN(OFFSET(Male!AT$18,'Male Rev'!$A8-35,0),0.03999)","v":3.3E-3},{"$f":"MIN(OFFSET(Male!AU$18,'Male Rev'!$A8-35,0),0.03999)","v":3.7000000000000002E-3},{"$f":"MIN(OFFSET(Male!AV$18,'Male Rev'!$A8-35,0),0.03999)","v":4.1999999999999997E-3},{"$f":"MIN(OFFSET(Male!AW$18,'Male Rev'!$A8-35,0),0.03999)","v":4.7999999999999996E-3},{"$f":"MIN(OFFSET(Male!AX$18,'Male Rev'!$A8-35,0),0.03999)","v":5.4999999999999997E-3},{"$f":"MIN(OFFSET(Male!AY$18,'Male Rev'!$A8-35,0),0.03999)","v":6.1999999999999998E-3},{"$f":"MIN(OFFSET(Male!AZ$18,'Male Rev'!$A8-35,0),0.03999)","v":6.8999999999999999E-3},{"$f":"MIN(OFFSET(Male!BA$18,'Male Rev'!$A8-35,0),0.03999)","v":7.4999999999999997E-3},{"$f":"MIN(OFFSET(Male!BB$18,'Male Rev'!$A8-35,0),0.03999)","v":8.2000000000000007E-3},{"$f":"MIN(OFFSET(Male!BC$18,'Male Rev'!$A8-35,0),0.03999)","v":8.6999999999999994E-3},{"$f":"MIN(OFFSET(Male!BD$18,'Male Rev'!$A8-35,0),0.03999)","v":9.1999999999999998E-3},{"$f":"MIN(OFFSET(Male!BE$18,'Male Rev'!$A8-35,0),0.03999)","v":9.4999999999999998E-3},{"$f":"MIN(OFFSET(Male!BF$18,'Male Rev'!$A8-35,0),0.03999)","v":9.7000000000000003E-3},{"$f":"MIN(OFFSET(Male!BG$18,'Male Rev'!$A8-35,0),0.03999)","v":9.7999999999999997E-3},{"$f":"MIN(OFFSET(Male!BH$18,'Male Rev'!$A8-35,0),0.03999)","v":9.7000000000000003E-3},{"$f":"MIN(OFFSET(Male!BI$18,'Male Rev'!$A8-35,0),0.03999)","v":9.5999999999999992E-3},{"$f":"MIN(OFFSET(Male!BJ$18,'Male Rev'!$A8-35,0),0.03999)","v":9.4999999999999998E-3},{"$f":"MIN(OFFSET(Male!BK$18,'Male Rev'!$A8-35,0),0.03999)","v":9.2999999999999992E-3},{"$f":"MIN(OFFSET(Male!BL$18,'Male Rev'!$A8-35,0),0.03999)","v":9.1999999999999998E-3},{"$f":"MIN(OFFSET(Male!BM$18,'Male Rev'!$A8-35,0),0.03999)","v":8.9999999999999993E-3},{"$f":"MIN(OFFSET(Male!BN$18,'Male Rev'!$A8-35,0),0.03999)","v":8.8999999999999999E-3},{"$f":"MIN(OFFSET(Male!BO$18,'Male Rev'!$A8-35,0),0.03999)","v":9.1999999999999998E-3},{"$f":"MIN(OFFSET(Male!BP$18,'Male Rev'!$A8-35,0),0.03999)","v":9.4000000000000004E-3},{"$f":"MIN(OFFSET(Male!BQ$18,'Male Rev'!$A8-35,0),0.03999)","v":9.4999999999999998E-3},{"$f":"MIN(OFFSET(Male!BR$18,'Male Rev'!$A8-35,0),0.03999)","v":9.5999999999999992E-3},{"$f":"MIN(OFFSET(Male!BS$18,'Male Rev'!$A8-35,0),0.03999)","v":9.5999999999999992E-3},{"$f":"MIN(OFFSET(Male!BT$18,'Male Rev'!$A8-35,0),0.03999)","v":9.5999999999999992E-3},{"$f":"MIN(OFFSET(Male!BU$18,'Male Rev'!$A8-35,0),0.03999)","v":9.5999999999999992E-3},{"$f":"MIN(OFFSET(Male!BV$18,'Male Rev'!$A8-35,0),0.03999)","v":9.4999999999999998E-3},{"$f":"MIN(OFFSET(Male!BW$18,'Male Rev'!$A8-35,0),0.03999)","v":9.4000000000000004E-3},{"$f":"MIN(OFFSET(Male!BX$18,'Male Rev'!$A8-35,0),0.03999)","v":9.2999999999999992E-3},{"$f":"MIN(OFFSET(Male!BY$18,'Male Rev'!$A8-35,0),0.03999)","v":9.1999999999999998E-3},{"$f":"MIN(OFFSET(Male!BZ$18,'Male Rev'!$A8-35,0),0.03999)","v":9.1000000000000004E-3},{"$f":"MIN(OFFSET(Male!CA$18,'Male Rev'!$A8-35,0),0.03999)","v":9.1000000000000004E-3},{"$f":"MIN(OFFSET(Male!CB$18,'Male Rev'!$A8-35,0),0.03999)","v":9.1000000000000004E-3},{"$f":"MIN(OFFSET(Male!CC$18,'Male Rev'!$A8-35,0),0.03999)","v":9.1000000000000004E-3},{"$f":"MIN(OFFSET(Male!CD$18,'Male Rev'!$A8-35,0),0.03999)","v":9.1000000000000004E-3},{"$f":"MIN(OFFSET(Male!CE$18,'Male Rev'!$A8-35,0),0.03999)","v":9.1000000000000004E-3},{"$f":"MIN(OFFSET(Male!CF$18,'Male Rev'!$A8-35,0),0.03999)","v":9.1000000000000004E-3},{"$f":"MIN(OFFSET(Male!CG$18,'Male Rev'!$A8-35,0),0.03999)","v":9.1999999999999998E-3},{"$f":"MIN(OFFSET(Male!CH$18,'Male Rev'!$A8-35,0),0.03999)","v":9.2999999999999992E-3}]
[89,89,{"$f":"MIN(OFFSET(Male!B$18,'Male Rev'!$A9-35,0),0.03999)","v":1.5E-3},{"$f":"MIN(OFFSET(Male!C$18,'Male Rev'!$A9-35,0),0.03999)","v":1.5E-3},{"$f":"MIN(OFFSET(Male!D$18,'Male Rev'!$A9-35,0),0.03999)","v":1.5E-3},{"$f":"MIN(OFFSET(Male!E$18,'Male Rev'!$A9-35,0),0.03999)","v":1.5E-3},{"$f":"MIN(OFFSET(Male!F$18,'Male Rev'!$A9-35,0),0.03999)","v":1.5E-3},{"$f":"MIN(OFFSET(Male!G$18,'Male Rev'!$A9-35,0),0.03999)","v":1.5E-3},{"$f":"MIN(OFFSET(Male!H$18,'Male Rev'!$A9-35,0),0.03999)","v":1.5E-3},{"$f":"MIN(OFFSET(Male!I$18,'Male Rev'!$A9-35,0),0.03999)","v":1.6000000000000001E-3},{"$f":"MIN(OFFSET(Male!J$18,'Male Rev'!$A9-35,0),0.03999)","v":1.8E-3},{"$f":"MIN(OFFSET(Male!K$18,'Male Rev'!$A9-35,0),0.03999)","v":2E-3},{"$f":"MIN(OFFSET(Male!L$18,'Male Rev'!$A9-35,0),0.03999)","v":2.2000000000000001E-3},{"$f":"MIN(OFFSET(Male!M$18,'Male Rev'!$A9-35,0),0.03999)","v":2.5000000000000001E-3},{"$f":"MIN(OFFSET(Male!N$18,'Male Rev'!$A9-35,0),0.03999)","v":2.8999999999999998E-3},{"$f":"MIN(OFFSET(Male!O$18,'Male Rev'!$A9-35,0),0.03999)","v":3.3E-3},{"$f":"MIN(OFFSET(Male!P$18,'Male Rev'!$A9-35,0),0.03999)","v":3.7000000000000002E-3},{"$f":"MIN(OFFSET(Male!Q$18,'Male Rev'!$A9-35,0),0.03999)","v":4.1000000000000003E-3},{"$f":"MIN(OFFSET(Male!R$18,'Male Rev'!$A9-35,0),0.03999)","v":4.5999999999999999E-3},{"$f":"MIN(OFFSET(Male!S$18,'Male Rev'!$A9-35,0),0.03999)","v":5.0000000000000001E-3},{"$f":"MIN(OFFSET(Male!T$18,'Male Rev'!$A9-35,0),0.03999)","v":5.4000000000000003E-3},{"$f":"MIN(OFFSET(Male!U$18,'Male Rev'!$A9-35,0),0.03999)","v":5.7999999999999996E-3},{"$f":"MIN(OFFSET(Male!V$18,'Male Rev'!$A9-35,0),0.03999)","v":6.1000000000000004E-3},{"$f":"MIN(OFFSET(Male!W$18,'Male Rev'!$A9-35,0),0.03999)","v":6.4000000000000003E-3},{"$f":"MIN(OFFSET(Male!X$18,'Male Rev'!$A9-35,0),0.03999)","v":6.6E-3},{"$f":"MIN(OFFSET(Male!Y$18,'Male Rev'!$A9-35,0),0.03999)","v":6.7000000000000002E-3},{"$f":"MIN(OFFSET(Male!Z$18,'Male Rev'!$A9-35,0),0.03999)","v":6.7000000000000002E-3},{"$f":"MIN(OFFSET(Male!AA$18,'Male Rev'!$A9-35,0),0.03999)","v":6.6E-3},{"$f":"MIN(OFFSET(Male!AB$18,'Male Rev'!$A9-35,0),0.03999)","v":6.4999999999999997E-3},{"$f":"MIN(OFFSET(Male!AC$18,'Male Rev'!$A9-35,0),0.03999)","v":6.1999999999999998E-3},{"$f":"MIN(OFFSET(Male!AD$18,'Male Rev'!$A9-35,0),0.03999)","v":5.8999999999999999E-3},{"$f":"MIN(OFFSET(Male!AE$18,'Male Rev'!$A9-35,0),0.03999)","v":5.5999999999999999E-3},{"$f":"MIN(OFFSET(Male!AF$18,'Male Rev'!$A9-35,0),0.03999)","v":5.1999999999999998E-3},{"$f":"MIN(OFFSET(Male!AG$18,'Male Rev'!$A9-35,0),0.03999)","v":4.7999999999999996E-3},{"$f":"MIN(OFFSET(Male!AH$18,'Male Rev'!$A9-35,0),0.03999)","v":4.4000000000000003E-3},{"$f":"MIN(OFFSET(Male!AI$18,'Male Rev'!$A9-35,0),0.03999)","v":4.0000000000000001E-3},{"$f":"MIN(OFFSET(Male!AJ$18,'Male Rev'!$A9-35,0),0.03999)","v":3.7000000000000002E-3},{"$f":"MIN(OFFSET(Male!AK$18,'Male Rev'!$A9-35,0),0.03999)","v":3.5000000000000001E-3},{"$f":"MIN(OFFSET(Male!AL$18,'Male Rev'!$A9-35,0),0.03999)","v":3.3E-3},{"$f":"MIN(OFFSET(Male!AM$18,'Male Rev'!$A9-35,0),0.03999)","v":3.2000000000000002E-3},{"$f":"MIN(OFFSET(Male!AN$18,'Male Rev'!$A9-35,0),0.03999)","v":3.0999999999999999E-3},{"$f":"MIN(OFFSET(Male!AO$18,'Male Rev'!$A9-35,0),0.03999)","v":3.0999999999999999E-3},{"$f":"MIN(OFFSET(Male!AP$18,'Male Rev'!$A9-35,0),0.03999)","v":3.0999999999999999E-3},{"$f":"MIN(OFFSET(Male!AQ$18,'Male Rev'!$A9-35,0),0.03999)","v":3.2000000000000002E-3},{"$f":"MIN(OFFSET(Male!AR$18,'Male Rev'!$A9-35,0),0.03999)","v":3.3999999999999998E-3},{"$f":"MIN(OFFSET(Male!AS$18,'Male Rev'!$A9-35,0),0.03999)","v":3.7000000000000002E-3},{"$f":"MIN(OFFSET(Male!AT$18,'Male Rev'!$A9-35,0),0.03999)","v":4.1000000000000003E-3},{"$f":"MIN(OFFSET(Male!AU$18,'Male Rev'!$A9-35,0),0.03999)","v":4.5999999999999999E-3},{"$f":"MIN(OFFSET(Male!AV$18,'Male Rev'!$A9-35,0),0.03999)","v":5.1999999999999998E-3},{"$f":"MIN(OFFSET(Male!AW$18,'Male Rev'!$A9-35,0),0.03999)","v":5.7999999999999996E-3},{"$f":"MIN(OFFSET(Male!AX$18,'Male Rev'!$A9-35,0),0.03999)","v":6.4999999999999997E-3},{"$f":"MIN(OFFSET(Male!AY$18,'Male Rev'!$A9-35,0),0.03999)","v":7.1999999999999998E-3},{"$f":"MIN(OFFSET(Male!AZ$18,'Male Rev'!$A9-35,0),0.03999)","v":7.9000000000000008E-3},{"$f":"MIN(OFFSET(Male!BA$18,'Male Rev'!$A9-35,0),0.03999)","v":8.6E-3},{"$f":"MIN(OFFSET(Male!BB$18,'Male Rev'!$A9-35,0),0.03999)","v":9.2999999999999992E-3},{"$f":"MIN(OFFSET(Male!BC$18,'Male Rev'!$A9-35,0),0.03999)","v":9.7999999999999997E-3},{"$f":"MIN(OFFSET(Male!BD$18,'Male Rev'!$A9-35,0),0.03999)","v":1.03E-2},{"$f":"MIN(OFFSET(Male!BE$18,'Male Rev'!$A9-35,0),0.03999)","v":1.0500000000000001E-2},{"$f":"MIN(OFFSET(Male!BF$18,'Male Rev'!$A9-35,0),0.03999)","v":1.0699999999999999E-2},{"$f":"MIN(OFFSET(Male!BG$18,'Male Rev'!$A9-35,0),0.03999)","v":1.0699999999999999E-2},{"$f":"MIN(OFFSET(Male!BH$18,'Male Rev'!$A9-35,0),0.03999)","v":1.06E-2},{"$f":"MIN(OFFSET(Male!BI$18,'Male Rev'!$A9-35,0),0.03999)","v":1.04E-2},{"$f":"MIN(OFFSET(Male!BJ$18,'Male Rev'!$A9-35,0),0.03999)","v":1.0200000000000001E-2},{"$f":"MIN(OFFSET(Male!BK$18,'Male Rev'!$A9-35,0),0.03999)","v":0.01},{"$f":"MIN(OFFSET(Male!BL$18,'Male Rev'!$A9-35,0),0.03999)","v":9.7999999999999997E-3},{"$f":"MIN(OFFSET(Male!BM$18,'Male Rev'!$A9-35,0),0.03999)","v":9.5999999999999992E-3},{"$f":"MIN(OFFSET(Male!BN$18,'Male Rev'!$A9-35,0),0.03999)","v":9.4000000000000004E-3},{"$f":"MIN(OFFSET(Male!BO$18,'Male Rev'!$A9-35,0),0.03999)","v":9.7000000000000003E-3},{"$f":"MIN(OFFSET(Male!BP$18,'Male Rev'!$A9-35,0),0.03999)","v":9.7999999999999997E-3},{"$f":"MIN(OFFSET(Male!BQ$18,'Male Rev'!$A9-35,0),0.03999)","v":9.9000000000000008E-3},{"$f":"MIN(OFFSET(Male!BR$18,'Male Rev'!$A9-35,0),0.03999)","v":0.01},{"$f":"MIN(OFFSET(Male!BS$18,'Male Rev'!$A9-35,0),0.03999)","v":0.01},{"$f":"MIN(OFFSET(Male!BT$18,'Male Rev'!$A9-35,0),0.03999)","v":9.9000000000000008E-3},{"$f":"MIN(OFFSET(Male!BU$18,'Male Rev'!$A9-35,0),0.03999)","v":9.7999999999999997E-3},{"$f":"MIN(OFFSET(Male!BV$18,'Male Rev'!$A9-35,0),0.03999)","v":9.7000000000000003E-3},{"$f":"MIN(OFFSET(Male!BW$18,'Male Rev'!$A9-35,0),0.03999)","v":9.5999999999999992E-3},{"$f":"MIN(OFFSET(Male!BX$18,'Male Rev'!$A9-35,0),0.03999)","v":9.4999999999999998E-3},{"$f":"MIN(OFFSET(Male!BY$18,'Male Rev'!$A9-35,0),0.03999)","v":9.4000000000000004E-3},{"$f":"MIN(OFFSET(Male!BZ$18,'Male Rev'!$A9-35,0),0.03999)","v":9.2999999999999992E-3},{"$f":"MIN(OFFSET(Male!CA$18,'Male Rev'!$A9-35,0),0.03999)","v":9.2999999999999992E-3},{"$f":"MIN(OFFSET(Male!CB$18,'Male Rev'!$A9-35,0),0.03999)","v":9.2999999999999992E-3},{"$f":"MIN(OFFSET(Male!CC$18,'Male Rev'!$A9-35,0),0.03999)","v":9.1999999999999998E-3},{"$f":"MIN(OFFSET(Male!CD$18,'Male Rev'!$A9-35,0),0.03999)","v":9.1999999999999998E-3},{"$f":"MIN(OFFSET(Male!CE$18,'Male Rev'!$A9-35,0),0.03999)","v":9.1999999999999998E-3},{"$f":"MIN(OFFSET(Male!CF$18,'Male Rev'!$A9-35,0),0.03999)","v":9.1999999999999998E-3},{"$f":"MIN(OFFSET(Male!CG$18,'Male Rev'!$A9-35,0),0.03999)","v":9.2999999999999992E-3},{"$f":"MIN(OFFSET(Male!CH$18,'Male Rev'!$A9-35,0),0.03999)","v":9.4000000000000004E-3}]
[88,88,{"$f":"MIN(OFFSET(Male!B$18,'Male Rev'!$A10-35,0),0.03999)","v":1.4E-3},{"$f":"MIN(OFFSET(Male!C$18,'Male Rev'!$A10-35,0),0.03999)","v":1.4E-3},{"$f":"MIN(OFFSET(Male!D$18,'Male Rev'!$A10-35,0),0.03999)","v":1.4E-3},{"$f":"MIN(OFFSET(Male!E$18,'Male Rev'!$A10-35,0),0.03999)","v":1.2999999999999999E-3},{"$f":"MIN(OFFSET(Male!F$18,'Male Rev'!$A10-35,0),0.03999)","v":1.2999999999999999E-3},{"$f":"MIN(OFFSET(Male!G$18,'Male Rev'!$A10-35,0),0.03999)","v":1.2999999999999999E-3},{"$f":"MIN(OFFSET(Male!H$18,'Male Rev'!$A10-35,0),0.03999)","v":1.4E-3},{"$f":"MIN(OFFSET(Male!I$18,'Male Rev'!$A10-35,0),0.03999)","v":1.4E-3},{"$f":"MIN(OFFSET(Male!J$18,'Male Rev'!$A10-35,0),0.03999)","v":1.6000000000000001E-3},{"$f":"MIN(OFFSET(Male!K$18,'Male Rev'!$A10-35,0),0.03999)","v":1.8E-3},{"$f":"MIN(OFFSET(Male!L$18,'Male Rev'!$A10-35,0),0.03999)","v":2E-3},{"$f":"MIN(OFFSET(Male!M$18,'Male Rev'!$A10-35,0),0.03999)","v":2.3E-3},{"$f":"MIN(OFFSET(Male!N$18,'Male Rev'!$A10-35,0),0.03999)","v":2.7000000000000001E-3},{"$f":"MIN(OFFSET(Male!O$18,'Male Rev'!$A10-35,0),0.03999)","v":3.0999999999999999E-3},{"$f":"MIN(OFFSET(Male!P$18,'Male Rev'!$A10-35,0),0.03999)","v":3.5999999999999999E-3},{"$f":"MIN(OFFSET(Male!Q$18,'Male Rev'!$A10-35,0),0.03999)","v":4.1000000000000003E-3},{"$f":"MIN(OFFSET(Male!R$18,'Male Rev'!$A10-35,0),0.03999)","v":4.4999999999999997E-3},{"$f":"MIN(OFFSET(Male!S$18,'Male Rev'!$A10-35,0),0.03999)","v":5.0000000000000001E-3},{"$f":"MIN(OFFSET(Male!T$18,'Male Rev'!$A10-35,0),0.03999)","v":5.4999999999999997E-3},{"$f":"MIN(OFFSET(Male!U$18,'Male Rev'!$A10-35,0),0.03999)","v":5.8999999999999999E-3},{"$f":"MIN(OFFSET(Male!V$18,'Male Rev'!$A10-35,0),0.03999)","v":6.3E-3},{"$f":"MIN(OFFSET(Male!W$18,'Male Rev'!$A10-35,0),0.03999)","v":6.6E-3},{"$f":"MIN(OFFSET(Male!X$18,'Male Rev'!$A10-35,0),0.03999)","v":6.7999999999999996E-3},{"$f":"MIN(OFFSET(Male!Y$18,'Male Rev'!$A10-35,0),0.03999)","v":7.0000000000000001E-3},{"$f":"MIN(OFFSET(Male!Z$18,'Male Rev'!$A10-35,0),0.03999)","v":7.1000000000000004E-3},{"$f":"MIN(OFFSET(Male!AA$18,'Male Rev'!$A10-35,0),0.03999)","v":7.0000000000000001E-3},{"$f":"MIN(OFFSET(Male!AB$18,'Male Rev'!$A10-35,0),0.03999)","v":6.8999999999999999E-3},{"$f":"MIN(OFFSET(Male!AC$18,'Male Rev'!$A10-35,0),0.03999)","v":6.6E-3},{"$f":"MIN(OFFSET(Male!AD$18,'Male Rev'!$A10-35,0),0.03999)","v":6.3E-3},{"$f":"MIN(OFFSET(Male!AE$18,'Male Rev'!$A10-35,0),0.03999)","v":6.0000000000000001E-3},{"$f":"MIN(OFFSET(Male!AF$18,'Male Rev'!$A10-35,0),0.03999)","v":5.5999999999999999E-3},{"$f":"MIN(OFFSET(Male!AG$18,'Male Rev'!$A10-35,0),0.03999)","v":5.1999999999999998E-3},{"$f":"MIN(OFFSET(Male!AH$18,'Male Rev'!$A10-35,0),0.03999)","v":4.7999999999999996E-3},{"$f":"MIN(OFFSET(Male!AI$18,'Male Rev'!$A10-35,0),0.03999)","v":4.4999999999999997E-3},{"$f":"MIN(OFFSET(Male!AJ$18,'Male Rev'!$A10-35,0),0.03999)","v":4.1999999999999997E-3},{"$f":"MIN(OFFSET(Male!AK$18,'Male Rev'!$A10-35,0),0.03999)","v":4.0000000000000001E-3},{"$f":"MIN(OFFSET(Male!AL$18,'Male Rev'!$A10-35,0),0.03999)","v":3.8999999999999998E-3},{"$f":"MIN(OFFSET(Male!AM$18,'Male Rev'!$A10-35,0),0.03999)","v":3.8E-3},{"$f":"MIN(OFFSET(Male!AN$18,'Male Rev'!$A10-35,0),0.03999)","v":3.8E-3},{"$f":"MIN(OFFSET(Male!AO$18,'Male Rev'!$A10-35,0),0.03999)","v":3.8E-3},{"$f":"MIN(OFFSET(Male!AP$18,'Male Rev'!$A10-35,0),0.03999)","v":3.8999999999999998E-3},{"$f":"MIN(OFFSET(Male!AQ$18,'Male Rev'!$A10-35,0),0.03999)","v":4.0000000000000001E-3},{"$f":"MIN(OFFSET(Male!AR$18,'Male Rev'!$A10-35,0),0.03999)","v":4.1999999999999997E-3},{"$f":"MIN(OFFSET(Male!AS$18,'Male Rev'!$A10-35,0),0.03999)","v":4.4999999999999997E-3},{"$f":"MIN(OFFSET(Male!AT$18,'Male Rev'!$A10-35,0),0.03999)","v":5.0000000000000001E-3},{"$f":"MIN(OFFSET(Male!AU$18,'Male Rev'!$A10-35,0),0.03999)","v":5.4999999999999997E-3},{"$f":"MIN(OFFSET(Male!AV$18,'Male Rev'!$A10-35,0),0.03999)","v":6.1000000000000004E-3},{"$f":"MIN(OFFSET(Male!AW$18,'Male Rev'!$A10-35,0),0.03999)","v":6.7000000000000002E-3},{"$f":"MIN(OFFSET(Male!AX$18,'Male Rev'!$A10-35,0),0.03999)","v":7.4999999999999997E-3},{"$f":"MIN(OFFSET(Male!AY$18,'Male Rev'!$A10-35,0),0.03999)","v":8.2000000000000007E-3},{"$f":"MIN(OFFSET(Male!AZ$18,'Male Rev'!$A10-35,0),0.03999)","v":8.9999999999999993E-3},{"$f":"MIN(OFFSET(Male!BA$18,'Male Rev'!$A10-35,0),0.03999)","v":9.7000000000000003E-3},{"$f":"MIN(OFFSET(Male!BB$18,'Male Rev'!$A10-35,0),0.03999)","v":1.04E-2},{"$f":"MIN(OFFSET(Male!BC$18,'Male Rev'!$A10-35,0),0.03999)","v":1.0999999999999999E-2},{"$f":"MIN(OFFSET(Male!BD$18,'Male Rev'!$A10-35,0),0.03999)","v":1.14E-2},{"$f":"MIN(OFFSET(Male!BE$18,'Male Rev'!$A10-35,0),0.03999)","v":1.1599999999999999E-2},{"$f":"MIN(OFFSET(Male!BF$18,'Male Rev'!$A10-35,0),0.03999)","v":1.17E-2},{"$f":"MIN(OFFSET(Male!BG$18,'Male Rev'!$A10-35,0),0.03999)","v":1.1599999999999999E-2},{"$f":"MIN(OFFSET(Male!BH$18,'Male Rev'!$A10-35,0),0.03999)","v":1.15E-2},{"$f":"MIN(OFFSET(Male!BI$18,'Male Rev'!$A10-35,0),0.03999)","v":1.12E-2},{"$f":"MIN(OFFSET(Male!BJ$18,'Male Rev'!$A10-35,0),0.03999)","v":1.09E-2},{"$f":"MIN(OFFSET(Male!BK$18,'Male Rev'!$A10-35,0),0.03999)","v":1.06E-2},{"$f":"MIN(OFFSET(Male!BL$18,'Male Rev'!$A10-35,0),0.03999)","v":1.03E-2},{"$f":"MIN(OFFSET(Male!BM$18,'Male Rev'!$A10-35,0),0.03999)","v":1.01E-2},{"$f":"MIN(OFFSET(Male!BN$18,'Male Rev'!$A10-35,0),0.03999)","v":9.9000000000000008E-3},{"$f":"MIN(OFFSET(Male!BO$18,'Male Rev'!$A10-35,0),0.03999)","v":1.01E-2},{"$f":"MIN(OFFSET(Male!BP$18,'Male Rev'!$A10-35,0),0.03999)","v":1.03E-2},{"$f":"MIN(OFFSET(Male!BQ$18,'Male Rev'!$A10-35,0),0.03999)","v":1.03E-2},{"$f":"MIN(OFFSET(Male!BR$18,'Male Rev'!$A10-35,0),0.03999)","v":1.03E-2},{"$f":"MIN(OFFSET(Male!BS$18,'Male Rev'!$A10-35,0),0.03999)","v":1.03E-2},{"$f":"MIN(OFFSET(Male!BT$18,'Male Rev'!$A10-35,0),0.03999)","v":1.0200000000000001E-2},{"$f":"MIN(OFFSET(Male!BU$18,'Male Rev'!$A10-35,0),0.03999)","v":1.01E-2},{"$f":"MIN(OFFSET(Male!BV$18,'Male Rev'!$A10-35,0),0.03999)","v":9.9000000000000008E-3},{"$f":"MIN(OFFSET(Male!BW$18,'Male Rev'!$A10-35,0),0.03999)","v":9.7999999999999997E-3},{"$f":"MIN(OFFSET(Male!BX$18,'Male Rev'!$A10-35,0),0.03999)","v":9.7000000000000003E-3},{"$f":"MIN(OFFSET(Male!BY$18,'Male Rev'!$A10-35,0),0.03999)","v":9.5999999999999992E-3},{"$f":"MIN(OFFSET(Male!BZ$18,'Male Rev'!$A10-35,0),0.03999)","v":9.4999999999999998E-3},{"$f":"MIN(OFFSET(Male!CA$18,'Male Rev'!$A10-35,0),0.03999)","v":9.4999999999999998E-3},{"$f":"MIN(OFFSET(Male!CB$18,'Male Rev'!$A10-35,0),0.03999)","v":9.4000000000000004E-3},{"$f":"MIN(OFFSET(Male!CC$18,'Male Rev'!$A10-35,0),0.03999)","v":9.2999999999999992E-3},{"$f":"MIN(OFFSET(Male!CD$18,'Male Rev'!$A10-35,0),0.03999)","v":9.2999999999999992E-3},{"$f":"MIN(OFFSET(Male!CE$18,'Male Rev'!$A10-35,0),0.03999)","v":9.2999999999999992E-3},{"$f":"MIN(OFFSET(Male!CF$18,'Male Rev'!$A10-35,0),0.03999)","v":9.4000000000000004E-3},{"$f":"MIN(OFFSET(Male!CG$18,'Male Rev'!$A10-35,0),0.03999)","v":9.4999999999999998E-3},{"$f":"MIN(OFFSET(Male!CH$18,'Male Rev'!$A10-35,0),0.03999)","v":9.5999999999999992E-3}]
[87,87,{"$f":"MIN(OFFSET(Male!B$18,'Male Rev'!$A11-35,0),0.03999)","v":1.2999999999999999E-3},{"$f":"MIN(OFFSET(Male!C$18,'Male Rev'!$A11-35,0),0.03999)","v":1.2999999999999999E-3},{"$f":"MIN(OFFSET(Male!D$18,'Male Rev'!$A11-35,0),0.03999)","v":1.2999999999999999E-3},{"$f":"MIN(OFFSET(Male!E$18,'Male Rev'!$A11-35,0),0.03999)","v":1.1999999999999999E-3},{"$f":"MIN(OFFSET(Male!F$18,'Male Rev'!$A11-35,0),0.03999)","v":1.1999999999999999E-3},{"$f":"MIN(OFFSET(Male!G$18,'Male Rev'!$A11-35,0),0.03999)","v":1.1999999999999999E-3},{"$f":"MIN(OFFSET(Male!H$18,'Male Rev'!$A11-35,0),0.03999)","v":1.1999999999999999E-3},{"$f":"MIN(OFFSET(Male!I$18,'Male Rev'!$A11-35,0),0.03999)","v":1.2999999999999999E-3},{"$f":"MIN(OFFSET(Male!J$18,'Male Rev'!$A11-35,0),0.03999)","v":1.4E-3},{"$f":"MIN(OFFSET(Male!K$18,'Male Rev'!$A11-35,0),0.03999)","v":1.6000000000000001E-3},{"$f":"MIN(OFFSET(Male!L$18,'Male Rev'!$A11-35,0),0.03999)","v":1.8E-3},{"$f":"MIN(OFFSET(Male!M$18,'Male Rev'!$A11-35,0),0.03999)","v":2.0999999999999999E-3},{"$f":"MIN(OFFSET(Male!N$18,'Male Rev'!$A11-35,0),0.03999)","v":2.5000000000000001E-3},{"$f":"MIN(OFFSET(Male!O$18,'Male Rev'!$A11-35,0),0.03999)","v":3.0000000000000001E-3},{"$f":"MIN(OFFSET(Male!P$18,'Male Rev'!$A11-35,0),0.03999)","v":3.3999999999999998E-3},{"$f":"MIN(OFFSET(Male!Q$18,'Male Rev'!$A11-35,0),0.03999)","v":4.0000000000000001E-3},{"$f":"MIN(OFFSET(Male!R$18,'Male Rev'!$A11-35,0),0.03999)","v":4.4999999999999997E-3},{"$f":"MIN(OFFSET(Male!S$18,'Male Rev'!$A11-35,0),0.03999)","v":5.0000000000000001E-3},{"$f":"MIN(OFFSET(Male!T$18,'Male Rev'!$A11-35,0),0.03999)","v":5.4999999999999997E-3},{"$f":"MIN(OFFSET(Male!U$18,'Male Rev'!$A11-35,0),0.03999)","v":6.0000000000000001E-3},{"$f":"MIN(OFFSET(Male!V$18,'Male Rev'!$A11-35,0),0.03999)","v":6.4000000000000003E-3},{"$f":"MIN(OFFSET(Male!W$18,'Male Rev'!$A11-35,0),0.03999)","v":6.7999999999999996E-3},{"$f":"MIN(OFFSET(Male!X$18,'Male Rev'!$A11-35,0),0.03999)","v":7.1000000000000004E-3},{"$f":"MIN(OFFSET(Male!Y$18,'Male Rev'!$A11-35,0),0.03999)","v":7.3000000000000001E-3},{"$f":"MIN(OFFSET(Male!Z$18,'Male Rev'!$A11-35,0),0.03999)","v":7.4000000000000003E-3},{"$f":"MIN(OFFSET(Male!AA$18,'Male Rev'!$A11-35,0),0.03999)","v":7.4000000000000003E-3},{"$f":"MIN(OFFSET(Male!AB$18,'Male Rev'!$A11-35,0),0.03999)","v":7.1999999999999998E-3},{"$f":"MIN(OFFSET(Male!AC$18,'Male Rev'!$A11-35,0),0.03999)","v":7.0000000000000001E-3},{"$f":"MIN(OFFSET(Male!AD$18,'Male Rev'!$A11-35,0),0.03999)","v":6.7000000000000002E-3},{"$f":"MIN(OFFSET(Male!AE$18,'Male Rev'!$A11-35,0),0.03999)","v":6.4000000000000003E-3},{"$f":"MIN(OFFSET(Male!AF$18,'Male Rev'!$A11-35,0),0.03999)","v":6.0000000000000001E-3},{"$f":"MIN(OFFSET(Male!AG$18,'Male Rev'!$A11-35,0),0.03999)","v":5.7000000000000002E-3},{"$f":"MIN(OFFSET(Male!AH$18,'Male Rev'!$A11-35,0),0.03999)","v":5.3E-3},{"$f":"MIN(OFFSET(Male!AI$18,'Male Rev'!$A11-35,0),0.03999)","v":5.0000000000000001E-3},{"$f":"MIN(OFFSET(Male!AJ$18,'Male Rev'!$A11-35,0),0.03999)","v":4.7999999999999996E-3},{"$f":"MIN(OFFSET(Male!AK$18,'Male Rev'!$A11-35,0),0.03999)","v":4.5999999999999999E-3},{"$f":"MIN(OFFSET(Male!AL$18,'Male Rev'!$A11-35,0),0.03999)","v":4.4999999999999997E-3},{"$f":"MIN(OFFSET(Male!AM$18,'Male Rev'!$A11-35,0),0.03999)","v":4.4999999999999997E-3},{"$f":"MIN(OFFSET(Male!AN$18,'Male Rev'!$A11-35,0),0.03999)","v":4.4999999999999997E-3},{"$f":"MIN(OFFSET(Male!AO$18,'Male Rev'!$A11-35,0),0.03999)","v":4.4999999999999997E-3},{"$f":"MIN(OFFSET(Male!AP$18,'Male Rev'!$A11-35,0),0.03999)","v":4.5999999999999999E-3},{"$f":"MIN(OFFSET(Male!AQ$18,'Male Rev'!$A11-35,0),0.03999)","v":4.7999999999999996E-3},{"$f":"MIN(OFFSET(Male!AR$18,'Male Rev'!$A11-35,0),0.03999)","v":5.0000000000000001E-3},{"$f":"MIN(OFFSET(Male!AS$18,'Male Rev'!$A11-35,0),0.03999)","v":5.4000000000000003E-3},{"$f":"MIN(OFFSET(Male!AT$18,'Male Rev'!$A11-35,0),0.03999)","v":5.7999999999999996E-3},{"$f":"MIN(OFFSET(Male!AU$18,'Male Rev'!$A11-35,0),0.03999)","v":6.4000000000000003E-3},{"$f":"MIN(OFFSET(Male!AV$18,'Male Rev'!$A11-35,0),0.03999)","v":7.0000000000000001E-3},{"$f":"MIN(OFFSET(Male!AW$18,'Male Rev'!$A11-35,0),0.03999)","v":7.7000000000000002E-3},{"$f":"MIN(OFFSET(Male!AX$18,'Male Rev'!$A11-35,0),0.03999)","v":8.3999999999999995E-3},{"$f":"MIN(OFFSET(Male!AY$18,'Male Rev'!$A11-35,0),0.03999)","v":9.2999999999999992E-3},{"$f":"MIN(OFFSET(Male!AZ$18,'Male Rev'!$A11-35,0),0.03999)","v":1.01E-2},{"$f":"MIN(OFFSET(Male!BA$18,'Male Rev'!$A11-35,0),0.03999)","v":1.0800000000000001E-2},{"$f":"MIN(OFFSET(Male!BB$18,'Male Rev'!$A11-35,0),0.03999)","v":1.15E-2},{"$f":"MIN(OFFSET(Male!BC$18,'Male Rev'!$A11-35,0),0.03999)","v":1.21E-2},{"$f":"MIN(OFFSET(Male!BD$18,'Male Rev'!$A11-35,0),0.03999)","v":1.24E-2},{"$f":"MIN(OFFSET(Male!BE$18,'Male Rev'!$A11-35,0),0.03999)","v":1.26E-2},{"$f":"MIN(OFFSET(Male!BF$18,'Male Rev'!$A11-35,0),0.03999)","v":1.2699999999999999E-2},{"$f":"MIN(OFFSET(Male!BG$18,'Male Rev'!$A11-35,0),0.03999)","v":1.26E-2},{"$f":"MIN(OFFSET(Male!BH$18,'Male Rev'!$A11-35,0),0.03999)","v":1.23E-2},{"$f":"MIN(OFFSET(Male!BI$18,'Male Rev'!$A11-35,0),0.03999)","v":1.2E-2},{"$f":"MIN(OFFSET(Male!BJ$18,'Male Rev'!$A11-35,0),0.03999)","v":1.1599999999999999E-2},{"$f":"MIN(OFFSET(Male!BK$18,'Male Rev'!$A11-35,0),0.03999)","v":1.12E-2},{"$f":"MIN(OFFSET(Male!BL$18,'Male Rev'!$A11-35,0),0.03999)","v":1.09E-2},{"$f":"MIN(OFFSET(Male!BM$18,'Male Rev'!$A11-35,0),0.03999)","v":1.06E-2},{"$f":"MIN(OFFSET(Male!BN$18,'Male Rev'!$A11-35,0),0.03999)","v":1.04E-2},{"$f":"MIN(OFFSET(Male!BO$18,'Male Rev'!$A11-35,0),0.03999)","v":1.06E-2},{"$f":"MIN(OFFSET(Male!BP$18,'Male Rev'!$A11-35,0),0.03999)","v":1.0699999999999999E-2},{"$f":"MIN(OFFSET(Male!BQ$18,'Male Rev'!$A11-35,0),0.03999)","v":1.0699999999999999E-2},{"$f":"MIN(OFFSET(Male!BR$18,'Male Rev'!$A11-35,0),0.03999)","v":1.0699999999999999E-2},{"$f":"MIN(OFFSET(Male!BS$18,'Male Rev'!$A11-35,0),0.03999)","v":1.06E-2},{"$f":"MIN(OFFSET(Male!BT$18,'Male Rev'!$A11-35,0),0.03999)","v":1.04E-2},{"$f":"MIN(OFFSET(Male!BU$18,'Male Rev'!$A11-35,0),0.03999)","v":1.03E-2},{"$f":"MIN(OFFSET(Male!BV$18,'Male Rev'!$A11-35,0),0.03999)","v":1.01E-2},{"$f":"MIN(OFFSET(Male!BW$18,'Male Rev'!$A11-35,0),0.03999)","v":0.01},{"$f":"MIN(OFFSET(Male!BX$18,'Male Rev'!$A11-35,0),0.03999)","v":9.7999999999999997E-3},{"$f":"MIN(OFFSET(Male!BY$18,'Male Rev'!$A11-35,0),0.03999)","v":9.7000000000000003E-3},{"$f":"MIN(OFFSET(Male!BZ$18,'Male Rev'!$A11-35,0),0.03999)","v":9.7000000000000003E-3},{"$f":"MIN(OFFSET(Male!CA$18,'Male Rev'!$A11-35,0),0.03999)","v":9.4999999999999998E-3},{"$f":"MIN(OFFSET(Male!CB$18,'Male Rev'!$A11-35,0),0.03999)","v":9.4000000000000004E-3},{"$f":"MIN(OFFSET(Male!CC$18,'Male Rev'!$A11-35,0),0.03999)","v":9.4000000000000004E-3},{"$f":"MIN(OFFSET(Male!CD$18,'Male Rev'!$A11-35,0),0.03999)","v":9.4000000000000004E-3},{"$f":"MIN(OFFSET(Male!CE$18,'Male Rev'!$A11-35,0),0.03999)","v":9.4000000000000004E-3},{"$f":"MIN(OFFSET(Male!CF$18,'Male Rev'!$A11-35,0),0.03999)","v":9.4999999999999998E-3},{"$f":"MIN(OFFSET(Male!CG$18,'Male Rev'!$A11-35,0),0.03999)","v":9.5999999999999992E-3},{"$f":"MIN(OFFSET(Male!CH$18,'Male Rev'!$A11-35,0),0.03999)","v":9.7000000000000003E-3}]
[86,86,{"$f":"MIN(OFFSET(Male!B$18,'Male Rev'!$A12-35,0),0.03999)","v":1.1999999999999999E-3},{"$f":"MIN(OFFSET(Male!C$18,'Male Rev'!$A12-35,0),0.03999)","v":1.1999999999999999E-3},{"$f":"MIN(OFFSET(Male!D$18,'Male Rev'!$A12-35,0),0.03999)","v":1.1000000000000001E-3},{"$f":"MIN(OFFSET(Male!E$18,'Male Rev'!$A12-35,0),0.03999)","v":1.1000000000000001E-3},{"$f":"MIN(OFFSET(Male!F$18,'Male Rev'!$A12-35,0),0.03999)","v":1.1000000000000001E-3},{"$f":"MIN(OFFSET(Male!G$18,'Male Rev'!$A12-35,0),0.03999)","v":1E-3},{"$f":"MIN(OFFSET(Male!H$18,'Male Rev'!$A12-35,0),0.03999)","v":1.1000000000000001E-3},{"$f":"MIN(OFFSET(Male!I$18,'Male Rev'!$A12-35,0),0.03999)","v":1.1000000000000001E-3},{"$f":"MIN(OFFSET(Male!J$18,'Male Rev'!$A12-35,0),0.03999)","v":1.1999999999999999E-3},{"$f":"MIN(OFFSET(Male!K$18,'Male Rev'!$A12-35,0),0.03999)","v":1.4E-3},{"$f":"MIN(OFFSET(Male!L$18,'Male Rev'!$A12-35,0),0.03999)","v":1.6999999999999999E-3},{"$f":"MIN(OFFSET(Male!M$18,'Male Rev'!$A12-35,0),0.03999)","v":2E-3},{"$f":"MIN(OFFSET(Male!N$18,'Male Rev'!$A12-35,0),0.03999)","v":2.3999999999999998E-3},{"$f":"MIN(OFFSET(Male!O$18,'Male Rev'!$A12-35,0),0.03999)","v":2.8E-3},{"$f":"MIN(OFFSET(Male!P$18,'Male Rev'!$A12-35,0),0.03999)","v":3.3E-3},{"$f":"MIN(OFFSET(Male!Q$18,'Male Rev'!$A12-35,0),0.03999)","v":3.8E-3},{"$f":"MIN(OFFSET(Male!R$18,'Male Rev'!$A12-35,0),0.03999)","v":4.4000000000000003E-3},{"$f":"MIN(OFFSET(Male!S$18,'Male Rev'!$A12-35,0),0.03999)","v":5.0000000000000001E-3},{"$f":"MIN(OFFSET(Male!T$18,'Male Rev'!$A12-35,0),0.03999)","v":5.4999999999999997E-3},{"$f":"MIN(OFFSET(Male!U$18,'Male Rev'!$A12-35,0),0.03999)","v":6.1000000000000004E-3},{"$f":"MIN(OFFSET(Male!V$18,'Male Rev'!$A12-35,0),0.03999)","v":6.4999999999999997E-3},{"$f":"MIN(OFFSET(Male!W$18,'Male Rev'!$A12-35,0),0.03999)","v":7.0000000000000001E-3},{"$f":"MIN(OFFSET(Male!X$18,'Male Rev'!$A12-35,0),0.03999)","v":7.3000000000000001E-3},{"$f":"MIN(OFFSET(Male!Y$18,'Male Rev'!$A12-35,0),0.03999)","v":7.6E-3},{"$f":"MIN(OFFSET(Male!Z$18,'Male Rev'!$A12-35,0),0.03999)","v":7.7000000000000002E-3},{"$f":"MIN(OFFSET(Male!AA$18,'Male Rev'!$A12-35,0),0.03999)","v":7.7000000000000002E-3},{"$f":"MIN(OFFSET(Male!AB$18,'Male Rev'!$A12-35,0),0.03999)","v":7.6E-3},{"$f":"MIN(OFFSET(Male!AC$18,'Male Rev'!$A12-35,0),0.03999)","v":7.4000000000000003E-3},{"$f":"MIN(OFFSET(Male!AD$18,'Male Rev'!$A12-35,0),0.03999)","v":7.1000000000000004E-3},{"$f":"MIN(OFFSET(Male!AE$18,'Male Rev'!$A12-35,0),0.03999)","v":6.7999999999999996E-3},{"$f":"MIN(OFFSET(Male!AF$18,'Male Rev'!$A12-35,0),0.03999)","v":6.4000000000000003E-3},{"$f":"MIN(OFFSET(Male!AG$18,'Male Rev'!$A12-35,0),0.03999)","v":6.1000000000000004E-3},{"$f":"MIN(OFFSET(Male!AH$18,'Male Rev'!$A12-35,0),0.03999)","v":5.7000000000000002E-3},{"$f":"MIN(OFFSET(Male!AI$18,'Male Rev'!$A12-35,0),0.03999)","v":5.4999999999999997E-3},{"$f":"MIN(OFFSET(Male!AJ$18,'Male Rev'!$A12-35,0),0.03999)","v":5.3E-3},{"$f":"MIN(OFFSET(Male!AK$18,'Male Rev'!$A12-35,0),0.03999)","v":5.1999999999999998E-3},{"$f":"MIN(OFFSET(Male!AL$18,'Male Rev'!$A12-35,0),0.03999)","v":5.1000000000000004E-3},{"$f":"MIN(OFFSET(Male!AM$18,'Male Rev'!$A12-35,0),0.03999)","v":5.1000000000000004E-3},{"$f":"MIN(OFFSET(Male!AN$18,'Male Rev'!$A12-35,0),0.03999)","v":5.1999999999999998E-3},{"$f":"MIN(OFFSET(Male!AO$18,'Male Rev'!$A12-35,0),0.03999)","v":5.3E-3},{"$f":"MIN(OFFSET(Male!AP$18,'Male Rev'!$A12-35,0),0.03999)","v":5.4000000000000003E-3},{"$f":"MIN(OFFSET(Male!AQ$18,'Male Rev'!$A12-35,0),0.03999)","v":5.5999999999999999E-3},{"$f":"MIN(OFFSET(Male!AR$18,'Male Rev'!$A12-35,0),0.03999)","v":5.7999999999999996E-3},{"$f":"MIN(OFFSET(Male!AS$18,'Male Rev'!$A12-35,0),0.03999)","v":6.1999999999999998E-3},{"$f":"MIN(OFFSET(Male!AT$18,'Male Rev'!$A12-35,0),0.03999)","v":6.7000000000000002E-3},{"$f":"MIN(OFFSET(Male!AU$18,'Male Rev'!$A12-35,0),0.03999)","v":7.1999999999999998E-3},{"$f":"MIN(OFFSET(Male!AV$18,'Male Rev'!$A12-35,0),0.03999)","v":7.9000000000000008E-3},{"$f":"MIN(OFFSET(Male!AW$18,'Male Rev'!$A12-35,0),0.03999)","v":8.6E-3},{"$f":"MIN(OFFSET(Male!AX$18,'Male Rev'!$A12-35,0),0.03999)","v":9.4000000000000004E-3},{"$f":"MIN(OFFSET(Male!AY$18,'Male Rev'!$A12-35,0),0.03999)","v":1.03E-2},{"$f":"MIN(OFFSET(Male!AZ$18,'Male Rev'!$A12-35,0),0.03999)","v":1.11E-2},{"$f":"MIN(OFFSET(Male!BA$18,'Male Rev'!$A12-35,0),0.03999)","v":1.1900000000000001E-2},{"$f":"MIN(OFFSET(Male!BB$18,'Male Rev'!$A12-35,0),0.03999)","v":1.26E-2},{"$f":"MIN(OFFSET(Male!BC$18,'Male Rev'!$A12-35,0),0.03999)","v":1.32E-2},{"$f":"MIN(OFFSET(Male!BD$18,'Male Rev'!$A12-35,0),0.03999)","v":1.35E-2},{"$f":"MIN(OFFSET(Male!BE$18,'Male Rev'!$A12-35,0),0.03999)","v":1.37E-2},{"$f":"MIN(OFFSET(Male!BF$18,'Male Rev'!$A12-35,0),0.03999)","v":1.37E-2},{"$f":"MIN(OFFSET(Male!BG$18,'Male Rev'!$A12-35,0),0.03999)","v":1.35E-2},{"$f":"MIN(OFFSET(Male!BH$18,'Male Rev'!$A12-35,0),0.03999)","v":1.32E-2},{"$f":"MIN(OFFSET(Male!BI$18,'Male Rev'!$A12-35,0),0.03999)","v":1.2699999999999999E-2},{"$f":"MIN(OFFSET(Male!BJ$18,'Male Rev'!$A12-35,0),0.03999)","v":1.23E-2},{"$f":"MIN(OFFSET(Male!BK$18,'Male Rev'!$A12-35,0),0.03999)","v":1.18E-2},{"$f":"MIN(OFFSET(Male!BL$18,'Male Rev'!$A12-35,0),0.03999)","v":1.14E-2},{"$f":"MIN(OFFSET(Male!BM$18,'Male Rev'!$A12-35,0),0.03999)","v":1.11E-2},{"$f":"MIN(OFFSET(Male!BN$18,'Male Rev'!$A12-35,0),0.03999)","v":1.0800000000000001E-2},{"$f":"MIN(OFFSET(Male!BO$18,'Male Rev'!$A12-35,0),0.03999)","v":1.0999999999999999E-2},{"$f":"MIN(OFFSET(Male!BP$18,'Male Rev'!$A12-35,0),0.03999)","v":1.11E-2},{"$f":"MIN(OFFSET(Male!BQ$18,'Male Rev'!$A12-35,0),0.03999)","v":1.11E-2},{"$f":"MIN(OFFSET(Male!BR$18,'Male Rev'!$A12-35,0),0.03999)","v":1.0999999999999999E-2},{"$f":"MIN(OFFSET(Male!BS$18,'Male Rev'!$A12-35,0),0.03999)","v":1.0800000000000001E-2},{"$f":"MIN(OFFSET(Male!BT$18,'Male Rev'!$A12-35,0),0.03999)","v":1.0699999999999999E-2},{"$f":"MIN(OFFSET(Male!BU$18,'Male Rev'!$A12-35,0),0.03999)","v":1.0500000000000001E-2},{"$f":"MIN(OFFSET(Male!BV$18,'Male Rev'!$A12-35,0),0.03999)","v":1.03E-2},{"$f":"MIN(OFFSET(Male!BW$18,'Male Rev'!$A12-35,0),0.03999)","v":1.01E-2},{"$f":"MIN(OFFSET(Male!BX$18,'Male Rev'!$A12-35,0),0.03999)","v":9.9000000000000008E-3},{"$f":"MIN(OFFSET(Male!BY$18,'Male Rev'!$A12-35,0),0.03999)","v":9.7999999999999997E-3},{"$f":"MIN(OFFSET(Male!BZ$18,'Male Rev'!$A12-35,0),0.03999)","v":9.7000000000000003E-3},{"$f":"MIN(OFFSET(Male!CA$18,'Male Rev'!$A12-35,0),0.03999)","v":9.5999999999999992E-3},{"$f":"MIN(OFFSET(Male!CB$18,'Male Rev'!$A12-35,0),0.03999)","v":9.4999999999999998E-3},{"$f":"MIN(OFFSET(Male!CC$18,'Male Rev'!$A12-35,0),0.03999)","v":9.4999999999999998E-3},{"$f":"MIN(OFFSET(Male!CD$18,'Male Rev'!$A12-35,0),0.03999)","v":9.4999999999999998E-3},{"$f":"MIN(OFFSET(Male!CE$18,'Male Rev'!$A12-35,0),0.03999)","v":9.4999999999999998E-3},{"$f":"MIN(OFFSET(Male!CF$18,'Male Rev'!$A12-35,0),0.03999)","v":9.5999999999999992E-3},{"$f":"MIN(OFFSET(Male!CG$18,'Male Rev'!$A12-35,0),0.03999)","v":9.7999999999999997E-3},{"$f":"MIN(OFFSET(Male!CH$18,'Male Rev'!$A12-35,0),0.03999)","v":9.9000000000000008E-3}]
[85,85,{"$f":"MIN(OFFSET(Male!B$18,'Male Rev'!$A13-35,0),0.03999)","v":1.1000000000000001E-3},{"$f":"MIN(OFFSET(Male!C$18,'Male Rev'!$A13-35,0),0.03999)","v":1.1000000000000001E-3},{"$f":"MIN(OFFSET(Male!D$18,'Male Rev'!$A13-35,0),0.03999)","v":1E-3},{"$f":"MIN(OFFSET(Male!E$18,'Male Rev'!$A13-35,0),0.03999)","v":1E-3},{"$f":"MIN(OFFSET(Male!F$18,'Male Rev'!$A13-35,0),0.03999)","v":1E-3},{"$f":"MIN(OFFSET(Male!G$18,'Male Rev'!$A13-35,0),0.03999)","v":8.9999999999999998E-4},{"$f":"MIN(OFFSET(Male!H$18,'Male Rev'!$A13-35,0),0.03999)","v":8.9999999999999998E-4},{"$f":"MIN(OFFSET(Male!I$18,'Male Rev'!$A13-35,0),0.03999)","v":1E-3},{"$f":"MIN(OFFSET(Male!J$18,'Male Rev'!$A13-35,0),0.03999)","v":1.1000000000000001E-3},{"$f":"MIN(OFFSET(Male!K$18,'Male Rev'!$A13-35,0),0.03999)","v":1.2999999999999999E-3},{"$f":"MIN(OFFSET(Male!L$18,'Male Rev'!$A13-35,0),0.03999)","v":1.5E-3},{"$f":"MIN(OFFSET(Male!M$18,'Male Rev'!$A13-35,0),0.03999)","v":1.8E-3},{"$f":"MIN(OFFSET(Male!N$18,'Male Rev'!$A13-35,0),0.03999)","v":2.2000000000000001E-3},{"$f":"MIN(OFFSET(Male!O$18,'Male Rev'!$A13-35,0),0.03999)","v":2.7000000000000001E-3},{"$f":"MIN(OFFSET(Male!P$18,'Male Rev'!$A13-35,0),0.03999)","v":3.2000000000000002E-3},{"$f":"MIN(OFFSET(Male!Q$18,'Male Rev'!$A13-35,0),0.03999)","v":3.7000000000000002E-3},{"$f":"MIN(OFFSET(Male!R$18,'Male Rev'!$A13-35,0),0.03999)","v":4.3E-3},{"$f":"MIN(OFFSET(Male!S$18,'Male Rev'!$A13-35,0),0.03999)","v":4.8999999999999998E-3},{"$f":"MIN(OFFSET(Male!T$18,'Male Rev'!$A13-35,0),0.03999)","v":5.4999999999999997E-3},{"$f":"MIN(OFFSET(Male!U$18,'Male Rev'!$A13-35,0),0.03999)","v":6.1000000000000004E-3},{"$f":"MIN(OFFSET(Male!V$18,'Male Rev'!$A13-35,0),0.03999)","v":6.7000000000000002E-3},{"$f":"MIN(OFFSET(Male!W$18,'Male Rev'!$A13-35,0),0.03999)","v":7.1999999999999998E-3},{"$f":"MIN(OFFSET(Male!X$18,'Male Rev'!$A13-35,0),0.03999)","v":7.6E-3},{"$f":"MIN(OFFSET(Male!Y$18,'Male Rev'!$A13-35,0),0.03999)","v":7.9000000000000008E-3},{"$f":"MIN(OFFSET(Male!Z$18,'Male Rev'!$A13-35,0),0.03999)","v":8.0999999999999996E-3},{"$f":"MIN(OFFSET(Male!AA$18,'Male Rev'!$A13-35,0),0.03999)","v":8.0999999999999996E-3},{"$f":"MIN(OFFSET(Male!AB$18,'Male Rev'!$A13-35,0),0.03999)","v":8.0000000000000002E-3},{"$f":"MIN(OFFSET(Male!AC$18,'Male Rev'!$A13-35,0),0.03999)","v":7.7999999999999996E-3},{"$f":"MIN(OFFSET(Male!AD$18,'Male Rev'!$A13-35,0),0.03999)","v":7.4999999999999997E-3},{"$f":"MIN(OFFSET(Male!AE$18,'Male Rev'!$A13-35,0),0.03999)","v":7.1999999999999998E-3},{"$f":"MIN(OFFSET(Male!AF$18,'Male Rev'!$A13-35,0),0.03999)","v":6.7999999999999996E-3},{"$f":"MIN(OFFSET(Male!AG$18,'Male Rev'!$A13-35,0),0.03999)","v":6.4999999999999997E-3},{"$f":"MIN(OFFSET(Male!AH$18,'Male Rev'!$A13-35,0),0.03999)","v":6.1999999999999998E-3},{"$f":"MIN(OFFSET(Male!AI$18,'Male Rev'!$A13-35,0),0.03999)","v":6.0000000000000001E-3},{"$f":"MIN(OFFSET(Male!AJ$18,'Male Rev'!$A13-35,0),0.03999)","v":5.7999999999999996E-3},{"$f":"MIN(OFFSET(Male!AK$18,'Male Rev'!$A13-35,0),0.03999)","v":5.7000000000000002E-3},{"$f":"MIN(OFFSET(Male!AL$18,'Male Rev'!$A13-35,0),0.03999)","v":5.7000000000000002E-3},{"$f":"MIN(OFFSET(Male!AM$18,'Male Rev'!$A13-35,0),0.03999)","v":5.7999999999999996E-3},{"$f":"MIN(OFFSET(Male!AN$18,'Male Rev'!$A13-35,0),0.03999)","v":5.8999999999999999E-3},{"$f":"MIN(OFFSET(Male!AO$18,'Male Rev'!$A13-35,0),0.03999)","v":6.1000000000000004E-3},{"$f":"MIN(OFFSET(Male!AP$18,'Male Rev'!$A13-35,0),0.03999)","v":6.1999999999999998E-3},{"$f":"MIN(OFFSET(Male!AQ$18,'Male Rev'!$A13-35,0),0.03999)","v":6.4000000000000003E-3},{"$f":"MIN(OFFSET(Male!AR$18,'Male Rev'!$A13-35,0),0.03999)","v":6.7000000000000002E-3},{"$f":"MIN(OFFSET(Male!AS$18,'Male Rev'!$A13-35,0),0.03999)","v":7.0000000000000001E-3},{"$f":"MIN(OFFSET(Male!AT$18,'Male Rev'!$A13-35,0),0.03999)","v":7.4999999999999997E-3},{"$f":"MIN(OFFSET(Male!AU$18,'Male Rev'!$A13-35,0),0.03999)","v":8.0999999999999996E-3},{"$f":"MIN(OFFSET(Male!AV$18,'Male Rev'!$A13-35,0),0.03999)","v":8.8000000000000005E-3},{"$f":"MIN(OFFSET(Male!AW$18,'Male Rev'!$A13-35,0),0.03999)","v":9.4999999999999998E-3},{"$f":"MIN(OFFSET(Male!AX$18,'Male Rev'!$A13-35,0),0.03999)","v":1.04E-2},{"$f":"MIN(OFFSET(Male!AY$18,'Male Rev'!$A13-35,0),0.03999)","v":1.1299999999999999E-2},{"$f":"MIN(OFFSET(Male!AZ$18,'Male Rev'!$A13-35,0),0.03999)","v":1.2200000000000001E-2},{"$f":"MIN(OFFSET(Male!BA$18,'Male Rev'!$A13-35,0),0.03999)","v":1.2999999999999999E-2},{"$f":"MIN(OFFSET(Male!BB$18,'Male Rev'!$A13-35,0),0.03999)","v":1.37E-2},{"$f":"MIN(OFFSET(Male!BC$18,'Male Rev'!$A13-35,0),0.03999)","v":1.4200000000000001E-2},{"$f":"MIN(OFFSET(Male!BD$18,'Male Rev'!$A13-35,0),0.03999)","v":1.4500000000000001E-2},{"$f":"MIN(OFFSET(Male!BE$18,'Male Rev'!$A13-35,0),0.03999)","v":1.47E-2},{"$f":"MIN(OFFSET(Male!BF$18,'Male Rev'!$A13-35,0),0.03999)","v":1.46E-2},{"$f":"MIN(OFFSET(Male!BG$18,'Male Rev'!$A13-35,0),0.03999)","v":1.44E-2},{"$f":"MIN(OFFSET(Male!BH$18,'Male Rev'!$A13-35,0),0.03999)","v":1.4E-2},{"$f":"MIN(OFFSET(Male!BI$18,'Male Rev'!$A13-35,0),0.03999)","v":1.34E-2},{"$f":"MIN(OFFSET(Male!BJ$18,'Male Rev'!$A13-35,0),0.03999)","v":1.29E-2},{"$f":"MIN(OFFSET(Male!BK$18,'Male Rev'!$A13-35,0),0.03999)","v":1.23E-2},{"$f":"MIN(OFFSET(Male!BL$18,'Male Rev'!$A13-35,0),0.03999)","v":1.1900000000000001E-2},{"$f":"MIN(OFFSET(Male!BM$18,'Male Rev'!$A13-35,0),0.03999)","v":1.15E-2},{"$f":"MIN(OFFSET(Male!BN$18,'Male Rev'!$A13-35,0),0.03999)","v":1.12E-2},{"$f":"MIN(OFFSET(Male!BO$18,'Male Rev'!$A13-35,0),0.03999)","v":1.14E-2},{"$f":"MIN(OFFSET(Male!BP$18,'Male Rev'!$A13-35,0),0.03999)","v":1.14E-2},{"$f":"MIN(OFFSET(Male!BQ$18,'Male Rev'!$A13-35,0),0.03999)","v":1.14E-2},{"$f":"MIN(OFFSET(Male!BR$18,'Male Rev'!$A13-35,0),0.03999)","v":1.12E-2},{"$f":"MIN(OFFSET(Male!BS$18,'Male Rev'!$A13-35,0),0.03999)","v":1.0999999999999999E-2},{"$f":"MIN(OFFSET(Male!BT$18,'Male Rev'!$A13-35,0),0.03999)","v":1.0800000000000001E-2},{"$f":"MIN(OFFSET(Male!BU$18,'Male Rev'!$A13-35,0),0.03999)","v":1.06E-2},{"$f":"MIN(OFFSET(Male!BV$18,'Male Rev'!$A13-35,0),0.03999)","v":1.04E-2},{"$f":"MIN(OFFSET(Male!BW$18,'Male Rev'!$A13-35,0),0.03999)","v":1.0200000000000001E-2},{"$f":"MIN(OFFSET(Male!BX$18,'Male Rev'!$A13-35,0),0.03999)","v":0.01},{"$f":"MIN(OFFSET(Male!BY$18,'Male Rev'!$A13-35,0),0.03999)","v":9.9000000000000008E-3},{"$f":"MIN(OFFSET(Male!BZ$18,'Male Rev'!$A13-35,0),0.03999)","v":9.7000000000000003E-3},{"$f":"MIN(OFFSET(Male!CA$18,'Male Rev'!$A13-35,0),0.03999)","v":9.5999999999999992E-3},{"$f":"MIN(OFFSET(Male!CB$18,'Male Rev'!$A13-35,0),0.03999)","v":9.4999999999999998E-3},{"$f":"MIN(OFFSET(Male!CC$18,'Male Rev'!$A13-35,0),0.03999)","v":9.4999999999999998E-3},{"$f":"MIN(OFFSET(Male!CD$18,'Male Rev'!$A13-35,0),0.03999)","v":9.5999999999999992E-3},{"$f":"MIN(OFFSET(Male!CE$18,'Male Rev'!$A13-35,0),0.03999)","v":9.5999999999999992E-3},{"$f":"MIN(OFFSET(Male!CF$18,'Male Rev'!$A13-35,0),0.03999)","v":9.7999999999999997E-3},{"$f":"MIN(OFFSET(Male!CG$18,'Male Rev'!$A13-35,0),0.03999)","v":9.9000000000000008E-3},{"$f":"MIN(OFFSET(Male!CH$18,'Male Rev'!$A13-35,0),0.03999)","v":0.01}]
[84,84,{"$f":"MIN(OFFSET(Male!B$18,'Male Rev'!$A14-35,0),0.03999)","v":1E-3},{"$f":"MIN(OFFSET(Male!C$18,'Male Rev'!$A14-35,0),0.03999)","v":1E-3},{"$f":"MIN(OFFSET(Male!D$18,'Male Rev'!$A14-35,0),0.03999)","v":1E-3},{"$f":"MIN(OFFSET(Male!E$18,'Male Rev'!$A14-35,0),0.03999)","v":8.9999999999999998E-4},{"$f":"MIN(OFFSET(Male!F$18,'Male Rev'!$A14-35,0),0.03999)","v":8.9999999999999998E-4},{"$f":"MIN(OFFSET(Male!G$18,'Male Rev'!$A14-35,0),0.03999)","v":8.0000000000000004E-4},{"$f":"MIN(OFFSET(Male!H$18,'Male Rev'!$A14-35,0),0.03999)","v":8.0000000000000004E-4},{"$f":"MIN(OFFSET(Male!I$18,'Male Rev'!$A14-35,0),0.03999)","v":8.9999999999999998E-4},{"$f":"MIN(OFFSET(Male!J$18,'Male Rev'!$A14-35,0),0.03999)","v":1E-3},{"$f":"MIN(OFFSET(Male!K$18,'Male Rev'!$A14-35,0),0.03999)","v":1.1000000000000001E-3},{"$f":"MIN(OFFSET(Male!L$18,'Male Rev'!$A14-35,0),0.03999)","v":1.2999999999999999E-3},{"$f":"MIN(OFFSET(Male!M$18,'Male Rev'!$A14-35,0),0.03999)","v":1.6000000000000001E-3},{"$f":"MIN(OFFSET(Male!N$18,'Male Rev'!$A14-35,0),0.03999)","v":2E-3},{"$f":"MIN(OFFSET(Male!O$18,'Male Rev'!$A14-35,0),0.03999)","v":2.5000000000000001E-3},{"$f":"MIN(OFFSET(Male!P$18,'Male Rev'!$A14-35,0),0.03999)","v":3.0000000000000001E-3},{"$f":"MIN(OFFSET(Male!Q$18,'Male Rev'!$A14-35,0),0.03999)","v":3.5999999999999999E-3},{"$f":"MIN(OFFSET(Male!R$18,'Male Rev'!$A14-35,0),0.03999)","v":4.1999999999999997E-3},{"$f":"MIN(OFFSET(Male!S$18,'Male Rev'!$A14-35,0),0.03999)","v":4.8999999999999998E-3},{"$f":"MIN(OFFSET(Male!T$18,'Male Rev'!$A14-35,0),0.03999)","v":5.4999999999999997E-3},{"$f":"MIN(OFFSET(Male!U$18,'Male Rev'!$A14-35,0),0.03999)","v":6.1999999999999998E-3},{"$f":"MIN(OFFSET(Male!V$18,'Male Rev'!$A14-35,0),0.03999)","v":6.7999999999999996E-3},{"$f":"MIN(OFFSET(Male!W$18,'Male Rev'!$A14-35,0),0.03999)","v":7.4000000000000003E-3},{"$f":"MIN(OFFSET(Male!X$18,'Male Rev'!$A14-35,0),0.03999)","v":7.7999999999999996E-3},{"$f":"MIN(OFFSET(Male!Y$18,'Male Rev'!$A14-35,0),0.03999)","v":8.2000000000000007E-3},{"$f":"MIN(OFFSET(Male!Z$18,'Male Rev'!$A14-35,0),0.03999)","v":8.3999999999999995E-3},{"$f":"MIN(OFFSET(Male!AA$18,'Male Rev'!$A14-35,0),0.03999)","v":8.5000000000000006E-3},{"$f":"MIN(OFFSET(Male!AB$18,'Male Rev'!$A14-35,0),0.03999)","v":8.3999999999999995E-3},{"$f":"MIN(OFFSET(Male!AC$18,'Male Rev'!$A14-35,0),0.03999)","v":8.2000000000000007E-3},{"$f":"MIN(OFFSET(Male!AD$18,'Male Rev'!$A14-35,0),0.03999)","v":7.9000000000000008E-3},{"$f":"MIN(OFFSET(Male!AE$18,'Male Rev'!$A14-35,0),0.03999)","v":7.6E-3},{"$f":"MIN(OFFSET(Male!AF$18,'Male Rev'!$A14-35,0),0.03999)","v":7.1999999999999998E-3},{"$f":"MIN(OFFSET(Male!AG$18,'Male Rev'!$A14-35,0),0.03999)","v":6.8999999999999999E-3},{"$f":"MIN(OFFSET(Male!AH$18,'Male Rev'!$A14-35,0),0.03999)","v":6.6E-3},{"$f":"MIN(OFFSET(Male!AI$18,'Male Rev'!$A14-35,0),0.03999)","v":6.4000000000000003E-3},{"$f":"MIN(OFFSET(Male!AJ$18,'Male Rev'!$A14-35,0),0.03999)","v":6.3E-3},{"$f":"MIN(OFFSET(Male!AK$18,'Male Rev'!$A14-35,0),0.03999)","v":6.3E-3},{"$f":"MIN(OFFSET(Male!AL$18,'Male Rev'!$A14-35,0),0.03999)","v":6.4000000000000003E-3},{"$f":"MIN(OFFSET(Male!AM$18,'Male Rev'!$A14-35,0),0.03999)","v":6.4999999999999997E-3},{"$f":"MIN(OFFSET(Male!AN$18,'Male Rev'!$A14-35,0),0.03999)","v":6.7000000000000002E-3},{"$f":"MIN(OFFSET(Male!AO$18,'Male Rev'!$A14-35,0),0.03999)","v":6.7999999999999996E-3},{"$f":"MIN(OFFSET(Male!AP$18,'Male Rev'!$A14-35,0),0.03999)","v":7.0000000000000001E-3},{"$f":"MIN(OFFSET(Male!AQ$18,'Male Rev'!$A14-35,0),0.03999)","v":7.1999999999999998E-3},{"$f":"MIN(OFFSET(Male!AR$18,'Male Rev'!$A14-35,0),0.03999)","v":7.4999999999999997E-3},{"$f":"MIN(OFFSET(Male!AS$18,'Male Rev'!$A14-35,0),0.03999)","v":7.9000000000000008E-3},{"$f":"MIN(OFFSET(Male!AT$18,'Male Rev'!$A14-35,0),0.03999)","v":8.3000000000000001E-3},{"$f":"MIN(OFFSET(Male!AU$18,'Male Rev'!$A14-35,0),0.03999)","v":8.8999999999999999E-3},{"$f":"MIN(OFFSET(Male!AV$18,'Male Rev'!$A14-35,0),0.03999)","v":9.7000000000000003E-3},{"$f":"MIN(OFFSET(Male!AW$18,'Male Rev'!$A14-35,0),0.03999)","v":1.0500000000000001E-2},{"$f":"MIN(OFFSET(Male!AX$18,'Male Rev'!$A14-35,0),0.03999)","v":1.1299999999999999E-2},{"$f":"MIN(OFFSET(Male!AY$18,'Male Rev'!$A14-35,0),0.03999)","v":1.23E-2},{"$f":"MIN(OFFSET(Male!AZ$18,'Male Rev'!$A14-35,0),0.03999)","v":1.32E-2},{"$f":"MIN(OFFSET(Male!BA$18,'Male Rev'!$A14-35,0),0.03999)","v":1.4E-2},{"$f":"MIN(OFFSET(Male!BB$18,'Male Rev'!$A14-35,0),0.03999)","v":1.47E-2},{"$f":"MIN(OFFSET(Male!BC$18,'Male Rev'!$A14-35,0),0.03999)","v":1.5299999999999999E-2},{"$f":"MIN(OFFSET(Male!BD$18,'Male Rev'!$A14-35,0),0.03999)","v":1.5599999999999999E-2},{"$f":"MIN(OFFSET(Male!BE$18,'Male Rev'!$A14-35,0),0.03999)","v":1.5699999999999999E-2},{"$f":"MIN(OFFSET(Male!BF$18,'Male Rev'!$A14-35,0),0.03999)","v":1.55E-2},{"$f":"MIN(OFFSET(Male!BG$18,'Male Rev'!$A14-35,0),0.03999)","v":1.52E-2},{"$f":"MIN(OFFSET(Male!BH$18,'Male Rev'!$A14-35,0),0.03999)","v":1.47E-2},{"$f":"MIN(OFFSET(Male!BI$18,'Male Rev'!$A14-35,0),0.03999)","v":1.41E-2},{"$f":"MIN(OFFSET(Male!BJ$18,'Male Rev'!$A14-35,0),0.03999)","v":1.35E-2},{"$f":"MIN(OFFSET(Male!BK$18,'Male Rev'!$A14-35,0),0.03999)","v":1.29E-2},{"$f":"MIN(OFFSET(Male!BL$18,'Male Rev'!$A14-35,0),0.03999)","v":1.23E-2},{"$f":"MIN(OFFSET(Male!BM$18,'Male Rev'!$A14-35,0),0.03999)","v":1.1900000000000001E-2},{"$f":"MIN(OFFSET(Male!BN$18,'Male Rev'!$A14-35,0),0.03999)","v":1.1599999999999999E-2},{"$f":"MIN(OFFSET(Male!BO$18,'Male Rev'!$A14-35,0),0.03999)","v":1.17E-2},{"$f":"MIN(OFFSET(Male!BP$18,'Male Rev'!$A14-35,0),0.03999)","v":1.17E-2},{"$f":"MIN(OFFSET(Male!BQ$18,'Male Rev'!$A14-35,0),0.03999)","v":1.1599999999999999E-2},{"$f":"MIN(OFFSET(Male!BR$18,'Male Rev'!$A14-35,0),0.03999)","v":1.14E-2},{"$f":"MIN(OFFSET(Male!BS$18,'Male Rev'!$A14-35,0),0.03999)","v":1.12E-2},{"$f":"MIN(OFFSET(Male!BT$18,'Male Rev'!$A14-35,0),0.03999)","v":1.09E-2},{"$f":"MIN(OFFSET(Male!BU$18,'Male Rev'!$A14-35,0),0.03999)","v":1.0699999999999999E-2},{"$f":"MIN(OFFSET(Male!BV$18,'Male Rev'!$A14-35,0),0.03999)","v":1.04E-2},{"$f":"MIN(OFFSET(Male!BW$18,'Male Rev'!$A14-35,0),0.03999)","v":1.0200000000000001E-2},{"$f":"MIN(OFFSET(Male!BX$18,'Male Rev'!$A14-35,0),0.03999)","v":0.01},{"$f":"MIN(OFFSET(Male!BY$18,'Male Rev'!$A14-35,0),0.03999)","v":9.7999999999999997E-3},{"$f":"MIN(OFFSET(Male!BZ$18,'Male Rev'!$A14-35,0),0.03999)","v":9.5999999999999992E-3},{"$f":"MIN(OFFSET(Male!CA$18,'Male Rev'!$A14-35,0),0.03999)","v":9.4999999999999998E-3},{"$f":"MIN(OFFSET(Male!CB$18,'Male Rev'!$A14-35,0),0.03999)","v":9.4999999999999998E-3},{"$f":"MIN(OFFSET(Male!CC$18,'Male Rev'!$A14-35,0),0.03999)","v":9.4999999999999998E-3},{"$f":"MIN(OFFSET(Male!CD$18,'Male Rev'!$A14-35,0),0.03999)","v":9.5999999999999992E-3},{"$f":"MIN(OFFSET(Male!CE$18,'Male Rev'!$A14-35,0),0.03999)","v":9.7000000000000003E-3},{"$f":"MIN(OFFSET(Male!CF$18,'Male Rev'!$A14-35,0),0.03999)","v":9.7999999999999997E-3},{"$f":"MIN(OFFSET(Male!CG$18,'Male Rev'!$A14-35,0),0.03999)","v":0.01},{"$f":"MIN(OFFSET(Male!CH$18,'Male Rev'!$A14-35,0),0.03999)","v":0.01}]
[83,83,{"$f":"MIN(OFFSET(Male!B$18,'Male Rev'!$A15-35,0),0.03999)","v":8.9999999999999998E-4},{"$f":"MIN(OFFSET(Male!C$18,'Male Rev'!$A15-35,0),0.03999)","v":8.9999999999999998E-4},{"$f":"MIN(OFFSET(Male!D$18,'Male Rev'!$A15-35,0),0.03999)","v":8.9999999999999998E-4},{"$f":"MIN(OFFSET(Male!E$18,'Male Rev'!$A15-35,0),0.03999)","v":8.0000000000000004E-4},{"$f":"MIN(OFFSET(Male!F$18,'Male Rev'!$A15-35,0),0.03999)","v":8.0000000000000004E-4},{"$f":"MIN(OFFSET(Male!G$18,'Male Rev'!$A15-35,0),0.03999)","v":6.9999999999999999E-4},{"$f":"MIN(OFFSET(Male!H$18,'Male Rev'!$A15-35,0),0.03999)","v":6.9999999999999999E-4},{"$f":"MIN(OFFSET(Male!I$18,'Male Rev'!$A15-35,0),0.03999)","v":6.9999999999999999E-4},{"$f":"MIN(OFFSET(Male!J$18,'Male Rev'!$A15-35,0),0.03999)","v":8.0000000000000004E-4},{"$f":"MIN(OFFSET(Male!K$18,'Male Rev'!$A15-35,0),0.03999)","v":1E-3},{"$f":"MIN(OFFSET(Male!L$18,'Male Rev'!$A15-35,0),0.03999)","v":1.1999999999999999E-3},{"$f":"MIN(OFFSET(Male!M$18,'Male Rev'!$A15-35,0),0.03999)","v":1.5E-3},{"$f":"MIN(OFFSET(Male!N$18,'Male Rev'!$A15-35,0),0.03999)","v":1.9E-3},{"$f":"MIN(OFFSET(Male!O$18,'Male Rev'!$A15-35,0),0.03999)","v":2.3E-3},{"$f":"MIN(OFFSET(Male!P$18,'Male Rev'!$A15-35,0),0.03999)","v":2.8999999999999998E-3},{"$f":"MIN(OFFSET(Male!Q$18,'Male Rev'!$A15-35,0),0.03999)","v":3.5000000000000001E-3},{"$f":"MIN(OFFSET(Male!R$18,'Male Rev'!$A15-35,0),0.03999)","v":4.1000000000000003E-3},{"$f":"MIN(OFFSET(Male!S$18,'Male Rev'!$A15-35,0),0.03999)","v":4.7999999999999996E-3},{"$f":"MIN(OFFSET(Male!T$18,'Male Rev'!$A15-35,0),0.03999)","v":5.4999999999999997E-3},{"$f":"MIN(OFFSET(Male!U$18,'Male Rev'!$A15-35,0),0.03999)","v":6.3E-3},{"$f":"MIN(OFFSET(Male!V$18,'Male Rev'!$A15-35,0),0.03999)","v":6.8999999999999999E-3},{"$f":"MIN(OFFSET(Male!W$18,'Male Rev'!$A15-35,0),0.03999)","v":7.6E-3},{"$f":"MIN(OFFSET(Male!X$18,'Male Rev'!$A15-35,0),0.03999)","v":8.0999999999999996E-3},{"$f":"MIN(OFFSET(Male!Y$18,'Male Rev'!$A15-35,0),0.03999)","v":8.5000000000000006E-3},{"$f":"MIN(OFFSET(Male!Z$18,'Male Rev'!$A15-35,0),0.03999)","v":8.8000000000000005E-3},{"$f":"MIN(OFFSET(Male!AA$18,'Male Rev'!$A15-35,0),0.03999)","v":8.8000000000000005E-3},{"$f":"MIN(OFFSET(Male!AB$18,'Male Rev'!$A15-35,0),0.03999)","v":8.8000000000000005E-3},{"$f":"MIN(OFFSET(Male!AC$18,'Male Rev'!$A15-35,0),0.03999)","v":8.6E-3},{"$f":"MIN(OFFSET(Male!AD$18,'Male Rev'!$A15-35,0),0.03999)","v":8.3000000000000001E-3},{"$f":"MIN(OFFSET(Male!AE$18,'Male Rev'!$A15-35,0),0.03999)","v":8.0000000000000002E-3},{"$f":"MIN(OFFSET(Male!AF$18,'Male Rev'!$A15-35,0),0.03999)","v":7.6E-3},{"$f":"MIN(OFFSET(Male!AG$18,'Male Rev'!$A15-35,0),0.03999)","v":7.3000000000000001E-3},{"$f":"MIN(OFFSET(Male!AH$18,'Male Rev'!$A15-35,0),0.03999)","v":7.1000000000000004E-3},{"$f":"MIN(OFFSET(Male!AI$18,'Male Rev'!$A15-35,0),0.03999)","v":6.8999999999999999E-3},{"$f":"MIN(OFFSET(Male!AJ$18,'Male Rev'!$A15-35,0),0.03999)","v":6.8999999999999999E-3},{"$f":"MIN(OFFSET(Male!AK$18,'Male Rev'!$A15-35,0),0.03999)","v":6.8999999999999999E-3},{"$f":"MIN(OFFSET(Male!AL$18,'Male Rev'!$A15-35,0),0.03999)","v":7.1000000000000004E-3},{"$f":"MIN(OFFSET(Male!AM$18,'Male Rev'!$A15-35,0),0.03999)","v":7.1999999999999998E-3},{"$f":"MIN(OFFSET(Male!AN$18,'Male Rev'!$A15-35,0),0.03999)","v":7.4000000000000003E-3},{"$f":"MIN(OFFSET(Male!AO$18,'Male Rev'!$A15-35,0),0.03999)","v":7.6E-3},{"$f":"MIN(OFFSET(Male!AP$18,'Male Rev'!$A15-35,0),0.03999)","v":7.7999999999999996E-3},{"$f":"MIN(OFFSET(Male!AQ$18,'Male Rev'!$A15-35,0),0.03999)","v":8.0000000000000002E-3},{"$f":"MIN(OFFSET(Male!AR$18,'Male Rev'!$A15-35,0),0.03999)","v":8.3000000000000001E-3},{"$f":"MIN(OFFSET(Male!AS$18,'Male Rev'!$A15-35,0),0.03999)","v":8.6999999999999994E-3},{"$f":"MIN(OFFSET(Male!AT$18,'Male Rev'!$A15-35,0),0.03999)","v":9.1999999999999998E-3},{"$f":"MIN(OFFSET(Male!AU$18,'Male Rev'!$A15-35,0),0.03999)","v":9.7999999999999997E-3},{"$f":"MIN(OFFSET(Male!AV$18,'Male Rev'!$A15-35,0),0.03999)","v":1.0500000000000001E-2},{"$f":"MIN(OFFSET(Male!AW$18,'Male Rev'!$A15-35,0),0.03999)","v":1.1299999999999999E-2},{"$f":"MIN(OFFSET(Male!AX$18,'Male Rev'!$A15-35,0),0.03999)","v":1.2200000000000001E-2},{"$f":"MIN(OFFSET(Male!AY$18,'Male Rev'!$A15-35,0),0.03999)","v":1.32E-2},{"$f":"MIN(OFFSET(Male!AZ$18,'Male Rev'!$A15-35,0),0.03999)","v":1.41E-2},{"$f":"MIN(OFFSET(Male!BA$18,'Male Rev'!$A15-35,0),0.03999)","v":1.4999999999999999E-2},{"$f":"MIN(OFFSET(Male!BB$18,'Male Rev'!$A15-35,0),0.03999)","v":1.5699999999999999E-2},{"$f":"MIN(OFFSET(Male!BC$18,'Male Rev'!$A15-35,0),0.03999)","v":1.6299999999999999E-2},{"$f":"MIN(OFFSET(Male!BD$18,'Male Rev'!$A15-35,0),0.03999)","v":1.6500000000000001E-2},{"$f":"MIN(OFFSET(Male!BE$18,'Male Rev'!$A15-35,0),0.03999)","v":1.66E-2},{"$f":"MIN(OFFSET(Male!BF$18,'Male Rev'!$A15-35,0),0.03999)","v":1.6400000000000001E-2},{"$f":"MIN(OFFSET(Male!BG$18,'Male Rev'!$A15-35,0),0.03999)","v":1.6E-2},{"$f":"MIN(OFFSET(Male!BH$18,'Male Rev'!$A15-35,0),0.03999)","v":1.55E-2},{"$f":"MIN(OFFSET(Male!BI$18,'Male Rev'!$A15-35,0),0.03999)","v":1.4800000000000001E-2},{"$f":"MIN(OFFSET(Male!BJ$18,'Male Rev'!$A15-35,0),0.03999)","v":1.4E-2},{"$f":"MIN(OFFSET(Male!BK$18,'Male Rev'!$A15-35,0),0.03999)","v":1.3299999999999999E-2},{"$f":"MIN(OFFSET(Male!BL$18,'Male Rev'!$A15-35,0),0.03999)","v":1.2699999999999999E-2},{"$f":"MIN(OFFSET(Male!BM$18,'Male Rev'!$A15-35,0),0.03999)","v":1.2200000000000001E-2},{"$f":"MIN(OFFSET(Male!BN$18,'Male Rev'!$A15-35,0),0.03999)","v":1.1900000000000001E-2},{"$f":"MIN(OFFSET(Male!BO$18,'Male Rev'!$A15-35,0),0.03999)","v":1.2E-2},{"$f":"MIN(OFFSET(Male!BP$18,'Male Rev'!$A15-35,0),0.03999)","v":1.1900000000000001E-2},{"$f":"MIN(OFFSET(Male!BQ$18,'Male Rev'!$A15-35,0),0.03999)","v":1.18E-2},{"$f":"MIN(OFFSET(Male!BR$18,'Male Rev'!$A15-35,0),0.03999)","v":1.15E-2},{"$f":"MIN(OFFSET(Male!BS$18,'Male Rev'!$A15-35,0),0.03999)","v":1.1299999999999999E-2},{"$f":"MIN(OFFSET(Male!BT$18,'Male Rev'!$A15-35,0),0.03999)","v":1.0999999999999999E-2},{"$f":"MIN(OFFSET(Male!BU$18,'Male Rev'!$A15-35,0),0.03999)","v":1.0699999999999999E-2},{"$f":"MIN(OFFSET(Male!BV$18,'Male Rev'!$A15-35,0),0.03999)","v":1.04E-2},{"$f":"MIN(OFFSET(Male!BW$18,'Male Rev'!$A15-35,0),0.03999)","v":1.01E-2},{"$f":"MIN(OFFSET(Male!BX$18,'Male Rev'!$A15-35,0),0.03999)","v":9.7999999999999997E-3},{"$f":"MIN(OFFSET(Male!BY$18,'Male Rev'!$A15-35,0),0.03999)","v":9.7000000000000003E-3},{"$f":"MIN(OFFSET(Male!BZ$18,'Male Rev'!$A15-35,0),0.03999)","v":9.4999999999999998E-3},{"$f":"MIN(OFFSET(Male!CA$18,'Male Rev'!$A15-35,0),0.03999)","v":9.4000000000000004E-3},{"$f":"MIN(OFFSET(Male!CB$18,'Male Rev'!$A15-35,0),0.03999)","v":9.4000000000000004E-3},{"$f":"MIN(OFFSET(Male!CC$18,'Male Rev'!$A15-35,0),0.03999)","v":9.4000000000000004E-3},{"$f":"MIN(OFFSET(Male!CD$18,'Male Rev'!$A15-35,0),0.03999)","v":9.5999999999999992E-3},{"$f":"MIN(OFFSET(Male!CE$18,'Male Rev'!$A15-35,0),0.03999)","v":9.7000000000000003E-3},{"$f":"MIN(OFFSET(Male!CF$18,'Male Rev'!$A15-35,0),0.03999)","v":9.9000000000000008E-3},{"$f":"MIN(OFFSET(Male!CG$18,'Male Rev'!$A15-35,0),0.03999)","v":0.01},{"$f":"MIN(OFFSET(Male!CH$18,'Male Rev'!$A15-35,0),0.03999)","v":0.01}]
[82,82,{"$f":"MIN(OFFSET(Male!B$18,'Male Rev'!$A16-35,0),0.03999)","v":8.9999999999999998E-4},{"$f":"MIN(OFFSET(Male!C$18,'Male Rev'!$A16-35,0),0.03999)","v":8.0000000000000004E-4},{"$f":"MIN(OFFSET(Male!D$18,'Male Rev'!$A16-35,0),0.03999)","v":8.0000000000000004E-4},{"$f":"MIN(OFFSET(Male!E$18,'Male Rev'!$A16-35,0),0.03999)","v":8.0000000000000004E-4},{"$f":"MIN(OFFSET(Male!F$18,'Male Rev'!$A16-35,0),0.03999)","v":6.9999999999999999E-4},{"$f":"MIN(OFFSET(Male!G$18,'Male Rev'!$A16-35,0),0.03999)","v":6.9999999999999999E-4},{"$f":"MIN(OFFSET(Male!H$18,'Male Rev'!$A16-35,0),0.03999)","v":5.9999999999999995E-4},{"$f":"MIN(OFFSET(Male!I$18,'Male Rev'!$A16-35,0),0.03999)","v":5.9999999999999995E-4},{"$f":"MIN(OFFSET(Male!J$18,'Male Rev'!$A16-35,0),0.03999)","v":6.9999999999999999E-4},{"$f":"MIN(OFFSET(Male!K$18,'Male Rev'!$A16-35,0),0.03999)","v":8.0000000000000004E-4},{"$f":"MIN(OFFSET(Male!L$18,'Male Rev'!$A16-35,0),0.03999)","v":1E-3},{"$f":"MIN(OFFSET(Male!M$18,'Male Rev'!$A16-35,0),0.03999)","v":1.2999999999999999E-3},{"$f":"MIN(OFFSET(Male!N$18,'Male Rev'!$A16-35,0),0.03999)","v":1.6999999999999999E-3},{"$f":"MIN(OFFSET(Male!O$18,'Male Rev'!$A16-35,0),0.03999)","v":2.2000000000000001E-3},{"$f":"MIN(OFFSET(Male!P$18,'Male Rev'!$A16-35,0),0.03999)","v":2.7000000000000001E-3},{"$f":"MIN(OFFSET(Male!Q$18,'Male Rev'!$A16-35,0),0.03999)","v":3.3E-3},{"$f":"MIN(OFFSET(Male!R$18,'Male Rev'!$A16-35,0),0.03999)","v":4.0000000000000001E-3},{"$f":"MIN(OFFSET(Male!S$18,'Male Rev'!$A16-35,0),0.03999)","v":4.7999999999999996E-3},{"$f":"MIN(OFFSET(Male!T$18,'Male Rev'!$A16-35,0),0.03999)","v":5.4999999999999997E-3},{"$f":"MIN(OFFSET(Male!U$18,'Male Rev'!$A16-35,0),0.03999)","v":6.3E-3},{"$f":"MIN(OFFSET(Male!V$18,'Male Rev'!$A16-35,0),0.03999)","v":7.1000000000000004E-3},{"$f":"MIN(OFFSET(Male!W$18,'Male Rev'!$A16-35,0),0.03999)","v":7.7000000000000002E-3},{"$f":"MIN(OFFSET(Male!X$18,'Male Rev'!$A16-35,0),0.03999)","v":8.3999999999999995E-3},{"$f":"MIN(OFFSET(Male!Y$18,'Male Rev'!$A16-35,0),0.03999)","v":8.8000000000000005E-3},{"$f":"MIN(OFFSET(Male!Z$18,'Male Rev'!$A16-35,0),0.03999)","v":9.1000000000000004E-3},{"$f":"MIN(OFFSET(Male!AA$18,'Male Rev'!$A16-35,0),0.03999)","v":9.1999999999999998E-3},{"$f":"MIN(OFFSET(Male!AB$18,'Male Rev'!$A16-35,0),0.03999)","v":9.1000000000000004E-3},{"$f":"MIN(OFFSET(Male!AC$18,'Male Rev'!$A16-35,0),0.03999)","v":8.8999999999999999E-3},{"$f":"MIN(OFFSET(Male!AD$18,'Male Rev'!$A16-35,0),0.03999)","v":8.6999999999999994E-3},{"$f":"MIN(OFFSET(Male!AE$18,'Male Rev'!$A16-35,0),0.03999)","v":8.3999999999999995E-3},{"$f":"MIN(OFFSET(Male!AF$18,'Male Rev'!$A16-35,0),0.03999)","v":8.0999999999999996E-3},{"$f":"MIN(OFFSET(Male!AG$18,'Male Rev'!$A16-35,0),0.03999)","v":7.7999999999999996E-3},{"$f":"MIN(OFFSET(Male!AH$18,'Male Rev'!$A16-35,0),0.03999)","v":7.4999999999999997E-3},{"$f":"MIN(OFFSET(Male!AI$18,'Male Rev'!$A16-35,0),0.03999)","v":7.4000000000000003E-3},{"$f":"MIN(OFFSET(Male!AJ$18,'Male Rev'!$A16-35,0),0.03999)","v":7.4000000000000003E-3},{"$f":"MIN(OFFSET(Male!AK$18,'Male Rev'!$A16-35,0),0.03999)","v":7.4999999999999997E-3},{"$f":"MIN(OFFSET(Male!AL$18,'Male Rev'!$A16-35,0),0.03999)","v":7.7000000000000002E-3},{"$f":"MIN(OFFSET(Male!AM$18,'Male Rev'!$A16-35,0),0.03999)","v":7.9000000000000008E-3},{"$f":"MIN(OFFSET(Male!AN$18,'Male Rev'!$A16-35,0),0.03999)","v":8.2000000000000007E-3},{"$f":"MIN(OFFSET(Male!AO$18,'Male Rev'!$A16-35,0),0.03999)","v":8.3999999999999995E-3},{"$f":"MIN(OFFSET(Male!AP$18,'Male Rev'!$A16-35,0),0.03999)","v":8.6E-3},{"$f":"MIN(OFFSET(Male!AQ$18,'Male Rev'!$A16-35,0),0.03999)","v":8.8000000000000005E-3},{"$f":"MIN(OFFSET(Male!AR$18,'Male Rev'!$A16-35,0),0.03999)","v":9.1000000000000004E-3},{"$f":"MIN(OFFSET(Male!AS$18,'Male Rev'!$A16-35,0),0.03999)","v":9.4999999999999998E-3},{"$f":"MIN(OFFSET(Male!AT$18,'Male Rev'!$A16-35,0),0.03999)","v":0.01},{"$f":"MIN(OFFSET(Male!AU$18,'Male Rev'!$A16-35,0),0.03999)","v":1.06E-2},{"$f":"MIN(OFFSET(Male!AV$18,'Male Rev'!$A16-35,0),0.03999)","v":1.14E-2},{"$f":"MIN(OFFSET(Male!AW$18,'Male Rev'!$A16-35,0),0.03999)","v":1.2200000000000001E-2},{"$f":"MIN(OFFSET(Male!AX$18,'Male Rev'!$A16-35,0),0.03999)","v":1.3100000000000001E-2},{"$f":"MIN(OFFSET(Male!AY$18,'Male Rev'!$A16-35,0),0.03999)","v":1.41E-2},{"$f":"MIN(OFFSET(Male!AZ$18,'Male Rev'!$A16-35,0),0.03999)","v":1.5100000000000001E-2},{"$f":"MIN(OFFSET(Male!BA$18,'Male Rev'!$A16-35,0),0.03999)","v":1.6E-2},{"$f":"MIN(OFFSET(Male!BB$18,'Male Rev'!$A16-35,0),0.03999)","v":1.67E-2},{"$f":"MIN(OFFSET(Male!BC$18,'Male Rev'!$A16-35,0),0.03999)","v":1.72E-2},{"$f":"MIN(OFFSET(Male!BD$18,'Male Rev'!$A16-35,0),0.03999)","v":1.7500000000000002E-2},{"$f":"MIN(OFFSET(Male!BE$18,'Male Rev'!$A16-35,0),0.03999)","v":1.7500000000000002E-2},{"$f":"MIN(OFFSET(Male!BF$18,'Male Rev'!$A16-35,0),0.03999)","v":1.7299999999999999E-2},{"$f":"MIN(OFFSET(Male!BG$18,'Male Rev'!$A16-35,0),0.03999)","v":1.6799999999999999E-2},{"$f":"MIN(OFFSET(Male!BH$18,'Male Rev'!$A16-35,0),0.03999)","v":1.6199999999999999E-2},{"$f":"MIN(OFFSET(Male!BI$18,'Male Rev'!$A16-35,0),0.03999)","v":1.54E-2},{"$f":"MIN(OFFSET(Male!BJ$18,'Male Rev'!$A16-35,0),0.03999)","v":1.4500000000000001E-2},{"$f":"MIN(OFFSET(Male!BK$18,'Male Rev'!$A16-35,0),0.03999)","v":1.37E-2},{"$f":"MIN(OFFSET(Male!BL$18,'Male Rev'!$A16-35,0),0.03999)","v":1.3100000000000001E-2},{"$f":"MIN(OFFSET(Male!BM$18,'Male Rev'!$A16-35,0),0.03999)","v":1.2500000000000001E-2},{"$f":"MIN(OFFSET(Male!BN$18,'Male Rev'!$A16-35,0),0.03999)","v":1.21E-2},{"$f":"MIN(OFFSET(Male!BO$18,'Male Rev'!$A16-35,0),0.03999)","v":1.2200000000000001E-2},{"$f":"MIN(OFFSET(Male!BP$18,'Male Rev'!$A16-35,0),0.03999)","v":1.21E-2},{"$f":"MIN(OFFSET(Male!BQ$18,'Male Rev'!$A16-35,0),0.03999)","v":1.1900000000000001E-2},{"$f":"MIN(OFFSET(Male!BR$18,'Male Rev'!$A16-35,0),0.03999)","v":1.1599999999999999E-2},{"$f":"MIN(OFFSET(Male!BS$18,'Male Rev'!$A16-35,0),0.03999)","v":1.1299999999999999E-2},{"$f":"MIN(OFFSET(Male!BT$18,'Male Rev'!$A16-35,0),0.03999)","v":1.0999999999999999E-2},{"$f":"MIN(OFFSET(Male!BU$18,'Male Rev'!$A16-35,0),0.03999)","v":1.06E-2},{"$f":"MIN(OFFSET(Male!BV$18,'Male Rev'!$A16-35,0),0.03999)","v":1.03E-2},{"$f":"MIN(OFFSET(Male!BW$18,'Male Rev'!$A16-35,0),0.03999)","v":9.9000000000000008E-3},{"$f":"MIN(OFFSET(Male!BX$18,'Male Rev'!$A16-35,0),0.03999)","v":9.7000000000000003E-3},{"$f":"MIN(OFFSET(Male!BY$18,'Male Rev'!$A16-35,0),0.03999)","v":9.4999999999999998E-3},{"$f":"MIN(OFFSET(Male!BZ$18,'Male Rev'!$A16-35,0),0.03999)","v":9.4000000000000004E-3},{"$f":"MIN(OFFSET(Male!CA$18,'Male Rev'!$A16-35,0),0.03999)","v":9.2999999999999992E-3},{"$f":"MIN(OFFSET(Male!CB$18,'Male Rev'!$A16-35,0),0.03999)","v":9.2999999999999992E-3},{"$f":"MIN(OFFSET(Male!CC$18,'Male Rev'!$A16-35,0),0.03999)","v":9.4000000000000004E-3},{"$f":"MIN(OFFSET(Male!CD$18,'Male Rev'!$A16-35,0),0.03999)","v":9.5999999999999992E-3},{"$f":"MIN(OFFSET(Male!CE$18,'Male Rev'!$A16-35,0),0.03999)","v":9.7000000000000003E-3},{"$f":"MIN(OFFSET(Male!CF$18,'Male Rev'!$A16-35,0),0.03999)","v":9.9000000000000008E-3},{"$f":"MIN(OFFSET(Male!CG$18,'Male Rev'!$A16-35,0),0.03999)","v":0.01},{"$f":"MIN(OFFSET(Male!CH$18,'Male Rev'!$A16-35,0),0.03999)","v":0.01}]
[81,81,{"$f":"MIN(OFFSET(Male!B$18,'Male Rev'!$A17-35,0),0.03999)","v":8.0000000000000004E-4},{"$f":"MIN(OFFSET(Male!C$18,'Male Rev'!$A17-35,0),0.03999)","v":8.0000000000000004E-4},{"$f":"MIN(OFFSET(Male!D$18,'Male Rev'!$A17-35,0),0.03999)","v":8.0000000000000004E-4},{"$f":"MIN(OFFSET(Male!E$18,'Male Rev'!$A17-35,0),0.03999)","v":6.9999999999999999E-4},{"$f":"MIN(OFFSET(Male!F$18,'Male Rev'!$A17-35,0),0.03999)","v":6.9999999999999999E-4},{"$f":"MIN(OFFSET(Male!G$18,'Male Rev'!$A17-35,0),0.03999)","v":5.9999999999999995E-4},{"$f":"MIN(OFFSET(Male!H$18,'Male Rev'!$A17-35,0),0.03999)","v":5.0000000000000001E-4},{"$f":"MIN(OFFSET(Male!I$18,'Male Rev'!$A17-35,0),0.03999)","v":5.0000000000000001E-4},{"$f":"MIN(OFFSET(Male!J$18,'Male Rev'!$A17-35,0),0.03999)","v":5.9999999999999995E-4},{"$f":"MIN(OFFSET(Male!K$18,'Male Rev'!$A17-35,0),0.03999)","v":6.9999999999999999E-4},{"$f":"MIN(OFFSET(Male!L$18,'Male Rev'!$A17-35,0),0.03999)","v":8.9999999999999998E-4},{"$f":"MIN(OFFSET(Male!M$18,'Male Rev'!$A17-35,0),0.03999)","v":1.1000000000000001E-3},{"$f":"MIN(OFFSET(Male!N$18,'Male Rev'!$A17-35,0),0.03999)","v":1.5E-3},{"$f":"MIN(OFFSET(Male!O$18,'Male Rev'!$A17-35,0),0.03999)","v":2E-3},{"$f":"MIN(OFFSET(Male!P$18,'Male Rev'!$A17-35,0),0.03999)","v":2.5000000000000001E-3},{"$f":"MIN(OFFSET(Male!Q$18,'Male Rev'!$A17-35,0),0.03999)","v":3.2000000000000002E-3},{"$f":"MIN(OFFSET(Male!R$18,'Male Rev'!$A17-35,0),0.03999)","v":3.8999999999999998E-3},{"$f":"MIN(OFFSET(Male!S$18,'Male Rev'!$A17-35,0),0.03999)","v":4.7000000000000002E-3},{"$f":"MIN(OFFSET(Male!T$18,'Male Rev'!$A17-35,0),0.03999)","v":5.5999999999999999E-3},{"$f":"MIN(OFFSET(Male!U$18,'Male Rev'!$A17-35,0),0.03999)","v":6.4000000000000003E-3},{"$f":"MIN(OFFSET(Male!V$18,'Male Rev'!$A17-35,0),0.03999)","v":7.1999999999999998E-3},{"$f":"MIN(OFFSET(Male!W$18,'Male Rev'!$A17-35,0),0.03999)","v":7.9000000000000008E-3},{"$f":"MIN(OFFSET(Male!X$18,'Male Rev'!$A17-35,0),0.03999)","v":8.6E-3},{"$f":"MIN(OFFSET(Male!Y$18,'Male Rev'!$A17-35,0),0.03999)","v":9.1000000000000004E-3},{"$f":"MIN(OFFSET(Male!Z$18,'Male Rev'!$A17-35,0),0.03999)","v":9.4999999999999998E-3},{"$f":"MIN(OFFSET(Male!AA$18,'Male Rev'!$A17-35,0),0.03999)","v":9.5999999999999992E-3},{"$f":"MIN(OFFSET(Male!AB$18,'Male Rev'!$A17-35,0),0.03999)","v":9.4999999999999998E-3},{"$f":"MIN(OFFSET(Male!AC$18,'Male Rev'!$A17-35,0),0.03999)","v":9.2999999999999992E-3},{"$f":"MIN(OFFSET(Male!AD$18,'Male Rev'!$A17-35,0),0.03999)","v":9.1000000000000004E-3},{"$f":"MIN(OFFSET(Male!AE$18,'Male Rev'!$A17-35,0),0.03999)","v":8.8000000000000005E-3},{"$f":"MIN(OFFSET(Male!AF$18,'Male Rev'!$A17-35,0),0.03999)","v":8.5000000000000006E-3},{"$f":"MIN(OFFSET(Male!AG$18,'Male Rev'!$A17-35,0),0.03999)","v":8.2000000000000007E-3},{"$f":"MIN(OFFSET(Male!AH$18,'Male Rev'!$A17-35,0),0.03999)","v":8.0000000000000002E-3},{"$f":"MIN(OFFSET(Male!AI$18,'Male Rev'!$A17-35,0),0.03999)","v":8.0000000000000002E-3},{"$f":"MIN(OFFSET(Male!AJ$18,'Male Rev'!$A17-35,0),0.03999)","v":8.0000000000000002E-3},{"$f":"MIN(OFFSET(Male!AK$18,'Male Rev'!$A17-35,0),0.03999)","v":8.2000000000000007E-3},{"$f":"MIN(OFFSET(Male!AL$18,'Male Rev'!$A17-35,0),0.03999)","v":8.3999999999999995E-3},{"$f":"MIN(OFFSET(Male!AM$18,'Male Rev'!$A17-35,0),0.03999)","v":8.6999999999999994E-3},{"$f":"MIN(OFFSET(Male!AN$18,'Male Rev'!$A17-35,0),0.03999)","v":8.9999999999999993E-3},{"$f":"MIN(OFFSET(Male!AO$18,'Male Rev'!$A17-35,0),0.03999)","v":9.1999999999999998E-3},{"$f":"MIN(OFFSET(Male!AP$18,'Male Rev'!$A17-35,0),0.03999)","v":9.4000000000000004E-3},{"$f":"MIN(OFFSET(Male!AQ$18,'Male Rev'!$A17-35,0),0.03999)","v":9.5999999999999992E-3},{"$f":"MIN(OFFSET(Male!AR$18,'Male Rev'!$A17-35,0),0.03999)","v":9.9000000000000008E-3},{"$f":"MIN(OFFSET(Male!AS$18,'Male Rev'!$A17-35,0),0.03999)","v":1.03E-2},{"$f":"MIN(OFFSET(Male!AT$18,'Male Rev'!$A17-35,0),0.03999)","v":1.0800000000000001E-2},{"$f":"MIN(OFFSET(Male!AU$18,'Male Rev'!$A17-35,0),0.03999)","v":1.14E-2},{"$f":"MIN(OFFSET(Male!AV$18,'Male Rev'!$A17-35,0),0.03999)","v":1.2200000000000001E-2},{"$f":"MIN(OFFSET(Male!AW$18,'Male Rev'!$A17-35,0),0.03999)","v":1.2999999999999999E-2},{"$f":"MIN(OFFSET(Male!AX$18,'Male Rev'!$A17-35,0),0.03999)","v":1.4E-2},{"$f":"MIN(OFFSET(Male!AY$18,'Male Rev'!$A17-35,0),0.03999)","v":1.4999999999999999E-2},{"$f":"MIN(OFFSET(Male!AZ$18,'Male Rev'!$A17-35,0),0.03999)","v":1.6E-2},{"$f":"MIN(OFFSET(Male!BA$18,'Male Rev'!$A17-35,0),0.03999)","v":1.6899999999999998E-2},{"$f":"MIN(OFFSET(Male!BB$18,'Male Rev'!$A17-35,0),0.03999)","v":1.77E-2},{"$f":"MIN(OFFSET(Male!BC$18,'Male Rev'!$A17-35,0),0.03999)","v":1.8200000000000001E-2},{"$f":"MIN(OFFSET(Male!BD$18,'Male Rev'!$A17-35,0),0.03999)","v":1.84E-2},{"$f":"MIN(OFFSET(Male!BE$18,'Male Rev'!$A17-35,0),0.03999)","v":1.84E-2},{"$f":"MIN(OFFSET(Male!BF$18,'Male Rev'!$A17-35,0),0.03999)","v":1.8100000000000002E-2},{"$f":"MIN(OFFSET(Male!BG$18,'Male Rev'!$A17-35,0),0.03999)","v":1.7500000000000002E-2},{"$f":"MIN(OFFSET(Male!BH$18,'Male Rev'!$A17-35,0),0.03999)","v":1.6799999999999999E-2},{"$f":"MIN(OFFSET(Male!BI$18,'Male Rev'!$A17-35,0),0.03999)","v":1.5900000000000001E-2},{"$f":"MIN(OFFSET(Male!BJ$18,'Male Rev'!$A17-35,0),0.03999)","v":1.4999999999999999E-2},{"$f":"MIN(OFFSET(Male!BK$18,'Male Rev'!$A17-35,0),0.03999)","v":1.41E-2},{"$f":"MIN(OFFSET(Male!BL$18,'Male Rev'!$A17-35,0),0.03999)","v":1.3299999999999999E-2},{"$f":"MIN(OFFSET(Male!BM$18,'Male Rev'!$A17-35,0),0.03999)","v":1.2699999999999999E-2},{"$f":"MIN(OFFSET(Male!BN$18,'Male Rev'!$A17-35,0),0.03999)","v":1.23E-2},{"$f":"MIN(OFFSET(Male!BO$18,'Male Rev'!$A17-35,0),0.03999)","v":1.23E-2},{"$f":"MIN(OFFSET(Male!BP$18,'Male Rev'!$A17-35,0),0.03999)","v":1.2200000000000001E-2},{"$f":"MIN(OFFSET(Male!BQ$18,'Male Rev'!$A17-35,0),0.03999)","v":1.1900000000000001E-2},{"$f":"MIN(OFFSET(Male!BR$18,'Male Rev'!$A17-35,0),0.03999)","v":1.1599999999999999E-2},{"$f":"MIN(OFFSET(Male!BS$18,'Male Rev'!$A17-35,0),0.03999)","v":1.1299999999999999E-2},{"$f":"MIN(OFFSET(Male!BT$18,'Male Rev'!$A17-35,0),0.03999)","v":1.09E-2},{"$f":"MIN(OFFSET(Male!BU$18,'Male Rev'!$A17-35,0),0.03999)","v":1.0500000000000001E-2},{"$f":"MIN(OFFSET(Male!BV$18,'Male Rev'!$A17-35,0),0.03999)","v":1.01E-2},{"$f":"MIN(OFFSET(Male!BW$18,'Male Rev'!$A17-35,0),0.03999)","v":9.7999999999999997E-3},{"$f":"MIN(OFFSET(Male!BX$18,'Male Rev'!$A17-35,0),0.03999)","v":9.4999999999999998E-3},{"$f":"MIN(OFFSET(Male!BY$18,'Male Rev'!$A17-35,0),0.03999)","v":9.2999999999999992E-3},{"$f":"MIN(OFFSET(Male!BZ$18,'Male Rev'!$A17-35,0),0.03999)","v":9.1999999999999998E-3},{"$f":"MIN(OFFSET(Male!CA$18,'Male Rev'!$A17-35,0),0.03999)","v":9.1999999999999998E-3},{"$f":"MIN(OFFSET(Male!CB$18,'Male Rev'!$A17-35,0),0.03999)","v":9.1999999999999998E-3},{"$f":"MIN(OFFSET(Male!CC$18,'Male Rev'!$A17-35,0),0.03999)","v":9.4000000000000004E-3},{"$f":"MIN(OFFSET(Male!CD$18,'Male Rev'!$A17-35,0),0.03999)","v":9.4999999999999998E-3},{"$f":"MIN(OFFSET(Male!CE$18,'Male Rev'!$A17-35,0),0.03999)","v":9.7000000000000003E-3},{"$f":"MIN(OFFSET(Male!CF$18,'Male Rev'!$A17-35,0),0.03999)","v":9.7999999999999997E-3},{"$f":"MIN(OFFSET(Male!CG$18,'Male Rev'!$A17-35,0),0.03999)","v":0.01},{"$f":"MIN(OFFSET(Male!CH$18,'Male Rev'!$A17-35,0),0.03999)","v":0.01}]
[80,80,{"$f":"MIN(OFFSET(Male!B$18,'Male Rev'!$A18-35,0),0.03999)","v":8.0000000000000004E-4},{"$f":"MIN(OFFSET(Male!C$18,'Male Rev'!$A18-35,0),0.03999)","v":8.0000000000000004E-4},{"$f":"MIN(OFFSET(Male!D$18,'Male Rev'!$A18-35,0),0.03999)","v":8.0000000000000004E-4},{"$f":"MIN(OFFSET(Male!E$18,'Male Rev'!$A18-35,0),0.03999)","v":6.9999999999999999E-4},{"$f":"MIN(OFFSET(Male!F$18,'Male Rev'!$A18-35,0),0.03999)","v":5.9999999999999995E-4},{"$f":"MIN(OFFSET(Male!G$18,'Male Rev'!$A18-35,0),0.03999)","v":5.0000000000000001E-4},{"$f":"MIN(OFFSET(Male!H$18,'Male Rev'!$A18-35,0),0.03999)","v":4.0000000000000002E-4},{"$f":"MIN(OFFSET(Male!I$18,'Male Rev'!$A18-35,0),0.03999)","v":4.0000000000000002E-4},{"$f":"MIN(OFFSET(Male!J$18,'Male Rev'!$A18-35,0),0.03999)","v":4.0000000000000002E-4},{"$f":"MIN(OFFSET(Male!K$18,'Male Rev'!$A18-35,0),0.03999)","v":5.0000000000000001E-4},{"$f":"MIN(OFFSET(Male!L$18,'Male Rev'!$A18-35,0),0.03999)","v":6.9999999999999999E-4},{"$f":"MIN(OFFSET(Male!M$18,'Male Rev'!$A18-35,0),0.03999)","v":8.9999999999999998E-4},{"$f":"MIN(OFFSET(Male!N$18,'Male Rev'!$A18-35,0),0.03999)","v":1.2999999999999999E-3},{"$f":"MIN(OFFSET(Male!O$18,'Male Rev'!$A18-35,0),0.03999)","v":1.8E-3},{"$f":"MIN(OFFSET(Male!P$18,'Male Rev'!$A18-35,0),0.03999)","v":2.3999999999999998E-3},{"$f":"MIN(OFFSET(Male!Q$18,'Male Rev'!$A18-35,0),0.03999)","v":3.0000000000000001E-3},{"$f":"MIN(OFFSET(Male!R$18,'Male Rev'!$A18-35,0),0.03999)","v":3.8E-3},{"$f":"MIN(OFFSET(Male!S$18,'Male Rev'!$A18-35,0),0.03999)","v":4.7000000000000002E-3},{"$f":"MIN(OFFSET(Male!T$18,'Male Rev'!$A18-35,0),0.03999)","v":5.5999999999999999E-3},{"$f":"MIN(OFFSET(Male!U$18,'Male Rev'!$A18-35,0),0.03999)","v":6.4999999999999997E-3},{"$f":"MIN(OFFSET(Male!V$18,'Male Rev'!$A18-35,0),0.03999)","v":7.3000000000000001E-3},{"$f":"MIN(OFFSET(Male!W$18,'Male Rev'!$A18-35,0),0.03999)","v":8.2000000000000007E-3},{"$f":"MIN(OFFSET(Male!X$18,'Male Rev'!$A18-35,0),0.03999)","v":8.8999999999999999E-3},{"$f":"MIN(OFFSET(Male!Y$18,'Male Rev'!$A18-35,0),0.03999)","v":9.4999999999999998E-3},{"$f":"MIN(OFFSET(Male!Z$18,'Male Rev'!$A18-35,0),0.03999)","v":9.7999999999999997E-3},{"$f":"MIN(OFFSET(Male!AA$18,'Male Rev'!$A18-35,0),0.03999)","v":9.9000000000000008E-3},{"$f":"MIN(OFFSET(Male!AB$18,'Male Rev'!$A18-35,0),0.03999)","v":9.9000000000000008E-3},{"$f":"MIN(OFFSET(Male!AC$18,'Male Rev'!$A18-35,0),0.03999)","v":9.7000000000000003E-3},{"$f":"MIN(OFFSET(Male!AD$18,'Male Rev'!$A18-35,0),0.03999)","v":9.4999999999999998E-3},{"$f":"MIN(OFFSET(Male!AE$18,'Male Rev'!$A18-35,0),0.03999)","v":9.1999999999999998E-3},{"$f":"MIN(OFFSET(Male!AF$18,'Male Rev'!$A18-35,0),0.03999)","v":8.8999999999999999E-3},{"$f":"MIN(OFFSET(Male!AG$18,'Male Rev'!$A18-35,0),0.03999)","v":8.6999999999999994E-3},{"$f":"MIN(OFFSET(Male!AH$18,'Male Rev'!$A18-35,0),0.03999)","v":8.5000000000000006E-3},{"$f":"MIN(OFFSET(Male!AI$18,'Male Rev'!$A18-35,0),0.03999)","v":8.5000000000000006E-3},{"$f":"MIN(OFFSET(Male!AJ$18,'Male Rev'!$A18-35,0),0.03999)","v":8.6E-3},{"$f":"MIN(OFFSET(Male!AK$18,'Male Rev'!$A18-35,0),0.03999)","v":8.8000000000000005E-3},{"$f":"MIN(OFFSET(Male!AL$18,'Male Rev'!$A18-35,0),0.03999)","v":9.1000000000000004E-3},{"$f":"MIN(OFFSET(Male!AM$18,'Male Rev'!$A18-35,0),0.03999)","v":9.4000000000000004E-3},{"$f":"MIN(OFFSET(Male!AN$18,'Male Rev'!$A18-35,0),0.03999)","v":9.7000000000000003E-3},{"$f":"MIN(OFFSET(Male!AO$18,'Male Rev'!$A18-35,0),0.03999)","v":0.01},{"$f":"MIN(OFFSET(Male!AP$18,'Male Rev'!$A18-35,0),0.03999)","v":1.0200000000000001E-2},{"$f":"MIN(OFFSET(Male!AQ$18,'Male Rev'!$A18-35,0),0.03999)","v":1.04E-2},{"$f":"MIN(OFFSET(Male!AR$18,'Male Rev'!$A18-35,0),0.03999)","v":1.0699999999999999E-2},{"$f":"MIN(OFFSET(Male!AS$18,'Male Rev'!$A18-35,0),0.03999)","v":1.11E-2},{"$f":"MIN(OFFSET(Male!AT$18,'Male Rev'!$A18-35,0),0.03999)","v":1.1599999999999999E-2},{"$f":"MIN(OFFSET(Male!AU$18,'Male Rev'!$A18-35,0),0.03999)","v":1.2200000000000001E-2},{"$f":"MIN(OFFSET(Male!AV$18,'Male Rev'!$A18-35,0),0.03999)","v":1.2999999999999999E-2},{"$f":"MIN(OFFSET(Male!AW$18,'Male Rev'!$A18-35,0),0.03999)","v":1.38E-2},{"$f":"MIN(OFFSET(Male!AX$18,'Male Rev'!$A18-35,0),0.03999)","v":1.4800000000000001E-2},{"$f":"MIN(OFFSET(Male!AY$18,'Male Rev'!$A18-35,0),0.03999)","v":1.5900000000000001E-2},{"$f":"MIN(OFFSET(Male!AZ$18,'Male Rev'!$A18-35,0),0.03999)","v":1.6899999999999998E-2},{"$f":"MIN(OFFSET(Male!BA$18,'Male Rev'!$A18-35,0),0.03999)","v":1.78E-2},{"$f":"MIN(OFFSET(Male!BB$18,'Male Rev'!$A18-35,0),0.03999)","v":1.8499999999999999E-2},{"$f":"MIN(OFFSET(Male!BC$18,'Male Rev'!$A18-35,0),0.03999)","v":1.9099999999999999E-2},{"$f":"MIN(OFFSET(Male!BD$18,'Male Rev'!$A18-35,0),0.03999)","v":1.9300000000000001E-2},{"$f":"MIN(OFFSET(Male!BE$18,'Male Rev'!$A18-35,0),0.03999)","v":1.9199999999999998E-2},{"$f":"MIN(OFFSET(Male!BF$18,'Male Rev'!$A18-35,0),0.03999)","v":1.8800000000000001E-2},{"$f":"MIN(OFFSET(Male!BG$18,'Male Rev'!$A18-35,0),0.03999)","v":1.8200000000000001E-2},{"$f":"MIN(OFFSET(Male!BH$18,'Male Rev'!$A18-35,0),0.03999)","v":1.7399999999999999E-2},{"$f":"MIN(OFFSET(Male!BI$18,'Male Rev'!$A18-35,0),0.03999)","v":1.6400000000000001E-2},{"$f":"MIN(OFFSET(Male!BJ$18,'Male Rev'!$A18-35,0),0.03999)","v":1.54E-2},{"$f":"MIN(OFFSET(Male!BK$18,'Male Rev'!$A18-35,0),0.03999)","v":1.44E-2},{"$f":"MIN(OFFSET(Male!BL$18,'Male Rev'!$A18-35,0),0.03999)","v":1.3599999999999999E-2},{"$f":"MIN(OFFSET(Male!BM$18,'Male Rev'!$A18-35,0),0.03999)","v":1.29E-2},{"$f":"MIN(OFFSET(Male!BN$18,'Male Rev'!$A18-35,0),0.03999)","v":1.24E-2},{"$f":"MIN(OFFSET(Male!BO$18,'Male Rev'!$A18-35,0),0.03999)","v":1.24E-2},{"$f":"MIN(OFFSET(Male!BP$18,'Male Rev'!$A18-35,0),0.03999)","v":1.2200000000000001E-2},{"$f":"MIN(OFFSET(Male!BQ$18,'Male Rev'!$A18-35,0),0.03999)","v":1.1900000000000001E-2},{"$f":"MIN(OFFSET(Male!BR$18,'Male Rev'!$A18-35,0),0.03999)","v":1.1599999999999999E-2},{"$f":"MIN(OFFSET(Male!BS$18,'Male Rev'!$A18-35,0),0.03999)","v":1.12E-2},{"$f":"MIN(OFFSET(Male!BT$18,'Male Rev'!$A18-35,0),0.03999)","v":1.0699999999999999E-2},{"$f":"MIN(OFFSET(Male!BU$18,'Male Rev'!$A18-35,0),0.03999)","v":1.03E-2},{"$f":"MIN(OFFSET(Male!BV$18,'Male Rev'!$A18-35,0),0.03999)","v":9.9000000000000008E-3},{"$f":"MIN(OFFSET(Male!BW$18,'Male Rev'!$A18-35,0),0.03999)","v":9.4999999999999998E-3},{"$f":"MIN(OFFSET(Male!BX$18,'Male Rev'!$A18-35,0),0.03999)","v":9.2999999999999992E-3},{"$f":"MIN(OFFSET(Male!BY$18,'Male Rev'!$A18-35,0),0.03999)","v":9.1000000000000004E-3},{"$f":"MIN(OFFSET(Male!BZ$18,'Male Rev'!$A18-35,0),0.03999)","v":8.9999999999999993E-3},{"$f":"MIN(OFFSET(Male!CA$18,'Male Rev'!$A18-35,0),0.03999)","v":8.9999999999999993E-3},{"$f":"MIN(OFFSET(Male!CB$18,'Male Rev'!$A18-35,0),0.03999)","v":9.1000000000000004E-3},{"$f":"MIN(OFFSET(Male!CC$18,'Male Rev'!$A18-35,0),0.03999)","v":9.2999999999999992E-3},{"$f":"MIN(OFFSET(Male!CD$18,'Male Rev'!$A18-35,0),0.03999)","v":9.4999999999999998E-3},{"$f":"MIN(OFFSET(Male!CE$18,'Male Rev'!$A18-35,0),0.03999)","v":9.7000000000000003E-3},{"$f":"MIN(OFFSET(Male!CF$18,'Male Rev'!$A18-35,0),0.03999)","v":9.7999999999999997E-3},{"$f":"MIN(OFFSET(Male!CG$18,'Male Rev'!$A18-35,0),0.03999)","v":0.01},{"$f":"MIN(OFFSET(Male!CH$18,'Male Rev'!$A18-35,0),0.03999)","v":0.01}]
[79,79,{"$f":"MIN(OFFSET(Male!B$18,'Male Rev'!$A19-35,0),0.03999)","v":8.0000000000000004E-4},{"$f":"MIN(OFFSET(Male!C$18,'Male Rev'!$A19-35,0),0.03999)","v":8.0000000000000004E-4},{"$f":"MIN(OFFSET(Male!D$18,'Male Rev'!$A19-35,0),0.03999)","v":8.0000000000000004E-4},{"$f":"MIN(OFFSET(Male!E$18,'Male Rev'!$A19-35,0),0.03999)","v":6.9999999999999999E-4},{"$f":"MIN(OFFSET(Male!F$18,'Male Rev'!$A19-35,0),0.03999)","v":5.9999999999999995E-4},{"$f":"MIN(OFFSET(Male!G$18,'Male Rev'!$A19-35,0),0.03999)","v":4.0000000000000002E-4},{"$f":"MIN(OFFSET(Male!H$18,'Male Rev'!$A19-35,0),0.03999)","v":2.9999999999999997E-4},{"$f":"MIN(OFFSET(Male!I$18,'Male Rev'!$A19-35,0),0.03999)","v":2.9999999999999997E-4},{"$f":"MIN(OFFSET(Male!J$18,'Male Rev'!$A19-35,0),0.03999)","v":2.9999999999999997E-4},{"$f":"MIN(OFFSET(Male!K$18,'Male Rev'!$A19-35,0),0.03999)","v":4.0000000000000002E-4},{"$f":"MIN(OFFSET(Male!L$18,'Male Rev'!$A19-35,0),0.03999)","v":5.0000000000000001E-4},{"$f":"MIN(OFFSET(Male!M$18,'Male Rev'!$A19-35,0),0.03999)","v":6.9999999999999999E-4},{"$f":"MIN(OFFSET(Male!N$18,'Male Rev'!$A19-35,0),0.03999)","v":1.1000000000000001E-3},{"$f":"MIN(OFFSET(Male!O$18,'Male Rev'!$A19-35,0),0.03999)","v":1.6000000000000001E-3},{"$f":"MIN(OFFSET(Male!P$18,'Male Rev'!$A19-35,0),0.03999)","v":2.2000000000000001E-3},{"$f":"MIN(OFFSET(Male!Q$18,'Male Rev'!$A19-35,0),0.03999)","v":2.8999999999999998E-3},{"$f":"MIN(OFFSET(Male!R$18,'Male Rev'!$A19-35,0),0.03999)","v":3.7000000000000002E-3},{"$f":"MIN(OFFSET(Male!S$18,'Male Rev'!$A19-35,0),0.03999)","v":4.5999999999999999E-3},{"$f":"MIN(OFFSET(Male!T$18,'Male Rev'!$A19-35,0),0.03999)","v":5.5999999999999999E-3},{"$f":"MIN(OFFSET(Male!U$18,'Male Rev'!$A19-35,0),0.03999)","v":6.6E-3},{"$f":"MIN(OFFSET(Male!V$18,'Male Rev'!$A19-35,0),0.03999)","v":7.4999999999999997E-3},{"$f":"MIN(OFFSET(Male!W$18,'Male Rev'!$A19-35,0),0.03999)","v":8.3999999999999995E-3},{"$f":"MIN(OFFSET(Male!X$18,'Male Rev'!$A19-35,0),0.03999)","v":9.1999999999999998E-3},{"$f":"MIN(OFFSET(Male!Y$18,'Male Rev'!$A19-35,0),0.03999)","v":9.7999999999999997E-3},{"$f":"MIN(OFFSET(Male!Z$18,'Male Rev'!$A19-35,0),0.03999)","v":1.0200000000000001E-2},{"$f":"MIN(OFFSET(Male!AA$18,'Male Rev'!$A19-35,0),0.03999)","v":1.03E-2},{"$f":"MIN(OFFSET(Male!AB$18,'Male Rev'!$A19-35,0),0.03999)","v":1.03E-2},{"$f":"MIN(OFFSET(Male!AC$18,'Male Rev'!$A19-35,0),0.03999)","v":1.0200000000000001E-2},{"$f":"MIN(OFFSET(Male!AD$18,'Male Rev'!$A19-35,0),0.03999)","v":9.9000000000000008E-3},{"$f":"MIN(OFFSET(Male!AE$18,'Male Rev'!$A19-35,0),0.03999)","v":9.5999999999999992E-3},{"$f":"MIN(OFFSET(Male!AF$18,'Male Rev'!$A19-35,0),0.03999)","v":9.4000000000000004E-3},{"$f":"MIN(OFFSET(Male!AG$18,'Male Rev'!$A19-35,0),0.03999)","v":9.1000000000000004E-3},{"$f":"MIN(OFFSET(Male!AH$18,'Male Rev'!$A19-35,0),0.03999)","v":8.9999999999999993E-3},{"$f":"MIN(OFFSET(Male!AI$18,'Male Rev'!$A19-35,0),0.03999)","v":8.9999999999999993E-3},{"$f":"MIN(OFFSET(Male!AJ$18,'Male Rev'!$A19-35,0),0.03999)","v":9.1999999999999998E-3},{"$f":"MIN(OFFSET(Male!AK$18,'Male Rev'!$A19-35,0),0.03999)","v":9.4000000000000004E-3},{"$f":"MIN(OFFSET(Male!AL$18,'Male Rev'!$A19-35,0),0.03999)","v":9.7999999999999997E-3},{"$f":"MIN(OFFSET(Male!AM$18,'Male Rev'!$A19-35,0),0.03999)","v":1.01E-2},{"$f":"MIN(OFFSET(Male!AN$18,'Male Rev'!$A19-35,0),0.03999)","v":1.0500000000000001E-2},{"$f":"MIN(OFFSET(Male!AO$18,'Male Rev'!$A19-35,0),0.03999)","v":1.0800000000000001E-2},{"$f":"MIN(OFFSET(Male!AP$18,'Male Rev'!$A19-35,0),0.03999)","v":1.0999999999999999E-2},{"$f":"MIN(OFFSET(Male!AQ$18,'Male Rev'!$A19-35,0),0.03999)","v":1.12E-2},{"$f":"MIN(OFFSET(Male!AR$18,'Male Rev'!$A19-35,0),0.03999)","v":1.14E-2},{"$f":"MIN(OFFSET(Male!AS$18,'Male Rev'!$A19-35,0),0.03999)","v":1.18E-2},{"$f":"MIN(OFFSET(Male!AT$18,'Male Rev'!$A19-35,0),0.03999)","v":1.23E-2},{"$f":"MIN(OFFSET(Male!AU$18,'Male Rev'!$A19-35,0),0.03999)","v":1.29E-2},{"$f":"MIN(OFFSET(Male!AV$18,'Male Rev'!$A19-35,0),0.03999)","v":1.37E-2},{"$f":"MIN(OFFSET(Male!AW$18,'Male Rev'!$A19-35,0),0.03999)","v":1.46E-2},{"$f":"MIN(OFFSET(Male!AX$18,'Male Rev'!$A19-35,0),0.03999)","v":1.5599999999999999E-2},{"$f":"MIN(OFFSET(Male!AY$18,'Male Rev'!$A19-35,0),0.03999)","v":1.67E-2},{"$f":"MIN(OFFSET(Male!AZ$18,'Male Rev'!$A19-35,0),0.03999)","v":1.77E-2},{"$f":"MIN(OFFSET(Male!BA$18,'Male Rev'!$A19-35,0),0.03999)","v":1.8599999999999998E-2},{"$f":"MIN(OFFSET(Male!BB$18,'Male Rev'!$A19-35,0),0.03999)","v":1.9400000000000001E-2},{"$f":"MIN(OFFSET(Male!BC$18,'Male Rev'!$A19-35,0),0.03999)","v":1.9900000000000001E-2},{"$f":"MIN(OFFSET(Male!BD$18,'Male Rev'!$A19-35,0),0.03999)","v":2.01E-2},{"$f":"MIN(OFFSET(Male!BE$18,'Male Rev'!$A19-35,0),0.03999)","v":0.02},{"$f":"MIN(OFFSET(Male!BF$18,'Male Rev'!$A19-35,0),0.03999)","v":1.95E-2},{"$f":"MIN(OFFSET(Male!BG$18,'Male Rev'!$A19-35,0),0.03999)","v":1.8800000000000001E-2},{"$f":"MIN(OFFSET(Male!BH$18,'Male Rev'!$A19-35,0),0.03999)","v":1.7899999999999999E-2},{"$f":"MIN(OFFSET(Male!BI$18,'Male Rev'!$A19-35,0),0.03999)","v":1.6799999999999999E-2},{"$f":"MIN(OFFSET(Male!BJ$18,'Male Rev'!$A19-35,0),0.03999)","v":1.5699999999999999E-2},{"$f":"MIN(OFFSET(Male!BK$18,'Male Rev'!$A19-35,0),0.03999)","v":1.46E-2},{"$f":"MIN(OFFSET(Male!BL$18,'Male Rev'!$A19-35,0),0.03999)","v":1.37E-2},{"$f":"MIN(OFFSET(Male!BM$18,'Male Rev'!$A19-35,0),0.03999)","v":1.2999999999999999E-2},{"$f":"MIN(OFFSET(Male!BN$18,'Male Rev'!$A19-35,0),0.03999)","v":1.2500000000000001E-2},{"$f":"MIN(OFFSET(Male!BO$18,'Male Rev'!$A19-35,0),0.03999)","v":1.24E-2},{"$f":"MIN(OFFSET(Male!BP$18,'Male Rev'!$A19-35,0),0.03999)","v":1.2200000000000001E-2},{"$f":"MIN(OFFSET(Male!BQ$18,'Male Rev'!$A19-35,0),0.03999)","v":1.18E-2},{"$f":"MIN(OFFSET(Male!BR$18,'Male Rev'!$A19-35,0),0.03999)","v":1.15E-2},{"$f":"MIN(OFFSET(Male!BS$18,'Male Rev'!$A19-35,0),0.03999)","v":1.0999999999999999E-2},{"$f":"MIN(OFFSET(Male!BT$18,'Male Rev'!$A19-35,0),0.03999)","v":1.0500000000000001E-2},{"$f":"MIN(OFFSET(Male!BU$18,'Male Rev'!$A19-35,0),0.03999)","v":1.01E-2},{"$f":"MIN(OFFSET(Male!BV$18,'Male Rev'!$A19-35,0),0.03999)","v":9.5999999999999992E-3},{"$f":"MIN(OFFSET(Male!BW$18,'Male Rev'!$A19-35,0),0.03999)","v":9.2999999999999992E-3},{"$f":"MIN(OFFSET(Male!BX$18,'Male Rev'!$A19-35,0),0.03999)","v":8.9999999999999993E-3},{"$f":"MIN(OFFSET(Male!BY$18,'Male Rev'!$A19-35,0),0.03999)","v":8.8999999999999999E-3},{"$f":"MIN(OFFSET(Male!BZ$18,'Male Rev'!$A19-35,0),0.03999)","v":8.8000000000000005E-3},{"$f":"MIN(OFFSET(Male!CA$18,'Male Rev'!$A19-35,0),0.03999)","v":8.8999999999999999E-3},{"$f":"MIN(OFFSET(Male!CB$18,'Male Rev'!$A19-35,0),0.03999)","v":9.1000000000000004E-3},{"$f":"MIN(OFFSET(Male!CC$18,'Male Rev'!$A19-35,0),0.03999)","v":9.1999999999999998E-3},{"$f":"MIN(OFFSET(Male!CD$18,'Male Rev'!$A19-35,0),0.03999)","v":9.4000000000000004E-3},{"$f":"MIN(OFFSET(Male!CE$18,'Male Rev'!$A19-35,0),0.03999)","v":9.7000000000000003E-3},{"$f":"MIN(OFFSET(Male!CF$18,'Male Rev'!$A19-35,0),0.03999)","v":9.7999999999999997E-3},{"$f":"MIN(OFFSET(Male!CG$18,'Male Rev'!$A19-35,0),0.03999)","v":0.01},{"$f":"MIN(OFFSET(Male!CH$18,'Male Rev'!$A19-35,0),0.03999)","v":0.01}]
[78,78,{"$f":"MIN(OFFSET(Male!B$18,'Male Rev'!$A20-35,0),0.03999)","v":8.9999999999999998E-4},{"$f":"MIN(OFFSET(Male!C$18,'Male Rev'!$A20-35,0),0.03999)","v":8.0000000000000004E-4},{"$f":"MIN(OFFSET(Male!D$18,'Male Rev'!$A20-35,0),0.03999)","v":8.0000000000000004E-4},{"$f":"MIN(OFFSET(Male!E$18,'Male Rev'!$A20-35,0),0.03999)","v":6.9999999999999999E-4},{"$f":"MIN(OFFSET(Male!F$18,'Male Rev'!$A20-35,0),0.03999)","v":5.0000000000000001E-4},{"$f":"MIN(OFFSET(Male!G$18,'Male Rev'!$A20-35,0),0.03999)","v":4.0000000000000002E-4},{"$f":"MIN(OFFSET(Male!H$18,'Male Rev'!$A20-35,0),0.03999)","v":2.0000000000000001E-4},{"$f":"MIN(OFFSET(Male!I$18,'Male Rev'!$A20-35,0),0.03999)","v":2.0000000000000001E-4},{"$f":"MIN(OFFSET(Male!J$18,'Male Rev'!$A20-35,0),0.03999)","v":2.0000000000000001E-4},{"$f":"MIN(OFFSET(Male!K$18,'Male Rev'!$A20-35,0),0.03999)","v":2.0000000000000001E-4},{"$f":"MIN(OFFSET(Male!L$18,'Male Rev'!$A20-35,0),0.03999)","v":2.9999999999999997E-4},{"$f":"MIN(OFFSET(Male!M$18,'Male Rev'!$A20-35,0),0.03999)","v":5.0000000000000001E-4},{"$f":"MIN(OFFSET(Male!N$18,'Male Rev'!$A20-35,0),0.03999)","v":8.9999999999999998E-4},{"$f":"MIN(OFFSET(Male!O$18,'Male Rev'!$A20-35,0),0.03999)","v":1.4E-3},{"$f":"MIN(OFFSET(Male!P$18,'Male Rev'!$A20-35,0),0.03999)","v":2E-3},{"$f":"MIN(OFFSET(Male!Q$18,'Male Rev'!$A20-35,0),0.03999)","v":2.8E-3},{"$f":"MIN(OFFSET(Male!R$18,'Male Rev'!$A20-35,0),0.03999)","v":3.7000000000000002E-3},{"$f":"MIN(OFFSET(Male!S$18,'Male Rev'!$A20-35,0),0.03999)","v":4.5999999999999999E-3},{"$f":"MIN(OFFSET(Male!T$18,'Male Rev'!$A20-35,0),0.03999)","v":5.5999999999999999E-3},{"$f":"MIN(OFFSET(Male!U$18,'Male Rev'!$A20-35,0),0.03999)","v":6.7000000000000002E-3},{"$f":"MIN(OFFSET(Male!V$18,'Male Rev'!$A20-35,0),0.03999)","v":7.7000000000000002E-3},{"$f":"MIN(OFFSET(Male!W$18,'Male Rev'!$A20-35,0),0.03999)","v":8.6E-3},{"$f":"MIN(OFFSET(Male!X$18,'Male Rev'!$A20-35,0),0.03999)","v":9.4000000000000004E-3},{"$f":"MIN(OFFSET(Male!Y$18,'Male Rev'!$A20-35,0),0.03999)","v":1.01E-2},{"$f":"MIN(OFFSET(Male!Z$18,'Male Rev'!$A20-35,0),0.03999)","v":1.0500000000000001E-2},{"$f":"MIN(OFFSET(Male!AA$18,'Male Rev'!$A20-35,0),0.03999)","v":1.0699999999999999E-2},{"$f":"MIN(OFFSET(Male!AB$18,'Male Rev'!$A20-35,0),0.03999)","v":1.0699999999999999E-2},{"$f":"MIN(OFFSET(Male!AC$18,'Male Rev'!$A20-35,0),0.03999)","v":1.06E-2},{"$f":"MIN(OFFSET(Male!AD$18,'Male Rev'!$A20-35,0),0.03999)","v":1.04E-2},{"$f":"MIN(OFFSET(Male!AE$18,'Male Rev'!$A20-35,0),0.03999)","v":1.01E-2},{"$f":"MIN(OFFSET(Male!AF$18,'Male Rev'!$A20-35,0),0.03999)","v":9.7999999999999997E-3},{"$f":"MIN(OFFSET(Male!AG$18,'Male Rev'!$A20-35,0),0.03999)","v":9.5999999999999992E-3},{"$f":"MIN(OFFSET(Male!AH$18,'Male Rev'!$A20-35,0),0.03999)","v":9.4999999999999998E-3},{"$f":"MIN(OFFSET(Male!AI$18,'Male Rev'!$A20-35,0),0.03999)","v":9.5999999999999992E-3},{"$f":"MIN(OFFSET(Male!AJ$18,'Male Rev'!$A20-35,0),0.03999)","v":9.7000000000000003E-3},{"$f":"MIN(OFFSET(Male!AK$18,'Male Rev'!$A20-35,0),0.03999)","v":1.01E-2},{"$f":"MIN(OFFSET(Male!AL$18,'Male Rev'!$A20-35,0),0.03999)","v":1.04E-2},{"$f":"MIN(OFFSET(Male!AM$18,'Male Rev'!$A20-35,0),0.03999)","v":1.0800000000000001E-2},{"$f":"MIN(OFFSET(Male!AN$18,'Male Rev'!$A20-35,0),0.03999)","v":1.12E-2},{"$f":"MIN(OFFSET(Male!AO$18,'Male Rev'!$A20-35,0),0.03999)","v":1.15E-2},{"$f":"MIN(OFFSET(Male!AP$18,'Male Rev'!$A20-35,0),0.03999)","v":1.17E-2},{"$f":"MIN(OFFSET(Male!AQ$18,'Male Rev'!$A20-35,0),0.03999)","v":1.1900000000000001E-2},{"$f":"MIN(OFFSET(Male!AR$18,'Male Rev'!$A20-35,0),0.03999)","v":1.21E-2},{"$f":"MIN(OFFSET(Male!AS$18,'Male Rev'!$A20-35,0),0.03999)","v":1.2500000000000001E-2},{"$f":"MIN(OFFSET(Male!AT$18,'Male Rev'!$A20-35,0),0.03999)","v":1.2999999999999999E-2},{"$f":"MIN(OFFSET(Male!AU$18,'Male Rev'!$A20-35,0),0.03999)","v":1.3599999999999999E-2},{"$f":"MIN(OFFSET(Male!AV$18,'Male Rev'!$A20-35,0),0.03999)","v":1.44E-2},{"$f":"MIN(OFFSET(Male!AW$18,'Male Rev'!$A20-35,0),0.03999)","v":1.5299999999999999E-2},{"$f":"MIN(OFFSET(Male!AX$18,'Male Rev'!$A20-35,0),0.03999)","v":1.6400000000000001E-2},{"$f":"MIN(OFFSET(Male!AY$18,'Male Rev'!$A20-35,0),0.03999)","v":1.7399999999999999E-2},{"$f":"MIN(OFFSET(Male!AZ$18,'Male Rev'!$A20-35,0),0.03999)","v":1.8499999999999999E-2},{"$f":"MIN(OFFSET(Male!BA$18,'Male Rev'!$A20-35,0),0.03999)","v":1.9400000000000001E-2},{"$f":"MIN(OFFSET(Male!BB$18,'Male Rev'!$A20-35,0),0.03999)","v":2.0199999999999999E-2},{"$f":"MIN(OFFSET(Male!BC$18,'Male Rev'!$A20-35,0),0.03999)","v":2.07E-2},{"$f":"MIN(OFFSET(Male!BD$18,'Male Rev'!$A20-35,0),0.03999)","v":2.0899999999999998E-2},{"$f":"MIN(OFFSET(Male!BE$18,'Male Rev'!$A20-35,0),0.03999)","v":2.07E-2},{"$f":"MIN(OFFSET(Male!BF$18,'Male Rev'!$A20-35,0),0.03999)","v":2.01E-2},{"$f":"MIN(OFFSET(Male!BG$18,'Male Rev'!$A20-35,0),0.03999)","v":1.9300000000000001E-2},{"$f":"MIN(OFFSET(Male!BH$18,'Male Rev'!$A20-35,0),0.03999)","v":1.83E-2},{"$f":"MIN(OFFSET(Male!BI$18,'Male Rev'!$A20-35,0),0.03999)","v":1.7100000000000001E-2},{"$f":"MIN(OFFSET(Male!BJ$18,'Male Rev'!$A20-35,0),0.03999)","v":1.5900000000000001E-2},{"$f":"MIN(OFFSET(Male!BK$18,'Male Rev'!$A20-35,0),0.03999)","v":1.47E-2},{"$f":"MIN(OFFSET(Male!BL$18,'Male Rev'!$A20-35,0),0.03999)","v":1.37E-2},{"$f":"MIN(OFFSET(Male!BM$18,'Male Rev'!$A20-35,0),0.03999)","v":1.29E-2},{"$f":"MIN(OFFSET(Male!BN$18,'Male Rev'!$A20-35,0),0.03999)","v":1.24E-2},{"$f":"MIN(OFFSET(Male!BO$18,'Male Rev'!$A20-35,0),0.03999)","v":1.23E-2},{"$f":"MIN(OFFSET(Male!BP$18,'Male Rev'!$A20-35,0),0.03999)","v":1.2E-2},{"$f":"MIN(OFFSET(Male!BQ$18,'Male Rev'!$A20-35,0),0.03999)","v":1.17E-2},{"$f":"MIN(OFFSET(Male!BR$18,'Male Rev'!$A20-35,0),0.03999)","v":1.12E-2},{"$f":"MIN(OFFSET(Male!BS$18,'Male Rev'!$A20-35,0),0.03999)","v":1.0699999999999999E-2},{"$f":"MIN(OFFSET(Male!BT$18,'Male Rev'!$A20-35,0),0.03999)","v":1.0200000000000001E-2},{"$f":"MIN(OFFSET(Male!BU$18,'Male Rev'!$A20-35,0),0.03999)","v":9.7000000000000003E-3},{"$f":"MIN(OFFSET(Male!BV$18,'Male Rev'!$A20-35,0),0.03999)","v":9.2999999999999992E-3},{"$f":"MIN(OFFSET(Male!BW$18,'Male Rev'!$A20-35,0),0.03999)","v":8.8999999999999999E-3},{"$f":"MIN(OFFSET(Male!BX$18,'Male Rev'!$A20-35,0),0.03999)","v":8.6999999999999994E-3},{"$f":"MIN(OFFSET(Male!BY$18,'Male Rev'!$A20-35,0),0.03999)","v":8.6E-3},{"$f":"MIN(OFFSET(Male!BZ$18,'Male Rev'!$A20-35,0),0.03999)","v":8.6999999999999994E-3},{"$f":"MIN(OFFSET(Male!CA$18,'Male Rev'!$A20-35,0),0.03999)","v":8.8000000000000005E-3},{"$f":"MIN(OFFSET(Male!CB$18,'Male Rev'!$A20-35,0),0.03999)","v":8.8999999999999999E-3},{"$f":"MIN(OFFSET(Male!CC$18,'Male Rev'!$A20-35,0),0.03999)","v":9.1999999999999998E-3},{"$f":"MIN(OFFSET(Male!CD$18,'Male Rev'!$A20-35,0),0.03999)","v":9.4000000000000004E-3},{"$f":"MIN(OFFSET(Male!CE$18,'Male Rev'!$A20-35,0),0.03999)","v":9.5999999999999992E-3},{"$f":"MIN(OFFSET(Male!CF$18,'Male Rev'!$A20-35,0),0.03999)","v":9.7999999999999997E-3},{"$f":"MIN(OFFSET(Male!CG$18,'Male Rev'!$A20-35,0),0.03999)","v":0.01},{"$f":"MIN(OFFSET(Male!CH$18,'Male Rev'!$A20-35,0),0.03999)","v":0.01}]
[77,77,{"$f":"MIN(OFFSET(Male!B$18,'Male Rev'!$A21-35,0),0.03999)","v":8.9999999999999998E-4},{"$f":"MIN(OFFSET(Male!C$18,'Male Rev'!$A21-35,0),0.03999)","v":8.9999999999999998E-4},{"$f":"MIN(OFFSET(Male!D$18,'Male Rev'!$A21-35,0),0.03999)","v":8.0000000000000004E-4},{"$f":"MIN(OFFSET(Male!E$18,'Male Rev'!$A21-35,0),0.03999)","v":5.9999999999999995E-4},{"$f":"MIN(OFFSET(Male!F$18,'Male Rev'!$A21-35,0),0.03999)","v":5.0000000000000001E-4},{"$f":"MIN(OFFSET(Male!G$18,'Male Rev'!$A21-35,0),0.03999)","v":2.9999999999999997E-4},{"$f":"MIN(OFFSET(Male!H$18,'Male Rev'!$A21-35,0),0.03999)","v":1E-4},{"$f":"MIN(OFFSET(Male!I$18,'Male Rev'!$A21-35,0),0.03999)","v":1E-4},{"$f":"MIN(OFFSET(Male!J$18,'Male Rev'!$A21-35,0),0.03999)","v":0},{"$f":"MIN(OFFSET(Male!K$18,'Male Rev'!$A21-35,0),0.03999)","v":0},{"$f":"MIN(OFFSET(Male!L$18,'Male Rev'!$A21-35,0),0.03999)","v":1E-4},{"$f":"MIN(OFFSET(Male!M$18,'Male Rev'!$A21-35,0),0.03999)","v":2.9999999999999997E-4},{"$f":"MIN(OFFSET(Male!N$18,'Male Rev'!$A21-35,0),0.03999)","v":6.9999999999999999E-4},{"$f":"MIN(OFFSET(Male!O$18,'Male Rev'!$A21-35,0),0.03999)","v":1.1999999999999999E-3},{"$f":"MIN(OFFSET(Male!P$18,'Male Rev'!$A21-35,0),0.03999)","v":1.9E-3},{"$f":"MIN(OFFSET(Male!Q$18,'Male Rev'!$A21-35,0),0.03999)","v":2.7000000000000001E-3},{"$f":"MIN(OFFSET(Male!R$18,'Male Rev'!$A21-35,0),0.03999)","v":3.5999999999999999E-3},{"$f":"MIN(OFFSET(Male!S$18,'Male Rev'!$A21-35,0),0.03999)","v":4.5999999999999999E-3},{"$f":"MIN(OFFSET(Male!T$18,'Male Rev'!$A21-35,0),0.03999)","v":5.7000000000000002E-3},{"$f":"MIN(OFFSET(Male!U$18,'Male Rev'!$A21-35,0),0.03999)","v":6.7999999999999996E-3},{"$f":"MIN(OFFSET(Male!V$18,'Male Rev'!$A21-35,0),0.03999)","v":7.7999999999999996E-3},{"$f":"MIN(OFFSET(Male!W$18,'Male Rev'!$A21-35,0),0.03999)","v":8.8000000000000005E-3},{"$f":"MIN(OFFSET(Male!X$18,'Male Rev'!$A21-35,0),0.03999)","v":9.7000000000000003E-3},{"$f":"MIN(OFFSET(Male!Y$18,'Male Rev'!$A21-35,0),0.03999)","v":1.0500000000000001E-2},{"$f":"MIN(OFFSET(Male!Z$18,'Male Rev'!$A21-35,0),0.03999)","v":1.09E-2},{"$f":"MIN(OFFSET(Male!AA$18,'Male Rev'!$A21-35,0),0.03999)","v":1.11E-2},{"$f":"MIN(OFFSET(Male!AB$18,'Male Rev'!$A21-35,0),0.03999)","v":1.12E-2},{"$f":"MIN(OFFSET(Male!AC$18,'Male Rev'!$A21-35,0),0.03999)","v":1.0999999999999999E-2},{"$f":"MIN(OFFSET(Male!AD$18,'Male Rev'!$A21-35,0),0.03999)","v":1.0800000000000001E-2},{"$f":"MIN(OFFSET(Male!AE$18,'Male Rev'!$A21-35,0),0.03999)","v":1.0500000000000001E-2},{"$f":"MIN(OFFSET(Male!AF$18,'Male Rev'!$A21-35,0),0.03999)","v":1.03E-2},{"$f":"MIN(OFFSET(Male!AG$18,'Male Rev'!$A21-35,0),0.03999)","v":1.01E-2},{"$f":"MIN(OFFSET(Male!AH$18,'Male Rev'!$A21-35,0),0.03999)","v":0.01},{"$f":"MIN(OFFSET(Male!AI$18,'Male Rev'!$A21-35,0),0.03999)","v":1.01E-2},{"$f":"MIN(OFFSET(Male!AJ$18,'Male Rev'!$A21-35,0),0.03999)","v":1.03E-2},{"$f":"MIN(OFFSET(Male!AK$18,'Male Rev'!$A21-35,0),0.03999)","v":1.0699999999999999E-2},{"$f":"MIN(OFFSET(Male!AL$18,'Male Rev'!$A21-35,0),0.03999)","v":1.11E-2},{"$f":"MIN(OFFSET(Male!AM$18,'Male Rev'!$A21-35,0),0.03999)","v":1.15E-2},{"$f":"MIN(OFFSET(Male!AN$18,'Male Rev'!$A21-35,0),0.03999)","v":1.1900000000000001E-2},{"$f":"MIN(OFFSET(Male!AO$18,'Male Rev'!$A21-35,0),0.03999)","v":1.2200000000000001E-2},{"$f":"MIN(OFFSET(Male!AP$18,'Male Rev'!$A21-35,0),0.03999)","v":1.24E-2},{"$f":"MIN(OFFSET(Male!AQ$18,'Male Rev'!$A21-35,0),0.03999)","v":1.26E-2},{"$f":"MIN(OFFSET(Male!AR$18,'Male Rev'!$A21-35,0),0.03999)","v":1.2800000000000001E-2},{"$f":"MIN(OFFSET(Male!AS$18,'Male Rev'!$A21-35,0),0.03999)","v":1.32E-2},{"$f":"MIN(OFFSET(Male!AT$18,'Male Rev'!$A21-35,0),0.03999)","v":1.37E-2},{"$f":"MIN(OFFSET(Male!AU$18,'Male Rev'!$A21-35,0),0.03999)","v":1.43E-2},{"$f":"MIN(OFFSET(Male!AV$18,'Male Rev'!$A21-35,0),0.03999)","v":1.5100000000000001E-2},{"$f":"MIN(OFFSET(Male!AW$18,'Male Rev'!$A21-35,0),0.03999)","v":1.6E-2},{"$f":"MIN(OFFSET(Male!AX$18,'Male Rev'!$A21-35,0),0.03999)","v":1.7100000000000001E-2},{"$f":"MIN(OFFSET(Male!AY$18,'Male Rev'!$A21-35,0),0.03999)","v":1.8200000000000001E-2},{"$f":"MIN(OFFSET(Male!AZ$18,'Male Rev'!$A21-35,0),0.03999)","v":1.9199999999999998E-2},{"$f":"MIN(OFFSET(Male!BA$18,'Male Rev'!$A21-35,0),0.03999)","v":2.0199999999999999E-2},{"$f":"MIN(OFFSET(Male!BB$18,'Male Rev'!$A21-35,0),0.03999)","v":2.1000000000000001E-2},{"$f":"MIN(OFFSET(Male!BC$18,'Male Rev'!$A21-35,0),0.03999)","v":2.1399999999999999E-2},{"$f":"MIN(OFFSET(Male!BD$18,'Male Rev'!$A21-35,0),0.03999)","v":2.1499999999999998E-2},{"$f":"MIN(OFFSET(Male!BE$18,'Male Rev'!$A21-35,0),0.03999)","v":2.1299999999999999E-2},{"$f":"MIN(OFFSET(Male!BF$18,'Male Rev'!$A21-35,0),0.03999)","v":2.07E-2},{"$f":"MIN(OFFSET(Male!BG$18,'Male Rev'!$A21-35,0),0.03999)","v":1.9699999999999999E-2},{"$f":"MIN(OFFSET(Male!BH$18,'Male Rev'!$A21-35,0),0.03999)","v":1.8599999999999998E-2},{"$f":"MIN(OFFSET(Male!BI$18,'Male Rev'!$A21-35,0),0.03999)","v":1.7299999999999999E-2},{"$f":"MIN(OFFSET(Male!BJ$18,'Male Rev'!$A21-35,0),0.03999)","v":1.6E-2},{"$f":"MIN(OFFSET(Male!BK$18,'Male Rev'!$A21-35,0),0.03999)","v":1.4800000000000001E-2},{"$f":"MIN(OFFSET(Male!BL$18,'Male Rev'!$A21-35,0),0.03999)","v":1.37E-2},{"$f":"MIN(OFFSET(Male!BM$18,'Male Rev'!$A21-35,0),0.03999)","v":1.2800000000000001E-2},{"$f":"MIN(OFFSET(Male!BN$18,'Male Rev'!$A21-35,0),0.03999)","v":1.23E-2},{"$f":"MIN(OFFSET(Male!BO$18,'Male Rev'!$A21-35,0),0.03999)","v":1.21E-2},{"$f":"MIN(OFFSET(Male!BP$18,'Male Rev'!$A21-35,0),0.03999)","v":1.18E-2},{"$f":"MIN(OFFSET(Male!BQ$18,'Male Rev'!$A21-35,0),0.03999)","v":1.14E-2},{"$f":"MIN(OFFSET(Male!BR$18,'Male Rev'!$A21-35,0),0.03999)","v":1.09E-2},{"$f":"MIN(OFFSET(Male!BS$18,'Male Rev'!$A21-35,0),0.03999)","v":1.04E-2},{"$f":"MIN(OFFSET(Male!BT$18,'Male Rev'!$A21-35,0),0.03999)","v":9.9000000000000008E-3},{"$f":"MIN(OFFSET(Male!BU$18,'Male Rev'!$A21-35,0),0.03999)","v":9.4000000000000004E-3},{"$f":"MIN(OFFSET(Male!BV$18,'Male Rev'!$A21-35,0),0.03999)","v":8.8999999999999999E-3},{"$f":"MIN(OFFSET(Male!BW$18,'Male Rev'!$A21-35,0),0.03999)","v":8.6E-3},{"$f":"MIN(OFFSET(Male!BX$18,'Male Rev'!$A21-35,0),0.03999)","v":8.3999999999999995E-3},{"$f":"MIN(OFFSET(Male!BY$18,'Male Rev'!$A21-35,0),0.03999)","v":8.3999999999999995E-3},{"$f":"MIN(OFFSET(Male!BZ$18,'Male Rev'!$A21-35,0),0.03999)","v":8.5000000000000006E-3},{"$f":"MIN(OFFSET(Male!CA$18,'Male Rev'!$A21-35,0),0.03999)","v":8.6E-3},{"$f":"MIN(OFFSET(Male!CB$18,'Male Rev'!$A21-35,0),0.03999)","v":8.8000000000000005E-3},{"$f":"MIN(OFFSET(Male!CC$18,'Male Rev'!$A21-35,0),0.03999)","v":9.1000000000000004E-3},{"$f":"MIN(OFFSET(Male!CD$18,'Male Rev'!$A21-35,0),0.03999)","v":9.4000000000000004E-3},{"$f":"MIN(OFFSET(Male!CE$18,'Male Rev'!$A21-35,0),0.03999)","v":9.5999999999999992E-3},{"$f":"MIN(OFFSET(Male!CF$18,'Male Rev'!$A21-35,0),0.03999)","v":9.7999999999999997E-3},{"$f":"MIN(OFFSET(Male!CG$18,'Male Rev'!$A21-35,0),0.03999)","v":0.01},{"$f":"MIN(OFFSET(Male!CH$18,'Male Rev'!$A21-35,0),0.03999)","v":0.01}]
[76,76,{"$f":"MIN(OFFSET(Male!B$18,'Male Rev'!$A22-35,0),0.03999)","v":8.9999999999999998E-4},{"$f":"MIN(OFFSET(Male!C$18,'Male Rev'!$A22-35,0),0.03999)","v":8.9999999999999998E-4},{"$f":"MIN(OFFSET(Male!D$18,'Male Rev'!$A22-35,0),0.03999)","v":8.0000000000000004E-4},{"$f":"MIN(OFFSET(Male!E$18,'Male Rev'!$A22-35,0),0.03999)","v":5.9999999999999995E-4},{"$f":"MIN(OFFSET(Male!F$18,'Male Rev'!$A22-35,0),0.03999)","v":4.0000000000000002E-4},{"$f":"MIN(OFFSET(Male!G$18,'Male Rev'!$A22-35,0),0.03999)","v":2.0000000000000001E-4},{"$f":"MIN(OFFSET(Male!H$18,'Male Rev'!$A22-35,0),0.03999)","v":0},{"$f":"MIN(OFFSET(Male!I$18,'Male Rev'!$A22-35,0),0.03999)","v":-1E-4},{"$f":"MIN(OFFSET(Male!J$18,'Male Rev'!$A22-35,0),0.03999)","v":-1E-4},{"$f":"MIN(OFFSET(Male!K$18,'Male Rev'!$A22-35,0),0.03999)","v":-1E-4},{"$f":"MIN(OFFSET(Male!L$18,'Male Rev'!$A22-35,0),0.03999)","v":0},{"$f":"MIN(OFFSET(Male!M$18,'Male Rev'!$A22-35,0),0.03999)","v":1E-4},{"$f":"MIN(OFFSET(Male!N$18,'Male Rev'!$A22-35,0),0.03999)","v":5.0000000000000001E-4},{"$f":"MIN(OFFSET(Male!O$18,'Male Rev'!$A22-35,0),0.03999)","v":1E-3},{"$f":"MIN(OFFSET(Male!P$18,'Male Rev'!$A22-35,0),0.03999)","v":1.6999999999999999E-3},{"$f":"MIN(OFFSET(Male!Q$18,'Male Rev'!$A22-35,0),0.03999)","v":2.5999999999999999E-3},{"$f":"MIN(OFFSET(Male!R$18,'Male Rev'!$A22-35,0),0.03999)","v":3.5000000000000001E-3},{"$f":"MIN(OFFSET(Male!S$18,'Male Rev'!$A22-35,0),0.03999)","v":4.5999999999999999E-3},{"$f":"MIN(OFFSET(Male!T$18,'Male Rev'!$A22-35,0),0.03999)","v":5.7999999999999996E-3},{"$f":"MIN(OFFSET(Male!U$18,'Male Rev'!$A22-35,0),0.03999)","v":6.8999999999999999E-3},{"$f":"MIN(OFFSET(Male!V$18,'Male Rev'!$A22-35,0),0.03999)","v":8.0000000000000002E-3},{"$f":"MIN(OFFSET(Male!W$18,'Male Rev'!$A22-35,0),0.03999)","v":9.1000000000000004E-3},{"$f":"MIN(OFFSET(Male!X$18,'Male Rev'!$A22-35,0),0.03999)","v":1.01E-2},{"$f":"MIN(OFFSET(Male!Y$18,'Male Rev'!$A22-35,0),0.03999)","v":1.0800000000000001E-2},{"$f":"MIN(OFFSET(Male!Z$18,'Male Rev'!$A22-35,0),0.03999)","v":1.1299999999999999E-2},{"$f":"MIN(OFFSET(Male!AA$18,'Male Rev'!$A22-35,0),0.03999)","v":1.1599999999999999E-2},{"$f":"MIN(OFFSET(Male!AB$18,'Male Rev'!$A22-35,0),0.03999)","v":1.1599999999999999E-2},{"$f":"MIN(OFFSET(Male!AC$18,'Male Rev'!$A22-35,0),0.03999)","v":1.15E-2},{"$f":"MIN(OFFSET(Male!AD$18,'Male Rev'!$A22-35,0),0.03999)","v":1.1299999999999999E-2},{"$f":"MIN(OFFSET(Male!AE$18,'Male Rev'!$A22-35,0),0.03999)","v":1.0999999999999999E-2},{"$f":"MIN(OFFSET(Male!AF$18,'Male Rev'!$A22-35,0),0.03999)","v":1.0800000000000001E-2},{"$f":"MIN(OFFSET(Male!AG$18,'Male Rev'!$A22-35,0),0.03999)","v":1.0699999999999999E-2},{"$f":"MIN(OFFSET(Male!AH$18,'Male Rev'!$A22-35,0),0.03999)","v":1.06E-2},{"$f":"MIN(OFFSET(Male!AI$18,'Male Rev'!$A22-35,0),0.03999)","v":1.0699999999999999E-2},{"$f":"MIN(OFFSET(Male!AJ$18,'Male Rev'!$A22-35,0),0.03999)","v":1.09E-2},{"$f":"MIN(OFFSET(Male!AK$18,'Male Rev'!$A22-35,0),0.03999)","v":1.1299999999999999E-2},{"$f":"MIN(OFFSET(Male!AL$18,'Male Rev'!$A22-35,0),0.03999)","v":1.18E-2},{"$f":"MIN(OFFSET(Male!AM$18,'Male Rev'!$A22-35,0),0.03999)","v":1.2200000000000001E-2},{"$f":"MIN(OFFSET(Male!AN$18,'Male Rev'!$A22-35,0),0.03999)","v":1.26E-2},{"$f":"MIN(OFFSET(Male!AO$18,'Male Rev'!$A22-35,0),0.03999)","v":1.29E-2},{"$f":"MIN(OFFSET(Male!AP$18,'Male Rev'!$A22-35,0),0.03999)","v":1.3100000000000001E-2},{"$f":"MIN(OFFSET(Male!AQ$18,'Male Rev'!$A22-35,0),0.03999)","v":1.32E-2},{"$f":"MIN(OFFSET(Male!AR$18,'Male Rev'!$A22-35,0),0.03999)","v":1.34E-2},{"$f":"MIN(OFFSET(Male!AS$18,'Male Rev'!$A22-35,0),0.03999)","v":1.38E-2},{"$f":"MIN(OFFSET(Male!AT$18,'Male Rev'!$A22-35,0),0.03999)","v":1.43E-2},{"$f":"MIN(OFFSET(Male!AU$18,'Male Rev'!$A22-35,0),0.03999)","v":1.49E-2},{"$f":"MIN(OFFSET(Male!AV$18,'Male Rev'!$A22-35,0),0.03999)","v":1.5699999999999999E-2},{"$f":"MIN(OFFSET(Male!AW$18,'Male Rev'!$A22-35,0),0.03999)","v":1.67E-2},{"$f":"MIN(OFFSET(Male!AX$18,'Male Rev'!$A22-35,0),0.03999)","v":1.78E-2},{"$f":"MIN(OFFSET(Male!AY$18,'Male Rev'!$A22-35,0),0.03999)","v":1.89E-2},{"$f":"MIN(OFFSET(Male!AZ$18,'Male Rev'!$A22-35,0),0.03999)","v":0.02},{"$f":"MIN(OFFSET(Male!BA$18,'Male Rev'!$A22-35,0),0.03999)","v":2.0899999999999998E-2},{"$f":"MIN(OFFSET(Male!BB$18,'Male Rev'!$A22-35,0),0.03999)","v":2.1700000000000001E-2},{"$f":"MIN(OFFSET(Male!BC$18,'Male Rev'!$A22-35,0),0.03999)","v":2.2100000000000002E-2},{"$f":"MIN(OFFSET(Male!BD$18,'Male Rev'!$A22-35,0),0.03999)","v":2.2100000000000002E-2},{"$f":"MIN(OFFSET(Male!BE$18,'Male Rev'!$A22-35,0),0.03999)","v":2.18E-2},{"$f":"MIN(OFFSET(Male!BF$18,'Male Rev'!$A22-35,0),0.03999)","v":2.1100000000000001E-2},{"$f":"MIN(OFFSET(Male!BG$18,'Male Rev'!$A22-35,0),0.03999)","v":2.01E-2},{"$f":"MIN(OFFSET(Male!BH$18,'Male Rev'!$A22-35,0),0.03999)","v":1.8800000000000001E-2},{"$f":"MIN(OFFSET(Male!BI$18,'Male Rev'!$A22-35,0),0.03999)","v":1.7399999999999999E-2},{"$f":"MIN(OFFSET(Male!BJ$18,'Male Rev'!$A22-35,0),0.03999)","v":1.6E-2},{"$f":"MIN(OFFSET(Male!BK$18,'Male Rev'!$A22-35,0),0.03999)","v":1.47E-2},{"$f":"MIN(OFFSET(Male!BL$18,'Male Rev'!$A22-35,0),0.03999)","v":1.35E-2},{"$f":"MIN(OFFSET(Male!BM$18,'Male Rev'!$A22-35,0),0.03999)","v":1.26E-2},{"$f":"MIN(OFFSET(Male!BN$18,'Male Rev'!$A22-35,0),0.03999)","v":1.2E-2},{"$f":"MIN(OFFSET(Male!BO$18,'Male Rev'!$A22-35,0),0.03999)","v":1.18E-2},{"$f":"MIN(OFFSET(Male!BP$18,'Male Rev'!$A22-35,0),0.03999)","v":1.15E-2},{"$f":"MIN(OFFSET(Male!BQ$18,'Male Rev'!$A22-35,0),0.03999)","v":1.0999999999999999E-2},{"$f":"MIN(OFFSET(Male!BR$18,'Male Rev'!$A22-35,0),0.03999)","v":1.0500000000000001E-2},{"$f":"MIN(OFFSET(Male!BS$18,'Male Rev'!$A22-35,0),0.03999)","v":0.01},{"$f":"MIN(OFFSET(Male!BT$18,'Male Rev'!$A22-35,0),0.03999)","v":9.4000000000000004E-3},{"$f":"MIN(OFFSET(Male!BU$18,'Male Rev'!$A22-35,0),0.03999)","v":8.8999999999999999E-3},{"$f":"MIN(OFFSET(Male!BV$18,'Male Rev'!$A22-35,0),0.03999)","v":8.5000000000000006E-3},{"$f":"MIN(OFFSET(Male!BW$18,'Male Rev'!$A22-35,0),0.03999)","v":8.2000000000000007E-3},{"$f":"MIN(OFFSET(Male!BX$18,'Male Rev'!$A22-35,0),0.03999)","v":8.0999999999999996E-3},{"$f":"MIN(OFFSET(Male!BY$18,'Male Rev'!$A22-35,0),0.03999)","v":8.2000000000000007E-3},{"$f":"MIN(OFFSET(Male!BZ$18,'Male Rev'!$A22-35,0),0.03999)","v":8.3000000000000001E-3},{"$f":"MIN(OFFSET(Male!CA$18,'Male Rev'!$A22-35,0),0.03999)","v":8.5000000000000006E-3},{"$f":"MIN(OFFSET(Male!CB$18,'Male Rev'!$A22-35,0),0.03999)","v":8.8000000000000005E-3},{"$f":"MIN(OFFSET(Male!CC$18,'Male Rev'!$A22-35,0),0.03999)","v":9.1000000000000004E-3},{"$f":"MIN(OFFSET(Male!CD$18,'Male Rev'!$A22-35,0),0.03999)","v":9.4000000000000004E-3},{"$f":"MIN(OFFSET(Male!CE$18,'Male Rev'!$A22-35,0),0.03999)","v":9.7000000000000003E-3},{"$f":"MIN(OFFSET(Male!CF$18,'Male Rev'!$A22-35,0),0.03999)","v":9.9000000000000008E-3},{"$f":"MIN(OFFSET(Male!CG$18,'Male Rev'!$A22-35,0),0.03999)","v":0.01},{"$f":"MIN(OFFSET(Male!CH$18,'Male Rev'!$A22-35,0),0.03999)","v":0.01}]
[75,75,{"$f":"MIN(OFFSET(Male!B$18,'Male Rev'!$A23-35,0),0.03999)","v":8.9999999999999998E-4},{"$f":"MIN(OFFSET(Male!C$18,'Male Rev'!$A23-35,0),0.03999)","v":8.9999999999999998E-4},{"$f":"MIN(OFFSET(Male!D$18,'Male Rev'!$A23-35,0),0.03999)","v":8.0000000000000004E-4},{"$f":"MIN(OFFSET(Male!E$18,'Male Rev'!$A23-35,0),0.03999)","v":5.9999999999999995E-4},{"$f":"MIN(OFFSET(Male!F$18,'Male Rev'!$A23-35,0),0.03999)","v":2.9999999999999997E-4},{"$f":"MIN(OFFSET(Male!G$18,'Male Rev'!$A23-35,0),0.03999)","v":1E-4},{"$f":"MIN(OFFSET(Male!H$18,'Male Rev'!$A23-35,0),0.03999)","v":-1E-4},{"$f":"MIN(OFFSET(Male!I$18,'Male Rev'!$A23-35,0),0.03999)","v":-2.0000000000000001E-4},{"$f":"MIN(OFFSET(Male!J$18,'Male Rev'!$A23-35,0),0.03999)","v":-2.9999999999999997E-4},{"$f":"MIN(OFFSET(Male!K$18,'Male Rev'!$A23-35,0),0.03999)","v":-2.9999999999999997E-4},{"$f":"MIN(OFFSET(Male!L$18,'Male Rev'!$A23-35,0),0.03999)","v":-2.0000000000000001E-4},{"$f":"MIN(OFFSET(Male!M$18,'Male Rev'!$A23-35,0),0.03999)","v":0},{"$f":"MIN(OFFSET(Male!N$18,'Male Rev'!$A23-35,0),0.03999)","v":4.0000000000000002E-4},{"$f":"MIN(OFFSET(Male!O$18,'Male Rev'!$A23-35,0),0.03999)","v":8.9999999999999998E-4},{"$f":"MIN(OFFSET(Male!P$18,'Male Rev'!$A23-35,0),0.03999)","v":1.6000000000000001E-3},{"$f":"MIN(OFFSET(Male!Q$18,'Male Rev'!$A23-35,0),0.03999)","v":2.5000000000000001E-3},{"$f":"MIN(OFFSET(Male!R$18,'Male Rev'!$A23-35,0),0.03999)","v":3.5000000000000001E-3},{"$f":"MIN(OFFSET(Male!S$18,'Male Rev'!$A23-35,0),0.03999)","v":4.5999999999999999E-3},{"$f":"MIN(OFFSET(Male!T$18,'Male Rev'!$A23-35,0),0.03999)","v":5.8999999999999999E-3},{"$f":"MIN(OFFSET(Male!U$18,'Male Rev'!$A23-35,0),0.03999)","v":7.1000000000000004E-3},{"$f":"MIN(OFFSET(Male!V$18,'Male Rev'!$A23-35,0),0.03999)","v":8.3000000000000001E-3},{"$f":"MIN(OFFSET(Male!W$18,'Male Rev'!$A23-35,0),0.03999)","v":9.4000000000000004E-3},{"$f":"MIN(OFFSET(Male!X$18,'Male Rev'!$A23-35,0),0.03999)","v":1.04E-2},{"$f":"MIN(OFFSET(Male!Y$18,'Male Rev'!$A23-35,0),0.03999)","v":1.12E-2},{"$f":"MIN(OFFSET(Male!Z$18,'Male Rev'!$A23-35,0),0.03999)","v":1.18E-2},{"$f":"MIN(OFFSET(Male!AA$18,'Male Rev'!$A23-35,0),0.03999)","v":1.2E-2},{"$f":"MIN(OFFSET(Male!AB$18,'Male Rev'!$A23-35,0),0.03999)","v":1.21E-2},{"$f":"MIN(OFFSET(Male!AC$18,'Male Rev'!$A23-35,0),0.03999)","v":1.2E-2},{"$f":"MIN(OFFSET(Male!AD$18,'Male Rev'!$A23-35,0),0.03999)","v":1.18E-2},{"$f":"MIN(OFFSET(Male!AE$18,'Male Rev'!$A23-35,0),0.03999)","v":1.1599999999999999E-2},{"$f":"MIN(OFFSET(Male!AF$18,'Male Rev'!$A23-35,0),0.03999)","v":1.14E-2},{"$f":"MIN(OFFSET(Male!AG$18,'Male Rev'!$A23-35,0),0.03999)","v":1.12E-2},{"$f":"MIN(OFFSET(Male!AH$18,'Male Rev'!$A23-35,0),0.03999)","v":1.11E-2},{"$f":"MIN(OFFSET(Male!AI$18,'Male Rev'!$A23-35,0),0.03999)","v":1.1299999999999999E-2},{"$f":"MIN(OFFSET(Male!AJ$18,'Male Rev'!$A23-35,0),0.03999)","v":1.15E-2},{"$f":"MIN(OFFSET(Male!AK$18,'Male Rev'!$A23-35,0),0.03999)","v":1.1900000000000001E-2},{"$f":"MIN(OFFSET(Male!AL$18,'Male Rev'!$A23-35,0),0.03999)","v":1.24E-2},{"$f":"MIN(OFFSET(Male!AM$18,'Male Rev'!$A23-35,0),0.03999)","v":1.29E-2},{"$f":"MIN(OFFSET(Male!AN$18,'Male Rev'!$A23-35,0),0.03999)","v":1.3299999999999999E-2},{"$f":"MIN(OFFSET(Male!AO$18,'Male Rev'!$A23-35,0),0.03999)","v":1.35E-2},{"$f":"MIN(OFFSET(Male!AP$18,'Male Rev'!$A23-35,0),0.03999)","v":1.37E-2},{"$f":"MIN(OFFSET(Male!AQ$18,'Male Rev'!$A23-35,0),0.03999)","v":1.38E-2},{"$f":"MIN(OFFSET(Male!AR$18,'Male Rev'!$A23-35,0),0.03999)","v":1.4E-2},{"$f":"MIN(OFFSET(Male!AS$18,'Male Rev'!$A23-35,0),0.03999)","v":1.44E-2},{"$f":"MIN(OFFSET(Male!AT$18,'Male Rev'!$A23-35,0),0.03999)","v":1.49E-2},{"$f":"MIN(OFFSET(Male!AU$18,'Male Rev'!$A23-35,0),0.03999)","v":1.55E-2},{"$f":"MIN(OFFSET(Male!AV$18,'Male Rev'!$A23-35,0),0.03999)","v":1.6400000000000001E-2},{"$f":"MIN(OFFSET(Male!AW$18,'Male Rev'!$A23-35,0),0.03999)","v":1.7299999999999999E-2},{"$f":"MIN(OFFSET(Male!AX$18,'Male Rev'!$A23-35,0),0.03999)","v":1.84E-2},{"$f":"MIN(OFFSET(Male!AY$18,'Male Rev'!$A23-35,0),0.03999)","v":1.95E-2},{"$f":"MIN(OFFSET(Male!AZ$18,'Male Rev'!$A23-35,0),0.03999)","v":2.06E-2},{"$f":"MIN(OFFSET(Male!BA$18,'Male Rev'!$A23-35,0),0.03999)","v":2.1600000000000001E-2},{"$f":"MIN(OFFSET(Male!BB$18,'Male Rev'!$A23-35,0),0.03999)","v":2.23E-2},{"$f":"MIN(OFFSET(Male!BC$18,'Male Rev'!$A23-35,0),0.03999)","v":2.2700000000000001E-2},{"$f":"MIN(OFFSET(Male!BD$18,'Male Rev'!$A23-35,0),0.03999)","v":2.2599999999999999E-2},{"$f":"MIN(OFFSET(Male!BE$18,'Male Rev'!$A23-35,0),0.03999)","v":2.2200000000000001E-2},{"$f":"MIN(OFFSET(Male!BF$18,'Male Rev'!$A23-35,0),0.03999)","v":2.1399999999999999E-2},{"$f":"MIN(OFFSET(Male!BG$18,'Male Rev'!$A23-35,0),0.03999)","v":2.0299999999999999E-2},{"$f":"MIN(OFFSET(Male!BH$18,'Male Rev'!$A23-35,0),0.03999)","v":1.9E-2},{"$f":"MIN(OFFSET(Male!BI$18,'Male Rev'!$A23-35,0),0.03999)","v":1.7500000000000002E-2},{"$f":"MIN(OFFSET(Male!BJ$18,'Male Rev'!$A23-35,0),0.03999)","v":1.5900000000000001E-2},{"$f":"MIN(OFFSET(Male!BK$18,'Male Rev'!$A23-35,0),0.03999)","v":1.4500000000000001E-2},{"$f":"MIN(OFFSET(Male!BL$18,'Male Rev'!$A23-35,0),0.03999)","v":1.3299999999999999E-2},{"$f":"MIN(OFFSET(Male!BM$18,'Male Rev'!$A23-35,0),0.03999)","v":1.23E-2},{"$f":"MIN(OFFSET(Male!BN$18,'Male Rev'!$A23-35,0),0.03999)","v":1.17E-2},{"$f":"MIN(OFFSET(Male!BO$18,'Male Rev'!$A23-35,0),0.03999)","v":1.14E-2},{"$f":"MIN(OFFSET(Male!BP$18,'Male Rev'!$A23-35,0),0.03999)","v":1.0999999999999999E-2},{"$f":"MIN(OFFSET(Male!BQ$18,'Male Rev'!$A23-35,0),0.03999)","v":1.0500000000000001E-2},{"$f":"MIN(OFFSET(Male!BR$18,'Male Rev'!$A23-35,0),0.03999)","v":0.01},{"$f":"MIN(OFFSET(Male!BS$18,'Male Rev'!$A23-35,0),0.03999)","v":9.4999999999999998E-3},{"$f":"MIN(OFFSET(Male!BT$18,'Male Rev'!$A23-35,0),0.03999)","v":8.8999999999999999E-3},{"$f":"MIN(OFFSET(Male!BU$18,'Male Rev'!$A23-35,0),0.03999)","v":8.5000000000000006E-3},{"$f":"MIN(OFFSET(Male!BV$18,'Male Rev'!$A23-35,0),0.03999)","v":8.0999999999999996E-3},{"$f":"MIN(OFFSET(Male!BW$18,'Male Rev'!$A23-35,0),0.03999)","v":7.9000000000000008E-3},{"$f":"MIN(OFFSET(Male!BX$18,'Male Rev'!$A23-35,0),0.03999)","v":7.7999999999999996E-3},{"$f":"MIN(OFFSET(Male!BY$18,'Male Rev'!$A23-35,0),0.03999)","v":7.9000000000000008E-3},{"$f":"MIN(OFFSET(Male!BZ$18,'Male Rev'!$A23-35,0),0.03999)","v":8.0999999999999996E-3},{"$f":"MIN(OFFSET(Male!CA$18,'Male Rev'!$A23-35,0),0.03999)","v":8.3999999999999995E-3},{"$f":"MIN(OFFSET(Male!CB$18,'Male Rev'!$A23-35,0),0.03999)","v":8.6999999999999994E-3},{"$f":"MIN(OFFSET(Male!CC$18,'Male Rev'!$A23-35,0),0.03999)","v":9.1000000000000004E-3},{"$f":"MIN(OFFSET(Male!CD$18,'Male Rev'!$A23-35,0),0.03999)","v":9.4000000000000004E-3},{"$f":"MIN(OFFSET(Male!CE$18,'Male Rev'!$A23-35,0),0.03999)","v":9.7000000000000003E-3},{"$f":"MIN(OFFSET(Male!CF$18,'Male Rev'!$A23-35,0),0.03999)","v":9.9000000000000008E-3},{"$f":"MIN(OFFSET(Male!CG$18,'Male Rev'!$A23-35,0),0.03999)","v":0.01},{"$f":"MIN(OFFSET(Male!CH$18,'Male Rev'!$A23-35,0),0.03999)","v":0.01}]
[74,74,{"$f":"MIN(OFFSET(Male!B$18,'Male Rev'!$A24-35,0),0.03999)","v":8.9999999999999998E-4},{"$f":"MIN(OFFSET(Male!C$18,'Male Rev'!$A24-35,0),0.03999)","v":8.9999999999999998E-4},{"$f":"MIN(OFFSET(Male!D$18,'Male Rev'!$A24-35,0),0.03999)","v":8.0000000000000004E-4},{"$f":"MIN(OFFSET(Male!E$18,'Male Rev'!$A24-35,0),0.03999)","v":5.0000000000000001E-4},{"$f":"MIN(OFFSET(Male!F$18,'Male Rev'!$A24-35,0),0.03999)","v":2.9999999999999997E-4},{"$f":"MIN(OFFSET(Male!G$18,'Male Rev'!$A24-35,0),0.03999)","v":0},{"$f":"MIN(OFFSET(Male!H$18,'Male Rev'!$A24-35,0),0.03999)","v":-2.0000000000000001E-4},{"$f":"MIN(OFFSET(Male!I$18,'Male Rev'!$A24-35,0),0.03999)","v":-4.0000000000000002E-4},{"$f":"MIN(OFFSET(Male!J$18,'Male Rev'!$A24-35,0),0.03999)","v":-4.0000000000000002E-4},{"$f":"MIN(OFFSET(Male!K$18,'Male Rev'!$A24-35,0),0.03999)","v":-4.0000000000000002E-4},{"$f":"MIN(OFFSET(Male!L$18,'Male Rev'!$A24-35,0),0.03999)","v":-2.9999999999999997E-4},{"$f":"MIN(OFFSET(Male!M$18,'Male Rev'!$A24-35,0),0.03999)","v":-1E-4},{"$f":"MIN(OFFSET(Male!N$18,'Male Rev'!$A24-35,0),0.03999)","v":2.0000000000000001E-4},{"$f":"MIN(OFFSET(Male!O$18,'Male Rev'!$A24-35,0),0.03999)","v":8.0000000000000004E-4},{"$f":"MIN(OFFSET(Male!P$18,'Male Rev'!$A24-35,0),0.03999)","v":1.5E-3},{"$f":"MIN(OFFSET(Male!Q$18,'Male Rev'!$A24-35,0),0.03999)","v":2.3999999999999998E-3},{"$f":"MIN(OFFSET(Male!R$18,'Male Rev'!$A24-35,0),0.03999)","v":3.5000000000000001E-3},{"$f":"MIN(OFFSET(Male!S$18,'Male Rev'!$A24-35,0),0.03999)","v":4.7000000000000002E-3},{"$f":"MIN(OFFSET(Male!T$18,'Male Rev'!$A24-35,0),0.03999)","v":6.0000000000000001E-3},{"$f":"MIN(OFFSET(Male!U$18,'Male Rev'!$A24-35,0),0.03999)","v":7.3000000000000001E-3},{"$f":"MIN(OFFSET(Male!V$18,'Male Rev'!$A24-35,0),0.03999)","v":8.5000000000000006E-3},{"$f":"MIN(OFFSET(Male!W$18,'Male Rev'!$A24-35,0),0.03999)","v":9.7000000000000003E-3},{"$f":"MIN(OFFSET(Male!X$18,'Male Rev'!$A24-35,0),0.03999)","v":1.0800000000000001E-2},{"$f":"MIN(OFFSET(Male!Y$18,'Male Rev'!$A24-35,0),0.03999)","v":1.17E-2},{"$f":"MIN(OFFSET(Male!Z$18,'Male Rev'!$A24-35,0),0.03999)","v":1.2200000000000001E-2},{"$f":"MIN(OFFSET(Male!AA$18,'Male Rev'!$A24-35,0),0.03999)","v":1.2500000000000001E-2},{"$f":"MIN(OFFSET(Male!AB$18,'Male Rev'!$A24-35,0),0.03999)","v":1.26E-2},{"$f":"MIN(OFFSET(Male!AC$18,'Male Rev'!$A24-35,0),0.03999)","v":1.26E-2},{"$f":"MIN(OFFSET(Male!AD$18,'Male Rev'!$A24-35,0),0.03999)","v":1.24E-2},{"$f":"MIN(OFFSET(Male!AE$18,'Male Rev'!$A24-35,0),0.03999)","v":1.21E-2},{"$f":"MIN(OFFSET(Male!AF$18,'Male Rev'!$A24-35,0),0.03999)","v":1.1900000000000001E-2},{"$f":"MIN(OFFSET(Male!AG$18,'Male Rev'!$A24-35,0),0.03999)","v":1.18E-2},{"$f":"MIN(OFFSET(Male!AH$18,'Male Rev'!$A24-35,0),0.03999)","v":1.17E-2},{"$f":"MIN(OFFSET(Male!AI$18,'Male Rev'!$A24-35,0),0.03999)","v":1.18E-2},{"$f":"MIN(OFFSET(Male!AJ$18,'Male Rev'!$A24-35,0),0.03999)","v":1.21E-2},{"$f":"MIN(OFFSET(Male!AK$18,'Male Rev'!$A24-35,0),0.03999)","v":1.2500000000000001E-2},{"$f":"MIN(OFFSET(Male!AL$18,'Male Rev'!$A24-35,0),0.03999)","v":1.2999999999999999E-2},{"$f":"MIN(OFFSET(Male!AM$18,'Male Rev'!$A24-35,0),0.03999)","v":1.35E-2},{"$f":"MIN(OFFSET(Male!AN$18,'Male Rev'!$A24-35,0),0.03999)","v":1.38E-2},{"$f":"MIN(OFFSET(Male!AO$18,'Male Rev'!$A24-35,0),0.03999)","v":1.41E-2},{"$f":"MIN(OFFSET(Male!AP$18,'Male Rev'!$A24-35,0),0.03999)","v":1.43E-2},{"$f":"MIN(OFFSET(Male!AQ$18,'Male Rev'!$A24-35,0),0.03999)","v":1.44E-2},{"$f":"MIN(OFFSET(Male!AR$18,'Male Rev'!$A24-35,0),0.03999)","v":1.46E-2},{"$f":"MIN(OFFSET(Male!AS$18,'Male Rev'!$A24-35,0),0.03999)","v":1.49E-2},{"$f":"MIN(OFFSET(Male!AT$18,'Male Rev'!$A24-35,0),0.03999)","v":1.54E-2},{"$f":"MIN(OFFSET(Male!AU$18,'Male Rev'!$A24-35,0),0.03999)","v":1.61E-2},{"$f":"MIN(OFFSET(Male!AV$18,'Male Rev'!$A24-35,0),0.03999)","v":1.6899999999999998E-2},{"$f":"MIN(OFFSET(Male!AW$18,'Male Rev'!$A24-35,0),0.03999)","v":1.7899999999999999E-2},{"$f":"MIN(OFFSET(Male!AX$18,'Male Rev'!$A24-35,0),0.03999)","v":1.9E-2},{"$f":"MIN(OFFSET(Male!AY$18,'Male Rev'!$A24-35,0),0.03999)","v":2.0199999999999999E-2},{"$f":"MIN(OFFSET(Male!AZ$18,'Male Rev'!$A24-35,0),0.03999)","v":2.1299999999999999E-2},{"$f":"MIN(OFFSET(Male!BA$18,'Male Rev'!$A24-35,0),0.03999)","v":2.2200000000000001E-2},{"$f":"MIN(OFFSET(Male!BB$18,'Male Rev'!$A24-35,0),0.03999)","v":2.29E-2},{"$f":"MIN(OFFSET(Male!BC$18,'Male Rev'!$A24-35,0),0.03999)","v":2.3199999999999998E-2},{"$f":"MIN(OFFSET(Male!BD$18,'Male Rev'!$A24-35,0),0.03999)","v":2.3E-2},{"$f":"MIN(OFFSET(Male!BE$18,'Male Rev'!$A24-35,0),0.03999)","v":2.2499999999999999E-2},{"$f":"MIN(OFFSET(Male!BF$18,'Male Rev'!$A24-35,0),0.03999)","v":2.1600000000000001E-2},{"$f":"MIN(OFFSET(Male!BG$18,'Male Rev'!$A24-35,0),0.03999)","v":2.0400000000000001E-2},{"$f":"MIN(OFFSET(Male!BH$18,'Male Rev'!$A24-35,0),0.03999)","v":1.9E-2},{"$f":"MIN(OFFSET(Male!BI$18,'Male Rev'!$A24-35,0),0.03999)","v":1.7299999999999999E-2},{"$f":"MIN(OFFSET(Male!BJ$18,'Male Rev'!$A24-35,0),0.03999)","v":1.5699999999999999E-2},{"$f":"MIN(OFFSET(Male!BK$18,'Male Rev'!$A24-35,0),0.03999)","v":1.4200000000000001E-2},{"$f":"MIN(OFFSET(Male!BL$18,'Male Rev'!$A24-35,0),0.03999)","v":1.29E-2},{"$f":"MIN(OFFSET(Male!BM$18,'Male Rev'!$A24-35,0),0.03999)","v":1.1900000000000001E-2},{"$f":"MIN(OFFSET(Male!BN$18,'Male Rev'!$A24-35,0),0.03999)","v":1.12E-2},{"$f":"MIN(OFFSET(Male!BO$18,'Male Rev'!$A24-35,0),0.03999)","v":1.09E-2},{"$f":"MIN(OFFSET(Male!BP$18,'Male Rev'!$A24-35,0),0.03999)","v":1.04E-2},{"$f":"MIN(OFFSET(Male!BQ$18,'Male Rev'!$A24-35,0),0.03999)","v":9.9000000000000008E-3},{"$f":"MIN(OFFSET(Male!BR$18,'Male Rev'!$A24-35,0),0.03999)","v":9.4000000000000004E-3},{"$f":"MIN(OFFSET(Male!BS$18,'Male Rev'!$A24-35,0),0.03999)","v":8.8000000000000005E-3},{"$f":"MIN(OFFSET(Male!BT$18,'Male Rev'!$A24-35,0),0.03999)","v":8.3000000000000001E-3},{"$f":"MIN(OFFSET(Male!BU$18,'Male Rev'!$A24-35,0),0.03999)","v":7.9000000000000008E-3},{"$f":"MIN(OFFSET(Male!BV$18,'Male Rev'!$A24-35,0),0.03999)","v":7.7000000000000002E-3},{"$f":"MIN(OFFSET(Male!BW$18,'Male Rev'!$A24-35,0),0.03999)","v":7.4999999999999997E-3},{"$f":"MIN(OFFSET(Male!BX$18,'Male Rev'!$A24-35,0),0.03999)","v":7.4999999999999997E-3},{"$f":"MIN(OFFSET(Male!BY$18,'Male Rev'!$A24-35,0),0.03999)","v":7.7000000000000002E-3},{"$f":"MIN(OFFSET(Male!BZ$18,'Male Rev'!$A24-35,0),0.03999)","v":8.0000000000000002E-3},{"$f":"MIN(OFFSET(Male!CA$18,'Male Rev'!$A24-35,0),0.03999)","v":8.3999999999999995E-3},{"$f":"MIN(OFFSET(Male!CB$18,'Male Rev'!$A24-35,0),0.03999)","v":8.6999999999999994E-3},{"$f":"MIN(OFFSET(Male!CC$18,'Male Rev'!$A24-35,0),0.03999)","v":9.1000000000000004E-3},{"$f":"MIN(OFFSET(Male!CD$18,'Male Rev'!$A24-35,0),0.03999)","v":9.4999999999999998E-3},{"$f":"MIN(OFFSET(Male!CE$18,'Male Rev'!$A24-35,0),0.03999)","v":9.7000000000000003E-3},{"$f":"MIN(OFFSET(Male!CF$18,'Male Rev'!$A24-35,0),0.03999)","v":9.9000000000000008E-3},{"$f":"MIN(OFFSET(Male!CG$18,'Male Rev'!$A24-35,0),0.03999)","v":0.01},{"$f":"MIN(OFFSET(Male!CH$18,'Male Rev'!$A24-35,0),0.03999)","v":0.01}]
[73,73,{"$f":"MIN(OFFSET(Male!B$18,'Male Rev'!$A25-35,0),0.03999)","v":8.9999999999999998E-4},{"$f":"MIN(OFFSET(Male!C$18,'Male Rev'!$A25-35,0),0.03999)","v":8.9999999999999998E-4},{"$f":"MIN(OFFSET(Male!D$18,'Male Rev'!$A25-35,0),0.03999)","v":6.9999999999999999E-4},{"$f":"MIN(OFFSET(Male!E$18,'Male Rev'!$A25-35,0),0.03999)","v":5.0000000000000001E-4},{"$f":"MIN(OFFSET(Male!F$18,'Male Rev'!$A25-35,0),0.03999)","v":2.0000000000000001E-4},{"$f":"MIN(OFFSET(Male!G$18,'Male Rev'!$A25-35,0),0.03999)","v":-1E-4},{"$f":"MIN(OFFSET(Male!H$18,'Male Rev'!$A25-35,0),0.03999)","v":-4.0000000000000002E-4},{"$f":"MIN(OFFSET(Male!I$18,'Male Rev'!$A25-35,0),0.03999)","v":-5.0000000000000001E-4},{"$f":"MIN(OFFSET(Male!J$18,'Male Rev'!$A25-35,0),0.03999)","v":-5.9999999999999995E-4},{"$f":"MIN(OFFSET(Male!K$18,'Male Rev'!$A25-35,0),0.03999)","v":-5.9999999999999995E-4},{"$f":"MIN(OFFSET(Male!L$18,'Male Rev'!$A25-35,0),0.03999)","v":-5.0000000000000001E-4},{"$f":"MIN(OFFSET(Male!M$18,'Male Rev'!$A25-35,0),0.03999)","v":-2.9999999999999997E-4},{"$f":"MIN(OFFSET(Male!N$18,'Male Rev'!$A25-35,0),0.03999)","v":1E-4},{"$f":"MIN(OFFSET(Male!O$18,'Male Rev'!$A25-35,0),0.03999)","v":6.9999999999999999E-4},{"$f":"MIN(OFFSET(Male!P$18,'Male Rev'!$A25-35,0),0.03999)","v":1.5E-3},{"$f":"MIN(OFFSET(Male!Q$18,'Male Rev'!$A25-35,0),0.03999)","v":2.3999999999999998E-3},{"$f":"MIN(OFFSET(Male!R$18,'Male Rev'!$A25-35,0),0.03999)","v":3.5000000000000001E-3},{"$f":"MIN(OFFSET(Male!S$18,'Male Rev'!$A25-35,0),0.03999)","v":4.7000000000000002E-3},{"$f":"MIN(OFFSET(Male!T$18,'Male Rev'!$A25-35,0),0.03999)","v":6.1000000000000004E-3},{"$f":"MIN(OFFSET(Male!U$18,'Male Rev'!$A25-35,0),0.03999)","v":7.4999999999999997E-3},{"$f":"MIN(OFFSET(Male!V$18,'Male Rev'!$A25-35,0),0.03999)","v":8.8000000000000005E-3},{"$f":"MIN(OFFSET(Male!W$18,'Male Rev'!$A25-35,0),0.03999)","v":0.01},{"$f":"MIN(OFFSET(Male!X$18,'Male Rev'!$A25-35,0),0.03999)","v":1.12E-2},{"$f":"MIN(OFFSET(Male!Y$18,'Male Rev'!$A25-35,0),0.03999)","v":1.21E-2},{"$f":"MIN(OFFSET(Male!Z$18,'Male Rev'!$A25-35,0),0.03999)","v":1.2699999999999999E-2},{"$f":"MIN(OFFSET(Male!AA$18,'Male Rev'!$A25-35,0),0.03999)","v":1.3100000000000001E-2},{"$f":"MIN(OFFSET(Male!AB$18,'Male Rev'!$A25-35,0),0.03999)","v":1.32E-2},{"$f":"MIN(OFFSET(Male!AC$18,'Male Rev'!$A25-35,0),0.03999)","v":1.3100000000000001E-2},{"$f":"MIN(OFFSET(Male!AD$18,'Male Rev'!$A25-35,0),0.03999)","v":1.29E-2},{"$f":"MIN(OFFSET(Male!AE$18,'Male Rev'!$A25-35,0),0.03999)","v":1.2699999999999999E-2},{"$f":"MIN(OFFSET(Male!AF$18,'Male Rev'!$A25-35,0),0.03999)","v":1.2500000000000001E-2},{"$f":"MIN(OFFSET(Male!AG$18,'Male Rev'!$A25-35,0),0.03999)","v":1.24E-2},{"$f":"MIN(OFFSET(Male!AH$18,'Male Rev'!$A25-35,0),0.03999)","v":1.23E-2},{"$f":"MIN(OFFSET(Male!AI$18,'Male Rev'!$A25-35,0),0.03999)","v":1.24E-2},{"$f":"MIN(OFFSET(Male!AJ$18,'Male Rev'!$A25-35,0),0.03999)","v":1.2699999999999999E-2},{"$f":"MIN(OFFSET(Male!AK$18,'Male Rev'!$A25-35,0),0.03999)","v":1.3100000000000001E-2},{"$f":"MIN(OFFSET(Male!AL$18,'Male Rev'!$A25-35,0),0.03999)","v":1.3599999999999999E-2},{"$f":"MIN(OFFSET(Male!AM$18,'Male Rev'!$A25-35,0),0.03999)","v":1.4E-2},{"$f":"MIN(OFFSET(Male!AN$18,'Male Rev'!$A25-35,0),0.03999)","v":1.44E-2},{"$f":"MIN(OFFSET(Male!AO$18,'Male Rev'!$A25-35,0),0.03999)","v":1.46E-2},{"$f":"MIN(OFFSET(Male!AP$18,'Male Rev'!$A25-35,0),0.03999)","v":1.4800000000000001E-2},{"$f":"MIN(OFFSET(Male!AQ$18,'Male Rev'!$A25-35,0),0.03999)","v":1.49E-2},{"$f":"MIN(OFFSET(Male!AR$18,'Male Rev'!$A25-35,0),0.03999)","v":1.5100000000000001E-2},{"$f":"MIN(OFFSET(Male!AS$18,'Male Rev'!$A25-35,0),0.03999)","v":1.54E-2},{"$f":"MIN(OFFSET(Male!AT$18,'Male Rev'!$A25-35,0),0.03999)","v":1.5900000000000001E-2},{"$f":"MIN(OFFSET(Male!AU$18,'Male Rev'!$A25-35,0),0.03999)","v":1.66E-2},{"$f":"MIN(OFFSET(Male!AV$18,'Male Rev'!$A25-35,0),0.03999)","v":1.7500000000000002E-2},{"$f":"MIN(OFFSET(Male!AW$18,'Male Rev'!$A25-35,0),0.03999)","v":1.8499999999999999E-2},{"$f":"MIN(OFFSET(Male!AX$18,'Male Rev'!$A25-35,0),0.03999)","v":1.9599999999999999E-2},{"$f":"MIN(OFFSET(Male!AY$18,'Male Rev'!$A25-35,0),0.03999)","v":2.0799999999999999E-2},{"$f":"MIN(OFFSET(Male!AZ$18,'Male Rev'!$A25-35,0),0.03999)","v":2.18E-2},{"$f":"MIN(OFFSET(Male!BA$18,'Male Rev'!$A25-35,0),0.03999)","v":2.2700000000000001E-2},{"$f":"MIN(OFFSET(Male!BB$18,'Male Rev'!$A25-35,0),0.03999)","v":2.3300000000000001E-2},{"$f":"MIN(OFFSET(Male!BC$18,'Male Rev'!$A25-35,0),0.03999)","v":2.35E-2},{"$f":"MIN(OFFSET(Male!BD$18,'Male Rev'!$A25-35,0),0.03999)","v":2.3300000000000001E-2},{"$f":"MIN(OFFSET(Male!BE$18,'Male Rev'!$A25-35,0),0.03999)","v":2.2700000000000001E-2},{"$f":"MIN(OFFSET(Male!BF$18,'Male Rev'!$A25-35,0),0.03999)","v":2.1700000000000001E-2},{"$f":"MIN(OFFSET(Male!BG$18,'Male Rev'!$A25-35,0),0.03999)","v":2.0400000000000001E-2},{"$f":"MIN(OFFSET(Male!BH$18,'Male Rev'!$A25-35,0),0.03999)","v":1.8800000000000001E-2},{"$f":"MIN(OFFSET(Male!BI$18,'Male Rev'!$A25-35,0),0.03999)","v":1.7100000000000001E-2},{"$f":"MIN(OFFSET(Male!BJ$18,'Male Rev'!$A25-35,0),0.03999)","v":1.54E-2},{"$f":"MIN(OFFSET(Male!BK$18,'Male Rev'!$A25-35,0),0.03999)","v":1.38E-2},{"$f":"MIN(OFFSET(Male!BL$18,'Male Rev'!$A25-35,0),0.03999)","v":1.24E-2},{"$f":"MIN(OFFSET(Male!BM$18,'Male Rev'!$A25-35,0),0.03999)","v":1.1299999999999999E-2},{"$f":"MIN(OFFSET(Male!BN$18,'Male Rev'!$A25-35,0),0.03999)","v":1.06E-2},{"$f":"MIN(OFFSET(Male!BO$18,'Male Rev'!$A25-35,0),0.03999)","v":1.0200000000000001E-2},{"$f":"MIN(OFFSET(Male!BP$18,'Male Rev'!$A25-35,0),0.03999)","v":9.7000000000000003E-3},{"$f":"MIN(OFFSET(Male!BQ$18,'Male Rev'!$A25-35,0),0.03999)","v":9.1999999999999998E-3},{"$f":"MIN(OFFSET(Male!BR$18,'Male Rev'!$A25-35,0),0.03999)","v":8.6999999999999994E-3},{"$f":"MIN(OFFSET(Male!BS$18,'Male Rev'!$A25-35,0),0.03999)","v":8.2000000000000007E-3},{"$f":"MIN(OFFSET(Male!BT$18,'Male Rev'!$A25-35,0),0.03999)","v":7.7000000000000002E-3},{"$f":"MIN(OFFSET(Male!BU$18,'Male Rev'!$A25-35,0),0.03999)","v":7.4000000000000003E-3},{"$f":"MIN(OFFSET(Male!BV$18,'Male Rev'!$A25-35,0),0.03999)","v":7.1999999999999998E-3},{"$f":"MIN(OFFSET(Male!BW$18,'Male Rev'!$A25-35,0),0.03999)","v":7.1999999999999998E-3},{"$f":"MIN(OFFSET(Male!BX$18,'Male Rev'!$A25-35,0),0.03999)","v":7.3000000000000001E-3},{"$f":"MIN(OFFSET(Male!BY$18,'Male Rev'!$A25-35,0),0.03999)","v":7.6E-3},{"$f":"MIN(OFFSET(Male!BZ$18,'Male Rev'!$A25-35,0),0.03999)","v":7.9000000000000008E-3},{"$f":"MIN(OFFSET(Male!CA$18,'Male Rev'!$A25-35,0),0.03999)","v":8.3999999999999995E-3},{"$f":"MIN(OFFSET(Male!CB$18,'Male Rev'!$A25-35,0),0.03999)","v":8.8000000000000005E-3},{"$f":"MIN(OFFSET(Male!CC$18,'Male Rev'!$A25-35,0),0.03999)","v":9.1999999999999998E-3},{"$f":"MIN(OFFSET(Male!CD$18,'Male Rev'!$A25-35,0),0.03999)","v":9.4999999999999998E-3},{"$f":"MIN(OFFSET(Male!CE$18,'Male Rev'!$A25-35,0),0.03999)","v":9.7000000000000003E-3},{"$f":"MIN(OFFSET(Male!CF$18,'Male Rev'!$A25-35,0),0.03999)","v":9.9000000000000008E-3},{"$f":"MIN(OFFSET(Male!CG$18,'Male Rev'!$A25-35,0),0.03999)","v":0.01},{"$f":"MIN(OFFSET(Male!CH$18,'Male Rev'!$A25-35,0),0.03999)","v":0.01}]
[72,72,{"$f":"MIN(OFFSET(Male!B$18,'Male Rev'!$A26-35,0),0.03999)","v":8.9999999999999998E-4},{"$f":"MIN(OFFSET(Male!C$18,'Male Rev'!$A26-35,0),0.03999)","v":8.9999999999999998E-4},{"$f":"MIN(OFFSET(Male!D$18,'Male Rev'!$A26-35,0),0.03999)","v":6.9999999999999999E-4},{"$f":"MIN(OFFSET(Male!E$18,'Male Rev'!$A26-35,0),0.03999)","v":5.0000000000000001E-4},{"$f":"MIN(OFFSET(Male!F$18,'Male Rev'!$A26-35,0),0.03999)","v":1E-4},{"$f":"MIN(OFFSET(Male!G$18,'Male Rev'!$A26-35,0),0.03999)","v":-2.0000000000000001E-4},{"$f":"MIN(OFFSET(Male!H$18,'Male Rev'!$A26-35,0),0.03999)","v":-5.0000000000000001E-4},{"$f":"MIN(OFFSET(Male!I$18,'Male Rev'!$A26-35,0),0.03999)","v":-5.9999999999999995E-4},{"$f":"MIN(OFFSET(Male!J$18,'Male Rev'!$A26-35,0),0.03999)","v":-6.9999999999999999E-4},{"$f":"MIN(OFFSET(Male!K$18,'Male Rev'!$A26-35,0),0.03999)","v":-6.9999999999999999E-4},{"$f":"MIN(OFFSET(Male!L$18,'Male Rev'!$A26-35,0),0.03999)","v":-5.9999999999999995E-4},{"$f":"MIN(OFFSET(Male!M$18,'Male Rev'!$A26-35,0),0.03999)","v":-4.0000000000000002E-4},{"$f":"MIN(OFFSET(Male!N$18,'Male Rev'!$A26-35,0),0.03999)","v":0},{"$f":"MIN(OFFSET(Male!O$18,'Male Rev'!$A26-35,0),0.03999)","v":6.9999999999999999E-4},{"$f":"MIN(OFFSET(Male!P$18,'Male Rev'!$A26-35,0),0.03999)","v":1.4E-3},{"$f":"MIN(OFFSET(Male!Q$18,'Male Rev'!$A26-35,0),0.03999)","v":2.3999999999999998E-3},{"$f":"MIN(OFFSET(Male!R$18,'Male Rev'!$A26-35,0),0.03999)","v":3.5000000000000001E-3},{"$f":"MIN(OFFSET(Male!S$18,'Male Rev'!$A26-35,0),0.03999)","v":4.8999999999999998E-3},{"$f":"MIN(OFFSET(Male!T$18,'Male Rev'!$A26-35,0),0.03999)","v":6.3E-3},{"$f":"MIN(OFFSET(Male!U$18,'Male Rev'!$A26-35,0),0.03999)","v":7.7000000000000002E-3},{"$f":"MIN(OFFSET(Male!V$18,'Male Rev'!$A26-35,0),0.03999)","v":9.1000000000000004E-3},{"$f":"MIN(OFFSET(Male!W$18,'Male Rev'!$A26-35,0),0.03999)","v":1.04E-2},{"$f":"MIN(OFFSET(Male!X$18,'Male Rev'!$A26-35,0),0.03999)","v":1.1599999999999999E-2},{"$f":"MIN(OFFSET(Male!Y$18,'Male Rev'!$A26-35,0),0.03999)","v":1.26E-2},{"$f":"MIN(OFFSET(Male!Z$18,'Male Rev'!$A26-35,0),0.03999)","v":1.3299999999999999E-2},{"$f":"MIN(OFFSET(Male!AA$18,'Male Rev'!$A26-35,0),0.03999)","v":1.3599999999999999E-2},{"$f":"MIN(OFFSET(Male!AB$18,'Male Rev'!$A26-35,0),0.03999)","v":1.38E-2},{"$f":"MIN(OFFSET(Male!AC$18,'Male Rev'!$A26-35,0),0.03999)","v":1.37E-2},{"$f":"MIN(OFFSET(Male!AD$18,'Male Rev'!$A26-35,0),0.03999)","v":1.35E-2},{"$f":"MIN(OFFSET(Male!AE$18,'Male Rev'!$A26-35,0),0.03999)","v":1.3299999999999999E-2},{"$f":"MIN(OFFSET(Male!AF$18,'Male Rev'!$A26-35,0),0.03999)","v":1.3100000000000001E-2},{"$f":"MIN(OFFSET(Male!AG$18,'Male Rev'!$A26-35,0),0.03999)","v":1.2999999999999999E-2},{"$f":"MIN(OFFSET(Male!AH$18,'Male Rev'!$A26-35,0),0.03999)","v":1.29E-2},{"$f":"MIN(OFFSET(Male!AI$18,'Male Rev'!$A26-35,0),0.03999)","v":1.2999999999999999E-2},{"$f":"MIN(OFFSET(Male!AJ$18,'Male Rev'!$A26-35,0),0.03999)","v":1.32E-2},{"$f":"MIN(OFFSET(Male!AK$18,'Male Rev'!$A26-35,0),0.03999)","v":1.3599999999999999E-2},{"$f":"MIN(OFFSET(Male!AL$18,'Male Rev'!$A26-35,0),0.03999)","v":1.41E-2},{"$f":"MIN(OFFSET(Male!AM$18,'Male Rev'!$A26-35,0),0.03999)","v":1.4500000000000001E-2},{"$f":"MIN(OFFSET(Male!AN$18,'Male Rev'!$A26-35,0),0.03999)","v":1.49E-2},{"$f":"MIN(OFFSET(Male!AO$18,'Male Rev'!$A26-35,0),0.03999)","v":1.5100000000000001E-2},{"$f":"MIN(OFFSET(Male!AP$18,'Male Rev'!$A26-35,0),0.03999)","v":1.52E-2},{"$f":"MIN(OFFSET(Male!AQ$18,'Male Rev'!$A26-35,0),0.03999)","v":1.5299999999999999E-2},{"$f":"MIN(OFFSET(Male!AR$18,'Male Rev'!$A26-35,0),0.03999)","v":1.55E-2},{"$f":"MIN(OFFSET(Male!AS$18,'Male Rev'!$A26-35,0),0.03999)","v":1.5900000000000001E-2},{"$f":"MIN(OFFSET(Male!AT$18,'Male Rev'!$A26-35,0),0.03999)","v":1.6400000000000001E-2},{"$f":"MIN(OFFSET(Male!AU$18,'Male Rev'!$A26-35,0),0.03999)","v":1.7100000000000001E-2},{"$f":"MIN(OFFSET(Male!AV$18,'Male Rev'!$A26-35,0),0.03999)","v":1.7999999999999999E-2},{"$f":"MIN(OFFSET(Male!AW$18,'Male Rev'!$A26-35,0),0.03999)","v":1.9E-2},{"$f":"MIN(OFFSET(Male!AX$18,'Male Rev'!$A26-35,0),0.03999)","v":2.01E-2},{"$f":"MIN(OFFSET(Male!AY$18,'Male Rev'!$A26-35,0),0.03999)","v":2.1299999999999999E-2},{"$f":"MIN(OFFSET(Male!AZ$18,'Male Rev'!$A26-35,0),0.03999)","v":2.23E-2},{"$f":"MIN(OFFSET(Male!BA$18,'Male Rev'!$A26-35,0),0.03999)","v":2.3199999999999998E-2},{"$f":"MIN(OFFSET(Male!BB$18,'Male Rev'!$A26-35,0),0.03999)","v":2.3699999999999999E-2},{"$f":"MIN(OFFSET(Male!BC$18,'Male Rev'!$A26-35,0),0.03999)","v":2.3800000000000002E-2},{"$f":"MIN(OFFSET(Male!BD$18,'Male Rev'!$A26-35,0),0.03999)","v":2.3400000000000001E-2},{"$f":"MIN(OFFSET(Male!BE$18,'Male Rev'!$A26-35,0),0.03999)","v":2.2700000000000001E-2},{"$f":"MIN(OFFSET(Male!BF$18,'Male Rev'!$A26-35,0),0.03999)","v":2.1600000000000001E-2},{"$f":"MIN(OFFSET(Male!BG$18,'Male Rev'!$A26-35,0),0.03999)","v":2.0199999999999999E-2},{"$f":"MIN(OFFSET(Male!BH$18,'Male Rev'!$A26-35,0),0.03999)","v":1.8599999999999998E-2},{"$f":"MIN(OFFSET(Male!BI$18,'Male Rev'!$A26-35,0),0.03999)","v":1.6799999999999999E-2},{"$f":"MIN(OFFSET(Male!BJ$18,'Male Rev'!$A26-35,0),0.03999)","v":1.49E-2},{"$f":"MIN(OFFSET(Male!BK$18,'Male Rev'!$A26-35,0),0.03999)","v":1.32E-2},{"$f":"MIN(OFFSET(Male!BL$18,'Male Rev'!$A26-35,0),0.03999)","v":1.17E-2},{"$f":"MIN(OFFSET(Male!BM$18,'Male Rev'!$A26-35,0),0.03999)","v":1.06E-2},{"$f":"MIN(OFFSET(Male!BN$18,'Male Rev'!$A26-35,0),0.03999)","v":9.7999999999999997E-3},{"$f":"MIN(OFFSET(Male!BO$18,'Male Rev'!$A26-35,0),0.03999)","v":9.4000000000000004E-3},{"$f":"MIN(OFFSET(Male!BP$18,'Male Rev'!$A26-35,0),0.03999)","v":8.8999999999999999E-3},{"$f":"MIN(OFFSET(Male!BQ$18,'Male Rev'!$A26-35,0),0.03999)","v":8.3000000000000001E-3},{"$f":"MIN(OFFSET(Male!BR$18,'Male Rev'!$A26-35,0),0.03999)","v":7.7999999999999996E-3},{"$f":"MIN(OFFSET(Male!BS$18,'Male Rev'!$A26-35,0),0.03999)","v":7.4000000000000003E-3},{"$f":"MIN(OFFSET(Male!BT$18,'Male Rev'!$A26-35,0),0.03999)","v":7.1000000000000004E-3},{"$f":"MIN(OFFSET(Male!BU$18,'Male Rev'!$A26-35,0),0.03999)","v":6.8999999999999999E-3},{"$f":"MIN(OFFSET(Male!BV$18,'Male Rev'!$A26-35,0),0.03999)","v":6.7999999999999996E-3},{"$f":"MIN(OFFSET(Male!BW$18,'Male Rev'!$A26-35,0),0.03999)","v":6.8999999999999999E-3},{"$f":"MIN(OFFSET(Male!BX$18,'Male Rev'!$A26-35,0),0.03999)","v":7.1999999999999998E-3},{"$f":"MIN(OFFSET(Male!BY$18,'Male Rev'!$A26-35,0),0.03999)","v":7.4999999999999997E-3},{"$f":"MIN(OFFSET(Male!BZ$18,'Male Rev'!$A26-35,0),0.03999)","v":8.0000000000000002E-3},{"$f":"MIN(OFFSET(Male!CA$18,'Male Rev'!$A26-35,0),0.03999)","v":8.3999999999999995E-3},{"$f":"MIN(OFFSET(Male!CB$18,'Male Rev'!$A26-35,0),0.03999)","v":8.8999999999999999E-3},{"$f":"MIN(OFFSET(Male!CC$18,'Male Rev'!$A26-35,0),0.03999)","v":9.1999999999999998E-3},{"$f":"MIN(OFFSET(Male!CD$18,'Male Rev'!$A26-35,0),0.03999)","v":9.5999999999999992E-3},{"$f":"MIN(OFFSET(Male!CE$18,'Male Rev'!$A26-35,0),0.03999)","v":9.7999999999999997E-3},{"$f":"MIN(OFFSET(Male!CF$18,'Male Rev'!$A26-35,0),0.03999)","v":9.9000000000000008E-3},{"$f":"MIN(OFFSET(Male!CG$18,'Male Rev'!$A26-35,0),0.03999)","v":0.01},{"$f":"MIN(OFFSET(Male!CH$18,'Male Rev'!$A26-35,0),0.03999)","v":0.01}]
[71,71,{"$f":"MIN(OFFSET(Male!B$18,'Male Rev'!$A27-35,0),0.03999)","v":8.9999999999999998E-4},{"$f":"MIN(OFFSET(Male!C$18,'Male Rev'!$A27-35,0),0.03999)","v":8.9999999999999998E-4},{"$f":"MIN(OFFSET(Male!D$18,'Male Rev'!$A27-35,0),0.03999)","v":6.9999999999999999E-4},{"$f":"MIN(OFFSET(Male!E$18,'Male Rev'!$A27-35,0),0.03999)","v":4.0000000000000002E-4},{"$f":"MIN(OFFSET(Male!F$18,'Male Rev'!$A27-35,0),0.03999)","v":1E-4},{"$f":"MIN(OFFSET(Male!G$18,'Male Rev'!$A27-35,0),0.03999)","v":-2.9999999999999997E-4},{"$f":"MIN(OFFSET(Male!H$18,'Male Rev'!$A27-35,0),0.03999)","v":-5.9999999999999995E-4},{"$f":"MIN(OFFSET(Male!I$18,'Male Rev'!$A27-35,0),0.03999)","v":-6.9999999999999999E-4},{"$f":"MIN(OFFSET(Male!J$18,'Male Rev'!$A27-35,0),0.03999)","v":-8.0000000000000004E-4},{"$f":"MIN(OFFSET(Male!K$18,'Male Rev'!$A27-35,0),0.03999)","v":-8.0000000000000004E-4},{"$f":"MIN(OFFSET(Male!L$18,'Male Rev'!$A27-35,0),0.03999)","v":-6.9999999999999999E-4},{"$f":"MIN(OFFSET(Male!M$18,'Male Rev'!$A27-35,0),0.03999)","v":-5.0000000000000001E-4},{"$f":"MIN(OFFSET(Male!N$18,'Male Rev'!$A27-35,0),0.03999)","v":-1E-4},{"$f":"MIN(OFFSET(Male!O$18,'Male Rev'!$A27-35,0),0.03999)","v":5.9999999999999995E-4},{"$f":"MIN(OFFSET(Male!P$18,'Male Rev'!$A27-35,0),0.03999)","v":1.4E-3},{"$f":"MIN(OFFSET(Male!Q$18,'Male Rev'!$A27-35,0),0.03999)","v":2.3999999999999998E-3},{"$f":"MIN(OFFSET(Male!R$18,'Male Rev'!$A27-35,0),0.03999)","v":3.5999999999999999E-3},{"$f":"MIN(OFFSET(Male!S$18,'Male Rev'!$A27-35,0),0.03999)","v":5.0000000000000001E-3},{"$f":"MIN(OFFSET(Male!T$18,'Male Rev'!$A27-35,0),0.03999)","v":6.4999999999999997E-3},{"$f":"MIN(OFFSET(Male!U$18,'Male Rev'!$A27-35,0),0.03999)","v":8.0000000000000002E-3},{"$f":"MIN(OFFSET(Male!V$18,'Male Rev'!$A27-35,0),0.03999)","v":9.4000000000000004E-3},{"$f":"MIN(OFFSET(Male!W$18,'Male Rev'!$A27-35,0),0.03999)","v":1.0800000000000001E-2},{"$f":"MIN(OFFSET(Male!X$18,'Male Rev'!$A27-35,0),0.03999)","v":1.2E-2},{"$f":"MIN(OFFSET(Male!Y$18,'Male Rev'!$A27-35,0),0.03999)","v":1.3100000000000001E-2},{"$f":"MIN(OFFSET(Male!Z$18,'Male Rev'!$A27-35,0),0.03999)","v":1.38E-2},{"$f":"MIN(OFFSET(Male!AA$18,'Male Rev'!$A27-35,0),0.03999)","v":1.4200000000000001E-2},{"$f":"MIN(OFFSET(Male!AB$18,'Male Rev'!$A27-35,0),0.03999)","v":1.44E-2},{"$f":"MIN(OFFSET(Male!AC$18,'Male Rev'!$A27-35,0),0.03999)","v":1.43E-2},{"$f":"MIN(OFFSET(Male!AD$18,'Male Rev'!$A27-35,0),0.03999)","v":1.4200000000000001E-2},{"$f":"MIN(OFFSET(Male!AE$18,'Male Rev'!$A27-35,0),0.03999)","v":1.3899999999999999E-2},{"$f":"MIN(OFFSET(Male!AF$18,'Male Rev'!$A27-35,0),0.03999)","v":1.37E-2},{"$f":"MIN(OFFSET(Male!AG$18,'Male Rev'!$A27-35,0),0.03999)","v":1.3599999999999999E-2},{"$f":"MIN(OFFSET(Male!AH$18,'Male Rev'!$A27-35,0),0.03999)","v":1.34E-2},{"$f":"MIN(OFFSET(Male!AI$18,'Male Rev'!$A27-35,0),0.03999)","v":1.35E-2},{"$f":"MIN(OFFSET(Male!AJ$18,'Male Rev'!$A27-35,0),0.03999)","v":1.37E-2},{"$f":"MIN(OFFSET(Male!AK$18,'Male Rev'!$A27-35,0),0.03999)","v":1.41E-2},{"$f":"MIN(OFFSET(Male!AL$18,'Male Rev'!$A27-35,0),0.03999)","v":1.4500000000000001E-2},{"$f":"MIN(OFFSET(Male!AM$18,'Male Rev'!$A27-35,0),0.03999)","v":1.4999999999999999E-2},{"$f":"MIN(OFFSET(Male!AN$18,'Male Rev'!$A27-35,0),0.03999)","v":1.5299999999999999E-2},{"$f":"MIN(OFFSET(Male!AO$18,'Male Rev'!$A27-35,0),0.03999)","v":1.55E-2},{"$f":"MIN(OFFSET(Male!AP$18,'Male Rev'!$A27-35,0),0.03999)","v":1.5699999999999999E-2},{"$f":"MIN(OFFSET(Male!AQ$18,'Male Rev'!$A27-35,0),0.03999)","v":1.5800000000000002E-2},{"$f":"MIN(OFFSET(Male!AR$18,'Male Rev'!$A27-35,0),0.03999)","v":1.5900000000000001E-2},{"$f":"MIN(OFFSET(Male!AS$18,'Male Rev'!$A27-35,0),0.03999)","v":1.6299999999999999E-2},{"$f":"MIN(OFFSET(Male!AT$18,'Male Rev'!$A27-35,0),0.03999)","v":1.6899999999999998E-2},{"$f":"MIN(OFFSET(Male!AU$18,'Male Rev'!$A27-35,0),0.03999)","v":1.7600000000000001E-2},{"$f":"MIN(OFFSET(Male!AV$18,'Male Rev'!$A27-35,0),0.03999)","v":1.8499999999999999E-2},{"$f":"MIN(OFFSET(Male!AW$18,'Male Rev'!$A27-35,0),0.03999)","v":1.95E-2},{"$f":"MIN(OFFSET(Male!AX$18,'Male Rev'!$A27-35,0),0.03999)","v":2.07E-2},{"$f":"MIN(OFFSET(Male!AY$18,'Male Rev'!$A27-35,0),0.03999)","v":2.18E-2},{"$f":"MIN(OFFSET(Male!AZ$18,'Male Rev'!$A27-35,0),0.03999)","v":2.2800000000000001E-2},{"$f":"MIN(OFFSET(Male!BA$18,'Male Rev'!$A27-35,0),0.03999)","v":2.35E-2},{"$f":"MIN(OFFSET(Male!BB$18,'Male Rev'!$A27-35,0),0.03999)","v":2.3900000000000001E-2},{"$f":"MIN(OFFSET(Male!BC$18,'Male Rev'!$A27-35,0),0.03999)","v":2.3900000000000001E-2},{"$f":"MIN(OFFSET(Male!BD$18,'Male Rev'!$A27-35,0),0.03999)","v":2.3400000000000001E-2},{"$f":"MIN(OFFSET(Male!BE$18,'Male Rev'!$A27-35,0),0.03999)","v":2.2599999999999999E-2},{"$f":"MIN(OFFSET(Male!BF$18,'Male Rev'!$A27-35,0),0.03999)","v":2.1399999999999999E-2},{"$f":"MIN(OFFSET(Male!BG$18,'Male Rev'!$A27-35,0),0.03999)","v":1.9900000000000001E-2},{"$f":"MIN(OFFSET(Male!BH$18,'Male Rev'!$A27-35,0),0.03999)","v":1.8200000000000001E-2},{"$f":"MIN(OFFSET(Male!BI$18,'Male Rev'!$A27-35,0),0.03999)","v":1.6299999999999999E-2},{"$f":"MIN(OFFSET(Male!BJ$18,'Male Rev'!$A27-35,0),0.03999)","v":1.44E-2},{"$f":"MIN(OFFSET(Male!BK$18,'Male Rev'!$A27-35,0),0.03999)","v":1.26E-2},{"$f":"MIN(OFFSET(Male!BL$18,'Male Rev'!$A27-35,0),0.03999)","v":1.0999999999999999E-2},{"$f":"MIN(OFFSET(Male!BM$18,'Male Rev'!$A27-35,0),0.03999)","v":9.7000000000000003E-3},{"$f":"MIN(OFFSET(Male!BN$18,'Male Rev'!$A27-35,0),0.03999)","v":8.8999999999999999E-3},{"$f":"MIN(OFFSET(Male!BO$18,'Male Rev'!$A27-35,0),0.03999)","v":8.3999999999999995E-3},{"$f":"MIN(OFFSET(Male!BP$18,'Male Rev'!$A27-35,0),0.03999)","v":7.9000000000000008E-3},{"$f":"MIN(OFFSET(Male!BQ$18,'Male Rev'!$A27-35,0),0.03999)","v":7.4000000000000003E-3},{"$f":"MIN(OFFSET(Male!BR$18,'Male Rev'!$A27-35,0),0.03999)","v":6.8999999999999999E-3},{"$f":"MIN(OFFSET(Male!BS$18,'Male Rev'!$A27-35,0),0.03999)","v":6.6E-3},{"$f":"MIN(OFFSET(Male!BT$18,'Male Rev'!$A27-35,0),0.03999)","v":6.4000000000000003E-3},{"$f":"MIN(OFFSET(Male!BU$18,'Male Rev'!$A27-35,0),0.03999)","v":6.4000000000000003E-3},{"$f":"MIN(OFFSET(Male!BV$18,'Male Rev'!$A27-35,0),0.03999)","v":6.4999999999999997E-3},{"$f":"MIN(OFFSET(Male!BW$18,'Male Rev'!$A27-35,0),0.03999)","v":6.7000000000000002E-3},{"$f":"MIN(OFFSET(Male!BX$18,'Male Rev'!$A27-35,0),0.03999)","v":7.1000000000000004E-3},{"$f":"MIN(OFFSET(Male!BY$18,'Male Rev'!$A27-35,0),0.03999)","v":7.4999999999999997E-3},{"$f":"MIN(OFFSET(Male!BZ$18,'Male Rev'!$A27-35,0),0.03999)","v":8.0000000000000002E-3},{"$f":"MIN(OFFSET(Male!CA$18,'Male Rev'!$A27-35,0),0.03999)","v":8.5000000000000006E-3},{"$f":"MIN(OFFSET(Male!CB$18,'Male Rev'!$A27-35,0),0.03999)","v":8.9999999999999993E-3},{"$f":"MIN(OFFSET(Male!CC$18,'Male Rev'!$A27-35,0),0.03999)","v":9.2999999999999992E-3},{"$f":"MIN(OFFSET(Male!CD$18,'Male Rev'!$A27-35,0),0.03999)","v":9.5999999999999992E-3},{"$f":"MIN(OFFSET(Male!CE$18,'Male Rev'!$A27-35,0),0.03999)","v":9.7999999999999997E-3},{"$f":"MIN(OFFSET(Male!CF$18,'Male Rev'!$A27-35,0),0.03999)","v":9.9000000000000008E-3},{"$f":"MIN(OFFSET(Male!CG$18,'Male Rev'!$A27-35,0),0.03999)","v":0.01},{"$f":"MIN(OFFSET(Male!CH$18,'Male Rev'!$A27-35,0),0.03999)","v":0.01}]
[70,70,{"$f":"MIN(OFFSET(Male!B$18,'Male Rev'!$A28-35,0),0.03999)","v":1E-3},{"$f":"MIN(OFFSET(Male!C$18,'Male Rev'!$A28-35,0),0.03999)","v":8.9999999999999998E-4},{"$f":"MIN(OFFSET(Male!D$18,'Male Rev'!$A28-35,0),0.03999)","v":6.9999999999999999E-4},{"$f":"MIN(OFFSET(Male!E$18,'Male Rev'!$A28-35,0),0.03999)","v":4.0000000000000002E-4},{"$f":"MIN(OFFSET(Male!F$18,'Male Rev'!$A28-35,0),0.03999)","v":1E-4},{"$f":"MIN(OFFSET(Male!G$18,'Male Rev'!$A28-35,0),0.03999)","v":-2.9999999999999997E-4},{"$f":"MIN(OFFSET(Male!H$18,'Male Rev'!$A28-35,0),0.03999)","v":-6.9999999999999999E-4},{"$f":"MIN(OFFSET(Male!I$18,'Male Rev'!$A28-35,0),0.03999)","v":-8.0000000000000004E-4},{"$f":"MIN(OFFSET(Male!J$18,'Male Rev'!$A28-35,0),0.03999)","v":-8.9999999999999998E-4},{"$f":"MIN(OFFSET(Male!K$18,'Male Rev'!$A28-35,0),0.03999)","v":-1E-3},{"$f":"MIN(OFFSET(Male!L$18,'Male Rev'!$A28-35,0),0.03999)","v":-8.0000000000000004E-4},{"$f":"MIN(OFFSET(Male!M$18,'Male Rev'!$A28-35,0),0.03999)","v":-5.9999999999999995E-4},{"$f":"MIN(OFFSET(Male!N$18,'Male Rev'!$A28-35,0),0.03999)","v":-1E-4},{"$f":"MIN(OFFSET(Male!O$18,'Male Rev'!$A28-35,0),0.03999)","v":5.9999999999999995E-4},{"$f":"MIN(OFFSET(Male!P$18,'Male Rev'!$A28-35,0),0.03999)","v":1.4E-3},{"$f":"MIN(OFFSET(Male!Q$18,'Male Rev'!$A28-35,0),0.03999)","v":2.5000000000000001E-3},{"$f":"MIN(OFFSET(Male!R$18,'Male Rev'!$A28-35,0),0.03999)","v":3.8E-3},{"$f":"MIN(OFFSET(Male!S$18,'Male Rev'!$A28-35,0),0.03999)","v":5.1999999999999998E-3},{"$f":"MIN(OFFSET(Male!T$18,'Male Rev'!$A28-35,0),0.03999)","v":6.7000000000000002E-3},{"$f":"MIN(OFFSET(Male!U$18,'Male Rev'!$A28-35,0),0.03999)","v":8.2000000000000007E-3},{"$f":"MIN(OFFSET(Male!V$18,'Male Rev'!$A28-35,0),0.03999)","v":9.7000000000000003E-3},{"$f":"MIN(OFFSET(Male!W$18,'Male Rev'!$A28-35,0),0.03999)","v":1.12E-2},{"$f":"MIN(OFFSET(Male!X$18,'Male Rev'!$A28-35,0),0.03999)","v":1.2500000000000001E-2},{"$f":"MIN(OFFSET(Male!Y$18,'Male Rev'!$A28-35,0),0.03999)","v":1.3599999999999999E-2},{"$f":"MIN(OFFSET(Male!Z$18,'Male Rev'!$A28-35,0),0.03999)","v":1.44E-2},{"$f":"MIN(OFFSET(Male!AA$18,'Male Rev'!$A28-35,0),0.03999)","v":1.4800000000000001E-2},{"$f":"MIN(OFFSET(Male!AB$18,'Male Rev'!$A28-35,0),0.03999)","v":1.4999999999999999E-2},{"$f":"MIN(OFFSET(Male!AC$18,'Male Rev'!$A28-35,0),0.03999)","v":1.4999999999999999E-2},{"$f":"MIN(OFFSET(Male!AD$18,'Male Rev'!$A28-35,0),0.03999)","v":1.4800000000000001E-2},{"$f":"MIN(OFFSET(Male!AE$18,'Male Rev'!$A28-35,0),0.03999)","v":1.46E-2},{"$f":"MIN(OFFSET(Male!AF$18,'Male Rev'!$A28-35,0),0.03999)","v":1.44E-2},{"$f":"MIN(OFFSET(Male!AG$18,'Male Rev'!$A28-35,0),0.03999)","v":1.4200000000000001E-2},{"$f":"MIN(OFFSET(Male!AH$18,'Male Rev'!$A28-35,0),0.03999)","v":1.4E-2},{"$f":"MIN(OFFSET(Male!AI$18,'Male Rev'!$A28-35,0),0.03999)","v":1.4E-2},{"$f":"MIN(OFFSET(Male!AJ$18,'Male Rev'!$A28-35,0),0.03999)","v":1.4200000000000001E-2},{"$f":"MIN(OFFSET(Male!AK$18,'Male Rev'!$A28-35,0),0.03999)","v":1.46E-2},{"$f":"MIN(OFFSET(Male!AL$18,'Male Rev'!$A28-35,0),0.03999)","v":1.4999999999999999E-2},{"$f":"MIN(OFFSET(Male!AM$18,'Male Rev'!$A28-35,0),0.03999)","v":1.54E-2},{"$f":"MIN(OFFSET(Male!AN$18,'Male Rev'!$A28-35,0),0.03999)","v":1.5699999999999999E-2},{"$f":"MIN(OFFSET(Male!AO$18,'Male Rev'!$A28-35,0),0.03999)","v":1.5900000000000001E-2},{"$f":"MIN(OFFSET(Male!AP$18,'Male Rev'!$A28-35,0),0.03999)","v":1.61E-2},{"$f":"MIN(OFFSET(Male!AQ$18,'Male Rev'!$A28-35,0),0.03999)","v":1.6199999999999999E-2},{"$f":"MIN(OFFSET(Male!AR$18,'Male Rev'!$A28-35,0),0.03999)","v":1.6299999999999999E-2},{"$f":"MIN(OFFSET(Male!AS$18,'Male Rev'!$A28-35,0),0.03999)","v":1.6799999999999999E-2},{"$f":"MIN(OFFSET(Male!AT$18,'Male Rev'!$A28-35,0),0.03999)","v":1.7299999999999999E-2},{"$f":"MIN(OFFSET(Male!AU$18,'Male Rev'!$A28-35,0),0.03999)","v":1.8100000000000002E-2},{"$f":"MIN(OFFSET(Male!AV$18,'Male Rev'!$A28-35,0),0.03999)","v":1.9E-2},{"$f":"MIN(OFFSET(Male!AW$18,'Male Rev'!$A28-35,0),0.03999)","v":0.02},{"$f":"MIN(OFFSET(Male!AX$18,'Male Rev'!$A28-35,0),0.03999)","v":2.1100000000000001E-2},{"$f":"MIN(OFFSET(Male!AY$18,'Male Rev'!$A28-35,0),0.03999)","v":2.2200000000000001E-2},{"$f":"MIN(OFFSET(Male!AZ$18,'Male Rev'!$A28-35,0),0.03999)","v":2.3099999999999999E-2},{"$f":"MIN(OFFSET(Male!BA$18,'Male Rev'!$A28-35,0),0.03999)","v":2.3699999999999999E-2},{"$f":"MIN(OFFSET(Male!BB$18,'Male Rev'!$A28-35,0),0.03999)","v":2.4E-2},{"$f":"MIN(OFFSET(Male!BC$18,'Male Rev'!$A28-35,0),0.03999)","v":2.3900000000000001E-2},{"$f":"MIN(OFFSET(Male!BD$18,'Male Rev'!$A28-35,0),0.03999)","v":2.3300000000000001E-2},{"$f":"MIN(OFFSET(Male!BE$18,'Male Rev'!$A28-35,0),0.03999)","v":2.24E-2},{"$f":"MIN(OFFSET(Male!BF$18,'Male Rev'!$A28-35,0),0.03999)","v":2.1100000000000001E-2},{"$f":"MIN(OFFSET(Male!BG$18,'Male Rev'!$A28-35,0),0.03999)","v":1.95E-2},{"$f":"MIN(OFFSET(Male!BH$18,'Male Rev'!$A28-35,0),0.03999)","v":1.77E-2},{"$f":"MIN(OFFSET(Male!BI$18,'Male Rev'!$A28-35,0),0.03999)","v":1.5699999999999999E-2},{"$f":"MIN(OFFSET(Male!BJ$18,'Male Rev'!$A28-35,0),0.03999)","v":1.37E-2},{"$f":"MIN(OFFSET(Male!BK$18,'Male Rev'!$A28-35,0),0.03999)","v":1.18E-2},{"$f":"MIN(OFFSET(Male!BL$18,'Male Rev'!$A28-35,0),0.03999)","v":1.01E-2},{"$f":"MIN(OFFSET(Male!BM$18,'Male Rev'!$A28-35,0),0.03999)","v":8.8000000000000005E-3},{"$f":"MIN(OFFSET(Male!BN$18,'Male Rev'!$A28-35,0),0.03999)","v":7.9000000000000008E-3},{"$f":"MIN(OFFSET(Male!BO$18,'Male Rev'!$A28-35,0),0.03999)","v":7.3000000000000001E-3},{"$f":"MIN(OFFSET(Male!BP$18,'Male Rev'!$A28-35,0),0.03999)","v":6.7999999999999996E-3},{"$f":"MIN(OFFSET(Male!BQ$18,'Male Rev'!$A28-35,0),0.03999)","v":6.3E-3},{"$f":"MIN(OFFSET(Male!BR$18,'Male Rev'!$A28-35,0),0.03999)","v":6.0000000000000001E-3},{"$f":"MIN(OFFSET(Male!BS$18,'Male Rev'!$A28-35,0),0.03999)","v":5.7999999999999996E-3},{"$f":"MIN(OFFSET(Male!BT$18,'Male Rev'!$A28-35,0),0.03999)","v":5.7999999999999996E-3},{"$f":"MIN(OFFSET(Male!BU$18,'Male Rev'!$A28-35,0),0.03999)","v":5.8999999999999999E-3},{"$f":"MIN(OFFSET(Male!BV$18,'Male Rev'!$A28-35,0),0.03999)","v":6.1999999999999998E-3},{"$f":"MIN(OFFSET(Male!BW$18,'Male Rev'!$A28-35,0),0.03999)","v":6.6E-3},{"$f":"MIN(OFFSET(Male!BX$18,'Male Rev'!$A28-35,0),0.03999)","v":7.1000000000000004E-3},{"$f":"MIN(OFFSET(Male!BY$18,'Male Rev'!$A28-35,0),0.03999)","v":7.6E-3},{"$f":"MIN(OFFSET(Male!BZ$18,'Male Rev'!$A28-35,0),0.03999)","v":8.2000000000000007E-3},{"$f":"MIN(OFFSET(Male!CA$18,'Male Rev'!$A28-35,0),0.03999)","v":8.6E-3},{"$f":"MIN(OFFSET(Male!CB$18,'Male Rev'!$A28-35,0),0.03999)","v":9.1000000000000004E-3},{"$f":"MIN(OFFSET(Male!CC$18,'Male Rev'!$A28-35,0),0.03999)","v":9.4000000000000004E-3},{"$f":"MIN(OFFSET(Male!CD$18,'Male Rev'!$A28-35,0),0.03999)","v":9.7000000000000003E-3},{"$f":"MIN(OFFSET(Male!CE$18,'Male Rev'!$A28-35,0),0.03999)","v":9.7999999999999997E-3},{"$f":"MIN(OFFSET(Male!CF$18,'Male Rev'!$A28-35,0),0.03999)","v":9.9000000000000008E-3},{"$f":"MIN(OFFSET(Male!CG$18,'Male Rev'!$A28-35,0),0.03999)","v":0.01},{"$f":"MIN(OFFSET(Male!CH$18,'Male Rev'!$A28-35,0),0.03999)","v":0.01}]
[69,69,{"$f":"MIN(OFFSET(Male!B$18,'Male Rev'!$A29-35,0),0.03999)","v":1E-3},{"$f":"MIN(OFFSET(Male!C$18,'Male Rev'!$A29-35,0),0.03999)","v":1E-3},{"$f":"MIN(OFFSET(Male!D$18,'Male Rev'!$A29-35,0),0.03999)","v":8.0000000000000004E-4},{"$f":"MIN(OFFSET(Male!E$18,'Male Rev'!$A29-35,0),0.03999)","v":5.0000000000000001E-4},{"$f":"MIN(OFFSET(Male!F$18,'Male Rev'!$A29-35,0),0.03999)","v":1E-4},{"$f":"MIN(OFFSET(Male!G$18,'Male Rev'!$A29-35,0),0.03999)","v":-2.9999999999999997E-4},{"$f":"MIN(OFFSET(Male!H$18,'Male Rev'!$A29-35,0),0.03999)","v":-6.9999999999999999E-4},{"$f":"MIN(OFFSET(Male!I$18,'Male Rev'!$A29-35,0),0.03999)","v":-8.9999999999999998E-4},{"$f":"MIN(OFFSET(Male!J$18,'Male Rev'!$A29-35,0),0.03999)","v":-1E-3},{"$f":"MIN(OFFSET(Male!K$18,'Male Rev'!$A29-35,0),0.03999)","v":-1.1000000000000001E-3},{"$f":"MIN(OFFSET(Male!L$18,'Male Rev'!$A29-35,0),0.03999)","v":-8.9999999999999998E-4},{"$f":"MIN(OFFSET(Male!M$18,'Male Rev'!$A29-35,0),0.03999)","v":-6.9999999999999999E-4},{"$f":"MIN(OFFSET(Male!N$18,'Male Rev'!$A29-35,0),0.03999)","v":-2.0000000000000001E-4},{"$f":"MIN(OFFSET(Male!O$18,'Male Rev'!$A29-35,0),0.03999)","v":5.9999999999999995E-4},{"$f":"MIN(OFFSET(Male!P$18,'Male Rev'!$A29-35,0),0.03999)","v":1.5E-3},{"$f":"MIN(OFFSET(Male!Q$18,'Male Rev'!$A29-35,0),0.03999)","v":2.5999999999999999E-3},{"$f":"MIN(OFFSET(Male!R$18,'Male Rev'!$A29-35,0),0.03999)","v":3.8999999999999998E-3},{"$f":"MIN(OFFSET(Male!S$18,'Male Rev'!$A29-35,0),0.03999)","v":5.4000000000000003E-3},{"$f":"MIN(OFFSET(Male!T$18,'Male Rev'!$A29-35,0),0.03999)","v":7.0000000000000001E-3},{"$f":"MIN(OFFSET(Male!U$18,'Male Rev'!$A29-35,0),0.03999)","v":8.6E-3},{"$f":"MIN(OFFSET(Male!V$18,'Male Rev'!$A29-35,0),0.03999)","v":1.01E-2},{"$f":"MIN(OFFSET(Male!W$18,'Male Rev'!$A29-35,0),0.03999)","v":1.1599999999999999E-2},{"$f":"MIN(OFFSET(Male!X$18,'Male Rev'!$A29-35,0),0.03999)","v":1.2999999999999999E-2},{"$f":"MIN(OFFSET(Male!Y$18,'Male Rev'!$A29-35,0),0.03999)","v":1.4200000000000001E-2},{"$f":"MIN(OFFSET(Male!Z$18,'Male Rev'!$A29-35,0),0.03999)","v":1.4999999999999999E-2},{"$f":"MIN(OFFSET(Male!AA$18,'Male Rev'!$A29-35,0),0.03999)","v":1.55E-2},{"$f":"MIN(OFFSET(Male!AB$18,'Male Rev'!$A29-35,0),0.03999)","v":1.5699999999999999E-2},{"$f":"MIN(OFFSET(Male!AC$18,'Male Rev'!$A29-35,0),0.03999)","v":1.5699999999999999E-2},{"$f":"MIN(OFFSET(Male!AD$18,'Male Rev'!$A29-35,0),0.03999)","v":1.55E-2},{"$f":"MIN(OFFSET(Male!AE$18,'Male Rev'!$A29-35,0),0.03999)","v":1.52E-2},{"$f":"MIN(OFFSET(Male!AF$18,'Male Rev'!$A29-35,0),0.03999)","v":1.4999999999999999E-2},{"$f":"MIN(OFFSET(Male!AG$18,'Male Rev'!$A29-35,0),0.03999)","v":1.4800000000000001E-2},{"$f":"MIN(OFFSET(Male!AH$18,'Male Rev'!$A29-35,0),0.03999)","v":1.46E-2},{"$f":"MIN(OFFSET(Male!AI$18,'Male Rev'!$A29-35,0),0.03999)","v":1.46E-2},{"$f":"MIN(OFFSET(Male!AJ$18,'Male Rev'!$A29-35,0),0.03999)","v":1.47E-2},{"$f":"MIN(OFFSET(Male!AK$18,'Male Rev'!$A29-35,0),0.03999)","v":1.4999999999999999E-2},{"$f":"MIN(OFFSET(Male!AL$18,'Male Rev'!$A29-35,0),0.03999)","v":1.54E-2},{"$f":"MIN(OFFSET(Male!AM$18,'Male Rev'!$A29-35,0),0.03999)","v":1.5699999999999999E-2},{"$f":"MIN(OFFSET(Male!AN$18,'Male Rev'!$A29-35,0),0.03999)","v":1.61E-2},{"$f":"MIN(OFFSET(Male!AO$18,'Male Rev'!$A29-35,0),0.03999)","v":1.6299999999999999E-2},{"$f":"MIN(OFFSET(Male!AP$18,'Male Rev'!$A29-35,0),0.03999)","v":1.6400000000000001E-2},{"$f":"MIN(OFFSET(Male!AQ$18,'Male Rev'!$A29-35,0),0.03999)","v":1.6500000000000001E-2},{"$f":"MIN(OFFSET(Male!AR$18,'Male Rev'!$A29-35,0),0.03999)","v":1.67E-2},{"$f":"MIN(OFFSET(Male!AS$18,'Male Rev'!$A29-35,0),0.03999)","v":1.72E-2},{"$f":"MIN(OFFSET(Male!AT$18,'Male Rev'!$A29-35,0),0.03999)","v":1.78E-2},{"$f":"MIN(OFFSET(Male!AU$18,'Male Rev'!$A29-35,0),0.03999)","v":1.8599999999999998E-2},{"$f":"MIN(OFFSET(Male!AV$18,'Male Rev'!$A29-35,0),0.03999)","v":1.95E-2},{"$f":"MIN(OFFSET(Male!AW$18,'Male Rev'!$A29-35,0),0.03999)","v":2.0500000000000001E-2},{"$f":"MIN(OFFSET(Male!AX$18,'Male Rev'!$A29-35,0),0.03999)","v":2.1499999999999998E-2},{"$f":"MIN(OFFSET(Male!AY$18,'Male Rev'!$A29-35,0),0.03999)","v":2.2499999999999999E-2},{"$f":"MIN(OFFSET(Male!AZ$18,'Male Rev'!$A29-35,0),0.03999)","v":2.3199999999999998E-2},{"$f":"MIN(OFFSET(Male!BA$18,'Male Rev'!$A29-35,0),0.03999)","v":2.3699999999999999E-2},{"$f":"MIN(OFFSET(Male!BB$18,'Male Rev'!$A29-35,0),0.03999)","v":2.3900000000000001E-2},{"$f":"MIN(OFFSET(Male!BC$18,'Male Rev'!$A29-35,0),0.03999)","v":2.3699999999999999E-2},{"$f":"MIN(OFFSET(Male!BD$18,'Male Rev'!$A29-35,0),0.03999)","v":2.3E-2},{"$f":"MIN(OFFSET(Male!BE$18,'Male Rev'!$A29-35,0),0.03999)","v":2.1999999999999999E-2},{"$f":"MIN(OFFSET(Male!BF$18,'Male Rev'!$A29-35,0),0.03999)","v":2.06E-2},{"$f":"MIN(OFFSET(Male!BG$18,'Male Rev'!$A29-35,0),0.03999)","v":1.89E-2},{"$f":"MIN(OFFSET(Male!BH$18,'Male Rev'!$A29-35,0),0.03999)","v":1.7000000000000001E-2},{"$f":"MIN(OFFSET(Male!BI$18,'Male Rev'!$A29-35,0),0.03999)","v":1.4999999999999999E-2},{"$f":"MIN(OFFSET(Male!BJ$18,'Male Rev'!$A29-35,0),0.03999)","v":1.29E-2},{"$f":"MIN(OFFSET(Male!BK$18,'Male Rev'!$A29-35,0),0.03999)","v":1.0800000000000001E-2},{"$f":"MIN(OFFSET(Male!BL$18,'Male Rev'!$A29-35,0),0.03999)","v":8.9999999999999993E-3},{"$f":"MIN(OFFSET(Male!BM$18,'Male Rev'!$A29-35,0),0.03999)","v":7.6E-3},{"$f":"MIN(OFFSET(Male!BN$18,'Male Rev'!$A29-35,0),0.03999)","v":6.7000000000000002E-3},{"$f":"MIN(OFFSET(Male!BO$18,'Male Rev'!$A29-35,0),0.03999)","v":6.1000000000000004E-3},{"$f":"MIN(OFFSET(Male!BP$18,'Male Rev'!$A29-35,0),0.03999)","v":5.5999999999999999E-3},{"$f":"MIN(OFFSET(Male!BQ$18,'Male Rev'!$A29-35,0),0.03999)","v":5.1999999999999998E-3},{"$f":"MIN(OFFSET(Male!BR$18,'Male Rev'!$A29-35,0),0.03999)","v":5.0000000000000001E-3},{"$f":"MIN(OFFSET(Male!BS$18,'Male Rev'!$A29-35,0),0.03999)","v":5.0000000000000001E-3},{"$f":"MIN(OFFSET(Male!BT$18,'Male Rev'!$A29-35,0),0.03999)","v":5.1999999999999998E-3},{"$f":"MIN(OFFSET(Male!BU$18,'Male Rev'!$A29-35,0),0.03999)","v":5.5999999999999999E-3},{"$f":"MIN(OFFSET(Male!BV$18,'Male Rev'!$A29-35,0),0.03999)","v":6.0000000000000001E-3},{"$f":"MIN(OFFSET(Male!BW$18,'Male Rev'!$A29-35,0),0.03999)","v":6.6E-3},{"$f":"MIN(OFFSET(Male!BX$18,'Male Rev'!$A29-35,0),0.03999)","v":7.1999999999999998E-3},{"$f":"MIN(OFFSET(Male!BY$18,'Male Rev'!$A29-35,0),0.03999)","v":7.7999999999999996E-3},{"$f":"MIN(OFFSET(Male!BZ$18,'Male Rev'!$A29-35,0),0.03999)","v":8.3000000000000001E-3},{"$f":"MIN(OFFSET(Male!CA$18,'Male Rev'!$A29-35,0),0.03999)","v":8.8000000000000005E-3},{"$f":"MIN(OFFSET(Male!CB$18,'Male Rev'!$A29-35,0),0.03999)","v":9.1999999999999998E-3},{"$f":"MIN(OFFSET(Male!CC$18,'Male Rev'!$A29-35,0),0.03999)","v":9.4999999999999998E-3},{"$f":"MIN(OFFSET(Male!CD$18,'Male Rev'!$A29-35,0),0.03999)","v":9.7000000000000003E-3},{"$f":"MIN(OFFSET(Male!CE$18,'Male Rev'!$A29-35,0),0.03999)","v":9.7999999999999997E-3},{"$f":"MIN(OFFSET(Male!CF$18,'Male Rev'!$A29-35,0),0.03999)","v":9.9000000000000008E-3},{"$f":"MIN(OFFSET(Male!CG$18,'Male Rev'!$A29-35,0),0.03999)","v":0.01},{"$f":"MIN(OFFSET(Male!CH$18,'Male Rev'!$A29-35,0),0.03999)","v":0.01}]
[68,68,{"$f":"MIN(OFFSET(Male!B$18,'Male Rev'!$A30-35,0),0.03999)","v":1.1000000000000001E-3},{"$f":"MIN(OFFSET(Male!C$18,'Male Rev'!$A30-35,0),0.03999)","v":1.1000000000000001E-3},{"$f":"MIN(OFFSET(Male!D$18,'Male Rev'!$A30-35,0),0.03999)","v":8.9999999999999998E-4},{"$f":"MIN(OFFSET(Male!E$18,'Male Rev'!$A30-35,0),0.03999)","v":5.9999999999999995E-4},{"$f":"MIN(OFFSET(Male!F$18,'Male Rev'!$A30-35,0),0.03999)","v":2.0000000000000001E-4},{"$f":"MIN(OFFSET(Male!G$18,'Male Rev'!$A30-35,0),0.03999)","v":-2.9999999999999997E-4},{"$f":"MIN(OFFSET(Male!H$18,'Male Rev'!$A30-35,0),0.03999)","v":-6.9999999999999999E-4},{"$f":"MIN(OFFSET(Male!I$18,'Male Rev'!$A30-35,0),0.03999)","v":-8.9999999999999998E-4},{"$f":"MIN(OFFSET(Male!J$18,'Male Rev'!$A30-35,0),0.03999)","v":-1E-3},{"$f":"MIN(OFFSET(Male!K$18,'Male Rev'!$A30-35,0),0.03999)","v":-1.1000000000000001E-3},{"$f":"MIN(OFFSET(Male!L$18,'Male Rev'!$A30-35,0),0.03999)","v":-1E-3},{"$f":"MIN(OFFSET(Male!M$18,'Male Rev'!$A30-35,0),0.03999)","v":-8.0000000000000004E-4},{"$f":"MIN(OFFSET(Male!N$18,'Male Rev'!$A30-35,0),0.03999)","v":-2.9999999999999997E-4},{"$f":"MIN(OFFSET(Male!O$18,'Male Rev'!$A30-35,0),0.03999)","v":5.0000000000000001E-4},{"$f":"MIN(OFFSET(Male!P$18,'Male Rev'!$A30-35,0),0.03999)","v":1.5E-3},{"$f":"MIN(OFFSET(Male!Q$18,'Male Rev'!$A30-35,0),0.03999)","v":2.7000000000000001E-3},{"$f":"MIN(OFFSET(Male!R$18,'Male Rev'!$A30-35,0),0.03999)","v":4.1000000000000003E-3},{"$f":"MIN(OFFSET(Male!S$18,'Male Rev'!$A30-35,0),0.03999)","v":5.5999999999999999E-3},{"$f":"MIN(OFFSET(Male!T$18,'Male Rev'!$A30-35,0),0.03999)","v":7.3000000000000001E-3},{"$f":"MIN(OFFSET(Male!U$18,'Male Rev'!$A30-35,0),0.03999)","v":8.8999999999999999E-3},{"$f":"MIN(OFFSET(Male!V$18,'Male Rev'!$A30-35,0),0.03999)","v":1.0500000000000001E-2},{"$f":"MIN(OFFSET(Male!W$18,'Male Rev'!$A30-35,0),0.03999)","v":1.21E-2},{"$f":"MIN(OFFSET(Male!X$18,'Male Rev'!$A30-35,0),0.03999)","v":1.3599999999999999E-2},{"$f":"MIN(OFFSET(Male!Y$18,'Male Rev'!$A30-35,0),0.03999)","v":1.4800000000000001E-2},{"$f":"MIN(OFFSET(Male!Z$18,'Male Rev'!$A30-35,0),0.03999)","v":1.5699999999999999E-2},{"$f":"MIN(OFFSET(Male!AA$18,'Male Rev'!$A30-35,0),0.03999)","v":1.6199999999999999E-2},{"$f":"MIN(OFFSET(Male!AB$18,'Male Rev'!$A30-35,0),0.03999)","v":1.6400000000000001E-2},{"$f":"MIN(OFFSET(Male!AC$18,'Male Rev'!$A30-35,0),0.03999)","v":1.6400000000000001E-2},{"$f":"MIN(OFFSET(Male!AD$18,'Male Rev'!$A30-35,0),0.03999)","v":1.6199999999999999E-2},{"$f":"MIN(OFFSET(Male!AE$18,'Male Rev'!$A30-35,0),0.03999)","v":1.5900000000000001E-2},{"$f":"MIN(OFFSET(Male!AF$18,'Male Rev'!$A30-35,0),0.03999)","v":1.5599999999999999E-2},{"$f":"MIN(OFFSET(Male!AG$18,'Male Rev'!$A30-35,0),0.03999)","v":1.54E-2},{"$f":"MIN(OFFSET(Male!AH$18,'Male Rev'!$A30-35,0),0.03999)","v":1.5100000000000001E-2},{"$f":"MIN(OFFSET(Male!AI$18,'Male Rev'!$A30-35,0),0.03999)","v":1.4999999999999999E-2},{"$f":"MIN(OFFSET(Male!AJ$18,'Male Rev'!$A30-35,0),0.03999)","v":1.5100000000000001E-2},{"$f":"MIN(OFFSET(Male!AK$18,'Male Rev'!$A30-35,0),0.03999)","v":1.54E-2},{"$f":"MIN(OFFSET(Male!AL$18,'Male Rev'!$A30-35,0),0.03999)","v":1.5699999999999999E-2},{"$f":"MIN(OFFSET(Male!AM$18,'Male Rev'!$A30-35,0),0.03999)","v":1.61E-2},{"$f":"MIN(OFFSET(Male!AN$18,'Male Rev'!$A30-35,0),0.03999)","v":1.6400000000000001E-2},{"$f":"MIN(OFFSET(Male!AO$18,'Male Rev'!$A30-35,0),0.03999)","v":1.67E-2},{"$f":"MIN(OFFSET(Male!AP$18,'Male Rev'!$A30-35,0),0.03999)","v":1.6799999999999999E-2},{"$f":"MIN(OFFSET(Male!AQ$18,'Male Rev'!$A30-35,0),0.03999)","v":1.6899999999999998E-2},{"$f":"MIN(OFFSET(Male!AR$18,'Male Rev'!$A30-35,0),0.03999)","v":1.7100000000000001E-2},{"$f":"MIN(OFFSET(Male!AS$18,'Male Rev'!$A30-35,0),0.03999)","v":1.7600000000000001E-2},{"$f":"MIN(OFFSET(Male!AT$18,'Male Rev'!$A30-35,0),0.03999)","v":1.8200000000000001E-2},{"$f":"MIN(OFFSET(Male!AU$18,'Male Rev'!$A30-35,0),0.03999)","v":1.9E-2},{"$f":"MIN(OFFSET(Male!AV$18,'Male Rev'!$A30-35,0),0.03999)","v":1.9900000000000001E-2},{"$f":"MIN(OFFSET(Male!AW$18,'Male Rev'!$A30-35,0),0.03999)","v":2.0899999999999998E-2},{"$f":"MIN(OFFSET(Male!AX$18,'Male Rev'!$A30-35,0),0.03999)","v":2.18E-2},{"$f":"MIN(OFFSET(Male!AY$18,'Male Rev'!$A30-35,0),0.03999)","v":2.2599999999999999E-2},{"$f":"MIN(OFFSET(Male!AZ$18,'Male Rev'!$A30-35,0),0.03999)","v":2.3199999999999998E-2},{"$f":"MIN(OFFSET(Male!BA$18,'Male Rev'!$A30-35,0),0.03999)","v":2.3599999999999999E-2},{"$f":"MIN(OFFSET(Male!BB$18,'Male Rev'!$A30-35,0),0.03999)","v":2.3699999999999999E-2},{"$f":"MIN(OFFSET(Male!BC$18,'Male Rev'!$A30-35,0),0.03999)","v":2.3400000000000001E-2},{"$f":"MIN(OFFSET(Male!BD$18,'Male Rev'!$A30-35,0),0.03999)","v":2.2599999999999999E-2},{"$f":"MIN(OFFSET(Male!BE$18,'Male Rev'!$A30-35,0),0.03999)","v":2.1399999999999999E-2},{"$f":"MIN(OFFSET(Male!BF$18,'Male Rev'!$A30-35,0),0.03999)","v":0.02},{"$f":"MIN(OFFSET(Male!BG$18,'Male Rev'!$A30-35,0),0.03999)","v":1.8200000000000001E-2},{"$f":"MIN(OFFSET(Male!BH$18,'Male Rev'!$A30-35,0),0.03999)","v":1.6299999999999999E-2},{"$f":"MIN(OFFSET(Male!BI$18,'Male Rev'!$A30-35,0),0.03999)","v":1.41E-2},{"$f":"MIN(OFFSET(Male!BJ$18,'Male Rev'!$A30-35,0),0.03999)","v":1.1900000000000001E-2},{"$f":"MIN(OFFSET(Male!BK$18,'Male Rev'!$A30-35,0),0.03999)","v":9.7999999999999997E-3},{"$f":"MIN(OFFSET(Male!BL$18,'Male Rev'!$A30-35,0),0.03999)","v":7.9000000000000008E-3},{"$f":"MIN(OFFSET(Male!BM$18,'Male Rev'!$A30-35,0),0.03999)","v":6.4000000000000003E-3},{"$f":"MIN(OFFSET(Male!BN$18,'Male Rev'!$A30-35,0),0.03999)","v":5.4000000000000003E-3},{"$f":"MIN(OFFSET(Male!BO$18,'Male Rev'!$A30-35,0),0.03999)","v":4.7999999999999996E-3},{"$f":"MIN(OFFSET(Male!BP$18,'Male Rev'!$A30-35,0),0.03999)","v":4.3E-3},{"$f":"MIN(OFFSET(Male!BQ$18,'Male Rev'!$A30-35,0),0.03999)","v":4.1000000000000003E-3},{"$f":"MIN(OFFSET(Male!BR$18,'Male Rev'!$A30-35,0),0.03999)","v":4.1000000000000003E-3},{"$f":"MIN(OFFSET(Male!BS$18,'Male Rev'!$A30-35,0),0.03999)","v":4.3E-3},{"$f":"MIN(OFFSET(Male!BT$18,'Male Rev'!$A30-35,0),0.03999)","v":4.7000000000000002E-3},{"$f":"MIN(OFFSET(Male!BU$18,'Male Rev'!$A30-35,0),0.03999)","v":5.3E-3},{"$f":"MIN(OFFSET(Male!BV$18,'Male Rev'!$A30-35,0),0.03999)","v":6.0000000000000001E-3},{"$f":"MIN(OFFSET(Male!BW$18,'Male Rev'!$A30-35,0),0.03999)","v":6.7000000000000002E-3},{"$f":"MIN(OFFSET(Male!BX$18,'Male Rev'!$A30-35,0),0.03999)","v":7.4000000000000003E-3},{"$f":"MIN(OFFSET(Male!BY$18,'Male Rev'!$A30-35,0),0.03999)","v":8.0000000000000002E-3},{"$f":"MIN(OFFSET(Male!BZ$18,'Male Rev'!$A30-35,0),0.03999)","v":8.5000000000000006E-3},{"$f":"MIN(OFFSET(Male!CA$18,'Male Rev'!$A30-35,0),0.03999)","v":8.8999999999999999E-3},{"$f":"MIN(OFFSET(Male!CB$18,'Male Rev'!$A30-35,0),0.03999)","v":9.2999999999999992E-3},{"$f":"MIN(OFFSET(Male!CC$18,'Male Rev'!$A30-35,0),0.03999)","v":9.5999999999999992E-3},{"$f":"MIN(OFFSET(Male!CD$18,'Male Rev'!$A30-35,0),0.03999)","v":9.7000000000000003E-3},{"$f":"MIN(OFFSET(Male!CE$18,'Male Rev'!$A30-35,0),0.03999)","v":9.9000000000000008E-3},{"$f":"MIN(OFFSET(Male!CF$18,'Male Rev'!$A30-35,0),0.03999)","v":9.9000000000000008E-3},{"$f":"MIN(OFFSET(Male!CG$18,'Male Rev'!$A30-35,0),0.03999)","v":0.01},{"$f":"MIN(OFFSET(Male!CH$18,'Male Rev'!$A30-35,0),0.03999)","v":0.01}]
[67,67,{"$f":"MIN(OFFSET(Male!B$18,'Male Rev'!$A31-35,0),0.03999)","v":1.2999999999999999E-3},{"$f":"MIN(OFFSET(Male!C$18,'Male Rev'!$A31-35,0),0.03999)","v":1.2999999999999999E-3},{"$f":"MIN(OFFSET(Male!D$18,'Male Rev'!$A31-35,0),0.03999)","v":1.1000000000000001E-3},{"$f":"MIN(OFFSET(Male!E$18,'Male Rev'!$A31-35,0),0.03999)","v":8.0000000000000004E-4},{"$f":"MIN(OFFSET(Male!F$18,'Male Rev'!$A31-35,0),0.03999)","v":2.9999999999999997E-4},{"$f":"MIN(OFFSET(Male!G$18,'Male Rev'!$A31-35,0),0.03999)","v":-2.0000000000000001E-4},{"$f":"MIN(OFFSET(Male!H$18,'Male Rev'!$A31-35,0),0.03999)","v":-5.9999999999999995E-4},{"$f":"MIN(OFFSET(Male!I$18,'Male Rev'!$A31-35,0),0.03999)","v":-8.9999999999999998E-4},{"$f":"MIN(OFFSET(Male!J$18,'Male Rev'!$A31-35,0),0.03999)","v":-1.1000000000000001E-3},{"$f":"MIN(OFFSET(Male!K$18,'Male Rev'!$A31-35,0),0.03999)","v":-1.1999999999999999E-3},{"$f":"MIN(OFFSET(Male!L$18,'Male Rev'!$A31-35,0),0.03999)","v":-1.1000000000000001E-3},{"$f":"MIN(OFFSET(Male!M$18,'Male Rev'!$A31-35,0),0.03999)","v":-8.9999999999999998E-4},{"$f":"MIN(OFFSET(Male!N$18,'Male Rev'!$A31-35,0),0.03999)","v":-2.9999999999999997E-4},{"$f":"MIN(OFFSET(Male!O$18,'Male Rev'!$A31-35,0),0.03999)","v":5.0000000000000001E-4},{"$f":"MIN(OFFSET(Male!P$18,'Male Rev'!$A31-35,0),0.03999)","v":1.5E-3},{"$f":"MIN(OFFSET(Male!Q$18,'Male Rev'!$A31-35,0),0.03999)","v":2.8E-3},{"$f":"MIN(OFFSET(Male!R$18,'Male Rev'!$A31-35,0),0.03999)","v":4.1999999999999997E-3},{"$f":"MIN(OFFSET(Male!S$18,'Male Rev'!$A31-35,0),0.03999)","v":5.7999999999999996E-3},{"$f":"MIN(OFFSET(Male!T$18,'Male Rev'!$A31-35,0),0.03999)","v":7.6E-3},{"$f":"MIN(OFFSET(Male!U$18,'Male Rev'!$A31-35,0),0.03999)","v":9.2999999999999992E-3},{"$f":"MIN(OFFSET(Male!V$18,'Male Rev'!$A31-35,0),0.03999)","v":1.0999999999999999E-2},{"$f":"MIN(OFFSET(Male!W$18,'Male Rev'!$A31-35,0),0.03999)","v":1.26E-2},{"$f":"MIN(OFFSET(Male!X$18,'Male Rev'!$A31-35,0),0.03999)","v":1.41E-2},{"$f":"MIN(OFFSET(Male!Y$18,'Male Rev'!$A31-35,0),0.03999)","v":1.54E-2},{"$f":"MIN(OFFSET(Male!Z$18,'Male Rev'!$A31-35,0),0.03999)","v":1.6299999999999999E-2},{"$f":"MIN(OFFSET(Male!AA$18,'Male Rev'!$A31-35,0),0.03999)","v":1.6899999999999998E-2},{"$f":"MIN(OFFSET(Male!AB$18,'Male Rev'!$A31-35,0),0.03999)","v":1.7100000000000001E-2},{"$f":"MIN(OFFSET(Male!AC$18,'Male Rev'!$A31-35,0),0.03999)","v":1.7100000000000001E-2},{"$f":"MIN(OFFSET(Male!AD$18,'Male Rev'!$A31-35,0),0.03999)","v":1.6899999999999998E-2},{"$f":"MIN(OFFSET(Male!AE$18,'Male Rev'!$A31-35,0),0.03999)","v":1.66E-2},{"$f":"MIN(OFFSET(Male!AF$18,'Male Rev'!$A31-35,0),0.03999)","v":1.6299999999999999E-2},{"$f":"MIN(OFFSET(Male!AG$18,'Male Rev'!$A31-35,0),0.03999)","v":1.5900000000000001E-2},{"$f":"MIN(OFFSET(Male!AH$18,'Male Rev'!$A31-35,0),0.03999)","v":1.5599999999999999E-2},{"$f":"MIN(OFFSET(Male!AI$18,'Male Rev'!$A31-35,0),0.03999)","v":1.54E-2},{"$f":"MIN(OFFSET(Male!AJ$18,'Male Rev'!$A31-35,0),0.03999)","v":1.55E-2},{"$f":"MIN(OFFSET(Male!AK$18,'Male Rev'!$A31-35,0),0.03999)","v":1.5699999999999999E-2},{"$f":"MIN(OFFSET(Male!AL$18,'Male Rev'!$A31-35,0),0.03999)","v":1.6E-2},{"$f":"MIN(OFFSET(Male!AM$18,'Male Rev'!$A31-35,0),0.03999)","v":1.6400000000000001E-2},{"$f":"MIN(OFFSET(Male!AN$18,'Male Rev'!$A31-35,0),0.03999)","v":1.6799999999999999E-2},{"$f":"MIN(OFFSET(Male!AO$18,'Male Rev'!$A31-35,0),0.03999)","v":1.7000000000000001E-2},{"$f":"MIN(OFFSET(Male!AP$18,'Male Rev'!$A31-35,0),0.03999)","v":1.72E-2},{"$f":"MIN(OFFSET(Male!AQ$18,'Male Rev'!$A31-35,0),0.03999)","v":1.7299999999999999E-2},{"$f":"MIN(OFFSET(Male!AR$18,'Male Rev'!$A31-35,0),0.03999)","v":1.7500000000000002E-2},{"$f":"MIN(OFFSET(Male!AS$18,'Male Rev'!$A31-35,0),0.03999)","v":1.7999999999999999E-2},{"$f":"MIN(OFFSET(Male!AT$18,'Male Rev'!$A31-35,0),0.03999)","v":1.8599999999999998E-2},{"$f":"MIN(OFFSET(Male!AU$18,'Male Rev'!$A31-35,0),0.03999)","v":1.9400000000000001E-2},{"$f":"MIN(OFFSET(Male!AV$18,'Male Rev'!$A31-35,0),0.03999)","v":2.0299999999999999E-2},{"$f":"MIN(OFFSET(Male!AW$18,'Male Rev'!$A31-35,0),0.03999)","v":2.12E-2},{"$f":"MIN(OFFSET(Male!AX$18,'Male Rev'!$A31-35,0),0.03999)","v":2.1999999999999999E-2},{"$f":"MIN(OFFSET(Male!AY$18,'Male Rev'!$A31-35,0),0.03999)","v":2.2700000000000001E-2},{"$f":"MIN(OFFSET(Male!AZ$18,'Male Rev'!$A31-35,0),0.03999)","v":2.3099999999999999E-2},{"$f":"MIN(OFFSET(Male!BA$18,'Male Rev'!$A31-35,0),0.03999)","v":2.3300000000000001E-2},{"$f":"MIN(OFFSET(Male!BB$18,'Male Rev'!$A31-35,0),0.03999)","v":2.3300000000000001E-2},{"$f":"MIN(OFFSET(Male!BC$18,'Male Rev'!$A31-35,0),0.03999)","v":2.29E-2},{"$f":"MIN(OFFSET(Male!BD$18,'Male Rev'!$A31-35,0),0.03999)","v":2.1999999999999999E-2},{"$f":"MIN(OFFSET(Male!BE$18,'Male Rev'!$A31-35,0),0.03999)","v":2.0799999999999999E-2},{"$f":"MIN(OFFSET(Male!BF$18,'Male Rev'!$A31-35,0),0.03999)","v":1.9300000000000001E-2},{"$f":"MIN(OFFSET(Male!BG$18,'Male Rev'!$A31-35,0),0.03999)","v":1.7399999999999999E-2},{"$f":"MIN(OFFSET(Male!BH$18,'Male Rev'!$A31-35,0),0.03999)","v":1.54E-2},{"$f":"MIN(OFFSET(Male!BI$18,'Male Rev'!$A31-35,0),0.03999)","v":1.3100000000000001E-2},{"$f":"MIN(OFFSET(Male!BJ$18,'Male Rev'!$A31-35,0),0.03999)","v":1.0800000000000001E-2},{"$f":"MIN(OFFSET(Male!BK$18,'Male Rev'!$A31-35,0),0.03999)","v":8.6E-3},{"$f":"MIN(OFFSET(Male!BL$18,'Male Rev'!$A31-35,0),0.03999)","v":6.6E-3},{"$f":"MIN(OFFSET(Male!BM$18,'Male Rev'!$A31-35,0),0.03999)","v":5.1000000000000004E-3},{"$f":"MIN(OFFSET(Male!BN$18,'Male Rev'!$A31-35,0),0.03999)","v":4.0000000000000001E-3},{"$f":"MIN(OFFSET(Male!BO$18,'Male Rev'!$A31-35,0),0.03999)","v":3.3999999999999998E-3},{"$f":"MIN(OFFSET(Male!BP$18,'Male Rev'!$A31-35,0),0.03999)","v":3.0999999999999999E-3},{"$f":"MIN(OFFSET(Male!BQ$18,'Male Rev'!$A31-35,0),0.03999)","v":3.0000000000000001E-3},{"$f":"MIN(OFFSET(Male!BR$18,'Male Rev'!$A31-35,0),0.03999)","v":3.2000000000000002E-3},{"$f":"MIN(OFFSET(Male!BS$18,'Male Rev'!$A31-35,0),0.03999)","v":3.7000000000000002E-3},{"$f":"MIN(OFFSET(Male!BT$18,'Male Rev'!$A31-35,0),0.03999)","v":4.4000000000000003E-3},{"$f":"MIN(OFFSET(Male!BU$18,'Male Rev'!$A31-35,0),0.03999)","v":5.1999999999999998E-3},{"$f":"MIN(OFFSET(Male!BV$18,'Male Rev'!$A31-35,0),0.03999)","v":6.1000000000000004E-3},{"$f":"MIN(OFFSET(Male!BW$18,'Male Rev'!$A31-35,0),0.03999)","v":6.8999999999999999E-3},{"$f":"MIN(OFFSET(Male!BX$18,'Male Rev'!$A31-35,0),0.03999)","v":7.6E-3},{"$f":"MIN(OFFSET(Male!BY$18,'Male Rev'!$A31-35,0),0.03999)","v":8.2000000000000007E-3},{"$f":"MIN(OFFSET(Male!BZ$18,'Male Rev'!$A31-35,0),0.03999)","v":8.6999999999999994E-3},{"$f":"MIN(OFFSET(Male!CA$18,'Male Rev'!$A31-35,0),0.03999)","v":9.1000000000000004E-3},{"$f":"MIN(OFFSET(Male!CB$18,'Male Rev'!$A31-35,0),0.03999)","v":9.4000000000000004E-3},{"$f":"MIN(OFFSET(Male!CC$18,'Male Rev'!$A31-35,0),0.03999)","v":9.5999999999999992E-3},{"$f":"MIN(OFFSET(Male!CD$18,'Male Rev'!$A31-35,0),0.03999)","v":9.7999999999999997E-3},{"$f":"MIN(OFFSET(Male!CE$18,'Male Rev'!$A31-35,0),0.03999)","v":9.9000000000000008E-3},{"$f":"MIN(OFFSET(Male!CF$18,'Male Rev'!$A31-35,0),0.03999)","v":9.9000000000000008E-3},{"$f":"MIN(OFFSET(Male!CG$18,'Male Rev'!$A31-35,0),0.03999)","v":0.01},{"$f":"MIN(OFFSET(Male!CH$18,'Male Rev'!$A31-35,0),0.03999)","v":0.01}]
[66,66,{"$f":"MIN(OFFSET(Male!B$18,'Male Rev'!$A32-35,0),0.03999)","v":1.6000000000000001E-3},{"$f":"MIN(OFFSET(Male!C$18,'Male Rev'!$A32-35,0),0.03999)","v":1.5E-3},{"$f":"MIN(OFFSET(Male!D$18,'Male Rev'!$A32-35,0),0.03999)","v":1.4E-3},{"$f":"MIN(OFFSET(Male!E$18,'Male Rev'!$A32-35,0),0.03999)","v":1E-3},{"$f":"MIN(OFFSET(Male!F$18,'Male Rev'!$A32-35,0),0.03999)","v":5.0000000000000001E-4},{"$f":"MIN(OFFSET(Male!G$18,'Male Rev'!$A32-35,0),0.03999)","v":0},{"$f":"MIN(OFFSET(Male!H$18,'Male Rev'!$A32-35,0),0.03999)","v":-5.0000000000000001E-4},{"$f":"MIN(OFFSET(Male!I$18,'Male Rev'!$A32-35,0),0.03999)","v":-8.0000000000000004E-4},{"$f":"MIN(OFFSET(Male!J$18,'Male Rev'!$A32-35,0),0.03999)","v":-1E-3},{"$f":"MIN(OFFSET(Male!K$18,'Male Rev'!$A32-35,0),0.03999)","v":-1.1999999999999999E-3},{"$f":"MIN(OFFSET(Male!L$18,'Male Rev'!$A32-35,0),0.03999)","v":-1.1999999999999999E-3},{"$f":"MIN(OFFSET(Male!M$18,'Male Rev'!$A32-35,0),0.03999)","v":-8.9999999999999998E-4},{"$f":"MIN(OFFSET(Male!N$18,'Male Rev'!$A32-35,0),0.03999)","v":-4.0000000000000002E-4},{"$f":"MIN(OFFSET(Male!O$18,'Male Rev'!$A32-35,0),0.03999)","v":5.0000000000000001E-4},{"$f":"MIN(OFFSET(Male!P$18,'Male Rev'!$A32-35,0),0.03999)","v":1.5E-3},{"$f":"MIN(OFFSET(Male!Q$18,'Male Rev'!$A32-35,0),0.03999)","v":2.8E-3},{"$f":"MIN(OFFSET(Male!R$18,'Male Rev'!$A32-35,0),0.03999)","v":4.4000000000000003E-3},{"$f":"MIN(OFFSET(Male!S$18,'Male Rev'!$A32-35,0),0.03999)","v":6.0000000000000001E-3},{"$f":"MIN(OFFSET(Male!T$18,'Male Rev'!$A32-35,0),0.03999)","v":7.7999999999999996E-3},{"$f":"MIN(OFFSET(Male!U$18,'Male Rev'!$A32-35,0),0.03999)","v":9.5999999999999992E-3},{"$f":"MIN(OFFSET(Male!V$18,'Male Rev'!$A32-35,0),0.03999)","v":1.14E-2},{"$f":"MIN(OFFSET(Male!W$18,'Male Rev'!$A32-35,0),0.03999)","v":1.3100000000000001E-2},{"$f":"MIN(OFFSET(Male!X$18,'Male Rev'!$A32-35,0),0.03999)","v":1.47E-2},{"$f":"MIN(OFFSET(Male!Y$18,'Male Rev'!$A32-35,0),0.03999)","v":1.6E-2},{"$f":"MIN(OFFSET(Male!Z$18,'Male Rev'!$A32-35,0),0.03999)","v":1.7000000000000001E-2},{"$f":"MIN(OFFSET(Male!AA$18,'Male Rev'!$A32-35,0),0.03999)","v":1.7600000000000001E-2},{"$f":"MIN(OFFSET(Male!AB$18,'Male Rev'!$A32-35,0),0.03999)","v":1.7899999999999999E-2},{"$f":"MIN(OFFSET(Male!AC$18,'Male Rev'!$A32-35,0),0.03999)","v":1.78E-2},{"$f":"MIN(OFFSET(Male!AD$18,'Male Rev'!$A32-35,0),0.03999)","v":1.7600000000000001E-2},{"$f":"MIN(OFFSET(Male!AE$18,'Male Rev'!$A32-35,0),0.03999)","v":1.7299999999999999E-2},{"$f":"MIN(OFFSET(Male!AF$18,'Male Rev'!$A32-35,0),0.03999)","v":1.6899999999999998E-2},{"$f":"MIN(OFFSET(Male!AG$18,'Male Rev'!$A32-35,0),0.03999)","v":1.6400000000000001E-2},{"$f":"MIN(OFFSET(Male!AH$18,'Male Rev'!$A32-35,0),0.03999)","v":1.6E-2},{"$f":"MIN(OFFSET(Male!AI$18,'Male Rev'!$A32-35,0),0.03999)","v":1.5800000000000002E-2},{"$f":"MIN(OFFSET(Male!AJ$18,'Male Rev'!$A32-35,0),0.03999)","v":1.5800000000000002E-2},{"$f":"MIN(OFFSET(Male!AK$18,'Male Rev'!$A32-35,0),0.03999)","v":1.6E-2},{"$f":"MIN(OFFSET(Male!AL$18,'Male Rev'!$A32-35,0),0.03999)","v":1.6400000000000001E-2},{"$f":"MIN(OFFSET(Male!AM$18,'Male Rev'!$A32-35,0),0.03999)","v":1.67E-2},{"$f":"MIN(OFFSET(Male!AN$18,'Male Rev'!$A32-35,0),0.03999)","v":1.7100000000000001E-2},{"$f":"MIN(OFFSET(Male!AO$18,'Male Rev'!$A32-35,0),0.03999)","v":1.7399999999999999E-2},{"$f":"MIN(OFFSET(Male!AP$18,'Male Rev'!$A32-35,0),0.03999)","v":1.7600000000000001E-2},{"$f":"MIN(OFFSET(Male!AQ$18,'Male Rev'!$A32-35,0),0.03999)","v":1.77E-2},{"$f":"MIN(OFFSET(Male!AR$18,'Male Rev'!$A32-35,0),0.03999)","v":1.7899999999999999E-2},{"$f":"MIN(OFFSET(Male!AS$18,'Male Rev'!$A32-35,0),0.03999)","v":1.84E-2},{"$f":"MIN(OFFSET(Male!AT$18,'Male Rev'!$A32-35,0),0.03999)","v":1.9E-2},{"$f":"MIN(OFFSET(Male!AU$18,'Male Rev'!$A32-35,0),0.03999)","v":1.9699999999999999E-2},{"$f":"MIN(OFFSET(Male!AV$18,'Male Rev'!$A32-35,0),0.03999)","v":2.06E-2},{"$f":"MIN(OFFSET(Male!AW$18,'Male Rev'!$A32-35,0),0.03999)","v":2.1399999999999999E-2},{"$f":"MIN(OFFSET(Male!AX$18,'Male Rev'!$A32-35,0),0.03999)","v":2.2100000000000002E-2},{"$f":"MIN(OFFSET(Male!AY$18,'Male Rev'!$A32-35,0),0.03999)","v":2.2599999999999999E-2},{"$f":"MIN(OFFSET(Male!AZ$18,'Male Rev'!$A32-35,0),0.03999)","v":2.2800000000000001E-2},{"$f":"MIN(OFFSET(Male!BA$18,'Male Rev'!$A32-35,0),0.03999)","v":2.29E-2},{"$f":"MIN(OFFSET(Male!BB$18,'Male Rev'!$A32-35,0),0.03999)","v":2.2700000000000001E-2},{"$f":"MIN(OFFSET(Male!BC$18,'Male Rev'!$A32-35,0),0.03999)","v":2.2200000000000001E-2},{"$f":"MIN(OFFSET(Male!BD$18,'Male Rev'!$A32-35,0),0.03999)","v":2.1299999999999999E-2},{"$f":"MIN(OFFSET(Male!BE$18,'Male Rev'!$A32-35,0),0.03999)","v":0.02},{"$f":"MIN(OFFSET(Male!BF$18,'Male Rev'!$A32-35,0),0.03999)","v":1.84E-2},{"$f":"MIN(OFFSET(Male!BG$18,'Male Rev'!$A32-35,0),0.03999)","v":1.6500000000000001E-2},{"$f":"MIN(OFFSET(Male!BH$18,'Male Rev'!$A32-35,0),0.03999)","v":1.44E-2},{"$f":"MIN(OFFSET(Male!BI$18,'Male Rev'!$A32-35,0),0.03999)","v":1.2E-2},{"$f":"MIN(OFFSET(Male!BJ$18,'Male Rev'!$A32-35,0),0.03999)","v":9.5999999999999992E-3},{"$f":"MIN(OFFSET(Male!BK$18,'Male Rev'!$A32-35,0),0.03999)","v":7.3000000000000001E-3},{"$f":"MIN(OFFSET(Male!BL$18,'Male Rev'!$A32-35,0),0.03999)","v":5.3E-3},{"$f":"MIN(OFFSET(Male!BM$18,'Male Rev'!$A32-35,0),0.03999)","v":3.7000000000000002E-3},{"$f":"MIN(OFFSET(Male!BN$18,'Male Rev'!$A32-35,0),0.03999)","v":2.5999999999999999E-3},{"$f":"MIN(OFFSET(Male!BO$18,'Male Rev'!$A32-35,0),0.03999)","v":2.0999999999999999E-3},{"$f":"MIN(OFFSET(Male!BP$18,'Male Rev'!$A32-35,0),0.03999)","v":1.9E-3},{"$f":"MIN(OFFSET(Male!BQ$18,'Male Rev'!$A32-35,0),0.03999)","v":2.0999999999999999E-3},{"$f":"MIN(OFFSET(Male!BR$18,'Male Rev'!$A32-35,0),0.03999)","v":2.5000000000000001E-3},{"$f":"MIN(OFFSET(Male!BS$18,'Male Rev'!$A32-35,0),0.03999)","v":3.2000000000000002E-3},{"$f":"MIN(OFFSET(Male!BT$18,'Male Rev'!$A32-35,0),0.03999)","v":4.1999999999999997E-3},{"$f":"MIN(OFFSET(Male!BU$18,'Male Rev'!$A32-35,0),0.03999)","v":5.1999999999999998E-3},{"$f":"MIN(OFFSET(Male!BV$18,'Male Rev'!$A32-35,0),0.03999)","v":6.1999999999999998E-3},{"$f":"MIN(OFFSET(Male!BW$18,'Male Rev'!$A32-35,0),0.03999)","v":7.1000000000000004E-3},{"$f":"MIN(OFFSET(Male!BX$18,'Male Rev'!$A32-35,0),0.03999)","v":7.7999999999999996E-3},{"$f":"MIN(OFFSET(Male!BY$18,'Male Rev'!$A32-35,0),0.03999)","v":8.3999999999999995E-3},{"$f":"MIN(OFFSET(Male!BZ$18,'Male Rev'!$A32-35,0),0.03999)","v":8.8000000000000005E-3},{"$f":"MIN(OFFSET(Male!CA$18,'Male Rev'!$A32-35,0),0.03999)","v":9.1999999999999998E-3},{"$f":"MIN(OFFSET(Male!CB$18,'Male Rev'!$A32-35,0),0.03999)","v":9.4999999999999998E-3},{"$f":"MIN(OFFSET(Male!CC$18,'Male Rev'!$A32-35,0),0.03999)","v":9.5999999999999992E-3},{"$f":"MIN(OFFSET(Male!CD$18,'Male Rev'!$A32-35,0),0.03999)","v":9.7999999999999997E-3},{"$f":"MIN(OFFSET(Male!CE$18,'Male Rev'!$A32-35,0),0.03999)","v":9.9000000000000008E-3},{"$f":"MIN(OFFSET(Male!CF$18,'Male Rev'!$A32-35,0),0.03999)","v":9.9000000000000008E-3},{"$f":"MIN(OFFSET(Male!CG$18,'Male Rev'!$A32-35,0),0.03999)","v":0.01},{"$f":"MIN(OFFSET(Male!CH$18,'Male Rev'!$A32-35,0),0.03999)","v":0.01}]
[65,65,{"$f":"MIN(OFFSET(Male!B$18,'Male Rev'!$A33-35,0),0.03999)","v":2E-3},{"$f":"MIN(OFFSET(Male!C$18,'Male Rev'!$A33-35,0),0.03999)","v":1.9E-3},{"$f":"MIN(OFFSET(Male!D$18,'Male Rev'!$A33-35,0),0.03999)","v":1.6999999999999999E-3},{"$f":"MIN(OFFSET(Male!E$18,'Male Rev'!$A33-35,0),0.03999)","v":1.4E-3},{"$f":"MIN(OFFSET(Male!F$18,'Male Rev'!$A33-35,0),0.03999)","v":8.0000000000000004E-4},{"$f":"MIN(OFFSET(Male!G$18,'Male Rev'!$A33-35,0),0.03999)","v":2.0000000000000001E-4},{"$f":"MIN(OFFSET(Male!H$18,'Male Rev'!$A33-35,0),0.03999)","v":-2.9999999999999997E-4},{"$f":"MIN(OFFSET(Male!I$18,'Male Rev'!$A33-35,0),0.03999)","v":-6.9999999999999999E-4},{"$f":"MIN(OFFSET(Male!J$18,'Male Rev'!$A33-35,0),0.03999)","v":-8.9999999999999998E-4},{"$f":"MIN(OFFSET(Male!K$18,'Male Rev'!$A33-35,0),0.03999)","v":-1.1000000000000001E-3},{"$f":"MIN(OFFSET(Male!L$18,'Male Rev'!$A33-35,0),0.03999)","v":-1.1000000000000001E-3},{"$f":"MIN(OFFSET(Male!M$18,'Male Rev'!$A33-35,0),0.03999)","v":-1E-3},{"$f":"MIN(OFFSET(Male!N$18,'Male Rev'!$A33-35,0),0.03999)","v":-4.0000000000000002E-4},{"$f":"MIN(OFFSET(Male!O$18,'Male Rev'!$A33-35,0),0.03999)","v":4.0000000000000002E-4},{"$f":"MIN(OFFSET(Male!P$18,'Male Rev'!$A33-35,0),0.03999)","v":1.5E-3},{"$f":"MIN(OFFSET(Male!Q$18,'Male Rev'!$A33-35,0),0.03999)","v":2.8999999999999998E-3},{"$f":"MIN(OFFSET(Male!R$18,'Male Rev'!$A33-35,0),0.03999)","v":4.4999999999999997E-3},{"$f":"MIN(OFFSET(Male!S$18,'Male Rev'!$A33-35,0),0.03999)","v":6.1999999999999998E-3},{"$f":"MIN(OFFSET(Male!T$18,'Male Rev'!$A33-35,0),0.03999)","v":8.0999999999999996E-3},{"$f":"MIN(OFFSET(Male!U$18,'Male Rev'!$A33-35,0),0.03999)","v":0.01},{"$f":"MIN(OFFSET(Male!V$18,'Male Rev'!$A33-35,0),0.03999)","v":1.1900000000000001E-2},{"$f":"MIN(OFFSET(Male!W$18,'Male Rev'!$A33-35,0),0.03999)","v":1.3599999999999999E-2},{"$f":"MIN(OFFSET(Male!X$18,'Male Rev'!$A33-35,0),0.03999)","v":1.5299999999999999E-2},{"$f":"MIN(OFFSET(Male!Y$18,'Male Rev'!$A33-35,0),0.03999)","v":1.67E-2},{"$f":"MIN(OFFSET(Male!Z$18,'Male Rev'!$A33-35,0),0.03999)","v":1.77E-2},{"$f":"MIN(OFFSET(Male!AA$18,'Male Rev'!$A33-35,0),0.03999)","v":1.83E-2},{"$f":"MIN(OFFSET(Male!AB$18,'Male Rev'!$A33-35,0),0.03999)","v":1.8599999999999998E-2},{"$f":"MIN(OFFSET(Male!AC$18,'Male Rev'!$A33-35,0),0.03999)","v":1.8599999999999998E-2},{"$f":"MIN(OFFSET(Male!AD$18,'Male Rev'!$A33-35,0),0.03999)","v":1.84E-2},{"$f":"MIN(OFFSET(Male!AE$18,'Male Rev'!$A33-35,0),0.03999)","v":1.7899999999999999E-2},{"$f":"MIN(OFFSET(Male!AF$18,'Male Rev'!$A33-35,0),0.03999)","v":1.7500000000000002E-2},{"$f":"MIN(OFFSET(Male!AG$18,'Male Rev'!$A33-35,0),0.03999)","v":1.6899999999999998E-2},{"$f":"MIN(OFFSET(Male!AH$18,'Male Rev'!$A33-35,0),0.03999)","v":1.6500000000000001E-2},{"$f":"MIN(OFFSET(Male!AI$18,'Male Rev'!$A33-35,0),0.03999)","v":1.6199999999999999E-2},{"$f":"MIN(OFFSET(Male!AJ$18,'Male Rev'!$A33-35,0),0.03999)","v":1.6199999999999999E-2},{"$f":"MIN(OFFSET(Male!AK$18,'Male Rev'!$A33-35,0),0.03999)","v":1.6299999999999999E-2},{"$f":"MIN(OFFSET(Male!AL$18,'Male Rev'!$A33-35,0),0.03999)","v":1.67E-2},{"$f":"MIN(OFFSET(Male!AM$18,'Male Rev'!$A33-35,0),0.03999)","v":1.7100000000000001E-2},{"$f":"MIN(OFFSET(Male!AN$18,'Male Rev'!$A33-35,0),0.03999)","v":1.7500000000000002E-2},{"$f":"MIN(OFFSET(Male!AO$18,'Male Rev'!$A33-35,0),0.03999)","v":1.78E-2},{"$f":"MIN(OFFSET(Male!AP$18,'Male Rev'!$A33-35,0),0.03999)","v":1.7999999999999999E-2},{"$f":"MIN(OFFSET(Male!AQ$18,'Male Rev'!$A33-35,0),0.03999)","v":1.8100000000000002E-2},{"$f":"MIN(OFFSET(Male!AR$18,'Male Rev'!$A33-35,0),0.03999)","v":1.83E-2},{"$f":"MIN(OFFSET(Male!AS$18,'Male Rev'!$A33-35,0),0.03999)","v":1.8700000000000001E-2},{"$f":"MIN(OFFSET(Male!AT$18,'Male Rev'!$A33-35,0),0.03999)","v":1.9300000000000001E-2},{"$f":"MIN(OFFSET(Male!AU$18,'Male Rev'!$A33-35,0),0.03999)","v":0.02},{"$f":"MIN(OFFSET(Male!AV$18,'Male Rev'!$A33-35,0),0.03999)","v":2.0799999999999999E-2},{"$f":"MIN(OFFSET(Male!AW$18,'Male Rev'!$A33-35,0),0.03999)","v":2.1399999999999999E-2},{"$f":"MIN(OFFSET(Male!AX$18,'Male Rev'!$A33-35,0),0.03999)","v":2.1999999999999999E-2},{"$f":"MIN(OFFSET(Male!AY$18,'Male Rev'!$A33-35,0),0.03999)","v":2.23E-2},{"$f":"MIN(OFFSET(Male!AZ$18,'Male Rev'!$A33-35,0),0.03999)","v":2.24E-2},{"$f":"MIN(OFFSET(Male!BA$18,'Male Rev'!$A33-35,0),0.03999)","v":2.23E-2},{"$f":"MIN(OFFSET(Male!BB$18,'Male Rev'!$A33-35,0),0.03999)","v":2.1999999999999999E-2},{"$f":"MIN(OFFSET(Male!BC$18,'Male Rev'!$A33-35,0),0.03999)","v":2.1399999999999999E-2},{"$f":"MIN(OFFSET(Male!BD$18,'Male Rev'!$A33-35,0),0.03999)","v":2.0400000000000001E-2},{"$f":"MIN(OFFSET(Male!BE$18,'Male Rev'!$A33-35,0),0.03999)","v":1.9099999999999999E-2},{"$f":"MIN(OFFSET(Male!BF$18,'Male Rev'!$A33-35,0),0.03999)","v":1.7399999999999999E-2},{"$f":"MIN(OFFSET(Male!BG$18,'Male Rev'!$A33-35,0),0.03999)","v":1.55E-2},{"$f":"MIN(OFFSET(Male!BH$18,'Male Rev'!$A33-35,0),0.03999)","v":1.3299999999999999E-2},{"$f":"MIN(OFFSET(Male!BI$18,'Male Rev'!$A33-35,0),0.03999)","v":1.09E-2},{"$f":"MIN(OFFSET(Male!BJ$18,'Male Rev'!$A33-35,0),0.03999)","v":8.3000000000000001E-3},{"$f":"MIN(OFFSET(Male!BK$18,'Male Rev'!$A33-35,0),0.03999)","v":5.8999999999999999E-3},{"$f":"MIN(OFFSET(Male!BL$18,'Male Rev'!$A33-35,0),0.03999)","v":3.8999999999999998E-3},{"$f":"MIN(OFFSET(Male!BM$18,'Male Rev'!$A33-35,0),0.03999)","v":2.3999999999999998E-3},{"$f":"MIN(OFFSET(Male!BN$18,'Male Rev'!$A33-35,0),0.03999)","v":1.2999999999999999E-3},{"$f":"MIN(OFFSET(Male!BO$18,'Male Rev'!$A33-35,0),0.03999)","v":8.9999999999999998E-4},{"$f":"MIN(OFFSET(Male!BP$18,'Male Rev'!$A33-35,0),0.03999)","v":8.9999999999999998E-4},{"$f":"MIN(OFFSET(Male!BQ$18,'Male Rev'!$A33-35,0),0.03999)","v":1.2999999999999999E-3},{"$f":"MIN(OFFSET(Male!BR$18,'Male Rev'!$A33-35,0),0.03999)","v":2E-3},{"$f":"MIN(OFFSET(Male!BS$18,'Male Rev'!$A33-35,0),0.03999)","v":2.8999999999999998E-3},{"$f":"MIN(OFFSET(Male!BT$18,'Male Rev'!$A33-35,0),0.03999)","v":4.1000000000000003E-3},{"$f":"MIN(OFFSET(Male!BU$18,'Male Rev'!$A33-35,0),0.03999)","v":5.3E-3},{"$f":"MIN(OFFSET(Male!BV$18,'Male Rev'!$A33-35,0),0.03999)","v":6.4000000000000003E-3},{"$f":"MIN(OFFSET(Male!BW$18,'Male Rev'!$A33-35,0),0.03999)","v":7.4000000000000003E-3},{"$f":"MIN(OFFSET(Male!BX$18,'Male Rev'!$A33-35,0),0.03999)","v":8.0999999999999996E-3},{"$f":"MIN(OFFSET(Male!BY$18,'Male Rev'!$A33-35,0),0.03999)","v":8.6E-3},{"$f":"MIN(OFFSET(Male!BZ$18,'Male Rev'!$A33-35,0),0.03999)","v":8.9999999999999993E-3},{"$f":"MIN(OFFSET(Male!CA$18,'Male Rev'!$A33-35,0),0.03999)","v":9.2999999999999992E-3},{"$f":"MIN(OFFSET(Male!CB$18,'Male Rev'!$A33-35,0),0.03999)","v":9.4999999999999998E-3},{"$f":"MIN(OFFSET(Male!CC$18,'Male Rev'!$A33-35,0),0.03999)","v":9.5999999999999992E-3},{"$f":"MIN(OFFSET(Male!CD$18,'Male Rev'!$A33-35,0),0.03999)","v":9.7000000000000003E-3},{"$f":"MIN(OFFSET(Male!CE$18,'Male Rev'!$A33-35,0),0.03999)","v":9.7999999999999997E-3},{"$f":"MIN(OFFSET(Male!CF$18,'Male Rev'!$A33-35,0),0.03999)","v":9.9000000000000008E-3},{"$f":"MIN(OFFSET(Male!CG$18,'Male Rev'!$A33-35,0),0.03999)","v":0.01},{"$f":"MIN(OFFSET(Male!CH$18,'Male Rev'!$A33-35,0),0.03999)","v":0.01}]
[64,64,{"$f":"MIN(OFFSET(Male!B$18,'Male Rev'!$A34-35,0),0.03999)","v":2.3999999999999998E-3},{"$f":"MIN(OFFSET(Male!C$18,'Male Rev'!$A34-35,0),0.03999)","v":2.3E-3},{"$f":"MIN(OFFSET(Male!D$18,'Male Rev'!$A34-35,0),0.03999)","v":2.0999999999999999E-3},{"$f":"MIN(OFFSET(Male!E$18,'Male Rev'!$A34-35,0),0.03999)","v":1.8E-3},{"$f":"MIN(OFFSET(Male!F$18,'Male Rev'!$A34-35,0),0.03999)","v":1.1999999999999999E-3},{"$f":"MIN(OFFSET(Male!G$18,'Male Rev'!$A34-35,0),0.03999)","v":5.0000000000000001E-4},{"$f":"MIN(OFFSET(Male!H$18,'Male Rev'!$A34-35,0),0.03999)","v":-1E-4},{"$f":"MIN(OFFSET(Male!I$18,'Male Rev'!$A34-35,0),0.03999)","v":-4.0000000000000002E-4},{"$f":"MIN(OFFSET(Male!J$18,'Male Rev'!$A34-35,0),0.03999)","v":-8.0000000000000004E-4},{"$f":"MIN(OFFSET(Male!K$18,'Male Rev'!$A34-35,0),0.03999)","v":-1E-3},{"$f":"MIN(OFFSET(Male!L$18,'Male Rev'!$A34-35,0),0.03999)","v":-1.1000000000000001E-3},{"$f":"MIN(OFFSET(Male!M$18,'Male Rev'!$A34-35,0),0.03999)","v":-8.9999999999999998E-4},{"$f":"MIN(OFFSET(Male!N$18,'Male Rev'!$A34-35,0),0.03999)","v":-5.0000000000000001E-4},{"$f":"MIN(OFFSET(Male!O$18,'Male Rev'!$A34-35,0),0.03999)","v":4.0000000000000002E-4},{"$f":"MIN(OFFSET(Male!P$18,'Male Rev'!$A34-35,0),0.03999)","v":1.5E-3},{"$f":"MIN(OFFSET(Male!Q$18,'Male Rev'!$A34-35,0),0.03999)","v":2.8999999999999998E-3},{"$f":"MIN(OFFSET(Male!R$18,'Male Rev'!$A34-35,0),0.03999)","v":4.5999999999999999E-3},{"$f":"MIN(OFFSET(Male!S$18,'Male Rev'!$A34-35,0),0.03999)","v":6.4000000000000003E-3},{"$f":"MIN(OFFSET(Male!T$18,'Male Rev'!$A34-35,0),0.03999)","v":8.3999999999999995E-3},{"$f":"MIN(OFFSET(Male!U$18,'Male Rev'!$A34-35,0),0.03999)","v":1.03E-2},{"$f":"MIN(OFFSET(Male!V$18,'Male Rev'!$A34-35,0),0.03999)","v":1.23E-2},{"$f":"MIN(OFFSET(Male!W$18,'Male Rev'!$A34-35,0),0.03999)","v":1.4200000000000001E-2},{"$f":"MIN(OFFSET(Male!X$18,'Male Rev'!$A34-35,0),0.03999)","v":1.5900000000000001E-2},{"$f":"MIN(OFFSET(Male!Y$18,'Male Rev'!$A34-35,0),0.03999)","v":1.7399999999999999E-2},{"$f":"MIN(OFFSET(Male!Z$18,'Male Rev'!$A34-35,0),0.03999)","v":1.84E-2},{"$f":"MIN(OFFSET(Male!AA$18,'Male Rev'!$A34-35,0),0.03999)","v":1.9099999999999999E-2},{"$f":"MIN(OFFSET(Male!AB$18,'Male Rev'!$A34-35,0),0.03999)","v":1.9400000000000001E-2},{"$f":"MIN(OFFSET(Male!AC$18,'Male Rev'!$A34-35,0),0.03999)","v":1.9300000000000001E-2},{"$f":"MIN(OFFSET(Male!AD$18,'Male Rev'!$A34-35,0),0.03999)","v":1.9099999999999999E-2},{"$f":"MIN(OFFSET(Male!AE$18,'Male Rev'!$A34-35,0),0.03999)","v":1.8599999999999998E-2},{"$f":"MIN(OFFSET(Male!AF$18,'Male Rev'!$A34-35,0),0.03999)","v":1.7999999999999999E-2},{"$f":"MIN(OFFSET(Male!AG$18,'Male Rev'!$A34-35,0),0.03999)","v":1.7399999999999999E-2},{"$f":"MIN(OFFSET(Male!AH$18,'Male Rev'!$A34-35,0),0.03999)","v":1.6799999999999999E-2},{"$f":"MIN(OFFSET(Male!AI$18,'Male Rev'!$A34-35,0),0.03999)","v":1.6500000000000001E-2},{"$f":"MIN(OFFSET(Male!AJ$18,'Male Rev'!$A34-35,0),0.03999)","v":1.6500000000000001E-2},{"$f":"MIN(OFFSET(Male!AK$18,'Male Rev'!$A34-35,0),0.03999)","v":1.67E-2},{"$f":"MIN(OFFSET(Male!AL$18,'Male Rev'!$A34-35,0),0.03999)","v":1.7000000000000001E-2},{"$f":"MIN(OFFSET(Male!AM$18,'Male Rev'!$A34-35,0),0.03999)","v":1.7399999999999999E-2},{"$f":"MIN(OFFSET(Male!AN$18,'Male Rev'!$A34-35,0),0.03999)","v":1.7899999999999999E-2},{"$f":"MIN(OFFSET(Male!AO$18,'Male Rev'!$A34-35,0),0.03999)","v":1.8200000000000001E-2},{"$f":"MIN(OFFSET(Male!AP$18,'Male Rev'!$A34-35,0),0.03999)","v":1.84E-2},{"$f":"MIN(OFFSET(Male!AQ$18,'Male Rev'!$A34-35,0),0.03999)","v":1.8499999999999999E-2},{"$f":"MIN(OFFSET(Male!AR$18,'Male Rev'!$A34-35,0),0.03999)","v":1.8700000000000001E-2},{"$f":"MIN(OFFSET(Male!AS$18,'Male Rev'!$A34-35,0),0.03999)","v":1.9099999999999999E-2},{"$f":"MIN(OFFSET(Male!AT$18,'Male Rev'!$A34-35,0),0.03999)","v":1.9599999999999999E-2},{"$f":"MIN(OFFSET(Male!AU$18,'Male Rev'!$A34-35,0),0.03999)","v":2.0199999999999999E-2},{"$f":"MIN(OFFSET(Male!AV$18,'Male Rev'!$A34-35,0),0.03999)","v":2.0799999999999999E-2},{"$f":"MIN(OFFSET(Male!AW$18,'Male Rev'!$A34-35,0),0.03999)","v":2.1399999999999999E-2},{"$f":"MIN(OFFSET(Male!AX$18,'Male Rev'!$A34-35,0),0.03999)","v":2.1700000000000001E-2},{"$f":"MIN(OFFSET(Male!AY$18,'Male Rev'!$A34-35,0),0.03999)","v":2.18E-2},{"$f":"MIN(OFFSET(Male!AZ$18,'Male Rev'!$A34-35,0),0.03999)","v":2.18E-2},{"$f":"MIN(OFFSET(Male!BA$18,'Male Rev'!$A34-35,0),0.03999)","v":2.1499999999999998E-2},{"$f":"MIN(OFFSET(Male!BB$18,'Male Rev'!$A34-35,0),0.03999)","v":2.1100000000000001E-2},{"$f":"MIN(OFFSET(Male!BC$18,'Male Rev'!$A34-35,0),0.03999)","v":2.0400000000000001E-2},{"$f":"MIN(OFFSET(Male!BD$18,'Male Rev'!$A34-35,0),0.03999)","v":1.9400000000000001E-2},{"$f":"MIN(OFFSET(Male!BE$18,'Male Rev'!$A34-35,0),0.03999)","v":1.7999999999999999E-2},{"$f":"MIN(OFFSET(Male!BF$18,'Male Rev'!$A34-35,0),0.03999)","v":1.6299999999999999E-2},{"$f":"MIN(OFFSET(Male!BG$18,'Male Rev'!$A34-35,0),0.03999)","v":1.43E-2},{"$f":"MIN(OFFSET(Male!BH$18,'Male Rev'!$A34-35,0),0.03999)","v":1.21E-2},{"$f":"MIN(OFFSET(Male!BI$18,'Male Rev'!$A34-35,0),0.03999)","v":9.5999999999999992E-3},{"$f":"MIN(OFFSET(Male!BJ$18,'Male Rev'!$A34-35,0),0.03999)","v":7.1000000000000004E-3},{"$f":"MIN(OFFSET(Male!BK$18,'Male Rev'!$A34-35,0),0.03999)","v":4.5999999999999999E-3},{"$f":"MIN(OFFSET(Male!BL$18,'Male Rev'!$A34-35,0),0.03999)","v":2.5999999999999999E-3},{"$f":"MIN(OFFSET(Male!BM$18,'Male Rev'!$A34-35,0),0.03999)","v":1.1000000000000001E-3},{"$f":"MIN(OFFSET(Male!BN$18,'Male Rev'!$A34-35,0),0.03999)","v":2.0000000000000001E-4},{"$f":"MIN(OFFSET(Male!BO$18,'Male Rev'!$A34-35,0),0.03999)","v":-1E-4},{"$f":"MIN(OFFSET(Male!BP$18,'Male Rev'!$A34-35,0),0.03999)","v":1E-4},{"$f":"MIN(OFFSET(Male!BQ$18,'Male Rev'!$A34-35,0),0.03999)","v":6.9999999999999999E-4},{"$f":"MIN(OFFSET(Male!BR$18,'Male Rev'!$A34-35,0),0.03999)","v":1.6000000000000001E-3},{"$f":"MIN(OFFSET(Male!BS$18,'Male Rev'!$A34-35,0),0.03999)","v":2.8E-3},{"$f":"MIN(OFFSET(Male!BT$18,'Male Rev'!$A34-35,0),0.03999)","v":4.1999999999999997E-3},{"$f":"MIN(OFFSET(Male!BU$18,'Male Rev'!$A34-35,0),0.03999)","v":5.4999999999999997E-3},{"$f":"MIN(OFFSET(Male!BV$18,'Male Rev'!$A34-35,0),0.03999)","v":6.7000000000000002E-3},{"$f":"MIN(OFFSET(Male!BW$18,'Male Rev'!$A34-35,0),0.03999)","v":7.7000000000000002E-3},{"$f":"MIN(OFFSET(Male!BX$18,'Male Rev'!$A34-35,0),0.03999)","v":8.3999999999999995E-3},{"$f":"MIN(OFFSET(Male!BY$18,'Male Rev'!$A34-35,0),0.03999)","v":8.8000000000000005E-3},{"$f":"MIN(OFFSET(Male!BZ$18,'Male Rev'!$A34-35,0),0.03999)","v":9.1000000000000004E-3},{"$f":"MIN(OFFSET(Male!CA$18,'Male Rev'!$A34-35,0),0.03999)","v":9.4000000000000004E-3},{"$f":"MIN(OFFSET(Male!CB$18,'Male Rev'!$A34-35,0),0.03999)","v":9.4999999999999998E-3},{"$f":"MIN(OFFSET(Male!CC$18,'Male Rev'!$A34-35,0),0.03999)","v":9.5999999999999992E-3},{"$f":"MIN(OFFSET(Male!CD$18,'Male Rev'!$A34-35,0),0.03999)","v":9.7000000000000003E-3},{"$f":"MIN(OFFSET(Male!CE$18,'Male Rev'!$A34-35,0),0.03999)","v":9.7999999999999997E-3},{"$f":"MIN(OFFSET(Male!CF$18,'Male Rev'!$A34-35,0),0.03999)","v":9.9000000000000008E-3},{"$f":"MIN(OFFSET(Male!CG$18,'Male Rev'!$A34-35,0),0.03999)","v":0.01},{"$f":"MIN(OFFSET(Male!CH$18,'Male Rev'!$A34-35,0),0.03999)","v":0.01}]
[63,63,{"$f":"MIN(OFFSET(Male!B$18,'Male Rev'!$A35-35,0),0.03999)","v":2.8999999999999998E-3},{"$f":"MIN(OFFSET(Male!C$18,'Male Rev'!$A35-35,0),0.03999)","v":2.8E-3},{"$f":"MIN(OFFSET(Male!D$18,'Male Rev'!$A35-35,0),0.03999)","v":2.5999999999999999E-3},{"$f":"MIN(OFFSET(Male!E$18,'Male Rev'!$A35-35,0),0.03999)","v":2.2000000000000001E-3},{"$f":"MIN(OFFSET(Male!F$18,'Male Rev'!$A35-35,0),0.03999)","v":1.6000000000000001E-3},{"$f":"MIN(OFFSET(Male!G$18,'Male Rev'!$A35-35,0),0.03999)","v":8.9999999999999998E-4},{"$f":"MIN(OFFSET(Male!H$18,'Male Rev'!$A35-35,0),0.03999)","v":2.9999999999999997E-4},{"$f":"MIN(OFFSET(Male!I$18,'Male Rev'!$A35-35,0),0.03999)","v":-2.0000000000000001E-4},{"$f":"MIN(OFFSET(Male!J$18,'Male Rev'!$A35-35,0),0.03999)","v":-5.9999999999999995E-4},{"$f":"MIN(OFFSET(Male!K$18,'Male Rev'!$A35-35,0),0.03999)","v":-8.9999999999999998E-4},{"$f":"MIN(OFFSET(Male!L$18,'Male Rev'!$A35-35,0),0.03999)","v":-1E-3},{"$f":"MIN(OFFSET(Male!M$18,'Male Rev'!$A35-35,0),0.03999)","v":-8.9999999999999998E-4},{"$f":"MIN(OFFSET(Male!N$18,'Male Rev'!$A35-35,0),0.03999)","v":-5.0000000000000001E-4},{"$f":"MIN(OFFSET(Male!O$18,'Male Rev'!$A35-35,0),0.03999)","v":2.9999999999999997E-4},{"$f":"MIN(OFFSET(Male!P$18,'Male Rev'!$A35-35,0),0.03999)","v":1.5E-3},{"$f":"MIN(OFFSET(Male!Q$18,'Male Rev'!$A35-35,0),0.03999)","v":2.8999999999999998E-3},{"$f":"MIN(OFFSET(Male!R$18,'Male Rev'!$A35-35,0),0.03999)","v":4.5999999999999999E-3},{"$f":"MIN(OFFSET(Male!S$18,'Male Rev'!$A35-35,0),0.03999)","v":6.4999999999999997E-3},{"$f":"MIN(OFFSET(Male!T$18,'Male Rev'!$A35-35,0),0.03999)","v":8.6E-3},{"$f":"MIN(OFFSET(Male!U$18,'Male Rev'!$A35-35,0),0.03999)","v":1.0699999999999999E-2},{"$f":"MIN(OFFSET(Male!V$18,'Male Rev'!$A35-35,0),0.03999)","v":1.2699999999999999E-2},{"$f":"MIN(OFFSET(Male!W$18,'Male Rev'!$A35-35,0),0.03999)","v":1.47E-2},{"$f":"MIN(OFFSET(Male!X$18,'Male Rev'!$A35-35,0),0.03999)","v":1.6500000000000001E-2},{"$f":"MIN(OFFSET(Male!Y$18,'Male Rev'!$A35-35,0),0.03999)","v":1.8100000000000002E-2},{"$f":"MIN(OFFSET(Male!Z$18,'Male Rev'!$A35-35,0),0.03999)","v":1.9199999999999998E-2},{"$f":"MIN(OFFSET(Male!AA$18,'Male Rev'!$A35-35,0),0.03999)","v":1.9800000000000002E-2},{"$f":"MIN(OFFSET(Male!AB$18,'Male Rev'!$A35-35,0),0.03999)","v":2.01E-2},{"$f":"MIN(OFFSET(Male!AC$18,'Male Rev'!$A35-35,0),0.03999)","v":0.02},{"$f":"MIN(OFFSET(Male!AD$18,'Male Rev'!$A35-35,0),0.03999)","v":1.9699999999999999E-2},{"$f":"MIN(OFFSET(Male!AE$18,'Male Rev'!$A35-35,0),0.03999)","v":1.9199999999999998E-2},{"$f":"MIN(OFFSET(Male!AF$18,'Male Rev'!$A35-35,0),0.03999)","v":1.8499999999999999E-2},{"$f":"MIN(OFFSET(Male!AG$18,'Male Rev'!$A35-35,0),0.03999)","v":1.78E-2},{"$f":"MIN(OFFSET(Male!AH$18,'Male Rev'!$A35-35,0),0.03999)","v":1.72E-2},{"$f":"MIN(OFFSET(Male!AI$18,'Male Rev'!$A35-35,0),0.03999)","v":1.6899999999999998E-2},{"$f":"MIN(OFFSET(Male!AJ$18,'Male Rev'!$A35-35,0),0.03999)","v":1.6799999999999999E-2},{"$f":"MIN(OFFSET(Male!AK$18,'Male Rev'!$A35-35,0),0.03999)","v":1.7000000000000001E-2},{"$f":"MIN(OFFSET(Male!AL$18,'Male Rev'!$A35-35,0),0.03999)","v":1.7399999999999999E-2},{"$f":"MIN(OFFSET(Male!AM$18,'Male Rev'!$A35-35,0),0.03999)","v":1.78E-2},{"$f":"MIN(OFFSET(Male!AN$18,'Male Rev'!$A35-35,0),0.03999)","v":1.8200000000000001E-2},{"$f":"MIN(OFFSET(Male!AO$18,'Male Rev'!$A35-35,0),0.03999)","v":1.8599999999999998E-2},{"$f":"MIN(OFFSET(Male!AP$18,'Male Rev'!$A35-35,0),0.03999)","v":1.8800000000000001E-2},{"$f":"MIN(OFFSET(Male!AQ$18,'Male Rev'!$A35-35,0),0.03999)","v":1.89E-2},{"$f":"MIN(OFFSET(Male!AR$18,'Male Rev'!$A35-35,0),0.03999)","v":1.9E-2},{"$f":"MIN(OFFSET(Male!AS$18,'Male Rev'!$A35-35,0),0.03999)","v":1.9300000000000001E-2},{"$f":"MIN(OFFSET(Male!AT$18,'Male Rev'!$A35-35,0),0.03999)","v":1.9800000000000002E-2},{"$f":"MIN(OFFSET(Male!AU$18,'Male Rev'!$A35-35,0),0.03999)","v":2.0299999999999999E-2},{"$f":"MIN(OFFSET(Male!AV$18,'Male Rev'!$A35-35,0),0.03999)","v":2.0799999999999999E-2},{"$f":"MIN(OFFSET(Male!AW$18,'Male Rev'!$A35-35,0),0.03999)","v":2.1100000000000001E-2},{"$f":"MIN(OFFSET(Male!AX$18,'Male Rev'!$A35-35,0),0.03999)","v":2.1299999999999999E-2},{"$f":"MIN(OFFSET(Male!AY$18,'Male Rev'!$A35-35,0),0.03999)","v":2.12E-2},{"$f":"MIN(OFFSET(Male!AZ$18,'Male Rev'!$A35-35,0),0.03999)","v":2.1000000000000001E-2},{"$f":"MIN(OFFSET(Male!BA$18,'Male Rev'!$A35-35,0),0.03999)","v":2.06E-2},{"$f":"MIN(OFFSET(Male!BB$18,'Male Rev'!$A35-35,0),0.03999)","v":2.01E-2},{"$f":"MIN(OFFSET(Male!BC$18,'Male Rev'!$A35-35,0),0.03999)","v":1.9300000000000001E-2},{"$f":"MIN(OFFSET(Male!BD$18,'Male Rev'!$A35-35,0),0.03999)","v":1.8200000000000001E-2},{"$f":"MIN(OFFSET(Male!BE$18,'Male Rev'!$A35-35,0),0.03999)","v":1.6799999999999999E-2},{"$f":"MIN(OFFSET(Male!BF$18,'Male Rev'!$A35-35,0),0.03999)","v":1.5100000000000001E-2},{"$f":"MIN(OFFSET(Male!BG$18,'Male Rev'!$A35-35,0),0.03999)","v":1.3100000000000001E-2},{"$f":"MIN(OFFSET(Male!BH$18,'Male Rev'!$A35-35,0),0.03999)","v":1.09E-2},{"$f":"MIN(OFFSET(Male!BI$18,'Male Rev'!$A35-35,0),0.03999)","v":8.3999999999999995E-3},{"$f":"MIN(OFFSET(Male!BJ$18,'Male Rev'!$A35-35,0),0.03999)","v":5.7999999999999996E-3},{"$f":"MIN(OFFSET(Male!BK$18,'Male Rev'!$A35-35,0),0.03999)","v":3.3999999999999998E-3},{"$f":"MIN(OFFSET(Male!BL$18,'Male Rev'!$A35-35,0),0.03999)","v":1.4E-3},{"$f":"MIN(OFFSET(Male!BM$18,'Male Rev'!$A35-35,0),0.03999)","v":1E-4},{"$f":"MIN(OFFSET(Male!BN$18,'Male Rev'!$A35-35,0),0.03999)","v":-6.9999999999999999E-4},{"$f":"MIN(OFFSET(Male!BO$18,'Male Rev'!$A35-35,0),0.03999)","v":-8.9999999999999998E-4},{"$f":"MIN(OFFSET(Male!BP$18,'Male Rev'!$A35-35,0),0.03999)","v":-5.0000000000000001E-4},{"$f":"MIN(OFFSET(Male!BQ$18,'Male Rev'!$A35-35,0),0.03999)","v":2.9999999999999997E-4},{"$f":"MIN(OFFSET(Male!BR$18,'Male Rev'!$A35-35,0),0.03999)","v":1.5E-3},{"$f":"MIN(OFFSET(Male!BS$18,'Male Rev'!$A35-35,0),0.03999)","v":2.8999999999999998E-3},{"$f":"MIN(OFFSET(Male!BT$18,'Male Rev'!$A35-35,0),0.03999)","v":4.3E-3},{"$f":"MIN(OFFSET(Male!BU$18,'Male Rev'!$A35-35,0),0.03999)","v":5.7000000000000002E-3},{"$f":"MIN(OFFSET(Male!BV$18,'Male Rev'!$A35-35,0),0.03999)","v":7.0000000000000001E-3},{"$f":"MIN(OFFSET(Male!BW$18,'Male Rev'!$A35-35,0),0.03999)","v":8.0000000000000002E-3},{"$f":"MIN(OFFSET(Male!BX$18,'Male Rev'!$A35-35,0),0.03999)","v":8.6E-3},{"$f":"MIN(OFFSET(Male!BY$18,'Male Rev'!$A35-35,0),0.03999)","v":8.8999999999999999E-3},{"$f":"MIN(OFFSET(Male!BZ$18,'Male Rev'!$A35-35,0),0.03999)","v":9.1999999999999998E-3},{"$f":"MIN(OFFSET(Male!CA$18,'Male Rev'!$A35-35,0),0.03999)","v":9.4000000000000004E-3},{"$f":"MIN(OFFSET(Male!CB$18,'Male Rev'!$A35-35,0),0.03999)","v":9.4999999999999998E-3},{"$f":"MIN(OFFSET(Male!CC$18,'Male Rev'!$A35-35,0),0.03999)","v":9.5999999999999992E-3},{"$f":"MIN(OFFSET(Male!CD$18,'Male Rev'!$A35-35,0),0.03999)","v":9.5999999999999992E-3},{"$f":"MIN(OFFSET(Male!CE$18,'Male Rev'!$A35-35,0),0.03999)","v":9.7000000000000003E-3},{"$f":"MIN(OFFSET(Male!CF$18,'Male Rev'!$A35-35,0),0.03999)","v":9.7999999999999997E-3},{"$f":"MIN(OFFSET(Male!CG$18,'Male Rev'!$A35-35,0),0.03999)","v":9.9000000000000008E-3},{"$f":"MIN(OFFSET(Male!CH$18,'Male Rev'!$A35-35,0),0.03999)","v":0.01}]
[62,62,{"$f":"MIN(OFFSET(Male!B$18,'Male Rev'!$A36-35,0),0.03999)","v":3.5000000000000001E-3},{"$f":"MIN(OFFSET(Male!C$18,'Male Rev'!$A36-35,0),0.03999)","v":3.3999999999999998E-3},{"$f":"MIN(OFFSET(Male!D$18,'Male Rev'!$A36-35,0),0.03999)","v":3.2000000000000002E-3},{"$f":"MIN(OFFSET(Male!E$18,'Male Rev'!$A36-35,0),0.03999)","v":2.8E-3},{"$f":"MIN(OFFSET(Male!F$18,'Male Rev'!$A36-35,0),0.03999)","v":2.0999999999999999E-3},{"$f":"MIN(OFFSET(Male!G$18,'Male Rev'!$A36-35,0),0.03999)","v":1.2999999999999999E-3},{"$f":"MIN(OFFSET(Male!H$18,'Male Rev'!$A36-35,0),0.03999)","v":6.9999999999999999E-4},{"$f":"MIN(OFFSET(Male!I$18,'Male Rev'!$A36-35,0),0.03999)","v":2.0000000000000001E-4},{"$f":"MIN(OFFSET(Male!J$18,'Male Rev'!$A36-35,0),0.03999)","v":-2.9999999999999997E-4},{"$f":"MIN(OFFSET(Male!K$18,'Male Rev'!$A36-35,0),0.03999)","v":-5.9999999999999995E-4},{"$f":"MIN(OFFSET(Male!L$18,'Male Rev'!$A36-35,0),0.03999)","v":-8.0000000000000004E-4},{"$f":"MIN(OFFSET(Male!M$18,'Male Rev'!$A36-35,0),0.03999)","v":-8.0000000000000004E-4},{"$f":"MIN(OFFSET(Male!N$18,'Male Rev'!$A36-35,0),0.03999)","v":-4.0000000000000002E-4},{"$f":"MIN(OFFSET(Male!O$18,'Male Rev'!$A36-35,0),0.03999)","v":2.9999999999999997E-4},{"$f":"MIN(OFFSET(Male!P$18,'Male Rev'!$A36-35,0),0.03999)","v":1.4E-3},{"$f":"MIN(OFFSET(Male!Q$18,'Male Rev'!$A36-35,0),0.03999)","v":2.8999999999999998E-3},{"$f":"MIN(OFFSET(Male!R$18,'Male Rev'!$A36-35,0),0.03999)","v":4.5999999999999999E-3},{"$f":"MIN(OFFSET(Male!S$18,'Male Rev'!$A36-35,0),0.03999)","v":6.4999999999999997E-3},{"$f":"MIN(OFFSET(Male!T$18,'Male Rev'!$A36-35,0),0.03999)","v":8.6999999999999994E-3},{"$f":"MIN(OFFSET(Male!U$18,'Male Rev'!$A36-35,0),0.03999)","v":1.09E-2},{"$f":"MIN(OFFSET(Male!V$18,'Male Rev'!$A36-35,0),0.03999)","v":1.3100000000000001E-2},{"$f":"MIN(OFFSET(Male!W$18,'Male Rev'!$A36-35,0),0.03999)","v":1.52E-2},{"$f":"MIN(OFFSET(Male!X$18,'Male Rev'!$A36-35,0),0.03999)","v":1.7100000000000001E-2},{"$f":"MIN(OFFSET(Male!Y$18,'Male Rev'!$A36-35,0),0.03999)","v":1.8800000000000001E-2},{"$f":"MIN(OFFSET(Male!Z$18,'Male Rev'!$A36-35,0),0.03999)","v":1.9900000000000001E-2},{"$f":"MIN(OFFSET(Male!AA$18,'Male Rev'!$A36-35,0),0.03999)","v":2.06E-2},{"$f":"MIN(OFFSET(Male!AB$18,'Male Rev'!$A36-35,0),0.03999)","v":2.0799999999999999E-2},{"$f":"MIN(OFFSET(Male!AC$18,'Male Rev'!$A36-35,0),0.03999)","v":2.07E-2},{"$f":"MIN(OFFSET(Male!AD$18,'Male Rev'!$A36-35,0),0.03999)","v":2.0299999999999999E-2},{"$f":"MIN(OFFSET(Male!AE$18,'Male Rev'!$A36-35,0),0.03999)","v":1.9699999999999999E-2},{"$f":"MIN(OFFSET(Male!AF$18,'Male Rev'!$A36-35,0),0.03999)","v":1.89E-2},{"$f":"MIN(OFFSET(Male!AG$18,'Male Rev'!$A36-35,0),0.03999)","v":1.8200000000000001E-2},{"$f":"MIN(OFFSET(Male!AH$18,'Male Rev'!$A36-35,0),0.03999)","v":1.7600000000000001E-2},{"$f":"MIN(OFFSET(Male!AI$18,'Male Rev'!$A36-35,0),0.03999)","v":1.72E-2},{"$f":"MIN(OFFSET(Male!AJ$18,'Male Rev'!$A36-35,0),0.03999)","v":1.72E-2},{"$f":"MIN(OFFSET(Male!AK$18,'Male Rev'!$A36-35,0),0.03999)","v":1.7399999999999999E-2},{"$f":"MIN(OFFSET(Male!AL$18,'Male Rev'!$A36-35,0),0.03999)","v":1.77E-2},{"$f":"MIN(OFFSET(Male!AM$18,'Male Rev'!$A36-35,0),0.03999)","v":1.8200000000000001E-2},{"$f":"MIN(OFFSET(Male!AN$18,'Male Rev'!$A36-35,0),0.03999)","v":1.8599999999999998E-2},{"$f":"MIN(OFFSET(Male!AO$18,'Male Rev'!$A36-35,0),0.03999)","v":1.89E-2},{"$f":"MIN(OFFSET(Male!AP$18,'Male Rev'!$A36-35,0),0.03999)","v":1.9099999999999999E-2},{"$f":"MIN(OFFSET(Male!AQ$18,'Male Rev'!$A36-35,0),0.03999)","v":1.9199999999999998E-2},{"$f":"MIN(OFFSET(Male!AR$18,'Male Rev'!$A36-35,0),0.03999)","v":1.9300000000000001E-2},{"$f":"MIN(OFFSET(Male!AS$18,'Male Rev'!$A36-35,0),0.03999)","v":1.95E-2},{"$f":"MIN(OFFSET(Male!AT$18,'Male Rev'!$A36-35,0),0.03999)","v":1.9800000000000002E-2},{"$f":"MIN(OFFSET(Male!AU$18,'Male Rev'!$A36-35,0),0.03999)","v":2.0199999999999999E-2},{"$f":"MIN(OFFSET(Male!AV$18,'Male Rev'!$A36-35,0),0.03999)","v":2.06E-2},{"$f":"MIN(OFFSET(Male!AW$18,'Male Rev'!$A36-35,0),0.03999)","v":2.07E-2},{"$f":"MIN(OFFSET(Male!AX$18,'Male Rev'!$A36-35,0),0.03999)","v":2.07E-2},{"$f":"MIN(OFFSET(Male!AY$18,'Male Rev'!$A36-35,0),0.03999)","v":2.0500000000000001E-2},{"$f":"MIN(OFFSET(Male!AZ$18,'Male Rev'!$A36-35,0),0.03999)","v":2.01E-2},{"$f":"MIN(OFFSET(Male!BA$18,'Male Rev'!$A36-35,0),0.03999)","v":1.95E-2},{"$f":"MIN(OFFSET(Male!BB$18,'Male Rev'!$A36-35,0),0.03999)","v":1.89E-2},{"$f":"MIN(OFFSET(Male!BC$18,'Male Rev'!$A36-35,0),0.03999)","v":1.7999999999999999E-2},{"$f":"MIN(OFFSET(Male!BD$18,'Male Rev'!$A36-35,0),0.03999)","v":1.6899999999999998E-2},{"$f":"MIN(OFFSET(Male!BE$18,'Male Rev'!$A36-35,0),0.03999)","v":1.55E-2},{"$f":"MIN(OFFSET(Male!BF$18,'Male Rev'!$A36-35,0),0.03999)","v":1.38E-2},{"$f":"MIN(OFFSET(Male!BG$18,'Male Rev'!$A36-35,0),0.03999)","v":1.17E-2},{"$f":"MIN(OFFSET(Male!BH$18,'Male Rev'!$A36-35,0),0.03999)","v":9.5999999999999992E-3},{"$f":"MIN(OFFSET(Male!BI$18,'Male Rev'!$A36-35,0),0.03999)","v":7.1999999999999998E-3},{"$f":"MIN(OFFSET(Male!BJ$18,'Male Rev'!$A36-35,0),0.03999)","v":4.7000000000000002E-3},{"$f":"MIN(OFFSET(Male!BK$18,'Male Rev'!$A36-35,0),0.03999)","v":2.3999999999999998E-3},{"$f":"MIN(OFFSET(Male!BL$18,'Male Rev'!$A36-35,0),0.03999)","v":5.9999999999999995E-4},{"$f":"MIN(OFFSET(Male!BM$18,'Male Rev'!$A36-35,0),0.03999)","v":-6.9999999999999999E-4},{"$f":"MIN(OFFSET(Male!BN$18,'Male Rev'!$A36-35,0),0.03999)","v":-1.4E-3},{"$f":"MIN(OFFSET(Male!BO$18,'Male Rev'!$A36-35,0),0.03999)","v":-1.2999999999999999E-3},{"$f":"MIN(OFFSET(Male!BP$18,'Male Rev'!$A36-35,0),0.03999)","v":-6.9999999999999999E-4},{"$f":"MIN(OFFSET(Male!BQ$18,'Male Rev'!$A36-35,0),0.03999)","v":2.9999999999999997E-4},{"$f":"MIN(OFFSET(Male!BR$18,'Male Rev'!$A36-35,0),0.03999)","v":1.6000000000000001E-3},{"$f":"MIN(OFFSET(Male!BS$18,'Male Rev'!$A36-35,0),0.03999)","v":3.0999999999999999E-3},{"$f":"MIN(OFFSET(Male!BT$18,'Male Rev'!$A36-35,0),0.03999)","v":4.5999999999999999E-3},{"$f":"MIN(OFFSET(Male!BU$18,'Male Rev'!$A36-35,0),0.03999)","v":6.1000000000000004E-3},{"$f":"MIN(OFFSET(Male!BV$18,'Male Rev'!$A36-35,0),0.03999)","v":7.3000000000000001E-3},{"$f":"MIN(OFFSET(Male!BW$18,'Male Rev'!$A36-35,0),0.03999)","v":8.2000000000000007E-3},{"$f":"MIN(OFFSET(Male!BX$18,'Male Rev'!$A36-35,0),0.03999)","v":8.8000000000000005E-3},{"$f":"MIN(OFFSET(Male!BY$18,'Male Rev'!$A36-35,0),0.03999)","v":8.9999999999999993E-3},{"$f":"MIN(OFFSET(Male!BZ$18,'Male Rev'!$A36-35,0),0.03999)","v":9.1999999999999998E-3},{"$f":"MIN(OFFSET(Male!CA$18,'Male Rev'!$A36-35,0),0.03999)","v":9.2999999999999992E-3},{"$f":"MIN(OFFSET(Male!CB$18,'Male Rev'!$A36-35,0),0.03999)","v":9.4000000000000004E-3},{"$f":"MIN(OFFSET(Male!CC$18,'Male Rev'!$A36-35,0),0.03999)","v":9.4000000000000004E-3},{"$f":"MIN(OFFSET(Male!CD$18,'Male Rev'!$A36-35,0),0.03999)","v":9.4999999999999998E-3},{"$f":"MIN(OFFSET(Male!CE$18,'Male Rev'!$A36-35,0),0.03999)","v":9.5999999999999992E-3},{"$f":"MIN(OFFSET(Male!CF$18,'Male Rev'!$A36-35,0),0.03999)","v":9.7999999999999997E-3},{"$f":"MIN(OFFSET(Male!CG$18,'Male Rev'!$A36-35,0),0.03999)","v":9.9000000000000008E-3},{"$f":"MIN(OFFSET(Male!CH$18,'Male Rev'!$A36-35,0),0.03999)","v":0.01}]
[61,61,{"$f":"MIN(OFFSET(Male!B$18,'Male Rev'!$A37-35,0),0.03999)","v":4.1000000000000003E-3},{"$f":"MIN(OFFSET(Male!C$18,'Male Rev'!$A37-35,0),0.03999)","v":4.0000000000000001E-3},{"$f":"MIN(OFFSET(Male!D$18,'Male Rev'!$A37-35,0),0.03999)","v":3.8E-3},{"$f":"MIN(OFFSET(Male!E$18,'Male Rev'!$A37-35,0),0.03999)","v":3.3999999999999998E-3},{"$f":"MIN(OFFSET(Male!F$18,'Male Rev'!$A37-35,0),0.03999)","v":2.7000000000000001E-3},{"$f":"MIN(OFFSET(Male!G$18,'Male Rev'!$A37-35,0),0.03999)","v":1.8E-3},{"$f":"MIN(OFFSET(Male!H$18,'Male Rev'!$A37-35,0),0.03999)","v":1.1000000000000001E-3},{"$f":"MIN(OFFSET(Male!I$18,'Male Rev'!$A37-35,0),0.03999)","v":5.0000000000000001E-4},{"$f":"MIN(OFFSET(Male!J$18,'Male Rev'!$A37-35,0),0.03999)","v":1E-4},{"$f":"MIN(OFFSET(Male!K$18,'Male Rev'!$A37-35,0),0.03999)","v":-4.0000000000000002E-4},{"$f":"MIN(OFFSET(Male!L$18,'Male Rev'!$A37-35,0),0.03999)","v":-5.9999999999999995E-4},{"$f":"MIN(OFFSET(Male!M$18,'Male Rev'!$A37-35,0),0.03999)","v":-5.9999999999999995E-4},{"$f":"MIN(OFFSET(Male!N$18,'Male Rev'!$A37-35,0),0.03999)","v":-4.0000000000000002E-4},{"$f":"MIN(OFFSET(Male!O$18,'Male Rev'!$A37-35,0),0.03999)","v":2.9999999999999997E-4},{"$f":"MIN(OFFSET(Male!P$18,'Male Rev'!$A37-35,0),0.03999)","v":1.4E-3},{"$f":"MIN(OFFSET(Male!Q$18,'Male Rev'!$A37-35,0),0.03999)","v":2.8E-3},{"$f":"MIN(OFFSET(Male!R$18,'Male Rev'!$A37-35,0),0.03999)","v":4.4999999999999997E-3},{"$f":"MIN(OFFSET(Male!S$18,'Male Rev'!$A37-35,0),0.03999)","v":6.4999999999999997E-3},{"$f":"MIN(OFFSET(Male!T$18,'Male Rev'!$A37-35,0),0.03999)","v":8.8000000000000005E-3},{"$f":"MIN(OFFSET(Male!U$18,'Male Rev'!$A37-35,0),0.03999)","v":1.12E-2},{"$f":"MIN(OFFSET(Male!V$18,'Male Rev'!$A37-35,0),0.03999)","v":1.35E-2},{"$f":"MIN(OFFSET(Male!W$18,'Male Rev'!$A37-35,0),0.03999)","v":1.5599999999999999E-2},{"$f":"MIN(OFFSET(Male!X$18,'Male Rev'!$A37-35,0),0.03999)","v":1.77E-2},{"$f":"MIN(OFFSET(Male!Y$18,'Male Rev'!$A37-35,0),0.03999)","v":1.9400000000000001E-2},{"$f":"MIN(OFFSET(Male!Z$18,'Male Rev'!$A37-35,0),0.03999)","v":2.06E-2},{"$f":"MIN(OFFSET(Male!AA$18,'Male Rev'!$A37-35,0),0.03999)","v":2.1299999999999999E-2},{"$f":"MIN(OFFSET(Male!AB$18,'Male Rev'!$A37-35,0),0.03999)","v":2.1499999999999998E-2},{"$f":"MIN(OFFSET(Male!AC$18,'Male Rev'!$A37-35,0),0.03999)","v":2.1299999999999999E-2},{"$f":"MIN(OFFSET(Male!AD$18,'Male Rev'!$A37-35,0),0.03999)","v":2.0899999999999998E-2},{"$f":"MIN(OFFSET(Male!AE$18,'Male Rev'!$A37-35,0),0.03999)","v":2.0199999999999999E-2},{"$f":"MIN(OFFSET(Male!AF$18,'Male Rev'!$A37-35,0),0.03999)","v":1.9300000000000001E-2},{"$f":"MIN(OFFSET(Male!AG$18,'Male Rev'!$A37-35,0),0.03999)","v":1.8599999999999998E-2},{"$f":"MIN(OFFSET(Male!AH$18,'Male Rev'!$A37-35,0),0.03999)","v":1.7999999999999999E-2},{"$f":"MIN(OFFSET(Male!AI$18,'Male Rev'!$A37-35,0),0.03999)","v":1.7600000000000001E-2},{"$f":"MIN(OFFSET(Male!AJ$18,'Male Rev'!$A37-35,0),0.03999)","v":1.7600000000000001E-2},{"$f":"MIN(OFFSET(Male!AK$18,'Male Rev'!$A37-35,0),0.03999)","v":1.78E-2},{"$f":"MIN(OFFSET(Male!AL$18,'Male Rev'!$A37-35,0),0.03999)","v":1.8100000000000002E-2},{"$f":"MIN(OFFSET(Male!AM$18,'Male Rev'!$A37-35,0),0.03999)","v":1.8499999999999999E-2},{"$f":"MIN(OFFSET(Male!AN$18,'Male Rev'!$A37-35,0),0.03999)","v":1.89E-2},{"$f":"MIN(OFFSET(Male!AO$18,'Male Rev'!$A37-35,0),0.03999)","v":1.9199999999999998E-2},{"$f":"MIN(OFFSET(Male!AP$18,'Male Rev'!$A37-35,0),0.03999)","v":1.9400000000000001E-2},{"$f":"MIN(OFFSET(Male!AQ$18,'Male Rev'!$A37-35,0),0.03999)","v":1.95E-2},{"$f":"MIN(OFFSET(Male!AR$18,'Male Rev'!$A37-35,0),0.03999)","v":1.95E-2},{"$f":"MIN(OFFSET(Male!AS$18,'Male Rev'!$A37-35,0),0.03999)","v":1.9599999999999999E-2},{"$f":"MIN(OFFSET(Male!AT$18,'Male Rev'!$A37-35,0),0.03999)","v":1.9800000000000002E-2},{"$f":"MIN(OFFSET(Male!AU$18,'Male Rev'!$A37-35,0),0.03999)","v":2.01E-2},{"$f":"MIN(OFFSET(Male!AV$18,'Male Rev'!$A37-35,0),0.03999)","v":2.0199999999999999E-2},{"$f":"MIN(OFFSET(Male!AW$18,'Male Rev'!$A37-35,0),0.03999)","v":2.0199999999999999E-2},{"$f":"MIN(OFFSET(Male!AX$18,'Male Rev'!$A37-35,0),0.03999)","v":1.9900000000000001E-2},{"$f":"MIN(OFFSET(Male!AY$18,'Male Rev'!$A37-35,0),0.03999)","v":1.95E-2},{"$f":"MIN(OFFSET(Male!AZ$18,'Male Rev'!$A37-35,0),0.03999)","v":1.9E-2},{"$f":"MIN(OFFSET(Male!BA$18,'Male Rev'!$A37-35,0),0.03999)","v":1.84E-2},{"$f":"MIN(OFFSET(Male!BB$18,'Male Rev'!$A37-35,0),0.03999)","v":1.7600000000000001E-2},{"$f":"MIN(OFFSET(Male!BC$18,'Male Rev'!$A37-35,0),0.03999)","v":1.67E-2},{"$f":"MIN(OFFSET(Male!BD$18,'Male Rev'!$A37-35,0),0.03999)","v":1.55E-2},{"$f":"MIN(OFFSET(Male!BE$18,'Male Rev'!$A37-35,0),0.03999)","v":1.41E-2},{"$f":"MIN(OFFSET(Male!BF$18,'Male Rev'!$A37-35,0),0.03999)","v":1.24E-2},{"$f":"MIN(OFFSET(Male!BG$18,'Male Rev'!$A37-35,0),0.03999)","v":1.04E-2},{"$f":"MIN(OFFSET(Male!BH$18,'Male Rev'!$A37-35,0),0.03999)","v":8.3999999999999995E-3},{"$f":"MIN(OFFSET(Male!BI$18,'Male Rev'!$A37-35,0),0.03999)","v":6.1999999999999998E-3},{"$f":"MIN(OFFSET(Male!BJ$18,'Male Rev'!$A37-35,0),0.03999)","v":3.8E-3},{"$f":"MIN(OFFSET(Male!BK$18,'Male Rev'!$A37-35,0),0.03999)","v":1.6999999999999999E-3},{"$f":"MIN(OFFSET(Male!BL$18,'Male Rev'!$A37-35,0),0.03999)","v":0},{"$f":"MIN(OFFSET(Male!BM$18,'Male Rev'!$A37-35,0),0.03999)","v":-1.1000000000000001E-3},{"$f":"MIN(OFFSET(Male!BN$18,'Male Rev'!$A37-35,0),0.03999)","v":-1.6999999999999999E-3},{"$f":"MIN(OFFSET(Male!BO$18,'Male Rev'!$A37-35,0),0.03999)","v":-1.4E-3},{"$f":"MIN(OFFSET(Male!BP$18,'Male Rev'!$A37-35,0),0.03999)","v":-6.9999999999999999E-4},{"$f":"MIN(OFFSET(Male!BQ$18,'Male Rev'!$A37-35,0),0.03999)","v":5.0000000000000001E-4},{"$f":"MIN(OFFSET(Male!BR$18,'Male Rev'!$A37-35,0),0.03999)","v":1.9E-3},{"$f":"MIN(OFFSET(Male!BS$18,'Male Rev'!$A37-35,0),0.03999)","v":3.5000000000000001E-3},{"$f":"MIN(OFFSET(Male!BT$18,'Male Rev'!$A37-35,0),0.03999)","v":5.0000000000000001E-3},{"$f":"MIN(OFFSET(Male!BU$18,'Male Rev'!$A37-35,0),0.03999)","v":6.4000000000000003E-3},{"$f":"MIN(OFFSET(Male!BV$18,'Male Rev'!$A37-35,0),0.03999)","v":7.6E-3},{"$f":"MIN(OFFSET(Male!BW$18,'Male Rev'!$A37-35,0),0.03999)","v":8.3999999999999995E-3},{"$f":"MIN(OFFSET(Male!BX$18,'Male Rev'!$A37-35,0),0.03999)","v":8.8999999999999999E-3},{"$f":"MIN(OFFSET(Male!BY$18,'Male Rev'!$A37-35,0),0.03999)","v":8.9999999999999993E-3},{"$f":"MIN(OFFSET(Male!BZ$18,'Male Rev'!$A37-35,0),0.03999)","v":9.1000000000000004E-3},{"$f":"MIN(OFFSET(Male!CA$18,'Male Rev'!$A37-35,0),0.03999)","v":9.1999999999999998E-3},{"$f":"MIN(OFFSET(Male!CB$18,'Male Rev'!$A37-35,0),0.03999)","v":9.1999999999999998E-3},{"$f":"MIN(OFFSET(Male!CC$18,'Male Rev'!$A37-35,0),0.03999)","v":9.2999999999999992E-3},{"$f":"MIN(OFFSET(Male!CD$18,'Male Rev'!$A37-35,0),0.03999)","v":9.4000000000000004E-3},{"$f":"MIN(OFFSET(Male!CE$18,'Male Rev'!$A37-35,0),0.03999)","v":9.5999999999999992E-3},{"$f":"MIN(OFFSET(Male!CF$18,'Male Rev'!$A37-35,0),0.03999)","v":9.7000000000000003E-3},{"$f":"MIN(OFFSET(Male!CG$18,'Male Rev'!$A37-35,0),0.03999)","v":9.9000000000000008E-3},{"$f":"MIN(OFFSET(Male!CH$18,'Male Rev'!$A37-35,0),0.03999)","v":0.01}]
[60,60,{"$f":"MIN(OFFSET(Male!B$18,'Male Rev'!$A38-35,0),0.03999)","v":4.7000000000000002E-3},{"$f":"MIN(OFFSET(Male!C$18,'Male Rev'!$A38-35,0),0.03999)","v":4.5999999999999999E-3},{"$f":"MIN(OFFSET(Male!D$18,'Male Rev'!$A38-35,0),0.03999)","v":4.4000000000000003E-3},{"$f":"MIN(OFFSET(Male!E$18,'Male Rev'!$A38-35,0),0.03999)","v":4.0000000000000001E-3},{"$f":"MIN(OFFSET(Male!F$18,'Male Rev'!$A38-35,0),0.03999)","v":3.2000000000000002E-3},{"$f":"MIN(OFFSET(Male!G$18,'Male Rev'!$A38-35,0),0.03999)","v":2.3999999999999998E-3},{"$f":"MIN(OFFSET(Male!H$18,'Male Rev'!$A38-35,0),0.03999)","v":1.6000000000000001E-3},{"$f":"MIN(OFFSET(Male!I$18,'Male Rev'!$A38-35,0),0.03999)","v":1E-3},{"$f":"MIN(OFFSET(Male!J$18,'Male Rev'!$A38-35,0),0.03999)","v":4.0000000000000002E-4},{"$f":"MIN(OFFSET(Male!K$18,'Male Rev'!$A38-35,0),0.03999)","v":0},{"$f":"MIN(OFFSET(Male!L$18,'Male Rev'!$A38-35,0),0.03999)","v":-2.9999999999999997E-4},{"$f":"MIN(OFFSET(Male!M$18,'Male Rev'!$A38-35,0),0.03999)","v":-4.0000000000000002E-4},{"$f":"MIN(OFFSET(Male!N$18,'Male Rev'!$A38-35,0),0.03999)","v":-2.0000000000000001E-4},{"$f":"MIN(OFFSET(Male!O$18,'Male Rev'!$A38-35,0),0.03999)","v":4.0000000000000002E-4},{"$f":"MIN(OFFSET(Male!P$18,'Male Rev'!$A38-35,0),0.03999)","v":1.4E-3},{"$f":"MIN(OFFSET(Male!Q$18,'Male Rev'!$A38-35,0),0.03999)","v":2.7000000000000001E-3},{"$f":"MIN(OFFSET(Male!R$18,'Male Rev'!$A38-35,0),0.03999)","v":4.4999999999999997E-3},{"$f":"MIN(OFFSET(Male!S$18,'Male Rev'!$A38-35,0),0.03999)","v":6.4999999999999997E-3},{"$f":"MIN(OFFSET(Male!T$18,'Male Rev'!$A38-35,0),0.03999)","v":8.8999999999999999E-3},{"$f":"MIN(OFFSET(Male!U$18,'Male Rev'!$A38-35,0),0.03999)","v":1.1299999999999999E-2},{"$f":"MIN(OFFSET(Male!V$18,'Male Rev'!$A38-35,0),0.03999)","v":1.38E-2},{"$f":"MIN(OFFSET(Male!W$18,'Male Rev'!$A38-35,0),0.03999)","v":1.61E-2},{"$f":"MIN(OFFSET(Male!X$18,'Male Rev'!$A38-35,0),0.03999)","v":1.8200000000000001E-2},{"$f":"MIN(OFFSET(Male!Y$18,'Male Rev'!$A38-35,0),0.03999)","v":0.02},{"$f":"MIN(OFFSET(Male!Z$18,'Male Rev'!$A38-35,0),0.03999)","v":2.1299999999999999E-2},{"$f":"MIN(OFFSET(Male!AA$18,'Male Rev'!$A38-35,0),0.03999)","v":2.1899999999999999E-2},{"$f":"MIN(OFFSET(Male!AB$18,'Male Rev'!$A38-35,0),0.03999)","v":2.2100000000000002E-2},{"$f":"MIN(OFFSET(Male!AC$18,'Male Rev'!$A38-35,0),0.03999)","v":2.1899999999999999E-2},{"$f":"MIN(OFFSET(Male!AD$18,'Male Rev'!$A38-35,0),0.03999)","v":2.1299999999999999E-2},{"$f":"MIN(OFFSET(Male!AE$18,'Male Rev'!$A38-35,0),0.03999)","v":2.0500000000000001E-2},{"$f":"MIN(OFFSET(Male!AF$18,'Male Rev'!$A38-35,0),0.03999)","v":1.9699999999999999E-2},{"$f":"MIN(OFFSET(Male!AG$18,'Male Rev'!$A38-35,0),0.03999)","v":1.9E-2},{"$f":"MIN(OFFSET(Male!AH$18,'Male Rev'!$A38-35,0),0.03999)","v":1.84E-2},{"$f":"MIN(OFFSET(Male!AI$18,'Male Rev'!$A38-35,0),0.03999)","v":1.8100000000000002E-2},{"$f":"MIN(OFFSET(Male!AJ$18,'Male Rev'!$A38-35,0),0.03999)","v":1.7999999999999999E-2},{"$f":"MIN(OFFSET(Male!AK$18,'Male Rev'!$A38-35,0),0.03999)","v":1.8200000000000001E-2},{"$f":"MIN(OFFSET(Male!AL$18,'Male Rev'!$A38-35,0),0.03999)","v":1.84E-2},{"$f":"MIN(OFFSET(Male!AM$18,'Male Rev'!$A38-35,0),0.03999)","v":1.8800000000000001E-2},{"$f":"MIN(OFFSET(Male!AN$18,'Male Rev'!$A38-35,0),0.03999)","v":1.9099999999999999E-2},{"$f":"MIN(OFFSET(Male!AO$18,'Male Rev'!$A38-35,0),0.03999)","v":1.9400000000000001E-2},{"$f":"MIN(OFFSET(Male!AP$18,'Male Rev'!$A38-35,0),0.03999)","v":1.9599999999999999E-2},{"$f":"MIN(OFFSET(Male!AQ$18,'Male Rev'!$A38-35,0),0.03999)","v":1.9599999999999999E-2},{"$f":"MIN(OFFSET(Male!AR$18,'Male Rev'!$A38-35,0),0.03999)","v":1.9599999999999999E-2},{"$f":"MIN(OFFSET(Male!AS$18,'Male Rev'!$A38-35,0),0.03999)","v":1.9699999999999999E-2},{"$f":"MIN(OFFSET(Male!AT$18,'Male Rev'!$A38-35,0),0.03999)","v":1.9699999999999999E-2},{"$f":"MIN(OFFSET(Male!AU$18,'Male Rev'!$A38-35,0),0.03999)","v":1.9800000000000002E-2},{"$f":"MIN(OFFSET(Male!AV$18,'Male Rev'!$A38-35,0),0.03999)","v":1.9699999999999999E-2},{"$f":"MIN(OFFSET(Male!AW$18,'Male Rev'!$A38-35,0),0.03999)","v":1.95E-2},{"$f":"MIN(OFFSET(Male!AX$18,'Male Rev'!$A38-35,0),0.03999)","v":1.9E-2},{"$f":"MIN(OFFSET(Male!AY$18,'Male Rev'!$A38-35,0),0.03999)","v":1.8499999999999999E-2},{"$f":"MIN(OFFSET(Male!AZ$18,'Male Rev'!$A38-35,0),0.03999)","v":1.78E-2},{"$f":"MIN(OFFSET(Male!BA$18,'Male Rev'!$A38-35,0),0.03999)","v":1.7100000000000001E-2},{"$f":"MIN(OFFSET(Male!BB$18,'Male Rev'!$A38-35,0),0.03999)","v":1.6199999999999999E-2},{"$f":"MIN(OFFSET(Male!BC$18,'Male Rev'!$A38-35,0),0.03999)","v":1.5299999999999999E-2},{"$f":"MIN(OFFSET(Male!BD$18,'Male Rev'!$A38-35,0),0.03999)","v":1.4E-2},{"$f":"MIN(OFFSET(Male!BE$18,'Male Rev'!$A38-35,0),0.03999)","v":1.26E-2},{"$f":"MIN(OFFSET(Male!BF$18,'Male Rev'!$A38-35,0),0.03999)","v":1.0999999999999999E-2},{"$f":"MIN(OFFSET(Male!BG$18,'Male Rev'!$A38-35,0),0.03999)","v":9.1000000000000004E-3},{"$f":"MIN(OFFSET(Male!BH$18,'Male Rev'!$A38-35,0),0.03999)","v":7.3000000000000001E-3},{"$f":"MIN(OFFSET(Male!BI$18,'Male Rev'!$A38-35,0),0.03999)","v":5.3E-3},{"$f":"MIN(OFFSET(Male!BJ$18,'Male Rev'!$A38-35,0),0.03999)","v":3.2000000000000002E-3},{"$f":"MIN(OFFSET(Male!BK$18,'Male Rev'!$A38-35,0),0.03999)","v":1.2999999999999999E-3},{"$f":"MIN(OFFSET(Male!BL$18,'Male Rev'!$A38-35,0),0.03999)","v":-2.0000000000000001E-4},{"$f":"MIN(OFFSET(Male!BM$18,'Male Rev'!$A38-35,0),0.03999)","v":-1.1000000000000001E-3},{"$f":"MIN(OFFSET(Male!BN$18,'Male Rev'!$A38-35,0),0.03999)","v":-1.6000000000000001E-3},{"$f":"MIN(OFFSET(Male!BO$18,'Male Rev'!$A38-35,0),0.03999)","v":-1.1999999999999999E-3},{"$f":"MIN(OFFSET(Male!BP$18,'Male Rev'!$A38-35,0),0.03999)","v":-2.9999999999999997E-4},{"$f":"MIN(OFFSET(Male!BQ$18,'Male Rev'!$A38-35,0),0.03999)","v":8.9999999999999998E-4},{"$f":"MIN(OFFSET(Male!BR$18,'Male Rev'!$A38-35,0),0.03999)","v":2.3999999999999998E-3},{"$f":"MIN(OFFSET(Male!BS$18,'Male Rev'!$A38-35,0),0.03999)","v":3.8999999999999998E-3},{"$f":"MIN(OFFSET(Male!BT$18,'Male Rev'!$A38-35,0),0.03999)","v":5.4000000000000003E-3},{"$f":"MIN(OFFSET(Male!BU$18,'Male Rev'!$A38-35,0),0.03999)","v":6.7000000000000002E-3},{"$f":"MIN(OFFSET(Male!BV$18,'Male Rev'!$A38-35,0),0.03999)","v":7.7999999999999996E-3},{"$f":"MIN(OFFSET(Male!BW$18,'Male Rev'!$A38-35,0),0.03999)","v":8.5000000000000006E-3},{"$f":"MIN(OFFSET(Male!BX$18,'Male Rev'!$A38-35,0),0.03999)","v":8.8999999999999999E-3},{"$f":"MIN(OFFSET(Male!BY$18,'Male Rev'!$A38-35,0),0.03999)","v":8.9999999999999993E-3},{"$f":"MIN(OFFSET(Male!BZ$18,'Male Rev'!$A38-35,0),0.03999)","v":8.9999999999999993E-3},{"$f":"MIN(OFFSET(Male!CA$18,'Male Rev'!$A38-35,0),0.03999)","v":8.9999999999999993E-3},{"$f":"MIN(OFFSET(Male!CB$18,'Male Rev'!$A38-35,0),0.03999)","v":8.9999999999999993E-3},{"$f":"MIN(OFFSET(Male!CC$18,'Male Rev'!$A38-35,0),0.03999)","v":9.1000000000000004E-3},{"$f":"MIN(OFFSET(Male!CD$18,'Male Rev'!$A38-35,0),0.03999)","v":9.1999999999999998E-3},{"$f":"MIN(OFFSET(Male!CE$18,'Male Rev'!$A38-35,0),0.03999)","v":9.4999999999999998E-3},{"$f":"MIN(OFFSET(Male!CF$18,'Male Rev'!$A38-35,0),0.03999)","v":9.7000000000000003E-3},{"$f":"MIN(OFFSET(Male!CG$18,'Male Rev'!$A38-35,0),0.03999)","v":9.9000000000000008E-3},{"$f":"MIN(OFFSET(Male!CH$18,'Male Rev'!$A38-35,0),0.03999)","v":0.01}]
[59,59,{"$f":"MIN(OFFSET(Male!B$18,'Male Rev'!$A39-35,0),0.03999)","v":5.3E-3},{"$f":"MIN(OFFSET(Male!C$18,'Male Rev'!$A39-35,0),0.03999)","v":5.1999999999999998E-3},{"$f":"MIN(OFFSET(Male!D$18,'Male Rev'!$A39-35,0),0.03999)","v":5.1000000000000004E-3},{"$f":"MIN(OFFSET(Male!E$18,'Male Rev'!$A39-35,0),0.03999)","v":4.5999999999999999E-3},{"$f":"MIN(OFFSET(Male!F$18,'Male Rev'!$A39-35,0),0.03999)","v":3.8E-3},{"$f":"MIN(OFFSET(Male!G$18,'Male Rev'!$A39-35,0),0.03999)","v":2.8999999999999998E-3},{"$f":"MIN(OFFSET(Male!H$18,'Male Rev'!$A39-35,0),0.03999)","v":2.0999999999999999E-3},{"$f":"MIN(OFFSET(Male!I$18,'Male Rev'!$A39-35,0),0.03999)","v":1.4E-3},{"$f":"MIN(OFFSET(Male!J$18,'Male Rev'!$A39-35,0),0.03999)","v":8.0000000000000004E-4},{"$f":"MIN(OFFSET(Male!K$18,'Male Rev'!$A39-35,0),0.03999)","v":2.9999999999999997E-4},{"$f":"MIN(OFFSET(Male!L$18,'Male Rev'!$A39-35,0),0.03999)","v":0},{"$f":"MIN(OFFSET(Male!M$18,'Male Rev'!$A39-35,0),0.03999)","v":-2.0000000000000001E-4},{"$f":"MIN(OFFSET(Male!N$18,'Male Rev'!$A39-35,0),0.03999)","v":-1E-4},{"$f":"MIN(OFFSET(Male!O$18,'Male Rev'!$A39-35,0),0.03999)","v":5.0000000000000001E-4},{"$f":"MIN(OFFSET(Male!P$18,'Male Rev'!$A39-35,0),0.03999)","v":1.4E-3},{"$f":"MIN(OFFSET(Male!Q$18,'Male Rev'!$A39-35,0),0.03999)","v":2.7000000000000001E-3},{"$f":"MIN(OFFSET(Male!R$18,'Male Rev'!$A39-35,0),0.03999)","v":4.4000000000000003E-3},{"$f":"MIN(OFFSET(Male!S$18,'Male Rev'!$A39-35,0),0.03999)","v":6.4999999999999997E-3},{"$f":"MIN(OFFSET(Male!T$18,'Male Rev'!$A39-35,0),0.03999)","v":8.8999999999999999E-3},{"$f":"MIN(OFFSET(Male!U$18,'Male Rev'!$A39-35,0),0.03999)","v":1.15E-2},{"$f":"MIN(OFFSET(Male!V$18,'Male Rev'!$A39-35,0),0.03999)","v":1.4E-2},{"$f":"MIN(OFFSET(Male!W$18,'Male Rev'!$A39-35,0),0.03999)","v":1.6400000000000001E-2},{"$f":"MIN(OFFSET(Male!X$18,'Male Rev'!$A39-35,0),0.03999)","v":1.8700000000000001E-2},{"$f":"MIN(OFFSET(Male!Y$18,'Male Rev'!$A39-35,0),0.03999)","v":2.06E-2},{"$f":"MIN(OFFSET(Male!Z$18,'Male Rev'!$A39-35,0),0.03999)","v":2.1899999999999999E-2},{"$f":"MIN(OFFSET(Male!AA$18,'Male Rev'!$A39-35,0),0.03999)","v":2.2499999999999999E-2},{"$f":"MIN(OFFSET(Male!AB$18,'Male Rev'!$A39-35,0),0.03999)","v":2.2700000000000001E-2},{"$f":"MIN(OFFSET(Male!AC$18,'Male Rev'!$A39-35,0),0.03999)","v":2.24E-2},{"$f":"MIN(OFFSET(Male!AD$18,'Male Rev'!$A39-35,0),0.03999)","v":2.1700000000000001E-2},{"$f":"MIN(OFFSET(Male!AE$18,'Male Rev'!$A39-35,0),0.03999)","v":2.0899999999999998E-2},{"$f":"MIN(OFFSET(Male!AF$18,'Male Rev'!$A39-35,0),0.03999)","v":2.01E-2},{"$f":"MIN(OFFSET(Male!AG$18,'Male Rev'!$A39-35,0),0.03999)","v":1.9400000000000001E-2},{"$f":"MIN(OFFSET(Male!AH$18,'Male Rev'!$A39-35,0),0.03999)","v":1.8800000000000001E-2},{"$f":"MIN(OFFSET(Male!AI$18,'Male Rev'!$A39-35,0),0.03999)","v":1.8499999999999999E-2},{"$f":"MIN(OFFSET(Male!AJ$18,'Male Rev'!$A39-35,0),0.03999)","v":1.84E-2},{"$f":"MIN(OFFSET(Male!AK$18,'Male Rev'!$A39-35,0),0.03999)","v":1.8599999999999998E-2},{"$f":"MIN(OFFSET(Male!AL$18,'Male Rev'!$A39-35,0),0.03999)","v":1.8800000000000001E-2},{"$f":"MIN(OFFSET(Male!AM$18,'Male Rev'!$A39-35,0),0.03999)","v":1.9E-2},{"$f":"MIN(OFFSET(Male!AN$18,'Male Rev'!$A39-35,0),0.03999)","v":1.9300000000000001E-2},{"$f":"MIN(OFFSET(Male!AO$18,'Male Rev'!$A39-35,0),0.03999)","v":1.95E-2},{"$f":"MIN(OFFSET(Male!AP$18,'Male Rev'!$A39-35,0),0.03999)","v":1.9599999999999999E-2},{"$f":"MIN(OFFSET(Male!AQ$18,'Male Rev'!$A39-35,0),0.03999)","v":1.9599999999999999E-2},{"$f":"MIN(OFFSET(Male!AR$18,'Male Rev'!$A39-35,0),0.03999)","v":1.9599999999999999E-2},{"$f":"MIN(OFFSET(Male!AS$18,'Male Rev'!$A39-35,0),0.03999)","v":1.9599999999999999E-2},{"$f":"MIN(OFFSET(Male!AT$18,'Male Rev'!$A39-35,0),0.03999)","v":1.95E-2},{"$f":"MIN(OFFSET(Male!AU$18,'Male Rev'!$A39-35,0),0.03999)","v":1.9400000000000001E-2},{"$f":"MIN(OFFSET(Male!AV$18,'Male Rev'!$A39-35,0),0.03999)","v":1.9099999999999999E-2},{"$f":"MIN(OFFSET(Male!AW$18,'Male Rev'!$A39-35,0),0.03999)","v":1.8700000000000001E-2},{"$f":"MIN(OFFSET(Male!AX$18,'Male Rev'!$A39-35,0),0.03999)","v":1.7999999999999999E-2},{"$f":"MIN(OFFSET(Male!AY$18,'Male Rev'!$A39-35,0),0.03999)","v":1.7299999999999999E-2},{"$f":"MIN(OFFSET(Male!AZ$18,'Male Rev'!$A39-35,0),0.03999)","v":1.6500000000000001E-2},{"$f":"MIN(OFFSET(Male!BA$18,'Male Rev'!$A39-35,0),0.03999)","v":1.5699999999999999E-2},{"$f":"MIN(OFFSET(Male!BB$18,'Male Rev'!$A39-35,0),0.03999)","v":1.4800000000000001E-2},{"$f":"MIN(OFFSET(Male!BC$18,'Male Rev'!$A39-35,0),0.03999)","v":1.38E-2},{"$f":"MIN(OFFSET(Male!BD$18,'Male Rev'!$A39-35,0),0.03999)","v":1.2500000000000001E-2},{"$f":"MIN(OFFSET(Male!BE$18,'Male Rev'!$A39-35,0),0.03999)","v":1.12E-2},{"$f":"MIN(OFFSET(Male!BF$18,'Male Rev'!$A39-35,0),0.03999)","v":9.5999999999999992E-3},{"$f":"MIN(OFFSET(Male!BG$18,'Male Rev'!$A39-35,0),0.03999)","v":8.0000000000000002E-3},{"$f":"MIN(OFFSET(Male!BH$18,'Male Rev'!$A39-35,0),0.03999)","v":6.4000000000000003E-3},{"$f":"MIN(OFFSET(Male!BI$18,'Male Rev'!$A39-35,0),0.03999)","v":4.5999999999999999E-3},{"$f":"MIN(OFFSET(Male!BJ$18,'Male Rev'!$A39-35,0),0.03999)","v":2.8999999999999998E-3},{"$f":"MIN(OFFSET(Male!BK$18,'Male Rev'!$A39-35,0),0.03999)","v":1.2999999999999999E-3},{"$f":"MIN(OFFSET(Male!BL$18,'Male Rev'!$A39-35,0),0.03999)","v":0},{"$f":"MIN(OFFSET(Male!BM$18,'Male Rev'!$A39-35,0),0.03999)","v":-8.0000000000000004E-4},{"$f":"MIN(OFFSET(Male!BN$18,'Male Rev'!$A39-35,0),0.03999)","v":-1.1999999999999999E-3},{"$f":"MIN(OFFSET(Male!BO$18,'Male Rev'!$A39-35,0),0.03999)","v":-6.9999999999999999E-4},{"$f":"MIN(OFFSET(Male!BP$18,'Male Rev'!$A39-35,0),0.03999)","v":2.9999999999999997E-4},{"$f":"MIN(OFFSET(Male!BQ$18,'Male Rev'!$A39-35,0),0.03999)","v":1.6000000000000001E-3},{"$f":"MIN(OFFSET(Male!BR$18,'Male Rev'!$A39-35,0),0.03999)","v":3.0000000000000001E-3},{"$f":"MIN(OFFSET(Male!BS$18,'Male Rev'!$A39-35,0),0.03999)","v":4.4000000000000003E-3},{"$f":"MIN(OFFSET(Male!BT$18,'Male Rev'!$A39-35,0),0.03999)","v":5.7999999999999996E-3},{"$f":"MIN(OFFSET(Male!BU$18,'Male Rev'!$A39-35,0),0.03999)","v":7.0000000000000001E-3},{"$f":"MIN(OFFSET(Male!BV$18,'Male Rev'!$A39-35,0),0.03999)","v":7.9000000000000008E-3},{"$f":"MIN(OFFSET(Male!BW$18,'Male Rev'!$A39-35,0),0.03999)","v":8.5000000000000006E-3},{"$f":"MIN(OFFSET(Male!BX$18,'Male Rev'!$A39-35,0),0.03999)","v":8.8000000000000005E-3},{"$f":"MIN(OFFSET(Male!BY$18,'Male Rev'!$A39-35,0),0.03999)","v":8.8000000000000005E-3},{"$f":"MIN(OFFSET(Male!BZ$18,'Male Rev'!$A39-35,0),0.03999)","v":8.6999999999999994E-3},{"$f":"MIN(OFFSET(Male!CA$18,'Male Rev'!$A39-35,0),0.03999)","v":8.6999999999999994E-3},{"$f":"MIN(OFFSET(Male!CB$18,'Male Rev'!$A39-35,0),0.03999)","v":8.6999999999999994E-3},{"$f":"MIN(OFFSET(Male!CC$18,'Male Rev'!$A39-35,0),0.03999)","v":8.8999999999999999E-3},{"$f":"MIN(OFFSET(Male!CD$18,'Male Rev'!$A39-35,0),0.03999)","v":9.1000000000000004E-3},{"$f":"MIN(OFFSET(Male!CE$18,'Male Rev'!$A39-35,0),0.03999)","v":9.2999999999999992E-3},{"$f":"MIN(OFFSET(Male!CF$18,'Male Rev'!$A39-35,0),0.03999)","v":9.5999999999999992E-3},{"$f":"MIN(OFFSET(Male!CG$18,'Male Rev'!$A39-35,0),0.03999)","v":9.9000000000000008E-3},{"$f":"MIN(OFFSET(Male!CH$18,'Male Rev'!$A39-35,0),0.03999)","v":0.01}]
[58,58,{"$f":"MIN(OFFSET(Male!B$18,'Male Rev'!$A40-35,0),0.03999)","v":5.8999999999999999E-3},{"$f":"MIN(OFFSET(Male!C$18,'Male Rev'!$A40-35,0),0.03999)","v":5.8999999999999999E-3},{"$f":"MIN(OFFSET(Male!D$18,'Male Rev'!$A40-35,0),0.03999)","v":5.7000000000000002E-3},{"$f":"MIN(OFFSET(Male!E$18,'Male Rev'!$A40-35,0),0.03999)","v":5.3E-3},{"$f":"MIN(OFFSET(Male!F$18,'Male Rev'!$A40-35,0),0.03999)","v":4.4000000000000003E-3},{"$f":"MIN(OFFSET(Male!G$18,'Male Rev'!$A40-35,0),0.03999)","v":3.5000000000000001E-3},{"$f":"MIN(OFFSET(Male!H$18,'Male Rev'!$A40-35,0),0.03999)","v":2.5999999999999999E-3},{"$f":"MIN(OFFSET(Male!I$18,'Male Rev'!$A40-35,0),0.03999)","v":1.9E-3},{"$f":"MIN(OFFSET(Male!J$18,'Male Rev'!$A40-35,0),0.03999)","v":1.1999999999999999E-3},{"$f":"MIN(OFFSET(Male!K$18,'Male Rev'!$A40-35,0),0.03999)","v":6.9999999999999999E-4},{"$f":"MIN(OFFSET(Male!L$18,'Male Rev'!$A40-35,0),0.03999)","v":2.9999999999999997E-4},{"$f":"MIN(OFFSET(Male!M$18,'Male Rev'!$A40-35,0),0.03999)","v":0},{"$f":"MIN(OFFSET(Male!N$18,'Male Rev'!$A40-35,0),0.03999)","v":0},{"$f":"MIN(OFFSET(Male!O$18,'Male Rev'!$A40-35,0),0.03999)","v":5.0000000000000001E-4},{"$f":"MIN(OFFSET(Male!P$18,'Male Rev'!$A40-35,0),0.03999)","v":1.4E-3},{"$f":"MIN(OFFSET(Male!Q$18,'Male Rev'!$A40-35,0),0.03999)","v":2.7000000000000001E-3},{"$f":"MIN(OFFSET(Male!R$18,'Male Rev'!$A40-35,0),0.03999)","v":4.4000000000000003E-3},{"$f":"MIN(OFFSET(Male!S$18,'Male Rev'!$A40-35,0),0.03999)","v":6.4999999999999997E-3},{"$f":"MIN(OFFSET(Male!T$18,'Male Rev'!$A40-35,0),0.03999)","v":8.9999999999999993E-3},{"$f":"MIN(OFFSET(Male!U$18,'Male Rev'!$A40-35,0),0.03999)","v":1.1599999999999999E-2},{"$f":"MIN(OFFSET(Male!V$18,'Male Rev'!$A40-35,0),0.03999)","v":1.43E-2},{"$f":"MIN(OFFSET(Male!W$18,'Male Rev'!$A40-35,0),0.03999)","v":1.6799999999999999E-2},{"$f":"MIN(OFFSET(Male!X$18,'Male Rev'!$A40-35,0),0.03999)","v":1.9099999999999999E-2},{"$f":"MIN(OFFSET(Male!Y$18,'Male Rev'!$A40-35,0),0.03999)","v":2.1100000000000001E-2},{"$f":"MIN(OFFSET(Male!Z$18,'Male Rev'!$A40-35,0),0.03999)","v":2.24E-2},{"$f":"MIN(OFFSET(Male!AA$18,'Male Rev'!$A40-35,0),0.03999)","v":2.3099999999999999E-2},{"$f":"MIN(OFFSET(Male!AB$18,'Male Rev'!$A40-35,0),0.03999)","v":2.3199999999999998E-2},{"$f":"MIN(OFFSET(Male!AC$18,'Male Rev'!$A40-35,0),0.03999)","v":2.2800000000000001E-2},{"$f":"MIN(OFFSET(Male!AD$18,'Male Rev'!$A40-35,0),0.03999)","v":2.2100000000000002E-2},{"$f":"MIN(OFFSET(Male!AE$18,'Male Rev'!$A40-35,0),0.03999)","v":2.1299999999999999E-2},{"$f":"MIN(OFFSET(Male!AF$18,'Male Rev'!$A40-35,0),0.03999)","v":2.0500000000000001E-2},{"$f":"MIN(OFFSET(Male!AG$18,'Male Rev'!$A40-35,0),0.03999)","v":1.9800000000000002E-2},{"$f":"MIN(OFFSET(Male!AH$18,'Male Rev'!$A40-35,0),0.03999)","v":1.9300000000000001E-2},{"$f":"MIN(OFFSET(Male!AI$18,'Male Rev'!$A40-35,0),0.03999)","v":1.9E-2},{"$f":"MIN(OFFSET(Male!AJ$18,'Male Rev'!$A40-35,0),0.03999)","v":1.89E-2},{"$f":"MIN(OFFSET(Male!AK$18,'Male Rev'!$A40-35,0),0.03999)","v":1.89E-2},{"$f":"MIN(OFFSET(Male!AL$18,'Male Rev'!$A40-35,0),0.03999)","v":1.9E-2},{"$f":"MIN(OFFSET(Male!AM$18,'Male Rev'!$A40-35,0),0.03999)","v":1.9199999999999998E-2},{"$f":"MIN(OFFSET(Male!AN$18,'Male Rev'!$A40-35,0),0.03999)","v":1.9400000000000001E-2},{"$f":"MIN(OFFSET(Male!AO$18,'Male Rev'!$A40-35,0),0.03999)","v":1.95E-2},{"$f":"MIN(OFFSET(Male!AP$18,'Male Rev'!$A40-35,0),0.03999)","v":1.95E-2},{"$f":"MIN(OFFSET(Male!AQ$18,'Male Rev'!$A40-35,0),0.03999)","v":1.95E-2},{"$f":"MIN(OFFSET(Male!AR$18,'Male Rev'!$A40-35,0),0.03999)","v":1.9400000000000001E-2},{"$f":"MIN(OFFSET(Male!AS$18,'Male Rev'!$A40-35,0),0.03999)","v":1.9300000000000001E-2},{"$f":"MIN(OFFSET(Male!AT$18,'Male Rev'!$A40-35,0),0.03999)","v":1.9099999999999999E-2},{"$f":"MIN(OFFSET(Male!AU$18,'Male Rev'!$A40-35,0),0.03999)","v":1.89E-2},{"$f":"MIN(OFFSET(Male!AV$18,'Male Rev'!$A40-35,0),0.03999)","v":1.84E-2},{"$f":"MIN(OFFSET(Male!AW$18,'Male Rev'!$A40-35,0),0.03999)","v":1.78E-2},{"$f":"MIN(OFFSET(Male!AX$18,'Male Rev'!$A40-35,0),0.03999)","v":1.6899999999999998E-2},{"$f":"MIN(OFFSET(Male!AY$18,'Male Rev'!$A40-35,0),0.03999)","v":1.6E-2},{"$f":"MIN(OFFSET(Male!AZ$18,'Male Rev'!$A40-35,0),0.03999)","v":1.5100000000000001E-2},{"$f":"MIN(OFFSET(Male!BA$18,'Male Rev'!$A40-35,0),0.03999)","v":1.4200000000000001E-2},{"$f":"MIN(OFFSET(Male!BB$18,'Male Rev'!$A40-35,0),0.03999)","v":1.32E-2},{"$f":"MIN(OFFSET(Male!BC$18,'Male Rev'!$A40-35,0),0.03999)","v":1.2200000000000001E-2},{"$f":"MIN(OFFSET(Male!BD$18,'Male Rev'!$A40-35,0),0.03999)","v":1.11E-2},{"$f":"MIN(OFFSET(Male!BE$18,'Male Rev'!$A40-35,0),0.03999)","v":9.7999999999999997E-3},{"$f":"MIN(OFFSET(Male!BF$18,'Male Rev'!$A40-35,0),0.03999)","v":8.5000000000000006E-3},{"$f":"MIN(OFFSET(Male!BG$18,'Male Rev'!$A40-35,0),0.03999)","v":7.1000000000000004E-3},{"$f":"MIN(OFFSET(Male!BH$18,'Male Rev'!$A40-35,0),0.03999)","v":5.7000000000000002E-3},{"$f":"MIN(OFFSET(Male!BI$18,'Male Rev'!$A40-35,0),0.03999)","v":4.3E-3},{"$f":"MIN(OFFSET(Male!BJ$18,'Male Rev'!$A40-35,0),0.03999)","v":2.8999999999999998E-3},{"$f":"MIN(OFFSET(Male!BK$18,'Male Rev'!$A40-35,0),0.03999)","v":1.5E-3},{"$f":"MIN(OFFSET(Male!BL$18,'Male Rev'!$A40-35,0),0.03999)","v":5.0000000000000001E-4},{"$f":"MIN(OFFSET(Male!BM$18,'Male Rev'!$A40-35,0),0.03999)","v":-2.0000000000000001E-4},{"$f":"MIN(OFFSET(Male!BN$18,'Male Rev'!$A40-35,0),0.03999)","v":-5.0000000000000001E-4},{"$f":"MIN(OFFSET(Male!BO$18,'Male Rev'!$A40-35,0),0.03999)","v":1E-4},{"$f":"MIN(OFFSET(Male!BP$18,'Male Rev'!$A40-35,0),0.03999)","v":1.1000000000000001E-3},{"$f":"MIN(OFFSET(Male!BQ$18,'Male Rev'!$A40-35,0),0.03999)","v":2.3E-3},{"$f":"MIN(OFFSET(Male!BR$18,'Male Rev'!$A40-35,0),0.03999)","v":3.7000000000000002E-3},{"$f":"MIN(OFFSET(Male!BS$18,'Male Rev'!$A40-35,0),0.03999)","v":5.0000000000000001E-3},{"$f":"MIN(OFFSET(Male!BT$18,'Male Rev'!$A40-35,0),0.03999)","v":6.1999999999999998E-3},{"$f":"MIN(OFFSET(Male!BU$18,'Male Rev'!$A40-35,0),0.03999)","v":7.1999999999999998E-3},{"$f":"MIN(OFFSET(Male!BV$18,'Male Rev'!$A40-35,0),0.03999)","v":8.0000000000000002E-3},{"$f":"MIN(OFFSET(Male!BW$18,'Male Rev'!$A40-35,0),0.03999)","v":8.5000000000000006E-3},{"$f":"MIN(OFFSET(Male!BX$18,'Male Rev'!$A40-35,0),0.03999)","v":8.6E-3},{"$f":"MIN(OFFSET(Male!BY$18,'Male Rev'!$A40-35,0),0.03999)","v":8.5000000000000006E-3},{"$f":"MIN(OFFSET(Male!BZ$18,'Male Rev'!$A40-35,0),0.03999)","v":8.3999999999999995E-3},{"$f":"MIN(OFFSET(Male!CA$18,'Male Rev'!$A40-35,0),0.03999)","v":8.3999999999999995E-3},{"$f":"MIN(OFFSET(Male!CB$18,'Male Rev'!$A40-35,0),0.03999)","v":8.3999999999999995E-3},{"$f":"MIN(OFFSET(Male!CC$18,'Male Rev'!$A40-35,0),0.03999)","v":8.6E-3},{"$f":"MIN(OFFSET(Male!CD$18,'Male Rev'!$A40-35,0),0.03999)","v":8.8999999999999999E-3},{"$f":"MIN(OFFSET(Male!CE$18,'Male Rev'!$A40-35,0),0.03999)","v":9.1999999999999998E-3},{"$f":"MIN(OFFSET(Male!CF$18,'Male Rev'!$A40-35,0),0.03999)","v":9.5999999999999992E-3},{"$f":"MIN(OFFSET(Male!CG$18,'Male Rev'!$A40-35,0),0.03999)","v":9.9000000000000008E-3},{"$f":"MIN(OFFSET(Male!CH$18,'Male Rev'!$A40-35,0),0.03999)","v":0.01}]
[57,57,{"$f":"MIN(OFFSET(Male!B$18,'Male Rev'!$A41-35,0),0.03999)","v":6.4999999999999997E-3},{"$f":"MIN(OFFSET(Male!C$18,'Male Rev'!$A41-35,0),0.03999)","v":6.4999999999999997E-3},{"$f":"MIN(OFFSET(Male!D$18,'Male Rev'!$A41-35,0),0.03999)","v":6.4000000000000003E-3},{"$f":"MIN(OFFSET(Male!E$18,'Male Rev'!$A41-35,0),0.03999)","v":5.8999999999999999E-3},{"$f":"MIN(OFFSET(Male!F$18,'Male Rev'!$A41-35,0),0.03999)","v":5.0000000000000001E-3},{"$f":"MIN(OFFSET(Male!G$18,'Male Rev'!$A41-35,0),0.03999)","v":4.0000000000000001E-3},{"$f":"MIN(OFFSET(Male!H$18,'Male Rev'!$A41-35,0),0.03999)","v":3.0999999999999999E-3},{"$f":"MIN(OFFSET(Male!I$18,'Male Rev'!$A41-35,0),0.03999)","v":2.3E-3},{"$f":"MIN(OFFSET(Male!J$18,'Male Rev'!$A41-35,0),0.03999)","v":1.6000000000000001E-3},{"$f":"MIN(OFFSET(Male!K$18,'Male Rev'!$A41-35,0),0.03999)","v":1E-3},{"$f":"MIN(OFFSET(Male!L$18,'Male Rev'!$A41-35,0),0.03999)","v":5.9999999999999995E-4},{"$f":"MIN(OFFSET(Male!M$18,'Male Rev'!$A41-35,0),0.03999)","v":2.0000000000000001E-4},{"$f":"MIN(OFFSET(Male!N$18,'Male Rev'!$A41-35,0),0.03999)","v":2.0000000000000001E-4},{"$f":"MIN(OFFSET(Male!O$18,'Male Rev'!$A41-35,0),0.03999)","v":5.9999999999999995E-4},{"$f":"MIN(OFFSET(Male!P$18,'Male Rev'!$A41-35,0),0.03999)","v":1.4E-3},{"$f":"MIN(OFFSET(Male!Q$18,'Male Rev'!$A41-35,0),0.03999)","v":2.5999999999999999E-3},{"$f":"MIN(OFFSET(Male!R$18,'Male Rev'!$A41-35,0),0.03999)","v":4.4000000000000003E-3},{"$f":"MIN(OFFSET(Male!S$18,'Male Rev'!$A41-35,0),0.03999)","v":6.4999999999999997E-3},{"$f":"MIN(OFFSET(Male!T$18,'Male Rev'!$A41-35,0),0.03999)","v":8.9999999999999993E-3},{"$f":"MIN(OFFSET(Male!U$18,'Male Rev'!$A41-35,0),0.03999)","v":1.17E-2},{"$f":"MIN(OFFSET(Male!V$18,'Male Rev'!$A41-35,0),0.03999)","v":1.4500000000000001E-2},{"$f":"MIN(OFFSET(Male!W$18,'Male Rev'!$A41-35,0),0.03999)","v":1.7100000000000001E-2},{"$f":"MIN(OFFSET(Male!X$18,'Male Rev'!$A41-35,0),0.03999)","v":1.95E-2},{"$f":"MIN(OFFSET(Male!Y$18,'Male Rev'!$A41-35,0),0.03999)","v":2.1499999999999998E-2},{"$f":"MIN(OFFSET(Male!Z$18,'Male Rev'!$A41-35,0),0.03999)","v":2.2800000000000001E-2},{"$f":"MIN(OFFSET(Male!AA$18,'Male Rev'!$A41-35,0),0.03999)","v":2.35E-2},{"$f":"MIN(OFFSET(Male!AB$18,'Male Rev'!$A41-35,0),0.03999)","v":2.3599999999999999E-2},{"$f":"MIN(OFFSET(Male!AC$18,'Male Rev'!$A41-35,0),0.03999)","v":2.3300000000000001E-2},{"$f":"MIN(OFFSET(Male!AD$18,'Male Rev'!$A41-35,0),0.03999)","v":2.2499999999999999E-2},{"$f":"MIN(OFFSET(Male!AE$18,'Male Rev'!$A41-35,0),0.03999)","v":2.1700000000000001E-2},{"$f":"MIN(OFFSET(Male!AF$18,'Male Rev'!$A41-35,0),0.03999)","v":2.0899999999999998E-2},{"$f":"MIN(OFFSET(Male!AG$18,'Male Rev'!$A41-35,0),0.03999)","v":2.0299999999999999E-2},{"$f":"MIN(OFFSET(Male!AH$18,'Male Rev'!$A41-35,0),0.03999)","v":1.9699999999999999E-2},{"$f":"MIN(OFFSET(Male!AI$18,'Male Rev'!$A41-35,0),0.03999)","v":1.9400000000000001E-2},{"$f":"MIN(OFFSET(Male!AJ$18,'Male Rev'!$A41-35,0),0.03999)","v":1.9199999999999998E-2},{"$f":"MIN(OFFSET(Male!AK$18,'Male Rev'!$A41-35,0),0.03999)","v":1.9199999999999998E-2},{"$f":"MIN(OFFSET(Male!AL$18,'Male Rev'!$A41-35,0),0.03999)","v":1.9199999999999998E-2},{"$f":"MIN(OFFSET(Male!AM$18,'Male Rev'!$A41-35,0),0.03999)","v":1.9199999999999998E-2},{"$f":"MIN(OFFSET(Male!AN$18,'Male Rev'!$A41-35,0),0.03999)","v":1.9300000000000001E-2},{"$f":"MIN(OFFSET(Male!AO$18,'Male Rev'!$A41-35,0),0.03999)","v":1.9300000000000001E-2},{"$f":"MIN(OFFSET(Male!AP$18,'Male Rev'!$A41-35,0),0.03999)","v":1.9300000000000001E-2},{"$f":"MIN(OFFSET(Male!AQ$18,'Male Rev'!$A41-35,0),0.03999)","v":1.9199999999999998E-2},{"$f":"MIN(OFFSET(Male!AR$18,'Male Rev'!$A41-35,0),0.03999)","v":1.9E-2},{"$f":"MIN(OFFSET(Male!AS$18,'Male Rev'!$A41-35,0),0.03999)","v":1.89E-2},{"$f":"MIN(OFFSET(Male!AT$18,'Male Rev'!$A41-35,0),0.03999)","v":1.8700000000000001E-2},{"$f":"MIN(OFFSET(Male!AU$18,'Male Rev'!$A41-35,0),0.03999)","v":1.83E-2},{"$f":"MIN(OFFSET(Male!AV$18,'Male Rev'!$A41-35,0),0.03999)","v":1.77E-2},{"$f":"MIN(OFFSET(Male!AW$18,'Male Rev'!$A41-35,0),0.03999)","v":1.6799999999999999E-2},{"$f":"MIN(OFFSET(Male!AX$18,'Male Rev'!$A41-35,0),0.03999)","v":1.5699999999999999E-2},{"$f":"MIN(OFFSET(Male!AY$18,'Male Rev'!$A41-35,0),0.03999)","v":1.47E-2},{"$f":"MIN(OFFSET(Male!AZ$18,'Male Rev'!$A41-35,0),0.03999)","v":1.3599999999999999E-2},{"$f":"MIN(OFFSET(Male!BA$18,'Male Rev'!$A41-35,0),0.03999)","v":1.26E-2},{"$f":"MIN(OFFSET(Male!BB$18,'Male Rev'!$A41-35,0),0.03999)","v":1.1599999999999999E-2},{"$f":"MIN(OFFSET(Male!BC$18,'Male Rev'!$A41-35,0),0.03999)","v":1.0699999999999999E-2},{"$f":"MIN(OFFSET(Male!BD$18,'Male Rev'!$A41-35,0),0.03999)","v":9.7000000000000003E-3},{"$f":"MIN(OFFSET(Male!BE$18,'Male Rev'!$A41-35,0),0.03999)","v":8.6999999999999994E-3},{"$f":"MIN(OFFSET(Male!BF$18,'Male Rev'!$A41-35,0),0.03999)","v":7.6E-3},{"$f":"MIN(OFFSET(Male!BG$18,'Male Rev'!$A41-35,0),0.03999)","v":6.4999999999999997E-3},{"$f":"MIN(OFFSET(Male!BH$18,'Male Rev'!$A41-35,0),0.03999)","v":5.4999999999999997E-3},{"$f":"MIN(OFFSET(Male!BI$18,'Male Rev'!$A41-35,0),0.03999)","v":4.4000000000000003E-3},{"$f":"MIN(OFFSET(Male!BJ$18,'Male Rev'!$A41-35,0),0.03999)","v":3.2000000000000002E-3},{"$f":"MIN(OFFSET(Male!BK$18,'Male Rev'!$A41-35,0),0.03999)","v":2.0999999999999999E-3},{"$f":"MIN(OFFSET(Male!BL$18,'Male Rev'!$A41-35,0),0.03999)","v":1.2999999999999999E-3},{"$f":"MIN(OFFSET(Male!BM$18,'Male Rev'!$A41-35,0),0.03999)","v":6.9999999999999999E-4},{"$f":"MIN(OFFSET(Male!BN$18,'Male Rev'!$A41-35,0),0.03999)","v":4.0000000000000002E-4},{"$f":"MIN(OFFSET(Male!BO$18,'Male Rev'!$A41-35,0),0.03999)","v":1E-3},{"$f":"MIN(OFFSET(Male!BP$18,'Male Rev'!$A41-35,0),0.03999)","v":2E-3},{"$f":"MIN(OFFSET(Male!BQ$18,'Male Rev'!$A41-35,0),0.03999)","v":3.0999999999999999E-3},{"$f":"MIN(OFFSET(Male!BR$18,'Male Rev'!$A41-35,0),0.03999)","v":4.3E-3},{"$f":"MIN(OFFSET(Male!BS$18,'Male Rev'!$A41-35,0),0.03999)","v":5.4999999999999997E-3},{"$f":"MIN(OFFSET(Male!BT$18,'Male Rev'!$A41-35,0),0.03999)","v":6.4999999999999997E-3},{"$f":"MIN(OFFSET(Male!BU$18,'Male Rev'!$A41-35,0),0.03999)","v":7.3000000000000001E-3},{"$f":"MIN(OFFSET(Male!BV$18,'Male Rev'!$A41-35,0),0.03999)","v":7.9000000000000008E-3},{"$f":"MIN(OFFSET(Male!BW$18,'Male Rev'!$A41-35,0),0.03999)","v":8.2000000000000007E-3},{"$f":"MIN(OFFSET(Male!BX$18,'Male Rev'!$A41-35,0),0.03999)","v":8.2000000000000007E-3},{"$f":"MIN(OFFSET(Male!BY$18,'Male Rev'!$A41-35,0),0.03999)","v":8.0999999999999996E-3},{"$f":"MIN(OFFSET(Male!BZ$18,'Male Rev'!$A41-35,0),0.03999)","v":8.0000000000000002E-3},{"$f":"MIN(OFFSET(Male!CA$18,'Male Rev'!$A41-35,0),0.03999)","v":7.9000000000000008E-3},{"$f":"MIN(OFFSET(Male!CB$18,'Male Rev'!$A41-35,0),0.03999)","v":8.0999999999999996E-3},{"$f":"MIN(OFFSET(Male!CC$18,'Male Rev'!$A41-35,0),0.03999)","v":8.3000000000000001E-3},{"$f":"MIN(OFFSET(Male!CD$18,'Male Rev'!$A41-35,0),0.03999)","v":8.6999999999999994E-3},{"$f":"MIN(OFFSET(Male!CE$18,'Male Rev'!$A41-35,0),0.03999)","v":9.1000000000000004E-3},{"$f":"MIN(OFFSET(Male!CF$18,'Male Rev'!$A41-35,0),0.03999)","v":9.4999999999999998E-3},{"$f":"MIN(OFFSET(Male!CG$18,'Male Rev'!$A41-35,0),0.03999)","v":9.9000000000000008E-3},{"$f":"MIN(OFFSET(Male!CH$18,'Male Rev'!$A41-35,0),0.03999)","v":0.01}]
[56,56,{"$f":"MIN(OFFSET(Male!B$18,'Male Rev'!$A42-35,0),0.03999)","v":7.1999999999999998E-3},{"$f":"MIN(OFFSET(Male!C$18,'Male Rev'!$A42-35,0),0.03999)","v":7.1999999999999998E-3},{"$f":"MIN(OFFSET(Male!D$18,'Male Rev'!$A42-35,0),0.03999)","v":7.0000000000000001E-3},{"$f":"MIN(OFFSET(Male!E$18,'Male Rev'!$A42-35,0),0.03999)","v":6.4999999999999997E-3},{"$f":"MIN(OFFSET(Male!F$18,'Male Rev'!$A42-35,0),0.03999)","v":5.5999999999999999E-3},{"$f":"MIN(OFFSET(Male!G$18,'Male Rev'!$A42-35,0),0.03999)","v":4.5999999999999999E-3},{"$f":"MIN(OFFSET(Male!H$18,'Male Rev'!$A42-35,0),0.03999)","v":3.5999999999999999E-3},{"$f":"MIN(OFFSET(Male!I$18,'Male Rev'!$A42-35,0),0.03999)","v":2.7000000000000001E-3},{"$f":"MIN(OFFSET(Male!J$18,'Male Rev'!$A42-35,0),0.03999)","v":1.9E-3},{"$f":"MIN(OFFSET(Male!K$18,'Male Rev'!$A42-35,0),0.03999)","v":1.2999999999999999E-3},{"$f":"MIN(OFFSET(Male!L$18,'Male Rev'!$A42-35,0),0.03999)","v":8.0000000000000004E-4},{"$f":"MIN(OFFSET(Male!M$18,'Male Rev'!$A42-35,0),0.03999)","v":4.0000000000000002E-4},{"$f":"MIN(OFFSET(Male!N$18,'Male Rev'!$A42-35,0),0.03999)","v":2.9999999999999997E-4},{"$f":"MIN(OFFSET(Male!O$18,'Male Rev'!$A42-35,0),0.03999)","v":6.9999999999999999E-4},{"$f":"MIN(OFFSET(Male!P$18,'Male Rev'!$A42-35,0),0.03999)","v":1.5E-3},{"$f":"MIN(OFFSET(Male!Q$18,'Male Rev'!$A42-35,0),0.03999)","v":2.7000000000000001E-3},{"$f":"MIN(OFFSET(Male!R$18,'Male Rev'!$A42-35,0),0.03999)","v":4.4000000000000003E-3},{"$f":"MIN(OFFSET(Male!S$18,'Male Rev'!$A42-35,0),0.03999)","v":6.4999999999999997E-3},{"$f":"MIN(OFFSET(Male!T$18,'Male Rev'!$A42-35,0),0.03999)","v":9.1000000000000004E-3},{"$f":"MIN(OFFSET(Male!U$18,'Male Rev'!$A42-35,0),0.03999)","v":1.18E-2},{"$f":"MIN(OFFSET(Male!V$18,'Male Rev'!$A42-35,0),0.03999)","v":1.47E-2},{"$f":"MIN(OFFSET(Male!W$18,'Male Rev'!$A42-35,0),0.03999)","v":1.7299999999999999E-2},{"$f":"MIN(OFFSET(Male!X$18,'Male Rev'!$A42-35,0),0.03999)","v":1.9699999999999999E-2},{"$f":"MIN(OFFSET(Male!Y$18,'Male Rev'!$A42-35,0),0.03999)","v":2.18E-2},{"$f":"MIN(OFFSET(Male!Z$18,'Male Rev'!$A42-35,0),0.03999)","v":2.3199999999999998E-2},{"$f":"MIN(OFFSET(Male!AA$18,'Male Rev'!$A42-35,0),0.03999)","v":2.3900000000000001E-2},{"$f":"MIN(OFFSET(Male!AB$18,'Male Rev'!$A42-35,0),0.03999)","v":2.4E-2},{"$f":"MIN(OFFSET(Male!AC$18,'Male Rev'!$A42-35,0),0.03999)","v":2.3699999999999999E-2},{"$f":"MIN(OFFSET(Male!AD$18,'Male Rev'!$A42-35,0),0.03999)","v":2.3E-2},{"$f":"MIN(OFFSET(Male!AE$18,'Male Rev'!$A42-35,0),0.03999)","v":2.2200000000000001E-2},{"$f":"MIN(OFFSET(Male!AF$18,'Male Rev'!$A42-35,0),0.03999)","v":2.1399999999999999E-2},{"$f":"MIN(OFFSET(Male!AG$18,'Male Rev'!$A42-35,0),0.03999)","v":2.0799999999999999E-2},{"$f":"MIN(OFFSET(Male!AH$18,'Male Rev'!$A42-35,0),0.03999)","v":2.0199999999999999E-2},{"$f":"MIN(OFFSET(Male!AI$18,'Male Rev'!$A42-35,0),0.03999)","v":1.9699999999999999E-2},{"$f":"MIN(OFFSET(Male!AJ$18,'Male Rev'!$A42-35,0),0.03999)","v":1.9400000000000001E-2},{"$f":"MIN(OFFSET(Male!AK$18,'Male Rev'!$A42-35,0),0.03999)","v":1.9300000000000001E-2},{"$f":"MIN(OFFSET(Male!AL$18,'Male Rev'!$A42-35,0),0.03999)","v":1.9199999999999998E-2},{"$f":"MIN(OFFSET(Male!AM$18,'Male Rev'!$A42-35,0),0.03999)","v":1.9099999999999999E-2},{"$f":"MIN(OFFSET(Male!AN$18,'Male Rev'!$A42-35,0),0.03999)","v":1.9099999999999999E-2},{"$f":"MIN(OFFSET(Male!AO$18,'Male Rev'!$A42-35,0),0.03999)","v":1.9E-2},{"$f":"MIN(OFFSET(Male!AP$18,'Male Rev'!$A42-35,0),0.03999)","v":1.89E-2},{"$f":"MIN(OFFSET(Male!AQ$18,'Male Rev'!$A42-35,0),0.03999)","v":1.8700000000000001E-2},{"$f":"MIN(OFFSET(Male!AR$18,'Male Rev'!$A42-35,0),0.03999)","v":1.8499999999999999E-2},{"$f":"MIN(OFFSET(Male!AS$18,'Male Rev'!$A42-35,0),0.03999)","v":1.83E-2},{"$f":"MIN(OFFSET(Male!AT$18,'Male Rev'!$A42-35,0),0.03999)","v":1.8100000000000002E-2},{"$f":"MIN(OFFSET(Male!AU$18,'Male Rev'!$A42-35,0),0.03999)","v":1.7600000000000001E-2},{"$f":"MIN(OFFSET(Male!AV$18,'Male Rev'!$A42-35,0),0.03999)","v":1.6899999999999998E-2},{"$f":"MIN(OFFSET(Male!AW$18,'Male Rev'!$A42-35,0),0.03999)","v":1.5800000000000002E-2},{"$f":"MIN(OFFSET(Male!AX$18,'Male Rev'!$A42-35,0),0.03999)","v":1.4500000000000001E-2},{"$f":"MIN(OFFSET(Male!AY$18,'Male Rev'!$A42-35,0),0.03999)","v":1.3299999999999999E-2},{"$f":"MIN(OFFSET(Male!AZ$18,'Male Rev'!$A42-35,0),0.03999)","v":1.2E-2},{"$f":"MIN(OFFSET(Male!BA$18,'Male Rev'!$A42-35,0),0.03999)","v":1.0999999999999999E-2},{"$f":"MIN(OFFSET(Male!BB$18,'Male Rev'!$A42-35,0),0.03999)","v":0.01},{"$f":"MIN(OFFSET(Male!BC$18,'Male Rev'!$A42-35,0),0.03999)","v":9.2999999999999992E-3},{"$f":"MIN(OFFSET(Male!BD$18,'Male Rev'!$A42-35,0),0.03999)","v":8.5000000000000006E-3},{"$f":"MIN(OFFSET(Male!BE$18,'Male Rev'!$A42-35,0),0.03999)","v":7.7999999999999996E-3},{"$f":"MIN(OFFSET(Male!BF$18,'Male Rev'!$A42-35,0),0.03999)","v":7.1000000000000004E-3},{"$f":"MIN(OFFSET(Male!BG$18,'Male Rev'!$A42-35,0),0.03999)","v":6.4000000000000003E-3},{"$f":"MIN(OFFSET(Male!BH$18,'Male Rev'!$A42-35,0),0.03999)","v":5.5999999999999999E-3},{"$f":"MIN(OFFSET(Male!BI$18,'Male Rev'!$A42-35,0),0.03999)","v":4.7999999999999996E-3},{"$f":"MIN(OFFSET(Male!BJ$18,'Male Rev'!$A42-35,0),0.03999)","v":3.8E-3},{"$f":"MIN(OFFSET(Male!BK$18,'Male Rev'!$A42-35,0),0.03999)","v":3.0000000000000001E-3},{"$f":"MIN(OFFSET(Male!BL$18,'Male Rev'!$A42-35,0),0.03999)","v":2.2000000000000001E-3},{"$f":"MIN(OFFSET(Male!BM$18,'Male Rev'!$A42-35,0),0.03999)","v":1.6999999999999999E-3},{"$f":"MIN(OFFSET(Male!BN$18,'Male Rev'!$A42-35,0),0.03999)","v":1.4E-3},{"$f":"MIN(OFFSET(Male!BO$18,'Male Rev'!$A42-35,0),0.03999)","v":2.0999999999999999E-3},{"$f":"MIN(OFFSET(Male!BP$18,'Male Rev'!$A42-35,0),0.03999)","v":2.8999999999999998E-3},{"$f":"MIN(OFFSET(Male!BQ$18,'Male Rev'!$A42-35,0),0.03999)","v":4.0000000000000001E-3},{"$f":"MIN(OFFSET(Male!BR$18,'Male Rev'!$A42-35,0),0.03999)","v":5.0000000000000001E-3},{"$f":"MIN(OFFSET(Male!BS$18,'Male Rev'!$A42-35,0),0.03999)","v":5.8999999999999999E-3},{"$f":"MIN(OFFSET(Male!BT$18,'Male Rev'!$A42-35,0),0.03999)","v":6.7000000000000002E-3},{"$f":"MIN(OFFSET(Male!BU$18,'Male Rev'!$A42-35,0),0.03999)","v":7.3000000000000001E-3},{"$f":"MIN(OFFSET(Male!BV$18,'Male Rev'!$A42-35,0),0.03999)","v":7.7000000000000002E-3},{"$f":"MIN(OFFSET(Male!BW$18,'Male Rev'!$A42-35,0),0.03999)","v":7.7999999999999996E-3},{"$f":"MIN(OFFSET(Male!BX$18,'Male Rev'!$A42-35,0),0.03999)","v":7.7000000000000002E-3},{"$f":"MIN(OFFSET(Male!BY$18,'Male Rev'!$A42-35,0),0.03999)","v":7.4999999999999997E-3},{"$f":"MIN(OFFSET(Male!BZ$18,'Male Rev'!$A42-35,0),0.03999)","v":7.4000000000000003E-3},{"$f":"MIN(OFFSET(Male!CA$18,'Male Rev'!$A42-35,0),0.03999)","v":7.4999999999999997E-3},{"$f":"MIN(OFFSET(Male!CB$18,'Male Rev'!$A42-35,0),0.03999)","v":7.7000000000000002E-3},{"$f":"MIN(OFFSET(Male!CC$18,'Male Rev'!$A42-35,0),0.03999)","v":8.0000000000000002E-3},{"$f":"MIN(OFFSET(Male!CD$18,'Male Rev'!$A42-35,0),0.03999)","v":8.5000000000000006E-3},{"$f":"MIN(OFFSET(Male!CE$18,'Male Rev'!$A42-35,0),0.03999)","v":8.9999999999999993E-3},{"$f":"MIN(OFFSET(Male!CF$18,'Male Rev'!$A42-35,0),0.03999)","v":9.4999999999999998E-3},{"$f":"MIN(OFFSET(Male!CG$18,'Male Rev'!$A42-35,0),0.03999)","v":9.9000000000000008E-3},{"$f":"MIN(OFFSET(Male!CH$18,'Male Rev'!$A42-35,0),0.03999)","v":0.01}]
[55,55,{"$f":"MIN(OFFSET(Male!B$18,'Male Rev'!$A43-35,0),0.03999)","v":7.7999999999999996E-3},{"$f":"MIN(OFFSET(Male!C$18,'Male Rev'!$A43-35,0),0.03999)","v":7.7999999999999996E-3},{"$f":"MIN(OFFSET(Male!D$18,'Male Rev'!$A43-35,0),0.03999)","v":7.6E-3},{"$f":"MIN(OFFSET(Male!E$18,'Male Rev'!$A43-35,0),0.03999)","v":7.1999999999999998E-3},{"$f":"MIN(OFFSET(Male!F$18,'Male Rev'!$A43-35,0),0.03999)","v":6.1999999999999998E-3},{"$f":"MIN(OFFSET(Male!G$18,'Male Rev'!$A43-35,0),0.03999)","v":5.1000000000000004E-3},{"$f":"MIN(OFFSET(Male!H$18,'Male Rev'!$A43-35,0),0.03999)","v":4.0000000000000001E-3},{"$f":"MIN(OFFSET(Male!I$18,'Male Rev'!$A43-35,0),0.03999)","v":3.0999999999999999E-3},{"$f":"MIN(OFFSET(Male!J$18,'Male Rev'!$A43-35,0),0.03999)","v":2.2000000000000001E-3},{"$f":"MIN(OFFSET(Male!K$18,'Male Rev'!$A43-35,0),0.03999)","v":1.5E-3},{"$f":"MIN(OFFSET(Male!L$18,'Male Rev'!$A43-35,0),0.03999)","v":1E-3},{"$f":"MIN(OFFSET(Male!M$18,'Male Rev'!$A43-35,0),0.03999)","v":5.0000000000000001E-4},{"$f":"MIN(OFFSET(Male!N$18,'Male Rev'!$A43-35,0),0.03999)","v":4.0000000000000002E-4},{"$f":"MIN(OFFSET(Male!O$18,'Male Rev'!$A43-35,0),0.03999)","v":8.0000000000000004E-4},{"$f":"MIN(OFFSET(Male!P$18,'Male Rev'!$A43-35,0),0.03999)","v":1.5E-3},{"$f":"MIN(OFFSET(Male!Q$18,'Male Rev'!$A43-35,0),0.03999)","v":2.7000000000000001E-3},{"$f":"MIN(OFFSET(Male!R$18,'Male Rev'!$A43-35,0),0.03999)","v":4.4000000000000003E-3},{"$f":"MIN(OFFSET(Male!S$18,'Male Rev'!$A43-35,0),0.03999)","v":6.6E-3},{"$f":"MIN(OFFSET(Male!T$18,'Male Rev'!$A43-35,0),0.03999)","v":9.1999999999999998E-3},{"$f":"MIN(OFFSET(Male!U$18,'Male Rev'!$A43-35,0),0.03999)","v":1.2E-2},{"$f":"MIN(OFFSET(Male!V$18,'Male Rev'!$A43-35,0),0.03999)","v":1.4800000000000001E-2},{"$f":"MIN(OFFSET(Male!W$18,'Male Rev'!$A43-35,0),0.03999)","v":1.7500000000000002E-2},{"$f":"MIN(OFFSET(Male!X$18,'Male Rev'!$A43-35,0),0.03999)","v":0.02},{"$f":"MIN(OFFSET(Male!Y$18,'Male Rev'!$A43-35,0),0.03999)","v":2.1999999999999999E-2},{"$f":"MIN(OFFSET(Male!Z$18,'Male Rev'!$A43-35,0),0.03999)","v":2.3400000000000001E-2},{"$f":"MIN(OFFSET(Male!AA$18,'Male Rev'!$A43-35,0),0.03999)","v":2.4199999999999999E-2},{"$f":"MIN(OFFSET(Male!AB$18,'Male Rev'!$A43-35,0),0.03999)","v":2.4400000000000002E-2},{"$f":"MIN(OFFSET(Male!AC$18,'Male Rev'!$A43-35,0),0.03999)","v":2.41E-2},{"$f":"MIN(OFFSET(Male!AD$18,'Male Rev'!$A43-35,0),0.03999)","v":2.35E-2},{"$f":"MIN(OFFSET(Male!AE$18,'Male Rev'!$A43-35,0),0.03999)","v":2.2700000000000001E-2},{"$f":"MIN(OFFSET(Male!AF$18,'Male Rev'!$A43-35,0),0.03999)","v":2.1999999999999999E-2},{"$f":"MIN(OFFSET(Male!AG$18,'Male Rev'!$A43-35,0),0.03999)","v":2.1299999999999999E-2},{"$f":"MIN(OFFSET(Male!AH$18,'Male Rev'!$A43-35,0),0.03999)","v":2.06E-2},{"$f":"MIN(OFFSET(Male!AI$18,'Male Rev'!$A43-35,0),0.03999)","v":0.02},{"$f":"MIN(OFFSET(Male!AJ$18,'Male Rev'!$A43-35,0),0.03999)","v":1.9599999999999999E-2},{"$f":"MIN(OFFSET(Male!AK$18,'Male Rev'!$A43-35,0),0.03999)","v":1.9300000000000001E-2},{"$f":"MIN(OFFSET(Male!AL$18,'Male Rev'!$A43-35,0),0.03999)","v":1.9E-2},{"$f":"MIN(OFFSET(Male!AM$18,'Male Rev'!$A43-35,0),0.03999)","v":1.8800000000000001E-2},{"$f":"MIN(OFFSET(Male!AN$18,'Male Rev'!$A43-35,0),0.03999)","v":1.8700000000000001E-2},{"$f":"MIN(OFFSET(Male!AO$18,'Male Rev'!$A43-35,0),0.03999)","v":1.8499999999999999E-2},{"$f":"MIN(OFFSET(Male!AP$18,'Male Rev'!$A43-35,0),0.03999)","v":1.83E-2},{"$f":"MIN(OFFSET(Male!AQ$18,'Male Rev'!$A43-35,0),0.03999)","v":1.7999999999999999E-2},{"$f":"MIN(OFFSET(Male!AR$18,'Male Rev'!$A43-35,0),0.03999)","v":1.77E-2},{"$f":"MIN(OFFSET(Male!AS$18,'Male Rev'!$A43-35,0),0.03999)","v":1.7600000000000001E-2},{"$f":"MIN(OFFSET(Male!AT$18,'Male Rev'!$A43-35,0),0.03999)","v":1.7299999999999999E-2},{"$f":"MIN(OFFSET(Male!AU$18,'Male Rev'!$A43-35,0),0.03999)","v":1.6899999999999998E-2},{"$f":"MIN(OFFSET(Male!AV$18,'Male Rev'!$A43-35,0),0.03999)","v":1.61E-2},{"$f":"MIN(OFFSET(Male!AW$18,'Male Rev'!$A43-35,0),0.03999)","v":1.49E-2},{"$f":"MIN(OFFSET(Male!AX$18,'Male Rev'!$A43-35,0),0.03999)","v":1.34E-2},{"$f":"MIN(OFFSET(Male!AY$18,'Male Rev'!$A43-35,0),0.03999)","v":1.1900000000000001E-2},{"$f":"MIN(OFFSET(Male!AZ$18,'Male Rev'!$A43-35,0),0.03999)","v":1.0500000000000001E-2},{"$f":"MIN(OFFSET(Male!BA$18,'Male Rev'!$A43-35,0),0.03999)","v":9.4000000000000004E-3},{"$f":"MIN(OFFSET(Male!BB$18,'Male Rev'!$A43-35,0),0.03999)","v":8.5000000000000006E-3},{"$f":"MIN(OFFSET(Male!BC$18,'Male Rev'!$A43-35,0),0.03999)","v":8.0000000000000002E-3},{"$f":"MIN(OFFSET(Male!BD$18,'Male Rev'!$A43-35,0),0.03999)","v":7.4999999999999997E-3},{"$f":"MIN(OFFSET(Male!BE$18,'Male Rev'!$A43-35,0),0.03999)","v":7.1999999999999998E-3},{"$f":"MIN(OFFSET(Male!BF$18,'Male Rev'!$A43-35,0),0.03999)","v":6.8999999999999999E-3},{"$f":"MIN(OFFSET(Male!BG$18,'Male Rev'!$A43-35,0),0.03999)","v":6.6E-3},{"$f":"MIN(OFFSET(Male!BH$18,'Male Rev'!$A43-35,0),0.03999)","v":6.1999999999999998E-3},{"$f":"MIN(OFFSET(Male!BI$18,'Male Rev'!$A43-35,0),0.03999)","v":5.5999999999999999E-3},{"$f":"MIN(OFFSET(Male!BJ$18,'Male Rev'!$A43-35,0),0.03999)","v":4.7999999999999996E-3},{"$f":"MIN(OFFSET(Male!BK$18,'Male Rev'!$A43-35,0),0.03999)","v":4.0000000000000001E-3},{"$f":"MIN(OFFSET(Male!BL$18,'Male Rev'!$A43-35,0),0.03999)","v":3.3E-3},{"$f":"MIN(OFFSET(Male!BM$18,'Male Rev'!$A43-35,0),0.03999)","v":2.8E-3},{"$f":"MIN(OFFSET(Male!BN$18,'Male Rev'!$A43-35,0),0.03999)","v":2.3999999999999998E-3},{"$f":"MIN(OFFSET(Male!BO$18,'Male Rev'!$A43-35,0),0.03999)","v":3.0999999999999999E-3},{"$f":"MIN(OFFSET(Male!BP$18,'Male Rev'!$A43-35,0),0.03999)","v":3.8E-3},{"$f":"MIN(OFFSET(Male!BQ$18,'Male Rev'!$A43-35,0),0.03999)","v":4.7000000000000002E-3},{"$f":"MIN(OFFSET(Male!BR$18,'Male Rev'!$A43-35,0),0.03999)","v":5.4999999999999997E-3},{"$f":"MIN(OFFSET(Male!BS$18,'Male Rev'!$A43-35,0),0.03999)","v":6.1999999999999998E-3},{"$f":"MIN(OFFSET(Male!BT$18,'Male Rev'!$A43-35,0),0.03999)","v":6.7999999999999996E-3},{"$f":"MIN(OFFSET(Male!BU$18,'Male Rev'!$A43-35,0),0.03999)","v":7.1000000000000004E-3},{"$f":"MIN(OFFSET(Male!BV$18,'Male Rev'!$A43-35,0),0.03999)","v":7.3000000000000001E-3},{"$f":"MIN(OFFSET(Male!BW$18,'Male Rev'!$A43-35,0),0.03999)","v":7.3000000000000001E-3},{"$f":"MIN(OFFSET(Male!BX$18,'Male Rev'!$A43-35,0),0.03999)","v":7.1000000000000004E-3},{"$f":"MIN(OFFSET(Male!BY$18,'Male Rev'!$A43-35,0),0.03999)","v":6.8999999999999999E-3},{"$f":"MIN(OFFSET(Male!BZ$18,'Male Rev'!$A43-35,0),0.03999)","v":6.7999999999999996E-3},{"$f":"MIN(OFFSET(Male!CA$18,'Male Rev'!$A43-35,0),0.03999)","v":7.0000000000000001E-3},{"$f":"MIN(OFFSET(Male!CB$18,'Male Rev'!$A43-35,0),0.03999)","v":7.3000000000000001E-3},{"$f":"MIN(OFFSET(Male!CC$18,'Male Rev'!$A43-35,0),0.03999)","v":7.7000000000000002E-3},{"$f":"MIN(OFFSET(Male!CD$18,'Male Rev'!$A43-35,0),0.03999)","v":8.3000000000000001E-3},{"$f":"MIN(OFFSET(Male!CE$18,'Male Rev'!$A43-35,0),0.03999)","v":8.8999999999999999E-3},{"$f":"MIN(OFFSET(Male!CF$18,'Male Rev'!$A43-35,0),0.03999)","v":9.4999999999999998E-3},{"$f":"MIN(OFFSET(Male!CG$18,'Male Rev'!$A43-35,0),0.03999)","v":9.7999999999999997E-3},{"$f":"MIN(OFFSET(Male!CH$18,'Male Rev'!$A43-35,0),0.03999)","v":0.01}]
[54,54,{"$f":"MIN(OFFSET(Male!B$18,'Male Rev'!$A44-35,0),0.03999)","v":8.3999999999999995E-3},{"$f":"MIN(OFFSET(Male!C$18,'Male Rev'!$A44-35,0),0.03999)","v":8.3999999999999995E-3},{"$f":"MIN(OFFSET(Male!D$18,'Male Rev'!$A44-35,0),0.03999)","v":8.3000000000000001E-3},{"$f":"MIN(OFFSET(Male!E$18,'Male Rev'!$A44-35,0),0.03999)","v":7.7999999999999996E-3},{"$f":"MIN(OFFSET(Male!F$18,'Male Rev'!$A44-35,0),0.03999)","v":6.7999999999999996E-3},{"$f":"MIN(OFFSET(Male!G$18,'Male Rev'!$A44-35,0),0.03999)","v":5.7000000000000002E-3},{"$f":"MIN(OFFSET(Male!H$18,'Male Rev'!$A44-35,0),0.03999)","v":4.4000000000000003E-3},{"$f":"MIN(OFFSET(Male!I$18,'Male Rev'!$A44-35,0),0.03999)","v":3.3999999999999998E-3},{"$f":"MIN(OFFSET(Male!J$18,'Male Rev'!$A44-35,0),0.03999)","v":2.5000000000000001E-3},{"$f":"MIN(OFFSET(Male!K$18,'Male Rev'!$A44-35,0),0.03999)","v":1.6999999999999999E-3},{"$f":"MIN(OFFSET(Male!L$18,'Male Rev'!$A44-35,0),0.03999)","v":1.1000000000000001E-3},{"$f":"MIN(OFFSET(Male!M$18,'Male Rev'!$A44-35,0),0.03999)","v":5.9999999999999995E-4},{"$f":"MIN(OFFSET(Male!N$18,'Male Rev'!$A44-35,0),0.03999)","v":4.0000000000000002E-4},{"$f":"MIN(OFFSET(Male!O$18,'Male Rev'!$A44-35,0),0.03999)","v":8.0000000000000004E-4},{"$f":"MIN(OFFSET(Male!P$18,'Male Rev'!$A44-35,0),0.03999)","v":1.5E-3},{"$f":"MIN(OFFSET(Male!Q$18,'Male Rev'!$A44-35,0),0.03999)","v":2.7000000000000001E-3},{"$f":"MIN(OFFSET(Male!R$18,'Male Rev'!$A44-35,0),0.03999)","v":4.4000000000000003E-3},{"$f":"MIN(OFFSET(Male!S$18,'Male Rev'!$A44-35,0),0.03999)","v":6.6E-3},{"$f":"MIN(OFFSET(Male!T$18,'Male Rev'!$A44-35,0),0.03999)","v":9.1999999999999998E-3},{"$f":"MIN(OFFSET(Male!U$18,'Male Rev'!$A44-35,0),0.03999)","v":1.21E-2},{"$f":"MIN(OFFSET(Male!V$18,'Male Rev'!$A44-35,0),0.03999)","v":1.49E-2},{"$f":"MIN(OFFSET(Male!W$18,'Male Rev'!$A44-35,0),0.03999)","v":1.7600000000000001E-2},{"$f":"MIN(OFFSET(Male!X$18,'Male Rev'!$A44-35,0),0.03999)","v":2.01E-2},{"$f":"MIN(OFFSET(Male!Y$18,'Male Rev'!$A44-35,0),0.03999)","v":2.2200000000000001E-2},{"$f":"MIN(OFFSET(Male!Z$18,'Male Rev'!$A44-35,0),0.03999)","v":2.3599999999999999E-2},{"$f":"MIN(OFFSET(Male!AA$18,'Male Rev'!$A44-35,0),0.03999)","v":2.4400000000000002E-2},{"$f":"MIN(OFFSET(Male!AB$18,'Male Rev'!$A44-35,0),0.03999)","v":2.47E-2},{"$f":"MIN(OFFSET(Male!AC$18,'Male Rev'!$A44-35,0),0.03999)","v":2.4500000000000001E-2},{"$f":"MIN(OFFSET(Male!AD$18,'Male Rev'!$A44-35,0),0.03999)","v":2.4E-2},{"$f":"MIN(OFFSET(Male!AE$18,'Male Rev'!$A44-35,0),0.03999)","v":2.3300000000000001E-2},{"$f":"MIN(OFFSET(Male!AF$18,'Male Rev'!$A44-35,0),0.03999)","v":2.2599999999999999E-2},{"$f":"MIN(OFFSET(Male!AG$18,'Male Rev'!$A44-35,0),0.03999)","v":2.18E-2},{"$f":"MIN(OFFSET(Male!AH$18,'Male Rev'!$A44-35,0),0.03999)","v":2.1000000000000001E-2},{"$f":"MIN(OFFSET(Male!AI$18,'Male Rev'!$A44-35,0),0.03999)","v":2.0199999999999999E-2},{"$f":"MIN(OFFSET(Male!AJ$18,'Male Rev'!$A44-35,0),0.03999)","v":1.9599999999999999E-2},{"$f":"MIN(OFFSET(Male!AK$18,'Male Rev'!$A44-35,0),0.03999)","v":1.9099999999999999E-2},{"$f":"MIN(OFFSET(Male!AL$18,'Male Rev'!$A44-35,0),0.03999)","v":1.8700000000000001E-2},{"$f":"MIN(OFFSET(Male!AM$18,'Male Rev'!$A44-35,0),0.03999)","v":1.84E-2},{"$f":"MIN(OFFSET(Male!AN$18,'Male Rev'!$A44-35,0),0.03999)","v":1.8100000000000002E-2},{"$f":"MIN(OFFSET(Male!AO$18,'Male Rev'!$A44-35,0),0.03999)","v":1.78E-2},{"$f":"MIN(OFFSET(Male!AP$18,'Male Rev'!$A44-35,0),0.03999)","v":1.7399999999999999E-2},{"$f":"MIN(OFFSET(Male!AQ$18,'Male Rev'!$A44-35,0),0.03999)","v":1.7100000000000001E-2},{"$f":"MIN(OFFSET(Male!AR$18,'Male Rev'!$A44-35,0),0.03999)","v":1.6799999999999999E-2},{"$f":"MIN(OFFSET(Male!AS$18,'Male Rev'!$A44-35,0),0.03999)","v":1.66E-2},{"$f":"MIN(OFFSET(Male!AT$18,'Male Rev'!$A44-35,0),0.03999)","v":1.6500000000000001E-2},{"$f":"MIN(OFFSET(Male!AU$18,'Male Rev'!$A44-35,0),0.03999)","v":1.6199999999999999E-2},{"$f":"MIN(OFFSET(Male!AV$18,'Male Rev'!$A44-35,0),0.03999)","v":1.54E-2},{"$f":"MIN(OFFSET(Male!AW$18,'Male Rev'!$A44-35,0),0.03999)","v":1.4E-2},{"$f":"MIN(OFFSET(Male!AX$18,'Male Rev'!$A44-35,0),0.03999)","v":1.23E-2},{"$f":"MIN(OFFSET(Male!AY$18,'Male Rev'!$A44-35,0),0.03999)","v":1.06E-2},{"$f":"MIN(OFFSET(Male!AZ$18,'Male Rev'!$A44-35,0),0.03999)","v":9.1000000000000004E-3},{"$f":"MIN(OFFSET(Male!BA$18,'Male Rev'!$A44-35,0),0.03999)","v":7.9000000000000008E-3},{"$f":"MIN(OFFSET(Male!BB$18,'Male Rev'!$A44-35,0),0.03999)","v":7.1999999999999998E-3},{"$f":"MIN(OFFSET(Male!BC$18,'Male Rev'!$A44-35,0),0.03999)","v":6.8999999999999999E-3},{"$f":"MIN(OFFSET(Male!BD$18,'Male Rev'!$A44-35,0),0.03999)","v":6.8999999999999999E-3},{"$f":"MIN(OFFSET(Male!BE$18,'Male Rev'!$A44-35,0),0.03999)","v":7.0000000000000001E-3},{"$f":"MIN(OFFSET(Male!BF$18,'Male Rev'!$A44-35,0),0.03999)","v":7.1999999999999998E-3},{"$f":"MIN(OFFSET(Male!BG$18,'Male Rev'!$A44-35,0),0.03999)","v":7.1999999999999998E-3},{"$f":"MIN(OFFSET(Male!BH$18,'Male Rev'!$A44-35,0),0.03999)","v":7.0000000000000001E-3},{"$f":"MIN(OFFSET(Male!BI$18,'Male Rev'!$A44-35,0),0.03999)","v":6.6E-3},{"$f":"MIN(OFFSET(Male!BJ$18,'Male Rev'!$A44-35,0),0.03999)","v":5.8999999999999999E-3},{"$f":"MIN(OFFSET(Male!BK$18,'Male Rev'!$A44-35,0),0.03999)","v":5.1000000000000004E-3},{"$f":"MIN(OFFSET(Male!BL$18,'Male Rev'!$A44-35,0),0.03999)","v":4.4000000000000003E-3},{"$f":"MIN(OFFSET(Male!BM$18,'Male Rev'!$A44-35,0),0.03999)","v":3.8E-3},{"$f":"MIN(OFFSET(Male!BN$18,'Male Rev'!$A44-35,0),0.03999)","v":3.3999999999999998E-3},{"$f":"MIN(OFFSET(Male!BO$18,'Male Rev'!$A44-35,0),0.03999)","v":4.0000000000000001E-3},{"$f":"MIN(OFFSET(Male!BP$18,'Male Rev'!$A44-35,0),0.03999)","v":4.5999999999999999E-3},{"$f":"MIN(OFFSET(Male!BQ$18,'Male Rev'!$A44-35,0),0.03999)","v":5.3E-3},{"$f":"MIN(OFFSET(Male!BR$18,'Male Rev'!$A44-35,0),0.03999)","v":5.8999999999999999E-3},{"$f":"MIN(OFFSET(Male!BS$18,'Male Rev'!$A44-35,0),0.03999)","v":6.3E-3},{"$f":"MIN(OFFSET(Male!BT$18,'Male Rev'!$A44-35,0),0.03999)","v":6.6E-3},{"$f":"MIN(OFFSET(Male!BU$18,'Male Rev'!$A44-35,0),0.03999)","v":6.7000000000000002E-3},{"$f":"MIN(OFFSET(Male!BV$18,'Male Rev'!$A44-35,0),0.03999)","v":6.7000000000000002E-3},{"$f":"MIN(OFFSET(Male!BW$18,'Male Rev'!$A44-35,0),0.03999)","v":6.6E-3},{"$f":"MIN(OFFSET(Male!BX$18,'Male Rev'!$A44-35,0),0.03999)","v":6.4000000000000003E-3},{"$f":"MIN(OFFSET(Male!BY$18,'Male Rev'!$A44-35,0),0.03999)","v":6.1999999999999998E-3},{"$f":"MIN(OFFSET(Male!BZ$18,'Male Rev'!$A44-35,0),0.03999)","v":6.1999999999999998E-3},{"$f":"MIN(OFFSET(Male!CA$18,'Male Rev'!$A44-35,0),0.03999)","v":6.4000000000000003E-3},{"$f":"MIN(OFFSET(Male!CB$18,'Male Rev'!$A44-35,0),0.03999)","v":6.8999999999999999E-3},{"$f":"MIN(OFFSET(Male!CC$18,'Male Rev'!$A44-35,0),0.03999)","v":7.4000000000000003E-3},{"$f":"MIN(OFFSET(Male!CD$18,'Male Rev'!$A44-35,0),0.03999)","v":8.0999999999999996E-3},{"$f":"MIN(OFFSET(Male!CE$18,'Male Rev'!$A44-35,0),0.03999)","v":8.8000000000000005E-3},{"$f":"MIN(OFFSET(Male!CF$18,'Male Rev'!$A44-35,0),0.03999)","v":9.4000000000000004E-3},{"$f":"MIN(OFFSET(Male!CG$18,'Male Rev'!$A44-35,0),0.03999)","v":9.7999999999999997E-3},{"$f":"MIN(OFFSET(Male!CH$18,'Male Rev'!$A44-35,0),0.03999)","v":0.01}]
[53,53,{"$f":"MIN(OFFSET(Male!B$18,'Male Rev'!$A45-35,0),0.03999)","v":8.9999999999999993E-3},{"$f":"MIN(OFFSET(Male!C$18,'Male Rev'!$A45-35,0),0.03999)","v":8.9999999999999993E-3},{"$f":"MIN(OFFSET(Male!D$18,'Male Rev'!$A45-35,0),0.03999)","v":8.8999999999999999E-3},{"$f":"MIN(OFFSET(Male!E$18,'Male Rev'!$A45-35,0),0.03999)","v":8.3999999999999995E-3},{"$f":"MIN(OFFSET(Male!F$18,'Male Rev'!$A45-35,0),0.03999)","v":7.4000000000000003E-3},{"$f":"MIN(OFFSET(Male!G$18,'Male Rev'!$A45-35,0),0.03999)","v":6.1999999999999998E-3},{"$f":"MIN(OFFSET(Male!H$18,'Male Rev'!$A45-35,0),0.03999)","v":4.8999999999999998E-3},{"$f":"MIN(OFFSET(Male!I$18,'Male Rev'!$A45-35,0),0.03999)","v":3.7000000000000002E-3},{"$f":"MIN(OFFSET(Male!J$18,'Male Rev'!$A45-35,0),0.03999)","v":2.7000000000000001E-3},{"$f":"MIN(OFFSET(Male!K$18,'Male Rev'!$A45-35,0),0.03999)","v":1.8E-3},{"$f":"MIN(OFFSET(Male!L$18,'Male Rev'!$A45-35,0),0.03999)","v":1.1000000000000001E-3},{"$f":"MIN(OFFSET(Male!M$18,'Male Rev'!$A45-35,0),0.03999)","v":5.9999999999999995E-4},{"$f":"MIN(OFFSET(Male!N$18,'Male Rev'!$A45-35,0),0.03999)","v":4.0000000000000002E-4},{"$f":"MIN(OFFSET(Male!O$18,'Male Rev'!$A45-35,0),0.03999)","v":6.9999999999999999E-4},{"$f":"MIN(OFFSET(Male!P$18,'Male Rev'!$A45-35,0),0.03999)","v":1.4E-3},{"$f":"MIN(OFFSET(Male!Q$18,'Male Rev'!$A45-35,0),0.03999)","v":2.5999999999999999E-3},{"$f":"MIN(OFFSET(Male!R$18,'Male Rev'!$A45-35,0),0.03999)","v":4.4000000000000003E-3},{"$f":"MIN(OFFSET(Male!S$18,'Male Rev'!$A45-35,0),0.03999)","v":6.6E-3},{"$f":"MIN(OFFSET(Male!T$18,'Male Rev'!$A45-35,0),0.03999)","v":9.2999999999999992E-3},{"$f":"MIN(OFFSET(Male!U$18,'Male Rev'!$A45-35,0),0.03999)","v":1.21E-2},{"$f":"MIN(OFFSET(Male!V$18,'Male Rev'!$A45-35,0),0.03999)","v":1.4999999999999999E-2},{"$f":"MIN(OFFSET(Male!W$18,'Male Rev'!$A45-35,0),0.03999)","v":1.77E-2},{"$f":"MIN(OFFSET(Male!X$18,'Male Rev'!$A45-35,0),0.03999)","v":2.0299999999999999E-2},{"$f":"MIN(OFFSET(Male!Y$18,'Male Rev'!$A45-35,0),0.03999)","v":2.23E-2},{"$f":"MIN(OFFSET(Male!Z$18,'Male Rev'!$A45-35,0),0.03999)","v":2.3800000000000002E-2},{"$f":"MIN(OFFSET(Male!AA$18,'Male Rev'!$A45-35,0),0.03999)","v":2.47E-2},{"$f":"MIN(OFFSET(Male!AB$18,'Male Rev'!$A45-35,0),0.03999)","v":2.5000000000000001E-2},{"$f":"MIN(OFFSET(Male!AC$18,'Male Rev'!$A45-35,0),0.03999)","v":2.4899999999999999E-2},{"$f":"MIN(OFFSET(Male!AD$18,'Male Rev'!$A45-35,0),0.03999)","v":2.4500000000000001E-2},{"$f":"MIN(OFFSET(Male!AE$18,'Male Rev'!$A45-35,0),0.03999)","v":2.3900000000000001E-2},{"$f":"MIN(OFFSET(Male!AF$18,'Male Rev'!$A45-35,0),0.03999)","v":2.3099999999999999E-2},{"$f":"MIN(OFFSET(Male!AG$18,'Male Rev'!$A45-35,0),0.03999)","v":2.23E-2},{"$f":"MIN(OFFSET(Male!AH$18,'Male Rev'!$A45-35,0),0.03999)","v":2.1299999999999999E-2},{"$f":"MIN(OFFSET(Male!AI$18,'Male Rev'!$A45-35,0),0.03999)","v":2.0299999999999999E-2},{"$f":"MIN(OFFSET(Male!AJ$18,'Male Rev'!$A45-35,0),0.03999)","v":1.9400000000000001E-2},{"$f":"MIN(OFFSET(Male!AK$18,'Male Rev'!$A45-35,0),0.03999)","v":1.8599999999999998E-2},{"$f":"MIN(OFFSET(Male!AL$18,'Male Rev'!$A45-35,0),0.03999)","v":1.7999999999999999E-2},{"$f":"MIN(OFFSET(Male!AM$18,'Male Rev'!$A45-35,0),0.03999)","v":1.7600000000000001E-2},{"$f":"MIN(OFFSET(Male!AN$18,'Male Rev'!$A45-35,0),0.03999)","v":1.72E-2},{"$f":"MIN(OFFSET(Male!AO$18,'Male Rev'!$A45-35,0),0.03999)","v":1.6799999999999999E-2},{"$f":"MIN(OFFSET(Male!AP$18,'Male Rev'!$A45-35,0),0.03999)","v":1.6400000000000001E-2},{"$f":"MIN(OFFSET(Male!AQ$18,'Male Rev'!$A45-35,0),0.03999)","v":1.6E-2},{"$f":"MIN(OFFSET(Male!AR$18,'Male Rev'!$A45-35,0),0.03999)","v":1.5699999999999999E-2},{"$f":"MIN(OFFSET(Male!AS$18,'Male Rev'!$A45-35,0),0.03999)","v":1.5599999999999999E-2},{"$f":"MIN(OFFSET(Male!AT$18,'Male Rev'!$A45-35,0),0.03999)","v":1.5599999999999999E-2},{"$f":"MIN(OFFSET(Male!AU$18,'Male Rev'!$A45-35,0),0.03999)","v":1.54E-2},{"$f":"MIN(OFFSET(Male!AV$18,'Male Rev'!$A45-35,0),0.03999)","v":1.46E-2},{"$f":"MIN(OFFSET(Male!AW$18,'Male Rev'!$A45-35,0),0.03999)","v":1.32E-2},{"$f":"MIN(OFFSET(Male!AX$18,'Male Rev'!$A45-35,0),0.03999)","v":1.1299999999999999E-2},{"$f":"MIN(OFFSET(Male!AY$18,'Male Rev'!$A45-35,0),0.03999)","v":9.4999999999999998E-3},{"$f":"MIN(OFFSET(Male!AZ$18,'Male Rev'!$A45-35,0),0.03999)","v":7.9000000000000008E-3},{"$f":"MIN(OFFSET(Male!BA$18,'Male Rev'!$A45-35,0),0.03999)","v":6.7000000000000002E-3},{"$f":"MIN(OFFSET(Male!BB$18,'Male Rev'!$A45-35,0),0.03999)","v":6.1999999999999998E-3},{"$f":"MIN(OFFSET(Male!BC$18,'Male Rev'!$A45-35,0),0.03999)","v":6.1999999999999998E-3},{"$f":"MIN(OFFSET(Male!BD$18,'Male Rev'!$A45-35,0),0.03999)","v":6.6E-3},{"$f":"MIN(OFFSET(Male!BE$18,'Male Rev'!$A45-35,0),0.03999)","v":7.1999999999999998E-3},{"$f":"MIN(OFFSET(Male!BF$18,'Male Rev'!$A45-35,0),0.03999)","v":7.7999999999999996E-3},{"$f":"MIN(OFFSET(Male!BG$18,'Male Rev'!$A45-35,0),0.03999)","v":8.0999999999999996E-3},{"$f":"MIN(OFFSET(Male!BH$18,'Male Rev'!$A45-35,0),0.03999)","v":8.2000000000000007E-3},{"$f":"MIN(OFFSET(Male!BI$18,'Male Rev'!$A45-35,0),0.03999)","v":7.9000000000000008E-3},{"$f":"MIN(OFFSET(Male!BJ$18,'Male Rev'!$A45-35,0),0.03999)","v":7.1999999999999998E-3},{"$f":"MIN(OFFSET(Male!BK$18,'Male Rev'!$A45-35,0),0.03999)","v":6.3E-3},{"$f":"MIN(OFFSET(Male!BL$18,'Male Rev'!$A45-35,0),0.03999)","v":5.4999999999999997E-3},{"$f":"MIN(OFFSET(Male!BM$18,'Male Rev'!$A45-35,0),0.03999)","v":4.7999999999999996E-3},{"$f":"MIN(OFFSET(Male!BN$18,'Male Rev'!$A45-35,0),0.03999)","v":4.3E-3},{"$f":"MIN(OFFSET(Male!BO$18,'Male Rev'!$A45-35,0),0.03999)","v":4.7999999999999996E-3},{"$f":"MIN(OFFSET(Male!BP$18,'Male Rev'!$A45-35,0),0.03999)","v":5.1999999999999998E-3},{"$f":"MIN(OFFSET(Male!BQ$18,'Male Rev'!$A45-35,0),0.03999)","v":5.7000000000000002E-3},{"$f":"MIN(OFFSET(Male!BR$18,'Male Rev'!$A45-35,0),0.03999)","v":6.0000000000000001E-3},{"$f":"MIN(OFFSET(Male!BS$18,'Male Rev'!$A45-35,0),0.03999)","v":6.1999999999999998E-3},{"$f":"MIN(OFFSET(Male!BT$18,'Male Rev'!$A45-35,0),0.03999)","v":6.1999999999999998E-3},{"$f":"MIN(OFFSET(Male!BU$18,'Male Rev'!$A45-35,0),0.03999)","v":6.1000000000000004E-3},{"$f":"MIN(OFFSET(Male!BV$18,'Male Rev'!$A45-35,0),0.03999)","v":6.0000000000000001E-3},{"$f":"MIN(OFFSET(Male!BW$18,'Male Rev'!$A45-35,0),0.03999)","v":5.7000000000000002E-3},{"$f":"MIN(OFFSET(Male!BX$18,'Male Rev'!$A45-35,0),0.03999)","v":5.4999999999999997E-3},{"$f":"MIN(OFFSET(Male!BY$18,'Male Rev'!$A45-35,0),0.03999)","v":5.4000000000000003E-3},{"$f":"MIN(OFFSET(Male!BZ$18,'Male Rev'!$A45-35,0),0.03999)","v":5.4999999999999997E-3},{"$f":"MIN(OFFSET(Male!CA$18,'Male Rev'!$A45-35,0),0.03999)","v":5.8999999999999999E-3},{"$f":"MIN(OFFSET(Male!CB$18,'Male Rev'!$A45-35,0),0.03999)","v":6.4999999999999997E-3},{"$f":"MIN(OFFSET(Male!CC$18,'Male Rev'!$A45-35,0),0.03999)","v":7.1999999999999998E-3},{"$f":"MIN(OFFSET(Male!CD$18,'Male Rev'!$A45-35,0),0.03999)","v":8.0000000000000002E-3},{"$f":"MIN(OFFSET(Male!CE$18,'Male Rev'!$A45-35,0),0.03999)","v":8.6999999999999994E-3},{"$f":"MIN(OFFSET(Male!CF$18,'Male Rev'!$A45-35,0),0.03999)","v":9.4000000000000004E-3},{"$f":"MIN(OFFSET(Male!CG$18,'Male Rev'!$A45-35,0),0.03999)","v":9.7999999999999997E-3},{"$f":"MIN(OFFSET(Male!CH$18,'Male Rev'!$A45-35,0),0.03999)","v":0.01}]
[52,52,{"$f":"MIN(OFFSET(Male!B$18,'Male Rev'!$A46-35,0),0.03999)","v":9.7000000000000003E-3},{"$f":"MIN(OFFSET(Male!C$18,'Male Rev'!$A46-35,0),0.03999)","v":9.7000000000000003E-3},{"$f":"MIN(OFFSET(Male!D$18,'Male Rev'!$A46-35,0),0.03999)","v":9.4999999999999998E-3},{"$f":"MIN(OFFSET(Male!E$18,'Male Rev'!$A46-35,0),0.03999)","v":8.9999999999999993E-3},{"$f":"MIN(OFFSET(Male!F$18,'Male Rev'!$A46-35,0),0.03999)","v":8.0000000000000002E-3},{"$f":"MIN(OFFSET(Male!G$18,'Male Rev'!$A46-35,0),0.03999)","v":6.7000000000000002E-3},{"$f":"MIN(OFFSET(Male!H$18,'Male Rev'!$A46-35,0),0.03999)","v":5.3E-3},{"$f":"MIN(OFFSET(Male!I$18,'Male Rev'!$A46-35,0),0.03999)","v":4.0000000000000001E-3},{"$f":"MIN(OFFSET(Male!J$18,'Male Rev'!$A46-35,0),0.03999)","v":2.8999999999999998E-3},{"$f":"MIN(OFFSET(Male!K$18,'Male Rev'!$A46-35,0),0.03999)","v":1.9E-3},{"$f":"MIN(OFFSET(Male!L$18,'Male Rev'!$A46-35,0),0.03999)","v":1.1999999999999999E-3},{"$f":"MIN(OFFSET(Male!M$18,'Male Rev'!$A46-35,0),0.03999)","v":5.9999999999999995E-4},{"$f":"MIN(OFFSET(Male!N$18,'Male Rev'!$A46-35,0),0.03999)","v":2.9999999999999997E-4},{"$f":"MIN(OFFSET(Male!O$18,'Male Rev'!$A46-35,0),0.03999)","v":5.9999999999999995E-4},{"$f":"MIN(OFFSET(Male!P$18,'Male Rev'!$A46-35,0),0.03999)","v":1.1999999999999999E-3},{"$f":"MIN(OFFSET(Male!Q$18,'Male Rev'!$A46-35,0),0.03999)","v":2.5000000000000001E-3},{"$f":"MIN(OFFSET(Male!R$18,'Male Rev'!$A46-35,0),0.03999)","v":4.3E-3},{"$f":"MIN(OFFSET(Male!S$18,'Male Rev'!$A46-35,0),0.03999)","v":6.4999999999999997E-3},{"$f":"MIN(OFFSET(Male!T$18,'Male Rev'!$A46-35,0),0.03999)","v":9.1999999999999998E-3},{"$f":"MIN(OFFSET(Male!U$18,'Male Rev'!$A46-35,0),0.03999)","v":1.21E-2},{"$f":"MIN(OFFSET(Male!V$18,'Male Rev'!$A46-35,0),0.03999)","v":1.4999999999999999E-2},{"$f":"MIN(OFFSET(Male!W$18,'Male Rev'!$A46-35,0),0.03999)","v":1.78E-2},{"$f":"MIN(OFFSET(Male!X$18,'Male Rev'!$A46-35,0),0.03999)","v":2.0400000000000001E-2},{"$f":"MIN(OFFSET(Male!Y$18,'Male Rev'!$A46-35,0),0.03999)","v":2.2499999999999999E-2},{"$f":"MIN(OFFSET(Male!Z$18,'Male Rev'!$A46-35,0),0.03999)","v":2.41E-2},{"$f":"MIN(OFFSET(Male!AA$18,'Male Rev'!$A46-35,0),0.03999)","v":2.5000000000000001E-2},{"$f":"MIN(OFFSET(Male!AB$18,'Male Rev'!$A46-35,0),0.03999)","v":2.5399999999999999E-2},{"$f":"MIN(OFFSET(Male!AC$18,'Male Rev'!$A46-35,0),0.03999)","v":2.5399999999999999E-2},{"$f":"MIN(OFFSET(Male!AD$18,'Male Rev'!$A46-35,0),0.03999)","v":2.5000000000000001E-2},{"$f":"MIN(OFFSET(Male!AE$18,'Male Rev'!$A46-35,0),0.03999)","v":2.4400000000000002E-2},{"$f":"MIN(OFFSET(Male!AF$18,'Male Rev'!$A46-35,0),0.03999)","v":2.3599999999999999E-2},{"$f":"MIN(OFFSET(Male!AG$18,'Male Rev'!$A46-35,0),0.03999)","v":2.2599999999999999E-2},{"$f":"MIN(OFFSET(Male!AH$18,'Male Rev'!$A46-35,0),0.03999)","v":2.1399999999999999E-2},{"$f":"MIN(OFFSET(Male!AI$18,'Male Rev'!$A46-35,0),0.03999)","v":2.0199999999999999E-2},{"$f":"MIN(OFFSET(Male!AJ$18,'Male Rev'!$A46-35,0),0.03999)","v":1.9E-2},{"$f":"MIN(OFFSET(Male!AK$18,'Male Rev'!$A46-35,0),0.03999)","v":1.7999999999999999E-2},{"$f":"MIN(OFFSET(Male!AL$18,'Male Rev'!$A46-35,0),0.03999)","v":1.72E-2},{"$f":"MIN(OFFSET(Male!AM$18,'Male Rev'!$A46-35,0),0.03999)","v":1.66E-2},{"$f":"MIN(OFFSET(Male!AN$18,'Male Rev'!$A46-35,0),0.03999)","v":1.61E-2},{"$f":"MIN(OFFSET(Male!AO$18,'Male Rev'!$A46-35,0),0.03999)","v":1.5599999999999999E-2},{"$f":"MIN(OFFSET(Male!AP$18,'Male Rev'!$A46-35,0),0.03999)","v":1.5100000000000001E-2},{"$f":"MIN(OFFSET(Male!AQ$18,'Male Rev'!$A46-35,0),0.03999)","v":1.47E-2},{"$f":"MIN(OFFSET(Male!AR$18,'Male Rev'!$A46-35,0),0.03999)","v":1.4500000000000001E-2},{"$f":"MIN(OFFSET(Male!AS$18,'Male Rev'!$A46-35,0),0.03999)","v":1.4500000000000001E-2},{"$f":"MIN(OFFSET(Male!AT$18,'Male Rev'!$A46-35,0),0.03999)","v":1.47E-2},{"$f":"MIN(OFFSET(Male!AU$18,'Male Rev'!$A46-35,0),0.03999)","v":1.46E-2},{"$f":"MIN(OFFSET(Male!AV$18,'Male Rev'!$A46-35,0),0.03999)","v":1.3899999999999999E-2},{"$f":"MIN(OFFSET(Male!AW$18,'Male Rev'!$A46-35,0),0.03999)","v":1.24E-2},{"$f":"MIN(OFFSET(Male!AX$18,'Male Rev'!$A46-35,0),0.03999)","v":1.0500000000000001E-2},{"$f":"MIN(OFFSET(Male!AY$18,'Male Rev'!$A46-35,0),0.03999)","v":8.6E-3},{"$f":"MIN(OFFSET(Male!AZ$18,'Male Rev'!$A46-35,0),0.03999)","v":7.0000000000000001E-3},{"$f":"MIN(OFFSET(Male!BA$18,'Male Rev'!$A46-35,0),0.03999)","v":5.7999999999999996E-3},{"$f":"MIN(OFFSET(Male!BB$18,'Male Rev'!$A46-35,0),0.03999)","v":5.5999999999999999E-3},{"$f":"MIN(OFFSET(Male!BC$18,'Male Rev'!$A46-35,0),0.03999)","v":5.8999999999999999E-3},{"$f":"MIN(OFFSET(Male!BD$18,'Male Rev'!$A46-35,0),0.03999)","v":6.7000000000000002E-3},{"$f":"MIN(OFFSET(Male!BE$18,'Male Rev'!$A46-35,0),0.03999)","v":7.7999999999999996E-3},{"$f":"MIN(OFFSET(Male!BF$18,'Male Rev'!$A46-35,0),0.03999)","v":8.6999999999999994E-3},{"$f":"MIN(OFFSET(Male!BG$18,'Male Rev'!$A46-35,0),0.03999)","v":9.2999999999999992E-3},{"$f":"MIN(OFFSET(Male!BH$18,'Male Rev'!$A46-35,0),0.03999)","v":9.4999999999999998E-3},{"$f":"MIN(OFFSET(Male!BI$18,'Male Rev'!$A46-35,0),0.03999)","v":9.2999999999999992E-3},{"$f":"MIN(OFFSET(Male!BJ$18,'Male Rev'!$A46-35,0),0.03999)","v":8.5000000000000006E-3},{"$f":"MIN(OFFSET(Male!BK$18,'Male Rev'!$A46-35,0),0.03999)","v":7.4999999999999997E-3},{"$f":"MIN(OFFSET(Male!BL$18,'Male Rev'!$A46-35,0),0.03999)","v":6.6E-3},{"$f":"MIN(OFFSET(Male!BM$18,'Male Rev'!$A46-35,0),0.03999)","v":5.7000000000000002E-3},{"$f":"MIN(OFFSET(Male!BN$18,'Male Rev'!$A46-35,0),0.03999)","v":5.0000000000000001E-3},{"$f":"MIN(OFFSET(Male!BO$18,'Male Rev'!$A46-35,0),0.03999)","v":5.3E-3},{"$f":"MIN(OFFSET(Male!BP$18,'Male Rev'!$A46-35,0),0.03999)","v":5.5999999999999999E-3},{"$f":"MIN(OFFSET(Male!BQ$18,'Male Rev'!$A46-35,0),0.03999)","v":5.7999999999999996E-3},{"$f":"MIN(OFFSET(Male!BR$18,'Male Rev'!$A46-35,0),0.03999)","v":5.7999999999999996E-3},{"$f":"MIN(OFFSET(Male!BS$18,'Male Rev'!$A46-35,0),0.03999)","v":5.7000000000000002E-3},{"$f":"MIN(OFFSET(Male!BT$18,'Male Rev'!$A46-35,0),0.03999)","v":5.5999999999999999E-3},{"$f":"MIN(OFFSET(Male!BU$18,'Male Rev'!$A46-35,0),0.03999)","v":5.3E-3},{"$f":"MIN(OFFSET(Male!BV$18,'Male Rev'!$A46-35,0),0.03999)","v":5.0000000000000001E-3},{"$f":"MIN(OFFSET(Male!BW$18,'Male Rev'!$A46-35,0),0.03999)","v":4.7999999999999996E-3},{"$f":"MIN(OFFSET(Male!BX$18,'Male Rev'!$A46-35,0),0.03999)","v":4.5999999999999999E-3},{"$f":"MIN(OFFSET(Male!BY$18,'Male Rev'!$A46-35,0),0.03999)","v":4.5999999999999999E-3},{"$f":"MIN(OFFSET(Male!BZ$18,'Male Rev'!$A46-35,0),0.03999)","v":4.8999999999999998E-3},{"$f":"MIN(OFFSET(Male!CA$18,'Male Rev'!$A46-35,0),0.03999)","v":5.4000000000000003E-3},{"$f":"MIN(OFFSET(Male!CB$18,'Male Rev'!$A46-35,0),0.03999)","v":6.1000000000000004E-3},{"$f":"MIN(OFFSET(Male!CC$18,'Male Rev'!$A46-35,0),0.03999)","v":6.8999999999999999E-3},{"$f":"MIN(OFFSET(Male!CD$18,'Male Rev'!$A46-35,0),0.03999)","v":7.7999999999999996E-3},{"$f":"MIN(OFFSET(Male!CE$18,'Male Rev'!$A46-35,0),0.03999)","v":8.6999999999999994E-3},{"$f":"MIN(OFFSET(Male!CF$18,'Male Rev'!$A46-35,0),0.03999)","v":9.4000000000000004E-3},{"$f":"MIN(OFFSET(Male!CG$18,'Male Rev'!$A46-35,0),0.03999)","v":9.7999999999999997E-3},{"$f":"MIN(OFFSET(Male!CH$18,'Male Rev'!$A46-35,0),0.03999)","v":0.01}]
[51,51,{"$f":"MIN(OFFSET(Male!B$18,'Male Rev'!$A47-35,0),0.03999)","v":1.04E-2},{"$f":"MIN(OFFSET(Male!C$18,'Male Rev'!$A47-35,0),0.03999)","v":1.04E-2},{"$f":"MIN(OFFSET(Male!D$18,'Male Rev'!$A47-35,0),0.03999)","v":1.0200000000000001E-2},{"$f":"MIN(OFFSET(Male!E$18,'Male Rev'!$A47-35,0),0.03999)","v":9.5999999999999992E-3},{"$f":"MIN(OFFSET(Male!F$18,'Male Rev'!$A47-35,0),0.03999)","v":8.6E-3},{"$f":"MIN(OFFSET(Male!G$18,'Male Rev'!$A47-35,0),0.03999)","v":7.1999999999999998E-3},{"$f":"MIN(OFFSET(Male!H$18,'Male Rev'!$A47-35,0),0.03999)","v":5.7000000000000002E-3},{"$f":"MIN(OFFSET(Male!I$18,'Male Rev'!$A47-35,0),0.03999)","v":4.3E-3},{"$f":"MIN(OFFSET(Male!J$18,'Male Rev'!$A47-35,0),0.03999)","v":3.0999999999999999E-3},{"$f":"MIN(OFFSET(Male!K$18,'Male Rev'!$A47-35,0),0.03999)","v":2E-3},{"$f":"MIN(OFFSET(Male!L$18,'Male Rev'!$A47-35,0),0.03999)","v":1.1000000000000001E-3},{"$f":"MIN(OFFSET(Male!M$18,'Male Rev'!$A47-35,0),0.03999)","v":5.0000000000000001E-4},{"$f":"MIN(OFFSET(Male!N$18,'Male Rev'!$A47-35,0),0.03999)","v":2.0000000000000001E-4},{"$f":"MIN(OFFSET(Male!O$18,'Male Rev'!$A47-35,0),0.03999)","v":2.9999999999999997E-4},{"$f":"MIN(OFFSET(Male!P$18,'Male Rev'!$A47-35,0),0.03999)","v":1E-3},{"$f":"MIN(OFFSET(Male!Q$18,'Male Rev'!$A47-35,0),0.03999)","v":2.3E-3},{"$f":"MIN(OFFSET(Male!R$18,'Male Rev'!$A47-35,0),0.03999)","v":4.1000000000000003E-3},{"$f":"MIN(OFFSET(Male!S$18,'Male Rev'!$A47-35,0),0.03999)","v":6.3E-3},{"$f":"MIN(OFFSET(Male!T$18,'Male Rev'!$A47-35,0),0.03999)","v":9.1000000000000004E-3},{"$f":"MIN(OFFSET(Male!U$18,'Male Rev'!$A47-35,0),0.03999)","v":1.2E-2},{"$f":"MIN(OFFSET(Male!V$18,'Male Rev'!$A47-35,0),0.03999)","v":1.49E-2},{"$f":"MIN(OFFSET(Male!W$18,'Male Rev'!$A47-35,0),0.03999)","v":1.78E-2},{"$f":"MIN(OFFSET(Male!X$18,'Male Rev'!$A47-35,0),0.03999)","v":2.0500000000000001E-2},{"$f":"MIN(OFFSET(Male!Y$18,'Male Rev'!$A47-35,0),0.03999)","v":2.2700000000000001E-2},{"$f":"MIN(OFFSET(Male!Z$18,'Male Rev'!$A47-35,0),0.03999)","v":2.4400000000000002E-2},{"$f":"MIN(OFFSET(Male!AA$18,'Male Rev'!$A47-35,0),0.03999)","v":2.5399999999999999E-2},{"$f":"MIN(OFFSET(Male!AB$18,'Male Rev'!$A47-35,0),0.03999)","v":2.5899999999999999E-2},{"$f":"MIN(OFFSET(Male!AC$18,'Male Rev'!$A47-35,0),0.03999)","v":2.5899999999999999E-2},{"$f":"MIN(OFFSET(Male!AD$18,'Male Rev'!$A47-35,0),0.03999)","v":2.5499999999999998E-2},{"$f":"MIN(OFFSET(Male!AE$18,'Male Rev'!$A47-35,0),0.03999)","v":2.4899999999999999E-2},{"$f":"MIN(OFFSET(Male!AF$18,'Male Rev'!$A47-35,0),0.03999)","v":2.4E-2},{"$f":"MIN(OFFSET(Male!AG$18,'Male Rev'!$A47-35,0),0.03999)","v":2.2800000000000001E-2},{"$f":"MIN(OFFSET(Male!AH$18,'Male Rev'!$A47-35,0),0.03999)","v":2.1399999999999999E-2},{"$f":"MIN(OFFSET(Male!AI$18,'Male Rev'!$A47-35,0),0.03999)","v":1.9900000000000001E-2},{"$f":"MIN(OFFSET(Male!AJ$18,'Male Rev'!$A47-35,0),0.03999)","v":1.84E-2},{"$f":"MIN(OFFSET(Male!AK$18,'Male Rev'!$A47-35,0),0.03999)","v":1.7100000000000001E-2},{"$f":"MIN(OFFSET(Male!AL$18,'Male Rev'!$A47-35,0),0.03999)","v":1.6E-2},{"$f":"MIN(OFFSET(Male!AM$18,'Male Rev'!$A47-35,0),0.03999)","v":1.5299999999999999E-2},{"$f":"MIN(OFFSET(Male!AN$18,'Male Rev'!$A47-35,0),0.03999)","v":1.46E-2},{"$f":"MIN(OFFSET(Male!AO$18,'Male Rev'!$A47-35,0),0.03999)","v":1.41E-2},{"$f":"MIN(OFFSET(Male!AP$18,'Male Rev'!$A47-35,0),0.03999)","v":1.3599999999999999E-2},{"$f":"MIN(OFFSET(Male!AQ$18,'Male Rev'!$A47-35,0),0.03999)","v":1.3299999999999999E-2},{"$f":"MIN(OFFSET(Male!AR$18,'Male Rev'!$A47-35,0),0.03999)","v":1.32E-2},{"$f":"MIN(OFFSET(Male!AS$18,'Male Rev'!$A47-35,0),0.03999)","v":1.34E-2},{"$f":"MIN(OFFSET(Male!AT$18,'Male Rev'!$A47-35,0),0.03999)","v":1.37E-2},{"$f":"MIN(OFFSET(Male!AU$18,'Male Rev'!$A47-35,0),0.03999)","v":1.3899999999999999E-2},{"$f":"MIN(OFFSET(Male!AV$18,'Male Rev'!$A47-35,0),0.03999)","v":1.3299999999999999E-2},{"$f":"MIN(OFFSET(Male!AW$18,'Male Rev'!$A47-35,0),0.03999)","v":1.18E-2},{"$f":"MIN(OFFSET(Male!AX$18,'Male Rev'!$A47-35,0),0.03999)","v":9.9000000000000008E-3},{"$f":"MIN(OFFSET(Male!AY$18,'Male Rev'!$A47-35,0),0.03999)","v":8.0000000000000002E-3},{"$f":"MIN(OFFSET(Male!AZ$18,'Male Rev'!$A47-35,0),0.03999)","v":6.4000000000000003E-3},{"$f":"MIN(OFFSET(Male!BA$18,'Male Rev'!$A47-35,0),0.03999)","v":5.4999999999999997E-3},{"$f":"MIN(OFFSET(Male!BB$18,'Male Rev'!$A47-35,0),0.03999)","v":5.4000000000000003E-3},{"$f":"MIN(OFFSET(Male!BC$18,'Male Rev'!$A47-35,0),0.03999)","v":6.1000000000000004E-3},{"$f":"MIN(OFFSET(Male!BD$18,'Male Rev'!$A47-35,0),0.03999)","v":7.1999999999999998E-3},{"$f":"MIN(OFFSET(Male!BE$18,'Male Rev'!$A47-35,0),0.03999)","v":8.6E-3},{"$f":"MIN(OFFSET(Male!BF$18,'Male Rev'!$A47-35,0),0.03999)","v":9.9000000000000008E-3},{"$f":"MIN(OFFSET(Male!BG$18,'Male Rev'!$A47-35,0),0.03999)","v":1.06E-2},{"$f":"MIN(OFFSET(Male!BH$18,'Male Rev'!$A47-35,0),0.03999)","v":1.09E-2},{"$f":"MIN(OFFSET(Male!BI$18,'Male Rev'!$A47-35,0),0.03999)","v":1.06E-2},{"$f":"MIN(OFFSET(Male!BJ$18,'Male Rev'!$A47-35,0),0.03999)","v":9.7999999999999997E-3},{"$f":"MIN(OFFSET(Male!BK$18,'Male Rev'!$A47-35,0),0.03999)","v":8.6999999999999994E-3},{"$f":"MIN(OFFSET(Male!BL$18,'Male Rev'!$A47-35,0),0.03999)","v":7.4999999999999997E-3},{"$f":"MIN(OFFSET(Male!BM$18,'Male Rev'!$A47-35,0),0.03999)","v":6.3E-3},{"$f":"MIN(OFFSET(Male!BN$18,'Male Rev'!$A47-35,0),0.03999)","v":5.4000000000000003E-3},{"$f":"MIN(OFFSET(Male!BO$18,'Male Rev'!$A47-35,0),0.03999)","v":5.4999999999999997E-3},{"$f":"MIN(OFFSET(Male!BP$18,'Male Rev'!$A47-35,0),0.03999)","v":5.5999999999999999E-3},{"$f":"MIN(OFFSET(Male!BQ$18,'Male Rev'!$A47-35,0),0.03999)","v":5.4999999999999997E-3},{"$f":"MIN(OFFSET(Male!BR$18,'Male Rev'!$A47-35,0),0.03999)","v":5.3E-3},{"$f":"MIN(OFFSET(Male!BS$18,'Male Rev'!$A47-35,0),0.03999)","v":5.0000000000000001E-3},{"$f":"MIN(OFFSET(Male!BT$18,'Male Rev'!$A47-35,0),0.03999)","v":4.7000000000000002E-3},{"$f":"MIN(OFFSET(Male!BU$18,'Male Rev'!$A47-35,0),0.03999)","v":4.3E-3},{"$f":"MIN(OFFSET(Male!BV$18,'Male Rev'!$A47-35,0),0.03999)","v":3.8999999999999998E-3},{"$f":"MIN(OFFSET(Male!BW$18,'Male Rev'!$A47-35,0),0.03999)","v":3.7000000000000002E-3},{"$f":"MIN(OFFSET(Male!BX$18,'Male Rev'!$A47-35,0),0.03999)","v":3.7000000000000002E-3},{"$f":"MIN(OFFSET(Male!BY$18,'Male Rev'!$A47-35,0),0.03999)","v":3.8E-3},{"$f":"MIN(OFFSET(Male!BZ$18,'Male Rev'!$A47-35,0),0.03999)","v":4.1999999999999997E-3},{"$f":"MIN(OFFSET(Male!CA$18,'Male Rev'!$A47-35,0),0.03999)","v":4.8999999999999998E-3},{"$f":"MIN(OFFSET(Male!CB$18,'Male Rev'!$A47-35,0),0.03999)","v":5.7999999999999996E-3},{"$f":"MIN(OFFSET(Male!CC$18,'Male Rev'!$A47-35,0),0.03999)","v":6.7000000000000002E-3},{"$f":"MIN(OFFSET(Male!CD$18,'Male Rev'!$A47-35,0),0.03999)","v":7.7000000000000002E-3},{"$f":"MIN(OFFSET(Male!CE$18,'Male Rev'!$A47-35,0),0.03999)","v":8.6E-3},{"$f":"MIN(OFFSET(Male!CF$18,'Male Rev'!$A47-35,0),0.03999)","v":9.4000000000000004E-3},{"$f":"MIN(OFFSET(Male!CG$18,'Male Rev'!$A47-35,0),0.03999)","v":9.7999999999999997E-3},{"$f":"MIN(OFFSET(Male!CH$18,'Male Rev'!$A47-35,0),0.03999)","v":0.01}]
[50,50,{"$f":"MIN(OFFSET(Male!B$18,'Male Rev'!$A48-35,0),0.03999)","v":1.12E-2},{"$f":"MIN(OFFSET(Male!C$18,'Male Rev'!$A48-35,0),0.03999)","v":1.11E-2},{"$f":"MIN(OFFSET(Male!D$18,'Male Rev'!$A48-35,0),0.03999)","v":1.09E-2},{"$f":"MIN(OFFSET(Male!E$18,'Male Rev'!$A48-35,0),0.03999)","v":1.03E-2},{"$f":"MIN(OFFSET(Male!F$18,'Male Rev'!$A48-35,0),0.03999)","v":9.1999999999999998E-3},{"$f":"MIN(OFFSET(Male!G$18,'Male Rev'!$A48-35,0),0.03999)","v":7.7000000000000002E-3},{"$f":"MIN(OFFSET(Male!H$18,'Male Rev'!$A48-35,0),0.03999)","v":6.1000000000000004E-3},{"$f":"MIN(OFFSET(Male!I$18,'Male Rev'!$A48-35,0),0.03999)","v":4.5999999999999999E-3},{"$f":"MIN(OFFSET(Male!J$18,'Male Rev'!$A48-35,0),0.03999)","v":3.3E-3},{"$f":"MIN(OFFSET(Male!K$18,'Male Rev'!$A48-35,0),0.03999)","v":2E-3},{"$f":"MIN(OFFSET(Male!L$18,'Male Rev'!$A48-35,0),0.03999)","v":1.1000000000000001E-3},{"$f":"MIN(OFFSET(Male!M$18,'Male Rev'!$A48-35,0),0.03999)","v":2.9999999999999997E-4},{"$f":"MIN(OFFSET(Male!N$18,'Male Rev'!$A48-35,0),0.03999)","v":-1E-4},{"$f":"MIN(OFFSET(Male!O$18,'Male Rev'!$A48-35,0),0.03999)","v":1E-4},{"$f":"MIN(OFFSET(Male!P$18,'Male Rev'!$A48-35,0),0.03999)","v":6.9999999999999999E-4},{"$f":"MIN(OFFSET(Male!Q$18,'Male Rev'!$A48-35,0),0.03999)","v":1.9E-3},{"$f":"MIN(OFFSET(Male!R$18,'Male Rev'!$A48-35,0),0.03999)","v":3.7000000000000002E-3},{"$f":"MIN(OFFSET(Male!S$18,'Male Rev'!$A48-35,0),0.03999)","v":6.0000000000000001E-3},{"$f":"MIN(OFFSET(Male!T$18,'Male Rev'!$A48-35,0),0.03999)","v":8.8000000000000005E-3},{"$f":"MIN(OFFSET(Male!U$18,'Male Rev'!$A48-35,0),0.03999)","v":1.18E-2},{"$f":"MIN(OFFSET(Male!V$18,'Male Rev'!$A48-35,0),0.03999)","v":1.4800000000000001E-2},{"$f":"MIN(OFFSET(Male!W$18,'Male Rev'!$A48-35,0),0.03999)","v":1.78E-2},{"$f":"MIN(OFFSET(Male!X$18,'Male Rev'!$A48-35,0),0.03999)","v":2.06E-2},{"$f":"MIN(OFFSET(Male!Y$18,'Male Rev'!$A48-35,0),0.03999)","v":2.3E-2},{"$f":"MIN(OFFSET(Male!Z$18,'Male Rev'!$A48-35,0),0.03999)","v":2.4799999999999999E-2},{"$f":"MIN(OFFSET(Male!AA$18,'Male Rev'!$A48-35,0),0.03999)","v":2.5899999999999999E-2},{"$f":"MIN(OFFSET(Male!AB$18,'Male Rev'!$A48-35,0),0.03999)","v":2.64E-2},{"$f":"MIN(OFFSET(Male!AC$18,'Male Rev'!$A48-35,0),0.03999)","v":2.64E-2},{"$f":"MIN(OFFSET(Male!AD$18,'Male Rev'!$A48-35,0),0.03999)","v":2.5999999999999999E-2},{"$f":"MIN(OFFSET(Male!AE$18,'Male Rev'!$A48-35,0),0.03999)","v":2.52E-2},{"$f":"MIN(OFFSET(Male!AF$18,'Male Rev'!$A48-35,0),0.03999)","v":2.4199999999999999E-2},{"$f":"MIN(OFFSET(Male!AG$18,'Male Rev'!$A48-35,0),0.03999)","v":2.2800000000000001E-2},{"$f":"MIN(OFFSET(Male!AH$18,'Male Rev'!$A48-35,0),0.03999)","v":2.12E-2},{"$f":"MIN(OFFSET(Male!AI$18,'Male Rev'!$A48-35,0),0.03999)","v":1.9400000000000001E-2},{"$f":"MIN(OFFSET(Male!AJ$18,'Male Rev'!$A48-35,0),0.03999)","v":1.7600000000000001E-2},{"$f":"MIN(OFFSET(Male!AK$18,'Male Rev'!$A48-35,0),0.03999)","v":1.6E-2},{"$f":"MIN(OFFSET(Male!AL$18,'Male Rev'!$A48-35,0),0.03999)","v":1.46E-2},{"$f":"MIN(OFFSET(Male!AM$18,'Male Rev'!$A48-35,0),0.03999)","v":1.3599999999999999E-2},{"$f":"MIN(OFFSET(Male!AN$18,'Male Rev'!$A48-35,0),0.03999)","v":1.2800000000000001E-2},{"$f":"MIN(OFFSET(Male!AO$18,'Male Rev'!$A48-35,0),0.03999)","v":1.23E-2},{"$f":"MIN(OFFSET(Male!AP$18,'Male Rev'!$A48-35,0),0.03999)","v":1.1900000000000001E-2},{"$f":"MIN(OFFSET(Male!AQ$18,'Male Rev'!$A48-35,0),0.03999)","v":1.17E-2},{"$f":"MIN(OFFSET(Male!AR$18,'Male Rev'!$A48-35,0),0.03999)","v":1.18E-2},{"$f":"MIN(OFFSET(Male!AS$18,'Male Rev'!$A48-35,0),0.03999)","v":1.23E-2},{"$f":"MIN(OFFSET(Male!AT$18,'Male Rev'!$A48-35,0),0.03999)","v":1.29E-2},{"$f":"MIN(OFFSET(Male!AU$18,'Male Rev'!$A48-35,0),0.03999)","v":1.32E-2},{"$f":"MIN(OFFSET(Male!AV$18,'Male Rev'!$A48-35,0),0.03999)","v":1.2800000000000001E-2},{"$f":"MIN(OFFSET(Male!AW$18,'Male Rev'!$A48-35,0),0.03999)","v":1.14E-2},{"$f":"MIN(OFFSET(Male!AX$18,'Male Rev'!$A48-35,0),0.03999)","v":9.4999999999999998E-3},{"$f":"MIN(OFFSET(Male!AY$18,'Male Rev'!$A48-35,0),0.03999)","v":7.7000000000000002E-3},{"$f":"MIN(OFFSET(Male!AZ$18,'Male Rev'!$A48-35,0),0.03999)","v":6.3E-3},{"$f":"MIN(OFFSET(Male!BA$18,'Male Rev'!$A48-35,0),0.03999)","v":5.5999999999999999E-3},{"$f":"MIN(OFFSET(Male!BB$18,'Male Rev'!$A48-35,0),0.03999)","v":5.7999999999999996E-3},{"$f":"MIN(OFFSET(Male!BC$18,'Male Rev'!$A48-35,0),0.03999)","v":6.7999999999999996E-3},{"$f":"MIN(OFFSET(Male!BD$18,'Male Rev'!$A48-35,0),0.03999)","v":8.2000000000000007E-3},{"$f":"MIN(OFFSET(Male!BE$18,'Male Rev'!$A48-35,0),0.03999)","v":9.7999999999999997E-3},{"$f":"MIN(OFFSET(Male!BF$18,'Male Rev'!$A48-35,0),0.03999)","v":1.11E-2},{"$f":"MIN(OFFSET(Male!BG$18,'Male Rev'!$A48-35,0),0.03999)","v":1.2E-2},{"$f":"MIN(OFFSET(Male!BH$18,'Male Rev'!$A48-35,0),0.03999)","v":1.23E-2},{"$f":"MIN(OFFSET(Male!BI$18,'Male Rev'!$A48-35,0),0.03999)","v":1.1900000000000001E-2},{"$f":"MIN(OFFSET(Male!BJ$18,'Male Rev'!$A48-35,0),0.03999)","v":1.09E-2},{"$f":"MIN(OFFSET(Male!BK$18,'Male Rev'!$A48-35,0),0.03999)","v":9.5999999999999992E-3},{"$f":"MIN(OFFSET(Male!BL$18,'Male Rev'!$A48-35,0),0.03999)","v":8.0999999999999996E-3},{"$f":"MIN(OFFSET(Male!BM$18,'Male Rev'!$A48-35,0),0.03999)","v":6.7000000000000002E-3},{"$f":"MIN(OFFSET(Male!BN$18,'Male Rev'!$A48-35,0),0.03999)","v":5.4999999999999997E-3},{"$f":"MIN(OFFSET(Male!BO$18,'Male Rev'!$A48-35,0),0.03999)","v":5.4000000000000003E-3},{"$f":"MIN(OFFSET(Male!BP$18,'Male Rev'!$A48-35,0),0.03999)","v":5.1999999999999998E-3},{"$f":"MIN(OFFSET(Male!BQ$18,'Male Rev'!$A48-35,0),0.03999)","v":4.8999999999999998E-3},{"$f":"MIN(OFFSET(Male!BR$18,'Male Rev'!$A48-35,0),0.03999)","v":4.4999999999999997E-3},{"$f":"MIN(OFFSET(Male!BS$18,'Male Rev'!$A48-35,0),0.03999)","v":4.0000000000000001E-3},{"$f":"MIN(OFFSET(Male!BT$18,'Male Rev'!$A48-35,0),0.03999)","v":3.5000000000000001E-3},{"$f":"MIN(OFFSET(Male!BU$18,'Male Rev'!$A48-35,0),0.03999)","v":3.0999999999999999E-3},{"$f":"MIN(OFFSET(Male!BV$18,'Male Rev'!$A48-35,0),0.03999)","v":2.8E-3},{"$f":"MIN(OFFSET(Male!BW$18,'Male Rev'!$A48-35,0),0.03999)","v":2.7000000000000001E-3},{"$f":"MIN(OFFSET(Male!BX$18,'Male Rev'!$A48-35,0),0.03999)","v":2.7000000000000001E-3},{"$f":"MIN(OFFSET(Male!BY$18,'Male Rev'!$A48-35,0),0.03999)","v":3.0000000000000001E-3},{"$f":"MIN(OFFSET(Male!BZ$18,'Male Rev'!$A48-35,0),0.03999)","v":3.5999999999999999E-3},{"$f":"MIN(OFFSET(Male!CA$18,'Male Rev'!$A48-35,0),0.03999)","v":4.4999999999999997E-3},{"$f":"MIN(OFFSET(Male!CB$18,'Male Rev'!$A48-35,0),0.03999)","v":5.4999999999999997E-3},{"$f":"MIN(OFFSET(Male!CC$18,'Male Rev'!$A48-35,0),0.03999)","v":6.6E-3},{"$f":"MIN(OFFSET(Male!CD$18,'Male Rev'!$A48-35,0),0.03999)","v":7.7000000000000002E-3},{"$f":"MIN(OFFSET(Male!CE$18,'Male Rev'!$A48-35,0),0.03999)","v":8.6E-3},{"$f":"MIN(OFFSET(Male!CF$18,'Male Rev'!$A48-35,0),0.03999)","v":9.4000000000000004E-3},{"$f":"MIN(OFFSET(Male!CG$18,'Male Rev'!$A48-35,0),0.03999)","v":9.7999999999999997E-3},{"$f":"MIN(OFFSET(Male!CH$18,'Male Rev'!$A48-35,0),0.03999)","v":0.01}]
[49,49,{"$f":"MIN(OFFSET(Male!B$18,'Male Rev'!$A49-35,0),0.03999)","v":1.2E-2},{"$f":"MIN(OFFSET(Male!C$18,'Male Rev'!$A49-35,0),0.03999)","v":1.1900000000000001E-2},{"$f":"MIN(OFFSET(Male!D$18,'Male Rev'!$A49-35,0),0.03999)","v":1.1599999999999999E-2},{"$f":"MIN(OFFSET(Male!E$18,'Male Rev'!$A49-35,0),0.03999)","v":1.0999999999999999E-2},{"$f":"MIN(OFFSET(Male!F$18,'Male Rev'!$A49-35,0),0.03999)","v":9.7999999999999997E-3},{"$f":"MIN(OFFSET(Male!G$18,'Male Rev'!$A49-35,0),0.03999)","v":8.3000000000000001E-3},{"$f":"MIN(OFFSET(Male!H$18,'Male Rev'!$A49-35,0),0.03999)","v":6.6E-3},{"$f":"MIN(OFFSET(Male!I$18,'Male Rev'!$A49-35,0),0.03999)","v":4.8999999999999998E-3},{"$f":"MIN(OFFSET(Male!J$18,'Male Rev'!$A49-35,0),0.03999)","v":3.3999999999999998E-3},{"$f":"MIN(OFFSET(Male!K$18,'Male Rev'!$A49-35,0),0.03999)","v":2.0999999999999999E-3},{"$f":"MIN(OFFSET(Male!L$18,'Male Rev'!$A49-35,0),0.03999)","v":1E-3},{"$f":"MIN(OFFSET(Male!M$18,'Male Rev'!$A49-35,0),0.03999)","v":1E-4},{"$f":"MIN(OFFSET(Male!N$18,'Male Rev'!$A49-35,0),0.03999)","v":-4.0000000000000002E-4},{"$f":"MIN(OFFSET(Male!O$18,'Male Rev'!$A49-35,0),0.03999)","v":-2.9999999999999997E-4},{"$f":"MIN(OFFSET(Male!P$18,'Male Rev'!$A49-35,0),0.03999)","v":2.9999999999999997E-4},{"$f":"MIN(OFFSET(Male!Q$18,'Male Rev'!$A49-35,0),0.03999)","v":1.4E-3},{"$f":"MIN(OFFSET(Male!R$18,'Male Rev'!$A49-35,0),0.03999)","v":3.2000000000000002E-3},{"$f":"MIN(OFFSET(Male!S$18,'Male Rev'!$A49-35,0),0.03999)","v":5.4999999999999997E-3},{"$f":"MIN(OFFSET(Male!T$18,'Male Rev'!$A49-35,0),0.03999)","v":8.3999999999999995E-3},{"$f":"MIN(OFFSET(Male!U$18,'Male Rev'!$A49-35,0),0.03999)","v":1.15E-2},{"$f":"MIN(OFFSET(Male!V$18,'Male Rev'!$A49-35,0),0.03999)","v":1.47E-2},{"$f":"MIN(OFFSET(Male!W$18,'Male Rev'!$A49-35,0),0.03999)","v":1.77E-2},{"$f":"MIN(OFFSET(Male!X$18,'Male Rev'!$A49-35,0),0.03999)","v":2.07E-2},{"$f":"MIN(OFFSET(Male!Y$18,'Male Rev'!$A49-35,0),0.03999)","v":2.3300000000000001E-2},{"$f":"MIN(OFFSET(Male!Z$18,'Male Rev'!$A49-35,0),0.03999)","v":2.53E-2},{"$f":"MIN(OFFSET(Male!AA$18,'Male Rev'!$A49-35,0),0.03999)","v":2.64E-2},{"$f":"MIN(OFFSET(Male!AB$18,'Male Rev'!$A49-35,0),0.03999)","v":2.69E-2},{"$f":"MIN(OFFSET(Male!AC$18,'Male Rev'!$A49-35,0),0.03999)","v":2.6800000000000001E-2},{"$f":"MIN(OFFSET(Male!AD$18,'Male Rev'!$A49-35,0),0.03999)","v":2.63E-2},{"$f":"MIN(OFFSET(Male!AE$18,'Male Rev'!$A49-35,0),0.03999)","v":2.5399999999999999E-2},{"$f":"MIN(OFFSET(Male!AF$18,'Male Rev'!$A49-35,0),0.03999)","v":2.4199999999999999E-2},{"$f":"MIN(OFFSET(Male!AG$18,'Male Rev'!$A49-35,0),0.03999)","v":2.2599999999999999E-2},{"$f":"MIN(OFFSET(Male!AH$18,'Male Rev'!$A49-35,0),0.03999)","v":2.0799999999999999E-2},{"$f":"MIN(OFFSET(Male!AI$18,'Male Rev'!$A49-35,0),0.03999)","v":1.8599999999999998E-2},{"$f":"MIN(OFFSET(Male!AJ$18,'Male Rev'!$A49-35,0),0.03999)","v":1.6500000000000001E-2},{"$f":"MIN(OFFSET(Male!AK$18,'Male Rev'!$A49-35,0),0.03999)","v":1.46E-2},{"$f":"MIN(OFFSET(Male!AL$18,'Male Rev'!$A49-35,0),0.03999)","v":1.29E-2},{"$f":"MIN(OFFSET(Male!AM$18,'Male Rev'!$A49-35,0),0.03999)","v":1.17E-2},{"$f":"MIN(OFFSET(Male!AN$18,'Male Rev'!$A49-35,0),0.03999)","v":1.0800000000000001E-2},{"$f":"MIN(OFFSET(Male!AO$18,'Male Rev'!$A49-35,0),0.03999)","v":1.0200000000000001E-2},{"$f":"MIN(OFFSET(Male!AP$18,'Male Rev'!$A49-35,0),0.03999)","v":9.9000000000000008E-3},{"$f":"MIN(OFFSET(Male!AQ$18,'Male Rev'!$A49-35,0),0.03999)","v":0.01},{"$f":"MIN(OFFSET(Male!AR$18,'Male Rev'!$A49-35,0),0.03999)","v":1.0500000000000001E-2},{"$f":"MIN(OFFSET(Male!AS$18,'Male Rev'!$A49-35,0),0.03999)","v":1.12E-2},{"$f":"MIN(OFFSET(Male!AT$18,'Male Rev'!$A49-35,0),0.03999)","v":1.2200000000000001E-2},{"$f":"MIN(OFFSET(Male!AU$18,'Male Rev'!$A49-35,0),0.03999)","v":1.2800000000000001E-2},{"$f":"MIN(OFFSET(Male!AV$18,'Male Rev'!$A49-35,0),0.03999)","v":1.26E-2},{"$f":"MIN(OFFSET(Male!AW$18,'Male Rev'!$A49-35,0),0.03999)","v":1.1299999999999999E-2},{"$f":"MIN(OFFSET(Male!AX$18,'Male Rev'!$A49-35,0),0.03999)","v":9.5999999999999992E-3},{"$f":"MIN(OFFSET(Male!AY$18,'Male Rev'!$A49-35,0),0.03999)","v":7.7999999999999996E-3},{"$f":"MIN(OFFSET(Male!AZ$18,'Male Rev'!$A49-35,0),0.03999)","v":6.6E-3},{"$f":"MIN(OFFSET(Male!BA$18,'Male Rev'!$A49-35,0),0.03999)","v":6.1999999999999998E-3},{"$f":"MIN(OFFSET(Male!BB$18,'Male Rev'!$A49-35,0),0.03999)","v":6.6E-3},{"$f":"MIN(OFFSET(Male!BC$18,'Male Rev'!$A49-35,0),0.03999)","v":7.7999999999999996E-3},{"$f":"MIN(OFFSET(Male!BD$18,'Male Rev'!$A49-35,0),0.03999)","v":9.4000000000000004E-3},{"$f":"MIN(OFFSET(Male!BE$18,'Male Rev'!$A49-35,0),0.03999)","v":1.11E-2},{"$f":"MIN(OFFSET(Male!BF$18,'Male Rev'!$A49-35,0),0.03999)","v":1.2500000000000001E-2},{"$f":"MIN(OFFSET(Male!BG$18,'Male Rev'!$A49-35,0),0.03999)","v":1.3299999999999999E-2},{"$f":"MIN(OFFSET(Male!BH$18,'Male Rev'!$A49-35,0),0.03999)","v":1.35E-2},{"$f":"MIN(OFFSET(Male!BI$18,'Male Rev'!$A49-35,0),0.03999)","v":1.2999999999999999E-2},{"$f":"MIN(OFFSET(Male!BJ$18,'Male Rev'!$A49-35,0),0.03999)","v":1.1900000000000001E-2},{"$f":"MIN(OFFSET(Male!BK$18,'Male Rev'!$A49-35,0),0.03999)","v":1.03E-2},{"$f":"MIN(OFFSET(Male!BL$18,'Male Rev'!$A49-35,0),0.03999)","v":8.3999999999999995E-3},{"$f":"MIN(OFFSET(Male!BM$18,'Male Rev'!$A49-35,0),0.03999)","v":6.6E-3},{"$f":"MIN(OFFSET(Male!BN$18,'Male Rev'!$A49-35,0),0.03999)","v":5.1000000000000004E-3},{"$f":"MIN(OFFSET(Male!BO$18,'Male Rev'!$A49-35,0),0.03999)","v":4.7999999999999996E-3},{"$f":"MIN(OFFSET(Male!BP$18,'Male Rev'!$A49-35,0),0.03999)","v":4.4000000000000003E-3},{"$f":"MIN(OFFSET(Male!BQ$18,'Male Rev'!$A49-35,0),0.03999)","v":3.8E-3},{"$f":"MIN(OFFSET(Male!BR$18,'Male Rev'!$A49-35,0),0.03999)","v":3.2000000000000002E-3},{"$f":"MIN(OFFSET(Male!BS$18,'Male Rev'!$A49-35,0),0.03999)","v":2.5999999999999999E-3},{"$f":"MIN(OFFSET(Male!BT$18,'Male Rev'!$A49-35,0),0.03999)","v":2.0999999999999999E-3},{"$f":"MIN(OFFSET(Male!BU$18,'Male Rev'!$A49-35,0),0.03999)","v":1.6999999999999999E-3},{"$f":"MIN(OFFSET(Male!BV$18,'Male Rev'!$A49-35,0),0.03999)","v":1.5E-3},{"$f":"MIN(OFFSET(Male!BW$18,'Male Rev'!$A49-35,0),0.03999)","v":1.6000000000000001E-3},{"$f":"MIN(OFFSET(Male!BX$18,'Male Rev'!$A49-35,0),0.03999)","v":1.8E-3},{"$f":"MIN(OFFSET(Male!BY$18,'Male Rev'!$A49-35,0),0.03999)","v":2.3E-3},{"$f":"MIN(OFFSET(Male!BZ$18,'Male Rev'!$A49-35,0),0.03999)","v":3.0999999999999999E-3},{"$f":"MIN(OFFSET(Male!CA$18,'Male Rev'!$A49-35,0),0.03999)","v":4.1000000000000003E-3},{"$f":"MIN(OFFSET(Male!CB$18,'Male Rev'!$A49-35,0),0.03999)","v":5.3E-3},{"$f":"MIN(OFFSET(Male!CC$18,'Male Rev'!$A49-35,0),0.03999)","v":6.4999999999999997E-3},{"$f":"MIN(OFFSET(Male!CD$18,'Male Rev'!$A49-35,0),0.03999)","v":7.6E-3},{"$f":"MIN(OFFSET(Male!CE$18,'Male Rev'!$A49-35,0),0.03999)","v":8.6E-3},{"$f":"MIN(OFFSET(Male!CF$18,'Male Rev'!$A49-35,0),0.03999)","v":9.4000000000000004E-3},{"$f":"MIN(OFFSET(Male!CG$18,'Male Rev'!$A49-35,0),0.03999)","v":9.7999999999999997E-3},{"$f":"MIN(OFFSET(Male!CH$18,'Male Rev'!$A49-35,0),0.03999)","v":0.01}]
[48,48,{"$f":"MIN(OFFSET(Male!B$18,'Male Rev'!$A50-35,0),0.03999)","v":1.2800000000000001E-2},{"$f":"MIN(OFFSET(Male!C$18,'Male Rev'!$A50-35,0),0.03999)","v":1.2699999999999999E-2},{"$f":"MIN(OFFSET(Male!D$18,'Male Rev'!$A50-35,0),0.03999)","v":1.24E-2},{"$f":"MIN(OFFSET(Male!E$18,'Male Rev'!$A50-35,0),0.03999)","v":1.17E-2},{"$f":"MIN(OFFSET(Male!F$18,'Male Rev'!$A50-35,0),0.03999)","v":1.04E-2},{"$f":"MIN(OFFSET(Male!G$18,'Male Rev'!$A50-35,0),0.03999)","v":8.8000000000000005E-3},{"$f":"MIN(OFFSET(Male!H$18,'Male Rev'!$A50-35,0),0.03999)","v":7.0000000000000001E-3},{"$f":"MIN(OFFSET(Male!I$18,'Male Rev'!$A50-35,0),0.03999)","v":5.3E-3},{"$f":"MIN(OFFSET(Male!J$18,'Male Rev'!$A50-35,0),0.03999)","v":3.5999999999999999E-3},{"$f":"MIN(OFFSET(Male!K$18,'Male Rev'!$A50-35,0),0.03999)","v":2.0999999999999999E-3},{"$f":"MIN(OFFSET(Male!L$18,'Male Rev'!$A50-35,0),0.03999)","v":8.9999999999999998E-4},{"$f":"MIN(OFFSET(Male!M$18,'Male Rev'!$A50-35,0),0.03999)","v":-2.0000000000000001E-4},{"$f":"MIN(OFFSET(Male!N$18,'Male Rev'!$A50-35,0),0.03999)","v":-8.0000000000000004E-4},{"$f":"MIN(OFFSET(Male!O$18,'Male Rev'!$A50-35,0),0.03999)","v":-8.0000000000000004E-4},{"$f":"MIN(OFFSET(Male!P$18,'Male Rev'!$A50-35,0),0.03999)","v":-2.9999999999999997E-4},{"$f":"MIN(OFFSET(Male!Q$18,'Male Rev'!$A50-35,0),0.03999)","v":8.0000000000000004E-4},{"$f":"MIN(OFFSET(Male!R$18,'Male Rev'!$A50-35,0),0.03999)","v":2.5999999999999999E-3},{"$f":"MIN(OFFSET(Male!S$18,'Male Rev'!$A50-35,0),0.03999)","v":5.0000000000000001E-3},{"$f":"MIN(OFFSET(Male!T$18,'Male Rev'!$A50-35,0),0.03999)","v":8.0000000000000002E-3},{"$f":"MIN(OFFSET(Male!U$18,'Male Rev'!$A50-35,0),0.03999)","v":1.12E-2},{"$f":"MIN(OFFSET(Male!V$18,'Male Rev'!$A50-35,0),0.03999)","v":1.4500000000000001E-2},{"$f":"MIN(OFFSET(Male!W$18,'Male Rev'!$A50-35,0),0.03999)","v":1.77E-2},{"$f":"MIN(OFFSET(Male!X$18,'Male Rev'!$A50-35,0),0.03999)","v":2.0899999999999998E-2},{"$f":"MIN(OFFSET(Male!Y$18,'Male Rev'!$A50-35,0),0.03999)","v":2.3599999999999999E-2},{"$f":"MIN(OFFSET(Male!Z$18,'Male Rev'!$A50-35,0),0.03999)","v":2.5700000000000001E-2},{"$f":"MIN(OFFSET(Male!AA$18,'Male Rev'!$A50-35,0),0.03999)","v":2.7E-2},{"$f":"MIN(OFFSET(Male!AB$18,'Male Rev'!$A50-35,0),0.03999)","v":2.7400000000000001E-2},{"$f":"MIN(OFFSET(Male!AC$18,'Male Rev'!$A50-35,0),0.03999)","v":2.7300000000000001E-2},{"$f":"MIN(OFFSET(Male!AD$18,'Male Rev'!$A50-35,0),0.03999)","v":2.6599999999999999E-2},{"$f":"MIN(OFFSET(Male!AE$18,'Male Rev'!$A50-35,0),0.03999)","v":2.5399999999999999E-2},{"$f":"MIN(OFFSET(Male!AF$18,'Male Rev'!$A50-35,0),0.03999)","v":2.4E-2},{"$f":"MIN(OFFSET(Male!AG$18,'Male Rev'!$A50-35,0),0.03999)","v":2.2200000000000001E-2},{"$f":"MIN(OFFSET(Male!AH$18,'Male Rev'!$A50-35,0),0.03999)","v":2.01E-2},{"$f":"MIN(OFFSET(Male!AI$18,'Male Rev'!$A50-35,0),0.03999)","v":1.7600000000000001E-2},{"$f":"MIN(OFFSET(Male!AJ$18,'Male Rev'!$A50-35,0),0.03999)","v":1.5100000000000001E-2},{"$f":"MIN(OFFSET(Male!AK$18,'Male Rev'!$A50-35,0),0.03999)","v":1.29E-2},{"$f":"MIN(OFFSET(Male!AL$18,'Male Rev'!$A50-35,0),0.03999)","v":1.09E-2},{"$f":"MIN(OFFSET(Male!AM$18,'Male Rev'!$A50-35,0),0.03999)","v":9.4000000000000004E-3},{"$f":"MIN(OFFSET(Male!AN$18,'Male Rev'!$A50-35,0),0.03999)","v":8.3999999999999995E-3},{"$f":"MIN(OFFSET(Male!AO$18,'Male Rev'!$A50-35,0),0.03999)","v":7.9000000000000008E-3},{"$f":"MIN(OFFSET(Male!AP$18,'Male Rev'!$A50-35,0),0.03999)","v":7.7999999999999996E-3},{"$f":"MIN(OFFSET(Male!AQ$18,'Male Rev'!$A50-35,0),0.03999)","v":8.3000000000000001E-3},{"$f":"MIN(OFFSET(Male!AR$18,'Male Rev'!$A50-35,0),0.03999)","v":9.1000000000000004E-3},{"$f":"MIN(OFFSET(Male!AS$18,'Male Rev'!$A50-35,0),0.03999)","v":1.03E-2},{"$f":"MIN(OFFSET(Male!AT$18,'Male Rev'!$A50-35,0),0.03999)","v":1.17E-2},{"$f":"MIN(OFFSET(Male!AU$18,'Male Rev'!$A50-35,0),0.03999)","v":1.2699999999999999E-2},{"$f":"MIN(OFFSET(Male!AV$18,'Male Rev'!$A50-35,0),0.03999)","v":1.2699999999999999E-2},{"$f":"MIN(OFFSET(Male!AW$18,'Male Rev'!$A50-35,0),0.03999)","v":1.17E-2},{"$f":"MIN(OFFSET(Male!AX$18,'Male Rev'!$A50-35,0),0.03999)","v":0.01},{"$f":"MIN(OFFSET(Male!AY$18,'Male Rev'!$A50-35,0),0.03999)","v":8.3999999999999995E-3},{"$f":"MIN(OFFSET(Male!AZ$18,'Male Rev'!$A50-35,0),0.03999)","v":7.4000000000000003E-3},{"$f":"MIN(OFFSET(Male!BA$18,'Male Rev'!$A50-35,0),0.03999)","v":7.1999999999999998E-3},{"$f":"MIN(OFFSET(Male!BB$18,'Male Rev'!$A50-35,0),0.03999)","v":7.7999999999999996E-3},{"$f":"MIN(OFFSET(Male!BC$18,'Male Rev'!$A50-35,0),0.03999)","v":9.1000000000000004E-3},{"$f":"MIN(OFFSET(Male!BD$18,'Male Rev'!$A50-35,0),0.03999)","v":1.0800000000000001E-2},{"$f":"MIN(OFFSET(Male!BE$18,'Male Rev'!$A50-35,0),0.03999)","v":1.2500000000000001E-2},{"$f":"MIN(OFFSET(Male!BF$18,'Male Rev'!$A50-35,0),0.03999)","v":1.3899999999999999E-2},{"$f":"MIN(OFFSET(Male!BG$18,'Male Rev'!$A50-35,0),0.03999)","v":1.46E-2},{"$f":"MIN(OFFSET(Male!BH$18,'Male Rev'!$A50-35,0),0.03999)","v":1.47E-2},{"$f":"MIN(OFFSET(Male!BI$18,'Male Rev'!$A50-35,0),0.03999)","v":1.4E-2},{"$f":"MIN(OFFSET(Male!BJ$18,'Male Rev'!$A50-35,0),0.03999)","v":1.2500000000000001E-2},{"$f":"MIN(OFFSET(Male!BK$18,'Male Rev'!$A50-35,0),0.03999)","v":1.06E-2},{"$f":"MIN(OFFSET(Male!BL$18,'Male Rev'!$A50-35,0),0.03999)","v":8.3000000000000001E-3},{"$f":"MIN(OFFSET(Male!BM$18,'Male Rev'!$A50-35,0),0.03999)","v":6.1000000000000004E-3},{"$f":"MIN(OFFSET(Male!BN$18,'Male Rev'!$A50-35,0),0.03999)","v":4.3E-3},{"$f":"MIN(OFFSET(Male!BO$18,'Male Rev'!$A50-35,0),0.03999)","v":3.7000000000000002E-3},{"$f":"MIN(OFFSET(Male!BP$18,'Male Rev'!$A50-35,0),0.03999)","v":3.0000000000000001E-3},{"$f":"MIN(OFFSET(Male!BQ$18,'Male Rev'!$A50-35,0),0.03999)","v":2.3E-3},{"$f":"MIN(OFFSET(Male!BR$18,'Male Rev'!$A50-35,0),0.03999)","v":1.6000000000000001E-3},{"$f":"MIN(OFFSET(Male!BS$18,'Male Rev'!$A50-35,0),0.03999)","v":1E-3},{"$f":"MIN(OFFSET(Male!BT$18,'Male Rev'!$A50-35,0),0.03999)","v":5.0000000000000001E-4},{"$f":"MIN(OFFSET(Male!BU$18,'Male Rev'!$A50-35,0),0.03999)","v":2.9999999999999997E-4},{"$f":"MIN(OFFSET(Male!BV$18,'Male Rev'!$A50-35,0),0.03999)","v":2.9999999999999997E-4},{"$f":"MIN(OFFSET(Male!BW$18,'Male Rev'!$A50-35,0),0.03999)","v":5.0000000000000001E-4},{"$f":"MIN(OFFSET(Male!BX$18,'Male Rev'!$A50-35,0),0.03999)","v":1E-3},{"$f":"MIN(OFFSET(Male!BY$18,'Male Rev'!$A50-35,0),0.03999)","v":1.6999999999999999E-3},{"$f":"MIN(OFFSET(Male!BZ$18,'Male Rev'!$A50-35,0),0.03999)","v":2.7000000000000001E-3},{"$f":"MIN(OFFSET(Male!CA$18,'Male Rev'!$A50-35,0),0.03999)","v":3.8999999999999998E-3},{"$f":"MIN(OFFSET(Male!CB$18,'Male Rev'!$A50-35,0),0.03999)","v":5.1000000000000004E-3},{"$f":"MIN(OFFSET(Male!CC$18,'Male Rev'!$A50-35,0),0.03999)","v":6.4000000000000003E-3},{"$f":"MIN(OFFSET(Male!CD$18,'Male Rev'!$A50-35,0),0.03999)","v":7.6E-3},{"$f":"MIN(OFFSET(Male!CE$18,'Male Rev'!$A50-35,0),0.03999)","v":8.6E-3},{"$f":"MIN(OFFSET(Male!CF$18,'Male Rev'!$A50-35,0),0.03999)","v":9.4000000000000004E-3},{"$f":"MIN(OFFSET(Male!CG$18,'Male Rev'!$A50-35,0),0.03999)","v":9.7999999999999997E-3},{"$f":"MIN(OFFSET(Male!CH$18,'Male Rev'!$A50-35,0),0.03999)","v":0.01}]
[47,47,{"$f":"MIN(OFFSET(Male!B$18,'Male Rev'!$A51-35,0),0.03999)","v":1.37E-2},{"$f":"MIN(OFFSET(Male!C$18,'Male Rev'!$A51-35,0),0.03999)","v":1.35E-2},{"$f":"MIN(OFFSET(Male!D$18,'Male Rev'!$A51-35,0),0.03999)","v":1.3100000000000001E-2},{"$f":"MIN(OFFSET(Male!E$18,'Male Rev'!$A51-35,0),0.03999)","v":1.24E-2},{"$f":"MIN(OFFSET(Male!F$18,'Male Rev'!$A51-35,0),0.03999)","v":1.0999999999999999E-2},{"$f":"MIN(OFFSET(Male!G$18,'Male Rev'!$A51-35,0),0.03999)","v":9.2999999999999992E-3},{"$f":"MIN(OFFSET(Male!H$18,'Male Rev'!$A51-35,0),0.03999)","v":7.4000000000000003E-3},{"$f":"MIN(OFFSET(Male!I$18,'Male Rev'!$A51-35,0),0.03999)","v":5.4999999999999997E-3},{"$f":"MIN(OFFSET(Male!J$18,'Male Rev'!$A51-35,0),0.03999)","v":3.7000000000000002E-3},{"$f":"MIN(OFFSET(Male!K$18,'Male Rev'!$A51-35,0),0.03999)","v":2E-3},{"$f":"MIN(OFFSET(Male!L$18,'Male Rev'!$A51-35,0),0.03999)","v":6.9999999999999999E-4},{"$f":"MIN(OFFSET(Male!M$18,'Male Rev'!$A51-35,0),0.03999)","v":-5.0000000000000001E-4},{"$f":"MIN(OFFSET(Male!N$18,'Male Rev'!$A51-35,0),0.03999)","v":-1.1999999999999999E-3},{"$f":"MIN(OFFSET(Male!O$18,'Male Rev'!$A51-35,0),0.03999)","v":-1.2999999999999999E-3},{"$f":"MIN(OFFSET(Male!P$18,'Male Rev'!$A51-35,0),0.03999)","v":-8.9999999999999998E-4},{"$f":"MIN(OFFSET(Male!Q$18,'Male Rev'!$A51-35,0),0.03999)","v":2.0000000000000001E-4},{"$f":"MIN(OFFSET(Male!R$18,'Male Rev'!$A51-35,0),0.03999)","v":2E-3},{"$f":"MIN(OFFSET(Male!S$18,'Male Rev'!$A51-35,0),0.03999)","v":4.4000000000000003E-3},{"$f":"MIN(OFFSET(Male!T$18,'Male Rev'!$A51-35,0),0.03999)","v":7.4999999999999997E-3},{"$f":"MIN(OFFSET(Male!U$18,'Male Rev'!$A51-35,0),0.03999)","v":1.09E-2},{"$f":"MIN(OFFSET(Male!V$18,'Male Rev'!$A51-35,0),0.03999)","v":1.44E-2},{"$f":"MIN(OFFSET(Male!W$18,'Male Rev'!$A51-35,0),0.03999)","v":1.77E-2},{"$f":"MIN(OFFSET(Male!X$18,'Male Rev'!$A51-35,0),0.03999)","v":2.1100000000000001E-2},{"$f":"MIN(OFFSET(Male!Y$18,'Male Rev'!$A51-35,0),0.03999)","v":2.4E-2},{"$f":"MIN(OFFSET(Male!Z$18,'Male Rev'!$A51-35,0),0.03999)","v":2.6200000000000001E-2},{"$f":"MIN(OFFSET(Male!AA$18,'Male Rev'!$A51-35,0),0.03999)","v":2.7400000000000001E-2},{"$f":"MIN(OFFSET(Male!AB$18,'Male Rev'!$A51-35,0),0.03999)","v":2.7900000000000001E-2},{"$f":"MIN(OFFSET(Male!AC$18,'Male Rev'!$A51-35,0),0.03999)","v":2.76E-2},{"$f":"MIN(OFFSET(Male!AD$18,'Male Rev'!$A51-35,0),0.03999)","v":2.6700000000000002E-2},{"$f":"MIN(OFFSET(Male!AE$18,'Male Rev'!$A51-35,0),0.03999)","v":2.5399999999999999E-2},{"$f":"MIN(OFFSET(Male!AF$18,'Male Rev'!$A51-35,0),0.03999)","v":2.3699999999999999E-2},{"$f":"MIN(OFFSET(Male!AG$18,'Male Rev'!$A51-35,0),0.03999)","v":2.1600000000000001E-2},{"$f":"MIN(OFFSET(Male!AH$18,'Male Rev'!$A51-35,0),0.03999)","v":1.9099999999999999E-2},{"$f":"MIN(OFFSET(Male!AI$18,'Male Rev'!$A51-35,0),0.03999)","v":1.6299999999999999E-2},{"$f":"MIN(OFFSET(Male!AJ$18,'Male Rev'!$A51-35,0),0.03999)","v":1.34E-2},{"$f":"MIN(OFFSET(Male!AK$18,'Male Rev'!$A51-35,0),0.03999)","v":1.09E-2},{"$f":"MIN(OFFSET(Male!AL$18,'Male Rev'!$A51-35,0),0.03999)","v":8.6999999999999994E-3},{"$f":"MIN(OFFSET(Male!AM$18,'Male Rev'!$A51-35,0),0.03999)","v":7.0000000000000001E-3},{"$f":"MIN(OFFSET(Male!AN$18,'Male Rev'!$A51-35,0),0.03999)","v":5.8999999999999999E-3},{"$f":"MIN(OFFSET(Male!AO$18,'Male Rev'!$A51-35,0),0.03999)","v":5.4999999999999997E-3},{"$f":"MIN(OFFSET(Male!AP$18,'Male Rev'!$A51-35,0),0.03999)","v":5.5999999999999999E-3},{"$f":"MIN(OFFSET(Male!AQ$18,'Male Rev'!$A51-35,0),0.03999)","v":6.4000000000000003E-3},{"$f":"MIN(OFFSET(Male!AR$18,'Male Rev'!$A51-35,0),0.03999)","v":7.7999999999999996E-3},{"$f":"MIN(OFFSET(Male!AS$18,'Male Rev'!$A51-35,0),0.03999)","v":9.5999999999999992E-3},{"$f":"MIN(OFFSET(Male!AT$18,'Male Rev'!$A51-35,0),0.03999)","v":1.15E-2},{"$f":"MIN(OFFSET(Male!AU$18,'Male Rev'!$A51-35,0),0.03999)","v":1.2999999999999999E-2},{"$f":"MIN(OFFSET(Male!AV$18,'Male Rev'!$A51-35,0),0.03999)","v":1.34E-2},{"$f":"MIN(OFFSET(Male!AW$18,'Male Rev'!$A51-35,0),0.03999)","v":1.2500000000000001E-2},{"$f":"MIN(OFFSET(Male!AX$18,'Male Rev'!$A51-35,0),0.03999)","v":1.0999999999999999E-2},{"$f":"MIN(OFFSET(Male!AY$18,'Male Rev'!$A51-35,0),0.03999)","v":9.4999999999999998E-3},{"$f":"MIN(OFFSET(Male!AZ$18,'Male Rev'!$A51-35,0),0.03999)","v":8.5000000000000006E-3},{"$f":"MIN(OFFSET(Male!BA$18,'Male Rev'!$A51-35,0),0.03999)","v":8.5000000000000006E-3},{"$f":"MIN(OFFSET(Male!BB$18,'Male Rev'!$A51-35,0),0.03999)","v":9.1999999999999998E-3},{"$f":"MIN(OFFSET(Male!BC$18,'Male Rev'!$A51-35,0),0.03999)","v":1.06E-2},{"$f":"MIN(OFFSET(Male!BD$18,'Male Rev'!$A51-35,0),0.03999)","v":1.2200000000000001E-2},{"$f":"MIN(OFFSET(Male!BE$18,'Male Rev'!$A51-35,0),0.03999)","v":1.3899999999999999E-2},{"$f":"MIN(OFFSET(Male!BF$18,'Male Rev'!$A51-35,0),0.03999)","v":1.52E-2},{"$f":"MIN(OFFSET(Male!BG$18,'Male Rev'!$A51-35,0),0.03999)","v":1.5800000000000002E-2},{"$f":"MIN(OFFSET(Male!BH$18,'Male Rev'!$A51-35,0),0.03999)","v":1.5699999999999999E-2},{"$f":"MIN(OFFSET(Male!BI$18,'Male Rev'!$A51-35,0),0.03999)","v":1.46E-2},{"$f":"MIN(OFFSET(Male!BJ$18,'Male Rev'!$A51-35,0),0.03999)","v":1.29E-2},{"$f":"MIN(OFFSET(Male!BK$18,'Male Rev'!$A51-35,0),0.03999)","v":1.0500000000000001E-2},{"$f":"MIN(OFFSET(Male!BL$18,'Male Rev'!$A51-35,0),0.03999)","v":7.7000000000000002E-3},{"$f":"MIN(OFFSET(Male!BM$18,'Male Rev'!$A51-35,0),0.03999)","v":5.1000000000000004E-3},{"$f":"MIN(OFFSET(Male!BN$18,'Male Rev'!$A51-35,0),0.03999)","v":2.8999999999999998E-3},{"$f":"MIN(OFFSET(Male!BO$18,'Male Rev'!$A51-35,0),0.03999)","v":2E-3},{"$f":"MIN(OFFSET(Male!BP$18,'Male Rev'!$A51-35,0),0.03999)","v":1.1999999999999999E-3},{"$f":"MIN(OFFSET(Male!BQ$18,'Male Rev'!$A51-35,0),0.03999)","v":4.0000000000000002E-4},{"$f":"MIN(OFFSET(Male!BR$18,'Male Rev'!$A51-35,0),0.03999)","v":-2.9999999999999997E-4},{"$f":"MIN(OFFSET(Male!BS$18,'Male Rev'!$A51-35,0),0.03999)","v":-8.9999999999999998E-4},{"$f":"MIN(OFFSET(Male!BT$18,'Male Rev'!$A51-35,0),0.03999)","v":-1.1999999999999999E-3},{"$f":"MIN(OFFSET(Male!BU$18,'Male Rev'!$A51-35,0),0.03999)","v":-1.1999999999999999E-3},{"$f":"MIN(OFFSET(Male!BV$18,'Male Rev'!$A51-35,0),0.03999)","v":-1E-3},{"$f":"MIN(OFFSET(Male!BW$18,'Male Rev'!$A51-35,0),0.03999)","v":-5.0000000000000001E-4},{"$f":"MIN(OFFSET(Male!BX$18,'Male Rev'!$A51-35,0),0.03999)","v":2.0000000000000001E-4},{"$f":"MIN(OFFSET(Male!BY$18,'Male Rev'!$A51-35,0),0.03999)","v":1.1000000000000001E-3},{"$f":"MIN(OFFSET(Male!BZ$18,'Male Rev'!$A51-35,0),0.03999)","v":2.3E-3},{"$f":"MIN(OFFSET(Male!CA$18,'Male Rev'!$A51-35,0),0.03999)","v":3.7000000000000002E-3},{"$f":"MIN(OFFSET(Male!CB$18,'Male Rev'!$A51-35,0),0.03999)","v":5.1000000000000004E-3},{"$f":"MIN(OFFSET(Male!CC$18,'Male Rev'!$A51-35,0),0.03999)","v":6.4000000000000003E-3},{"$f":"MIN(OFFSET(Male!CD$18,'Male Rev'!$A51-35,0),0.03999)","v":7.6E-3},{"$f":"MIN(OFFSET(Male!CE$18,'Male Rev'!$A51-35,0),0.03999)","v":8.6E-3},{"$f":"MIN(OFFSET(Male!CF$18,'Male Rev'!$A51-35,0),0.03999)","v":9.4000000000000004E-3},{"$f":"MIN(OFFSET(Male!CG$18,'Male Rev'!$A51-35,0),0.03999)","v":9.9000000000000008E-3},{"$f":"MIN(OFFSET(Male!CH$18,'Male Rev'!$A51-35,0),0.03999)","v":0.01}]
[46,46,{"$f":"MIN(OFFSET(Male!B$18,'Male Rev'!$A52-35,0),0.03999)","v":1.4500000000000001E-2},{"$f":"MIN(OFFSET(Male!C$18,'Male Rev'!$A52-35,0),0.03999)","v":1.43E-2},{"$f":"MIN(OFFSET(Male!D$18,'Male Rev'!$A52-35,0),0.03999)","v":1.3899999999999999E-2},{"$f":"MIN(OFFSET(Male!E$18,'Male Rev'!$A52-35,0),0.03999)","v":1.3100000000000001E-2},{"$f":"MIN(OFFSET(Male!F$18,'Male Rev'!$A52-35,0),0.03999)","v":1.17E-2},{"$f":"MIN(OFFSET(Male!G$18,'Male Rev'!$A52-35,0),0.03999)","v":9.7999999999999997E-3},{"$f":"MIN(OFFSET(Male!H$18,'Male Rev'!$A52-35,0),0.03999)","v":7.7999999999999996E-3},{"$f":"MIN(OFFSET(Male!I$18,'Male Rev'!$A52-35,0),0.03999)","v":5.7999999999999996E-3},{"$f":"MIN(OFFSET(Male!J$18,'Male Rev'!$A52-35,0),0.03999)","v":3.8E-3},{"$f":"MIN(OFFSET(Male!K$18,'Male Rev'!$A52-35,0),0.03999)","v":2E-3},{"$f":"MIN(OFFSET(Male!L$18,'Male Rev'!$A52-35,0),0.03999)","v":5.0000000000000001E-4},{"$f":"MIN(OFFSET(Male!M$18,'Male Rev'!$A52-35,0),0.03999)","v":-8.9999999999999998E-4},{"$f":"MIN(OFFSET(Male!N$18,'Male Rev'!$A52-35,0),0.03999)","v":-1.6999999999999999E-3},{"$f":"MIN(OFFSET(Male!O$18,'Male Rev'!$A52-35,0),0.03999)","v":-1.9E-3},{"$f":"MIN(OFFSET(Male!P$18,'Male Rev'!$A52-35,0),0.03999)","v":-1.6000000000000001E-3},{"$f":"MIN(OFFSET(Male!Q$18,'Male Rev'!$A52-35,0),0.03999)","v":-5.0000000000000001E-4},{"$f":"MIN(OFFSET(Male!R$18,'Male Rev'!$A52-35,0),0.03999)","v":1.2999999999999999E-3},{"$f":"MIN(OFFSET(Male!S$18,'Male Rev'!$A52-35,0),0.03999)","v":3.7000000000000002E-3},{"$f":"MIN(OFFSET(Male!T$18,'Male Rev'!$A52-35,0),0.03999)","v":7.0000000000000001E-3},{"$f":"MIN(OFFSET(Male!U$18,'Male Rev'!$A52-35,0),0.03999)","v":1.0500000000000001E-2},{"$f":"MIN(OFFSET(Male!V$18,'Male Rev'!$A52-35,0),0.03999)","v":1.4200000000000001E-2},{"$f":"MIN(OFFSET(Male!W$18,'Male Rev'!$A52-35,0),0.03999)","v":1.78E-2},{"$f":"MIN(OFFSET(Male!X$18,'Male Rev'!$A52-35,0),0.03999)","v":2.1299999999999999E-2},{"$f":"MIN(OFFSET(Male!Y$18,'Male Rev'!$A52-35,0),0.03999)","v":2.4299999999999999E-2},{"$f":"MIN(OFFSET(Male!Z$18,'Male Rev'!$A52-35,0),0.03999)","v":2.6599999999999999E-2},{"$f":"MIN(OFFSET(Male!AA$18,'Male Rev'!$A52-35,0),0.03999)","v":2.7799999999999998E-2},{"$f":"MIN(OFFSET(Male!AB$18,'Male Rev'!$A52-35,0),0.03999)","v":2.8199999999999999E-2},{"$f":"MIN(OFFSET(Male!AC$18,'Male Rev'!$A52-35,0),0.03999)","v":2.7799999999999998E-2},{"$f":"MIN(OFFSET(Male!AD$18,'Male Rev'!$A52-35,0),0.03999)","v":2.6800000000000001E-2},{"$f":"MIN(OFFSET(Male!AE$18,'Male Rev'!$A52-35,0),0.03999)","v":2.52E-2},{"$f":"MIN(OFFSET(Male!AF$18,'Male Rev'!$A52-35,0),0.03999)","v":2.3199999999999998E-2},{"$f":"MIN(OFFSET(Male!AG$18,'Male Rev'!$A52-35,0),0.03999)","v":2.0799999999999999E-2},{"$f":"MIN(OFFSET(Male!AH$18,'Male Rev'!$A52-35,0),0.03999)","v":1.7899999999999999E-2},{"$f":"MIN(OFFSET(Male!AI$18,'Male Rev'!$A52-35,0),0.03999)","v":1.46E-2},{"$f":"MIN(OFFSET(Male!AJ$18,'Male Rev'!$A52-35,0),0.03999)","v":1.15E-2},{"$f":"MIN(OFFSET(Male!AK$18,'Male Rev'!$A52-35,0),0.03999)","v":8.6E-3},{"$f":"MIN(OFFSET(Male!AL$18,'Male Rev'!$A52-35,0),0.03999)","v":6.1999999999999998E-3},{"$f":"MIN(OFFSET(Male!AM$18,'Male Rev'!$A52-35,0),0.03999)","v":4.3E-3},{"$f":"MIN(OFFSET(Male!AN$18,'Male Rev'!$A52-35,0),0.03999)","v":3.2000000000000002E-3},{"$f":"MIN(OFFSET(Male!AO$18,'Male Rev'!$A52-35,0),0.03999)","v":2.8999999999999998E-3},{"$f":"MIN(OFFSET(Male!AP$18,'Male Rev'!$A52-35,0),0.03999)","v":3.3E-3},{"$f":"MIN(OFFSET(Male!AQ$18,'Male Rev'!$A52-35,0),0.03999)","v":4.5999999999999999E-3},{"$f":"MIN(OFFSET(Male!AR$18,'Male Rev'!$A52-35,0),0.03999)","v":6.4999999999999997E-3},{"$f":"MIN(OFFSET(Male!AS$18,'Male Rev'!$A52-35,0),0.03999)","v":8.9999999999999993E-3},{"$f":"MIN(OFFSET(Male!AT$18,'Male Rev'!$A52-35,0),0.03999)","v":1.17E-2},{"$f":"MIN(OFFSET(Male!AU$18,'Male Rev'!$A52-35,0),0.03999)","v":1.38E-2},{"$f":"MIN(OFFSET(Male!AV$18,'Male Rev'!$A52-35,0),0.03999)","v":1.46E-2},{"$f":"MIN(OFFSET(Male!AW$18,'Male Rev'!$A52-35,0),0.03999)","v":1.3899999999999999E-2},{"$f":"MIN(OFFSET(Male!AX$18,'Male Rev'!$A52-35,0),0.03999)","v":1.24E-2},{"$f":"MIN(OFFSET(Male!AY$18,'Male Rev'!$A52-35,0),0.03999)","v":1.09E-2},{"$f":"MIN(OFFSET(Male!AZ$18,'Male Rev'!$A52-35,0),0.03999)","v":0.01},{"$f":"MIN(OFFSET(Male!BA$18,'Male Rev'!$A52-35,0),0.03999)","v":9.9000000000000008E-3},{"$f":"MIN(OFFSET(Male!BB$18,'Male Rev'!$A52-35,0),0.03999)","v":1.0699999999999999E-2},{"$f":"MIN(OFFSET(Male!BC$18,'Male Rev'!$A52-35,0),0.03999)","v":1.21E-2},{"$f":"MIN(OFFSET(Male!BD$18,'Male Rev'!$A52-35,0),0.03999)","v":1.37E-2},{"$f":"MIN(OFFSET(Male!BE$18,'Male Rev'!$A52-35,0),0.03999)","v":1.5299999999999999E-2},{"$f":"MIN(OFFSET(Male!BF$18,'Male Rev'!$A52-35,0),0.03999)","v":1.6400000000000001E-2},{"$f":"MIN(OFFSET(Male!BG$18,'Male Rev'!$A52-35,0),0.03999)","v":1.6899999999999998E-2},{"$f":"MIN(OFFSET(Male!BH$18,'Male Rev'!$A52-35,0),0.03999)","v":1.6400000000000001E-2},{"$f":"MIN(OFFSET(Male!BI$18,'Male Rev'!$A52-35,0),0.03999)","v":1.4999999999999999E-2},{"$f":"MIN(OFFSET(Male!BJ$18,'Male Rev'!$A52-35,0),0.03999)","v":1.2800000000000001E-2},{"$f":"MIN(OFFSET(Male!BK$18,'Male Rev'!$A52-35,0),0.03999)","v":9.9000000000000008E-3},{"$f":"MIN(OFFSET(Male!BL$18,'Male Rev'!$A52-35,0),0.03999)","v":6.6E-3},{"$f":"MIN(OFFSET(Male!BM$18,'Male Rev'!$A52-35,0),0.03999)","v":3.5000000000000001E-3},{"$f":"MIN(OFFSET(Male!BN$18,'Male Rev'!$A52-35,0),0.03999)","v":8.9999999999999998E-4},{"$f":"MIN(OFFSET(Male!BO$18,'Male Rev'!$A52-35,0),0.03999)","v":-2.0000000000000001E-4},{"$f":"MIN(OFFSET(Male!BP$18,'Male Rev'!$A52-35,0),0.03999)","v":-1.1999999999999999E-3},{"$f":"MIN(OFFSET(Male!BQ$18,'Male Rev'!$A52-35,0),0.03999)","v":-2E-3},{"$f":"MIN(OFFSET(Male!BR$18,'Male Rev'!$A52-35,0),0.03999)","v":-2.5999999999999999E-3},{"$f":"MIN(OFFSET(Male!BS$18,'Male Rev'!$A52-35,0),0.03999)","v":-3.0000000000000001E-3},{"$f":"MIN(OFFSET(Male!BT$18,'Male Rev'!$A52-35,0),0.03999)","v":-3.0000000000000001E-3},{"$f":"MIN(OFFSET(Male!BU$18,'Male Rev'!$A52-35,0),0.03999)","v":-2.8E-3},{"$f":"MIN(OFFSET(Male!BV$18,'Male Rev'!$A52-35,0),0.03999)","v":-2.2000000000000001E-3},{"$f":"MIN(OFFSET(Male!BW$18,'Male Rev'!$A52-35,0),0.03999)","v":-1.4E-3},{"$f":"MIN(OFFSET(Male!BX$18,'Male Rev'!$A52-35,0),0.03999)","v":-4.0000000000000002E-4},{"$f":"MIN(OFFSET(Male!BY$18,'Male Rev'!$A52-35,0),0.03999)","v":6.9999999999999999E-4},{"$f":"MIN(OFFSET(Male!BZ$18,'Male Rev'!$A52-35,0),0.03999)","v":2.0999999999999999E-3},{"$f":"MIN(OFFSET(Male!CA$18,'Male Rev'!$A52-35,0),0.03999)","v":3.5999999999999999E-3},{"$f":"MIN(OFFSET(Male!CB$18,'Male Rev'!$A52-35,0),0.03999)","v":5.0000000000000001E-3},{"$f":"MIN(OFFSET(Male!CC$18,'Male Rev'!$A52-35,0),0.03999)","v":6.4000000000000003E-3},{"$f":"MIN(OFFSET(Male!CD$18,'Male Rev'!$A52-35,0),0.03999)","v":7.7000000000000002E-3},{"$f":"MIN(OFFSET(Male!CE$18,'Male Rev'!$A52-35,0),0.03999)","v":8.6999999999999994E-3},{"$f":"MIN(OFFSET(Male!CF$18,'Male Rev'!$A52-35,0),0.03999)","v":9.4000000000000004E-3},{"$f":"MIN(OFFSET(Male!CG$18,'Male Rev'!$A52-35,0),0.03999)","v":9.9000000000000008E-3},{"$f":"MIN(OFFSET(Male!CH$18,'Male Rev'!$A52-35,0),0.03999)","v":0.01}]
[45,45,{"$f":"MIN(OFFSET(Male!B$18,'Male Rev'!$A53-35,0),0.03999)","v":1.5299999999999999E-2},{"$f":"MIN(OFFSET(Male!C$18,'Male Rev'!$A53-35,0),0.03999)","v":1.52E-2},{"$f":"MIN(OFFSET(Male!D$18,'Male Rev'!$A53-35,0),0.03999)","v":1.4800000000000001E-2},{"$f":"MIN(OFFSET(Male!E$18,'Male Rev'!$A53-35,0),0.03999)","v":1.3899999999999999E-2},{"$f":"MIN(OFFSET(Male!F$18,'Male Rev'!$A53-35,0),0.03999)","v":1.23E-2},{"$f":"MIN(OFFSET(Male!G$18,'Male Rev'!$A53-35,0),0.03999)","v":1.03E-2},{"$f":"MIN(OFFSET(Male!H$18,'Male Rev'!$A53-35,0),0.03999)","v":8.0999999999999996E-3},{"$f":"MIN(OFFSET(Male!I$18,'Male Rev'!$A53-35,0),0.03999)","v":6.0000000000000001E-3},{"$f":"MIN(OFFSET(Male!J$18,'Male Rev'!$A53-35,0),0.03999)","v":3.8999999999999998E-3},{"$f":"MIN(OFFSET(Male!K$18,'Male Rev'!$A53-35,0),0.03999)","v":1.9E-3},{"$f":"MIN(OFFSET(Male!L$18,'Male Rev'!$A53-35,0),0.03999)","v":2.0000000000000001E-4},{"$f":"MIN(OFFSET(Male!M$18,'Male Rev'!$A53-35,0),0.03999)","v":-1.2999999999999999E-3},{"$f":"MIN(OFFSET(Male!N$18,'Male Rev'!$A53-35,0),0.03999)","v":-2.3E-3},{"$f":"MIN(OFFSET(Male!O$18,'Male Rev'!$A53-35,0),0.03999)","v":-2.5999999999999999E-3},{"$f":"MIN(OFFSET(Male!P$18,'Male Rev'!$A53-35,0),0.03999)","v":-2.3E-3},{"$f":"MIN(OFFSET(Male!Q$18,'Male Rev'!$A53-35,0),0.03999)","v":-1.2999999999999999E-3},{"$f":"MIN(OFFSET(Male!R$18,'Male Rev'!$A53-35,0),0.03999)","v":5.0000000000000001E-4},{"$f":"MIN(OFFSET(Male!S$18,'Male Rev'!$A53-35,0),0.03999)","v":3.0999999999999999E-3},{"$f":"MIN(OFFSET(Male!T$18,'Male Rev'!$A53-35,0),0.03999)","v":6.4000000000000003E-3},{"$f":"MIN(OFFSET(Male!U$18,'Male Rev'!$A53-35,0),0.03999)","v":1.0200000000000001E-2},{"$f":"MIN(OFFSET(Male!V$18,'Male Rev'!$A53-35,0),0.03999)","v":1.4200000000000001E-2},{"$f":"MIN(OFFSET(Male!W$18,'Male Rev'!$A53-35,0),0.03999)","v":1.7899999999999999E-2},{"$f":"MIN(OFFSET(Male!X$18,'Male Rev'!$A53-35,0),0.03999)","v":2.1499999999999998E-2},{"$f":"MIN(OFFSET(Male!Y$18,'Male Rev'!$A53-35,0),0.03999)","v":2.46E-2},{"$f":"MIN(OFFSET(Male!Z$18,'Male Rev'!$A53-35,0),0.03999)","v":2.6800000000000001E-2},{"$f":"MIN(OFFSET(Male!AA$18,'Male Rev'!$A53-35,0),0.03999)","v":2.81E-2},{"$f":"MIN(OFFSET(Male!AB$18,'Male Rev'!$A53-35,0),0.03999)","v":2.8400000000000002E-2},{"$f":"MIN(OFFSET(Male!AC$18,'Male Rev'!$A53-35,0),0.03999)","v":2.7900000000000001E-2},{"$f":"MIN(OFFSET(Male!AD$18,'Male Rev'!$A53-35,0),0.03999)","v":2.6700000000000002E-2},{"$f":"MIN(OFFSET(Male!AE$18,'Male Rev'!$A53-35,0),0.03999)","v":2.4799999999999999E-2},{"$f":"MIN(OFFSET(Male!AF$18,'Male Rev'!$A53-35,0),0.03999)","v":2.2499999999999999E-2},{"$f":"MIN(OFFSET(Male!AG$18,'Male Rev'!$A53-35,0),0.03999)","v":1.9699999999999999E-2},{"$f":"MIN(OFFSET(Male!AH$18,'Male Rev'!$A53-35,0),0.03999)","v":1.6299999999999999E-2},{"$f":"MIN(OFFSET(Male!AI$18,'Male Rev'!$A53-35,0),0.03999)","v":1.2699999999999999E-2},{"$f":"MIN(OFFSET(Male!AJ$18,'Male Rev'!$A53-35,0),0.03999)","v":9.1000000000000004E-3},{"$f":"MIN(OFFSET(Male!AK$18,'Male Rev'!$A53-35,0),0.03999)","v":6.0000000000000001E-3},{"$f":"MIN(OFFSET(Male!AL$18,'Male Rev'!$A53-35,0),0.03999)","v":3.3999999999999998E-3},{"$f":"MIN(OFFSET(Male!AM$18,'Male Rev'!$A53-35,0),0.03999)","v":1.5E-3},{"$f":"MIN(OFFSET(Male!AN$18,'Male Rev'!$A53-35,0),0.03999)","v":5.0000000000000001E-4},{"$f":"MIN(OFFSET(Male!AO$18,'Male Rev'!$A53-35,0),0.03999)","v":2.9999999999999997E-4},{"$f":"MIN(OFFSET(Male!AP$18,'Male Rev'!$A53-35,0),0.03999)","v":1.1000000000000001E-3},{"$f":"MIN(OFFSET(Male!AQ$18,'Male Rev'!$A53-35,0),0.03999)","v":2.8E-3},{"$f":"MIN(OFFSET(Male!AR$18,'Male Rev'!$A53-35,0),0.03999)","v":5.4000000000000003E-3},{"$f":"MIN(OFFSET(Male!AS$18,'Male Rev'!$A53-35,0),0.03999)","v":8.8000000000000005E-3},{"$f":"MIN(OFFSET(Male!AT$18,'Male Rev'!$A53-35,0),0.03999)","v":1.23E-2},{"$f":"MIN(OFFSET(Male!AU$18,'Male Rev'!$A53-35,0),0.03999)","v":1.5100000000000001E-2},{"$f":"MIN(OFFSET(Male!AV$18,'Male Rev'!$A53-35,0),0.03999)","v":1.6400000000000001E-2},{"$f":"MIN(OFFSET(Male!AW$18,'Male Rev'!$A53-35,0),0.03999)","v":1.5900000000000001E-2},{"$f":"MIN(OFFSET(Male!AX$18,'Male Rev'!$A53-35,0),0.03999)","v":1.44E-2},{"$f":"MIN(OFFSET(Male!AY$18,'Male Rev'!$A53-35,0),0.03999)","v":1.2800000000000001E-2},{"$f":"MIN(OFFSET(Male!AZ$18,'Male Rev'!$A53-35,0),0.03999)","v":1.17E-2},{"$f":"MIN(OFFSET(Male!BA$18,'Male Rev'!$A53-35,0),0.03999)","v":1.15E-2},{"$f":"MIN(OFFSET(Male!BB$18,'Male Rev'!$A53-35,0),0.03999)","v":1.2200000000000001E-2},{"$f":"MIN(OFFSET(Male!BC$18,'Male Rev'!$A53-35,0),0.03999)","v":1.35E-2},{"$f":"MIN(OFFSET(Male!BD$18,'Male Rev'!$A53-35,0),0.03999)","v":1.49E-2},{"$f":"MIN(OFFSET(Male!BE$18,'Male Rev'!$A53-35,0),0.03999)","v":1.6400000000000001E-2},{"$f":"MIN(OFFSET(Male!BF$18,'Male Rev'!$A53-35,0),0.03999)","v":1.7399999999999999E-2},{"$f":"MIN(OFFSET(Male!BG$18,'Male Rev'!$A53-35,0),0.03999)","v":1.7600000000000001E-2},{"$f":"MIN(OFFSET(Male!BH$18,'Male Rev'!$A53-35,0),0.03999)","v":1.6899999999999998E-2},{"$f":"MIN(OFFSET(Male!BI$18,'Male Rev'!$A53-35,0),0.03999)","v":1.5100000000000001E-2},{"$f":"MIN(OFFSET(Male!BJ$18,'Male Rev'!$A53-35,0),0.03999)","v":1.23E-2},{"$f":"MIN(OFFSET(Male!BK$18,'Male Rev'!$A53-35,0),0.03999)","v":8.8999999999999999E-3},{"$f":"MIN(OFFSET(Male!BL$18,'Male Rev'!$A53-35,0),0.03999)","v":5.1000000000000004E-3},{"$f":"MIN(OFFSET(Male!BM$18,'Male Rev'!$A53-35,0),0.03999)","v":1.4E-3},{"$f":"MIN(OFFSET(Male!BN$18,'Male Rev'!$A53-35,0),0.03999)","v":-1.6000000000000001E-3},{"$f":"MIN(OFFSET(Male!BO$18,'Male Rev'!$A53-35,0),0.03999)","v":-2.8999999999999998E-3},{"$f":"MIN(OFFSET(Male!BP$18,'Male Rev'!$A53-35,0),0.03999)","v":-3.8999999999999998E-3},{"$f":"MIN(OFFSET(Male!BQ$18,'Male Rev'!$A53-35,0),0.03999)","v":-4.7000000000000002E-3},{"$f":"MIN(OFFSET(Male!BR$18,'Male Rev'!$A53-35,0),0.03999)","v":-5.1000000000000004E-3},{"$f":"MIN(OFFSET(Male!BS$18,'Male Rev'!$A53-35,0),0.03999)","v":-5.1999999999999998E-3},{"$f":"MIN(OFFSET(Male!BT$18,'Male Rev'!$A53-35,0),0.03999)","v":-4.8999999999999998E-3},{"$f":"MIN(OFFSET(Male!BU$18,'Male Rev'!$A53-35,0),0.03999)","v":-4.1999999999999997E-3},{"$f":"MIN(OFFSET(Male!BV$18,'Male Rev'!$A53-35,0),0.03999)","v":-3.3E-3},{"$f":"MIN(OFFSET(Male!BW$18,'Male Rev'!$A53-35,0),0.03999)","v":-2.0999999999999999E-3},{"$f":"MIN(OFFSET(Male!BX$18,'Male Rev'!$A53-35,0),0.03999)","v":-8.9999999999999998E-4},{"$f":"MIN(OFFSET(Male!BY$18,'Male Rev'!$A53-35,0),0.03999)","v":4.0000000000000002E-4},{"$f":"MIN(OFFSET(Male!BZ$18,'Male Rev'!$A53-35,0),0.03999)","v":2E-3},{"$f":"MIN(OFFSET(Male!CA$18,'Male Rev'!$A53-35,0),0.03999)","v":3.5000000000000001E-3},{"$f":"MIN(OFFSET(Male!CB$18,'Male Rev'!$A53-35,0),0.03999)","v":5.1000000000000004E-3},{"$f":"MIN(OFFSET(Male!CC$18,'Male Rev'!$A53-35,0),0.03999)","v":6.4999999999999997E-3},{"$f":"MIN(OFFSET(Male!CD$18,'Male Rev'!$A53-35,0),0.03999)","v":7.7999999999999996E-3},{"$f":"MIN(OFFSET(Male!CE$18,'Male Rev'!$A53-35,0),0.03999)","v":8.8000000000000005E-3},{"$f":"MIN(OFFSET(Male!CF$18,'Male Rev'!$A53-35,0),0.03999)","v":9.4999999999999998E-3},{"$f":"MIN(OFFSET(Male!CG$18,'Male Rev'!$A53-35,0),0.03999)","v":9.9000000000000008E-3},{"$f":"MIN(OFFSET(Male!CH$18,'Male Rev'!$A53-35,0),0.03999)","v":0.01}]
[44,44,{"$f":"MIN(OFFSET(Male!B$18,'Male Rev'!$A54-35,0),0.03999)","v":1.61E-2},{"$f":"MIN(OFFSET(Male!C$18,'Male Rev'!$A54-35,0),0.03999)","v":1.6E-2},{"$f":"MIN(OFFSET(Male!D$18,'Male Rev'!$A54-35,0),0.03999)","v":1.5599999999999999E-2},{"$f":"MIN(OFFSET(Male!E$18,'Male Rev'!$A54-35,0),0.03999)","v":1.46E-2},{"$f":"MIN(OFFSET(Male!F$18,'Male Rev'!$A54-35,0),0.03999)","v":1.29E-2},{"$f":"MIN(OFFSET(Male!G$18,'Male Rev'!$A54-35,0),0.03999)","v":1.0699999999999999E-2},{"$f":"MIN(OFFSET(Male!H$18,'Male Rev'!$A54-35,0),0.03999)","v":8.3999999999999995E-3},{"$f":"MIN(OFFSET(Male!I$18,'Male Rev'!$A54-35,0),0.03999)","v":6.1000000000000004E-3},{"$f":"MIN(OFFSET(Male!J$18,'Male Rev'!$A54-35,0),0.03999)","v":3.8999999999999998E-3},{"$f":"MIN(OFFSET(Male!K$18,'Male Rev'!$A54-35,0),0.03999)","v":1.6999999999999999E-3},{"$f":"MIN(OFFSET(Male!L$18,'Male Rev'!$A54-35,0),0.03999)","v":-2.0000000000000001E-4},{"$f":"MIN(OFFSET(Male!M$18,'Male Rev'!$A54-35,0),0.03999)","v":-1.8E-3},{"$f":"MIN(OFFSET(Male!N$18,'Male Rev'!$A54-35,0),0.03999)","v":-2.8999999999999998E-3},{"$f":"MIN(OFFSET(Male!O$18,'Male Rev'!$A54-35,0),0.03999)","v":-3.3E-3},{"$f":"MIN(OFFSET(Male!P$18,'Male Rev'!$A54-35,0),0.03999)","v":-3.0999999999999999E-3},{"$f":"MIN(OFFSET(Male!Q$18,'Male Rev'!$A54-35,0),0.03999)","v":-2.0999999999999999E-3},{"$f":"MIN(OFFSET(Male!R$18,'Male Rev'!$A54-35,0),0.03999)","v":-2.0000000000000001E-4},{"$f":"MIN(OFFSET(Male!S$18,'Male Rev'!$A54-35,0),0.03999)","v":2.3999999999999998E-3},{"$f":"MIN(OFFSET(Male!T$18,'Male Rev'!$A54-35,0),0.03999)","v":5.8999999999999999E-3},{"$f":"MIN(OFFSET(Male!U$18,'Male Rev'!$A54-35,0),0.03999)","v":9.9000000000000008E-3},{"$f":"MIN(OFFSET(Male!V$18,'Male Rev'!$A54-35,0),0.03999)","v":1.41E-2},{"$f":"MIN(OFFSET(Male!W$18,'Male Rev'!$A54-35,0),0.03999)","v":1.7999999999999999E-2},{"$f":"MIN(OFFSET(Male!X$18,'Male Rev'!$A54-35,0),0.03999)","v":2.1700000000000001E-2},{"$f":"MIN(OFFSET(Male!Y$18,'Male Rev'!$A54-35,0),0.03999)","v":2.4799999999999999E-2},{"$f":"MIN(OFFSET(Male!Z$18,'Male Rev'!$A54-35,0),0.03999)","v":2.7E-2},{"$f":"MIN(OFFSET(Male!AA$18,'Male Rev'!$A54-35,0),0.03999)","v":2.8199999999999999E-2},{"$f":"MIN(OFFSET(Male!AB$18,'Male Rev'!$A54-35,0),0.03999)","v":2.8500000000000001E-2},{"$f":"MIN(OFFSET(Male!AC$18,'Male Rev'!$A54-35,0),0.03999)","v":2.7900000000000001E-2},{"$f":"MIN(OFFSET(Male!AD$18,'Male Rev'!$A54-35,0),0.03999)","v":2.6499999999999999E-2},{"$f":"MIN(OFFSET(Male!AE$18,'Male Rev'!$A54-35,0),0.03999)","v":2.4299999999999999E-2},{"$f":"MIN(OFFSET(Male!AF$18,'Male Rev'!$A54-35,0),0.03999)","v":2.1700000000000001E-2},{"$f":"MIN(OFFSET(Male!AG$18,'Male Rev'!$A54-35,0),0.03999)","v":1.84E-2},{"$f":"MIN(OFFSET(Male!AH$18,'Male Rev'!$A54-35,0),0.03999)","v":1.46E-2},{"$f":"MIN(OFFSET(Male!AI$18,'Male Rev'!$A54-35,0),0.03999)","v":1.0500000000000001E-2},{"$f":"MIN(OFFSET(Male!AJ$18,'Male Rev'!$A54-35,0),0.03999)","v":6.6E-3},{"$f":"MIN(OFFSET(Male!AK$18,'Male Rev'!$A54-35,0),0.03999)","v":3.2000000000000002E-3},{"$f":"MIN(OFFSET(Male!AL$18,'Male Rev'!$A54-35,0),0.03999)","v":5.0000000000000001E-4},{"$f":"MIN(OFFSET(Male!AM$18,'Male Rev'!$A54-35,0),0.03999)","v":-1.5E-3},{"$f":"MIN(OFFSET(Male!AN$18,'Male Rev'!$A54-35,0),0.03999)","v":-2.3E-3},{"$f":"MIN(OFFSET(Male!AO$18,'Male Rev'!$A54-35,0),0.03999)","v":-2.2000000000000001E-3},{"$f":"MIN(OFFSET(Male!AP$18,'Male Rev'!$A54-35,0),0.03999)","v":-1E-3},{"$f":"MIN(OFFSET(Male!AQ$18,'Male Rev'!$A54-35,0),0.03999)","v":1.1999999999999999E-3},{"$f":"MIN(OFFSET(Male!AR$18,'Male Rev'!$A54-35,0),0.03999)","v":4.5999999999999999E-3},{"$f":"MIN(OFFSET(Male!AS$18,'Male Rev'!$A54-35,0),0.03999)","v":8.8999999999999999E-3},{"$f":"MIN(OFFSET(Male!AT$18,'Male Rev'!$A54-35,0),0.03999)","v":1.3299999999999999E-2},{"$f":"MIN(OFFSET(Male!AU$18,'Male Rev'!$A54-35,0),0.03999)","v":1.7000000000000001E-2},{"$f":"MIN(OFFSET(Male!AV$18,'Male Rev'!$A54-35,0),0.03999)","v":1.8700000000000001E-2},{"$f":"MIN(OFFSET(Male!AW$18,'Male Rev'!$A54-35,0),0.03999)","v":1.83E-2},{"$f":"MIN(OFFSET(Male!AX$18,'Male Rev'!$A54-35,0),0.03999)","v":1.67E-2},{"$f":"MIN(OFFSET(Male!AY$18,'Male Rev'!$A54-35,0),0.03999)","v":1.49E-2},{"$f":"MIN(OFFSET(Male!AZ$18,'Male Rev'!$A54-35,0),0.03999)","v":1.3599999999999999E-2},{"$f":"MIN(OFFSET(Male!BA$18,'Male Rev'!$A54-35,0),0.03999)","v":1.32E-2},{"$f":"MIN(OFFSET(Male!BB$18,'Male Rev'!$A54-35,0),0.03999)","v":1.37E-2},{"$f":"MIN(OFFSET(Male!BC$18,'Male Rev'!$A54-35,0),0.03999)","v":1.4800000000000001E-2},{"$f":"MIN(OFFSET(Male!BD$18,'Male Rev'!$A54-35,0),0.03999)","v":1.6E-2},{"$f":"MIN(OFFSET(Male!BE$18,'Male Rev'!$A54-35,0),0.03999)","v":1.7299999999999999E-2},{"$f":"MIN(OFFSET(Male!BF$18,'Male Rev'!$A54-35,0),0.03999)","v":1.8100000000000002E-2},{"$f":"MIN(OFFSET(Male!BG$18,'Male Rev'!$A54-35,0),0.03999)","v":1.8100000000000002E-2},{"$f":"MIN(OFFSET(Male!BH$18,'Male Rev'!$A54-35,0),0.03999)","v":1.7000000000000001E-2},{"$f":"MIN(OFFSET(Male!BI$18,'Male Rev'!$A54-35,0),0.03999)","v":1.47E-2},{"$f":"MIN(OFFSET(Male!BJ$18,'Male Rev'!$A54-35,0),0.03999)","v":1.14E-2},{"$f":"MIN(OFFSET(Male!BK$18,'Male Rev'!$A54-35,0),0.03999)","v":7.4000000000000003E-3},{"$f":"MIN(OFFSET(Male!BL$18,'Male Rev'!$A54-35,0),0.03999)","v":3.0000000000000001E-3},{"$f":"MIN(OFFSET(Male!BM$18,'Male Rev'!$A54-35,0),0.03999)","v":-1.1000000000000001E-3},{"$f":"MIN(OFFSET(Male!BN$18,'Male Rev'!$A54-35,0),0.03999)","v":-4.5999999999999999E-3},{"$f":"MIN(OFFSET(Male!BO$18,'Male Rev'!$A54-35,0),0.03999)","v":-6.0000000000000001E-3},{"$f":"MIN(OFFSET(Male!BP$18,'Male Rev'!$A54-35,0),0.03999)","v":-7.0000000000000001E-3},{"$f":"MIN(OFFSET(Male!BQ$18,'Male Rev'!$A54-35,0),0.03999)","v":-7.6E-3},{"$f":"MIN(OFFSET(Male!BR$18,'Male Rev'!$A54-35,0),0.03999)","v":-7.7999999999999996E-3},{"$f":"MIN(OFFSET(Male!BS$18,'Male Rev'!$A54-35,0),0.03999)","v":-7.4999999999999997E-3},{"$f":"MIN(OFFSET(Male!BT$18,'Male Rev'!$A54-35,0),0.03999)","v":-6.7000000000000002E-3},{"$f":"MIN(OFFSET(Male!BU$18,'Male Rev'!$A54-35,0),0.03999)","v":-5.5999999999999999E-3},{"$f":"MIN(OFFSET(Male!BV$18,'Male Rev'!$A54-35,0),0.03999)","v":-4.3E-3},{"$f":"MIN(OFFSET(Male!BW$18,'Male Rev'!$A54-35,0),0.03999)","v":-2.7000000000000001E-3},{"$f":"MIN(OFFSET(Male!BX$18,'Male Rev'!$A54-35,0),0.03999)","v":-1.1999999999999999E-3},{"$f":"MIN(OFFSET(Male!BY$18,'Male Rev'!$A54-35,0),0.03999)","v":2.9999999999999997E-4},{"$f":"MIN(OFFSET(Male!BZ$18,'Male Rev'!$A54-35,0),0.03999)","v":1.9E-3},{"$f":"MIN(OFFSET(Male!CA$18,'Male Rev'!$A54-35,0),0.03999)","v":3.5999999999999999E-3},{"$f":"MIN(OFFSET(Male!CB$18,'Male Rev'!$A54-35,0),0.03999)","v":5.1999999999999998E-3},{"$f":"MIN(OFFSET(Male!CC$18,'Male Rev'!$A54-35,0),0.03999)","v":6.6E-3},{"$f":"MIN(OFFSET(Male!CD$18,'Male Rev'!$A54-35,0),0.03999)","v":7.9000000000000008E-3},{"$f":"MIN(OFFSET(Male!CE$18,'Male Rev'!$A54-35,0),0.03999)","v":8.8000000000000005E-3},{"$f":"MIN(OFFSET(Male!CF$18,'Male Rev'!$A54-35,0),0.03999)","v":9.4999999999999998E-3},{"$f":"MIN(OFFSET(Male!CG$18,'Male Rev'!$A54-35,0),0.03999)","v":9.9000000000000008E-3},{"$f":"MIN(OFFSET(Male!CH$18,'Male Rev'!$A54-35,0),0.03999)","v":0.01}]
[43,43,{"$f":"MIN(OFFSET(Male!B$18,'Male Rev'!$A55-35,0),0.03999)","v":1.6899999999999998E-2},{"$f":"MIN(OFFSET(Male!C$18,'Male Rev'!$A55-35,0),0.03999)","v":1.6799999999999999E-2},{"$f":"MIN(OFFSET(Male!D$18,'Male Rev'!$A55-35,0),0.03999)","v":1.6400000000000001E-2},{"$f":"MIN(OFFSET(Male!E$18,'Male Rev'!$A55-35,0),0.03999)","v":1.5299999999999999E-2},{"$f":"MIN(OFFSET(Male!F$18,'Male Rev'!$A55-35,0),0.03999)","v":1.35E-2},{"$f":"MIN(OFFSET(Male!G$18,'Male Rev'!$A55-35,0),0.03999)","v":1.11E-2},{"$f":"MIN(OFFSET(Male!H$18,'Male Rev'!$A55-35,0),0.03999)","v":8.6E-3},{"$f":"MIN(OFFSET(Male!I$18,'Male Rev'!$A55-35,0),0.03999)","v":6.1999999999999998E-3},{"$f":"MIN(OFFSET(Male!J$18,'Male Rev'!$A55-35,0),0.03999)","v":3.8E-3},{"$f":"MIN(OFFSET(Male!K$18,'Male Rev'!$A55-35,0),0.03999)","v":1.5E-3},{"$f":"MIN(OFFSET(Male!L$18,'Male Rev'!$A55-35,0),0.03999)","v":-5.9999999999999995E-4},{"$f":"MIN(OFFSET(Male!M$18,'Male Rev'!$A55-35,0),0.03999)","v":-2.3E-3},{"$f":"MIN(OFFSET(Male!N$18,'Male Rev'!$A55-35,0),0.03999)","v":-3.5000000000000001E-3},{"$f":"MIN(OFFSET(Male!O$18,'Male Rev'!$A55-35,0),0.03999)","v":-4.1000000000000003E-3},{"$f":"MIN(OFFSET(Male!P$18,'Male Rev'!$A55-35,0),0.03999)","v":-3.8999999999999998E-3},{"$f":"MIN(OFFSET(Male!Q$18,'Male Rev'!$A55-35,0),0.03999)","v":-2.8999999999999998E-3},{"$f":"MIN(OFFSET(Male!R$18,'Male Rev'!$A55-35,0),0.03999)","v":-1E-3},{"$f":"MIN(OFFSET(Male!S$18,'Male Rev'!$A55-35,0),0.03999)","v":1.8E-3},{"$f":"MIN(OFFSET(Male!T$18,'Male Rev'!$A55-35,0),0.03999)","v":5.4000000000000003E-3},{"$f":"MIN(OFFSET(Male!U$18,'Male Rev'!$A55-35,0),0.03999)","v":9.5999999999999992E-3},{"$f":"MIN(OFFSET(Male!V$18,'Male Rev'!$A55-35,0),0.03999)","v":1.4E-2},{"$f":"MIN(OFFSET(Male!W$18,'Male Rev'!$A55-35,0),0.03999)","v":1.8100000000000002E-2},{"$f":"MIN(OFFSET(Male!X$18,'Male Rev'!$A55-35,0),0.03999)","v":2.18E-2},{"$f":"MIN(OFFSET(Male!Y$18,'Male Rev'!$A55-35,0),0.03999)","v":2.4899999999999999E-2},{"$f":"MIN(OFFSET(Male!Z$18,'Male Rev'!$A55-35,0),0.03999)","v":2.7099999999999999E-2},{"$f":"MIN(OFFSET(Male!AA$18,'Male Rev'!$A55-35,0),0.03999)","v":2.8199999999999999E-2},{"$f":"MIN(OFFSET(Male!AB$18,'Male Rev'!$A55-35,0),0.03999)","v":2.8400000000000002E-2},{"$f":"MIN(OFFSET(Male!AC$18,'Male Rev'!$A55-35,0),0.03999)","v":2.7699999999999999E-2},{"$f":"MIN(OFFSET(Male!AD$18,'Male Rev'!$A55-35,0),0.03999)","v":2.6100000000000002E-2},{"$f":"MIN(OFFSET(Male!AE$18,'Male Rev'!$A55-35,0),0.03999)","v":2.3699999999999999E-2},{"$f":"MIN(OFFSET(Male!AF$18,'Male Rev'!$A55-35,0),0.03999)","v":2.07E-2},{"$f":"MIN(OFFSET(Male!AG$18,'Male Rev'!$A55-35,0),0.03999)","v":1.7000000000000001E-2},{"$f":"MIN(OFFSET(Male!AH$18,'Male Rev'!$A55-35,0),0.03999)","v":1.26E-2},{"$f":"MIN(OFFSET(Male!AI$18,'Male Rev'!$A55-35,0),0.03999)","v":8.0000000000000002E-3},{"$f":"MIN(OFFSET(Male!AJ$18,'Male Rev'!$A55-35,0),0.03999)","v":3.7000000000000002E-3},{"$f":"MIN(OFFSET(Male!AK$18,'Male Rev'!$A55-35,0),0.03999)","v":1E-4},{"$f":"MIN(OFFSET(Male!AL$18,'Male Rev'!$A55-35,0),0.03999)","v":-2.7000000000000001E-3},{"$f":"MIN(OFFSET(Male!AM$18,'Male Rev'!$A55-35,0),0.03999)","v":-4.4999999999999997E-3},{"$f":"MIN(OFFSET(Male!AN$18,'Male Rev'!$A55-35,0),0.03999)","v":-5.1000000000000004E-3},{"$f":"MIN(OFFSET(Male!AO$18,'Male Rev'!$A55-35,0),0.03999)","v":-4.4999999999999997E-3},{"$f":"MIN(OFFSET(Male!AP$18,'Male Rev'!$A55-35,0),0.03999)","v":-2.8999999999999998E-3},{"$f":"MIN(OFFSET(Male!AQ$18,'Male Rev'!$A55-35,0),0.03999)","v":-1E-4},{"$f":"MIN(OFFSET(Male!AR$18,'Male Rev'!$A55-35,0),0.03999)","v":4.1999999999999997E-3},{"$f":"MIN(OFFSET(Male!AS$18,'Male Rev'!$A55-35,0),0.03999)","v":9.4000000000000004E-3},{"$f":"MIN(OFFSET(Male!AT$18,'Male Rev'!$A55-35,0),0.03999)","v":1.4800000000000001E-2},{"$f":"MIN(OFFSET(Male!AU$18,'Male Rev'!$A55-35,0),0.03999)","v":1.9199999999999998E-2},{"$f":"MIN(OFFSET(Male!AV$18,'Male Rev'!$A55-35,0),0.03999)","v":2.1399999999999999E-2},{"$f":"MIN(OFFSET(Male!AW$18,'Male Rev'!$A55-35,0),0.03999)","v":2.1100000000000001E-2},{"$f":"MIN(OFFSET(Male!AX$18,'Male Rev'!$A55-35,0),0.03999)","v":1.9300000000000001E-2},{"$f":"MIN(OFFSET(Male!AY$18,'Male Rev'!$A55-35,0),0.03999)","v":1.72E-2},{"$f":"MIN(OFFSET(Male!AZ$18,'Male Rev'!$A55-35,0),0.03999)","v":1.5599999999999999E-2},{"$f":"MIN(OFFSET(Male!BA$18,'Male Rev'!$A55-35,0),0.03999)","v":1.4800000000000001E-2},{"$f":"MIN(OFFSET(Male!BB$18,'Male Rev'!$A55-35,0),0.03999)","v":1.4999999999999999E-2},{"$f":"MIN(OFFSET(Male!BC$18,'Male Rev'!$A55-35,0),0.03999)","v":1.5900000000000001E-2},{"$f":"MIN(OFFSET(Male!BD$18,'Male Rev'!$A55-35,0),0.03999)","v":1.6799999999999999E-2},{"$f":"MIN(OFFSET(Male!BE$18,'Male Rev'!$A55-35,0),0.03999)","v":1.7899999999999999E-2},{"$f":"MIN(OFFSET(Male!BF$18,'Male Rev'!$A55-35,0),0.03999)","v":1.8499999999999999E-2},{"$f":"MIN(OFFSET(Male!BG$18,'Male Rev'!$A55-35,0),0.03999)","v":1.8100000000000002E-2},{"$f":"MIN(OFFSET(Male!BH$18,'Male Rev'!$A55-35,0),0.03999)","v":1.66E-2},{"$f":"MIN(OFFSET(Male!BI$18,'Male Rev'!$A55-35,0),0.03999)","v":1.4E-2},{"$f":"MIN(OFFSET(Male!BJ$18,'Male Rev'!$A55-35,0),0.03999)","v":0.01},{"$f":"MIN(OFFSET(Male!BK$18,'Male Rev'!$A55-35,0),0.03999)","v":5.4000000000000003E-3},{"$f":"MIN(OFFSET(Male!BL$18,'Male Rev'!$A55-35,0),0.03999)","v":5.0000000000000001E-4},{"$f":"MIN(OFFSET(Male!BM$18,'Male Rev'!$A55-35,0),0.03999)","v":-4.1000000000000003E-3},{"$f":"MIN(OFFSET(Male!BN$18,'Male Rev'!$A55-35,0),0.03999)","v":-7.9000000000000008E-3},{"$f":"MIN(OFFSET(Male!BO$18,'Male Rev'!$A55-35,0),0.03999)","v":-9.4000000000000004E-3},{"$f":"MIN(OFFSET(Male!BP$18,'Male Rev'!$A55-35,0),0.03999)","v":-1.04E-2},{"$f":"MIN(OFFSET(Male!BQ$18,'Male Rev'!$A55-35,0),0.03999)","v":-1.0699999999999999E-2},{"$f":"MIN(OFFSET(Male!BR$18,'Male Rev'!$A55-35,0),0.03999)","v":-1.0500000000000001E-2},{"$f":"MIN(OFFSET(Male!BS$18,'Male Rev'!$A55-35,0),0.03999)","v":-9.7000000000000003E-3},{"$f":"MIN(OFFSET(Male!BT$18,'Male Rev'!$A55-35,0),0.03999)","v":-8.5000000000000006E-3},{"$f":"MIN(OFFSET(Male!BU$18,'Male Rev'!$A55-35,0),0.03999)","v":-6.8999999999999999E-3},{"$f":"MIN(OFFSET(Male!BV$18,'Male Rev'!$A55-35,0),0.03999)","v":-5.1000000000000004E-3},{"$f":"MIN(OFFSET(Male!BW$18,'Male Rev'!$A55-35,0),0.03999)","v":-3.2000000000000002E-3},{"$f":"MIN(OFFSET(Male!BX$18,'Male Rev'!$A55-35,0),0.03999)","v":-1.4E-3},{"$f":"MIN(OFFSET(Male!BY$18,'Male Rev'!$A55-35,0),0.03999)","v":2.0000000000000001E-4},{"$f":"MIN(OFFSET(Male!BZ$18,'Male Rev'!$A55-35,0),0.03999)","v":2E-3},{"$f":"MIN(OFFSET(Male!CA$18,'Male Rev'!$A55-35,0),0.03999)","v":3.7000000000000002E-3},{"$f":"MIN(OFFSET(Male!CB$18,'Male Rev'!$A55-35,0),0.03999)","v":5.4000000000000003E-3},{"$f":"MIN(OFFSET(Male!CC$18,'Male Rev'!$A55-35,0),0.03999)","v":6.7999999999999996E-3},{"$f":"MIN(OFFSET(Male!CD$18,'Male Rev'!$A55-35,0),0.03999)","v":8.0000000000000002E-3},{"$f":"MIN(OFFSET(Male!CE$18,'Male Rev'!$A55-35,0),0.03999)","v":8.8999999999999999E-3},{"$f":"MIN(OFFSET(Male!CF$18,'Male Rev'!$A55-35,0),0.03999)","v":9.4999999999999998E-3},{"$f":"MIN(OFFSET(Male!CG$18,'Male Rev'!$A55-35,0),0.03999)","v":9.9000000000000008E-3},{"$f":"MIN(OFFSET(Male!CH$18,'Male Rev'!$A55-35,0),0.03999)","v":0.01}]
[42,42,{"$f":"MIN(OFFSET(Male!B$18,'Male Rev'!$A56-35,0),0.03999)","v":1.77E-2},{"$f":"MIN(OFFSET(Male!C$18,'Male Rev'!$A56-35,0),0.03999)","v":1.7600000000000001E-2},{"$f":"MIN(OFFSET(Male!D$18,'Male Rev'!$A56-35,0),0.03999)","v":1.7100000000000001E-2},{"$f":"MIN(OFFSET(Male!E$18,'Male Rev'!$A56-35,0),0.03999)","v":1.6E-2},{"$f":"MIN(OFFSET(Male!F$18,'Male Rev'!$A56-35,0),0.03999)","v":1.4E-2},{"$f":"MIN(OFFSET(Male!G$18,'Male Rev'!$A56-35,0),0.03999)","v":1.15E-2},{"$f":"MIN(OFFSET(Male!H$18,'Male Rev'!$A56-35,0),0.03999)","v":8.8000000000000005E-3},{"$f":"MIN(OFFSET(Male!I$18,'Male Rev'!$A56-35,0),0.03999)","v":6.3E-3},{"$f":"MIN(OFFSET(Male!J$18,'Male Rev'!$A56-35,0),0.03999)","v":3.7000000000000002E-3},{"$f":"MIN(OFFSET(Male!K$18,'Male Rev'!$A56-35,0),0.03999)","v":1.1999999999999999E-3},{"$f":"MIN(OFFSET(Male!L$18,'Male Rev'!$A56-35,0),0.03999)","v":-1E-3},{"$f":"MIN(OFFSET(Male!M$18,'Male Rev'!$A56-35,0),0.03999)","v":-2.8999999999999998E-3},{"$f":"MIN(OFFSET(Male!N$18,'Male Rev'!$A56-35,0),0.03999)","v":-4.1999999999999997E-3},{"$f":"MIN(OFFSET(Male!O$18,'Male Rev'!$A56-35,0),0.03999)","v":-4.8999999999999998E-3},{"$f":"MIN(OFFSET(Male!P$18,'Male Rev'!$A56-35,0),0.03999)","v":-4.7000000000000002E-3},{"$f":"MIN(OFFSET(Male!Q$18,'Male Rev'!$A56-35,0),0.03999)","v":-3.7000000000000002E-3},{"$f":"MIN(OFFSET(Male!R$18,'Male Rev'!$A56-35,0),0.03999)","v":-1.6999999999999999E-3},{"$f":"MIN(OFFSET(Male!S$18,'Male Rev'!$A56-35,0),0.03999)","v":1.1000000000000001E-3},{"$f":"MIN(OFFSET(Male!T$18,'Male Rev'!$A56-35,0),0.03999)","v":4.8999999999999998E-3},{"$f":"MIN(OFFSET(Male!U$18,'Male Rev'!$A56-35,0),0.03999)","v":9.2999999999999992E-3},{"$f":"MIN(OFFSET(Male!V$18,'Male Rev'!$A56-35,0),0.03999)","v":1.38E-2},{"$f":"MIN(OFFSET(Male!W$18,'Male Rev'!$A56-35,0),0.03999)","v":1.8100000000000002E-2},{"$f":"MIN(OFFSET(Male!X$18,'Male Rev'!$A56-35,0),0.03999)","v":2.1899999999999999E-2},{"$f":"MIN(OFFSET(Male!Y$18,'Male Rev'!$A56-35,0),0.03999)","v":2.5000000000000001E-2},{"$f":"MIN(OFFSET(Male!Z$18,'Male Rev'!$A56-35,0),0.03999)","v":2.7099999999999999E-2},{"$f":"MIN(OFFSET(Male!AA$18,'Male Rev'!$A56-35,0),0.03999)","v":2.8199999999999999E-2},{"$f":"MIN(OFFSET(Male!AB$18,'Male Rev'!$A56-35,0),0.03999)","v":2.8199999999999999E-2},{"$f":"MIN(OFFSET(Male!AC$18,'Male Rev'!$A56-35,0),0.03999)","v":2.7400000000000001E-2},{"$f":"MIN(OFFSET(Male!AD$18,'Male Rev'!$A56-35,0),0.03999)","v":2.5600000000000001E-2},{"$f":"MIN(OFFSET(Male!AE$18,'Male Rev'!$A56-35,0),0.03999)","v":2.29E-2},{"$f":"MIN(OFFSET(Male!AF$18,'Male Rev'!$A56-35,0),0.03999)","v":1.9599999999999999E-2},{"$f":"MIN(OFFSET(Male!AG$18,'Male Rev'!$A56-35,0),0.03999)","v":1.54E-2},{"$f":"MIN(OFFSET(Male!AH$18,'Male Rev'!$A56-35,0),0.03999)","v":1.0500000000000001E-2},{"$f":"MIN(OFFSET(Male!AI$18,'Male Rev'!$A56-35,0),0.03999)","v":5.4000000000000003E-3},{"$f":"MIN(OFFSET(Male!AJ$18,'Male Rev'!$A56-35,0),0.03999)","v":6.9999999999999999E-4},{"$f":"MIN(OFFSET(Male!AK$18,'Male Rev'!$A56-35,0),0.03999)","v":-3.0999999999999999E-3},{"$f":"MIN(OFFSET(Male!AL$18,'Male Rev'!$A56-35,0),0.03999)","v":-5.8999999999999999E-3},{"$f":"MIN(OFFSET(Male!AM$18,'Male Rev'!$A56-35,0),0.03999)","v":-7.4999999999999997E-3},{"$f":"MIN(OFFSET(Male!AN$18,'Male Rev'!$A56-35,0),0.03999)","v":-7.7999999999999996E-3},{"$f":"MIN(OFFSET(Male!AO$18,'Male Rev'!$A56-35,0),0.03999)","v":-6.7000000000000002E-3},{"$f":"MIN(OFFSET(Male!AP$18,'Male Rev'!$A56-35,0),0.03999)","v":-4.4999999999999997E-3},{"$f":"MIN(OFFSET(Male!AQ$18,'Male Rev'!$A56-35,0),0.03999)","v":-8.9999999999999998E-4},{"$f":"MIN(OFFSET(Male!AR$18,'Male Rev'!$A56-35,0),0.03999)","v":4.1999999999999997E-3},{"$f":"MIN(OFFSET(Male!AS$18,'Male Rev'!$A56-35,0),0.03999)","v":1.03E-2},{"$f":"MIN(OFFSET(Male!AT$18,'Male Rev'!$A56-35,0),0.03999)","v":1.67E-2},{"$f":"MIN(OFFSET(Male!AU$18,'Male Rev'!$A56-35,0),0.03999)","v":2.1899999999999999E-2},{"$f":"MIN(OFFSET(Male!AV$18,'Male Rev'!$A56-35,0),0.03999)","v":2.4400000000000002E-2},{"$f":"MIN(OFFSET(Male!AW$18,'Male Rev'!$A56-35,0),0.03999)","v":2.41E-2},{"$f":"MIN(OFFSET(Male!AX$18,'Male Rev'!$A56-35,0),0.03999)","v":2.2100000000000002E-2},{"$f":"MIN(OFFSET(Male!AY$18,'Male Rev'!$A56-35,0),0.03999)","v":1.9599999999999999E-2},{"$f":"MIN(OFFSET(Male!AZ$18,'Male Rev'!$A56-35,0),0.03999)","v":1.7500000000000002E-2},{"$f":"MIN(OFFSET(Male!BA$18,'Male Rev'!$A56-35,0),0.03999)","v":1.6299999999999999E-2},{"$f":"MIN(OFFSET(Male!BB$18,'Male Rev'!$A56-35,0),0.03999)","v":1.6199999999999999E-2},{"$f":"MIN(OFFSET(Male!BC$18,'Male Rev'!$A56-35,0),0.03999)","v":1.6799999999999999E-2},{"$f":"MIN(OFFSET(Male!BD$18,'Male Rev'!$A56-35,0),0.03999)","v":1.7299999999999999E-2},{"$f":"MIN(OFFSET(Male!BE$18,'Male Rev'!$A56-35,0),0.03999)","v":1.8100000000000002E-2},{"$f":"MIN(OFFSET(Male!BF$18,'Male Rev'!$A56-35,0),0.03999)","v":1.84E-2},{"$f":"MIN(OFFSET(Male!BG$18,'Male Rev'!$A56-35,0),0.03999)","v":1.77E-2},{"$f":"MIN(OFFSET(Male!BH$18,'Male Rev'!$A56-35,0),0.03999)","v":1.5800000000000002E-2},{"$f":"MIN(OFFSET(Male!BI$18,'Male Rev'!$A56-35,0),0.03999)","v":1.2800000000000001E-2},{"$f":"MIN(OFFSET(Male!BJ$18,'Male Rev'!$A56-35,0),0.03999)","v":8.3000000000000001E-3},{"$f":"MIN(OFFSET(Male!BK$18,'Male Rev'!$A56-35,0),0.03999)","v":3.0999999999999999E-3},{"$f":"MIN(OFFSET(Male!BL$18,'Male Rev'!$A56-35,0),0.03999)","v":-2.3999999999999998E-3},{"$f":"MIN(OFFSET(Male!BM$18,'Male Rev'!$A56-35,0),0.03999)","v":-7.4000000000000003E-3},{"$f":"MIN(OFFSET(Male!BN$18,'Male Rev'!$A56-35,0),0.03999)","v":-1.1599999999999999E-2},{"$f":"MIN(OFFSET(Male!BO$18,'Male Rev'!$A56-35,0),0.03999)","v":-1.3100000000000001E-2},{"$f":"MIN(OFFSET(Male!BP$18,'Male Rev'!$A56-35,0),0.03999)","v":-1.38E-2},{"$f":"MIN(OFFSET(Male!BQ$18,'Male Rev'!$A56-35,0),0.03999)","v":-1.3899999999999999E-2},{"$f":"MIN(OFFSET(Male!BR$18,'Male Rev'!$A56-35,0),0.03999)","v":-1.32E-2},{"$f":"MIN(OFFSET(Male!BS$18,'Male Rev'!$A56-35,0),0.03999)","v":-1.1900000000000001E-2},{"$f":"MIN(OFFSET(Male!BT$18,'Male Rev'!$A56-35,0),0.03999)","v":-1.01E-2},{"$f":"MIN(OFFSET(Male!BU$18,'Male Rev'!$A56-35,0),0.03999)","v":-8.0000000000000002E-3},{"$f":"MIN(OFFSET(Male!BV$18,'Male Rev'!$A56-35,0),0.03999)","v":-5.7000000000000002E-3},{"$f":"MIN(OFFSET(Male!BW$18,'Male Rev'!$A56-35,0),0.03999)","v":-3.3999999999999998E-3},{"$f":"MIN(OFFSET(Male!BX$18,'Male Rev'!$A56-35,0),0.03999)","v":-1.5E-3},{"$f":"MIN(OFFSET(Male!BY$18,'Male Rev'!$A56-35,0),0.03999)","v":2.9999999999999997E-4},{"$f":"MIN(OFFSET(Male!BZ$18,'Male Rev'!$A56-35,0),0.03999)","v":2.2000000000000001E-3},{"$f":"MIN(OFFSET(Male!CA$18,'Male Rev'!$A56-35,0),0.03999)","v":3.8999999999999998E-3},{"$f":"MIN(OFFSET(Male!CB$18,'Male Rev'!$A56-35,0),0.03999)","v":5.5999999999999999E-3},{"$f":"MIN(OFFSET(Male!CC$18,'Male Rev'!$A56-35,0),0.03999)","v":7.0000000000000001E-3},{"$f":"MIN(OFFSET(Male!CD$18,'Male Rev'!$A56-35,0),0.03999)","v":8.0999999999999996E-3},{"$f":"MIN(OFFSET(Male!CE$18,'Male Rev'!$A56-35,0),0.03999)","v":8.9999999999999993E-3},{"$f":"MIN(OFFSET(Male!CF$18,'Male Rev'!$A56-35,0),0.03999)","v":9.5999999999999992E-3},{"$f":"MIN(OFFSET(Male!CG$18,'Male Rev'!$A56-35,0),0.03999)","v":9.9000000000000008E-3},{"$f":"MIN(OFFSET(Male!CH$18,'Male Rev'!$A56-35,0),0.03999)","v":0.01}]
[41,41,{"$f":"MIN(OFFSET(Male!B$18,'Male Rev'!$A57-35,0),0.03999)","v":1.8499999999999999E-2},{"$f":"MIN(OFFSET(Male!C$18,'Male Rev'!$A57-35,0),0.03999)","v":1.84E-2},{"$f":"MIN(OFFSET(Male!D$18,'Male Rev'!$A57-35,0),0.03999)","v":1.78E-2},{"$f":"MIN(OFFSET(Male!E$18,'Male Rev'!$A57-35,0),0.03999)","v":1.66E-2},{"$f":"MIN(OFFSET(Male!F$18,'Male Rev'!$A57-35,0),0.03999)","v":1.44E-2},{"$f":"MIN(OFFSET(Male!G$18,'Male Rev'!$A57-35,0),0.03999)","v":1.18E-2},{"$f":"MIN(OFFSET(Male!H$18,'Male Rev'!$A57-35,0),0.03999)","v":8.8999999999999999E-3},{"$f":"MIN(OFFSET(Male!I$18,'Male Rev'!$A57-35,0),0.03999)","v":6.1999999999999998E-3},{"$f":"MIN(OFFSET(Male!J$18,'Male Rev'!$A57-35,0),0.03999)","v":3.5000000000000001E-3},{"$f":"MIN(OFFSET(Male!K$18,'Male Rev'!$A57-35,0),0.03999)","v":8.0000000000000004E-4},{"$f":"MIN(OFFSET(Male!L$18,'Male Rev'!$A57-35,0),0.03999)","v":-1.5E-3},{"$f":"MIN(OFFSET(Male!M$18,'Male Rev'!$A57-35,0),0.03999)","v":-3.5000000000000001E-3},{"$f":"MIN(OFFSET(Male!N$18,'Male Rev'!$A57-35,0),0.03999)","v":-5.0000000000000001E-3},{"$f":"MIN(OFFSET(Male!O$18,'Male Rev'!$A57-35,0),0.03999)","v":-5.7000000000000002E-3},{"$f":"MIN(OFFSET(Male!P$18,'Male Rev'!$A57-35,0),0.03999)","v":-5.4999999999999997E-3},{"$f":"MIN(OFFSET(Male!Q$18,'Male Rev'!$A57-35,0),0.03999)","v":-4.4999999999999997E-3},{"$f":"MIN(OFFSET(Male!R$18,'Male Rev'!$A57-35,0),0.03999)","v":-2.5000000000000001E-3},{"$f":"MIN(OFFSET(Male!S$18,'Male Rev'!$A57-35,0),0.03999)","v":4.0000000000000002E-4},{"$f":"MIN(OFFSET(Male!T$18,'Male Rev'!$A57-35,0),0.03999)","v":4.3E-3},{"$f":"MIN(OFFSET(Male!U$18,'Male Rev'!$A57-35,0),0.03999)","v":8.8999999999999999E-3},{"$f":"MIN(OFFSET(Male!V$18,'Male Rev'!$A57-35,0),0.03999)","v":1.3599999999999999E-2},{"$f":"MIN(OFFSET(Male!W$18,'Male Rev'!$A57-35,0),0.03999)","v":1.7999999999999999E-2},{"$f":"MIN(OFFSET(Male!X$18,'Male Rev'!$A57-35,0),0.03999)","v":2.18E-2},{"$f":"MIN(OFFSET(Male!Y$18,'Male Rev'!$A57-35,0),0.03999)","v":2.4899999999999999E-2},{"$f":"MIN(OFFSET(Male!Z$18,'Male Rev'!$A57-35,0),0.03999)","v":2.7E-2},{"$f":"MIN(OFFSET(Male!AA$18,'Male Rev'!$A57-35,0),0.03999)","v":2.8000000000000001E-2},{"$f":"MIN(OFFSET(Male!AB$18,'Male Rev'!$A57-35,0),0.03999)","v":2.7900000000000001E-2},{"$f":"MIN(OFFSET(Male!AC$18,'Male Rev'!$A57-35,0),0.03999)","v":2.69E-2},{"$f":"MIN(OFFSET(Male!AD$18,'Male Rev'!$A57-35,0),0.03999)","v":2.4899999999999999E-2},{"$f":"MIN(OFFSET(Male!AE$18,'Male Rev'!$A57-35,0),0.03999)","v":2.1999999999999999E-2},{"$f":"MIN(OFFSET(Male!AF$18,'Male Rev'!$A57-35,0),0.03999)","v":1.83E-2},{"$f":"MIN(OFFSET(Male!AG$18,'Male Rev'!$A57-35,0),0.03999)","v":1.37E-2},{"$f":"MIN(OFFSET(Male!AH$18,'Male Rev'!$A57-35,0),0.03999)","v":8.3000000000000001E-3},{"$f":"MIN(OFFSET(Male!AI$18,'Male Rev'!$A57-35,0),0.03999)","v":2.7000000000000001E-3},{"$f":"MIN(OFFSET(Male!AJ$18,'Male Rev'!$A57-35,0),0.03999)","v":-2.3E-3},{"$f":"MIN(OFFSET(Male!AK$18,'Male Rev'!$A57-35,0),0.03999)","v":-6.4000000000000003E-3},{"$f":"MIN(OFFSET(Male!AL$18,'Male Rev'!$A57-35,0),0.03999)","v":-9.1000000000000004E-3},{"$f":"MIN(OFFSET(Male!AM$18,'Male Rev'!$A57-35,0),0.03999)","v":-1.0500000000000001E-2},{"$f":"MIN(OFFSET(Male!AN$18,'Male Rev'!$A57-35,0),0.03999)","v":-1.03E-2},{"$f":"MIN(OFFSET(Male!AO$18,'Male Rev'!$A57-35,0),0.03999)","v":-8.6E-3},{"$f":"MIN(OFFSET(Male!AP$18,'Male Rev'!$A57-35,0),0.03999)","v":-5.5999999999999999E-3},{"$f":"MIN(OFFSET(Male!AQ$18,'Male Rev'!$A57-35,0),0.03999)","v":-1.2999999999999999E-3},{"$f":"MIN(OFFSET(Male!AR$18,'Male Rev'!$A57-35,0),0.03999)","v":4.5999999999999999E-3},{"$f":"MIN(OFFSET(Male!AS$18,'Male Rev'!$A57-35,0),0.03999)","v":1.17E-2},{"$f":"MIN(OFFSET(Male!AT$18,'Male Rev'!$A57-35,0),0.03999)","v":1.89E-2},{"$f":"MIN(OFFSET(Male!AU$18,'Male Rev'!$A57-35,0),0.03999)","v":2.4799999999999999E-2},{"$f":"MIN(OFFSET(Male!AV$18,'Male Rev'!$A57-35,0),0.03999)","v":2.76E-2},{"$f":"MIN(OFFSET(Male!AW$18,'Male Rev'!$A57-35,0),0.03999)","v":2.7199999999999998E-2},{"$f":"MIN(OFFSET(Male!AX$18,'Male Rev'!$A57-35,0),0.03999)","v":2.4799999999999999E-2},{"$f":"MIN(OFFSET(Male!AY$18,'Male Rev'!$A57-35,0),0.03999)","v":2.1899999999999999E-2},{"$f":"MIN(OFFSET(Male!AZ$18,'Male Rev'!$A57-35,0),0.03999)","v":1.9300000000000001E-2},{"$f":"MIN(OFFSET(Male!BA$18,'Male Rev'!$A57-35,0),0.03999)","v":1.77E-2},{"$f":"MIN(OFFSET(Male!BB$18,'Male Rev'!$A57-35,0),0.03999)","v":1.7299999999999999E-2},{"$f":"MIN(OFFSET(Male!BC$18,'Male Rev'!$A57-35,0),0.03999)","v":1.7399999999999999E-2},{"$f":"MIN(OFFSET(Male!BD$18,'Male Rev'!$A57-35,0),0.03999)","v":1.7600000000000001E-2},{"$f":"MIN(OFFSET(Male!BE$18,'Male Rev'!$A57-35,0),0.03999)","v":1.7899999999999999E-2},{"$f":"MIN(OFFSET(Male!BF$18,'Male Rev'!$A57-35,0),0.03999)","v":1.78E-2},{"$f":"MIN(OFFSET(Male!BG$18,'Male Rev'!$A57-35,0),0.03999)","v":1.6799999999999999E-2},{"$f":"MIN(OFFSET(Male!BH$18,'Male Rev'!$A57-35,0),0.03999)","v":1.4500000000000001E-2},{"$f":"MIN(OFFSET(Male!BI$18,'Male Rev'!$A57-35,0),0.03999)","v":1.11E-2},{"$f":"MIN(OFFSET(Male!BJ$18,'Male Rev'!$A57-35,0),0.03999)","v":6.1000000000000004E-3},{"$f":"MIN(OFFSET(Male!BK$18,'Male Rev'!$A57-35,0),0.03999)","v":5.0000000000000001E-4},{"$f":"MIN(OFFSET(Male!BL$18,'Male Rev'!$A57-35,0),0.03999)","v":-5.4000000000000003E-3},{"$f":"MIN(OFFSET(Male!BM$18,'Male Rev'!$A57-35,0),0.03999)","v":-1.09E-2},{"$f":"MIN(OFFSET(Male!BN$18,'Male Rev'!$A57-35,0),0.03999)","v":-1.54E-2},{"$f":"MIN(OFFSET(Male!BO$18,'Male Rev'!$A57-35,0),0.03999)","v":-1.6799999999999999E-2},{"$f":"MIN(OFFSET(Male!BP$18,'Male Rev'!$A57-35,0),0.03999)","v":-1.7299999999999999E-2},{"$f":"MIN(OFFSET(Male!BQ$18,'Male Rev'!$A57-35,0),0.03999)","v":-1.6899999999999998E-2},{"$f":"MIN(OFFSET(Male!BR$18,'Male Rev'!$A57-35,0),0.03999)","v":-1.5800000000000002E-2},{"$f":"MIN(OFFSET(Male!BS$18,'Male Rev'!$A57-35,0),0.03999)","v":-1.3899999999999999E-2},{"$f":"MIN(OFFSET(Male!BT$18,'Male Rev'!$A57-35,0),0.03999)","v":-1.1599999999999999E-2},{"$f":"MIN(OFFSET(Male!BU$18,'Male Rev'!$A57-35,0),0.03999)","v":-8.8999999999999999E-3},{"$f":"MIN(OFFSET(Male!BV$18,'Male Rev'!$A57-35,0),0.03999)","v":-6.1000000000000004E-3},{"$f":"MIN(OFFSET(Male!BW$18,'Male Rev'!$A57-35,0),0.03999)","v":-3.5000000000000001E-3},{"$f":"MIN(OFFSET(Male!BX$18,'Male Rev'!$A57-35,0),0.03999)","v":-1.4E-3},{"$f":"MIN(OFFSET(Male!BY$18,'Male Rev'!$A57-35,0),0.03999)","v":5.0000000000000001E-4},{"$f":"MIN(OFFSET(Male!BZ$18,'Male Rev'!$A57-35,0),0.03999)","v":2.3999999999999998E-3},{"$f":"MIN(OFFSET(Male!CA$18,'Male Rev'!$A57-35,0),0.03999)","v":4.1999999999999997E-3},{"$f":"MIN(OFFSET(Male!CB$18,'Male Rev'!$A57-35,0),0.03999)","v":5.7999999999999996E-3},{"$f":"MIN(OFFSET(Male!CC$18,'Male Rev'!$A57-35,0),0.03999)","v":7.1999999999999998E-3},{"$f":"MIN(OFFSET(Male!CD$18,'Male Rev'!$A57-35,0),0.03999)","v":8.3000000000000001E-3},{"$f":"MIN(OFFSET(Male!CE$18,'Male Rev'!$A57-35,0),0.03999)","v":9.1000000000000004E-3},{"$f":"MIN(OFFSET(Male!CF$18,'Male Rev'!$A57-35,0),0.03999)","v":9.5999999999999992E-3},{"$f":"MIN(OFFSET(Male!CG$18,'Male Rev'!$A57-35,0),0.03999)","v":9.9000000000000008E-3},{"$f":"MIN(OFFSET(Male!CH$18,'Male Rev'!$A57-35,0),0.03999)","v":0.01}]
[40,40,{"$f":"MIN(OFFSET(Male!B$18,'Male Rev'!$A58-35,0),0.03999)","v":1.9199999999999998E-2},{"$f":"MIN(OFFSET(Male!C$18,'Male Rev'!$A58-35,0),0.03999)","v":1.9099999999999999E-2},{"$f":"MIN(OFFSET(Male!D$18,'Male Rev'!$A58-35,0),0.03999)","v":1.8499999999999999E-2},{"$f":"MIN(OFFSET(Male!E$18,'Male Rev'!$A58-35,0),0.03999)","v":1.7100000000000001E-2},{"$f":"MIN(OFFSET(Male!F$18,'Male Rev'!$A58-35,0),0.03999)","v":1.4800000000000001E-2},{"$f":"MIN(OFFSET(Male!G$18,'Male Rev'!$A58-35,0),0.03999)","v":1.2E-2},{"$f":"MIN(OFFSET(Male!H$18,'Male Rev'!$A58-35,0),0.03999)","v":8.9999999999999993E-3},{"$f":"MIN(OFFSET(Male!I$18,'Male Rev'!$A58-35,0),0.03999)","v":6.1000000000000004E-3},{"$f":"MIN(OFFSET(Male!J$18,'Male Rev'!$A58-35,0),0.03999)","v":3.3E-3},{"$f":"MIN(OFFSET(Male!K$18,'Male Rev'!$A58-35,0),0.03999)","v":5.0000000000000001E-4},{"$f":"MIN(OFFSET(Male!L$18,'Male Rev'!$A58-35,0),0.03999)","v":-2.0999999999999999E-3},{"$f":"MIN(OFFSET(Male!M$18,'Male Rev'!$A58-35,0),0.03999)","v":-4.1999999999999997E-3},{"$f":"MIN(OFFSET(Male!N$18,'Male Rev'!$A58-35,0),0.03999)","v":-5.7000000000000002E-3},{"$f":"MIN(OFFSET(Male!O$18,'Male Rev'!$A58-35,0),0.03999)","v":-6.4999999999999997E-3},{"$f":"MIN(OFFSET(Male!P$18,'Male Rev'!$A58-35,0),0.03999)","v":-6.4000000000000003E-3},{"$f":"MIN(OFFSET(Male!Q$18,'Male Rev'!$A58-35,0),0.03999)","v":-5.3E-3},{"$f":"MIN(OFFSET(Male!R$18,'Male Rev'!$A58-35,0),0.03999)","v":-3.3E-3},{"$f":"MIN(OFFSET(Male!S$18,'Male Rev'!$A58-35,0),0.03999)","v":-2.0000000000000001E-4},{"$f":"MIN(OFFSET(Male!T$18,'Male Rev'!$A58-35,0),0.03999)","v":3.7000000000000002E-3},{"$f":"MIN(OFFSET(Male!U$18,'Male Rev'!$A58-35,0),0.03999)","v":8.3999999999999995E-3},{"$f":"MIN(OFFSET(Male!V$18,'Male Rev'!$A58-35,0),0.03999)","v":1.32E-2},{"$f":"MIN(OFFSET(Male!W$18,'Male Rev'!$A58-35,0),0.03999)","v":1.77E-2},{"$f":"MIN(OFFSET(Male!X$18,'Male Rev'!$A58-35,0),0.03999)","v":2.1600000000000001E-2},{"$f":"MIN(OFFSET(Male!Y$18,'Male Rev'!$A58-35,0),0.03999)","v":2.4799999999999999E-2},{"$f":"MIN(OFFSET(Male!Z$18,'Male Rev'!$A58-35,0),0.03999)","v":2.6800000000000001E-2},{"$f":"MIN(OFFSET(Male!AA$18,'Male Rev'!$A58-35,0),0.03999)","v":2.7699999999999999E-2},{"$f":"MIN(OFFSET(Male!AB$18,'Male Rev'!$A58-35,0),0.03999)","v":2.75E-2},{"$f":"MIN(OFFSET(Male!AC$18,'Male Rev'!$A58-35,0),0.03999)","v":2.63E-2},{"$f":"MIN(OFFSET(Male!AD$18,'Male Rev'!$A58-35,0),0.03999)","v":2.41E-2},{"$f":"MIN(OFFSET(Male!AE$18,'Male Rev'!$A58-35,0),0.03999)","v":2.0899999999999998E-2},{"$f":"MIN(OFFSET(Male!AF$18,'Male Rev'!$A58-35,0),0.03999)","v":1.6899999999999998E-2},{"$f":"MIN(OFFSET(Male!AG$18,'Male Rev'!$A58-35,0),0.03999)","v":1.1900000000000001E-2},{"$f":"MIN(OFFSET(Male!AH$18,'Male Rev'!$A58-35,0),0.03999)","v":6.1000000000000004E-3},{"$f":"MIN(OFFSET(Male!AI$18,'Male Rev'!$A58-35,0),0.03999)","v":1E-4},{"$f":"MIN(OFFSET(Male!AJ$18,'Male Rev'!$A58-35,0),0.03999)","v":-5.4000000000000003E-3},{"$f":"MIN(OFFSET(Male!AK$18,'Male Rev'!$A58-35,0),0.03999)","v":-9.5999999999999992E-3},{"$f":"MIN(OFFSET(Male!AL$18,'Male Rev'!$A58-35,0),0.03999)","v":-1.23E-2},{"$f":"MIN(OFFSET(Male!AM$18,'Male Rev'!$A58-35,0),0.03999)","v":-1.3299999999999999E-2},{"$f":"MIN(OFFSET(Male!AN$18,'Male Rev'!$A58-35,0),0.03999)","v":-1.2500000000000001E-2},{"$f":"MIN(OFFSET(Male!AO$18,'Male Rev'!$A58-35,0),0.03999)","v":-1.01E-2},{"$f":"MIN(OFFSET(Male!AP$18,'Male Rev'!$A58-35,0),0.03999)","v":-6.4000000000000003E-3},{"$f":"MIN(OFFSET(Male!AQ$18,'Male Rev'!$A58-35,0),0.03999)","v":-1.1999999999999999E-3},{"$f":"MIN(OFFSET(Male!AR$18,'Male Rev'!$A58-35,0),0.03999)","v":5.5999999999999999E-3},{"$f":"MIN(OFFSET(Male!AS$18,'Male Rev'!$A58-35,0),0.03999)","v":1.35E-2},{"$f":"MIN(OFFSET(Male!AT$18,'Male Rev'!$A58-35,0),0.03999)","v":2.1399999999999999E-2},{"$f":"MIN(OFFSET(Male!AU$18,'Male Rev'!$A58-35,0),0.03999)","v":2.7799999999999998E-2},{"$f":"MIN(OFFSET(Male!AV$18,'Male Rev'!$A58-35,0),0.03999)","v":3.09E-2},{"$f":"MIN(OFFSET(Male!AW$18,'Male Rev'!$A58-35,0),0.03999)","v":3.0300000000000001E-2},{"$f":"MIN(OFFSET(Male!AX$18,'Male Rev'!$A58-35,0),0.03999)","v":2.75E-2},{"$f":"MIN(OFFSET(Male!AY$18,'Male Rev'!$A58-35,0),0.03999)","v":2.4E-2},{"$f":"MIN(OFFSET(Male!AZ$18,'Male Rev'!$A58-35,0),0.03999)","v":2.1000000000000001E-2},{"$f":"MIN(OFFSET(Male!BA$18,'Male Rev'!$A58-35,0),0.03999)","v":1.89E-2},{"$f":"MIN(OFFSET(Male!BB$18,'Male Rev'!$A58-35,0),0.03999)","v":1.7999999999999999E-2},{"$f":"MIN(OFFSET(Male!BC$18,'Male Rev'!$A58-35,0),0.03999)","v":1.77E-2},{"$f":"MIN(OFFSET(Male!BD$18,'Male Rev'!$A58-35,0),0.03999)","v":1.7399999999999999E-2},{"$f":"MIN(OFFSET(Male!BE$18,'Male Rev'!$A58-35,0),0.03999)","v":1.7299999999999999E-2},{"$f":"MIN(OFFSET(Male!BF$18,'Male Rev'!$A58-35,0),0.03999)","v":1.6799999999999999E-2},{"$f":"MIN(OFFSET(Male!BG$18,'Male Rev'!$A58-35,0),0.03999)","v":1.55E-2},{"$f":"MIN(OFFSET(Male!BH$18,'Male Rev'!$A58-35,0),0.03999)","v":1.29E-2},{"$f":"MIN(OFFSET(Male!BI$18,'Male Rev'!$A58-35,0),0.03999)","v":9.1000000000000004E-3},{"$f":"MIN(OFFSET(Male!BJ$18,'Male Rev'!$A58-35,0),0.03999)","v":3.7000000000000002E-3},{"$f":"MIN(OFFSET(Male!BK$18,'Male Rev'!$A58-35,0),0.03999)","v":-2.3E-3},{"$f":"MIN(OFFSET(Male!BL$18,'Male Rev'!$A58-35,0),0.03999)","v":-8.6E-3},{"$f":"MIN(OFFSET(Male!BM$18,'Male Rev'!$A58-35,0),0.03999)","v":-1.44E-2},{"$f":"MIN(OFFSET(Male!BN$18,'Male Rev'!$A58-35,0),0.03999)","v":-1.9099999999999999E-2},{"$f":"MIN(OFFSET(Male!BO$18,'Male Rev'!$A58-35,0),0.03999)","v":-2.0400000000000001E-2},{"$f":"MIN(OFFSET(Male!BP$18,'Male Rev'!$A58-35,0),0.03999)","v":-2.06E-2},{"$f":"MIN(OFFSET(Male!BQ$18,'Male Rev'!$A58-35,0),0.03999)","v":-1.9800000000000002E-2},{"$f":"MIN(OFFSET(Male!BR$18,'Male Rev'!$A58-35,0),0.03999)","v":-1.8100000000000002E-2},{"$f":"MIN(OFFSET(Male!BS$18,'Male Rev'!$A58-35,0),0.03999)","v":-1.5699999999999999E-2},{"$f":"MIN(OFFSET(Male!BT$18,'Male Rev'!$A58-35,0),0.03999)","v":-1.2800000000000001E-2},{"$f":"MIN(OFFSET(Male!BU$18,'Male Rev'!$A58-35,0),0.03999)","v":-9.5999999999999992E-3},{"$f":"MIN(OFFSET(Male!BV$18,'Male Rev'!$A58-35,0),0.03999)","v":-6.4000000000000003E-3},{"$f":"MIN(OFFSET(Male!BW$18,'Male Rev'!$A58-35,0),0.03999)","v":-3.5000000000000001E-3},{"$f":"MIN(OFFSET(Male!BX$18,'Male Rev'!$A58-35,0),0.03999)","v":-1.1000000000000001E-3},{"$f":"MIN(OFFSET(Male!BY$18,'Male Rev'!$A58-35,0),0.03999)","v":8.9999999999999998E-4},{"$f":"MIN(OFFSET(Male!BZ$18,'Male Rev'!$A58-35,0),0.03999)","v":2.8E-3},{"$f":"MIN(OFFSET(Male!CA$18,'Male Rev'!$A58-35,0),0.03999)","v":4.4999999999999997E-3},{"$f":"MIN(OFFSET(Male!CB$18,'Male Rev'!$A58-35,0),0.03999)","v":6.1000000000000004E-3},{"$f":"MIN(OFFSET(Male!CC$18,'Male Rev'!$A58-35,0),0.03999)","v":7.4000000000000003E-3},{"$f":"MIN(OFFSET(Male!CD$18,'Male Rev'!$A58-35,0),0.03999)","v":8.3999999999999995E-3},{"$f":"MIN(OFFSET(Male!CE$18,'Male Rev'!$A58-35,0),0.03999)","v":9.1999999999999998E-3},{"$f":"MIN(OFFSET(Male!CF$18,'Male Rev'!$A58-35,0),0.03999)","v":9.7000000000000003E-3},{"$f":"MIN(OFFSET(Male!CG$18,'Male Rev'!$A58-35,0),0.03999)","v":9.9000000000000008E-3},{"$f":"MIN(OFFSET(Male!CH$18,'Male Rev'!$A58-35,0),0.03999)","v":0.01}]
[39,39,{"$f":"MIN(OFFSET(Male!B$18,'Male Rev'!$A59-35,0),0.03999)","v":1.9900000000000001E-2},{"$f":"MIN(OFFSET(Male!C$18,'Male Rev'!$A59-35,0),0.03999)","v":1.9699999999999999E-2},{"$f":"MIN(OFFSET(Male!D$18,'Male Rev'!$A59-35,0),0.03999)","v":1.9099999999999999E-2},{"$f":"MIN(OFFSET(Male!E$18,'Male Rev'!$A59-35,0),0.03999)","v":1.7600000000000001E-2},{"$f":"MIN(OFFSET(Male!F$18,'Male Rev'!$A59-35,0),0.03999)","v":1.5100000000000001E-2},{"$f":"MIN(OFFSET(Male!G$18,'Male Rev'!$A59-35,0),0.03999)","v":1.2200000000000001E-2},{"$f":"MIN(OFFSET(Male!H$18,'Male Rev'!$A59-35,0),0.03999)","v":9.1000000000000004E-3},{"$f":"MIN(OFFSET(Male!I$18,'Male Rev'!$A59-35,0),0.03999)","v":6.0000000000000001E-3},{"$f":"MIN(OFFSET(Male!J$18,'Male Rev'!$A59-35,0),0.03999)","v":3.0000000000000001E-3},{"$f":"MIN(OFFSET(Male!K$18,'Male Rev'!$A59-35,0),0.03999)","v":1E-4},{"$f":"MIN(OFFSET(Male!L$18,'Male Rev'!$A59-35,0),0.03999)","v":-2.5999999999999999E-3},{"$f":"MIN(OFFSET(Male!M$18,'Male Rev'!$A59-35,0),0.03999)","v":-4.8999999999999998E-3},{"$f":"MIN(OFFSET(Male!N$18,'Male Rev'!$A59-35,0),0.03999)","v":-6.4999999999999997E-3},{"$f":"MIN(OFFSET(Male!O$18,'Male Rev'!$A59-35,0),0.03999)","v":-7.3000000000000001E-3},{"$f":"MIN(OFFSET(Male!P$18,'Male Rev'!$A59-35,0),0.03999)","v":-7.1999999999999998E-3},{"$f":"MIN(OFFSET(Male!Q$18,'Male Rev'!$A59-35,0),0.03999)","v":-6.1000000000000004E-3},{"$f":"MIN(OFFSET(Male!R$18,'Male Rev'!$A59-35,0),0.03999)","v":-4.0000000000000001E-3},{"$f":"MIN(OFFSET(Male!S$18,'Male Rev'!$A59-35,0),0.03999)","v":-1E-3},{"$f":"MIN(OFFSET(Male!T$18,'Male Rev'!$A59-35,0),0.03999)","v":3.0999999999999999E-3},{"$f":"MIN(OFFSET(Male!U$18,'Male Rev'!$A59-35,0),0.03999)","v":7.7999999999999996E-3},{"$f":"MIN(OFFSET(Male!V$18,'Male Rev'!$A59-35,0),0.03999)","v":1.2699999999999999E-2},{"$f":"MIN(OFFSET(Male!W$18,'Male Rev'!$A59-35,0),0.03999)","v":1.7299999999999999E-2},{"$f":"MIN(OFFSET(Male!X$18,'Male Rev'!$A59-35,0),0.03999)","v":2.1299999999999999E-2},{"$f":"MIN(OFFSET(Male!Y$18,'Male Rev'!$A59-35,0),0.03999)","v":2.4500000000000001E-2},{"$f":"MIN(OFFSET(Male!Z$18,'Male Rev'!$A59-35,0),0.03999)","v":2.6499999999999999E-2},{"$f":"MIN(OFFSET(Male!AA$18,'Male Rev'!$A59-35,0),0.03999)","v":2.7400000000000001E-2},{"$f":"MIN(OFFSET(Male!AB$18,'Male Rev'!$A59-35,0),0.03999)","v":2.7E-2},{"$f":"MIN(OFFSET(Male!AC$18,'Male Rev'!$A59-35,0),0.03999)","v":2.5600000000000001E-2},{"$f":"MIN(OFFSET(Male!AD$18,'Male Rev'!$A59-35,0),0.03999)","v":2.3099999999999999E-2},{"$f":"MIN(OFFSET(Male!AE$18,'Male Rev'!$A59-35,0),0.03999)","v":1.9699999999999999E-2},{"$f":"MIN(OFFSET(Male!AF$18,'Male Rev'!$A59-35,0),0.03999)","v":1.54E-2},{"$f":"MIN(OFFSET(Male!AG$18,'Male Rev'!$A59-35,0),0.03999)","v":1.01E-2},{"$f":"MIN(OFFSET(Male!AH$18,'Male Rev'!$A59-35,0),0.03999)","v":3.8999999999999998E-3},{"$f":"MIN(OFFSET(Male!AI$18,'Male Rev'!$A59-35,0),0.03999)","v":-2.5000000000000001E-3},{"$f":"MIN(OFFSET(Male!AJ$18,'Male Rev'!$A59-35,0),0.03999)","v":-8.3000000000000001E-3},{"$f":"MIN(OFFSET(Male!AK$18,'Male Rev'!$A59-35,0),0.03999)","v":-1.26E-2},{"$f":"MIN(OFFSET(Male!AL$18,'Male Rev'!$A59-35,0),0.03999)","v":-1.52E-2},{"$f":"MIN(OFFSET(Male!AM$18,'Male Rev'!$A59-35,0),0.03999)","v":-1.5800000000000002E-2},{"$f":"MIN(OFFSET(Male!AN$18,'Male Rev'!$A59-35,0),0.03999)","v":-1.44E-2},{"$f":"MIN(OFFSET(Male!AO$18,'Male Rev'!$A59-35,0),0.03999)","v":-1.12E-2},{"$f":"MIN(OFFSET(Male!AP$18,'Male Rev'!$A59-35,0),0.03999)","v":-6.6E-3},{"$f":"MIN(OFFSET(Male!AQ$18,'Male Rev'!$A59-35,0),0.03999)","v":-5.9999999999999995E-4},{"$f":"MIN(OFFSET(Male!AR$18,'Male Rev'!$A59-35,0),0.03999)","v":6.8999999999999999E-3},{"$f":"MIN(OFFSET(Male!AS$18,'Male Rev'!$A59-35,0),0.03999)","v":1.55E-2},{"$f":"MIN(OFFSET(Male!AT$18,'Male Rev'!$A59-35,0),0.03999)","v":2.4E-2},{"$f":"MIN(OFFSET(Male!AU$18,'Male Rev'!$A59-35,0),0.03999)","v":3.0800000000000001E-2},{"$f":"MIN(OFFSET(Male!AV$18,'Male Rev'!$A59-35,0),0.03999)","v":3.4000000000000002E-2},{"$f":"MIN(OFFSET(Male!AW$18,'Male Rev'!$A59-35,0),0.03999)","v":3.32E-2},{"$f":"MIN(OFFSET(Male!AX$18,'Male Rev'!$A59-35,0),0.03999)","v":0.03},{"$f":"MIN(OFFSET(Male!AY$18,'Male Rev'!$A59-35,0),0.03999)","v":2.5999999999999999E-2},{"$f":"MIN(OFFSET(Male!AZ$18,'Male Rev'!$A59-35,0),0.03999)","v":2.23E-2},{"$f":"MIN(OFFSET(Male!BA$18,'Male Rev'!$A59-35,0),0.03999)","v":1.9900000000000001E-2},{"$f":"MIN(OFFSET(Male!BB$18,'Male Rev'!$A59-35,0),0.03999)","v":1.84E-2},{"$f":"MIN(OFFSET(Male!BC$18,'Male Rev'!$A59-35,0),0.03999)","v":1.7600000000000001E-2},{"$f":"MIN(OFFSET(Male!BD$18,'Male Rev'!$A59-35,0),0.03999)","v":1.6899999999999998E-2},{"$f":"MIN(OFFSET(Male!BE$18,'Male Rev'!$A59-35,0),0.03999)","v":1.6299999999999999E-2},{"$f":"MIN(OFFSET(Male!BF$18,'Male Rev'!$A59-35,0),0.03999)","v":1.54E-2},{"$f":"MIN(OFFSET(Male!BG$18,'Male Rev'!$A59-35,0),0.03999)","v":1.37E-2},{"$f":"MIN(OFFSET(Male!BH$18,'Male Rev'!$A59-35,0),0.03999)","v":1.0800000000000001E-2},{"$f":"MIN(OFFSET(Male!BI$18,'Male Rev'!$A59-35,0),0.03999)","v":6.7000000000000002E-3},{"$f":"MIN(OFFSET(Male!BJ$18,'Male Rev'!$A59-35,0),0.03999)","v":1.1999999999999999E-3},{"$f":"MIN(OFFSET(Male!BK$18,'Male Rev'!$A59-35,0),0.03999)","v":-5.1000000000000004E-3},{"$f":"MIN(OFFSET(Male!BL$18,'Male Rev'!$A59-35,0),0.03999)","v":-1.17E-2},{"$f":"MIN(OFFSET(Male!BM$18,'Male Rev'!$A59-35,0),0.03999)","v":-1.78E-2},{"$f":"MIN(OFFSET(Male!BN$18,'Male Rev'!$A59-35,0),0.03999)","v":-2.2800000000000001E-2},{"$f":"MIN(OFFSET(Male!BO$18,'Male Rev'!$A59-35,0),0.03999)","v":-2.3900000000000001E-2},{"$f":"MIN(OFFSET(Male!BP$18,'Male Rev'!$A59-35,0),0.03999)","v":-2.3699999999999999E-2},{"$f":"MIN(OFFSET(Male!BQ$18,'Male Rev'!$A59-35,0),0.03999)","v":-2.24E-2},{"$f":"MIN(OFFSET(Male!BR$18,'Male Rev'!$A59-35,0),0.03999)","v":-2.0199999999999999E-2},{"$f":"MIN(OFFSET(Male!BS$18,'Male Rev'!$A59-35,0),0.03999)","v":-1.72E-2},{"$f":"MIN(OFFSET(Male!BT$18,'Male Rev'!$A59-35,0),0.03999)","v":-1.37E-2},{"$f":"MIN(OFFSET(Male!BU$18,'Male Rev'!$A59-35,0),0.03999)","v":-0.01},{"$f":"MIN(OFFSET(Male!BV$18,'Male Rev'!$A59-35,0),0.03999)","v":-6.4000000000000003E-3},{"$f":"MIN(OFFSET(Male!BW$18,'Male Rev'!$A59-35,0),0.03999)","v":-3.2000000000000002E-3},{"$f":"MIN(OFFSET(Male!BX$18,'Male Rev'!$A59-35,0),0.03999)","v":-8.0000000000000004E-4},{"$f":"MIN(OFFSET(Male!BY$18,'Male Rev'!$A59-35,0),0.03999)","v":1.2999999999999999E-3},{"$f":"MIN(OFFSET(Male!BZ$18,'Male Rev'!$A59-35,0),0.03999)","v":3.2000000000000002E-3},{"$f":"MIN(OFFSET(Male!CA$18,'Male Rev'!$A59-35,0),0.03999)","v":4.8999999999999998E-3},{"$f":"MIN(OFFSET(Male!CB$18,'Male Rev'!$A59-35,0),0.03999)","v":6.4000000000000003E-3},{"$f":"MIN(OFFSET(Male!CC$18,'Male Rev'!$A59-35,0),0.03999)","v":7.7000000000000002E-3},{"$f":"MIN(OFFSET(Male!CD$18,'Male Rev'!$A59-35,0),0.03999)","v":8.6E-3},{"$f":"MIN(OFFSET(Male!CE$18,'Male Rev'!$A59-35,0),0.03999)","v":9.2999999999999992E-3},{"$f":"MIN(OFFSET(Male!CF$18,'Male Rev'!$A59-35,0),0.03999)","v":9.7000000000000003E-3},{"$f":"MIN(OFFSET(Male!CG$18,'Male Rev'!$A59-35,0),0.03999)","v":9.9000000000000008E-3},{"$f":"MIN(OFFSET(Male!CH$18,'Male Rev'!$A59-35,0),0.03999)","v":0.01}]
[38,38,{"$f":"MIN(OFFSET(Male!B$18,'Male Rev'!$A60-35,0),0.03999)","v":2.0500000000000001E-2},{"$f":"MIN(OFFSET(Male!C$18,'Male Rev'!$A60-35,0),0.03999)","v":2.0299999999999999E-2},{"$f":"MIN(OFFSET(Male!D$18,'Male Rev'!$A60-35,0),0.03999)","v":1.95E-2},{"$f":"MIN(OFFSET(Male!E$18,'Male Rev'!$A60-35,0),0.03999)","v":1.7899999999999999E-2},{"$f":"MIN(OFFSET(Male!F$18,'Male Rev'!$A60-35,0),0.03999)","v":1.54E-2},{"$f":"MIN(OFFSET(Male!G$18,'Male Rev'!$A60-35,0),0.03999)","v":1.24E-2},{"$f":"MIN(OFFSET(Male!H$18,'Male Rev'!$A60-35,0),0.03999)","v":9.1000000000000004E-3},{"$f":"MIN(OFFSET(Male!I$18,'Male Rev'!$A60-35,0),0.03999)","v":5.8999999999999999E-3},{"$f":"MIN(OFFSET(Male!J$18,'Male Rev'!$A60-35,0),0.03999)","v":2.7000000000000001E-3},{"$f":"MIN(OFFSET(Male!K$18,'Male Rev'!$A60-35,0),0.03999)","v":-2.9999999999999997E-4},{"$f":"MIN(OFFSET(Male!L$18,'Male Rev'!$A60-35,0),0.03999)","v":-3.0999999999999999E-3},{"$f":"MIN(OFFSET(Male!M$18,'Male Rev'!$A60-35,0),0.03999)","v":-5.4999999999999997E-3},{"$f":"MIN(OFFSET(Male!N$18,'Male Rev'!$A60-35,0),0.03999)","v":-7.3000000000000001E-3},{"$f":"MIN(OFFSET(Male!O$18,'Male Rev'!$A60-35,0),0.03999)","v":-8.0999999999999996E-3},{"$f":"MIN(OFFSET(Male!P$18,'Male Rev'!$A60-35,0),0.03999)","v":-8.0000000000000002E-3},{"$f":"MIN(OFFSET(Male!Q$18,'Male Rev'!$A60-35,0),0.03999)","v":-6.8999999999999999E-3},{"$f":"MIN(OFFSET(Male!R$18,'Male Rev'!$A60-35,0),0.03999)","v":-4.8999999999999998E-3},{"$f":"MIN(OFFSET(Male!S$18,'Male Rev'!$A60-35,0),0.03999)","v":-1.6999999999999999E-3},{"$f":"MIN(OFFSET(Male!T$18,'Male Rev'!$A60-35,0),0.03999)","v":2.3999999999999998E-3},{"$f":"MIN(OFFSET(Male!U$18,'Male Rev'!$A60-35,0),0.03999)","v":7.1999999999999998E-3},{"$f":"MIN(OFFSET(Male!V$18,'Male Rev'!$A60-35,0),0.03999)","v":1.21E-2},{"$f":"MIN(OFFSET(Male!W$18,'Male Rev'!$A60-35,0),0.03999)","v":1.6799999999999999E-2},{"$f":"MIN(OFFSET(Male!X$18,'Male Rev'!$A60-35,0),0.03999)","v":2.0899999999999998E-2},{"$f":"MIN(OFFSET(Male!Y$18,'Male Rev'!$A60-35,0),0.03999)","v":2.41E-2},{"$f":"MIN(OFFSET(Male!Z$18,'Male Rev'!$A60-35,0),0.03999)","v":2.6100000000000002E-2},{"$f":"MIN(OFFSET(Male!AA$18,'Male Rev'!$A60-35,0),0.03999)","v":2.69E-2},{"$f":"MIN(OFFSET(Male!AB$18,'Male Rev'!$A60-35,0),0.03999)","v":2.63E-2},{"$f":"MIN(OFFSET(Male!AC$18,'Male Rev'!$A60-35,0),0.03999)","v":2.47E-2},{"$f":"MIN(OFFSET(Male!AD$18,'Male Rev'!$A60-35,0),0.03999)","v":2.2100000000000002E-2},{"$f":"MIN(OFFSET(Male!AE$18,'Male Rev'!$A60-35,0),0.03999)","v":1.84E-2},{"$f":"MIN(OFFSET(Male!AF$18,'Male Rev'!$A60-35,0),0.03999)","v":1.38E-2},{"$f":"MIN(OFFSET(Male!AG$18,'Male Rev'!$A60-35,0),0.03999)","v":8.3000000000000001E-3},{"$f":"MIN(OFFSET(Male!AH$18,'Male Rev'!$A60-35,0),0.03999)","v":1.9E-3},{"$f":"MIN(OFFSET(Male!AI$18,'Male Rev'!$A60-35,0),0.03999)","v":-4.7999999999999996E-3},{"$f":"MIN(OFFSET(Male!AJ$18,'Male Rev'!$A60-35,0),0.03999)","v":-1.09E-2},{"$f":"MIN(OFFSET(Male!AK$18,'Male Rev'!$A60-35,0),0.03999)","v":-1.5299999999999999E-2},{"$f":"MIN(OFFSET(Male!AL$18,'Male Rev'!$A60-35,0),0.03999)","v":-1.77E-2},{"$f":"MIN(OFFSET(Male!AM$18,'Male Rev'!$A60-35,0),0.03999)","v":-1.78E-2},{"$f":"MIN(OFFSET(Male!AN$18,'Male Rev'!$A60-35,0),0.03999)","v":-1.5699999999999999E-2},{"$f":"MIN(OFFSET(Male!AO$18,'Male Rev'!$A60-35,0),0.03999)","v":-1.1900000000000001E-2},{"$f":"MIN(OFFSET(Male!AP$18,'Male Rev'!$A60-35,0),0.03999)","v":-6.4999999999999997E-3},{"$f":"MIN(OFFSET(Male!AQ$18,'Male Rev'!$A60-35,0),0.03999)","v":2.9999999999999997E-4},{"$f":"MIN(OFFSET(Male!AR$18,'Male Rev'!$A60-35,0),0.03999)","v":8.5000000000000006E-3},{"$f":"MIN(OFFSET(Male!AS$18,'Male Rev'!$A60-35,0),0.03999)","v":1.7600000000000001E-2},{"$f":"MIN(OFFSET(Male!AT$18,'Male Rev'!$A60-35,0),0.03999)","v":2.6599999999999999E-2},{"$f":"MIN(OFFSET(Male!AU$18,'Male Rev'!$A60-35,0),0.03999)","v":3.3799999999999997E-2},{"$f":"MIN(OFFSET(Male!AV$18,'Male Rev'!$A60-35,0),0.03999)","v":3.6999999999999998E-2},{"$f":"MIN(OFFSET(Male!AW$18,'Male Rev'!$A60-35,0),0.03999)","v":3.5900000000000001E-2},{"$f":"MIN(OFFSET(Male!AX$18,'Male Rev'!$A60-35,0),0.03999)","v":3.2199999999999999E-2},{"$f":"MIN(OFFSET(Male!AY$18,'Male Rev'!$A60-35,0),0.03999)","v":2.76E-2},{"$f":"MIN(OFFSET(Male!AZ$18,'Male Rev'!$A60-35,0),0.03999)","v":2.3300000000000001E-2},{"$f":"MIN(OFFSET(Male!BA$18,'Male Rev'!$A60-35,0),0.03999)","v":2.0400000000000001E-2},{"$f":"MIN(OFFSET(Male!BB$18,'Male Rev'!$A60-35,0),0.03999)","v":1.84E-2},{"$f":"MIN(OFFSET(Male!BC$18,'Male Rev'!$A60-35,0),0.03999)","v":1.7100000000000001E-2},{"$f":"MIN(OFFSET(Male!BD$18,'Male Rev'!$A60-35,0),0.03999)","v":1.5900000000000001E-2},{"$f":"MIN(OFFSET(Male!BE$18,'Male Rev'!$A60-35,0),0.03999)","v":1.49E-2},{"$f":"MIN(OFFSET(Male!BF$18,'Male Rev'!$A60-35,0),0.03999)","v":1.3599999999999999E-2},{"$f":"MIN(OFFSET(Male!BG$18,'Male Rev'!$A60-35,0),0.03999)","v":1.17E-2},{"$f":"MIN(OFFSET(Male!BH$18,'Male Rev'!$A60-35,0),0.03999)","v":8.6E-3},{"$f":"MIN(OFFSET(Male!BI$18,'Male Rev'!$A60-35,0),0.03999)","v":4.3E-3},{"$f":"MIN(OFFSET(Male!BJ$18,'Male Rev'!$A60-35,0),0.03999)","v":-1.4E-3},{"$f":"MIN(OFFSET(Male!BK$18,'Male Rev'!$A60-35,0),0.03999)","v":-7.9000000000000008E-3},{"$f":"MIN(OFFSET(Male!BL$18,'Male Rev'!$A60-35,0),0.03999)","v":-1.46E-2},{"$f":"MIN(OFFSET(Male!BM$18,'Male Rev'!$A60-35,0),0.03999)","v":-2.1000000000000001E-2},{"$f":"MIN(OFFSET(Male!BN$18,'Male Rev'!$A60-35,0),0.03999)","v":-2.6200000000000001E-2},{"$f":"MIN(OFFSET(Male!BO$18,'Male Rev'!$A60-35,0),0.03999)","v":-2.7E-2},{"$f":"MIN(OFFSET(Male!BP$18,'Male Rev'!$A60-35,0),0.03999)","v":-2.64E-2},{"$f":"MIN(OFFSET(Male!BQ$18,'Male Rev'!$A60-35,0),0.03999)","v":-2.47E-2},{"$f":"MIN(OFFSET(Male!BR$18,'Male Rev'!$A60-35,0),0.03999)","v":-2.1899999999999999E-2},{"$f":"MIN(OFFSET(Male!BS$18,'Male Rev'!$A60-35,0),0.03999)","v":-1.83E-2},{"$f":"MIN(OFFSET(Male!BT$18,'Male Rev'!$A60-35,0),0.03999)","v":-1.43E-2},{"$f":"MIN(OFFSET(Male!BU$18,'Male Rev'!$A60-35,0),0.03999)","v":-1.0200000000000001E-2},{"$f":"MIN(OFFSET(Male!BV$18,'Male Rev'!$A60-35,0),0.03999)","v":-6.3E-3},{"$f":"MIN(OFFSET(Male!BW$18,'Male Rev'!$A60-35,0),0.03999)","v":-2.8999999999999998E-3},{"$f":"MIN(OFFSET(Male!BX$18,'Male Rev'!$A60-35,0),0.03999)","v":-2.9999999999999997E-4},{"$f":"MIN(OFFSET(Male!BY$18,'Male Rev'!$A60-35,0),0.03999)","v":1.8E-3},{"$f":"MIN(OFFSET(Male!BZ$18,'Male Rev'!$A60-35,0),0.03999)","v":3.7000000000000002E-3},{"$f":"MIN(OFFSET(Male!CA$18,'Male Rev'!$A60-35,0),0.03999)","v":5.3E-3},{"$f":"MIN(OFFSET(Male!CB$18,'Male Rev'!$A60-35,0),0.03999)","v":6.7999999999999996E-3},{"$f":"MIN(OFFSET(Male!CC$18,'Male Rev'!$A60-35,0),0.03999)","v":7.9000000000000008E-3},{"$f":"MIN(OFFSET(Male!CD$18,'Male Rev'!$A60-35,0),0.03999)","v":8.8000000000000005E-3},{"$f":"MIN(OFFSET(Male!CE$18,'Male Rev'!$A60-35,0),0.03999)","v":9.4000000000000004E-3},{"$f":"MIN(OFFSET(Male!CF$18,'Male Rev'!$A60-35,0),0.03999)","v":9.7000000000000003E-3},{"$f":"MIN(OFFSET(Male!CG$18,'Male Rev'!$A60-35,0),0.03999)","v":9.9000000000000008E-3},{"$f":"MIN(OFFSET(Male!CH$18,'Male Rev'!$A60-35,0),0.03999)","v":0.01}]
[37,37,{"$f":"MIN(OFFSET(Male!B$18,'Male Rev'!$A61-35,0),0.03999)","v":2.0899999999999998E-2},{"$f":"MIN(OFFSET(Male!C$18,'Male Rev'!$A61-35,0),0.03999)","v":2.07E-2},{"$f":"MIN(OFFSET(Male!D$18,'Male Rev'!$A61-35,0),0.03999)","v":1.9900000000000001E-2},{"$f":"MIN(OFFSET(Male!E$18,'Male Rev'!$A61-35,0),0.03999)","v":1.8200000000000001E-2},{"$f":"MIN(OFFSET(Male!F$18,'Male Rev'!$A61-35,0),0.03999)","v":1.5599999999999999E-2},{"$f":"MIN(OFFSET(Male!G$18,'Male Rev'!$A61-35,0),0.03999)","v":1.2500000000000001E-2},{"$f":"MIN(OFFSET(Male!H$18,'Male Rev'!$A61-35,0),0.03999)","v":9.1000000000000004E-3},{"$f":"MIN(OFFSET(Male!I$18,'Male Rev'!$A61-35,0),0.03999)","v":5.7999999999999996E-3},{"$f":"MIN(OFFSET(Male!J$18,'Male Rev'!$A61-35,0),0.03999)","v":2.5000000000000001E-3},{"$f":"MIN(OFFSET(Male!K$18,'Male Rev'!$A61-35,0),0.03999)","v":-6.9999999999999999E-4},{"$f":"MIN(OFFSET(Male!L$18,'Male Rev'!$A61-35,0),0.03999)","v":-3.5999999999999999E-3},{"$f":"MIN(OFFSET(Male!M$18,'Male Rev'!$A61-35,0),0.03999)","v":-6.1999999999999998E-3},{"$f":"MIN(OFFSET(Male!N$18,'Male Rev'!$A61-35,0),0.03999)","v":-8.0000000000000002E-3},{"$f":"MIN(OFFSET(Male!O$18,'Male Rev'!$A61-35,0),0.03999)","v":-8.8999999999999999E-3},{"$f":"MIN(OFFSET(Male!P$18,'Male Rev'!$A61-35,0),0.03999)","v":-8.8000000000000005E-3},{"$f":"MIN(OFFSET(Male!Q$18,'Male Rev'!$A61-35,0),0.03999)","v":-7.7999999999999996E-3},{"$f":"MIN(OFFSET(Male!R$18,'Male Rev'!$A61-35,0),0.03999)","v":-5.7000000000000002E-3},{"$f":"MIN(OFFSET(Male!S$18,'Male Rev'!$A61-35,0),0.03999)","v":-2.5000000000000001E-3},{"$f":"MIN(OFFSET(Male!T$18,'Male Rev'!$A61-35,0),0.03999)","v":1.6999999999999999E-3},{"$f":"MIN(OFFSET(Male!U$18,'Male Rev'!$A61-35,0),0.03999)","v":6.4000000000000003E-3},{"$f":"MIN(OFFSET(Male!V$18,'Male Rev'!$A61-35,0),0.03999)","v":1.14E-2},{"$f":"MIN(OFFSET(Male!W$18,'Male Rev'!$A61-35,0),0.03999)","v":1.61E-2},{"$f":"MIN(OFFSET(Male!X$18,'Male Rev'!$A61-35,0),0.03999)","v":2.0299999999999999E-2},{"$f":"MIN(OFFSET(Male!Y$18,'Male Rev'!$A61-35,0),0.03999)","v":2.3599999999999999E-2},{"$f":"MIN(OFFSET(Male!Z$18,'Male Rev'!$A61-35,0),0.03999)","v":2.5600000000000001E-2},{"$f":"MIN(OFFSET(Male!AA$18,'Male Rev'!$A61-35,0),0.03999)","v":2.63E-2},{"$f":"MIN(OFFSET(Male!AB$18,'Male Rev'!$A61-35,0),0.03999)","v":2.5499999999999998E-2},{"$f":"MIN(OFFSET(Male!AC$18,'Male Rev'!$A61-35,0),0.03999)","v":2.3699999999999999E-2},{"$f":"MIN(OFFSET(Male!AD$18,'Male Rev'!$A61-35,0),0.03999)","v":2.0899999999999998E-2},{"$f":"MIN(OFFSET(Male!AE$18,'Male Rev'!$A61-35,0),0.03999)","v":1.7000000000000001E-2},{"$f":"MIN(OFFSET(Male!AF$18,'Male Rev'!$A61-35,0),0.03999)","v":1.23E-2},{"$f":"MIN(OFFSET(Male!AG$18,'Male Rev'!$A61-35,0),0.03999)","v":6.7000000000000002E-3},{"$f":"MIN(OFFSET(Male!AH$18,'Male Rev'!$A61-35,0),0.03999)","v":1E-4},{"$f":"MIN(OFFSET(Male!AI$18,'Male Rev'!$A61-35,0),0.03999)","v":-6.8999999999999999E-3},{"$f":"MIN(OFFSET(Male!AJ$18,'Male Rev'!$A61-35,0),0.03999)","v":-1.3100000000000001E-2},{"$f":"MIN(OFFSET(Male!AK$18,'Male Rev'!$A61-35,0),0.03999)","v":-1.7500000000000002E-2},{"$f":"MIN(OFFSET(Male!AL$18,'Male Rev'!$A61-35,0),0.03999)","v":-1.9599999999999999E-2},{"$f":"MIN(OFFSET(Male!AM$18,'Male Rev'!$A61-35,0),0.03999)","v":-1.9199999999999998E-2},{"$f":"MIN(OFFSET(Male!AN$18,'Male Rev'!$A61-35,0),0.03999)","v":-1.66E-2},{"$f":"MIN(OFFSET(Male!AO$18,'Male Rev'!$A61-35,0),0.03999)","v":-1.2E-2},{"$f":"MIN(OFFSET(Male!AP$18,'Male Rev'!$A61-35,0),0.03999)","v":-6.0000000000000001E-3},{"$f":"MIN(OFFSET(Male!AQ$18,'Male Rev'!$A61-35,0),0.03999)","v":1.5E-3},{"$f":"MIN(OFFSET(Male!AR$18,'Male Rev'!$A61-35,0),0.03999)","v":1.0200000000000001E-2},{"$f":"MIN(OFFSET(Male!AS$18,'Male Rev'!$A61-35,0),0.03999)","v":1.9800000000000002E-2},{"$f":"MIN(OFFSET(Male!AT$18,'Male Rev'!$A61-35,0),0.03999)","v":2.9100000000000001E-2},{"$f":"MIN(OFFSET(Male!AU$18,'Male Rev'!$A61-35,0),0.03999)","v":3.6499999999999998E-2},{"$f":"MIN(OFFSET(Male!AV$18,'Male Rev'!$A61-35,0),0.03999)","v":3.9699999999999999E-2},{"$f":"MIN(OFFSET(Male!AW$18,'Male Rev'!$A61-35,0),0.03999)","v":3.8300000000000001E-2},{"$f":"MIN(OFFSET(Male!AX$18,'Male Rev'!$A61-35,0),0.03999)","v":3.4099999999999998E-2},{"$f":"MIN(OFFSET(Male!AY$18,'Male Rev'!$A61-35,0),0.03999)","v":2.8799999999999999E-2},{"$f":"MIN(OFFSET(Male!AZ$18,'Male Rev'!$A61-35,0),0.03999)","v":2.4E-2},{"$f":"MIN(OFFSET(Male!BA$18,'Male Rev'!$A61-35,0),0.03999)","v":2.0500000000000001E-2},{"$f":"MIN(OFFSET(Male!BB$18,'Male Rev'!$A61-35,0),0.03999)","v":1.7999999999999999E-2},{"$f":"MIN(OFFSET(Male!BC$18,'Male Rev'!$A61-35,0),0.03999)","v":1.61E-2},{"$f":"MIN(OFFSET(Male!BD$18,'Male Rev'!$A61-35,0),0.03999)","v":1.4500000000000001E-2},{"$f":"MIN(OFFSET(Male!BE$18,'Male Rev'!$A61-35,0),0.03999)","v":1.3100000000000001E-2},{"$f":"MIN(OFFSET(Male!BF$18,'Male Rev'!$A61-35,0),0.03999)","v":1.1599999999999999E-2},{"$f":"MIN(OFFSET(Male!BG$18,'Male Rev'!$A61-35,0),0.03999)","v":9.4999999999999998E-3},{"$f":"MIN(OFFSET(Male!BH$18,'Male Rev'!$A61-35,0),0.03999)","v":6.3E-3},{"$f":"MIN(OFFSET(Male!BI$18,'Male Rev'!$A61-35,0),0.03999)","v":1.9E-3},{"$f":"MIN(OFFSET(Male!BJ$18,'Male Rev'!$A61-35,0),0.03999)","v":-3.8999999999999998E-3},{"$f":"MIN(OFFSET(Male!BK$18,'Male Rev'!$A61-35,0),0.03999)","v":-1.04E-2},{"$f":"MIN(OFFSET(Male!BL$18,'Male Rev'!$A61-35,0),0.03999)","v":-1.7299999999999999E-2},{"$f":"MIN(OFFSET(Male!BM$18,'Male Rev'!$A61-35,0),0.03999)","v":-2.3900000000000001E-2},{"$f":"MIN(OFFSET(Male!BN$18,'Male Rev'!$A61-35,0),0.03999)","v":-2.9100000000000001E-2},{"$f":"MIN(OFFSET(Male!BO$18,'Male Rev'!$A61-35,0),0.03999)","v":-2.9700000000000001E-2},{"$f":"MIN(OFFSET(Male!BP$18,'Male Rev'!$A61-35,0),0.03999)","v":-2.87E-2},{"$f":"MIN(OFFSET(Male!BQ$18,'Male Rev'!$A61-35,0),0.03999)","v":-2.6499999999999999E-2},{"$f":"MIN(OFFSET(Male!BR$18,'Male Rev'!$A61-35,0),0.03999)","v":-2.3199999999999998E-2},{"$f":"MIN(OFFSET(Male!BS$18,'Male Rev'!$A61-35,0),0.03999)","v":-1.9099999999999999E-2},{"$f":"MIN(OFFSET(Male!BT$18,'Male Rev'!$A61-35,0),0.03999)","v":-1.47E-2},{"$f":"MIN(OFFSET(Male!BU$18,'Male Rev'!$A61-35,0),0.03999)","v":-1.0200000000000001E-2},{"$f":"MIN(OFFSET(Male!BV$18,'Male Rev'!$A61-35,0),0.03999)","v":-6.0000000000000001E-3},{"$f":"MIN(OFFSET(Male!BW$18,'Male Rev'!$A61-35,0),0.03999)","v":-2.3999999999999998E-3},{"$f":"MIN(OFFSET(Male!BX$18,'Male Rev'!$A61-35,0),0.03999)","v":2.9999999999999997E-4},{"$f":"MIN(OFFSET(Male!BY$18,'Male Rev'!$A61-35,0),0.03999)","v":2.3E-3},{"$f":"MIN(OFFSET(Male!BZ$18,'Male Rev'!$A61-35,0),0.03999)","v":4.1999999999999997E-3},{"$f":"MIN(OFFSET(Male!CA$18,'Male Rev'!$A61-35,0),0.03999)","v":5.7999999999999996E-3},{"$f":"MIN(OFFSET(Male!CB$18,'Male Rev'!$A61-35,0),0.03999)","v":7.1000000000000004E-3},{"$f":"MIN(OFFSET(Male!CC$18,'Male Rev'!$A61-35,0),0.03999)","v":8.0999999999999996E-3},{"$f":"MIN(OFFSET(Male!CD$18,'Male Rev'!$A61-35,0),0.03999)","v":8.8999999999999999E-3},{"$f":"MIN(OFFSET(Male!CE$18,'Male Rev'!$A61-35,0),0.03999)","v":9.4999999999999998E-3},{"$f":"MIN(OFFSET(Male!CF$18,'Male Rev'!$A61-35,0),0.03999)","v":9.7000000000000003E-3},{"$f":"MIN(OFFSET(Male!CG$18,'Male Rev'!$A61-35,0),0.03999)","v":9.9000000000000008E-3},{"$f":"MIN(OFFSET(Male!CH$18,'Male Rev'!$A61-35,0),0.03999)","v":0.01}]
[36,36,{"$f":"MIN(OFFSET(Male!B$18,'Male Rev'!$A62-35,0),0.03999)","v":2.12E-2},{"$f":"MIN(OFFSET(Male!C$18,'Male Rev'!$A62-35,0),0.03999)","v":2.1000000000000001E-2},{"$f":"MIN(OFFSET(Male!D$18,'Male Rev'!$A62-35,0),0.03999)","v":2.01E-2},{"$f":"MIN(OFFSET(Male!E$18,'Male Rev'!$A62-35,0),0.03999)","v":1.84E-2},{"$f":"MIN(OFFSET(Male!F$18,'Male Rev'!$A62-35,0),0.03999)","v":1.5800000000000002E-2},{"$f":"MIN(OFFSET(Male!G$18,'Male Rev'!$A62-35,0),0.03999)","v":1.26E-2},{"$f":"MIN(OFFSET(Male!H$18,'Male Rev'!$A62-35,0),0.03999)","v":9.1000000000000004E-3},{"$f":"MIN(OFFSET(Male!I$18,'Male Rev'!$A62-35,0),0.03999)","v":5.7000000000000002E-3},{"$f":"MIN(OFFSET(Male!J$18,'Male Rev'!$A62-35,0),0.03999)","v":2.3E-3},{"$f":"MIN(OFFSET(Male!K$18,'Male Rev'!$A62-35,0),0.03999)","v":-1E-3},{"$f":"MIN(OFFSET(Male!L$18,'Male Rev'!$A62-35,0),0.03999)","v":-4.0000000000000001E-3},{"$f":"MIN(OFFSET(Male!M$18,'Male Rev'!$A62-35,0),0.03999)","v":-6.7000000000000002E-3},{"$f":"MIN(OFFSET(Male!N$18,'Male Rev'!$A62-35,0),0.03999)","v":-8.6999999999999994E-3},{"$f":"MIN(OFFSET(Male!O$18,'Male Rev'!$A62-35,0),0.03999)","v":-9.7000000000000003E-3},{"$f":"MIN(OFFSET(Male!P$18,'Male Rev'!$A62-35,0),0.03999)","v":-9.5999999999999992E-3},{"$f":"MIN(OFFSET(Male!Q$18,'Male Rev'!$A62-35,0),0.03999)","v":-8.6E-3},{"$f":"MIN(OFFSET(Male!R$18,'Male Rev'!$A62-35,0),0.03999)","v":-6.4999999999999997E-3},{"$f":"MIN(OFFSET(Male!S$18,'Male Rev'!$A62-35,0),0.03999)","v":-3.3999999999999998E-3},{"$f":"MIN(OFFSET(Male!T$18,'Male Rev'!$A62-35,0),0.03999)","v":8.0000000000000004E-4},{"$f":"MIN(OFFSET(Male!U$18,'Male Rev'!$A62-35,0),0.03999)","v":5.5999999999999999E-3},{"$f":"MIN(OFFSET(Male!V$18,'Male Rev'!$A62-35,0),0.03999)","v":1.0500000000000001E-2},{"$f":"MIN(OFFSET(Male!W$18,'Male Rev'!$A62-35,0),0.03999)","v":1.5299999999999999E-2},{"$f":"MIN(OFFSET(Male!X$18,'Male Rev'!$A62-35,0),0.03999)","v":1.95E-2},{"$f":"MIN(OFFSET(Male!Y$18,'Male Rev'!$A62-35,0),0.03999)","v":2.29E-2},{"$f":"MIN(OFFSET(Male!Z$18,'Male Rev'!$A62-35,0),0.03999)","v":2.4899999999999999E-2},{"$f":"MIN(OFFSET(Male!AA$18,'Male Rev'!$A62-35,0),0.03999)","v":2.5499999999999998E-2},{"$f":"MIN(OFFSET(Male!AB$18,'Male Rev'!$A62-35,0),0.03999)","v":2.46E-2},{"$f":"MIN(OFFSET(Male!AC$18,'Male Rev'!$A62-35,0),0.03999)","v":2.2599999999999999E-2},{"$f":"MIN(OFFSET(Male!AD$18,'Male Rev'!$A62-35,0),0.03999)","v":1.9599999999999999E-2},{"$f":"MIN(OFFSET(Male!AE$18,'Male Rev'!$A62-35,0),0.03999)","v":1.5699999999999999E-2},{"$f":"MIN(OFFSET(Male!AF$18,'Male Rev'!$A62-35,0),0.03999)","v":1.09E-2},{"$f":"MIN(OFFSET(Male!AG$18,'Male Rev'!$A62-35,0),0.03999)","v":5.1999999999999998E-3},{"$f":"MIN(OFFSET(Male!AH$18,'Male Rev'!$A62-35,0),0.03999)","v":-1.5E-3},{"$f":"MIN(OFFSET(Male!AI$18,'Male Rev'!$A62-35,0),0.03999)","v":-8.5000000000000006E-3},{"$f":"MIN(OFFSET(Male!AJ$18,'Male Rev'!$A62-35,0),0.03999)","v":-1.47E-2},{"$f":"MIN(OFFSET(Male!AK$18,'Male Rev'!$A62-35,0),0.03999)","v":-1.9E-2},{"$f":"MIN(OFFSET(Male!AL$18,'Male Rev'!$A62-35,0),0.03999)","v":-2.0799999999999999E-2},{"$f":"MIN(OFFSET(Male!AM$18,'Male Rev'!$A62-35,0),0.03999)","v":-1.9900000000000001E-2},{"$f":"MIN(OFFSET(Male!AN$18,'Male Rev'!$A62-35,0),0.03999)","v":-1.6799999999999999E-2},{"$f":"MIN(OFFSET(Male!AO$18,'Male Rev'!$A62-35,0),0.03999)","v":-1.17E-2},{"$f":"MIN(OFFSET(Male!AP$18,'Male Rev'!$A62-35,0),0.03999)","v":-5.1000000000000004E-3},{"$f":"MIN(OFFSET(Male!AQ$18,'Male Rev'!$A62-35,0),0.03999)","v":2.8E-3},{"$f":"MIN(OFFSET(Male!AR$18,'Male Rev'!$A62-35,0),0.03999)","v":1.1900000000000001E-2},{"$f":"MIN(OFFSET(Male!AS$18,'Male Rev'!$A62-35,0),0.03999)","v":2.18E-2},{"$f":"MIN(OFFSET(Male!AT$18,'Male Rev'!$A62-35,0),0.03999)","v":3.1399999999999997E-2},{"$f":"MIN(OFFSET(Male!AU$18,'Male Rev'!$A62-35,0),0.03999)","v":3.8899999999999997E-2},{"$f":"MIN(OFFSET(Male!AV$18,'Male Rev'!$A62-35,0),0.03999)","v":3.9989999999999998E-2},{"$f":"MIN(OFFSET(Male!AW$18,'Male Rev'!$A62-35,0),0.03999)","v":3.9989999999999998E-2},{"$f":"MIN(OFFSET(Male!AX$18,'Male Rev'!$A62-35,0),0.03999)","v":3.5499999999999997E-2},{"$f":"MIN(OFFSET(Male!AY$18,'Male Rev'!$A62-35,0),0.03999)","v":2.9700000000000001E-2},{"$f":"MIN(OFFSET(Male!AZ$18,'Male Rev'!$A62-35,0),0.03999)","v":2.4199999999999999E-2},{"$f":"MIN(OFFSET(Male!BA$18,'Male Rev'!$A62-35,0),0.03999)","v":2.01E-2},{"$f":"MIN(OFFSET(Male!BB$18,'Male Rev'!$A62-35,0),0.03999)","v":1.7000000000000001E-2},{"$f":"MIN(OFFSET(Male!BC$18,'Male Rev'!$A62-35,0),0.03999)","v":1.47E-2},{"$f":"MIN(OFFSET(Male!BD$18,'Male Rev'!$A62-35,0),0.03999)","v":1.2699999999999999E-2},{"$f":"MIN(OFFSET(Male!BE$18,'Male Rev'!$A62-35,0),0.03999)","v":1.0999999999999999E-2},{"$f":"MIN(OFFSET(Male!BF$18,'Male Rev'!$A62-35,0),0.03999)","v":9.4000000000000004E-3},{"$f":"MIN(OFFSET(Male!BG$18,'Male Rev'!$A62-35,0),0.03999)","v":7.1999999999999998E-3},{"$f":"MIN(OFFSET(Male!BH$18,'Male Rev'!$A62-35,0),0.03999)","v":4.0000000000000001E-3},{"$f":"MIN(OFFSET(Male!BI$18,'Male Rev'!$A62-35,0),0.03999)","v":-4.0000000000000002E-4},{"$f":"MIN(OFFSET(Male!BJ$18,'Male Rev'!$A62-35,0),0.03999)","v":-6.1000000000000004E-3},{"$f":"MIN(OFFSET(Male!BK$18,'Male Rev'!$A62-35,0),0.03999)","v":-1.2699999999999999E-2},{"$f":"MIN(OFFSET(Male!BL$18,'Male Rev'!$A62-35,0),0.03999)","v":-1.9599999999999999E-2},{"$f":"MIN(OFFSET(Male!BM$18,'Male Rev'!$A62-35,0),0.03999)","v":-2.63E-2},{"$f":"MIN(OFFSET(Male!BN$18,'Male Rev'!$A62-35,0),0.03999)","v":-3.1699999999999999E-2},{"$f":"MIN(OFFSET(Male!BO$18,'Male Rev'!$A62-35,0),0.03999)","v":-3.1899999999999998E-2},{"$f":"MIN(OFFSET(Male!BP$18,'Male Rev'!$A62-35,0),0.03999)","v":-3.0499999999999999E-2},{"$f":"MIN(OFFSET(Male!BQ$18,'Male Rev'!$A62-35,0),0.03999)","v":-2.7799999999999998E-2},{"$f":"MIN(OFFSET(Male!BR$18,'Male Rev'!$A62-35,0),0.03999)","v":-2.4E-2},{"$f":"MIN(OFFSET(Male!BS$18,'Male Rev'!$A62-35,0),0.03999)","v":-1.9599999999999999E-2},{"$f":"MIN(OFFSET(Male!BT$18,'Male Rev'!$A62-35,0),0.03999)","v":-1.4800000000000001E-2},{"$f":"MIN(OFFSET(Male!BU$18,'Male Rev'!$A62-35,0),0.03999)","v":-9.9000000000000008E-3},{"$f":"MIN(OFFSET(Male!BV$18,'Male Rev'!$A62-35,0),0.03999)","v":-5.4999999999999997E-3},{"$f":"MIN(OFFSET(Male!BW$18,'Male Rev'!$A62-35,0),0.03999)","v":-1.6999999999999999E-3},{"$f":"MIN(OFFSET(Male!BX$18,'Male Rev'!$A62-35,0),0.03999)","v":1E-3},{"$f":"MIN(OFFSET(Male!BY$18,'Male Rev'!$A62-35,0),0.03999)","v":3.0000000000000001E-3},{"$f":"MIN(OFFSET(Male!BZ$18,'Male Rev'!$A62-35,0),0.03999)","v":4.7000000000000002E-3},{"$f":"MIN(OFFSET(Male!CA$18,'Male Rev'!$A62-35,0),0.03999)","v":6.1999999999999998E-3},{"$f":"MIN(OFFSET(Male!CB$18,'Male Rev'!$A62-35,0),0.03999)","v":7.4000000000000003E-3},{"$f":"MIN(OFFSET(Male!CC$18,'Male Rev'!$A62-35,0),0.03999)","v":8.3999999999999995E-3},{"$f":"MIN(OFFSET(Male!CD$18,'Male Rev'!$A62-35,0),0.03999)","v":9.1000000000000004E-3},{"$f":"MIN(OFFSET(Male!CE$18,'Male Rev'!$A62-35,0),0.03999)","v":9.4999999999999998E-3},{"$f":"MIN(OFFSET(Male!CF$18,'Male Rev'!$A62-35,0),0.03999)","v":9.7000000000000003E-3},{"$f":"MIN(OFFSET(Male!CG$18,'Male Rev'!$A62-35,0),0.03999)","v":9.9000000000000008E-3},{"$f":"MIN(OFFSET(Male!CH$18,'Male Rev'!$A62-35,0),0.03999)","v":0.01}]
[35,35,{"$f":"MIN(OFFSET(Male!B$18,'Male Rev'!$A63-35,0),0.03999)","v":2.1399999999999999E-2},{"$f":"MIN(OFFSET(Male!C$18,'Male Rev'!$A63-35,0),0.03999)","v":2.1100000000000001E-2},{"$f":"MIN(OFFSET(Male!D$18,'Male Rev'!$A63-35,0),0.03999)","v":2.0299999999999999E-2},{"$f":"MIN(OFFSET(Male!E$18,'Male Rev'!$A63-35,0),0.03999)","v":1.8499999999999999E-2},{"$f":"MIN(OFFSET(Male!F$18,'Male Rev'!$A63-35,0),0.03999)","v":1.5900000000000001E-2},{"$f":"MIN(OFFSET(Male!G$18,'Male Rev'!$A63-35,0),0.03999)","v":1.26E-2},{"$f":"MIN(OFFSET(Male!H$18,'Male Rev'!$A63-35,0),0.03999)","v":9.1000000000000004E-3},{"$f":"MIN(OFFSET(Male!I$18,'Male Rev'!$A63-35,0),0.03999)","v":5.5999999999999999E-3},{"$f":"MIN(OFFSET(Male!J$18,'Male Rev'!$A63-35,0),0.03999)","v":2.2000000000000001E-3},{"$f":"MIN(OFFSET(Male!K$18,'Male Rev'!$A63-35,0),0.03999)","v":-1.1999999999999999E-3},{"$f":"MIN(OFFSET(Male!L$18,'Male Rev'!$A63-35,0),0.03999)","v":-4.3E-3},{"$f":"MIN(OFFSET(Male!M$18,'Male Rev'!$A63-35,0),0.03999)","v":-7.1999999999999998E-3},{"$f":"MIN(OFFSET(Male!N$18,'Male Rev'!$A63-35,0),0.03999)","v":-9.2999999999999992E-3},{"$f":"MIN(OFFSET(Male!O$18,'Male Rev'!$A63-35,0),0.03999)","v":-1.04E-2},{"$f":"MIN(OFFSET(Male!P$18,'Male Rev'!$A63-35,0),0.03999)","v":-1.0500000000000001E-2},{"$f":"MIN(OFFSET(Male!Q$18,'Male Rev'!$A63-35,0),0.03999)","v":-9.4999999999999998E-3},{"$f":"MIN(OFFSET(Male!R$18,'Male Rev'!$A63-35,0),0.03999)","v":-7.4000000000000003E-3},{"$f":"MIN(OFFSET(Male!S$18,'Male Rev'!$A63-35,0),0.03999)","v":-4.3E-3},{"$f":"MIN(OFFSET(Male!T$18,'Male Rev'!$A63-35,0),0.03999)","v":-1E-4},{"$f":"MIN(OFFSET(Male!U$18,'Male Rev'!$A63-35,0),0.03999)","v":4.5999999999999999E-3},{"$f":"MIN(OFFSET(Male!V$18,'Male Rev'!$A63-35,0),0.03999)","v":9.5999999999999992E-3},{"$f":"MIN(OFFSET(Male!W$18,'Male Rev'!$A63-35,0),0.03999)","v":1.44E-2},{"$f":"MIN(OFFSET(Male!X$18,'Male Rev'!$A63-35,0),0.03999)","v":1.8599999999999998E-2},{"$f":"MIN(OFFSET(Male!Y$18,'Male Rev'!$A63-35,0),0.03999)","v":2.1999999999999999E-2},{"$f":"MIN(OFFSET(Male!Z$18,'Male Rev'!$A63-35,0),0.03999)","v":2.41E-2},{"$f":"MIN(OFFSET(Male!AA$18,'Male Rev'!$A63-35,0),0.03999)","v":2.46E-2},{"$f":"MIN(OFFSET(Male!AB$18,'Male Rev'!$A63-35,0),0.03999)","v":2.3599999999999999E-2},{"$f":"MIN(OFFSET(Male!AC$18,'Male Rev'!$A63-35,0),0.03999)","v":2.1399999999999999E-2},{"$f":"MIN(OFFSET(Male!AD$18,'Male Rev'!$A63-35,0),0.03999)","v":1.83E-2},{"$f":"MIN(OFFSET(Male!AE$18,'Male Rev'!$A63-35,0),0.03999)","v":1.44E-2},{"$f":"MIN(OFFSET(Male!AF$18,'Male Rev'!$A63-35,0),0.03999)","v":9.5999999999999992E-3},{"$f":"MIN(OFFSET(Male!AG$18,'Male Rev'!$A63-35,0),0.03999)","v":4.0000000000000001E-3},{"$f":"MIN(OFFSET(Male!AH$18,'Male Rev'!$A63-35,0),0.03999)","v":-2.5999999999999999E-3},{"$f":"MIN(OFFSET(Male!AI$18,'Male Rev'!$A63-35,0),0.03999)","v":-9.5999999999999992E-3},{"$f":"MIN(OFFSET(Male!AJ$18,'Male Rev'!$A63-35,0),0.03999)","v":-1.5699999999999999E-2},{"$f":"MIN(OFFSET(Male!AK$18,'Male Rev'!$A63-35,0),0.03999)","v":-1.9800000000000002E-2},{"$f":"MIN(OFFSET(Male!AL$18,'Male Rev'!$A63-35,0),0.03999)","v":-2.12E-2},{"$f":"MIN(OFFSET(Male!AM$18,'Male Rev'!$A63-35,0),0.03999)","v":-0.02},{"$f":"MIN(OFFSET(Male!AN$18,'Male Rev'!$A63-35,0),0.03999)","v":-1.6500000000000001E-2},{"$f":"MIN(OFFSET(Male!AO$18,'Male Rev'!$A63-35,0),0.03999)","v":-1.0999999999999999E-2},{"$f":"MIN(OFFSET(Male!AP$18,'Male Rev'!$A63-35,0),0.03999)","v":-4.0000000000000001E-3},{"$f":"MIN(OFFSET(Male!AQ$18,'Male Rev'!$A63-35,0),0.03999)","v":4.1999999999999997E-3},{"$f":"MIN(OFFSET(Male!AR$18,'Male Rev'!$A63-35,0),0.03999)","v":1.35E-2},{"$f":"MIN(OFFSET(Male!AS$18,'Male Rev'!$A63-35,0),0.03999)","v":2.3599999999999999E-2},{"$f":"MIN(OFFSET(Male!AT$18,'Male Rev'!$A63-35,0),0.03999)","v":3.3399999999999999E-2},{"$f":"MIN(OFFSET(Male!AU$18,'Male Rev'!$A63-35,0),0.03999)","v":3.9989999999999998E-2},{"$f":"MIN(OFFSET(Male!AV$18,'Male Rev'!$A63-35,0),0.03999)","v":3.9989999999999998E-2},{"$f":"MIN(OFFSET(Male!AW$18,'Male Rev'!$A63-35,0),0.03999)","v":3.9989999999999998E-2},{"$f":"MIN(OFFSET(Male!AX$18,'Male Rev'!$A63-35,0),0.03999)","v":3.6400000000000002E-2},{"$f":"MIN(OFFSET(Male!AY$18,'Male Rev'!$A63-35,0),0.03999)","v":0.03},{"$f":"MIN(OFFSET(Male!AZ$18,'Male Rev'!$A63-35,0),0.03999)","v":2.3900000000000001E-2},{"$f":"MIN(OFFSET(Male!BA$18,'Male Rev'!$A63-35,0),0.03999)","v":1.9199999999999998E-2},{"$f":"MIN(OFFSET(Male!BB$18,'Male Rev'!$A63-35,0),0.03999)","v":1.5599999999999999E-2},{"$f":"MIN(OFFSET(Male!BC$18,'Male Rev'!$A63-35,0),0.03999)","v":1.29E-2},{"$f":"MIN(OFFSET(Male!BD$18,'Male Rev'!$A63-35,0),0.03999)","v":1.06E-2},{"$f":"MIN(OFFSET(Male!BE$18,'Male Rev'!$A63-35,0),0.03999)","v":8.8000000000000005E-3},{"$f":"MIN(OFFSET(Male!BF$18,'Male Rev'!$A63-35,0),0.03999)","v":7.1999999999999998E-3},{"$f":"MIN(OFFSET(Male!BG$18,'Male Rev'!$A63-35,0),0.03999)","v":5.1000000000000004E-3},{"$f":"MIN(OFFSET(Male!BH$18,'Male Rev'!$A63-35,0),0.03999)","v":2E-3},{"$f":"MIN(OFFSET(Male!BI$18,'Male Rev'!$A63-35,0),0.03999)","v":-2.3999999999999998E-3},{"$f":"MIN(OFFSET(Male!BJ$18,'Male Rev'!$A63-35,0),0.03999)","v":-8.0000000000000002E-3},{"$f":"MIN(OFFSET(Male!BK$18,'Male Rev'!$A63-35,0),0.03999)","v":-1.4500000000000001E-2},{"$f":"MIN(OFFSET(Male!BL$18,'Male Rev'!$A63-35,0),0.03999)","v":-2.1499999999999998E-2},{"$f":"MIN(OFFSET(Male!BM$18,'Male Rev'!$A63-35,0),0.03999)","v":-2.81E-2},{"$f":"MIN(OFFSET(Male!BN$18,'Male Rev'!$A63-35,0),0.03999)","v":-3.3599999999999998E-2},{"$f":"MIN(OFFSET(Male!BO$18,'Male Rev'!$A63-35,0),0.03999)","v":-3.3500000000000002E-2},{"$f":"MIN(OFFSET(Male!BP$18,'Male Rev'!$A63-35,0),0.03999)","v":-3.1800000000000002E-2},{"$f":"MIN(OFFSET(Male!BQ$18,'Male Rev'!$A63-35,0),0.03999)","v":-2.86E-2},{"$f":"MIN(OFFSET(Male!BR$18,'Male Rev'!$A63-35,0),0.03999)","v":-2.4500000000000001E-2},{"$f":"MIN(OFFSET(Male!BS$18,'Male Rev'!$A63-35,0),0.03999)","v":-1.9699999999999999E-2},{"$f":"MIN(OFFSET(Male!BT$18,'Male Rev'!$A63-35,0),0.03999)","v":-1.4500000000000001E-2},{"$f":"MIN(OFFSET(Male!BU$18,'Male Rev'!$A63-35,0),0.03999)","v":-9.4999999999999998E-3},{"$f":"MIN(OFFSET(Male!BV$18,'Male Rev'!$A63-35,0),0.03999)","v":-4.7999999999999996E-3},{"$f":"MIN(OFFSET(Male!BW$18,'Male Rev'!$A63-35,0),0.03999)","v":-1E-3},{"$f":"MIN(OFFSET(Male!BX$18,'Male Rev'!$A63-35,0),0.03999)","v":1.6999999999999999E-3},{"$f":"MIN(OFFSET(Male!BY$18,'Male Rev'!$A63-35,0),0.03999)","v":3.5999999999999999E-3},{"$f":"MIN(OFFSET(Male!BZ$18,'Male Rev'!$A63-35,0),0.03999)","v":5.3E-3},{"$f":"MIN(OFFSET(Male!CA$18,'Male Rev'!$A63-35,0),0.03999)","v":6.7000000000000002E-3},{"$f":"MIN(OFFSET(Male!CB$18,'Male Rev'!$A63-35,0),0.03999)","v":7.7999999999999996E-3},{"$f":"MIN(OFFSET(Male!CC$18,'Male Rev'!$A63-35,0),0.03999)","v":8.6E-3},{"$f":"MIN(OFFSET(Male!CD$18,'Male Rev'!$A63-35,0),0.03999)","v":9.1000000000000004E-3},{"$f":"MIN(OFFSET(Male!CE$18,'Male Rev'!$A63-35,0),0.03999)","v":9.4999999999999998E-3},{"$f":"MIN(OFFSET(Male!CF$18,'Male Rev'!$A63-35,0),0.03999)","v":9.7000000000000003E-3},{"$f":"MIN(OFFSET(Male!CG$18,'Male Rev'!$A63-35,0),0.03999)","v":9.9000000000000008E-3},{"$f":"MIN(OFFSET(Male!CH$18,'Male Rev'!$A63-35,0),0.03999)","v":0.01}]

{"sheet":"Female Rev","index":4,"n_rows":63,"n_cols":87,"rows_kept":63,"cut":false,"hidden":true,"merged":[]}
[null,"O2-2019 - Female"]
[null,null,1951,null,null,null,null,null,null,null,null,1960,null,null,null,null,null,null,null,null,null,1970,null,null,null,null,null,null,null,null,null,1980,null,null,null,null,null,null,null,null,null,1990,null,null,null,null,null,null,null,null,null,2000,null,null,null,null,null,null,null,null,null,2010,null,null,null,null,null,null,null,null,null,2020,null,null,null,null,null,null,null,null,null,2030]
[95,95,{"$f":"MIN(OFFSET(Female!B$18,'Female Rev'!$A3-35,0),0.03999)","v":8.0000000000000002E-3},{"$f":"MIN(OFFSET(Female!C$18,'Female Rev'!$A3-35,0),0.03999)","v":8.0000000000000002E-3},{"$f":"MIN(OFFSET(Female!D$18,'Female Rev'!$A3-35,0),0.03999)","v":8.0999999999999996E-3},{"$f":"MIN(OFFSET(Female!E$18,'Female Rev'!$A3-35,0),0.03999)","v":8.2000000000000007E-3},{"$f":"MIN(OFFSET(Female!F$18,'Female Rev'!$A3-35,0),0.03999)","v":8.3000000000000001E-3},{"$f":"MIN(OFFSET(Female!G$18,'Female Rev'!$A3-35,0),0.03999)","v":8.6E-3},{"$f":"MIN(OFFSET(Female!H$18,'Female Rev'!$A3-35,0),0.03999)","v":8.8999999999999999E-3},{"$f":"MIN(OFFSET(Female!I$18,'Female Rev'!$A3-35,0),0.03999)","v":9.1999999999999998E-3},{"$f":"MIN(OFFSET(Female!J$18,'Female Rev'!$A3-35,0),0.03999)","v":9.7000000000000003E-3},{"$f":"MIN(OFFSET(Female!K$18,'Female Rev'!$A3-35,0),0.03999)","v":1.0200000000000001E-2},{"$f":"MIN(OFFSET(Female!L$18,'Female Rev'!$A3-35,0),0.03999)","v":1.0699999999999999E-2},{"$f":"MIN(OFFSET(Female!M$18,'Female Rev'!$A3-35,0),0.03999)","v":1.1299999999999999E-2},{"$f":"MIN(OFFSET(Female!N$18,'Female Rev'!$A3-35,0),0.03999)","v":1.2E-2},{"$f":"MIN(OFFSET(Female!O$18,'Female Rev'!$A3-35,0),0.03999)","v":1.26E-2},{"$f":"MIN(OFFSET(Female!P$18,'Female Rev'!$A3-35,0),0.03999)","v":1.3299999999999999E-2},{"$f":"MIN(OFFSET(Female!Q$18,'Female Rev'!$A3-35,0),0.03999)","v":1.3899999999999999E-2},{"$f":"MIN(OFFSET(Female!R$18,'Female Rev'!$A3-35,0),0.03999)","v":1.4500000000000001E-2},{"$f":"MIN(OFFSET(Female!S$18,'Female Rev'!$A3-35,0),0.03999)","v":1.5100000000000001E-2},{"$f":"MIN(OFFSET(Female!T$18,'Female Rev'!$A3-35,0),0.03999)","v":1.55E-2},{"$f":"MIN(OFFSET(Female!U$18,'Female Rev'!$A3-35,0),0.03999)","v":1.5900000000000001E-2},{"$f":"MIN(OFFSET(Female!V$18,'Female Rev'!$A3-35,0),0.03999)","v":1.61E-2},{"$f":"MIN(OFFSET(Female!W$18,'Female Rev'!$A3-35,0),0.03999)","v":1.6299999999999999E-2},{"$f":"MIN(OFFSET(Female!X$18,'Female Rev'!$A3-35,0),0.03999)","v":1.6299999999999999E-2},{"$f":"MIN(OFFSET(Female!Y$18,'Female Rev'!$A3-35,0),0.03999)","v":1.6199999999999999E-2},{"$f":"MIN(OFFSET(Female!Z$18,'Female Rev'!$A3-35,0),0.03999)","v":1.6E-2},{"$f":"MIN(OFFSET(Female!AA$18,'Female Rev'!$A3-35,0),0.03999)","v":1.5599999999999999E-2},{"$f":"MIN(OFFSET(Female!AB$18,'Female Rev'!$A3-35,0),0.03999)","v":1.5100000000000001E-2},{"$f":"MIN(OFFSET(Female!AC$18,'Female Rev'!$A3-35,0),0.03999)","v":1.4500000000000001E-2},{"$f":"MIN(OFFSET(Female!AD$18,'Female Rev'!$A3-35,0),0.03999)","v":1.38E-2},{"$f":"MIN(OFFSET(Female!AE$18,'Female Rev'!$A3-35,0),0.03999)","v":1.29E-2},{"$f":"MIN(OFFSET(Female!AF$18,'Female Rev'!$A3-35,0),0.03999)","v":1.1900000000000001E-2},{"$f":"MIN(OFFSET(Female!AG$18,'Female Rev'!$A3-35,0),0.03999)","v":1.09E-2},{"$f":"MIN(OFFSET(Female!AH$18,'Female Rev'!$A3-35,0),0.03999)","v":9.7000000000000003E-3},{"$f":"MIN(OFFSET(Female!AI$18,'Female Rev'!$A3-35,0),0.03999)","v":8.5000000000000006E-3},{"$f":"MIN(OFFSET(Female!AJ$18,'Female Rev'!$A3-35,0),0.03999)","v":7.3000000000000001E-3},{"$f":"MIN(OFFSET(Female!AK$18,'Female Rev'!$A3-35,0),0.03999)","v":6.0000000000000001E-3},{"$f":"MIN(OFFSET(Female!AL$18,'Female Rev'!$A3-35,0),0.03999)","v":4.7999999999999996E-3},{"$f":"MIN(OFFSET(Female!AM$18,'Female Rev'!$A3-35,0),0.03999)","v":3.5999999999999999E-3},{"$f":"MIN(OFFSET(Female!AN$18,'Female Rev'!$A3-35,0),0.03999)","v":2.5000000000000001E-3},{"$f":"MIN(OFFSET(Female!AO$18,'Female Rev'!$A3-35,0),0.03999)","v":1.4E-3},{"$f":"MIN(OFFSET(Female!AP$18,'Female Rev'!$A3-35,0),0.03999)","v":2.9999999999999997E-4},{"$f":"MIN(OFFSET(Female!AQ$18,'Female Rev'!$A3-35,0),0.03999)","v":-5.9999999999999995E-4},{"$f":"MIN(OFFSET(Female!AR$18,'Female Rev'!$A3-35,0),0.03999)","v":-1.5E-3},{"$f":"MIN(OFFSET(Female!AS$18,'Female Rev'!$A3-35,0),0.03999)","v":-2.0999999999999999E-3},{"$f":"MIN(OFFSET(Female!AT$18,'Female Rev'!$A3-35,0),0.03999)","v":-2.7000000000000001E-3},{"$f":"MIN(OFFSET(Female!AU$18,'Female Rev'!$A3-35,0),0.03999)","v":-3.0000000000000001E-3},{"$f":"MIN(OFFSET(Female!AV$18,'Female Rev'!$A3-35,0),0.03999)","v":-3.2000000000000002E-3},{"$f":"MIN(OFFSET(Female!AW$18,'Female Rev'!$A3-35,0),0.03999)","v":-3.0999999999999999E-3},{"$f":"MIN(OFFSET(Female!AX$18,'Female Rev'!$A3-35,0),0.03999)","v":-2.8999999999999998E-3},{"$f":"MIN(OFFSET(Female!AY$18,'Female Rev'!$A3-35,0),0.03999)","v":-2.5000000000000001E-3},{"$f":"MIN(OFFSET(Female!AZ$18,'Female Rev'!$A3-35,0),0.03999)","v":-2E-3},{"$f":"MIN(OFFSET(Female!BA$18,'Female Rev'!$A3-35,0),0.03999)","v":-1.4E-3},{"$f":"MIN(OFFSET(Female!BB$18,'Female Rev'!$A3-35,0),0.03999)","v":-6.9999999999999999E-4},{"$f":"MIN(OFFSET(Female!BC$18,'Female Rev'!$A3-35,0),0.03999)","v":0},{"$f":"MIN(OFFSET(Female!BD$18,'Female Rev'!$A3-35,0),0.03999)","v":5.9999999999999995E-4},{"$f":"MIN(OFFSET(Female!BE$18,'Female Rev'!$A3-35,0),0.03999)","v":1.2999999999999999E-3},{"$f":"MIN(OFFSET(Female!BF$18,'Female Rev'!$A3-35,0),0.03999)","v":1.9E-3},{"$f":"MIN(OFFSET(Female!BG$18,'Female Rev'!$A3-35,0),0.03999)","v":2.3E-3},{"$f":"MIN(OFFSET(Female!BH$18,'Female Rev'!$A3-35,0),0.03999)","v":2.7000000000000001E-3},{"$f":"MIN(OFFSET(Female!BI$18,'Female Rev'!$A3-35,0),0.03999)","v":3.0000000000000001E-3},{"$f":"MIN(OFFSET(Female!BJ$18,'Female Rev'!$A3-35,0),0.03999)","v":3.2000000000000002E-3},{"$f":"MIN(OFFSET(Female!BK$18,'Female Rev'!$A3-35,0),0.03999)","v":3.3999999999999998E-3},{"$f":"MIN(OFFSET(Female!BL$18,'Female Rev'!$A3-35,0),0.03999)","v":3.5000000000000001E-3},{"$f":"MIN(OFFSET(Female!BM$18,'Female Rev'!$A3-35,0),0.03999)","v":3.5999999999999999E-3},{"$f":"MIN(OFFSET(Female!BN$18,'Female Rev'!$A3-35,0),0.03999)","v":3.5999999999999999E-3},{"$f":"MIN(OFFSET(Female!BO$18,'Female Rev'!$A3-35,0),0.03999)","v":3.8E-3},{"$f":"MIN(OFFSET(Female!BP$18,'Female Rev'!$A3-35,0),0.03999)","v":4.1999999999999997E-3},{"$f":"MIN(OFFSET(Female!BQ$18,'Female Rev'!$A3-35,0),0.03999)","v":4.5999999999999999E-3},{"$f":"MIN(OFFSET(Female!BR$18,'Female Rev'!$A3-35,0),0.03999)","v":5.0000000000000001E-3},{"$f":"MIN(OFFSET(Female!BS$18,'Female Rev'!$A3-35,0),0.03999)","v":5.4999999999999997E-3},{"$f":"MIN(OFFSET(Female!BT$18,'Female Rev'!$A3-35,0),0.03999)","v":6.0000000000000001E-3},{"$f":"MIN(OFFSET(Female!BU$18,'Female Rev'!$A3-35,0),0.03999)","v":6.4000000000000003E-3},{"$f":"MIN(OFFSET(Female!BV$18,'Female Rev'!$A3-35,0),0.03999)","v":6.7999999999999996E-3},{"$f":"MIN(OFFSET(Female!BW$18,'Female Rev'!$A3-35,0),0.03999)","v":7.0000000000000001E-3},{"$f":"MIN(OFFSET(Female!BX$18,'Female Rev'!$A3-35,0),0.03999)","v":7.1999999999999998E-3},{"$f":"MIN(OFFSET(Female!BY$18,'Female Rev'!$A3-35,0),0.03999)","v":7.3000000000000001E-3},{"$f":"MIN(OFFSET(Female!BZ$18,'Female Rev'!$A3-35,0),0.03999)","v":7.4000000000000003E-3},{"$f":"MIN(OFFSET(Female!CA$18,'Female Rev'!$A3-35,0),0.03999)","v":7.4999999999999997E-3},{"$f":"MIN(OFFSET(Female!CB$18,'Female Rev'!$A3-35,0),0.03999)","v":7.6E-3},{"$f":"MIN(OFFSET(Female!CC$18,'Female Rev'!$A3-35,0),0.03999)","v":7.7000000000000002E-3},{"$f":"MIN(OFFSET(Female!CD$18,'Female Rev'!$A3-35,0),0.03999)","v":7.7999999999999996E-3},{"$f":"MIN(OFFSET(Female!CE$18,'Female Rev'!$A3-35,0),0.03999)","v":8.0000000000000002E-3},{"$f":"MIN(OFFSET(Female!CF$18,'Female Rev'!$A3-35,0),0.03999)","v":8.0999999999999996E-3},{"$f":"MIN(OFFSET(Female!CG$18,'Female Rev'!$A3-35,0),0.03999)","v":8.3000000000000001E-3},{"$f":"MIN(OFFSET(Female!CH$18,'Female Rev'!$A3-35,0),0.03999)","v":8.5000000000000006E-3}]
[{"$f":"A3-1","v":94},{"$f":"B3-1","v":94},{"$f":"MIN(OFFSET(Female!B$18,'Female Rev'!$A4-35,0),0.03999)","v":8.0000000000000002E-3},{"$f":"MIN(OFFSET(Female!C$18,'Female Rev'!$A4-35,0),0.03999)","v":8.0000000000000002E-3},{"$f":"MIN(OFFSET(Female!D$18,'Female Rev'!$A4-35,0),0.03999)","v":8.0999999999999996E-3},{"$f":"MIN(OFFSET(Female!E$18,'Female Rev'!$A4-35,0),0.03999)","v":8.2000000000000007E-3},{"$f":"MIN(OFFSET(Female!F$18,'Female Rev'!$A4-35,0),0.03999)","v":8.3000000000000001E-3},{"$f":"MIN(OFFSET(Female!G$18,'Female Rev'!$A4-35,0),0.03999)","v":8.5000000000000006E-3},{"$f":"MIN(OFFSET(Female!H$18,'Female Rev'!$A4-35,0),0.03999)","v":8.8000000000000005E-3},{"$f":"MIN(OFFSET(Female!I$18,'Female Rev'!$A4-35,0),0.03999)","v":9.1999999999999998E-3},{"$f":"MIN(OFFSET(Female!J$18,'Female Rev'!$A4-35,0),0.03999)","v":9.5999999999999992E-3},{"$f":"MIN(OFFSET(Female!K$18,'Female Rev'!$A4-35,0),0.03999)","v":1.01E-2},{"$f":"MIN(OFFSET(Female!L$18,'Female Rev'!$A4-35,0),0.03999)","v":1.0699999999999999E-2},{"$f":"MIN(OFFSET(Female!M$18,'Female Rev'!$A4-35,0),0.03999)","v":1.1299999999999999E-2},{"$f":"MIN(OFFSET(Female!N$18,'Female Rev'!$A4-35,0),0.03999)","v":1.2E-2},{"$f":"MIN(OFFSET(Female!O$18,'Female Rev'!$A4-35,0),0.03999)","v":1.2699999999999999E-2},{"$f":"MIN(OFFSET(Female!P$18,'Female Rev'!$A4-35,0),0.03999)","v":1.34E-2},{"$f":"MIN(OFFSET(Female!Q$18,'Female Rev'!$A4-35,0),0.03999)","v":1.4E-2},{"$f":"MIN(OFFSET(Female!R$18,'Female Rev'!$A4-35,0),0.03999)","v":1.47E-2},{"$f":"MIN(OFFSET(Female!S$18,'Female Rev'!$A4-35,0),0.03999)","v":1.52E-2},{"$f":"MIN(OFFSET(Female!T$18,'Female Rev'!$A4-35,0),0.03999)","v":1.5699999999999999E-2},{"$f":"MIN(OFFSET(Female!U$18,'Female Rev'!$A4-35,0),0.03999)","v":1.61E-2},{"$f":"MIN(OFFSET(Female!V$18,'Female Rev'!$A4-35,0),0.03999)","v":1.6400000000000001E-2},{"$f":"MIN(OFFSET(Female!W$18,'Female Rev'!$A4-35,0),0.03999)","v":1.66E-2},{"$f":"MIN(OFFSET(Female!X$18,'Female Rev'!$A4-35,0),0.03999)","v":1.66E-2},{"$f":"MIN(OFFSET(Female!Y$18,'Female Rev'!$A4-35,0),0.03999)","v":1.6500000000000001E-2},{"$f":"MIN(OFFSET(Female!Z$18,'Female Rev'!$A4-35,0),0.03999)","v":1.6299999999999999E-2},{"$f":"MIN(OFFSET(Female!AA$18,'Female Rev'!$A4-35,0),0.03999)","v":1.5900000000000001E-2},{"$f":"MIN(OFFSET(Female!AB$18,'Female Rev'!$A4-35,0),0.03999)","v":1.54E-2},{"$f":"MIN(OFFSET(Female!AC$18,'Female Rev'!$A4-35,0),0.03999)","v":1.47E-2},{"$f":"MIN(OFFSET(Female!AD$18,'Female Rev'!$A4-35,0),0.03999)","v":1.4E-2},{"$f":"MIN(OFFSET(Female!AE$18,'Female Rev'!$A4-35,0),0.03999)","v":1.3100000000000001E-2},{"$f":"MIN(OFFSET(Female!AF$18,'Female Rev'!$A4-35,0),0.03999)","v":1.21E-2},{"$f":"MIN(OFFSET(Female!AG$18,'Female Rev'!$A4-35,0),0.03999)","v":1.0999999999999999E-2},{"$f":"MIN(OFFSET(Female!AH$18,'Female Rev'!$A4-35,0),0.03999)","v":9.7999999999999997E-3},{"$f":"MIN(OFFSET(Female!AI$18,'Female Rev'!$A4-35,0),0.03999)","v":8.6E-3},{"$f":"MIN(OFFSET(Female!AJ$18,'Female Rev'!$A4-35,0),0.03999)","v":7.3000000000000001E-3},{"$f":"MIN(OFFSET(Female!AK$18,'Female Rev'!$A4-35,0),0.03999)","v":6.1000000000000004E-3},{"$f":"MIN(OFFSET(Female!AL$18,'Female Rev'!$A4-35,0),0.03999)","v":4.8999999999999998E-3},{"$f":"MIN(OFFSET(Female!AM$18,'Female Rev'!$A4-35,0),0.03999)","v":3.7000000000000002E-3},{"$f":"MIN(OFFSET(Female!AN$18,'Female Rev'!$A4-35,0),0.03999)","v":2.5999999999999999E-3},{"$f":"MIN(OFFSET(Female!AO$18,'Female Rev'!$A4-35,0),0.03999)","v":1.5E-3},{"$f":"MIN(OFFSET(Female!AP$18,'Female Rev'!$A4-35,0),0.03999)","v":5.0000000000000001E-4},{"$f":"MIN(OFFSET(Female!AQ$18,'Female Rev'!$A4-35,0),0.03999)","v":-5.0000000000000001E-4},{"$f":"MIN(OFFSET(Female!AR$18,'Female Rev'!$A4-35,0),0.03999)","v":-1.2999999999999999E-3},{"$f":"MIN(OFFSET(Female!AS$18,'Female Rev'!$A4-35,0),0.03999)","v":-2E-3},{"$f":"MIN(OFFSET(Female!AT$18,'Female Rev'!$A4-35,0),0.03999)","v":-2.5000000000000001E-3},{"$f":"MIN(OFFSET(Female!AU$18,'Female Rev'!$A4-35,0),0.03999)","v":-2.8E-3},{"$f":"MIN(OFFSET(Female!AV$18,'Female Rev'!$A4-35,0),0.03999)","v":-2.8999999999999998E-3},{"$f":"MIN(OFFSET(Female!AW$18,'Female Rev'!$A4-35,0),0.03999)","v":-2.8E-3},{"$f":"MIN(OFFSET(Female!AX$18,'Female Rev'!$A4-35,0),0.03999)","v":-2.5000000000000001E-3},{"$f":"MIN(OFFSET(Female!AY$18,'Female Rev'!$A4-35,0),0.03999)","v":-2.0999999999999999E-3},{"$f":"MIN(OFFSET(Female!AZ$18,'Female Rev'!$A4-35,0),0.03999)","v":-1.5E-3},{"$f":"MIN(OFFSET(Female!BA$18,'Female Rev'!$A4-35,0),0.03999)","v":-8.0000000000000004E-4},{"$f":"MIN(OFFSET(Female!BB$18,'Female Rev'!$A4-35,0),0.03999)","v":0},{"$f":"MIN(OFFSET(Female!BC$18,'Female Rev'!$A4-35,0),0.03999)","v":6.9999999999999999E-4},{"$f":"MIN(OFFSET(Female!BD$18,'Female Rev'!$A4-35,0),0.03999)","v":1.5E-3},{"$f":"MIN(OFFSET(Female!BE$18,'Female Rev'!$A4-35,0),0.03999)","v":2.0999999999999999E-3},{"$f":"MIN(OFFSET(Female!BF$18,'Female Rev'!$A4-35,0),0.03999)","v":2.7000000000000001E-3},{"$f":"MIN(OFFSET(Female!BG$18,'Female Rev'!$A4-35,0),0.03999)","v":3.0999999999999999E-3},{"$f":"MIN(OFFSET(Female!BH$18,'Female Rev'!$A4-35,0),0.03999)","v":3.5000000000000001E-3},{"$f":"MIN(OFFSET(Female!BI$18,'Female Rev'!$A4-35,0),0.03999)","v":3.7000000000000002E-3},{"$f":"MIN(OFFSET(Female!BJ$18,'Female Rev'!$A4-35,0),0.03999)","v":3.8E-3},{"$f":"MIN(OFFSET(Female!BK$18,'Female Rev'!$A4-35,0),0.03999)","v":3.8999999999999998E-3},{"$f":"MIN(OFFSET(Female!BL$18,'Female Rev'!$A4-35,0),0.03999)","v":4.0000000000000001E-3},{"$f":"MIN(OFFSET(Female!BM$18,'Female Rev'!$A4-35,0),0.03999)","v":4.0000000000000001E-3},{"$f":"MIN(OFFSET(Female!BN$18,'Female Rev'!$A4-35,0),0.03999)","v":4.0000000000000001E-3},{"$f":"MIN(OFFSET(Female!BO$18,'Female Rev'!$A4-35,0),0.03999)","v":4.1999999999999997E-3},{"$f":"MIN(OFFSET(Female!BP$18,'Female Rev'!$A4-35,0),0.03999)","v":4.5999999999999999E-3},{"$f":"MIN(OFFSET(Female!BQ$18,'Female Rev'!$A4-35,0),0.03999)","v":5.0000000000000001E-3},{"$f":"MIN(OFFSET(Female!BR$18,'Female Rev'!$A4-35,0),0.03999)","v":5.4000000000000003E-3},{"$f":"MIN(OFFSET(Female!BS$18,'Female Rev'!$A4-35,0),0.03999)","v":5.7999999999999996E-3},{"$f":"MIN(OFFSET(Female!BT$18,'Female Rev'!$A4-35,0),0.03999)","v":6.3E-3},{"$f":"MIN(OFFSET(Female!BU$18,'Female Rev'!$A4-35,0),0.03999)","v":6.7000000000000002E-3},{"$f":"MIN(OFFSET(Female!BV$18,'Female Rev'!$A4-35,0),0.03999)","v":7.0000000000000001E-3},{"$f":"MIN(OFFSET(Female!BW$18,'Female Rev'!$A4-35,0),0.03999)","v":7.3000000000000001E-3},{"$f":"MIN(OFFSET(Female!BX$18,'Female Rev'!$A4-35,0),0.03999)","v":7.4999999999999997E-3},{"$f":"MIN(OFFSET(Female!BY$18,'Female Rev'!$A4-35,0),0.03999)","v":7.4999999999999997E-3},{"$f":"MIN(OFFSET(Female!BZ$18,'Female Rev'!$A4-35,0),0.03999)","v":7.6E-3},{"$f":"MIN(OFFSET(Female!CA$18,'Female Rev'!$A4-35,0),0.03999)","v":7.7000000000000002E-3},{"$f":"MIN(OFFSET(Female!CB$18,'Female Rev'!$A4-35,0),0.03999)","v":7.9000000000000008E-3},{"$f":"MIN(OFFSET(Female!CC$18,'Female Rev'!$A4-35,0),0.03999)","v":8.0000000000000002E-3},{"$f":"MIN(OFFSET(Female!CD$18,'Female Rev'!$A4-35,0),0.03999)","v":8.0999999999999996E-3},{"$f":"MIN(OFFSET(Female!CE$18,'Female Rev'!$A4-35,0),0.03999)","v":8.2000000000000007E-3},{"$f":"MIN(OFFSET(Female!CF$18,'Female Rev'!$A4-35,0),0.03999)","v":8.3999999999999995E-3},{"$f":"MIN(OFFSET(Female!CG$18,'Female Rev'!$A4-35,0),0.03999)","v":8.6E-3},{"$f":"MIN(OFFSET(Female!CH$18,'Female Rev'!$A4-35,0),0.03999)","v":8.6999999999999994E-3}]
[{"$f":"A4-1","v":93},93,{"$f":"MIN(OFFSET(Female!B$18,'Female Rev'!$A5-35,0),0.03999)","v":8.0000000000000002E-3},{"$f":"MIN(OFFSET(Female!C$18,'Female Rev'!$A5-35,0),0.03999)","v":8.0000000000000002E-3},{"$f":"MIN(OFFSET(Female!D$18,'Female Rev'!$A5-35,0),0.03999)","v":8.0999999999999996E-3},{"$f":"MIN(OFFSET(Female!E$18,'Female Rev'!$A5-35,0),0.03999)","v":8.2000000000000007E-3},{"$f":"MIN(OFFSET(Female!F$18,'Female Rev'!$A5-35,0),0.03999)","v":8.3000000000000001E-3},{"$f":"MIN(OFFSET(Female!G$18,'Female Rev'!$A5-35,0),0.03999)","v":8.5000000000000006E-3},{"$f":"MIN(OFFSET(Female!H$18,'Female Rev'!$A5-35,0),0.03999)","v":8.8000000000000005E-3},{"$f":"MIN(OFFSET(Female!I$18,'Female Rev'!$A5-35,0),0.03999)","v":9.1999999999999998E-3},{"$f":"MIN(OFFSET(Female!J$18,'Female Rev'!$A5-35,0),0.03999)","v":9.5999999999999992E-3},{"$f":"MIN(OFFSET(Female!K$18,'Female Rev'!$A5-35,0),0.03999)","v":1.01E-2},{"$f":"MIN(OFFSET(Female!L$18,'Female Rev'!$A5-35,0),0.03999)","v":1.0699999999999999E-2},{"$f":"MIN(OFFSET(Female!M$18,'Female Rev'!$A5-35,0),0.03999)","v":1.1299999999999999E-2},{"$f":"MIN(OFFSET(Female!N$18,'Female Rev'!$A5-35,0),0.03999)","v":1.2E-2},{"$f":"MIN(OFFSET(Female!O$18,'Female Rev'!$A5-35,0),0.03999)","v":1.2699999999999999E-2},{"$f":"MIN(OFFSET(Female!P$18,'Female Rev'!$A5-35,0),0.03999)","v":1.34E-2},{"$f":"MIN(OFFSET(Female!Q$18,'Female Rev'!$A5-35,0),0.03999)","v":1.4200000000000001E-2},{"$f":"MIN(OFFSET(Female!R$18,'Female Rev'!$A5-35,0),0.03999)","v":1.4800000000000001E-2},{"$f":"MIN(OFFSET(Female!S$18,'Female Rev'!$A5-35,0),0.03999)","v":1.54E-2},{"$f":"MIN(OFFSET(Female!T$18,'Female Rev'!$A5-35,0),0.03999)","v":1.6E-2},{"$f":"MIN(OFFSET(Female!U$18,'Female Rev'!$A5-35,0),0.03999)","v":1.6400000000000001E-2},{"$f":"MIN(OFFSET(Female!V$18,'Female Rev'!$A5-35,0),0.03999)","v":1.67E-2},{"$f":"MIN(OFFSET(Female!W$18,'Female Rev'!$A5-35,0),0.03999)","v":1.6899999999999998E-2},{"$f":"MIN(OFFSET(Female!X$18,'Female Rev'!$A5-35,0),0.03999)","v":1.6899999999999998E-2},{"$f":"MIN(OFFSET(Female!Y$18,'Female Rev'!$A5-35,0),0.03999)","v":1.6799999999999999E-2},{"$f":"MIN(OFFSET(Female!Z$18,'Female Rev'!$A5-35,0),0.03999)","v":1.66E-2},{"$f":"MIN(OFFSET(Female!AA$18,'Female Rev'!$A5-35,0),0.03999)","v":1.6199999999999999E-2},{"$f":"MIN(OFFSET(Female!AB$18,'Female Rev'!$A5-35,0),0.03999)","v":1.5599999999999999E-2},{"$f":"MIN(OFFSET(Female!AC$18,'Female Rev'!$A5-35,0),0.03999)","v":1.4999999999999999E-2},{"$f":"MIN(OFFSET(Female!AD$18,'Female Rev'!$A5-35,0),0.03999)","v":1.4200000000000001E-2},{"$f":"MIN(OFFSET(Female!AE$18,'Female Rev'!$A5-35,0),0.03999)","v":1.32E-2},{"$f":"MIN(OFFSET(Female!AF$18,'Female Rev'!$A5-35,0),0.03999)","v":1.2200000000000001E-2},{"$f":"MIN(OFFSET(Female!AG$18,'Female Rev'!$A5-35,0),0.03999)","v":1.11E-2},{"$f":"MIN(OFFSET(Female!AH$18,'Female Rev'!$A5-35,0),0.03999)","v":9.9000000000000008E-3},{"$f":"MIN(OFFSET(Female!AI$18,'Female Rev'!$A5-35,0),0.03999)","v":8.6999999999999994E-3},{"$f":"MIN(OFFSET(Female!AJ$18,'Female Rev'!$A5-35,0),0.03999)","v":7.4000000000000003E-3},{"$f":"MIN(OFFSET(Female!AK$18,'Female Rev'!$A5-35,0),0.03999)","v":6.1999999999999998E-3},{"$f":"MIN(OFFSET(Female!AL$18,'Female Rev'!$A5-35,0),0.03999)","v":5.0000000000000001E-3},{"$f":"MIN(OFFSET(Female!AM$18,'Female Rev'!$A5-35,0),0.03999)","v":3.8999999999999998E-3},{"$f":"MIN(OFFSET(Female!AN$18,'Female Rev'!$A5-35,0),0.03999)","v":2.8E-3},{"$f":"MIN(OFFSET(Female!AO$18,'Female Rev'!$A5-35,0),0.03999)","v":1.6999999999999999E-3},{"$f":"MIN(OFFSET(Female!AP$18,'Female Rev'!$A5-35,0),0.03999)","v":6.9999999999999999E-4},{"$f":"MIN(OFFSET(Female!AQ$18,'Female Rev'!$A5-35,0),0.03999)","v":-2.9999999999999997E-4},{"$f":"MIN(OFFSET(Female!AR$18,'Female Rev'!$A5-35,0),0.03999)","v":-1.1000000000000001E-3},{"$f":"MIN(OFFSET(Female!AS$18,'Female Rev'!$A5-35,0),0.03999)","v":-1.8E-3},{"$f":"MIN(OFFSET(Female!AT$18,'Female Rev'!$A5-35,0),0.03999)","v":-2.3E-3},{"$f":"MIN(OFFSET(Female!AU$18,'Female Rev'!$A5-35,0),0.03999)","v":-2.5999999999999999E-3},{"$f":"MIN(OFFSET(Female!AV$18,'Female Rev'!$A5-35,0),0.03999)","v":-2.7000000000000001E-3},{"$f":"MIN(OFFSET(Female!AW$18,'Female Rev'!$A5-35,0),0.03999)","v":-2.5000000000000001E-3},{"$f":"MIN(OFFSET(Female!AX$18,'Female Rev'!$A5-35,0),0.03999)","v":-2.2000000000000001E-3},{"$f":"MIN(OFFSET(Female!AY$18,'Female Rev'!$A5-35,0),0.03999)","v":-1.6000000000000001E-3},{"$f":"MIN(OFFSET(Female!AZ$18,'Female Rev'!$A5-35,0),0.03999)","v":-8.9999999999999998E-4},{"$f":"MIN(OFFSET(Female!BA$18,'Female Rev'!$A5-35,0),0.03999)","v":-1E-4},{"$f":"MIN(OFFSET(Female!BB$18,'Female Rev'!$A5-35,0),0.03999)","v":6.9999999999999999E-4},{"$f":"MIN(OFFSET(Female!BC$18,'Female Rev'!$A5-35,0),0.03999)","v":1.5E-3},{"$f":"MIN(OFFSET(Female!BD$18,'Female Rev'!$A5-35,0),0.03999)","v":2.3E-3},{"$f":"MIN(OFFSET(Female!BE$18,'Female Rev'!$A5-35,0),0.03999)","v":2.8999999999999998E-3},{"$f":"MIN(OFFSET(Female!BF$18,'Female Rev'!$A5-35,0),0.03999)","v":3.5000000000000001E-3},{"$f":"MIN(OFFSET(Female!BG$18,'Female Rev'!$A5-35,0),0.03999)","v":3.8999999999999998E-3},{"$f":"MIN(OFFSET(Female!BH$18,'Female Rev'!$A5-35,0),0.03999)","v":4.1999999999999997E-3},{"$f":"MIN(OFFSET(Female!BI$18,'Female Rev'!$A5-35,0),0.03999)","v":4.3E-3},{"$f":"MIN(OFFSET(Female!BJ$18,'Female Rev'!$A5-35,0),0.03999)","v":4.4000000000000003E-3},{"$f":"MIN(OFFSET(Female!BK$18,'Female Rev'!$A5-35,0),0.03999)","v":4.4000000000000003E-3},{"$f":"MIN(OFFSET(Female!BL$18,'Female Rev'!$A5-35,0),0.03999)","v":4.4000000000000003E-3},{"$f":"MIN(OFFSET(Female!BM$18,'Female Rev'!$A5-35,0),0.03999)","v":4.4000000000000003E-3},{"$f":"MIN(OFFSET(Female!BN$18,'Female Rev'!$A5-35,0),0.03999)","v":4.4000000000000003E-3},{"$f":"MIN(OFFSET(Female!BO$18,'Female Rev'!$A5-35,0),0.03999)","v":4.5999999999999999E-3},{"$f":"MIN(OFFSET(Female!BP$18,'Female Rev'!$A5-35,0),0.03999)","v":4.8999999999999998E-3},{"$f":"MIN(OFFSET(Female!BQ$18,'Female Rev'!$A5-35,0),0.03999)","v":5.3E-3},{"$f":"MIN(OFFSET(Female!BR$18,'Female Rev'!$A5-35,0),0.03999)","v":5.7000000000000002E-3},{"$f":"MIN(OFFSET(Female!BS$18,'Female Rev'!$A5-35,0),0.03999)","v":6.1999999999999998E-3},{"$f":"MIN(OFFSET(Female!BT$18,'Female Rev'!$A5-35,0),0.03999)","v":6.6E-3},{"$f":"MIN(OFFSET(Female!BU$18,'Female Rev'!$A5-35,0),0.03999)","v":7.0000000000000001E-3},{"$f":"MIN(OFFSET(Female!BV$18,'Female Rev'!$A5-35,0),0.03999)","v":7.3000000000000001E-3},{"$f":"MIN(OFFSET(Female!BW$18,'Female Rev'!$A5-35,0),0.03999)","v":7.6E-3},{"$f":"MIN(OFFSET(Female!BX$18,'Female Rev'!$A5-35,0),0.03999)","v":7.7000000000000002E-3},{"$f":"MIN(OFFSET(Female!BY$18,'Female Rev'!$A5-35,0),0.03999)","v":7.7999999999999996E-3},{"$f":"MIN(OFFSET(Female!BZ$18,'Female Rev'!$A5-35,0),0.03999)","v":7.9000000000000008E-3},{"$f":"MIN(OFFSET(Female!CA$18,'Female Rev'!$A5-35,0),0.03999)","v":8.0000000000000002E-3},{"$f":"MIN(OFFSET(Female!CB$18,'Female Rev'!$A5-35,0),0.03999)","v":8.0999999999999996E-3},{"$f":"MIN(OFFSET(Female!CC$18,'Female Rev'!$A5-35,0),0.03999)","v":8.3000000000000001E-3},{"$f":"MIN(OFFSET(Female!CD$18,'Female Rev'!$A5-35,0),0.03999)","v":8.3999999999999995E-3},{"$f":"MIN(OFFSET(Female!CE$18,'Female Rev'!$A5-35,0),0.03999)","v":8.5000000000000006E-3},{"$f":"MIN(OFFSET(Female!CF$18,'Female Rev'!$A5-35,0),0.03999)","v":8.6999999999999994E-3},{"$f":"MIN(OFFSET(Female!CG$18,'Female Rev'!$A5-35,0),0.03999)","v":8.6999999999999994E-3},{"$f":"MIN(OFFSET(Female!CH$18,'Female Rev'!$A5-35,0),0.03999)","v":8.8000000000000005E-3}]
[92,92,{"$f":"MIN(OFFSET(Female!B$18,'Female Rev'!$A6-35,0),0.03999)","v":8.0000000000000002E-3},{"$f":"MIN(OFFSET(Female!C$18,'Female Rev'!$A6-35,0),0.03999)","v":8.0000000000000002E-3},{"$f":"MIN(OFFSET(Female!D$18,'Female Rev'!$A6-35,0),0.03999)","v":8.0999999999999996E-3},{"$f":"MIN(OFFSET(Female!E$18,'Female Rev'!$A6-35,0),0.03999)","v":8.2000000000000007E-3},{"$f":"MIN(OFFSET(Female!F$18,'Female Rev'!$A6-35,0),0.03999)","v":8.3000000000000001E-3},{"$f":"MIN(OFFSET(Female!G$18,'Female Rev'!$A6-35,0),0.03999)","v":8.5000000000000006E-3},{"$f":"MIN(OFFSET(Female!H$18,'Female Rev'!$A6-35,0),0.03999)","v":8.8000000000000005E-3},{"$f":"MIN(OFFSET(Female!I$18,'Female Rev'!$A6-35,0),0.03999)","v":9.1000000000000004E-3},{"$f":"MIN(OFFSET(Female!J$18,'Female Rev'!$A6-35,0),0.03999)","v":9.5999999999999992E-3},{"$f":"MIN(OFFSET(Female!K$18,'Female Rev'!$A6-35,0),0.03999)","v":1.01E-2},{"$f":"MIN(OFFSET(Female!L$18,'Female Rev'!$A6-35,0),0.03999)","v":1.06E-2},{"$f":"MIN(OFFSET(Female!M$18,'Female Rev'!$A6-35,0),0.03999)","v":1.1299999999999999E-2},{"$f":"MIN(OFFSET(Female!N$18,'Female Rev'!$A6-35,0),0.03999)","v":1.2E-2},{"$f":"MIN(OFFSET(Female!O$18,'Female Rev'!$A6-35,0),0.03999)","v":1.2800000000000001E-2},{"$f":"MIN(OFFSET(Female!P$18,'Female Rev'!$A6-35,0),0.03999)","v":1.35E-2},{"$f":"MIN(OFFSET(Female!Q$18,'Female Rev'!$A6-35,0),0.03999)","v":1.43E-2},{"$f":"MIN(OFFSET(Female!R$18,'Female Rev'!$A6-35,0),0.03999)","v":1.4999999999999999E-2},{"$f":"MIN(OFFSET(Female!S$18,'Female Rev'!$A6-35,0),0.03999)","v":1.5599999999999999E-2},{"$f":"MIN(OFFSET(Female!T$18,'Female Rev'!$A6-35,0),0.03999)","v":1.6199999999999999E-2},{"$f":"MIN(OFFSET(Female!U$18,'Female Rev'!$A6-35,0),0.03999)","v":1.66E-2},{"$f":"MIN(OFFSET(Female!V$18,'Female Rev'!$A6-35,0),0.03999)","v":1.7000000000000001E-2},{"$f":"MIN(OFFSET(Female!W$18,'Female Rev'!$A6-35,0),0.03999)","v":1.7100000000000001E-2},{"$f":"MIN(OFFSET(Female!X$18,'Female Rev'!$A6-35,0),0.03999)","v":1.72E-2},{"$f":"MIN(OFFSET(Female!Y$18,'Female Rev'!$A6-35,0),0.03999)","v":1.7100000000000001E-2},{"$f":"MIN(OFFSET(Female!Z$18,'Female Rev'!$A6-35,0),0.03999)","v":1.6899999999999998E-2},{"$f":"MIN(OFFSET(Female!AA$18,'Female Rev'!$A6-35,0),0.03999)","v":1.6500000000000001E-2},{"$f":"MIN(OFFSET(Female!AB$18,'Female Rev'!$A6-35,0),0.03999)","v":1.5900000000000001E-2},{"$f":"MIN(OFFSET(Female!AC$18,'Female Rev'!$A6-35,0),0.03999)","v":1.52E-2},{"$f":"MIN(OFFSET(Female!AD$18,'Female Rev'!$A6-35,0),0.03999)","v":1.44E-2},{"$f":"MIN(OFFSET(Female!AE$18,'Female Rev'!$A6-35,0),0.03999)","v":1.34E-2},{"$f":"MIN(OFFSET(Female!AF$18,'Female Rev'!$A6-35,0),0.03999)","v":1.23E-2},{"$f":"MIN(OFFSET(Female!AG$18,'Female Rev'!$A6-35,0),0.03999)","v":1.12E-2},{"$f":"MIN(OFFSET(Female!AH$18,'Female Rev'!$A6-35,0),0.03999)","v":0.01},{"$f":"MIN(OFFSET(Female!AI$18,'Female Rev'!$A6-35,0),0.03999)","v":8.6999999999999994E-3},{"$f":"MIN(OFFSET(Female!AJ$18,'Female Rev'!$A6-35,0),0.03999)","v":7.4999999999999997E-3},{"$f":"MIN(OFFSET(Female!AK$18,'Female Rev'!$A6-35,0),0.03999)","v":6.3E-3},{"$f":"MIN(OFFSET(Female!AL$18,'Female Rev'!$A6-35,0),0.03999)","v":5.1000000000000004E-3},{"$f":"MIN(OFFSET(Female!AM$18,'Female Rev'!$A6-35,0),0.03999)","v":4.0000000000000001E-3},{"$f":"MIN(OFFSET(Female!AN$18,'Female Rev'!$A6-35,0),0.03999)","v":2.8999999999999998E-3},{"$f":"MIN(OFFSET(Female!AO$18,'Female Rev'!$A6-35,0),0.03999)","v":1.9E-3},{"$f":"MIN(OFFSET(Female!AP$18,'Female Rev'!$A6-35,0),0.03999)","v":8.0000000000000004E-4},{"$f":"MIN(OFFSET(Female!AQ$18,'Female Rev'!$A6-35,0),0.03999)","v":-1E-4},{"$f":"MIN(OFFSET(Female!AR$18,'Female Rev'!$A6-35,0),0.03999)","v":-1E-3},{"$f":"MIN(OFFSET(Female!AS$18,'Female Rev'!$A6-35,0),0.03999)","v":-1.6000000000000001E-3},{"$f":"MIN(OFFSET(Female!AT$18,'Female Rev'!$A6-35,0),0.03999)","v":-2.0999999999999999E-3},{"$f":"MIN(OFFSET(Female!AU$18,'Female Rev'!$A6-35,0),0.03999)","v":-2.3999999999999998E-3},{"$f":"MIN(OFFSET(Female!AV$18,'Female Rev'!$A6-35,0),0.03999)","v":-2.3999999999999998E-3},{"$f":"MIN(OFFSET(Female!AW$18,'Female Rev'!$A6-35,0),0.03999)","v":-2.2000000000000001E-3},{"$f":"MIN(OFFSET(Female!AX$18,'Female Rev'!$A6-35,0),0.03999)","v":-1.8E-3},{"$f":"MIN(OFFSET(Female!AY$18,'Female Rev'!$A6-35,0),0.03999)","v":-1.1000000000000001E-3},{"$f":"MIN(OFFSET(Female!AZ$18,'Female Rev'!$A6-35,0),0.03999)","v":-4.0000000000000002E-4},{"$f":"MIN(OFFSET(Female!BA$18,'Female Rev'!$A6-35,0),0.03999)","v":5.0000000000000001E-4},{"$f":"MIN(OFFSET(Female!BB$18,'Female Rev'!$A6-35,0),0.03999)","v":1.4E-3},{"$f":"MIN(OFFSET(Female!BC$18,'Female Rev'!$A6-35,0),0.03999)","v":2.3E-3},{"$f":"MIN(OFFSET(Female!BD$18,'Female Rev'!$A6-35,0),0.03999)","v":3.0999999999999999E-3},{"$f":"MIN(OFFSET(Female!BE$18,'Female Rev'!$A6-35,0),0.03999)","v":3.7000000000000002E-3},{"$f":"MIN(OFFSET(Female!BF$18,'Female Rev'!$A6-35,0),0.03999)","v":4.3E-3},{"$f":"MIN(OFFSET(Female!BG$18,'Female Rev'!$A6-35,0),0.03999)","v":4.5999999999999999E-3},{"$f":"MIN(OFFSET(Female!BH$18,'Female Rev'!$A6-35,0),0.03999)","v":4.8999999999999998E-3},{"$f":"MIN(OFFSET(Female!BI$18,'Female Rev'!$A6-35,0),0.03999)","v":5.0000000000000001E-3},{"$f":"MIN(OFFSET(Female!BJ$18,'Female Rev'!$A6-35,0),0.03999)","v":5.0000000000000001E-3},{"$f":"MIN(OFFSET(Female!BK$18,'Female Rev'!$A6-35,0),0.03999)","v":4.8999999999999998E-3},{"$f":"MIN(OFFSET(Female!BL$18,'Female Rev'!$A6-35,0),0.03999)","v":4.8999999999999998E-3},{"$f":"MIN(OFFSET(Female!BM$18,'Female Rev'!$A6-35,0),0.03999)","v":4.7999999999999996E-3},{"$f":"MIN(OFFSET(Female!BN$18,'Female Rev'!$A6-35,0),0.03999)","v":4.7000000000000002E-3},{"$f":"MIN(OFFSET(Female!BO$18,'Female Rev'!$A6-35,0),0.03999)","v":5.0000000000000001E-3},{"$f":"MIN(OFFSET(Female!BP$18,'Female Rev'!$A6-35,0),0.03999)","v":5.3E-3},{"$f":"MIN(OFFSET(Female!BQ$18,'Female Rev'!$A6-35,0),0.03999)","v":5.7000000000000002E-3},{"$f":"MIN(OFFSET(Female!BR$18,'Female Rev'!$A6-35,0),0.03999)","v":6.1000000000000004E-3},{"$f":"MIN(OFFSET(Female!BS$18,'Female Rev'!$A6-35,0),0.03999)","v":6.4999999999999997E-3},{"$f":"MIN(OFFSET(Female!BT$18,'Female Rev'!$A6-35,0),0.03999)","v":6.8999999999999999E-3},{"$f":"MIN(OFFSET(Female!BU$18,'Female Rev'!$A6-35,0),0.03999)","v":7.3000000000000001E-3},{"$f":"MIN(OFFSET(Female!BV$18,'Female Rev'!$A6-35,0),0.03999)","v":7.6E-3},{"$f":"MIN(OFFSET(Female!BW$18,'Female Rev'!$A6-35,0),0.03999)","v":7.9000000000000008E-3},{"$f":"MIN(OFFSET(Female!BX$18,'Female Rev'!$A6-35,0),0.03999)","v":8.0000000000000002E-3},{"$f":"MIN(OFFSET(Female!BY$18,'Female Rev'!$A6-35,0),0.03999)","v":8.0999999999999996E-3},{"$f":"MIN(OFFSET(Female!BZ$18,'Female Rev'!$A6-35,0),0.03999)","v":8.2000000000000007E-3},{"$f":"MIN(OFFSET(Female!CA$18,'Female Rev'!$A6-35,0),0.03999)","v":8.3000000000000001E-3},{"$f":"MIN(OFFSET(Female!CB$18,'Female Rev'!$A6-35,0),0.03999)","v":8.3999999999999995E-3},{"$f":"MIN(OFFSET(Female!CC$18,'Female Rev'!$A6-35,0),0.03999)","v":8.5000000000000006E-3},{"$f":"MIN(OFFSET(Female!CD$18,'Female Rev'!$A6-35,0),0.03999)","v":8.6999999999999994E-3},{"$f":"MIN(OFFSET(Female!CE$18,'Female Rev'!$A6-35,0),0.03999)","v":8.8000000000000005E-3},{"$f":"MIN(OFFSET(Female!CF$18,'Female Rev'!$A6-35,0),0.03999)","v":8.8000000000000005E-3},{"$f":"MIN(OFFSET(Female!CG$18,'Female Rev'!$A6-35,0),0.03999)","v":8.8999999999999999E-3},{"$f":"MIN(OFFSET(Female!CH$18,'Female Rev'!$A6-35,0),0.03999)","v":8.9999999999999993E-3}]
[91,91,{"$f":"MIN(OFFSET(Female!B$18,'Female Rev'!$A7-35,0),0.03999)","v":8.0999999999999996E-3},{"$f":"MIN(OFFSET(Female!C$18,'Female Rev'!$A7-35,0),0.03999)","v":8.0999999999999996E-3},{"$f":"MIN(OFFSET(Female!D$18,'Female Rev'!$A7-35,0),0.03999)","v":8.0999999999999996E-3},{"$f":"MIN(OFFSET(Female!E$18,'Female Rev'!$A7-35,0),0.03999)","v":8.2000000000000007E-3},{"$f":"MIN(OFFSET(Female!F$18,'Female Rev'!$A7-35,0),0.03999)","v":8.3000000000000001E-3},{"$f":"MIN(OFFSET(Female!G$18,'Female Rev'!$A7-35,0),0.03999)","v":8.5000000000000006E-3},{"$f":"MIN(OFFSET(Female!H$18,'Female Rev'!$A7-35,0),0.03999)","v":8.6999999999999994E-3},{"$f":"MIN(OFFSET(Female!I$18,'Female Rev'!$A7-35,0),0.03999)","v":9.1000000000000004E-3},{"$f":"MIN(OFFSET(Female!J$18,'Female Rev'!$A7-35,0),0.03999)","v":9.4999999999999998E-3},{"$f":"MIN(OFFSET(Female!K$18,'Female Rev'!$A7-35,0),0.03999)","v":0.01},{"$f":"MIN(OFFSET(Female!L$18,'Female Rev'!$A7-35,0),0.03999)","v":1.06E-2},{"$f":"MIN(OFFSET(Female!M$18,'Female Rev'!$A7-35,0),0.03999)","v":1.1299999999999999E-2},{"$f":"MIN(OFFSET(Female!N$18,'Female Rev'!$A7-35,0),0.03999)","v":1.2E-2},{"$f":"MIN(OFFSET(Female!O$18,'Female Rev'!$A7-35,0),0.03999)","v":1.2800000000000001E-2},{"$f":"MIN(OFFSET(Female!P$18,'Female Rev'!$A7-35,0),0.03999)","v":1.3599999999999999E-2},{"$f":"MIN(OFFSET(Female!Q$18,'Female Rev'!$A7-35,0),0.03999)","v":1.44E-2},{"$f":"MIN(OFFSET(Female!R$18,'Female Rev'!$A7-35,0),0.03999)","v":1.5100000000000001E-2},{"$f":"MIN(OFFSET(Female!S$18,'Female Rev'!$A7-35,0),0.03999)","v":1.5800000000000002E-2},{"$f":"MIN(OFFSET(Female!T$18,'Female Rev'!$A7-35,0),0.03999)","v":1.6400000000000001E-2},{"$f":"MIN(OFFSET(Female!U$18,'Female Rev'!$A7-35,0),0.03999)","v":1.6899999999999998E-2},{"$f":"MIN(OFFSET(Female!V$18,'Female Rev'!$A7-35,0),0.03999)","v":1.72E-2},{"$f":"MIN(OFFSET(Female!W$18,'Female Rev'!$A7-35,0),0.03999)","v":1.7399999999999999E-2},{"$f":"MIN(OFFSET(Female!X$18,'Female Rev'!$A7-35,0),0.03999)","v":1.7500000000000002E-2},{"$f":"MIN(OFFSET(Female!Y$18,'Female Rev'!$A7-35,0),0.03999)","v":1.7399999999999999E-2},{"$f":"MIN(OFFSET(Female!Z$18,'Female Rev'!$A7-35,0),0.03999)","v":1.72E-2},{"$f":"MIN(OFFSET(Female!AA$18,'Female Rev'!$A7-35,0),0.03999)","v":1.6799999999999999E-2},{"$f":"MIN(OFFSET(Female!AB$18,'Female Rev'!$A7-35,0),0.03999)","v":1.6199999999999999E-2},{"$f":"MIN(OFFSET(Female!AC$18,'Female Rev'!$A7-35,0),0.03999)","v":1.54E-2},{"$f":"MIN(OFFSET(Female!AD$18,'Female Rev'!$A7-35,0),0.03999)","v":1.46E-2},{"$f":"MIN(OFFSET(Female!AE$18,'Female Rev'!$A7-35,0),0.03999)","v":1.35E-2},{"$f":"MIN(OFFSET(Female!AF$18,'Female Rev'!$A7-35,0),0.03999)","v":1.24E-2},{"$f":"MIN(OFFSET(Female!AG$18,'Female Rev'!$A7-35,0),0.03999)","v":1.1299999999999999E-2},{"$f":"MIN(OFFSET(Female!AH$18,'Female Rev'!$A7-35,0),0.03999)","v":0.01},{"$f":"MIN(OFFSET(Female!AI$18,'Female Rev'!$A7-35,0),0.03999)","v":8.8000000000000005E-3},{"$f":"MIN(OFFSET(Female!AJ$18,'Female Rev'!$A7-35,0),0.03999)","v":7.4999999999999997E-3},{"$f":"MIN(OFFSET(Female!AK$18,'Female Rev'!$A7-35,0),0.03999)","v":6.4000000000000003E-3},{"$f":"MIN(OFFSET(Female!AL$18,'Female Rev'!$A7-35,0),0.03999)","v":5.1999999999999998E-3},{"$f":"MIN(OFFSET(Female!AM$18,'Female Rev'!$A7-35,0),0.03999)","v":4.1000000000000003E-3},{"$f":"MIN(OFFSET(Female!AN$18,'Female Rev'!$A7-35,0),0.03999)","v":3.0999999999999999E-3},{"$f":"MIN(OFFSET(Female!AO$18,'Female Rev'!$A7-35,0),0.03999)","v":2E-3},{"$f":"MIN(OFFSET(Female!AP$18,'Female Rev'!$A7-35,0),0.03999)","v":1E-3},{"$f":"MIN(OFFSET(Female!AQ$18,'Female Rev'!$A7-35,0),0.03999)","v":1E-4},{"$f":"MIN(OFFSET(Female!AR$18,'Female Rev'!$A7-35,0),0.03999)","v":-8.0000000000000004E-4},{"$f":"MIN(OFFSET(Female!AS$18,'Female Rev'!$A7-35,0),0.03999)","v":-1.4E-3},{"$f":"MIN(OFFSET(Female!AT$18,'Female Rev'!$A7-35,0),0.03999)","v":-1.9E-3},{"$f":"MIN(OFFSET(Female!AU$18,'Female Rev'!$A7-35,0),0.03999)","v":-2.0999999999999999E-3},{"$f":"MIN(OFFSET(Female!AV$18,'Female Rev'!$A7-35,0),0.03999)","v":-2.0999999999999999E-3},{"$f":"MIN(OFFSET(Female!AW$18,'Female Rev'!$A7-35,0),0.03999)","v":-1.9E-3},{"$f":"MIN(OFFSET(Female!AX$18,'Female Rev'!$A7-35,0),0.03999)","v":-1.4E-3},{"$f":"MIN(OFFSET(Female!AY$18,'Female Rev'!$A7-35,0),0.03999)","v":-6.9999999999999999E-4},{"$f":"MIN(OFFSET(Female!AZ$18,'Female Rev'!$A7-35,0),0.03999)","v":2.0000000000000001E-4},{"$f":"MIN(OFFSET(Female!BA$18,'Female Rev'!$A7-35,0),0.03999)","v":1.1999999999999999E-3},{"$f":"MIN(OFFSET(Female!BB$18,'Female Rev'!$A7-35,0),0.03999)","v":2.2000000000000001E-3},{"$f":"MIN(OFFSET(Female!BC$18,'Female Rev'!$A7-35,0),0.03999)","v":3.0999999999999999E-3},{"$f":"MIN(OFFSET(Female!BD$18,'Female Rev'!$A7-35,0),0.03999)","v":3.8999999999999998E-3},{"$f":"MIN(OFFSET(Female!BE$18,'Female Rev'!$A7-35,0),0.03999)","v":4.5999999999999999E-3},{"$f":"MIN(OFFSET(Female!BF$18,'Female Rev'!$A7-35,0),0.03999)","v":5.1000000000000004E-3},{"$f":"MIN(OFFSET(Female!BG$18,'Female Rev'!$A7-35,0),0.03999)","v":5.4000000000000003E-3},{"$f":"MIN(OFFSET(Female!BH$18,'Female Rev'!$A7-35,0),0.03999)","v":5.5999999999999999E-3},{"$f":"MIN(OFFSET(Female!BI$18,'Female Rev'!$A7-35,0),0.03999)","v":5.5999999999999999E-3},{"$f":"MIN(OFFSET(Female!BJ$18,'Female Rev'!$A7-35,0),0.03999)","v":5.4999999999999997E-3},{"$f":"MIN(OFFSET(Female!BK$18,'Female Rev'!$A7-35,0),0.03999)","v":5.4000000000000003E-3},{"$f":"MIN(OFFSET(Female!BL$18,'Female Rev'!$A7-35,0),0.03999)","v":5.3E-3},{"$f":"MIN(OFFSET(Female!BM$18,'Female Rev'!$A7-35,0),0.03999)","v":5.1999999999999998E-3},{"$f":"MIN(OFFSET(Female!BN$18,'Female Rev'!$A7-35,0),0.03999)","v":5.1000000000000004E-3},{"$f":"MIN(OFFSET(Female!BO$18,'Female Rev'!$A7-35,0),0.03999)","v":5.4000000000000003E-3},{"$f":"MIN(OFFSET(Female!BP$18,'Female Rev'!$A7-35,0),0.03999)","v":5.7000000000000002E-3},{"$f":"MIN(OFFSET(Female!BQ$18,'Female Rev'!$A7-35,0),0.03999)","v":6.0000000000000001E-3},{"$f":"MIN(OFFSET(Female!BR$18,'Female Rev'!$A7-35,0),0.03999)","v":6.4000000000000003E-3},{"$f":"MIN(OFFSET(Female!BS$18,'Female Rev'!$A7-35,0),0.03999)","v":6.7999999999999996E-3},{"$f":"MIN(OFFSET(Female!BT$18,'Female Rev'!$A7-35,0),0.03999)","v":7.1999999999999998E-3},{"$f":"MIN(OFFSET(Female!BU$18,'Female Rev'!$A7-35,0),0.03999)","v":7.6E-3},{"$f":"MIN(OFFSET(Female!BV$18,'Female Rev'!$A7-35,0),0.03999)","v":7.9000000000000008E-3},{"$f":"MIN(OFFSET(Female!BW$18,'Female Rev'!$A7-35,0),0.03999)","v":8.2000000000000007E-3},{"$f":"MIN(OFFSET(Female!BX$18,'Female Rev'!$A7-35,0),0.03999)","v":8.3000000000000001E-3},{"$f":"MIN(OFFSET(Female!BY$18,'Female Rev'!$A7-35,0),0.03999)","v":8.3999999999999995E-3},{"$f":"MIN(OFFSET(Female!BZ$18,'Female Rev'!$A7-35,0),0.03999)","v":8.5000000000000006E-3},{"$f":"MIN(OFFSET(Female!CA$18,'Female Rev'!$A7-35,0),0.03999)","v":8.6E-3},{"$f":"MIN(OFFSET(Female!CB$18,'Female Rev'!$A7-35,0),0.03999)","v":8.6999999999999994E-3},{"$f":"MIN(OFFSET(Female!CC$18,'Female Rev'!$A7-35,0),0.03999)","v":8.8000000000000005E-3},{"$f":"MIN(OFFSET(Female!CD$18,'Female Rev'!$A7-35,0),0.03999)","v":8.8999999999999999E-3},{"$f":"MIN(OFFSET(Female!CE$18,'Female Rev'!$A7-35,0),0.03999)","v":8.9999999999999993E-3},{"$f":"MIN(OFFSET(Female!CF$18,'Female Rev'!$A7-35,0),0.03999)","v":8.9999999999999993E-3},{"$f":"MIN(OFFSET(Female!CG$18,'Female Rev'!$A7-35,0),0.03999)","v":8.9999999999999993E-3},{"$f":"MIN(OFFSET(Female!CH$18,'Female Rev'!$A7-35,0),0.03999)","v":9.1000000000000004E-3}]
[90,90,{"$f":"MIN(OFFSET(Female!B$18,'Female Rev'!$A8-35,0),0.03999)","v":8.0999999999999996E-3},{"$f":"MIN(OFFSET(Female!C$18,'Female Rev'!$A8-35,0),0.03999)","v":8.0999999999999996E-3},{"$f":"MIN(OFFSET(Female!D$18,'Female Rev'!$A8-35,0),0.03999)","v":8.0999999999999996E-3},{"$f":"MIN(OFFSET(Female!E$18,'Female Rev'!$A8-35,0),0.03999)","v":8.2000000000000007E-3},{"$f":"MIN(OFFSET(Female!F$18,'Female Rev'!$A8-35,0),0.03999)","v":8.3000000000000001E-3},{"$f":"MIN(OFFSET(Female!G$18,'Female Rev'!$A8-35,0),0.03999)","v":8.5000000000000006E-3},{"$f":"MIN(OFFSET(Female!H$18,'Female Rev'!$A8-35,0),0.03999)","v":8.6999999999999994E-3},{"$f":"MIN(OFFSET(Female!I$18,'Female Rev'!$A8-35,0),0.03999)","v":9.1000000000000004E-3},{"$f":"MIN(OFFSET(Female!J$18,'Female Rev'!$A8-35,0),0.03999)","v":9.4999999999999998E-3},{"$f":"MIN(OFFSET(Female!K$18,'Female Rev'!$A8-35,0),0.03999)","v":0.01},{"$f":"MIN(OFFSET(Female!L$18,'Female Rev'!$A8-35,0),0.03999)","v":1.06E-2},{"$f":"MIN(OFFSET(Female!M$18,'Female Rev'!$A8-35,0),0.03999)","v":1.1299999999999999E-2},{"$f":"MIN(OFFSET(Female!N$18,'Female Rev'!$A8-35,0),0.03999)","v":1.2E-2},{"$f":"MIN(OFFSET(Female!O$18,'Female Rev'!$A8-35,0),0.03999)","v":1.2800000000000001E-2},{"$f":"MIN(OFFSET(Female!P$18,'Female Rev'!$A8-35,0),0.03999)","v":1.37E-2},{"$f":"MIN(OFFSET(Female!Q$18,'Female Rev'!$A8-35,0),0.03999)","v":1.4500000000000001E-2},{"$f":"MIN(OFFSET(Female!R$18,'Female Rev'!$A8-35,0),0.03999)","v":1.5299999999999999E-2},{"$f":"MIN(OFFSET(Female!S$18,'Female Rev'!$A8-35,0),0.03999)","v":1.6E-2},{"$f":"MIN(OFFSET(Female!T$18,'Female Rev'!$A8-35,0),0.03999)","v":1.66E-2},{"$f":"MIN(OFFSET(Female!U$18,'Female Rev'!$A8-35,0),0.03999)","v":1.7100000000000001E-2},{"$f":"MIN(OFFSET(Female!V$18,'Female Rev'!$A8-35,0),0.03999)","v":1.7500000000000002E-2},{"$f":"MIN(OFFSET(Female!W$18,'Female Rev'!$A8-35,0),0.03999)","v":1.77E-2},{"$f":"MIN(OFFSET(Female!X$18,'Female Rev'!$A8-35,0),0.03999)","v":1.78E-2},{"$f":"MIN(OFFSET(Female!Y$18,'Female Rev'!$A8-35,0),0.03999)","v":1.78E-2},{"$f":"MIN(OFFSET(Female!Z$18,'Female Rev'!$A8-35,0),0.03999)","v":1.7500000000000002E-2},{"$f":"MIN(OFFSET(Female!AA$18,'Female Rev'!$A8-35,0),0.03999)","v":1.7100000000000001E-2},{"$f":"MIN(OFFSET(Female!AB$18,'Female Rev'!$A8-35,0),0.03999)","v":1.6400000000000001E-2},{"$f":"MIN(OFFSET(Female!AC$18,'Female Rev'!$A8-35,0),0.03999)","v":1.5699999999999999E-2},{"$f":"MIN(OFFSET(Female!AD$18,'Female Rev'!$A8-35,0),0.03999)","v":1.47E-2},{"$f":"MIN(OFFSET(Female!AE$18,'Female Rev'!$A8-35,0),0.03999)","v":1.37E-2},{"$f":"MIN(OFFSET(Female!AF$18,'Female Rev'!$A8-35,0),0.03999)","v":1.2500000000000001E-2},{"$f":"MIN(OFFSET(Female!AG$18,'Female Rev'!$A8-35,0),0.03999)","v":1.1299999999999999E-2},{"$f":"MIN(OFFSET(Female!AH$18,'Female Rev'!$A8-35,0),0.03999)","v":1.01E-2},{"$f":"MIN(OFFSET(Female!AI$18,'Female Rev'!$A8-35,0),0.03999)","v":8.8000000000000005E-3},{"$f":"MIN(OFFSET(Female!AJ$18,'Female Rev'!$A8-35,0),0.03999)","v":7.6E-3},{"$f":"MIN(OFFSET(Female!AK$18,'Female Rev'!$A8-35,0),0.03999)","v":6.4000000000000003E-3},{"$f":"MIN(OFFSET(Female!AL$18,'Female Rev'!$A8-35,0),0.03999)","v":5.3E-3},{"$f":"MIN(OFFSET(Female!AM$18,'Female Rev'!$A8-35,0),0.03999)","v":4.1999999999999997E-3},{"$f":"MIN(OFFSET(Female!AN$18,'Female Rev'!$A8-35,0),0.03999)","v":3.2000000000000002E-3},{"$f":"MIN(OFFSET(Female!AO$18,'Female Rev'!$A8-35,0),0.03999)","v":2.2000000000000001E-3},{"$f":"MIN(OFFSET(Female!AP$18,'Female Rev'!$A8-35,0),0.03999)","v":1.1999999999999999E-3},{"$f":"MIN(OFFSET(Female!AQ$18,'Female Rev'!$A8-35,0),0.03999)","v":2.0000000000000001E-4},{"$f":"MIN(OFFSET(Female!AR$18,'Female Rev'!$A8-35,0),0.03999)","v":-5.9999999999999995E-4},{"$f":"MIN(OFFSET(Female!AS$18,'Female Rev'!$A8-35,0),0.03999)","v":-1.1999999999999999E-3},{"$f":"MIN(OFFSET(Female!AT$18,'Female Rev'!$A8-35,0),0.03999)","v":-1.6999999999999999E-3},{"$f":"MIN(OFFSET(Female!AU$18,'Female Rev'!$A8-35,0),0.03999)","v":-1.9E-3},{"$f":"MIN(OFFSET(Female!AV$18,'Female Rev'!$A8-35,0),0.03999)","v":-1.8E-3},{"$f":"MIN(OFFSET(Female!AW$18,'Female Rev'!$A8-35,0),0.03999)","v":-1.5E-3},{"$f":"MIN(OFFSET(Female!AX$18,'Female Rev'!$A8-35,0),0.03999)","v":-1E-3},{"$f":"MIN(OFFSET(Female!AY$18,'Female Rev'!$A8-35,0),0.03999)","v":-2.0000000000000001E-4},{"$f":"MIN(OFFSET(Female!AZ$18,'Female Rev'!$A8-35,0),0.03999)","v":8.0000000000000004E-4},{"$f":"MIN(OFFSET(Female!BA$18,'Female Rev'!$A8-35,0),0.03999)","v":1.8E-3},{"$f":"MIN(OFFSET(Female!BB$18,'Female Rev'!$A8-35,0),0.03999)","v":2.8999999999999998E-3},{"$f":"MIN(OFFSET(Female!BC$18,'Female Rev'!$A8-35,0),0.03999)","v":3.8999999999999998E-3},{"$f":"MIN(OFFSET(Female!BD$18,'Female Rev'!$A8-35,0),0.03999)","v":4.7000000000000002E-3},{"$f":"MIN(OFFSET(Female!BE$18,'Female Rev'!$A8-35,0),0.03999)","v":5.4000000000000003E-3},{"$f":"MIN(OFFSET(Female!BF$18,'Female Rev'!$A8-35,0),0.03999)","v":5.8999999999999999E-3},{"$f":"MIN(OFFSET(Female!BG$18,'Female Rev'!$A8-35,0),0.03999)","v":6.1999999999999998E-3},{"$f":"MIN(OFFSET(Female!BH$18,'Female Rev'!$A8-35,0),0.03999)","v":6.3E-3},{"$f":"MIN(OFFSET(Female!BI$18,'Female Rev'!$A8-35,0),0.03999)","v":6.1999999999999998E-3},{"$f":"MIN(OFFSET(Female!BJ$18,'Female Rev'!$A8-35,0),0.03999)","v":6.1000000000000004E-3},{"$f":"MIN(OFFSET(Female!BK$18,'Female Rev'!$A8-35,0),0.03999)","v":5.8999999999999999E-3},{"$f":"MIN(OFFSET(Female!BL$18,'Female Rev'!$A8-35,0),0.03999)","v":5.7999999999999996E-3},{"$f":"MIN(OFFSET(Female!BM$18,'Female Rev'!$A8-35,0),0.03999)","v":5.5999999999999999E-3},{"$f":"MIN(OFFSET(Female!BN$18,'Female Rev'!$A8-35,0),0.03999)","v":5.4999999999999997E-3},{"$f":"MIN(OFFSET(Female!BO$18,'Female Rev'!$A8-35,0),0.03999)","v":5.7000000000000002E-3},{"$f":"MIN(OFFSET(Female!BP$18,'Female Rev'!$A8-35,0),0.03999)","v":6.0000000000000001E-3},{"$f":"MIN(OFFSET(Female!BQ$18,'Female Rev'!$A8-35,0),0.03999)","v":6.4000000000000003E-3},{"$f":"MIN(OFFSET(Female!BR$18,'Female Rev'!$A8-35,0),0.03999)","v":6.7999999999999996E-3},{"$f":"MIN(OFFSET(Female!BS$18,'Female Rev'!$A8-35,0),0.03999)","v":7.1999999999999998E-3},{"$f":"MIN(OFFSET(Female!BT$18,'Female Rev'!$A8-35,0),0.03999)","v":7.4999999999999997E-3},{"$f":"MIN(OFFSET(Female!BU$18,'Female Rev'!$A8-35,0),0.03999)","v":7.9000000000000008E-3},{"$f":"MIN(OFFSET(Female!BV$18,'Female Rev'!$A8-35,0),0.03999)","v":8.2000000000000007E-3},{"$f":"MIN(OFFSET(Female!BW$18,'Female Rev'!$A8-35,0),0.03999)","v":8.5000000000000006E-3},{"$f":"MIN(OFFSET(Female!BX$18,'Female Rev'!$A8-35,0),0.03999)","v":8.6E-3},{"$f":"MIN(OFFSET(Female!BY$18,'Female Rev'!$A8-35,0),0.03999)","v":8.6999999999999994E-3},{"$f":"MIN(OFFSET(Female!BZ$18,'Female Rev'!$A8-35,0),0.03999)","v":8.8000000000000005E-3},{"$f":"MIN(OFFSET(Female!CA$18,'Female Rev'!$A8-35,0),0.03999)","v":8.8999999999999999E-3},{"$f":"MIN(OFFSET(Female!CB$18,'Female Rev'!$A8-35,0),0.03999)","v":8.9999999999999993E-3},{"$f":"MIN(OFFSET(Female!CC$18,'Female Rev'!$A8-35,0),0.03999)","v":9.1000000000000004E-3},{"$f":"MIN(OFFSET(Female!CD$18,'Female Rev'!$A8-35,0),0.03999)","v":9.1000000000000004E-3},{"$f":"MIN(OFFSET(Female!CE$18,'Female Rev'!$A8-35,0),0.03999)","v":9.1000000000000004E-3},{"$f":"MIN(OFFSET(Female!CF$18,'Female Rev'!$A8-35,0),0.03999)","v":9.1000000000000004E-3},{"$f":"MIN(OFFSET(Female!CG$18,'Female Rev'!$A8-35,0),0.03999)","v":9.1999999999999998E-3},{"$f":"MIN(OFFSET(Female!CH$18,'Female Rev'!$A8-35,0),0.03999)","v":9.2999999999999992E-3}]
[89,89,{"$f":"MIN(OFFSET(Female!B$18,'Female Rev'!$A9-35,0),0.03999)","v":8.2000000000000007E-3},{"$f":"MIN(OFFSET(Female!C$18,'Female Rev'!$A9-35,0),0.03999)","v":8.2000000000000007E-3},{"$f":"MIN(OFFSET(Female!D$18,'Female Rev'!$A9-35,0),0.03999)","v":8.2000000000000007E-3},{"$f":"MIN(OFFSET(Female!E$18,'Female Rev'!$A9-35,0),0.03999)","v":8.3000000000000001E-3},{"$f":"MIN(OFFSET(Female!F$18,'Female Rev'!$A9-35,0),0.03999)","v":8.3999999999999995E-3},{"$f":"MIN(OFFSET(Female!G$18,'Female Rev'!$A9-35,0),0.03999)","v":8.5000000000000006E-3},{"$f":"MIN(OFFSET(Female!H$18,'Female Rev'!$A9-35,0),0.03999)","v":8.8000000000000005E-3},{"$f":"MIN(OFFSET(Female!I$18,'Female Rev'!$A9-35,0),0.03999)","v":9.1000000000000004E-3},{"$f":"MIN(OFFSET(Female!J$18,'Female Rev'!$A9-35,0),0.03999)","v":9.4999999999999998E-3},{"$f":"MIN(OFFSET(Female!K$18,'Female Rev'!$A9-35,0),0.03999)","v":0.01},{"$f":"MIN(OFFSET(Female!L$18,'Female Rev'!$A9-35,0),0.03999)","v":1.06E-2},{"$f":"MIN(OFFSET(Female!M$18,'Female Rev'!$A9-35,0),0.03999)","v":1.1299999999999999E-2},{"$f":"MIN(OFFSET(Female!N$18,'Female Rev'!$A9-35,0),0.03999)","v":1.21E-2},{"$f":"MIN(OFFSET(Female!O$18,'Female Rev'!$A9-35,0),0.03999)","v":1.29E-2},{"$f":"MIN(OFFSET(Female!P$18,'Female Rev'!$A9-35,0),0.03999)","v":1.37E-2},{"$f":"MIN(OFFSET(Female!Q$18,'Female Rev'!$A9-35,0),0.03999)","v":1.46E-2},{"$f":"MIN(OFFSET(Female!R$18,'Female Rev'!$A9-35,0),0.03999)","v":1.54E-2},{"$f":"MIN(OFFSET(Female!S$18,'Female Rev'!$A9-35,0),0.03999)","v":1.6199999999999999E-2},{"$f":"MIN(OFFSET(Female!T$18,'Female Rev'!$A9-35,0),0.03999)","v":1.6799999999999999E-2},{"$f":"MIN(OFFSET(Female!U$18,'Female Rev'!$A9-35,0),0.03999)","v":1.7299999999999999E-2},{"$f":"MIN(OFFSET(Female!V$18,'Female Rev'!$A9-35,0),0.03999)","v":1.77E-2},{"$f":"MIN(OFFSET(Female!W$18,'Female Rev'!$A9-35,0),0.03999)","v":1.7999999999999999E-2},{"$f":"MIN(OFFSET(Female!X$18,'Female Rev'!$A9-35,0),0.03999)","v":1.8100000000000002E-2},{"$f":"MIN(OFFSET(Female!Y$18,'Female Rev'!$A9-35,0),0.03999)","v":1.8100000000000002E-2},{"$f":"MIN(OFFSET(Female!Z$18,'Female Rev'!$A9-35,0),0.03999)","v":1.78E-2},{"$f":"MIN(OFFSET(Female!AA$18,'Female Rev'!$A9-35,0),0.03999)","v":1.7399999999999999E-2},{"$f":"MIN(OFFSET(Female!AB$18,'Female Rev'!$A9-35,0),0.03999)","v":1.67E-2},{"$f":"MIN(OFFSET(Female!AC$18,'Female Rev'!$A9-35,0),0.03999)","v":1.5900000000000001E-2},{"$f":"MIN(OFFSET(Female!AD$18,'Female Rev'!$A9-35,0),0.03999)","v":1.49E-2},{"$f":"MIN(OFFSET(Female!AE$18,'Female Rev'!$A9-35,0),0.03999)","v":1.38E-2},{"$f":"MIN(OFFSET(Female!AF$18,'Female Rev'!$A9-35,0),0.03999)","v":1.26E-2},{"$f":"MIN(OFFSET(Female!AG$18,'Female Rev'!$A9-35,0),0.03999)","v":1.14E-2},{"$f":"MIN(OFFSET(Female!AH$18,'Female Rev'!$A9-35,0),0.03999)","v":1.01E-2},{"$f":"MIN(OFFSET(Female!AI$18,'Female Rev'!$A9-35,0),0.03999)","v":8.8000000000000005E-3},{"$f":"MIN(OFFSET(Female!AJ$18,'Female Rev'!$A9-35,0),0.03999)","v":7.6E-3},{"$f":"MIN(OFFSET(Female!AK$18,'Female Rev'!$A9-35,0),0.03999)","v":6.4999999999999997E-3},{"$f":"MIN(OFFSET(Female!AL$18,'Female Rev'!$A9-35,0),0.03999)","v":5.4000000000000003E-3},{"$f":"MIN(OFFSET(Female!AM$18,'Female Rev'!$A9-35,0),0.03999)","v":4.4000000000000003E-3},{"$f":"MIN(OFFSET(Female!AN$18,'Female Rev'!$A9-35,0),0.03999)","v":3.3999999999999998E-3},{"$f":"MIN(OFFSET(Female!AO$18,'Female Rev'!$A9-35,0),0.03999)","v":2.3999999999999998E-3},{"$f":"MIN(OFFSET(Female!AP$18,'Female Rev'!$A9-35,0),0.03999)","v":1.4E-3},{"$f":"MIN(OFFSET(Female!AQ$18,'Female Rev'!$A9-35,0),0.03999)","v":4.0000000000000002E-4},{"$f":"MIN(OFFSET(Female!AR$18,'Female Rev'!$A9-35,0),0.03999)","v":-4.0000000000000002E-4},{"$f":"MIN(OFFSET(Female!AS$18,'Female Rev'!$A9-35,0),0.03999)","v":-1E-3},{"$f":"MIN(OFFSET(Female!AT$18,'Female Rev'!$A9-35,0),0.03999)","v":-1.4E-3},{"$f":"MIN(OFFSET(Female!AU$18,'Female Rev'!$A9-35,0),0.03999)","v":-1.6000000000000001E-3},{"$f":"MIN(OFFSET(Female!AV$18,'Female Rev'!$A9-35,0),0.03999)","v":-1.5E-3},{"$f":"MIN(OFFSET(Female!AW$18,'Female Rev'!$A9-35,0),0.03999)","v":-1.1999999999999999E-3},{"$f":"MIN(OFFSET(Female!AX$18,'Female Rev'!$A9-35,0),0.03999)","v":-5.9999999999999995E-4},{"$f":"MIN(OFFSET(Female!AY$18,'Female Rev'!$A9-35,0),0.03999)","v":2.9999999999999997E-4},{"$f":"MIN(OFFSET(Female!AZ$18,'Female Rev'!$A9-35,0),0.03999)","v":1.4E-3},{"$f":"MIN(OFFSET(Female!BA$18,'Female Rev'!$A9-35,0),0.03999)","v":2.5000000000000001E-3},{"$f":"MIN(OFFSET(Female!BB$18,'Female Rev'!$A9-35,0),0.03999)","v":3.5999999999999999E-3},{"$f":"MIN(OFFSET(Female!BC$18,'Female Rev'!$A9-35,0),0.03999)","v":4.7000000000000002E-3},{"$f":"MIN(OFFSET(Female!BD$18,'Female Rev'!$A9-35,0),0.03999)","v":5.4999999999999997E-3},{"$f":"MIN(OFFSET(Female!BE$18,'Female Rev'!$A9-35,0),0.03999)","v":6.1999999999999998E-3},{"$f":"MIN(OFFSET(Female!BF$18,'Female Rev'!$A9-35,0),0.03999)","v":6.7000000000000002E-3},{"$f":"MIN(OFFSET(Female!BG$18,'Female Rev'!$A9-35,0),0.03999)","v":6.8999999999999999E-3},{"$f":"MIN(OFFSET(Female!BH$18,'Female Rev'!$A9-35,0),0.03999)","v":7.0000000000000001E-3},{"$f":"MIN(OFFSET(Female!BI$18,'Female Rev'!$A9-35,0),0.03999)","v":6.7999999999999996E-3},{"$f":"MIN(OFFSET(Female!BJ$18,'Female Rev'!$A9-35,0),0.03999)","v":6.6E-3},{"$f":"MIN(OFFSET(Female!BK$18,'Female Rev'!$A9-35,0),0.03999)","v":6.4000000000000003E-3},{"$f":"MIN(OFFSET(Female!BL$18,'Female Rev'!$A9-35,0),0.03999)","v":6.1999999999999998E-3},{"$f":"MIN(OFFSET(Female!BM$18,'Female Rev'!$A9-35,0),0.03999)","v":6.1000000000000004E-3},{"$f":"MIN(OFFSET(Female!BN$18,'Female Rev'!$A9-35,0),0.03999)","v":5.8999999999999999E-3},{"$f":"MIN(OFFSET(Female!BO$18,'Female Rev'!$A9-35,0),0.03999)","v":6.1000000000000004E-3},{"$f":"MIN(OFFSET(Female!BP$18,'Female Rev'!$A9-35,0),0.03999)","v":6.4000000000000003E-3},{"$f":"MIN(OFFSET(Female!BQ$18,'Female Rev'!$A9-35,0),0.03999)","v":6.7999999999999996E-3},{"$f":"MIN(OFFSET(Female!BR$18,'Female Rev'!$A9-35,0),0.03999)","v":7.1000000000000004E-3},{"$f":"MIN(OFFSET(Female!BS$18,'Female Rev'!$A9-35,0),0.03999)","v":7.4999999999999997E-3},{"$f":"MIN(OFFSET(Female!BT$18,'Female Rev'!$A9-35,0),0.03999)","v":7.9000000000000008E-3},{"$f":"MIN(OFFSET(Female!BU$18,'Female Rev'!$A9-35,0),0.03999)","v":8.2000000000000007E-3},{"$f":"MIN(OFFSET(Female!BV$18,'Female Rev'!$A9-35,0),0.03999)","v":8.5000000000000006E-3},{"$f":"MIN(OFFSET(Female!BW$18,'Female Rev'!$A9-35,0),0.03999)","v":8.8000000000000005E-3},{"$f":"MIN(OFFSET(Female!BX$18,'Female Rev'!$A9-35,0),0.03999)","v":8.8999999999999999E-3},{"$f":"MIN(OFFSET(Female!BY$18,'Female Rev'!$A9-35,0),0.03999)","v":8.9999999999999993E-3},{"$f":"MIN(OFFSET(Female!BZ$18,'Female Rev'!$A9-35,0),0.03999)","v":9.1000000000000004E-3},{"$f":"MIN(OFFSET(Female!CA$18,'Female Rev'!$A9-35,0),0.03999)","v":9.1000000000000004E-3},{"$f":"MIN(OFFSET(Female!CB$18,'Female Rev'!$A9-35,0),0.03999)","v":9.1999999999999998E-3},{"$f":"MIN(OFFSET(Female!CC$18,'Female Rev'!$A9-35,0),0.03999)","v":9.1999999999999998E-3},{"$f":"MIN(OFFSET(Female!CD$18,'Female Rev'!$A9-35,0),0.03999)","v":9.1999999999999998E-3},{"$f":"MIN(OFFSET(Female!CE$18,'Female Rev'!$A9-35,0),0.03999)","v":9.1999999999999998E-3},{"$f":"MIN(OFFSET(Female!CF$18,'Female Rev'!$A9-35,0),0.03999)","v":9.2999999999999992E-3},{"$f":"MIN(OFFSET(Female!CG$18,'Female Rev'!$A9-35,0),0.03999)","v":9.2999999999999992E-3},{"$f":"MIN(OFFSET(Female!CH$18,'Female Rev'!$A9-35,0),0.03999)","v":9.4000000000000004E-3}]
[88,88,{"$f":"MIN(OFFSET(Female!B$18,'Female Rev'!$A10-35,0),0.03999)","v":8.3000000000000001E-3},{"$f":"MIN(OFFSET(Female!C$18,'Female Rev'!$A10-35,0),0.03999)","v":8.3000000000000001E-3},{"$f":"MIN(OFFSET(Female!D$18,'Female Rev'!$A10-35,0),0.03999)","v":8.3000000000000001E-3},{"$f":"MIN(OFFSET(Female!E$18,'Female Rev'!$A10-35,0),0.03999)","v":8.3000000000000001E-3},{"$f":"MIN(OFFSET(Female!F$18,'Female Rev'!$A10-35,0),0.03999)","v":8.3999999999999995E-3},{"$f":"MIN(OFFSET(Female!G$18,'Female Rev'!$A10-35,0),0.03999)","v":8.6E-3},{"$f":"MIN(OFFSET(Female!H$18,'Female Rev'!$A10-35,0),0.03999)","v":8.8000000000000005E-3},{"$f":"MIN(OFFSET(Female!I$18,'Female Rev'!$A10-35,0),0.03999)","v":9.1000000000000004E-3},{"$f":"MIN(OFFSET(Female!J$18,'Female Rev'!$A10-35,0),0.03999)","v":9.5999999999999992E-3},{"$f":"MIN(OFFSET(Female!K$18,'Female Rev'!$A10-35,0),0.03999)","v":1.01E-2},{"$f":"MIN(OFFSET(Female!L$18,'Female Rev'!$A10-35,0),0.03999)","v":1.0699999999999999E-2},{"$f":"MIN(OFFSET(Female!M$18,'Female Rev'!$A10-35,0),0.03999)","v":1.1299999999999999E-2},{"$f":"MIN(OFFSET(Female!N$18,'Female Rev'!$A10-35,0),0.03999)","v":1.21E-2},{"$f":"MIN(OFFSET(Female!O$18,'Female Rev'!$A10-35,0),0.03999)","v":1.2999999999999999E-2},{"$f":"MIN(OFFSET(Female!P$18,'Female Rev'!$A10-35,0),0.03999)","v":1.38E-2},{"$f":"MIN(OFFSET(Female!Q$18,'Female Rev'!$A10-35,0),0.03999)","v":1.47E-2},{"$f":"MIN(OFFSET(Female!R$18,'Female Rev'!$A10-35,0),0.03999)","v":1.55E-2},{"$f":"MIN(OFFSET(Female!S$18,'Female Rev'!$A10-35,0),0.03999)","v":1.6299999999999999E-2},{"$f":"MIN(OFFSET(Female!T$18,'Female Rev'!$A10-35,0),0.03999)","v":1.7000000000000001E-2},{"$f":"MIN(OFFSET(Female!U$18,'Female Rev'!$A10-35,0),0.03999)","v":1.7500000000000002E-2},{"$f":"MIN(OFFSET(Female!V$18,'Female Rev'!$A10-35,0),0.03999)","v":1.7999999999999999E-2},{"$f":"MIN(OFFSET(Female!W$18,'Female Rev'!$A10-35,0),0.03999)","v":1.83E-2},{"$f":"MIN(OFFSET(Female!X$18,'Female Rev'!$A10-35,0),0.03999)","v":1.84E-2},{"$f":"MIN(OFFSET(Female!Y$18,'Female Rev'!$A10-35,0),0.03999)","v":1.84E-2},{"$f":"MIN(OFFSET(Female!Z$18,'Female Rev'!$A10-35,0),0.03999)","v":1.8100000000000002E-2},{"$f":"MIN(OFFSET(Female!AA$18,'Female Rev'!$A10-35,0),0.03999)","v":1.7600000000000001E-2},{"$f":"MIN(OFFSET(Female!AB$18,'Female Rev'!$A10-35,0),0.03999)","v":1.6899999999999998E-2},{"$f":"MIN(OFFSET(Female!AC$18,'Female Rev'!$A10-35,0),0.03999)","v":1.61E-2},{"$f":"MIN(OFFSET(Female!AD$18,'Female Rev'!$A10-35,0),0.03999)","v":1.4999999999999999E-2},{"$f":"MIN(OFFSET(Female!AE$18,'Female Rev'!$A10-35,0),0.03999)","v":1.3899999999999999E-2},{"$f":"MIN(OFFSET(Female!AF$18,'Female Rev'!$A10-35,0),0.03999)","v":1.2699999999999999E-2},{"$f":"MIN(OFFSET(Female!AG$18,'Female Rev'!$A10-35,0),0.03999)","v":1.14E-2},{"$f":"MIN(OFFSET(Female!AH$18,'Female Rev'!$A10-35,0),0.03999)","v":1.01E-2},{"$f":"MIN(OFFSET(Female!AI$18,'Female Rev'!$A10-35,0),0.03999)","v":8.8000000000000005E-3},{"$f":"MIN(OFFSET(Female!AJ$18,'Female Rev'!$A10-35,0),0.03999)","v":7.6E-3},{"$f":"MIN(OFFSET(Female!AK$18,'Female Rev'!$A10-35,0),0.03999)","v":6.4999999999999997E-3},{"$f":"MIN(OFFSET(Female!AL$18,'Female Rev'!$A10-35,0),0.03999)","v":5.4999999999999997E-3},{"$f":"MIN(OFFSET(Female!AM$18,'Female Rev'!$A10-35,0),0.03999)","v":4.4999999999999997E-3},{"$f":"MIN(OFFSET(Female!AN$18,'Female Rev'!$A10-35,0),0.03999)","v":3.5000000000000001E-3},{"$f":"MIN(OFFSET(Female!AO$18,'Female Rev'!$A10-35,0),0.03999)","v":2.5999999999999999E-3},{"$f":"MIN(OFFSET(Female!AP$18,'Female Rev'!$A10-35,0),0.03999)","v":1.6000000000000001E-3},{"$f":"MIN(OFFSET(Female!AQ$18,'Female Rev'!$A10-35,0),0.03999)","v":6.9999999999999999E-4},{"$f":"MIN(OFFSET(Female!AR$18,'Female Rev'!$A10-35,0),0.03999)","v":-2.0000000000000001E-4},{"$f":"MIN(OFFSET(Female!AS$18,'Female Rev'!$A10-35,0),0.03999)","v":-8.0000000000000004E-4},{"$f":"MIN(OFFSET(Female!AT$18,'Female Rev'!$A10-35,0),0.03999)","v":-1.1999999999999999E-3},{"$f":"MIN(OFFSET(Female!AU$18,'Female Rev'!$A10-35,0),0.03999)","v":-1.2999999999999999E-3},{"$f":"MIN(OFFSET(Female!AV$18,'Female Rev'!$A10-35,0),0.03999)","v":-1.1999999999999999E-3},{"$f":"MIN(OFFSET(Female!AW$18,'Female Rev'!$A10-35,0),0.03999)","v":-8.0000000000000004E-4},{"$f":"MIN(OFFSET(Female!AX$18,'Female Rev'!$A10-35,0),0.03999)","v":-1E-4},{"$f":"MIN(OFFSET(Female!AY$18,'Female Rev'!$A10-35,0),0.03999)","v":8.0000000000000004E-4},{"$f":"MIN(OFFSET(Female!AZ$18,'Female Rev'!$A10-35,0),0.03999)","v":1.9E-3},{"$f":"MIN(OFFSET(Female!BA$18,'Female Rev'!$A10-35,0),0.03999)","v":3.0999999999999999E-3},{"$f":"MIN(OFFSET(Female!BB$18,'Female Rev'!$A10-35,0),0.03999)","v":4.3E-3},{"$f":"MIN(OFFSET(Female!BC$18,'Female Rev'!$A10-35,0),0.03999)","v":5.4000000000000003E-3},{"$f":"MIN(OFFSET(Female!BD$18,'Female Rev'!$A10-35,0),0.03999)","v":6.3E-3},{"$f":"MIN(OFFSET(Female!BE$18,'Female Rev'!$A10-35,0),0.03999)","v":7.0000000000000001E-3},{"$f":"MIN(OFFSET(Female!BF$18,'Female Rev'!$A10-35,0),0.03999)","v":7.4000000000000003E-3},{"$f":"MIN(OFFSET(Female!BG$18,'Female Rev'!$A10-35,0),0.03999)","v":7.6E-3},{"$f":"MIN(OFFSET(Female!BH$18,'Female Rev'!$A10-35,0),0.03999)","v":7.6E-3},{"$f":"MIN(OFFSET(Female!BI$18,'Female Rev'!$A10-35,0),0.03999)","v":7.4999999999999997E-3},{"$f":"MIN(OFFSET(Female!BJ$18,'Female Rev'!$A10-35,0),0.03999)","v":7.1999999999999998E-3},{"$f":"MIN(OFFSET(Female!BK$18,'Female Rev'!$A10-35,0),0.03999)","v":6.8999999999999999E-3},{"$f":"MIN(OFFSET(Female!BL$18,'Female Rev'!$A10-35,0),0.03999)","v":6.7000000000000002E-3},{"$f":"MIN(OFFSET(Female!BM$18,'Female Rev'!$A10-35,0),0.03999)","v":6.4999999999999997E-3},{"$f":"MIN(OFFSET(Female!BN$18,'Female Rev'!$A10-35,0),0.03999)","v":6.3E-3},{"$f":"MIN(OFFSET(Female!BO$18,'Female Rev'!$A10-35,0),0.03999)","v":6.4999999999999997E-3},{"$f":"MIN(OFFSET(Female!BP$18,'Female Rev'!$A10-35,0),0.03999)","v":6.7999999999999996E-3},{"$f":"MIN(OFFSET(Female!BQ$18,'Female Rev'!$A10-35,0),0.03999)","v":7.1000000000000004E-3},{"$f":"MIN(OFFSET(Female!BR$18,'Female Rev'!$A10-35,0),0.03999)","v":7.4999999999999997E-3},{"$f":"MIN(OFFSET(Female!BS$18,'Female Rev'!$A10-35,0),0.03999)","v":7.7999999999999996E-3},{"$f":"MIN(OFFSET(Female!BT$18,'Female Rev'!$A10-35,0),0.03999)","v":8.2000000000000007E-3},{"$f":"MIN(OFFSET(Female!BU$18,'Female Rev'!$A10-35,0),0.03999)","v":8.5000000000000006E-3},{"$f":"MIN(OFFSET(Female!BV$18,'Female Rev'!$A10-35,0),0.03999)","v":8.8000000000000005E-3},{"$f":"MIN(OFFSET(Female!BW$18,'Female Rev'!$A10-35,0),0.03999)","v":8.9999999999999993E-3},{"$f":"MIN(OFFSET(Female!BX$18,'Female Rev'!$A10-35,0),0.03999)","v":9.1999999999999998E-3},{"$f":"MIN(OFFSET(Female!BY$18,'Female Rev'!$A10-35,0),0.03999)","v":9.2999999999999992E-3},{"$f":"MIN(OFFSET(Female!BZ$18,'Female Rev'!$A10-35,0),0.03999)","v":9.2999999999999992E-3},{"$f":"MIN(OFFSET(Female!CA$18,'Female Rev'!$A10-35,0),0.03999)","v":9.4000000000000004E-3},{"$f":"MIN(OFFSET(Female!CB$18,'Female Rev'!$A10-35,0),0.03999)","v":9.4000000000000004E-3},{"$f":"MIN(OFFSET(Female!CC$18,'Female Rev'!$A10-35,0),0.03999)","v":9.4000000000000004E-3},{"$f":"MIN(OFFSET(Female!CD$18,'Female Rev'!$A10-35,0),0.03999)","v":9.4000000000000004E-3},{"$f":"MIN(OFFSET(Female!CE$18,'Female Rev'!$A10-35,0),0.03999)","v":9.4000000000000004E-3},{"$f":"MIN(OFFSET(Female!CF$18,'Female Rev'!$A10-35,0),0.03999)","v":9.4000000000000004E-3},{"$f":"MIN(OFFSET(Female!CG$18,'Female Rev'!$A10-35,0),0.03999)","v":9.4999999999999998E-3},{"$f":"MIN(OFFSET(Female!CH$18,'Female Rev'!$A10-35,0),0.03999)","v":9.5999999999999992E-3}]
[87,87,{"$f":"MIN(OFFSET(Female!B$18,'Female Rev'!$A11-35,0),0.03999)","v":8.3999999999999995E-3},{"$f":"MIN(OFFSET(Female!C$18,'Female Rev'!$A11-35,0),0.03999)","v":8.3999999999999995E-3},{"$f":"MIN(OFFSET(Female!D$18,'Female Rev'!$A11-35,0),0.03999)","v":8.3999999999999995E-3},{"$f":"MIN(OFFSET(Female!E$18,'Female Rev'!$A11-35,0),0.03999)","v":8.3999999999999995E-3},{"$f":"MIN(OFFSET(Female!F$18,'Female Rev'!$A11-35,0),0.03999)","v":8.5000000000000006E-3},{"$f":"MIN(OFFSET(Female!G$18,'Female Rev'!$A11-35,0),0.03999)","v":8.6E-3},{"$f":"MIN(OFFSET(Female!H$18,'Female Rev'!$A11-35,0),0.03999)","v":8.8999999999999999E-3},{"$f":"MIN(OFFSET(Female!I$18,'Female Rev'!$A11-35,0),0.03999)","v":9.1999999999999998E-3},{"$f":"MIN(OFFSET(Female!J$18,'Female Rev'!$A11-35,0),0.03999)","v":9.5999999999999992E-3},{"$f":"MIN(OFFSET(Female!K$18,'Female Rev'!$A11-35,0),0.03999)","v":1.01E-2},{"$f":"MIN(OFFSET(Female!L$18,'Female Rev'!$A11-35,0),0.03999)","v":1.0699999999999999E-2},{"$f":"MIN(OFFSET(Female!M$18,'Female Rev'!$A11-35,0),0.03999)","v":1.14E-2},{"$f":"MIN(OFFSET(Female!N$18,'Female Rev'!$A11-35,0),0.03999)","v":1.2200000000000001E-2},{"$f":"MIN(OFFSET(Female!O$18,'Female Rev'!$A11-35,0),0.03999)","v":1.2999999999999999E-2},{"$f":"MIN(OFFSET(Female!P$18,'Female Rev'!$A11-35,0),0.03999)","v":1.3899999999999999E-2},{"$f":"MIN(OFFSET(Female!Q$18,'Female Rev'!$A11-35,0),0.03999)","v":1.4800000000000001E-2},{"$f":"MIN(OFFSET(Female!R$18,'Female Rev'!$A11-35,0),0.03999)","v":1.5699999999999999E-2},{"$f":"MIN(OFFSET(Female!S$18,'Female Rev'!$A11-35,0),0.03999)","v":1.6500000000000001E-2},{"$f":"MIN(OFFSET(Female!T$18,'Female Rev'!$A11-35,0),0.03999)","v":1.72E-2},{"$f":"MIN(OFFSET(Female!U$18,'Female Rev'!$A11-35,0),0.03999)","v":1.77E-2},{"$f":"MIN(OFFSET(Female!V$18,'Female Rev'!$A11-35,0),0.03999)","v":1.8200000000000001E-2},{"$f":"MIN(OFFSET(Female!W$18,'Female Rev'!$A11-35,0),0.03999)","v":1.8499999999999999E-2},{"$f":"MIN(OFFSET(Female!X$18,'Female Rev'!$A11-35,0),0.03999)","v":1.8700000000000001E-2},{"$f":"MIN(OFFSET(Female!Y$18,'Female Rev'!$A11-35,0),0.03999)","v":1.8700000000000001E-2},{"$f":"MIN(OFFSET(Female!Z$18,'Female Rev'!$A11-35,0),0.03999)","v":1.84E-2},{"$f":"MIN(OFFSET(Female!AA$18,'Female Rev'!$A11-35,0),0.03999)","v":1.7899999999999999E-2},{"$f":"MIN(OFFSET(Female!AB$18,'Female Rev'!$A11-35,0),0.03999)","v":1.72E-2},{"$f":"MIN(OFFSET(Female!AC$18,'Female Rev'!$A11-35,0),0.03999)","v":1.6199999999999999E-2},{"$f":"MIN(OFFSET(Female!AD$18,'Female Rev'!$A11-35,0),0.03999)","v":1.52E-2},{"$f":"MIN(OFFSET(Female!AE$18,'Female Rev'!$A11-35,0),0.03999)","v":1.4E-2},{"$f":"MIN(OFFSET(Female!AF$18,'Female Rev'!$A11-35,0),0.03999)","v":1.2699999999999999E-2},{"$f":"MIN(OFFSET(Female!AG$18,'Female Rev'!$A11-35,0),0.03999)","v":1.14E-2},{"$f":"MIN(OFFSET(Female!AH$18,'Female Rev'!$A11-35,0),0.03999)","v":1.01E-2},{"$f":"MIN(OFFSET(Female!AI$18,'Female Rev'!$A11-35,0),0.03999)","v":8.8000000000000005E-3},{"$f":"MIN(OFFSET(Female!AJ$18,'Female Rev'!$A11-35,0),0.03999)","v":7.6E-3},{"$f":"MIN(OFFSET(Female!AK$18,'Female Rev'!$A11-35,0),0.03999)","v":6.6E-3},{"$f":"MIN(OFFSET(Female!AL$18,'Female Rev'!$A11-35,0),0.03999)","v":5.4999999999999997E-3},{"$f":"MIN(OFFSET(Female!AM$18,'Female Rev'!$A11-35,0),0.03999)","v":4.5999999999999999E-3},{"$f":"MIN(OFFSET(Female!AN$18,'Female Rev'!$A11-35,0),0.03999)","v":3.7000000000000002E-3},{"$f":"MIN(OFFSET(Female!AO$18,'Female Rev'!$A11-35,0),0.03999)","v":2.8E-3},{"$f":"MIN(OFFSET(Female!AP$18,'Female Rev'!$A11-35,0),0.03999)","v":1.8E-3},{"$f":"MIN(OFFSET(Female!AQ$18,'Female Rev'!$A11-35,0),0.03999)","v":8.9999999999999998E-4},{"$f":"MIN(OFFSET(Female!AR$18,'Female Rev'!$A11-35,0),0.03999)","v":0},{"$f":"MIN(OFFSET(Female!AS$18,'Female Rev'!$A11-35,0),0.03999)","v":-5.9999999999999995E-4},{"$f":"MIN(OFFSET(Female!AT$18,'Female Rev'!$A11-35,0),0.03999)","v":-8.9999999999999998E-4},{"$f":"MIN(OFFSET(Female!AU$18,'Female Rev'!$A11-35,0),0.03999)","v":-1E-3},{"$f":"MIN(OFFSET(Female!AV$18,'Female Rev'!$A11-35,0),0.03999)","v":-8.9999999999999998E-4},{"$f":"MIN(OFFSET(Female!AW$18,'Female Rev'!$A11-35,0),0.03999)","v":-4.0000000000000002E-4},{"$f":"MIN(OFFSET(Female!AX$18,'Female Rev'!$A11-35,0),0.03999)","v":2.9999999999999997E-4},{"$f":"MIN(OFFSET(Female!AY$18,'Female Rev'!$A11-35,0),0.03999)","v":1.2999999999999999E-3},{"$f":"MIN(OFFSET(Female!AZ$18,'Female Rev'!$A11-35,0),0.03999)","v":2.5000000000000001E-3},{"$f":"MIN(OFFSET(Female!BA$18,'Female Rev'!$A11-35,0),0.03999)","v":3.8E-3},{"$f":"MIN(OFFSET(Female!BB$18,'Female Rev'!$A11-35,0),0.03999)","v":5.1000000000000004E-3},{"$f":"MIN(OFFSET(Female!BC$18,'Female Rev'!$A11-35,0),0.03999)","v":6.1999999999999998E-3},{"$f":"MIN(OFFSET(Female!BD$18,'Female Rev'!$A11-35,0),0.03999)","v":7.1000000000000004E-3},{"$f":"MIN(OFFSET(Female!BE$18,'Female Rev'!$A11-35,0),0.03999)","v":7.7999999999999996E-3},{"$f":"MIN(OFFSET(Female!BF$18,'Female Rev'!$A11-35,0),0.03999)","v":8.2000000000000007E-3},{"$f":"MIN(OFFSET(Female!BG$18,'Female Rev'!$A11-35,0),0.03999)","v":8.3999999999999995E-3},{"$f":"MIN(OFFSET(Female!BH$18,'Female Rev'!$A11-35,0),0.03999)","v":8.3000000000000001E-3},{"$f":"MIN(OFFSET(Female!BI$18,'Female Rev'!$A11-35,0),0.03999)","v":8.0999999999999996E-3},{"$f":"MIN(OFFSET(Female!BJ$18,'Female Rev'!$A11-35,0),0.03999)","v":7.7000000000000002E-3},{"$f":"MIN(OFFSET(Female!BK$18,'Female Rev'!$A11-35,0),0.03999)","v":7.4000000000000003E-3},{"$f":"MIN(OFFSET(Female!BL$18,'Female Rev'!$A11-35,0),0.03999)","v":7.1000000000000004E-3},{"$f":"MIN(OFFSET(Female!BM$18,'Female Rev'!$A11-35,0),0.03999)","v":6.8999999999999999E-3},{"$f":"MIN(OFFSET(Female!BN$18,'Female Rev'!$A11-35,0),0.03999)","v":6.7000000000000002E-3},{"$f":"MIN(OFFSET(Female!BO$18,'Female Rev'!$A11-35,0),0.03999)","v":6.8999999999999999E-3},{"$f":"MIN(OFFSET(Female!BP$18,'Female Rev'!$A11-35,0),0.03999)","v":7.1999999999999998E-3},{"$f":"MIN(OFFSET(Female!BQ$18,'Female Rev'!$A11-35,0),0.03999)","v":7.4999999999999997E-3},{"$f":"MIN(OFFSET(Female!BR$18,'Female Rev'!$A11-35,0),0.03999)","v":7.7999999999999996E-3},{"$f":"MIN(OFFSET(Female!BS$18,'Female Rev'!$A11-35,0),0.03999)","v":8.2000000000000007E-3},{"$f":"MIN(OFFSET(Female!BT$18,'Female Rev'!$A11-35,0),0.03999)","v":8.5000000000000006E-3},{"$f":"MIN(OFFSET(Female!BU$18,'Female Rev'!$A11-35,0),0.03999)","v":8.8000000000000005E-3},{"$f":"MIN(OFFSET(Female!BV$18,'Female Rev'!$A11-35,0),0.03999)","v":9.1000000000000004E-3},{"$f":"MIN(OFFSET(Female!BW$18,'Female Rev'!$A11-35,0),0.03999)","v":9.2999999999999992E-3},{"$f":"MIN(OFFSET(Female!BX$18,'Female Rev'!$A11-35,0),0.03999)","v":9.4000000000000004E-3},{"$f":"MIN(OFFSET(Female!BY$18,'Female Rev'!$A11-35,0),0.03999)","v":9.4999999999999998E-3},{"$f":"MIN(OFFSET(Female!BZ$18,'Female Rev'!$A11-35,0),0.03999)","v":9.5999999999999992E-3},{"$f":"MIN(OFFSET(Female!CA$18,'Female Rev'!$A11-35,0),0.03999)","v":9.4999999999999998E-3},{"$f":"MIN(OFFSET(Female!CB$18,'Female Rev'!$A11-35,0),0.03999)","v":9.4999999999999998E-3},{"$f":"MIN(OFFSET(Female!CC$18,'Female Rev'!$A11-35,0),0.03999)","v":9.4999999999999998E-3},{"$f":"MIN(OFFSET(Female!CD$18,'Female Rev'!$A11-35,0),0.03999)","v":9.4999999999999998E-3},{"$f":"MIN(OFFSET(Female!CE$18,'Female Rev'!$A11-35,0),0.03999)","v":9.4999999999999998E-3},{"$f":"MIN(OFFSET(Female!CF$18,'Female Rev'!$A11-35,0),0.03999)","v":9.5999999999999992E-3},{"$f":"MIN(OFFSET(Female!CG$18,'Female Rev'!$A11-35,0),0.03999)","v":9.5999999999999992E-3},{"$f":"MIN(OFFSET(Female!CH$18,'Female Rev'!$A11-35,0),0.03999)","v":9.7000000000000003E-3}]
[86,86,{"$f":"MIN(OFFSET(Female!B$18,'Female Rev'!$A12-35,0),0.03999)","v":8.6E-3},{"$f":"MIN(OFFSET(Female!C$18,'Female Rev'!$A12-35,0),0.03999)","v":8.6E-3},{"$f":"MIN(OFFSET(Female!D$18,'Female Rev'!$A12-35,0),0.03999)","v":8.6E-3},{"$f":"MIN(OFFSET(Female!E$18,'Female Rev'!$A12-35,0),0.03999)","v":8.6E-3},{"$f":"MIN(OFFSET(Female!F$18,'Female Rev'!$A12-35,0),0.03999)","v":8.6E-3},{"$f":"MIN(OFFSET(Female!G$18,'Female Rev'!$A12-35,0),0.03999)","v":8.8000000000000005E-3},{"$f":"MIN(OFFSET(Female!H$18,'Female Rev'!$A12-35,0),0.03999)","v":8.9999999999999993E-3},{"$f":"MIN(OFFSET(Female!I$18,'Female Rev'!$A12-35,0),0.03999)","v":9.2999999999999992E-3},{"$f":"MIN(OFFSET(Female!J$18,'Female Rev'!$A12-35,0),0.03999)","v":9.7000000000000003E-3},{"$f":"MIN(OFFSET(Female!K$18,'Female Rev'!$A12-35,0),0.03999)","v":1.0200000000000001E-2},{"$f":"MIN(OFFSET(Female!L$18,'Female Rev'!$A12-35,0),0.03999)","v":1.0800000000000001E-2},{"$f":"MIN(OFFSET(Female!M$18,'Female Rev'!$A12-35,0),0.03999)","v":1.15E-2},{"$f":"MIN(OFFSET(Female!N$18,'Female Rev'!$A12-35,0),0.03999)","v":1.23E-2},{"$f":"MIN(OFFSET(Female!O$18,'Female Rev'!$A12-35,0),0.03999)","v":1.3100000000000001E-2},{"$f":"MIN(OFFSET(Female!P$18,'Female Rev'!$A12-35,0),0.03999)","v":1.4E-2},{"$f":"MIN(OFFSET(Female!Q$18,'Female Rev'!$A12-35,0),0.03999)","v":1.49E-2},{"$f":"MIN(OFFSET(Female!R$18,'Female Rev'!$A12-35,0),0.03999)","v":1.5800000000000002E-2},{"$f":"MIN(OFFSET(Female!S$18,'Female Rev'!$A12-35,0),0.03999)","v":1.66E-2},{"$f":"MIN(OFFSET(Female!T$18,'Female Rev'!$A12-35,0),0.03999)","v":1.7299999999999999E-2},{"$f":"MIN(OFFSET(Female!U$18,'Female Rev'!$A12-35,0),0.03999)","v":1.7899999999999999E-2},{"$f":"MIN(OFFSET(Female!V$18,'Female Rev'!$A12-35,0),0.03999)","v":1.84E-2},{"$f":"MIN(OFFSET(Female!W$18,'Female Rev'!$A12-35,0),0.03999)","v":1.8700000000000001E-2},{"$f":"MIN(OFFSET(Female!X$18,'Female Rev'!$A12-35,0),0.03999)","v":1.89E-2},{"$f":"MIN(OFFSET(Female!Y$18,'Female Rev'!$A12-35,0),0.03999)","v":1.89E-2},{"$f":"MIN(OFFSET(Female!Z$18,'Female Rev'!$A12-35,0),0.03999)","v":1.8700000000000001E-2},{"$f":"MIN(OFFSET(Female!AA$18,'Female Rev'!$A12-35,0),0.03999)","v":1.8100000000000002E-2},{"$f":"MIN(OFFSET(Female!AB$18,'Female Rev'!$A12-35,0),0.03999)","v":1.7399999999999999E-2},{"$f":"MIN(OFFSET(Female!AC$18,'Female Rev'!$A12-35,0),0.03999)","v":1.6400000000000001E-2},{"$f":"MIN(OFFSET(Female!AD$18,'Female Rev'!$A12-35,0),0.03999)","v":1.52E-2},{"$f":"MIN(OFFSET(Female!AE$18,'Female Rev'!$A12-35,0),0.03999)","v":1.4E-2},{"$f":"MIN(OFFSET(Female!AF$18,'Female Rev'!$A12-35,0),0.03999)","v":1.2699999999999999E-2},{"$f":"MIN(OFFSET(Female!AG$18,'Female Rev'!$A12-35,0),0.03999)","v":1.14E-2},{"$f":"MIN(OFFSET(Female!AH$18,'Female Rev'!$A12-35,0),0.03999)","v":0.01},{"$f":"MIN(OFFSET(Female!AI$18,'Female Rev'!$A12-35,0),0.03999)","v":8.8000000000000005E-3},{"$f":"MIN(OFFSET(Female!AJ$18,'Female Rev'!$A12-35,0),0.03999)","v":7.6E-3},{"$f":"MIN(OFFSET(Female!AK$18,'Female Rev'!$A12-35,0),0.03999)","v":6.6E-3},{"$f":"MIN(OFFSET(Female!AL$18,'Female Rev'!$A12-35,0),0.03999)","v":5.5999999999999999E-3},{"$f":"MIN(OFFSET(Female!AM$18,'Female Rev'!$A12-35,0),0.03999)","v":4.7000000000000002E-3},{"$f":"MIN(OFFSET(Female!AN$18,'Female Rev'!$A12-35,0),0.03999)","v":3.8E-3},{"$f":"MIN(OFFSET(Female!AO$18,'Female Rev'!$A12-35,0),0.03999)","v":3.0000000000000001E-3},{"$f":"MIN(OFFSET(Female!AP$18,'Female Rev'!$A12-35,0),0.03999)","v":2E-3},{"$f":"MIN(OFFSET(Female!AQ$18,'Female Rev'!$A12-35,0),0.03999)","v":1.1000000000000001E-3},{"$f":"MIN(OFFSET(Female!AR$18,'Female Rev'!$A12-35,0),0.03999)","v":2.9999999999999997E-4},{"$f":"MIN(OFFSET(Female!AS$18,'Female Rev'!$A12-35,0),0.03999)","v":-2.9999999999999997E-4},{"$f":"MIN(OFFSET(Female!AT$18,'Female Rev'!$A12-35,0),0.03999)","v":-5.9999999999999995E-4},{"$f":"MIN(OFFSET(Female!AU$18,'Female Rev'!$A12-35,0),0.03999)","v":-6.9999999999999999E-4},{"$f":"MIN(OFFSET(Female!AV$18,'Female Rev'!$A12-35,0),0.03999)","v":-5.0000000000000001E-4},{"$f":"MIN(OFFSET(Female!AW$18,'Female Rev'!$A12-35,0),0.03999)","v":0},{"$f":"MIN(OFFSET(Female!AX$18,'Female Rev'!$A12-35,0),0.03999)","v":8.0000000000000004E-4},{"$f":"MIN(OFFSET(Female!AY$18,'Female Rev'!$A12-35,0),0.03999)","v":1.9E-3},{"$f":"MIN(OFFSET(Female!AZ$18,'Female Rev'!$A12-35,0),0.03999)","v":3.0999999999999999E-3},{"$f":"MIN(OFFSET(Female!BA$18,'Female Rev'!$A12-35,0),0.03999)","v":4.4999999999999997E-3},{"$f":"MIN(OFFSET(Female!BB$18,'Female Rev'!$A12-35,0),0.03999)","v":5.7999999999999996E-3},{"$f":"MIN(OFFSET(Female!BC$18,'Female Rev'!$A12-35,0),0.03999)","v":7.0000000000000001E-3},{"$f":"MIN(OFFSET(Female!BD$18,'Female Rev'!$A12-35,0),0.03999)","v":7.9000000000000008E-3},{"$f":"MIN(OFFSET(Female!BE$18,'Female Rev'!$A12-35,0),0.03999)","v":8.6E-3},{"$f":"MIN(OFFSET(Female!BF$18,'Female Rev'!$A12-35,0),0.03999)","v":8.9999999999999993E-3},{"$f":"MIN(OFFSET(Female!BG$18,'Female Rev'!$A12-35,0),0.03999)","v":9.1000000000000004E-3},{"$f":"MIN(OFFSET(Female!BH$18,'Female Rev'!$A12-35,0),0.03999)","v":8.9999999999999993E-3},{"$f":"MIN(OFFSET(Female!BI$18,'Female Rev'!$A12-35,0),0.03999)","v":8.6E-3},{"$f":"MIN(OFFSET(Female!BJ$18,'Female Rev'!$A12-35,0),0.03999)","v":8.3000000000000001E-3},{"$f":"MIN(OFFSET(Female!BK$18,'Female Rev'!$A12-35,0),0.03999)","v":7.9000000000000008E-3},{"$f":"MIN(OFFSET(Female!BL$18,'Female Rev'!$A12-35,0),0.03999)","v":7.4999999999999997E-3},{"$f":"MIN(OFFSET(Female!BM$18,'Female Rev'!$A12-35,0),0.03999)","v":7.3000000000000001E-3},{"$f":"MIN(OFFSET(Female!BN$18,'Female Rev'!$A12-35,0),0.03999)","v":7.1000000000000004E-3},{"$f":"MIN(OFFSET(Female!BO$18,'Female Rev'!$A12-35,0),0.03999)","v":7.3000000000000001E-3},{"$f":"MIN(OFFSET(Female!BP$18,'Female Rev'!$A12-35,0),0.03999)","v":7.6E-3},{"$f":"MIN(OFFSET(Female!BQ$18,'Female Rev'!$A12-35,0),0.03999)","v":7.9000000000000008E-3},{"$f":"MIN(OFFSET(Female!BR$18,'Female Rev'!$A12-35,0),0.03999)","v":8.2000000000000007E-3},{"$f":"MIN(OFFSET(Female!BS$18,'Female Rev'!$A12-35,0),0.03999)","v":8.5000000000000006E-3},{"$f":"MIN(OFFSET(Female!BT$18,'Female Rev'!$A12-35,0),0.03999)","v":8.8999999999999999E-3},{"$f":"MIN(OFFSET(Female!BU$18,'Female Rev'!$A12-35,0),0.03999)","v":9.1999999999999998E-3},{"$f":"MIN(OFFSET(Female!BV$18,'Female Rev'!$A12-35,0),0.03999)","v":9.4000000000000004E-3},{"$f":"MIN(OFFSET(Female!BW$18,'Female Rev'!$A12-35,0),0.03999)","v":9.5999999999999992E-3},{"$f":"MIN(OFFSET(Female!BX$18,'Female Rev'!$A12-35,0),0.03999)","v":9.7000000000000003E-3},{"$f":"MIN(OFFSET(Female!BY$18,'Female Rev'!$A12-35,0),0.03999)","v":9.7000000000000003E-3},{"$f":"MIN(OFFSET(Female!BZ$18,'Female Rev'!$A12-35,0),0.03999)","v":9.7000000000000003E-3},{"$f":"MIN(OFFSET(Female!CA$18,'Female Rev'!$A12-35,0),0.03999)","v":9.7000000000000003E-3},{"$f":"MIN(OFFSET(Female!CB$18,'Female Rev'!$A12-35,0),0.03999)","v":9.5999999999999992E-3},{"$f":"MIN(OFFSET(Female!CC$18,'Female Rev'!$A12-35,0),0.03999)","v":9.5999999999999992E-3},{"$f":"MIN(OFFSET(Female!CD$18,'Female Rev'!$A12-35,0),0.03999)","v":9.5999999999999992E-3},{"$f":"MIN(OFFSET(Female!CE$18,'Female Rev'!$A12-35,0),0.03999)","v":9.5999999999999992E-3},{"$f":"MIN(OFFSET(Female!CF$18,'Female Rev'!$A12-35,0),0.03999)","v":9.7000000000000003E-3},{"$f":"MIN(OFFSET(Female!CG$18,'Female Rev'!$A12-35,0),0.03999)","v":9.7999999999999997E-3},{"$f":"MIN(OFFSET(Female!CH$18,'Female Rev'!$A12-35,0),0.03999)","v":9.9000000000000008E-3}]
[85,85,{"$f":"MIN(OFFSET(Female!B$18,'Female Rev'!$A13-35,0),0.03999)","v":8.8000000000000005E-3},{"$f":"MIN(OFFSET(Female!C$18,'Female Rev'!$A13-35,0),0.03999)","v":8.8000000000000005E-3},{"$f":"MIN(OFFSET(Female!D$18,'Female Rev'!$A13-35,0),0.03999)","v":8.8000000000000005E-3},{"$f":"MIN(OFFSET(Female!E$18,'Female Rev'!$A13-35,0),0.03999)","v":8.8000000000000005E-3},{"$f":"MIN(OFFSET(Female!F$18,'Female Rev'!$A13-35,0),0.03999)","v":8.8000000000000005E-3},{"$f":"MIN(OFFSET(Female!G$18,'Female Rev'!$A13-35,0),0.03999)","v":8.8999999999999999E-3},{"$f":"MIN(OFFSET(Female!H$18,'Female Rev'!$A13-35,0),0.03999)","v":9.1000000000000004E-3},{"$f":"MIN(OFFSET(Female!I$18,'Female Rev'!$A13-35,0),0.03999)","v":9.4000000000000004E-3},{"$f":"MIN(OFFSET(Female!J$18,'Female Rev'!$A13-35,0),0.03999)","v":9.7999999999999997E-3},{"$f":"MIN(OFFSET(Female!K$18,'Female Rev'!$A13-35,0),0.03999)","v":1.03E-2},{"$f":"MIN(OFFSET(Female!L$18,'Female Rev'!$A13-35,0),0.03999)","v":1.09E-2},{"$f":"MIN(OFFSET(Female!M$18,'Female Rev'!$A13-35,0),0.03999)","v":1.1599999999999999E-2},{"$f":"MIN(OFFSET(Female!N$18,'Female Rev'!$A13-35,0),0.03999)","v":1.24E-2},{"$f":"MIN(OFFSET(Female!O$18,'Female Rev'!$A13-35,0),0.03999)","v":1.32E-2},{"$f":"MIN(OFFSET(Female!P$18,'Female Rev'!$A13-35,0),0.03999)","v":1.41E-2},{"$f":"MIN(OFFSET(Female!Q$18,'Female Rev'!$A13-35,0),0.03999)","v":1.4999999999999999E-2},{"$f":"MIN(OFFSET(Female!R$18,'Female Rev'!$A13-35,0),0.03999)","v":1.5900000000000001E-2},{"$f":"MIN(OFFSET(Female!S$18,'Female Rev'!$A13-35,0),0.03999)","v":1.67E-2},{"$f":"MIN(OFFSET(Female!T$18,'Female Rev'!$A13-35,0),0.03999)","v":1.7500000000000002E-2},{"$f":"MIN(OFFSET(Female!U$18,'Female Rev'!$A13-35,0),0.03999)","v":1.8100000000000002E-2},{"$f":"MIN(OFFSET(Female!V$18,'Female Rev'!$A13-35,0),0.03999)","v":1.8599999999999998E-2},{"$f":"MIN(OFFSET(Female!W$18,'Female Rev'!$A13-35,0),0.03999)","v":1.9E-2},{"$f":"MIN(OFFSET(Female!X$18,'Female Rev'!$A13-35,0),0.03999)","v":1.9199999999999998E-2},{"$f":"MIN(OFFSET(Female!Y$18,'Female Rev'!$A13-35,0),0.03999)","v":1.9199999999999998E-2},{"$f":"MIN(OFFSET(Female!Z$18,'Female Rev'!$A13-35,0),0.03999)","v":1.89E-2},{"$f":"MIN(OFFSET(Female!AA$18,'Female Rev'!$A13-35,0),0.03999)","v":1.84E-2},{"$f":"MIN(OFFSET(Female!AB$18,'Female Rev'!$A13-35,0),0.03999)","v":1.7500000000000002E-2},{"$f":"MIN(OFFSET(Female!AC$18,'Female Rev'!$A13-35,0),0.03999)","v":1.6500000000000001E-2},{"$f":"MIN(OFFSET(Female!AD$18,'Female Rev'!$A13-35,0),0.03999)","v":1.5299999999999999E-2},{"$f":"MIN(OFFSET(Female!AE$18,'Female Rev'!$A13-35,0),0.03999)","v":1.4E-2},{"$f":"MIN(OFFSET(Female!AF$18,'Female Rev'!$A13-35,0),0.03999)","v":1.26E-2},{"$f":"MIN(OFFSET(Female!AG$18,'Female Rev'!$A13-35,0),0.03999)","v":1.1299999999999999E-2},{"$f":"MIN(OFFSET(Female!AH$18,'Female Rev'!$A13-35,0),0.03999)","v":9.9000000000000008E-3},{"$f":"MIN(OFFSET(Female!AI$18,'Female Rev'!$A13-35,0),0.03999)","v":8.6999999999999994E-3},{"$f":"MIN(OFFSET(Female!AJ$18,'Female Rev'!$A13-35,0),0.03999)","v":7.4999999999999997E-3},{"$f":"MIN(OFFSET(Female!AK$18,'Female Rev'!$A13-35,0),0.03999)","v":6.4999999999999997E-3},{"$f":"MIN(OFFSET(Female!AL$18,'Female Rev'!$A13-35,0),0.03999)","v":5.5999999999999999E-3},{"$f":"MIN(OFFSET(Female!AM$18,'Female Rev'!$A13-35,0),0.03999)","v":4.7999999999999996E-3},{"$f":"MIN(OFFSET(Female!AN$18,'Female Rev'!$A13-35,0),0.03999)","v":4.0000000000000001E-3},{"$f":"MIN(OFFSET(Female!AO$18,'Female Rev'!$A13-35,0),0.03999)","v":3.0999999999999999E-3},{"$f":"MIN(OFFSET(Female!AP$18,'Female Rev'!$A13-35,0),0.03999)","v":2.2000000000000001E-3},{"$f":"MIN(OFFSET(Female!AQ$18,'Female Rev'!$A13-35,0),0.03999)","v":1.4E-3},{"$f":"MIN(OFFSET(Female!AR$18,'Female Rev'!$A13-35,0),0.03999)","v":5.9999999999999995E-4},{"$f":"MIN(OFFSET(Female!AS$18,'Female Rev'!$A13-35,0),0.03999)","v":0},{"$f":"MIN(OFFSET(Female!AT$18,'Female Rev'!$A13-35,0),0.03999)","v":-2.9999999999999997E-4},{"$f":"MIN(OFFSET(Female!AU$18,'Female Rev'!$A13-35,0),0.03999)","v":-4.0000000000000002E-4},{"$f":"MIN(OFFSET(Female!AV$18,'Female Rev'!$A13-35,0),0.03999)","v":-1E-4},{"$f":"MIN(OFFSET(Female!AW$18,'Female Rev'!$A13-35,0),0.03999)","v":4.0000000000000002E-4},{"$f":"MIN(OFFSET(Female!AX$18,'Female Rev'!$A13-35,0),0.03999)","v":1.1999999999999999E-3},{"$f":"MIN(OFFSET(Female!AY$18,'Female Rev'!$A13-35,0),0.03999)","v":2.3999999999999998E-3},{"$f":"MIN(OFFSET(Female!AZ$18,'Female Rev'!$A13-35,0),0.03999)","v":3.7000000000000002E-3},{"$f":"MIN(OFFSET(Female!BA$18,'Female Rev'!$A13-35,0),0.03999)","v":5.1000000000000004E-3},{"$f":"MIN(OFFSET(Female!BB$18,'Female Rev'!$A13-35,0),0.03999)","v":6.4999999999999997E-3},{"$f":"MIN(OFFSET(Female!BC$18,'Female Rev'!$A13-35,0),0.03999)","v":7.7000000000000002E-3},{"$f":"MIN(OFFSET(Female!BD$18,'Female Rev'!$A13-35,0),0.03999)","v":8.6999999999999994E-3},{"$f":"MIN(OFFSET(Female!BE$18,'Female Rev'!$A13-35,0),0.03999)","v":9.2999999999999992E-3},{"$f":"MIN(OFFSET(Female!BF$18,'Female Rev'!$A13-35,0),0.03999)","v":9.7000000000000003E-3},{"$f":"MIN(OFFSET(Female!BG$18,'Female Rev'!$A13-35,0),0.03999)","v":9.7999999999999997E-3},{"$f":"MIN(OFFSET(Female!BH$18,'Female Rev'!$A13-35,0),0.03999)","v":9.5999999999999992E-3},{"$f":"MIN(OFFSET(Female!BI$18,'Female Rev'!$A13-35,0),0.03999)","v":9.1999999999999998E-3},{"$f":"MIN(OFFSET(Female!BJ$18,'Female Rev'!$A13-35,0),0.03999)","v":8.8000000000000005E-3},{"$f":"MIN(OFFSET(Female!BK$18,'Female Rev'!$A13-35,0),0.03999)","v":8.3999999999999995E-3},{"$f":"MIN(OFFSET(Female!BL$18,'Female Rev'!$A13-35,0),0.03999)","v":8.0000000000000002E-3},{"$f":"MIN(OFFSET(Female!BM$18,'Female Rev'!$A13-35,0),0.03999)","v":7.7000000000000002E-3},{"$f":"MIN(OFFSET(Female!BN$18,'Female Rev'!$A13-35,0),0.03999)","v":7.4000000000000003E-3},{"$f":"MIN(OFFSET(Female!BO$18,'Female Rev'!$A13-35,0),0.03999)","v":7.7000000000000002E-3},{"$f":"MIN(OFFSET(Female!BP$18,'Female Rev'!$A13-35,0),0.03999)","v":7.9000000000000008E-3},{"$f":"MIN(OFFSET(Female!BQ$18,'Female Rev'!$A13-35,0),0.03999)","v":8.2000000000000007E-3},{"$f":"MIN(OFFSET(Female!BR$18,'Female Rev'!$A13-35,0),0.03999)","v":8.6E-3},{"$f":"MIN(OFFSET(Female!BS$18,'Female Rev'!$A13-35,0),0.03999)","v":8.8999999999999999E-3},{"$f":"MIN(OFFSET(Female!BT$18,'Female Rev'!$A13-35,0),0.03999)","v":9.1999999999999998E-3},{"$f":"MIN(OFFSET(Female!BU$18,'Female Rev'!$A13-35,0),0.03999)","v":9.4999999999999998E-3},{"$f":"MIN(OFFSET(Female!BV$18,'Female Rev'!$A13-35,0),0.03999)","v":9.7000000000000003E-3},{"$f":"MIN(OFFSET(Female!BW$18,'Female Rev'!$A13-35,0),0.03999)","v":9.7999999999999997E-3},{"$f":"MIN(OFFSET(Female!BX$18,'Female Rev'!$A13-35,0),0.03999)","v":9.9000000000000008E-3},{"$f":"MIN(OFFSET(Female!BY$18,'Female Rev'!$A13-35,0),0.03999)","v":9.9000000000000008E-3},{"$f":"MIN(OFFSET(Female!BZ$18,'Female Rev'!$A13-35,0),0.03999)","v":9.7999999999999997E-3},{"$f":"MIN(OFFSET(Female!CA$18,'Female Rev'!$A13-35,0),0.03999)","v":9.7999999999999997E-3},{"$f":"MIN(OFFSET(Female!CB$18,'Female Rev'!$A13-35,0),0.03999)","v":9.7000000000000003E-3},{"$f":"MIN(OFFSET(Female!CC$18,'Female Rev'!$A13-35,0),0.03999)","v":9.7000000000000003E-3},{"$f":"MIN(OFFSET(Female!CD$18,'Female Rev'!$A13-35,0),0.03999)","v":9.7000000000000003E-3},{"$f":"MIN(OFFSET(Female!CE$18,'Female Rev'!$A13-35,0),0.03999)","v":9.7999999999999997E-3},{"$f":"MIN(OFFSET(Female!CF$18,'Female Rev'!$A13-35,0),0.03999)","v":9.7999999999999997E-3},{"$f":"MIN(OFFSET(Female!CG$18,'Female Rev'!$A13-35,0),0.03999)","v":9.9000000000000008E-3},{"$f":"MIN(OFFSET(Female!CH$18,'Female Rev'!$A13-35,0),0.03999)","v":0.01}]
[84,84,{"$f":"MIN(OFFSET(Female!B$18,'Female Rev'!$A14-35,0),0.03999)","v":8.9999999999999993E-3},{"$f":"MIN(OFFSET(Female!C$18,'Female Rev'!$A14-35,0),0.03999)","v":8.9999999999999993E-3},{"$f":"MIN(OFFSET(Female!D$18,'Female Rev'!$A14-35,0),0.03999)","v":8.9999999999999993E-3},{"$f":"MIN(OFFSET(Female!E$18,'Female Rev'!$A14-35,0),0.03999)","v":8.9999999999999993E-3},{"$f":"MIN(OFFSET(Female!F$18,'Female Rev'!$A14-35,0),0.03999)","v":8.9999999999999993E-3},{"$f":"MIN(OFFSET(Female!G$18,'Female Rev'!$A14-35,0),0.03999)","v":9.1000000000000004E-3},{"$f":"MIN(OFFSET(Female!H$18,'Female Rev'!$A14-35,0),0.03999)","v":9.2999999999999992E-3},{"$f":"MIN(OFFSET(Female!I$18,'Female Rev'!$A14-35,0),0.03999)","v":9.5999999999999992E-3},{"$f":"MIN(OFFSET(Female!J$18,'Female Rev'!$A14-35,0),0.03999)","v":0.01},{"$f":"MIN(OFFSET(Female!K$18,'Female Rev'!$A14-35,0),0.03999)","v":1.0500000000000001E-2},{"$f":"MIN(OFFSET(Female!L$18,'Female Rev'!$A14-35,0),0.03999)","v":1.0999999999999999E-2},{"$f":"MIN(OFFSET(Female!M$18,'Female Rev'!$A14-35,0),0.03999)","v":1.17E-2},{"$f":"MIN(OFFSET(Female!N$18,'Female Rev'!$A14-35,0),0.03999)","v":1.2500000000000001E-2},{"$f":"MIN(OFFSET(Female!O$18,'Female Rev'!$A14-35,0),0.03999)","v":1.34E-2},{"$f":"MIN(OFFSET(Female!P$18,'Female Rev'!$A14-35,0),0.03999)","v":1.4200000000000001E-2},{"$f":"MIN(OFFSET(Female!Q$18,'Female Rev'!$A14-35,0),0.03999)","v":1.5100000000000001E-2},{"$f":"MIN(OFFSET(Female!R$18,'Female Rev'!$A14-35,0),0.03999)","v":1.6E-2},{"$f":"MIN(OFFSET(Female!S$18,'Female Rev'!$A14-35,0),0.03999)","v":1.6799999999999999E-2},{"$f":"MIN(OFFSET(Female!T$18,'Female Rev'!$A14-35,0),0.03999)","v":1.7600000000000001E-2},{"$f":"MIN(OFFSET(Female!U$18,'Female Rev'!$A14-35,0),0.03999)","v":1.83E-2},{"$f":"MIN(OFFSET(Female!V$18,'Female Rev'!$A14-35,0),0.03999)","v":1.8800000000000001E-2},{"$f":"MIN(OFFSET(Female!W$18,'Female Rev'!$A14-35,0),0.03999)","v":1.9199999999999998E-2},{"$f":"MIN(OFFSET(Female!X$18,'Female Rev'!$A14-35,0),0.03999)","v":1.9400000000000001E-2},{"$f":"MIN(OFFSET(Female!Y$18,'Female Rev'!$A14-35,0),0.03999)","v":1.9400000000000001E-2},{"$f":"MIN(OFFSET(Female!Z$18,'Female Rev'!$A14-35,0),0.03999)","v":1.9099999999999999E-2},{"$f":"MIN(OFFSET(Female!AA$18,'Female Rev'!$A14-35,0),0.03999)","v":1.8499999999999999E-2},{"$f":"MIN(OFFSET(Female!AB$18,'Female Rev'!$A14-35,0),0.03999)","v":1.77E-2},{"$f":"MIN(OFFSET(Female!AC$18,'Female Rev'!$A14-35,0),0.03999)","v":1.66E-2},{"$f":"MIN(OFFSET(Female!AD$18,'Female Rev'!$A14-35,0),0.03999)","v":1.5299999999999999E-2},{"$f":"MIN(OFFSET(Female!AE$18,'Female Rev'!$A14-35,0),0.03999)","v":1.3899999999999999E-2},{"$f":"MIN(OFFSET(Female!AF$18,'Female Rev'!$A14-35,0),0.03999)","v":1.2500000000000001E-2},{"$f":"MIN(OFFSET(Female!AG$18,'Female Rev'!$A14-35,0),0.03999)","v":1.11E-2},{"$f":"MIN(OFFSET(Female!AH$18,'Female Rev'!$A14-35,0),0.03999)","v":9.7999999999999997E-3},{"$f":"MIN(OFFSET(Female!AI$18,'Female Rev'!$A14-35,0),0.03999)","v":8.5000000000000006E-3},{"$f":"MIN(OFFSET(Female!AJ$18,'Female Rev'!$A14-35,0),0.03999)","v":7.4000000000000003E-3},{"$f":"MIN(OFFSET(Female!AK$18,'Female Rev'!$A14-35,0),0.03999)","v":6.4999999999999997E-3},{"$f":"MIN(OFFSET(Female!AL$18,'Female Rev'!$A14-35,0),0.03999)","v":5.5999999999999999E-3},{"$f":"MIN(OFFSET(Female!AM$18,'Female Rev'!$A14-35,0),0.03999)","v":4.8999999999999998E-3},{"$f":"MIN(OFFSET(Female!AN$18,'Female Rev'!$A14-35,0),0.03999)","v":4.1000000000000003E-3},{"$f":"MIN(OFFSET(Female!AO$18,'Female Rev'!$A14-35,0),0.03999)","v":3.3E-3},{"$f":"MIN(OFFSET(Female!AP$18,'Female Rev'!$A14-35,0),0.03999)","v":2.5000000000000001E-3},{"$f":"MIN(OFFSET(Female!AQ$18,'Female Rev'!$A14-35,0),0.03999)","v":1.6000000000000001E-3},{"$f":"MIN(OFFSET(Female!AR$18,'Female Rev'!$A14-35,0),0.03999)","v":8.0000000000000004E-4},{"$f":"MIN(OFFSET(Female!AS$18,'Female Rev'!$A14-35,0),0.03999)","v":2.9999999999999997E-4},{"$f":"MIN(OFFSET(Female!AT$18,'Female Rev'!$A14-35,0),0.03999)","v":0},{"$f":"MIN(OFFSET(Female!AU$18,'Female Rev'!$A14-35,0),0.03999)","v":0},{"$f":"MIN(OFFSET(Female!AV$18,'Female Rev'!$A14-35,0),0.03999)","v":2.9999999999999997E-4},{"$f":"MIN(OFFSET(Female!AW$18,'Female Rev'!$A14-35,0),0.03999)","v":8.0000000000000004E-4},{"$f":"MIN(OFFSET(Female!AX$18,'Female Rev'!$A14-35,0),0.03999)","v":1.6999999999999999E-3},{"$f":"MIN(OFFSET(Female!AY$18,'Female Rev'!$A14-35,0),0.03999)","v":2.8999999999999998E-3},{"$f":"MIN(OFFSET(Female!AZ$18,'Female Rev'!$A14-35,0),0.03999)","v":4.3E-3},{"$f":"MIN(OFFSET(Female!BA$18,'Female Rev'!$A14-35,0),0.03999)","v":5.7999999999999996E-3},{"$f":"MIN(OFFSET(Female!BB$18,'Female Rev'!$A14-35,0),0.03999)","v":7.1999999999999998E-3},{"$f":"MIN(OFFSET(Female!BC$18,'Female Rev'!$A14-35,0),0.03999)","v":8.5000000000000006E-3},{"$f":"MIN(OFFSET(Female!BD$18,'Female Rev'!$A14-35,0),0.03999)","v":9.4000000000000004E-3},{"$f":"MIN(OFFSET(Female!BE$18,'Female Rev'!$A14-35,0),0.03999)","v":1.01E-2},{"$f":"MIN(OFFSET(Female!BF$18,'Female Rev'!$A14-35,0),0.03999)","v":1.04E-2},{"$f":"MIN(OFFSET(Female!BG$18,'Female Rev'!$A14-35,0),0.03999)","v":1.04E-2},{"$f":"MIN(OFFSET(Female!BH$18,'Female Rev'!$A14-35,0),0.03999)","v":1.0200000000000001E-2},{"$f":"MIN(OFFSET(Female!BI$18,'Female Rev'!$A14-35,0),0.03999)","v":9.7999999999999997E-3},{"$f":"MIN(OFFSET(Female!BJ$18,'Female Rev'!$A14-35,0),0.03999)","v":9.2999999999999992E-3},{"$f":"MIN(OFFSET(Female!BK$18,'Female Rev'!$A14-35,0),0.03999)","v":8.8000000000000005E-3},{"$f":"MIN(OFFSET(Female!BL$18,'Female Rev'!$A14-35,0),0.03999)","v":8.3999999999999995E-3},{"$f":"MIN(OFFSET(Female!BM$18,'Female Rev'!$A14-35,0),0.03999)","v":8.0999999999999996E-3},{"$f":"MIN(OFFSET(Female!BN$18,'Female Rev'!$A14-35,0),0.03999)","v":7.7999999999999996E-3},{"$f":"MIN(OFFSET(Female!BO$18,'Female Rev'!$A14-35,0),0.03999)","v":8.0999999999999996E-3},{"$f":"MIN(OFFSET(Female!BP$18,'Female Rev'!$A14-35,0),0.03999)","v":8.3000000000000001E-3},{"$f":"MIN(OFFSET(Female!BQ$18,'Female Rev'!$A14-35,0),0.03999)","v":8.6E-3},{"$f":"MIN(OFFSET(Female!BR$18,'Female Rev'!$A14-35,0),0.03999)","v":8.8999999999999999E-3},{"$f":"MIN(OFFSET(Female!BS$18,'Female Rev'!$A14-35,0),0.03999)","v":9.1999999999999998E-3},{"$f":"MIN(OFFSET(Female!BT$18,'Female Rev'!$A14-35,0),0.03999)","v":9.4999999999999998E-3},{"$f":"MIN(OFFSET(Female!BU$18,'Female Rev'!$A14-35,0),0.03999)","v":9.7000000000000003E-3},{"$f":"MIN(OFFSET(Female!BV$18,'Female Rev'!$A14-35,0),0.03999)","v":9.9000000000000008E-3},{"$f":"MIN(OFFSET(Female!BW$18,'Female Rev'!$A14-35,0),0.03999)","v":0.01},{"$f":"MIN(OFFSET(Female!BX$18,'Female Rev'!$A14-35,0),0.03999)","v":0.01},{"$f":"MIN(OFFSET(Female!BY$18,'Female Rev'!$A14-35,0),0.03999)","v":9.9000000000000008E-3},{"$f":"MIN(OFFSET(Female!BZ$18,'Female Rev'!$A14-35,0),0.03999)","v":9.9000000000000008E-3},{"$f":"MIN(OFFSET(Female!CA$18,'Female Rev'!$A14-35,0),0.03999)","v":9.7999999999999997E-3},{"$f":"MIN(OFFSET(Female!CB$18,'Female Rev'!$A14-35,0),0.03999)","v":9.7000000000000003E-3},{"$f":"MIN(OFFSET(Female!CC$18,'Female Rev'!$A14-35,0),0.03999)","v":9.7000000000000003E-3},{"$f":"MIN(OFFSET(Female!CD$18,'Female Rev'!$A14-35,0),0.03999)","v":9.7000000000000003E-3},{"$f":"MIN(OFFSET(Female!CE$18,'Female Rev'!$A14-35,0),0.03999)","v":9.7999999999999997E-3},{"$f":"MIN(OFFSET(Female!CF$18,'Female Rev'!$A14-35,0),0.03999)","v":9.9000000000000008E-3},{"$f":"MIN(OFFSET(Female!CG$18,'Female Rev'!$A14-35,0),0.03999)","v":0.01},{"$f":"MIN(OFFSET(Female!CH$18,'Female Rev'!$A14-35,0),0.03999)","v":0.01}]
[83,83,{"$f":"MIN(OFFSET(Female!B$18,'Female Rev'!$A15-35,0),0.03999)","v":9.1999999999999998E-3},{"$f":"MIN(OFFSET(Female!C$18,'Female Rev'!$A15-35,0),0.03999)","v":9.1999999999999998E-3},{"$f":"MIN(OFFSET(Female!D$18,'Female Rev'!$A15-35,0),0.03999)","v":9.1999999999999998E-3},{"$f":"MIN(OFFSET(Female!E$18,'Female Rev'!$A15-35,0),0.03999)","v":9.1999999999999998E-3},{"$f":"MIN(OFFSET(Female!F$18,'Female Rev'!$A15-35,0),0.03999)","v":9.1999999999999998E-3},{"$f":"MIN(OFFSET(Female!G$18,'Female Rev'!$A15-35,0),0.03999)","v":9.2999999999999992E-3},{"$f":"MIN(OFFSET(Female!H$18,'Female Rev'!$A15-35,0),0.03999)","v":9.4999999999999998E-3},{"$f":"MIN(OFFSET(Female!I$18,'Female Rev'!$A15-35,0),0.03999)","v":9.7000000000000003E-3},{"$f":"MIN(OFFSET(Female!J$18,'Female Rev'!$A15-35,0),0.03999)","v":1.01E-2},{"$f":"MIN(OFFSET(Female!K$18,'Female Rev'!$A15-35,0),0.03999)","v":1.06E-2},{"$f":"MIN(OFFSET(Female!L$18,'Female Rev'!$A15-35,0),0.03999)","v":1.12E-2},{"$f":"MIN(OFFSET(Female!M$18,'Female Rev'!$A15-35,0),0.03999)","v":1.1900000000000001E-2},{"$f":"MIN(OFFSET(Female!N$18,'Female Rev'!$A15-35,0),0.03999)","v":1.26E-2},{"$f":"MIN(OFFSET(Female!O$18,'Female Rev'!$A15-35,0),0.03999)","v":1.35E-2},{"$f":"MIN(OFFSET(Female!P$18,'Female Rev'!$A15-35,0),0.03999)","v":1.43E-2},{"$f":"MIN(OFFSET(Female!Q$18,'Female Rev'!$A15-35,0),0.03999)","v":1.52E-2},{"$f":"MIN(OFFSET(Female!R$18,'Female Rev'!$A15-35,0),0.03999)","v":1.61E-2},{"$f":"MIN(OFFSET(Female!S$18,'Female Rev'!$A15-35,0),0.03999)","v":1.6899999999999998E-2},{"$f":"MIN(OFFSET(Female!T$18,'Female Rev'!$A15-35,0),0.03999)","v":1.77E-2},{"$f":"MIN(OFFSET(Female!U$18,'Female Rev'!$A15-35,0),0.03999)","v":1.84E-2},{"$f":"MIN(OFFSET(Female!V$18,'Female Rev'!$A15-35,0),0.03999)","v":1.89E-2},{"$f":"MIN(OFFSET(Female!W$18,'Female Rev'!$A15-35,0),0.03999)","v":1.9400000000000001E-2},{"$f":"MIN(OFFSET(Female!X$18,'Female Rev'!$A15-35,0),0.03999)","v":1.9599999999999999E-2},{"$f":"MIN(OFFSET(Female!Y$18,'Female Rev'!$A15-35,0),0.03999)","v":1.9599999999999999E-2},{"$f":"MIN(OFFSET(Female!Z$18,'Female Rev'!$A15-35,0),0.03999)","v":1.9300000000000001E-2},{"$f":"MIN(OFFSET(Female!AA$18,'Female Rev'!$A15-35,0),0.03999)","v":1.8700000000000001E-2},{"$f":"MIN(OFFSET(Female!AB$18,'Female Rev'!$A15-35,0),0.03999)","v":1.77E-2},{"$f":"MIN(OFFSET(Female!AC$18,'Female Rev'!$A15-35,0),0.03999)","v":1.66E-2},{"$f":"MIN(OFFSET(Female!AD$18,'Female Rev'!$A15-35,0),0.03999)","v":1.52E-2},{"$f":"MIN(OFFSET(Female!AE$18,'Female Rev'!$A15-35,0),0.03999)","v":1.38E-2},{"$f":"MIN(OFFSET(Female!AF$18,'Female Rev'!$A15-35,0),0.03999)","v":1.24E-2},{"$f":"MIN(OFFSET(Female!AG$18,'Female Rev'!$A15-35,0),0.03999)","v":1.09E-2},{"$f":"MIN(OFFSET(Female!AH$18,'Female Rev'!$A15-35,0),0.03999)","v":9.5999999999999992E-3},{"$f":"MIN(OFFSET(Female!AI$18,'Female Rev'!$A15-35,0),0.03999)","v":8.3999999999999995E-3},{"$f":"MIN(OFFSET(Female!AJ$18,'Female Rev'!$A15-35,0),0.03999)","v":7.3000000000000001E-3},{"$f":"MIN(OFFSET(Female!AK$18,'Female Rev'!$A15-35,0),0.03999)","v":6.4000000000000003E-3},{"$f":"MIN(OFFSET(Female!AL$18,'Female Rev'!$A15-35,0),0.03999)","v":5.5999999999999999E-3},{"$f":"MIN(OFFSET(Female!AM$18,'Female Rev'!$A15-35,0),0.03999)","v":4.8999999999999998E-3},{"$f":"MIN(OFFSET(Female!AN$18,'Female Rev'!$A15-35,0),0.03999)","v":4.3E-3},{"$f":"MIN(OFFSET(Female!AO$18,'Female Rev'!$A15-35,0),0.03999)","v":3.5000000000000001E-3},{"$f":"MIN(OFFSET(Female!AP$18,'Female Rev'!$A15-35,0),0.03999)","v":2.7000000000000001E-3},{"$f":"MIN(OFFSET(Female!AQ$18,'Female Rev'!$A15-35,0),0.03999)","v":1.9E-3},{"$f":"MIN(OFFSET(Female!AR$18,'Female Rev'!$A15-35,0),0.03999)","v":1.1000000000000001E-3},{"$f":"MIN(OFFSET(Female!AS$18,'Female Rev'!$A15-35,0),0.03999)","v":5.9999999999999995E-4},{"$f":"MIN(OFFSET(Female!AT$18,'Female Rev'!$A15-35,0),0.03999)","v":4.0000000000000002E-4},{"$f":"MIN(OFFSET(Female!AU$18,'Female Rev'!$A15-35,0),0.03999)","v":4.0000000000000002E-4},{"$f":"MIN(OFFSET(Female!AV$18,'Female Rev'!$A15-35,0),0.03999)","v":6.9999999999999999E-4},{"$f":"MIN(OFFSET(Female!AW$18,'Female Rev'!$A15-35,0),0.03999)","v":1.2999999999999999E-3},{"$f":"MIN(OFFSET(Female!AX$18,'Female Rev'!$A15-35,0),0.03999)","v":2.2000000000000001E-3},{"$f":"MIN(OFFSET(Female!AY$18,'Female Rev'!$A15-35,0),0.03999)","v":3.5000000000000001E-3},{"$f":"MIN(OFFSET(Female!AZ$18,'Female Rev'!$A15-35,0),0.03999)","v":4.8999999999999998E-3},{"$f":"MIN(OFFSET(Female!BA$18,'Female Rev'!$A15-35,0),0.03999)","v":6.4000000000000003E-3},{"$f":"MIN(OFFSET(Female!BB$18,'Female Rev'!$A15-35,0),0.03999)","v":7.9000000000000008E-3},{"$f":"MIN(OFFSET(Female!BC$18,'Female Rev'!$A15-35,0),0.03999)","v":9.1999999999999998E-3},{"$f":"MIN(OFFSET(Female!BD$18,'Female Rev'!$A15-35,0),0.03999)","v":1.01E-2},{"$f":"MIN(OFFSET(Female!BE$18,'Female Rev'!$A15-35,0),0.03999)","v":1.0800000000000001E-2},{"$f":"MIN(OFFSET(Female!BF$18,'Female Rev'!$A15-35,0),0.03999)","v":1.11E-2},{"$f":"MIN(OFFSET(Female!BG$18,'Female Rev'!$A15-35,0),0.03999)","v":1.11E-2},{"$f":"MIN(OFFSET(Female!BH$18,'Female Rev'!$A15-35,0),0.03999)","v":1.09E-2},{"$f":"MIN(OFFSET(Female!BI$18,'Female Rev'!$A15-35,0),0.03999)","v":1.04E-2},{"$f":"MIN(OFFSET(Female!BJ$18,'Female Rev'!$A15-35,0),0.03999)","v":9.7999999999999997E-3},{"$f":"MIN(OFFSET(Female!BK$18,'Female Rev'!$A15-35,0),0.03999)","v":9.2999999999999992E-3},{"$f":"MIN(OFFSET(Female!BL$18,'Female Rev'!$A15-35,0),0.03999)","v":8.8999999999999999E-3},{"$f":"MIN(OFFSET(Female!BM$18,'Female Rev'!$A15-35,0),0.03999)","v":8.5000000000000006E-3},{"$f":"MIN(OFFSET(Female!BN$18,'Female Rev'!$A15-35,0),0.03999)","v":8.3000000000000001E-3},{"$f":"MIN(OFFSET(Female!BO$18,'Female Rev'!$A15-35,0),0.03999)","v":8.5000000000000006E-3},{"$f":"MIN(OFFSET(Female!BP$18,'Female Rev'!$A15-35,0),0.03999)","v":8.6999999999999994E-3},{"$f":"MIN(OFFSET(Female!BQ$18,'Female Rev'!$A15-35,0),0.03999)","v":8.9999999999999993E-3},{"$f":"MIN(OFFSET(Female!BR$18,'Female Rev'!$A15-35,0),0.03999)","v":9.2999999999999992E-3},{"$f":"MIN(OFFSET(Female!BS$18,'Female Rev'!$A15-35,0),0.03999)","v":9.4999999999999998E-3},{"$f":"MIN(OFFSET(Female!BT$18,'Female Rev'!$A15-35,0),0.03999)","v":9.7000000000000003E-3},{"$f":"MIN(OFFSET(Female!BU$18,'Female Rev'!$A15-35,0),0.03999)","v":9.9000000000000008E-3},{"$f":"MIN(OFFSET(Female!BV$18,'Female Rev'!$A15-35,0),0.03999)","v":0.01},{"$f":"MIN(OFFSET(Female!BW$18,'Female Rev'!$A15-35,0),0.03999)","v":1.01E-2},{"$f":"MIN(OFFSET(Female!BX$18,'Female Rev'!$A15-35,0),0.03999)","v":0.01},{"$f":"MIN(OFFSET(Female!BY$18,'Female Rev'!$A15-35,0),0.03999)","v":9.9000000000000008E-3},{"$f":"MIN(OFFSET(Female!BZ$18,'Female Rev'!$A15-35,0),0.03999)","v":9.9000000000000008E-3},{"$f":"MIN(OFFSET(Female!CA$18,'Female Rev'!$A15-35,0),0.03999)","v":9.7999999999999997E-3},{"$f":"MIN(OFFSET(Female!CB$18,'Female Rev'!$A15-35,0),0.03999)","v":9.7000000000000003E-3},{"$f":"MIN(OFFSET(Female!CC$18,'Female Rev'!$A15-35,0),0.03999)","v":9.7000000000000003E-3},{"$f":"MIN(OFFSET(Female!CD$18,'Female Rev'!$A15-35,0),0.03999)","v":9.7000000000000003E-3},{"$f":"MIN(OFFSET(Female!CE$18,'Female Rev'!$A15-35,0),0.03999)","v":9.7999999999999997E-3},{"$f":"MIN(OFFSET(Female!CF$18,'Female Rev'!$A15-35,0),0.03999)","v":9.9000000000000008E-3},{"$f":"MIN(OFFSET(Female!CG$18,'Female Rev'!$A15-35,0),0.03999)","v":0.01},{"$f":"MIN(OFFSET(Female!CH$18,'Female Rev'!$A15-35,0),0.03999)","v":0.01}]
[82,82,{"$f":"MIN(OFFSET(Female!B$18,'Female Rev'!$A16-35,0),0.03999)","v":9.5999999999999992E-3},{"$f":"MIN(OFFSET(Female!C$18,'Female Rev'!$A16-35,0),0.03999)","v":9.5999999999999992E-3},{"$f":"MIN(OFFSET(Female!D$18,'Female Rev'!$A16-35,0),0.03999)","v":9.4999999999999998E-3},{"$f":"MIN(OFFSET(Female!E$18,'Female Rev'!$A16-35,0),0.03999)","v":9.4999999999999998E-3},{"$f":"MIN(OFFSET(Female!F$18,'Female Rev'!$A16-35,0),0.03999)","v":9.4999999999999998E-3},{"$f":"MIN(OFFSET(Female!G$18,'Female Rev'!$A16-35,0),0.03999)","v":9.5999999999999992E-3},{"$f":"MIN(OFFSET(Female!H$18,'Female Rev'!$A16-35,0),0.03999)","v":9.7000000000000003E-3},{"$f":"MIN(OFFSET(Female!I$18,'Female Rev'!$A16-35,0),0.03999)","v":0.01},{"$f":"MIN(OFFSET(Female!J$18,'Female Rev'!$A16-35,0),0.03999)","v":1.03E-2},{"$f":"MIN(OFFSET(Female!K$18,'Female Rev'!$A16-35,0),0.03999)","v":1.0800000000000001E-2},{"$f":"MIN(OFFSET(Female!L$18,'Female Rev'!$A16-35,0),0.03999)","v":1.14E-2},{"$f":"MIN(OFFSET(Female!M$18,'Female Rev'!$A16-35,0),0.03999)","v":1.2E-2},{"$f":"MIN(OFFSET(Female!N$18,'Female Rev'!$A16-35,0),0.03999)","v":1.2800000000000001E-2},{"$f":"MIN(OFFSET(Female!O$18,'Female Rev'!$A16-35,0),0.03999)","v":1.3599999999999999E-2},{"$f":"MIN(OFFSET(Female!P$18,'Female Rev'!$A16-35,0),0.03999)","v":1.44E-2},{"$f":"MIN(OFFSET(Female!Q$18,'Female Rev'!$A16-35,0),0.03999)","v":1.5299999999999999E-2},{"$f":"MIN(OFFSET(Female!R$18,'Female Rev'!$A16-35,0),0.03999)","v":1.61E-2},{"$f":"MIN(OFFSET(Female!S$18,'Female Rev'!$A16-35,0),0.03999)","v":1.7000000000000001E-2},{"$f":"MIN(OFFSET(Female!T$18,'Female Rev'!$A16-35,0),0.03999)","v":1.78E-2},{"$f":"MIN(OFFSET(Female!U$18,'Female Rev'!$A16-35,0),0.03999)","v":1.8499999999999999E-2},{"$f":"MIN(OFFSET(Female!V$18,'Female Rev'!$A16-35,0),0.03999)","v":1.9099999999999999E-2},{"$f":"MIN(OFFSET(Female!W$18,'Female Rev'!$A16-35,0),0.03999)","v":1.95E-2},{"$f":"MIN(OFFSET(Female!X$18,'Female Rev'!$A16-35,0),0.03999)","v":1.9800000000000002E-2},{"$f":"MIN(OFFSET(Female!Y$18,'Female Rev'!$A16-35,0),0.03999)","v":1.9800000000000002E-2},{"$f":"MIN(OFFSET(Female!Z$18,'Female Rev'!$A16-35,0),0.03999)","v":1.9400000000000001E-2},{"$f":"MIN(OFFSET(Female!AA$18,'Female Rev'!$A16-35,0),0.03999)","v":1.8800000000000001E-2},{"$f":"MIN(OFFSET(Female!AB$18,'Female Rev'!$A16-35,0),0.03999)","v":1.78E-2},{"$f":"MIN(OFFSET(Female!AC$18,'Female Rev'!$A16-35,0),0.03999)","v":1.6500000000000001E-2},{"$f":"MIN(OFFSET(Female!AD$18,'Female Rev'!$A16-35,0),0.03999)","v":1.5100000000000001E-2},{"$f":"MIN(OFFSET(Female!AE$18,'Female Rev'!$A16-35,0),0.03999)","v":1.3599999999999999E-2},{"$f":"MIN(OFFSET(Female!AF$18,'Female Rev'!$A16-35,0),0.03999)","v":1.21E-2},{"$f":"MIN(OFFSET(Female!AG$18,'Female Rev'!$A16-35,0),0.03999)","v":1.0699999999999999E-2},{"$f":"MIN(OFFSET(Female!AH$18,'Female Rev'!$A16-35,0),0.03999)","v":9.2999999999999992E-3},{"$f":"MIN(OFFSET(Female!AI$18,'Female Rev'!$A16-35,0),0.03999)","v":8.0999999999999996E-3},{"$f":"MIN(OFFSET(Female!AJ$18,'Female Rev'!$A16-35,0),0.03999)","v":7.1000000000000004E-3},{"$f":"MIN(OFFSET(Female!AK$18,'Female Rev'!$A16-35,0),0.03999)","v":6.3E-3},{"$f":"MIN(OFFSET(Female!AL$18,'Female Rev'!$A16-35,0),0.03999)","v":5.5999999999999999E-3},{"$f":"MIN(OFFSET(Female!AM$18,'Female Rev'!$A16-35,0),0.03999)","v":5.0000000000000001E-3},{"$f":"MIN(OFFSET(Female!AN$18,'Female Rev'!$A16-35,0),0.03999)","v":4.4000000000000003E-3},{"$f":"MIN(OFFSET(Female!AO$18,'Female Rev'!$A16-35,0),0.03999)","v":3.7000000000000002E-3},{"$f":"MIN(OFFSET(Female!AP$18,'Female Rev'!$A16-35,0),0.03999)","v":2.8999999999999998E-3},{"$f":"MIN(OFFSET(Female!AQ$18,'Female Rev'!$A16-35,0),0.03999)","v":2.0999999999999999E-3},{"$f":"MIN(OFFSET(Female!AR$18,'Female Rev'!$A16-35,0),0.03999)","v":1.4E-3},{"$f":"MIN(OFFSET(Female!AS$18,'Female Rev'!$A16-35,0),0.03999)","v":1E-3},{"$f":"MIN(OFFSET(Female!AT$18,'Female Rev'!$A16-35,0),0.03999)","v":8.0000000000000004E-4},{"$f":"MIN(OFFSET(Female!AU$18,'Female Rev'!$A16-35,0),0.03999)","v":8.0000000000000004E-4},{"$f":"MIN(OFFSET(Female!AV$18,'Female Rev'!$A16-35,0),0.03999)","v":1.1000000000000001E-3},{"$f":"MIN(OFFSET(Female!AW$18,'Female Rev'!$A16-35,0),0.03999)","v":1.8E-3},{"$f":"MIN(OFFSET(Female!AX$18,'Female Rev'!$A16-35,0),0.03999)","v":2.8E-3},{"$f":"MIN(OFFSET(Female!AY$18,'Female Rev'!$A16-35,0),0.03999)","v":4.1000000000000003E-3},{"$f":"MIN(OFFSET(Female!AZ$18,'Female Rev'!$A16-35,0),0.03999)","v":5.4999999999999997E-3},{"$f":"MIN(OFFSET(Female!BA$18,'Female Rev'!$A16-35,0),0.03999)","v":7.1000000000000004E-3},{"$f":"MIN(OFFSET(Female!BB$18,'Female Rev'!$A16-35,0),0.03999)","v":8.6E-3},{"$f":"MIN(OFFSET(Female!BC$18,'Female Rev'!$A16-35,0),0.03999)","v":9.9000000000000008E-3},{"$f":"MIN(OFFSET(Female!BD$18,'Female Rev'!$A16-35,0),0.03999)","v":1.0800000000000001E-2},{"$f":"MIN(OFFSET(Female!BE$18,'Female Rev'!$A16-35,0),0.03999)","v":1.15E-2},{"$f":"MIN(OFFSET(Female!BF$18,'Female Rev'!$A16-35,0),0.03999)","v":1.18E-2},{"$f":"MIN(OFFSET(Female!BG$18,'Female Rev'!$A16-35,0),0.03999)","v":1.17E-2},{"$f":"MIN(OFFSET(Female!BH$18,'Female Rev'!$A16-35,0),0.03999)","v":1.15E-2},{"$f":"MIN(OFFSET(Female!BI$18,'Female Rev'!$A16-35,0),0.03999)","v":1.0999999999999999E-2},{"$f":"MIN(OFFSET(Female!BJ$18,'Female Rev'!$A16-35,0),0.03999)","v":1.04E-2},{"$f":"MIN(OFFSET(Female!BK$18,'Female Rev'!$A16-35,0),0.03999)","v":9.7999999999999997E-3},{"$f":"MIN(OFFSET(Female!BL$18,'Female Rev'!$A16-35,0),0.03999)","v":9.2999999999999992E-3},{"$f":"MIN(OFFSET(Female!BM$18,'Female Rev'!$A16-35,0),0.03999)","v":8.9999999999999993E-3},{"$f":"MIN(OFFSET(Female!BN$18,'Female Rev'!$A16-35,0),0.03999)","v":8.6999999999999994E-3},{"$f":"MIN(OFFSET(Female!BO$18,'Female Rev'!$A16-35,0),0.03999)","v":8.8999999999999999E-3},{"$f":"MIN(OFFSET(Female!BP$18,'Female Rev'!$A16-35,0),0.03999)","v":9.1000000000000004E-3},{"$f":"MIN(OFFSET(Female!BQ$18,'Female Rev'!$A16-35,0),0.03999)","v":9.4000000000000004E-3},{"$f":"MIN(OFFSET(Female!BR$18,'Female Rev'!$A16-35,0),0.03999)","v":9.5999999999999992E-3},{"$f":"MIN(OFFSET(Female!BS$18,'Female Rev'!$A16-35,0),0.03999)","v":9.7999999999999997E-3},{"$f":"MIN(OFFSET(Female!BT$18,'Female Rev'!$A16-35,0),0.03999)","v":9.9000000000000008E-3},{"$f":"MIN(OFFSET(Female!BU$18,'Female Rev'!$A16-35,0),0.03999)","v":1.01E-2},{"$f":"MIN(OFFSET(Female!BV$18,'Female Rev'!$A16-35,0),0.03999)","v":1.01E-2},{"$f":"MIN(OFFSET(Female!BW$18,'Female Rev'!$A16-35,0),0.03999)","v":1.01E-2},{"$f":"MIN(OFFSET(Female!BX$18,'Female Rev'!$A16-35,0),0.03999)","v":0.01},{"$f":"MIN(OFFSET(Female!BY$18,'Female Rev'!$A16-35,0),0.03999)","v":9.9000000000000008E-3},{"$f":"MIN(OFFSET(Female!BZ$18,'Female Rev'!$A16-35,0),0.03999)","v":9.7999999999999997E-3},{"$f":"MIN(OFFSET(Female!CA$18,'Female Rev'!$A16-35,0),0.03999)","v":9.7000000000000003E-3},{"$f":"MIN(OFFSET(Female!CB$18,'Female Rev'!$A16-35,0),0.03999)","v":9.7000000000000003E-3},{"$f":"MIN(OFFSET(Female!CC$18,'Female Rev'!$A16-35,0),0.03999)","v":9.7000000000000003E-3},{"$f":"MIN(OFFSET(Female!CD$18,'Female Rev'!$A16-35,0),0.03999)","v":9.7000000000000003E-3},{"$f":"MIN(OFFSET(Female!CE$18,'Female Rev'!$A16-35,0),0.03999)","v":9.7999999999999997E-3},{"$f":"MIN(OFFSET(Female!CF$18,'Female Rev'!$A16-35,0),0.03999)","v":9.9000000000000008E-3},{"$f":"MIN(OFFSET(Female!CG$18,'Female Rev'!$A16-35,0),0.03999)","v":0.01},{"$f":"MIN(OFFSET(Female!CH$18,'Female Rev'!$A16-35,0),0.03999)","v":0.01}]
[81,81,{"$f":"MIN(OFFSET(Female!B$18,'Female Rev'!$A17-35,0),0.03999)","v":9.9000000000000008E-3},{"$f":"MIN(OFFSET(Female!C$18,'Female Rev'!$A17-35,0),0.03999)","v":9.9000000000000008E-3},{"$f":"MIN(OFFSET(Female!D$18,'Female Rev'!$A17-35,0),0.03999)","v":9.9000000000000008E-3},{"$f":"MIN(OFFSET(Female!E$18,'Female Rev'!$A17-35,0),0.03999)","v":9.9000000000000008E-3},{"$f":"MIN(OFFSET(Female!F$18,'Female Rev'!$A17-35,0),0.03999)","v":9.7999999999999997E-3},{"$f":"MIN(OFFSET(Female!G$18,'Female Rev'!$A17-35,0),0.03999)","v":9.9000000000000008E-3},{"$f":"MIN(OFFSET(Female!H$18,'Female Rev'!$A17-35,0),0.03999)","v":0.01},{"$f":"MIN(OFFSET(Female!I$18,'Female Rev'!$A17-35,0),0.03999)","v":1.0200000000000001E-2},{"$f":"MIN(OFFSET(Female!J$18,'Female Rev'!$A17-35,0),0.03999)","v":1.06E-2},{"$f":"MIN(OFFSET(Female!K$18,'Female Rev'!$A17-35,0),0.03999)","v":1.0999999999999999E-2},{"$f":"MIN(OFFSET(Female!L$18,'Female Rev'!$A17-35,0),0.03999)","v":1.1599999999999999E-2},{"$f":"MIN(OFFSET(Female!M$18,'Female Rev'!$A17-35,0),0.03999)","v":1.2200000000000001E-2},{"$f":"MIN(OFFSET(Female!N$18,'Female Rev'!$A17-35,0),0.03999)","v":1.29E-2},{"$f":"MIN(OFFSET(Female!O$18,'Female Rev'!$A17-35,0),0.03999)","v":1.37E-2},{"$f":"MIN(OFFSET(Female!P$18,'Female Rev'!$A17-35,0),0.03999)","v":1.4500000000000001E-2},{"$f":"MIN(OFFSET(Female!Q$18,'Female Rev'!$A17-35,0),0.03999)","v":1.54E-2},{"$f":"MIN(OFFSET(Female!R$18,'Female Rev'!$A17-35,0),0.03999)","v":1.6199999999999999E-2},{"$f":"MIN(OFFSET(Female!S$18,'Female Rev'!$A17-35,0),0.03999)","v":1.7100000000000001E-2},{"$f":"MIN(OFFSET(Female!T$18,'Female Rev'!$A17-35,0),0.03999)","v":1.7899999999999999E-2},{"$f":"MIN(OFFSET(Female!U$18,'Female Rev'!$A17-35,0),0.03999)","v":1.8599999999999998E-2},{"$f":"MIN(OFFSET(Female!V$18,'Female Rev'!$A17-35,0),0.03999)","v":1.9199999999999998E-2},{"$f":"MIN(OFFSET(Female!W$18,'Female Rev'!$A17-35,0),0.03999)","v":1.9599999999999999E-2},{"$f":"MIN(OFFSET(Female!X$18,'Female Rev'!$A17-35,0),0.03999)","v":1.9900000000000001E-2},{"$f":"MIN(OFFSET(Female!Y$18,'Female Rev'!$A17-35,0),0.03999)","v":1.9900000000000001E-2},{"$f":"MIN(OFFSET(Female!Z$18,'Female Rev'!$A17-35,0),0.03999)","v":1.95E-2},{"$f":"MIN(OFFSET(Female!AA$18,'Female Rev'!$A17-35,0),0.03999)","v":1.8800000000000001E-2},{"$f":"MIN(OFFSET(Female!AB$18,'Female Rev'!$A17-35,0),0.03999)","v":1.77E-2},{"$f":"MIN(OFFSET(Female!AC$18,'Female Rev'!$A17-35,0),0.03999)","v":1.6400000000000001E-2},{"$f":"MIN(OFFSET(Female!AD$18,'Female Rev'!$A17-35,0),0.03999)","v":1.49E-2},{"$f":"MIN(OFFSET(Female!AE$18,'Female Rev'!$A17-35,0),0.03999)","v":1.34E-2},{"$f":"MIN(OFFSET(Female!AF$18,'Female Rev'!$A17-35,0),0.03999)","v":1.1900000000000001E-2},{"$f":"MIN(OFFSET(Female!AG$18,'Female Rev'!$A17-35,0),0.03999)","v":1.04E-2},{"$f":"MIN(OFFSET(Female!AH$18,'Female Rev'!$A17-35,0),0.03999)","v":8.9999999999999993E-3},{"$f":"MIN(OFFSET(Female!AI$18,'Female Rev'!$A17-35,0),0.03999)","v":7.9000000000000008E-3},{"$f":"MIN(OFFSET(Female!AJ$18,'Female Rev'!$A17-35,0),0.03999)","v":6.8999999999999999E-3},{"$f":"MIN(OFFSET(Female!AK$18,'Female Rev'!$A17-35,0),0.03999)","v":6.1999999999999998E-3},{"$f":"MIN(OFFSET(Female!AL$18,'Female Rev'!$A17-35,0),0.03999)","v":5.4999999999999997E-3},{"$f":"MIN(OFFSET(Female!AM$18,'Female Rev'!$A17-35,0),0.03999)","v":5.0000000000000001E-3},{"$f":"MIN(OFFSET(Female!AN$18,'Female Rev'!$A17-35,0),0.03999)","v":4.4999999999999997E-3},{"$f":"MIN(OFFSET(Female!AO$18,'Female Rev'!$A17-35,0),0.03999)","v":3.8999999999999998E-3},{"$f":"MIN(OFFSET(Female!AP$18,'Female Rev'!$A17-35,0),0.03999)","v":3.2000000000000002E-3},{"$f":"MIN(OFFSET(Female!AQ$18,'Female Rev'!$A17-35,0),0.03999)","v":2.3999999999999998E-3},{"$f":"MIN(OFFSET(Female!AR$18,'Female Rev'!$A17-35,0),0.03999)","v":1.6999999999999999E-3},{"$f":"MIN(OFFSET(Female!AS$18,'Female Rev'!$A17-35,0),0.03999)","v":1.2999999999999999E-3},{"$f":"MIN(OFFSET(Female!AT$18,'Female Rev'!$A17-35,0),0.03999)","v":1.1000000000000001E-3},{"$f":"MIN(OFFSET(Female!AU$18,'Female Rev'!$A17-35,0),0.03999)","v":1.1999999999999999E-3},{"$f":"MIN(OFFSET(Female!AV$18,'Female Rev'!$A17-35,0),0.03999)","v":1.6000000000000001E-3},{"$f":"MIN(OFFSET(Female!AW$18,'Female Rev'!$A17-35,0),0.03999)","v":2.3E-3},{"$f":"MIN(OFFSET(Female!AX$18,'Female Rev'!$A17-35,0),0.03999)","v":3.3E-3},{"$f":"MIN(OFFSET(Female!AY$18,'Female Rev'!$A17-35,0),0.03999)","v":4.5999999999999999E-3},{"$f":"MIN(OFFSET(Female!AZ$18,'Female Rev'!$A17-35,0),0.03999)","v":6.1000000000000004E-3},{"$f":"MIN(OFFSET(Female!BA$18,'Female Rev'!$A17-35,0),0.03999)","v":7.7000000000000002E-3},{"$f":"MIN(OFFSET(Female!BB$18,'Female Rev'!$A17-35,0),0.03999)","v":9.1999999999999998E-3},{"$f":"MIN(OFFSET(Female!BC$18,'Female Rev'!$A17-35,0),0.03999)","v":1.0500000000000001E-2},{"$f":"MIN(OFFSET(Female!BD$18,'Female Rev'!$A17-35,0),0.03999)","v":1.15E-2},{"$f":"MIN(OFFSET(Female!BE$18,'Female Rev'!$A17-35,0),0.03999)","v":1.21E-2},{"$f":"MIN(OFFSET(Female!BF$18,'Female Rev'!$A17-35,0),0.03999)","v":1.24E-2},{"$f":"MIN(OFFSET(Female!BG$18,'Female Rev'!$A17-35,0),0.03999)","v":1.24E-2},{"$f":"MIN(OFFSET(Female!BH$18,'Female Rev'!$A17-35,0),0.03999)","v":1.21E-2},{"$f":"MIN(OFFSET(Female!BI$18,'Female Rev'!$A17-35,0),0.03999)","v":1.15E-2},{"$f":"MIN(OFFSET(Female!BJ$18,'Female Rev'!$A17-35,0),0.03999)","v":1.09E-2},{"$f":"MIN(OFFSET(Female!BK$18,'Female Rev'!$A17-35,0),0.03999)","v":1.03E-2},{"$f":"MIN(OFFSET(Female!BL$18,'Female Rev'!$A17-35,0),0.03999)","v":9.7999999999999997E-3},{"$f":"MIN(OFFSET(Female!BM$18,'Female Rev'!$A17-35,0),0.03999)","v":9.4000000000000004E-3},{"$f":"MIN(OFFSET(Female!BN$18,'Female Rev'!$A17-35,0),0.03999)","v":9.1000000000000004E-3},{"$f":"MIN(OFFSET(Female!BO$18,'Female Rev'!$A17-35,0),0.03999)","v":9.2999999999999992E-3},{"$f":"MIN(OFFSET(Female!BP$18,'Female Rev'!$A17-35,0),0.03999)","v":9.4999999999999998E-3},{"$f":"MIN(OFFSET(Female!BQ$18,'Female Rev'!$A17-35,0),0.03999)","v":9.7000000000000003E-3},{"$f":"MIN(OFFSET(Female!BR$18,'Female Rev'!$A17-35,0),0.03999)","v":9.9000000000000008E-3},{"$f":"MIN(OFFSET(Female!BS$18,'Female Rev'!$A17-35,0),0.03999)","v":0.01},{"$f":"MIN(OFFSET(Female!BT$18,'Female Rev'!$A17-35,0),0.03999)","v":1.01E-2},{"$f":"MIN(OFFSET(Female!BU$18,'Female Rev'!$A17-35,0),0.03999)","v":1.0200000000000001E-2},{"$f":"MIN(OFFSET(Female!BV$18,'Female Rev'!$A17-35,0),0.03999)","v":1.0200000000000001E-2},{"$f":"MIN(OFFSET(Female!BW$18,'Female Rev'!$A17-35,0),0.03999)","v":1.01E-2},{"$f":"MIN(OFFSET(Female!BX$18,'Female Rev'!$A17-35,0),0.03999)","v":0.01},{"$f":"MIN(OFFSET(Female!BY$18,'Female Rev'!$A17-35,0),0.03999)","v":9.9000000000000008E-3},{"$f":"MIN(OFFSET(Female!BZ$18,'Female Rev'!$A17-35,0),0.03999)","v":9.7000000000000003E-3},{"$f":"MIN(OFFSET(Female!CA$18,'Female Rev'!$A17-35,0),0.03999)","v":9.7000000000000003E-3},{"$f":"MIN(OFFSET(Female!CB$18,'Female Rev'!$A17-35,0),0.03999)","v":9.5999999999999992E-3},{"$f":"MIN(OFFSET(Female!CC$18,'Female Rev'!$A17-35,0),0.03999)","v":9.5999999999999992E-3},{"$f":"MIN(OFFSET(Female!CD$18,'Female Rev'!$A17-35,0),0.03999)","v":9.7000000000000003E-3},{"$f":"MIN(OFFSET(Female!CE$18,'Female Rev'!$A17-35,0),0.03999)","v":9.7999999999999997E-3},{"$f":"MIN(OFFSET(Female!CF$18,'Female Rev'!$A17-35,0),0.03999)","v":9.9000000000000008E-3},{"$f":"MIN(OFFSET(Female!CG$18,'Female Rev'!$A17-35,0),0.03999)","v":0.01},{"$f":"MIN(OFFSET(Female!CH$18,'Female Rev'!$A17-35,0),0.03999)","v":0.01}]
[80,80,{"$f":"MIN(OFFSET(Female!B$18,'Female Rev'!$A18-35,0),0.03999)","v":1.03E-2},{"$f":"MIN(OFFSET(Female!C$18,'Female Rev'!$A18-35,0),0.03999)","v":1.03E-2},{"$f":"MIN(OFFSET(Female!D$18,'Female Rev'!$A18-35,0),0.03999)","v":1.03E-2},{"$f":"MIN(OFFSET(Female!E$18,'Female Rev'!$A18-35,0),0.03999)","v":1.0200000000000001E-2},{"$f":"MIN(OFFSET(Female!F$18,'Female Rev'!$A18-35,0),0.03999)","v":1.0200000000000001E-2},{"$f":"MIN(OFFSET(Female!G$18,'Female Rev'!$A18-35,0),0.03999)","v":1.0200000000000001E-2},{"$f":"MIN(OFFSET(Female!H$18,'Female Rev'!$A18-35,0),0.03999)","v":1.03E-2},{"$f":"MIN(OFFSET(Female!I$18,'Female Rev'!$A18-35,0),0.03999)","v":1.0500000000000001E-2},{"$f":"MIN(OFFSET(Female!J$18,'Female Rev'!$A18-35,0),0.03999)","v":1.0800000000000001E-2},{"$f":"MIN(OFFSET(Female!K$18,'Female Rev'!$A18-35,0),0.03999)","v":1.1299999999999999E-2},{"$f":"MIN(OFFSET(Female!L$18,'Female Rev'!$A18-35,0),0.03999)","v":1.18E-2},{"$f":"MIN(OFFSET(Female!M$18,'Female Rev'!$A18-35,0),0.03999)","v":1.24E-2},{"$f":"MIN(OFFSET(Female!N$18,'Female Rev'!$A18-35,0),0.03999)","v":1.2999999999999999E-2},{"$f":"MIN(OFFSET(Female!O$18,'Female Rev'!$A18-35,0),0.03999)","v":1.38E-2},{"$f":"MIN(OFFSET(Female!P$18,'Female Rev'!$A18-35,0),0.03999)","v":1.46E-2},{"$f":"MIN(OFFSET(Female!Q$18,'Female Rev'!$A18-35,0),0.03999)","v":1.54E-2},{"$f":"MIN(OFFSET(Female!R$18,'Female Rev'!$A18-35,0),0.03999)","v":1.6299999999999999E-2},{"$f":"MIN(OFFSET(Female!S$18,'Female Rev'!$A18-35,0),0.03999)","v":1.7100000000000001E-2},{"$f":"MIN(OFFSET(Female!T$18,'Female Rev'!$A18-35,0),0.03999)","v":1.7999999999999999E-2},{"$f":"MIN(OFFSET(Female!U$18,'Female Rev'!$A18-35,0),0.03999)","v":1.8700000000000001E-2},{"$f":"MIN(OFFSET(Female!V$18,'Female Rev'!$A18-35,0),0.03999)","v":1.9300000000000001E-2},{"$f":"MIN(OFFSET(Female!W$18,'Female Rev'!$A18-35,0),0.03999)","v":1.9699999999999999E-2},{"$f":"MIN(OFFSET(Female!X$18,'Female Rev'!$A18-35,0),0.03999)","v":0.02},{"$f":"MIN(OFFSET(Female!Y$18,'Female Rev'!$A18-35,0),0.03999)","v":1.9900000000000001E-2},{"$f":"MIN(OFFSET(Female!Z$18,'Female Rev'!$A18-35,0),0.03999)","v":1.95E-2},{"$f":"MIN(OFFSET(Female!AA$18,'Female Rev'!$A18-35,0),0.03999)","v":1.8800000000000001E-2},{"$f":"MIN(OFFSET(Female!AB$18,'Female Rev'!$A18-35,0),0.03999)","v":1.7600000000000001E-2},{"$f":"MIN(OFFSET(Female!AC$18,'Female Rev'!$A18-35,0),0.03999)","v":1.6199999999999999E-2},{"$f":"MIN(OFFSET(Female!AD$18,'Female Rev'!$A18-35,0),0.03999)","v":1.47E-2},{"$f":"MIN(OFFSET(Female!AE$18,'Female Rev'!$A18-35,0),0.03999)","v":1.2999999999999999E-2},{"$f":"MIN(OFFSET(Female!AF$18,'Female Rev'!$A18-35,0),0.03999)","v":1.15E-2},{"$f":"MIN(OFFSET(Female!AG$18,'Female Rev'!$A18-35,0),0.03999)","v":0.01},{"$f":"MIN(OFFSET(Female!AH$18,'Female Rev'!$A18-35,0),0.03999)","v":8.6999999999999994E-3},{"$f":"MIN(OFFSET(Female!AI$18,'Female Rev'!$A18-35,0),0.03999)","v":7.6E-3},{"$f":"MIN(OFFSET(Female!AJ$18,'Female Rev'!$A18-35,0),0.03999)","v":6.7000000000000002E-3},{"$f":"MIN(OFFSET(Female!AK$18,'Female Rev'!$A18-35,0),0.03999)","v":6.0000000000000001E-3},{"$f":"MIN(OFFSET(Female!AL$18,'Female Rev'!$A18-35,0),0.03999)","v":5.4999999999999997E-3},{"$f":"MIN(OFFSET(Female!AM$18,'Female Rev'!$A18-35,0),0.03999)","v":5.0000000000000001E-3},{"$f":"MIN(OFFSET(Female!AN$18,'Female Rev'!$A18-35,0),0.03999)","v":4.5999999999999999E-3},{"$f":"MIN(OFFSET(Female!AO$18,'Female Rev'!$A18-35,0),0.03999)","v":4.0000000000000001E-3},{"$f":"MIN(OFFSET(Female!AP$18,'Female Rev'!$A18-35,0),0.03999)","v":3.3999999999999998E-3},{"$f":"MIN(OFFSET(Female!AQ$18,'Female Rev'!$A18-35,0),0.03999)","v":2.7000000000000001E-3},{"$f":"MIN(OFFSET(Female!AR$18,'Female Rev'!$A18-35,0),0.03999)","v":2E-3},{"$f":"MIN(OFFSET(Female!AS$18,'Female Rev'!$A18-35,0),0.03999)","v":1.6999999999999999E-3},{"$f":"MIN(OFFSET(Female!AT$18,'Female Rev'!$A18-35,0),0.03999)","v":1.5E-3},{"$f":"MIN(OFFSET(Female!AU$18,'Female Rev'!$A18-35,0),0.03999)","v":1.6999999999999999E-3},{"$f":"MIN(OFFSET(Female!AV$18,'Female Rev'!$A18-35,0),0.03999)","v":2.0999999999999999E-3},{"$f":"MIN(OFFSET(Female!AW$18,'Female Rev'!$A18-35,0),0.03999)","v":2.8E-3},{"$f":"MIN(OFFSET(Female!AX$18,'Female Rev'!$A18-35,0),0.03999)","v":3.8E-3},{"$f":"MIN(OFFSET(Female!AY$18,'Female Rev'!$A18-35,0),0.03999)","v":5.1999999999999998E-3},{"$f":"MIN(OFFSET(Female!AZ$18,'Female Rev'!$A18-35,0),0.03999)","v":6.7000000000000002E-3},{"$f":"MIN(OFFSET(Female!BA$18,'Female Rev'!$A18-35,0),0.03999)","v":8.3000000000000001E-3},{"$f":"MIN(OFFSET(Female!BB$18,'Female Rev'!$A18-35,0),0.03999)","v":9.9000000000000008E-3},{"$f":"MIN(OFFSET(Female!BC$18,'Female Rev'!$A18-35,0),0.03999)","v":1.12E-2},{"$f":"MIN(OFFSET(Female!BD$18,'Female Rev'!$A18-35,0),0.03999)","v":1.2200000000000001E-2},{"$f":"MIN(OFFSET(Female!BE$18,'Female Rev'!$A18-35,0),0.03999)","v":1.2800000000000001E-2},{"$f":"MIN(OFFSET(Female!BF$18,'Female Rev'!$A18-35,0),0.03999)","v":1.3100000000000001E-2},{"$f":"MIN(OFFSET(Female!BG$18,'Female Rev'!$A18-35,0),0.03999)","v":1.2999999999999999E-2},{"$f":"MIN(OFFSET(Female!BH$18,'Female Rev'!$A18-35,0),0.03999)","v":1.2699999999999999E-2},{"$f":"MIN(OFFSET(Female!BI$18,'Female Rev'!$A18-35,0),0.03999)","v":1.21E-2},{"$f":"MIN(OFFSET(Female!BJ$18,'Female Rev'!$A18-35,0),0.03999)","v":1.15E-2},{"$f":"MIN(OFFSET(Female!BK$18,'Female Rev'!$A18-35,0),0.03999)","v":1.0800000000000001E-2},{"$f":"MIN(OFFSET(Female!BL$18,'Female Rev'!$A18-35,0),0.03999)","v":1.03E-2},{"$f":"MIN(OFFSET(Female!BM$18,'Female Rev'!$A18-35,0),0.03999)","v":9.9000000000000008E-3},{"$f":"MIN(OFFSET(Female!BN$18,'Female Rev'!$A18-35,0),0.03999)","v":9.4999999999999998E-3},{"$f":"MIN(OFFSET(Female!BO$18,'Female Rev'!$A18-35,0),0.03999)","v":9.7999999999999997E-3},{"$f":"MIN(OFFSET(Female!BP$18,'Female Rev'!$A18-35,0),0.03999)","v":9.9000000000000008E-3},{"$f":"MIN(OFFSET(Female!BQ$18,'Female Rev'!$A18-35,0),0.03999)","v":1.01E-2},{"$f":"MIN(OFFSET(Female!BR$18,'Female Rev'!$A18-35,0),0.03999)","v":1.0200000000000001E-2},{"$f":"MIN(OFFSET(Female!BS$18,'Female Rev'!$A18-35,0),0.03999)","v":1.03E-2},{"$f":"MIN(OFFSET(Female!BT$18,'Female Rev'!$A18-35,0),0.03999)","v":1.03E-2},{"$f":"MIN(OFFSET(Female!BU$18,'Female Rev'!$A18-35,0),0.03999)","v":1.0200000000000001E-2},{"$f":"MIN(OFFSET(Female!BV$18,'Female Rev'!$A18-35,0),0.03999)","v":1.0200000000000001E-2},{"$f":"MIN(OFFSET(Female!BW$18,'Female Rev'!$A18-35,0),0.03999)","v":0.01},{"$f":"MIN(OFFSET(Female!BX$18,'Female Rev'!$A18-35,0),0.03999)","v":9.9000000000000008E-3},{"$f":"MIN(OFFSET(Female!BY$18,'Female Rev'!$A18-35,0),0.03999)","v":9.7999999999999997E-3},{"$f":"MIN(OFFSET(Female!BZ$18,'Female Rev'!$A18-35,0),0.03999)","v":9.5999999999999992E-3},{"$f":"MIN(OFFSET(Female!CA$18,'Female Rev'!$A18-35,0),0.03999)","v":9.4999999999999998E-3},{"$f":"MIN(OFFSET(Female!CB$18,'Female Rev'!$A18-35,0),0.03999)","v":9.4999999999999998E-3},{"$f":"MIN(OFFSET(Female!CC$18,'Female Rev'!$A18-35,0),0.03999)","v":9.5999999999999992E-3},{"$f":"MIN(OFFSET(Female!CD$18,'Female Rev'!$A18-35,0),0.03999)","v":9.5999999999999992E-3},{"$f":"MIN(OFFSET(Female!CE$18,'Female Rev'!$A18-35,0),0.03999)","v":9.7000000000000003E-3},{"$f":"MIN(OFFSET(Female!CF$18,'Female Rev'!$A18-35,0),0.03999)","v":9.9000000000000008E-3},{"$f":"MIN(OFFSET(Female!CG$18,'Female Rev'!$A18-35,0),0.03999)","v":0.01},{"$f":"MIN(OFFSET(Female!CH$18,'Female Rev'!$A18-35,0),0.03999)","v":0.01}]
[79,79,{"$f":"MIN(OFFSET(Female!B$18,'Female Rev'!$A19-35,0),0.03999)","v":1.0699999999999999E-2},{"$f":"MIN(OFFSET(Female!C$18,'Female Rev'!$A19-35,0),0.03999)","v":1.0699999999999999E-2},{"$f":"MIN(OFFSET(Female!D$18,'Female Rev'!$A19-35,0),0.03999)","v":1.06E-2},{"$f":"MIN(OFFSET(Female!E$18,'Female Rev'!$A19-35,0),0.03999)","v":1.06E-2},{"$f":"MIN(OFFSET(Female!F$18,'Female Rev'!$A19-35,0),0.03999)","v":1.0500000000000001E-2},{"$f":"MIN(OFFSET(Female!G$18,'Female Rev'!$A19-35,0),0.03999)","v":1.0500000000000001E-2},{"$f":"MIN(OFFSET(Female!H$18,'Female Rev'!$A19-35,0),0.03999)","v":1.06E-2},{"$f":"MIN(OFFSET(Female!I$18,'Female Rev'!$A19-35,0),0.03999)","v":1.0800000000000001E-2},{"$f":"MIN(OFFSET(Female!J$18,'Female Rev'!$A19-35,0),0.03999)","v":1.11E-2},{"$f":"MIN(OFFSET(Female!K$18,'Female Rev'!$A19-35,0),0.03999)","v":1.15E-2},{"$f":"MIN(OFFSET(Female!L$18,'Female Rev'!$A19-35,0),0.03999)","v":1.2E-2},{"$f":"MIN(OFFSET(Female!M$18,'Female Rev'!$A19-35,0),0.03999)","v":1.2500000000000001E-2},{"$f":"MIN(OFFSET(Female!N$18,'Female Rev'!$A19-35,0),0.03999)","v":1.32E-2},{"$f":"MIN(OFFSET(Female!O$18,'Female Rev'!$A19-35,0),0.03999)","v":1.3899999999999999E-2},{"$f":"MIN(OFFSET(Female!P$18,'Female Rev'!$A19-35,0),0.03999)","v":1.47E-2},{"$f":"MIN(OFFSET(Female!Q$18,'Female Rev'!$A19-35,0),0.03999)","v":1.55E-2},{"$f":"MIN(OFFSET(Female!R$18,'Female Rev'!$A19-35,0),0.03999)","v":1.6400000000000001E-2},{"$f":"MIN(OFFSET(Female!S$18,'Female Rev'!$A19-35,0),0.03999)","v":1.72E-2},{"$f":"MIN(OFFSET(Female!T$18,'Female Rev'!$A19-35,0),0.03999)","v":1.7999999999999999E-2},{"$f":"MIN(OFFSET(Female!U$18,'Female Rev'!$A19-35,0),0.03999)","v":1.8800000000000001E-2},{"$f":"MIN(OFFSET(Female!V$18,'Female Rev'!$A19-35,0),0.03999)","v":1.9300000000000001E-2},{"$f":"MIN(OFFSET(Female!W$18,'Female Rev'!$A19-35,0),0.03999)","v":1.9800000000000002E-2},{"$f":"MIN(OFFSET(Female!X$18,'Female Rev'!$A19-35,0),0.03999)","v":0.02},{"$f":"MIN(OFFSET(Female!Y$18,'Female Rev'!$A19-35,0),0.03999)","v":1.9900000000000001E-2},{"$f":"MIN(OFFSET(Female!Z$18,'Female Rev'!$A19-35,0),0.03999)","v":1.95E-2},{"$f":"MIN(OFFSET(Female!AA$18,'Female Rev'!$A19-35,0),0.03999)","v":1.8599999999999998E-2},{"$f":"MIN(OFFSET(Female!AB$18,'Female Rev'!$A19-35,0),0.03999)","v":1.7399999999999999E-2},{"$f":"MIN(OFFSET(Female!AC$18,'Female Rev'!$A19-35,0),0.03999)","v":1.6E-2},{"$f":"MIN(OFFSET(Female!AD$18,'Female Rev'!$A19-35,0),0.03999)","v":1.43E-2},{"$f":"MIN(OFFSET(Female!AE$18,'Female Rev'!$A19-35,0),0.03999)","v":1.2699999999999999E-2},{"$f":"MIN(OFFSET(Female!AF$18,'Female Rev'!$A19-35,0),0.03999)","v":1.11E-2},{"$f":"MIN(OFFSET(Female!AG$18,'Female Rev'!$A19-35,0),0.03999)","v":9.5999999999999992E-3},{"$f":"MIN(OFFSET(Female!AH$18,'Female Rev'!$A19-35,0),0.03999)","v":8.3000000000000001E-3},{"$f":"MIN(OFFSET(Female!AI$18,'Female Rev'!$A19-35,0),0.03999)","v":7.1999999999999998E-3},{"$f":"MIN(OFFSET(Female!AJ$18,'Female Rev'!$A19-35,0),0.03999)","v":6.4000000000000003E-3},{"$f":"MIN(OFFSET(Female!AK$18,'Female Rev'!$A19-35,0),0.03999)","v":5.7999999999999996E-3},{"$f":"MIN(OFFSET(Female!AL$18,'Female Rev'!$A19-35,0),0.03999)","v":5.4000000000000003E-3},{"$f":"MIN(OFFSET(Female!AM$18,'Female Rev'!$A19-35,0),0.03999)","v":5.0000000000000001E-3},{"$f":"MIN(OFFSET(Female!AN$18,'Female Rev'!$A19-35,0),0.03999)","v":4.7000000000000002E-3},{"$f":"MIN(OFFSET(Female!AO$18,'Female Rev'!$A19-35,0),0.03999)","v":4.1999999999999997E-3},{"$f":"MIN(OFFSET(Female!AP$18,'Female Rev'!$A19-35,0),0.03999)","v":3.5999999999999999E-3},{"$f":"MIN(OFFSET(Female!AQ$18,'Female Rev'!$A19-35,0),0.03999)","v":2.8999999999999998E-3},{"$f":"MIN(OFFSET(Female!AR$18,'Female Rev'!$A19-35,0),0.03999)","v":2.3E-3},{"$f":"MIN(OFFSET(Female!AS$18,'Female Rev'!$A19-35,0),0.03999)","v":2E-3},{"$f":"MIN(OFFSET(Female!AT$18,'Female Rev'!$A19-35,0),0.03999)","v":1.9E-3},{"$f":"MIN(OFFSET(Female!AU$18,'Female Rev'!$A19-35,0),0.03999)","v":2.0999999999999999E-3},{"$f":"MIN(OFFSET(Female!AV$18,'Female Rev'!$A19-35,0),0.03999)","v":2.5999999999999999E-3},{"$f":"MIN(OFFSET(Female!AW$18,'Female Rev'!$A19-35,0),0.03999)","v":3.3E-3},{"$f":"MIN(OFFSET(Female!AX$18,'Female Rev'!$A19-35,0),0.03999)","v":4.4000000000000003E-3},{"$f":"MIN(OFFSET(Female!AY$18,'Female Rev'!$A19-35,0),0.03999)","v":5.7000000000000002E-3},{"$f":"MIN(OFFSET(Female!AZ$18,'Female Rev'!$A19-35,0),0.03999)","v":7.3000000000000001E-3},{"$f":"MIN(OFFSET(Female!BA$18,'Female Rev'!$A19-35,0),0.03999)","v":8.9999999999999993E-3},{"$f":"MIN(OFFSET(Female!BB$18,'Female Rev'!$A19-35,0),0.03999)","v":1.0500000000000001E-2},{"$f":"MIN(OFFSET(Female!BC$18,'Female Rev'!$A19-35,0),0.03999)","v":1.1900000000000001E-2},{"$f":"MIN(OFFSET(Female!BD$18,'Female Rev'!$A19-35,0),0.03999)","v":1.2800000000000001E-2},{"$f":"MIN(OFFSET(Female!BE$18,'Female Rev'!$A19-35,0),0.03999)","v":1.34E-2},{"$f":"MIN(OFFSET(Female!BF$18,'Female Rev'!$A19-35,0),0.03999)","v":1.37E-2},{"$f":"MIN(OFFSET(Female!BG$18,'Female Rev'!$A19-35,0),0.03999)","v":1.3599999999999999E-2},{"$f":"MIN(OFFSET(Female!BH$18,'Female Rev'!$A19-35,0),0.03999)","v":1.3299999999999999E-2},{"$f":"MIN(OFFSET(Female!BI$18,'Female Rev'!$A19-35,0),0.03999)","v":1.2699999999999999E-2},{"$f":"MIN(OFFSET(Female!BJ$18,'Female Rev'!$A19-35,0),0.03999)","v":1.2E-2},{"$f":"MIN(OFFSET(Female!BK$18,'Female Rev'!$A19-35,0),0.03999)","v":1.14E-2},{"$f":"MIN(OFFSET(Female!BL$18,'Female Rev'!$A19-35,0),0.03999)","v":1.0800000000000001E-2},{"$f":"MIN(OFFSET(Female!BM$18,'Female Rev'!$A19-35,0),0.03999)","v":1.03E-2},{"$f":"MIN(OFFSET(Female!BN$18,'Female Rev'!$A19-35,0),0.03999)","v":0.01},{"$f":"MIN(OFFSET(Female!BO$18,'Female Rev'!$A19-35,0),0.03999)","v":1.0200000000000001E-2},{"$f":"MIN(OFFSET(Female!BP$18,'Female Rev'!$A19-35,0),0.03999)","v":1.03E-2},{"$f":"MIN(OFFSET(Female!BQ$18,'Female Rev'!$A19-35,0),0.03999)","v":1.04E-2},{"$f":"MIN(OFFSET(Female!BR$18,'Female Rev'!$A19-35,0),0.03999)","v":1.04E-2},{"$f":"MIN(OFFSET(Female!BS$18,'Female Rev'!$A19-35,0),0.03999)","v":1.04E-2},{"$f":"MIN(OFFSET(Female!BT$18,'Female Rev'!$A19-35,0),0.03999)","v":1.04E-2},{"$f":"MIN(OFFSET(Female!BU$18,'Female Rev'!$A19-35,0),0.03999)","v":1.0200000000000001E-2},{"$f":"MIN(OFFSET(Female!BV$18,'Female Rev'!$A19-35,0),0.03999)","v":1.01E-2},{"$f":"MIN(OFFSET(Female!BW$18,'Female Rev'!$A19-35,0),0.03999)","v":9.9000000000000008E-3},{"$f":"MIN(OFFSET(Female!BX$18,'Female Rev'!$A19-35,0),0.03999)","v":9.7999999999999997E-3},{"$f":"MIN(OFFSET(Female!BY$18,'Female Rev'!$A19-35,0),0.03999)","v":9.5999999999999992E-3},{"$f":"MIN(OFFSET(Female!BZ$18,'Female Rev'!$A19-35,0),0.03999)","v":9.4999999999999998E-3},{"$f":"MIN(OFFSET(Female!CA$18,'Female Rev'!$A19-35,0),0.03999)","v":9.4000000000000004E-3},{"$f":"MIN(OFFSET(Female!CB$18,'Female Rev'!$A19-35,0),0.03999)","v":9.4000000000000004E-3},{"$f":"MIN(OFFSET(Female!CC$18,'Female Rev'!$A19-35,0),0.03999)","v":9.4000000000000004E-3},{"$f":"MIN(OFFSET(Female!CD$18,'Female Rev'!$A19-35,0),0.03999)","v":9.4999999999999998E-3},{"$f":"MIN(OFFSET(Female!CE$18,'Female Rev'!$A19-35,0),0.03999)","v":9.7000000000000003E-3},{"$f":"MIN(OFFSET(Female!CF$18,'Female Rev'!$A19-35,0),0.03999)","v":9.7999999999999997E-3},{"$f":"MIN(OFFSET(Female!CG$18,'Female Rev'!$A19-35,0),0.03999)","v":0.01},{"$f":"MIN(OFFSET(Female!CH$18,'Female Rev'!$A19-35,0),0.03999)","v":0.01}]
[78,78,{"$f":"MIN(OFFSET(Female!B$18,'Female Rev'!$A20-35,0),0.03999)","v":1.11E-2},{"$f":"MIN(OFFSET(Female!C$18,'Female Rev'!$A20-35,0),0.03999)","v":1.11E-2},{"$f":"MIN(OFFSET(Female!D$18,'Female Rev'!$A20-35,0),0.03999)","v":1.11E-2},{"$f":"MIN(OFFSET(Female!E$18,'Female Rev'!$A20-35,0),0.03999)","v":1.0999999999999999E-2},{"$f":"MIN(OFFSET(Female!F$18,'Female Rev'!$A20-35,0),0.03999)","v":1.09E-2},{"$f":"MIN(OFFSET(Female!G$18,'Female Rev'!$A20-35,0),0.03999)","v":1.09E-2},{"$f":"MIN(OFFSET(Female!H$18,'Female Rev'!$A20-35,0),0.03999)","v":1.09E-2},{"$f":"MIN(OFFSET(Female!I$18,'Female Rev'!$A20-35,0),0.03999)","v":1.11E-2},{"$f":"MIN(OFFSET(Female!J$18,'Female Rev'!$A20-35,0),0.03999)","v":1.14E-2},{"$f":"MIN(OFFSET(Female!K$18,'Female Rev'!$A20-35,0),0.03999)","v":1.17E-2},{"$f":"MIN(OFFSET(Female!L$18,'Female Rev'!$A20-35,0),0.03999)","v":1.2200000000000001E-2},{"$f":"MIN(OFFSET(Female!M$18,'Female Rev'!$A20-35,0),0.03999)","v":1.2699999999999999E-2},{"$f":"MIN(OFFSET(Female!N$18,'Female Rev'!$A20-35,0),0.03999)","v":1.3299999999999999E-2},{"$f":"MIN(OFFSET(Female!O$18,'Female Rev'!$A20-35,0),0.03999)","v":1.4E-2},{"$f":"MIN(OFFSET(Female!P$18,'Female Rev'!$A20-35,0),0.03999)","v":1.47E-2},{"$f":"MIN(OFFSET(Female!Q$18,'Female Rev'!$A20-35,0),0.03999)","v":1.5599999999999999E-2},{"$f":"MIN(OFFSET(Female!R$18,'Female Rev'!$A20-35,0),0.03999)","v":1.6400000000000001E-2},{"$f":"MIN(OFFSET(Female!S$18,'Female Rev'!$A20-35,0),0.03999)","v":1.7299999999999999E-2},{"$f":"MIN(OFFSET(Female!T$18,'Female Rev'!$A20-35,0),0.03999)","v":1.8100000000000002E-2},{"$f":"MIN(OFFSET(Female!U$18,'Female Rev'!$A20-35,0),0.03999)","v":1.8800000000000001E-2},{"$f":"MIN(OFFSET(Female!V$18,'Female Rev'!$A20-35,0),0.03999)","v":1.9300000000000001E-2},{"$f":"MIN(OFFSET(Female!W$18,'Female Rev'!$A20-35,0),0.03999)","v":1.9800000000000002E-2},{"$f":"MIN(OFFSET(Female!X$18,'Female Rev'!$A20-35,0),0.03999)","v":0.02},{"$f":"MIN(OFFSET(Female!Y$18,'Female Rev'!$A20-35,0),0.03999)","v":1.9900000000000001E-2},{"$f":"MIN(OFFSET(Female!Z$18,'Female Rev'!$A20-35,0),0.03999)","v":1.9400000000000001E-2},{"$f":"MIN(OFFSET(Female!AA$18,'Female Rev'!$A20-35,0),0.03999)","v":1.8499999999999999E-2},{"$f":"MIN(OFFSET(Female!AB$18,'Female Rev'!$A20-35,0),0.03999)","v":1.72E-2},{"$f":"MIN(OFFSET(Female!AC$18,'Female Rev'!$A20-35,0),0.03999)","v":1.5599999999999999E-2},{"$f":"MIN(OFFSET(Female!AD$18,'Female Rev'!$A20-35,0),0.03999)","v":1.3899999999999999E-2},{"$f":"MIN(OFFSET(Female!AE$18,'Female Rev'!$A20-35,0),0.03999)","v":1.2200000000000001E-2},{"$f":"MIN(OFFSET(Female!AF$18,'Female Rev'!$A20-35,0),0.03999)","v":1.06E-2},{"$f":"MIN(OFFSET(Female!AG$18,'Female Rev'!$A20-35,0),0.03999)","v":9.1999999999999998E-3},{"$f":"MIN(OFFSET(Female!AH$18,'Female Rev'!$A20-35,0),0.03999)","v":7.7999999999999996E-3},{"$f":"MIN(OFFSET(Female!AI$18,'Female Rev'!$A20-35,0),0.03999)","v":6.7999999999999996E-3},{"$f":"MIN(OFFSET(Female!AJ$18,'Female Rev'!$A20-35,0),0.03999)","v":6.1000000000000004E-3},{"$f":"MIN(OFFSET(Female!AK$18,'Female Rev'!$A20-35,0),0.03999)","v":5.5999999999999999E-3},{"$f":"MIN(OFFSET(Female!AL$18,'Female Rev'!$A20-35,0),0.03999)","v":5.3E-3},{"$f":"MIN(OFFSET(Female!AM$18,'Female Rev'!$A20-35,0),0.03999)","v":5.0000000000000001E-3},{"$f":"MIN(OFFSET(Female!AN$18,'Female Rev'!$A20-35,0),0.03999)","v":4.7000000000000002E-3},{"$f":"MIN(OFFSET(Female!AO$18,'Female Rev'!$A20-35,0),0.03999)","v":4.3E-3},{"$f":"MIN(OFFSET(Female!AP$18,'Female Rev'!$A20-35,0),0.03999)","v":3.8E-3},{"$f":"MIN(OFFSET(Female!AQ$18,'Female Rev'!$A20-35,0),0.03999)","v":3.2000000000000002E-3},{"$f":"MIN(OFFSET(Female!AR$18,'Female Rev'!$A20-35,0),0.03999)","v":2.5999999999999999E-3},{"$f":"MIN(OFFSET(Female!AS$18,'Female Rev'!$A20-35,0),0.03999)","v":2.3999999999999998E-3},{"$f":"MIN(OFFSET(Female!AT$18,'Female Rev'!$A20-35,0),0.03999)","v":2.3E-3},{"$f":"MIN(OFFSET(Female!AU$18,'Female Rev'!$A20-35,0),0.03999)","v":2.5999999999999999E-3},{"$f":"MIN(OFFSET(Female!AV$18,'Female Rev'!$A20-35,0),0.03999)","v":3.0999999999999999E-3},{"$f":"MIN(OFFSET(Female!AW$18,'Female Rev'!$A20-35,0),0.03999)","v":3.8E-3},{"$f":"MIN(OFFSET(Female!AX$18,'Female Rev'!$A20-35,0),0.03999)","v":4.8999999999999998E-3},{"$f":"MIN(OFFSET(Female!AY$18,'Female Rev'!$A20-35,0),0.03999)","v":6.3E-3},{"$f":"MIN(OFFSET(Female!AZ$18,'Female Rev'!$A20-35,0),0.03999)","v":7.9000000000000008E-3},{"$f":"MIN(OFFSET(Female!BA$18,'Female Rev'!$A20-35,0),0.03999)","v":9.5999999999999992E-3},{"$f":"MIN(OFFSET(Female!BB$18,'Female Rev'!$A20-35,0),0.03999)","v":1.12E-2},{"$f":"MIN(OFFSET(Female!BC$18,'Female Rev'!$A20-35,0),0.03999)","v":1.2500000000000001E-2},{"$f":"MIN(OFFSET(Female!BD$18,'Female Rev'!$A20-35,0),0.03999)","v":1.34E-2},{"$f":"MIN(OFFSET(Female!BE$18,'Female Rev'!$A20-35,0),0.03999)","v":1.41E-2},{"$f":"MIN(OFFSET(Female!BF$18,'Female Rev'!$A20-35,0),0.03999)","v":1.43E-2},{"$f":"MIN(OFFSET(Female!BG$18,'Female Rev'!$A20-35,0),0.03999)","v":1.4200000000000001E-2},{"$f":"MIN(OFFSET(Female!BH$18,'Female Rev'!$A20-35,0),0.03999)","v":1.3899999999999999E-2},{"$f":"MIN(OFFSET(Female!BI$18,'Female Rev'!$A20-35,0),0.03999)","v":1.32E-2},{"$f":"MIN(OFFSET(Female!BJ$18,'Female Rev'!$A20-35,0),0.03999)","v":1.2500000000000001E-2},{"$f":"MIN(OFFSET(Female!BK$18,'Female Rev'!$A20-35,0),0.03999)","v":1.1900000000000001E-2},{"$f":"MIN(OFFSET(Female!BL$18,'Female Rev'!$A20-35,0),0.03999)","v":1.12E-2},{"$f":"MIN(OFFSET(Female!BM$18,'Female Rev'!$A20-35,0),0.03999)","v":1.0699999999999999E-2},{"$f":"MIN(OFFSET(Female!BN$18,'Female Rev'!$A20-35,0),0.03999)","v":1.04E-2},{"$f":"MIN(OFFSET(Female!BO$18,'Female Rev'!$A20-35,0),0.03999)","v":1.0500000000000001E-2},{"$f":"MIN(OFFSET(Female!BP$18,'Female Rev'!$A20-35,0),0.03999)","v":1.06E-2},{"$f":"MIN(OFFSET(Female!BQ$18,'Female Rev'!$A20-35,0),0.03999)","v":1.0699999999999999E-2},{"$f":"MIN(OFFSET(Female!BR$18,'Female Rev'!$A20-35,0),0.03999)","v":1.06E-2},{"$f":"MIN(OFFSET(Female!BS$18,'Female Rev'!$A20-35,0),0.03999)","v":1.0500000000000001E-2},{"$f":"MIN(OFFSET(Female!BT$18,'Female Rev'!$A20-35,0),0.03999)","v":1.04E-2},{"$f":"MIN(OFFSET(Female!BU$18,'Female Rev'!$A20-35,0),0.03999)","v":1.0200000000000001E-2},{"$f":"MIN(OFFSET(Female!BV$18,'Female Rev'!$A20-35,0),0.03999)","v":0.01},{"$f":"MIN(OFFSET(Female!BW$18,'Female Rev'!$A20-35,0),0.03999)","v":9.7999999999999997E-3},{"$f":"MIN(OFFSET(Female!BX$18,'Female Rev'!$A20-35,0),0.03999)","v":9.5999999999999992E-3},{"$f":"MIN(OFFSET(Female!BY$18,'Female Rev'!$A20-35,0),0.03999)","v":9.4000000000000004E-3},{"$f":"MIN(OFFSET(Female!BZ$18,'Female Rev'!$A20-35,0),0.03999)","v":9.2999999999999992E-3},{"$f":"MIN(OFFSET(Female!CA$18,'Female Rev'!$A20-35,0),0.03999)","v":9.1999999999999998E-3},{"$f":"MIN(OFFSET(Female!CB$18,'Female Rev'!$A20-35,0),0.03999)","v":9.1999999999999998E-3},{"$f":"MIN(OFFSET(Female!CC$18,'Female Rev'!$A20-35,0),0.03999)","v":9.2999999999999992E-3},{"$f":"MIN(OFFSET(Female!CD$18,'Female Rev'!$A20-35,0),0.03999)","v":9.4999999999999998E-3},{"$f":"MIN(OFFSET(Female!CE$18,'Female Rev'!$A20-35,0),0.03999)","v":9.5999999999999992E-3},{"$f":"MIN(OFFSET(Female!CF$18,'Female Rev'!$A20-35,0),0.03999)","v":9.7999999999999997E-3},{"$f":"MIN(OFFSET(Female!CG$18,'Female Rev'!$A20-35,0),0.03999)","v":0.01},{"$f":"MIN(OFFSET(Female!CH$18,'Female Rev'!$A20-35,0),0.03999)","v":0.01}]
[77,77,{"$f":"MIN(OFFSET(Female!B$18,'Female Rev'!$A21-35,0),0.03999)","v":1.15E-2},{"$f":"MIN(OFFSET(Female!C$18,'Female Rev'!$A21-35,0),0.03999)","v":1.15E-2},{"$f":"MIN(OFFSET(Female!D$18,'Female Rev'!$A21-35,0),0.03999)","v":1.15E-2},{"$f":"MIN(OFFSET(Female!E$18,'Female Rev'!$A21-35,0),0.03999)","v":1.14E-2},{"$f":"MIN(OFFSET(Female!F$18,'Female Rev'!$A21-35,0),0.03999)","v":1.1299999999999999E-2},{"$f":"MIN(OFFSET(Female!G$18,'Female Rev'!$A21-35,0),0.03999)","v":1.12E-2},{"$f":"MIN(OFFSET(Female!H$18,'Female Rev'!$A21-35,0),0.03999)","v":1.1299999999999999E-2},{"$f":"MIN(OFFSET(Female!I$18,'Female Rev'!$A21-35,0),0.03999)","v":1.14E-2},{"$f":"MIN(OFFSET(Female!J$18,'Female Rev'!$A21-35,0),0.03999)","v":1.1599999999999999E-2},{"$f":"MIN(OFFSET(Female!K$18,'Female Rev'!$A21-35,0),0.03999)","v":1.1900000000000001E-2},{"$f":"MIN(OFFSET(Female!L$18,'Female Rev'!$A21-35,0),0.03999)","v":1.23E-2},{"$f":"MIN(OFFSET(Female!M$18,'Female Rev'!$A21-35,0),0.03999)","v":1.2800000000000001E-2},{"$f":"MIN(OFFSET(Female!N$18,'Female Rev'!$A21-35,0),0.03999)","v":1.34E-2},{"$f":"MIN(OFFSET(Female!O$18,'Female Rev'!$A21-35,0),0.03999)","v":1.41E-2},{"$f":"MIN(OFFSET(Female!P$18,'Female Rev'!$A21-35,0),0.03999)","v":1.4800000000000001E-2},{"$f":"MIN(OFFSET(Female!Q$18,'Female Rev'!$A21-35,0),0.03999)","v":1.5599999999999999E-2},{"$f":"MIN(OFFSET(Female!R$18,'Female Rev'!$A21-35,0),0.03999)","v":1.6500000000000001E-2},{"$f":"MIN(OFFSET(Female!S$18,'Female Rev'!$A21-35,0),0.03999)","v":1.7299999999999999E-2},{"$f":"MIN(OFFSET(Female!T$18,'Female Rev'!$A21-35,0),0.03999)","v":1.8100000000000002E-2},{"$f":"MIN(OFFSET(Female!U$18,'Female Rev'!$A21-35,0),0.03999)","v":1.8800000000000001E-2},{"$f":"MIN(OFFSET(Female!V$18,'Female Rev'!$A21-35,0),0.03999)","v":1.9300000000000001E-2},{"$f":"MIN(OFFSET(Female!W$18,'Female Rev'!$A21-35,0),0.03999)","v":1.9699999999999999E-2},{"$f":"MIN(OFFSET(Female!X$18,'Female Rev'!$A21-35,0),0.03999)","v":1.9900000000000001E-2},{"$f":"MIN(OFFSET(Female!Y$18,'Female Rev'!$A21-35,0),0.03999)","v":1.9800000000000002E-2},{"$f":"MIN(OFFSET(Female!Z$18,'Female Rev'!$A21-35,0),0.03999)","v":1.9199999999999998E-2},{"$f":"MIN(OFFSET(Female!AA$18,'Female Rev'!$A21-35,0),0.03999)","v":1.8200000000000001E-2},{"$f":"MIN(OFFSET(Female!AB$18,'Female Rev'!$A21-35,0),0.03999)","v":1.6899999999999998E-2},{"$f":"MIN(OFFSET(Female!AC$18,'Female Rev'!$A21-35,0),0.03999)","v":1.52E-2},{"$f":"MIN(OFFSET(Female!AD$18,'Female Rev'!$A21-35,0),0.03999)","v":1.35E-2},{"$f":"MIN(OFFSET(Female!AE$18,'Female Rev'!$A21-35,0),0.03999)","v":1.17E-2},{"$f":"MIN(OFFSET(Female!AF$18,'Female Rev'!$A21-35,0),0.03999)","v":1.01E-2},{"$f":"MIN(OFFSET(Female!AG$18,'Female Rev'!$A21-35,0),0.03999)","v":8.6999999999999994E-3},{"$f":"MIN(OFFSET(Female!AH$18,'Female Rev'!$A21-35,0),0.03999)","v":7.4000000000000003E-3},{"$f":"MIN(OFFSET(Female!AI$18,'Female Rev'!$A21-35,0),0.03999)","v":6.4000000000000003E-3},{"$f":"MIN(OFFSET(Female!AJ$18,'Female Rev'!$A21-35,0),0.03999)","v":5.7999999999999996E-3},{"$f":"MIN(OFFSET(Female!AK$18,'Female Rev'!$A21-35,0),0.03999)","v":5.4000000000000003E-3},{"$f":"MIN(OFFSET(Female!AL$18,'Female Rev'!$A21-35,0),0.03999)","v":5.1999999999999998E-3},{"$f":"MIN(OFFSET(Female!AM$18,'Female Rev'!$A21-35,0),0.03999)","v":5.0000000000000001E-3},{"$f":"MIN(OFFSET(Female!AN$18,'Female Rev'!$A21-35,0),0.03999)","v":4.7999999999999996E-3},{"$f":"MIN(OFFSET(Female!AO$18,'Female Rev'!$A21-35,0),0.03999)","v":4.4999999999999997E-3},{"$f":"MIN(OFFSET(Female!AP$18,'Female Rev'!$A21-35,0),0.03999)","v":4.0000000000000001E-3},{"$f":"MIN(OFFSET(Female!AQ$18,'Female Rev'!$A21-35,0),0.03999)","v":3.3999999999999998E-3},{"$f":"MIN(OFFSET(Female!AR$18,'Female Rev'!$A21-35,0),0.03999)","v":2.8999999999999998E-3},{"$f":"MIN(OFFSET(Female!AS$18,'Female Rev'!$A21-35,0),0.03999)","v":2.7000000000000001E-3},{"$f":"MIN(OFFSET(Female!AT$18,'Female Rev'!$A21-35,0),0.03999)","v":2.7000000000000001E-3},{"$f":"MIN(OFFSET(Female!AU$18,'Female Rev'!$A21-35,0),0.03999)","v":3.0000000000000001E-3},{"$f":"MIN(OFFSET(Female!AV$18,'Female Rev'!$A21-35,0),0.03999)","v":3.5999999999999999E-3},{"$f":"MIN(OFFSET(Female!AW$18,'Female Rev'!$A21-35,0),0.03999)","v":4.4000000000000003E-3},{"$f":"MIN(OFFSET(Female!AX$18,'Female Rev'!$A21-35,0),0.03999)","v":5.4999999999999997E-3},{"$f":"MIN(OFFSET(Female!AY$18,'Female Rev'!$A21-35,0),0.03999)","v":6.8999999999999999E-3},{"$f":"MIN(OFFSET(Female!AZ$18,'Female Rev'!$A21-35,0),0.03999)","v":8.5000000000000006E-3},{"$f":"MIN(OFFSET(Female!BA$18,'Female Rev'!$A21-35,0),0.03999)","v":1.0200000000000001E-2},{"$f":"MIN(OFFSET(Female!BB$18,'Female Rev'!$A21-35,0),0.03999)","v":1.18E-2},{"$f":"MIN(OFFSET(Female!BC$18,'Female Rev'!$A21-35,0),0.03999)","v":1.3100000000000001E-2},{"$f":"MIN(OFFSET(Female!BD$18,'Female Rev'!$A21-35,0),0.03999)","v":1.41E-2},{"$f":"MIN(OFFSET(Female!BE$18,'Female Rev'!$A21-35,0),0.03999)","v":1.47E-2},{"$f":"MIN(OFFSET(Female!BF$18,'Female Rev'!$A21-35,0),0.03999)","v":1.49E-2},{"$f":"MIN(OFFSET(Female!BG$18,'Female Rev'!$A21-35,0),0.03999)","v":1.4800000000000001E-2},{"$f":"MIN(OFFSET(Female!BH$18,'Female Rev'!$A21-35,0),0.03999)","v":1.44E-2},{"$f":"MIN(OFFSET(Female!BI$18,'Female Rev'!$A21-35,0),0.03999)","v":1.38E-2},{"$f":"MIN(OFFSET(Female!BJ$18,'Female Rev'!$A21-35,0),0.03999)","v":1.3100000000000001E-2},{"$f":"MIN(OFFSET(Female!BK$18,'Female Rev'!$A21-35,0),0.03999)","v":1.23E-2},{"$f":"MIN(OFFSET(Female!BL$18,'Female Rev'!$A21-35,0),0.03999)","v":1.17E-2},{"$f":"MIN(OFFSET(Female!BM$18,'Female Rev'!$A21-35,0),0.03999)","v":1.11E-2},{"$f":"MIN(OFFSET(Female!BN$18,'Female Rev'!$A21-35,0),0.03999)","v":1.0699999999999999E-2},{"$f":"MIN(OFFSET(Female!BO$18,'Female Rev'!$A21-35,0),0.03999)","v":1.0800000000000001E-2},{"$f":"MIN(OFFSET(Female!BP$18,'Female Rev'!$A21-35,0),0.03999)","v":1.09E-2},{"$f":"MIN(OFFSET(Female!BQ$18,'Female Rev'!$A21-35,0),0.03999)","v":1.0800000000000001E-2},{"$f":"MIN(OFFSET(Female!BR$18,'Female Rev'!$A21-35,0),0.03999)","v":1.0699999999999999E-2},{"$f":"MIN(OFFSET(Female!BS$18,'Female Rev'!$A21-35,0),0.03999)","v":1.06E-2},{"$f":"MIN(OFFSET(Female!BT$18,'Female Rev'!$A21-35,0),0.03999)","v":1.03E-2},{"$f":"MIN(OFFSET(Female!BU$18,'Female Rev'!$A21-35,0),0.03999)","v":1.01E-2},{"$f":"MIN(OFFSET(Female!BV$18,'Female Rev'!$A21-35,0),0.03999)","v":9.7999999999999997E-3},{"$f":"MIN(OFFSET(Female!BW$18,'Female Rev'!$A21-35,0),0.03999)","v":9.4999999999999998E-3},{"$f":"MIN(OFFSET(Female!BX$18,'Female Rev'!$A21-35,0),0.03999)","v":9.2999999999999992E-3},{"$f":"MIN(OFFSET(Female!BY$18,'Female Rev'!$A21-35,0),0.03999)","v":9.1000000000000004E-3},{"$f":"MIN(OFFSET(Female!BZ$18,'Female Rev'!$A21-35,0),0.03999)","v":8.9999999999999993E-3},{"$f":"MIN(OFFSET(Female!CA$18,'Female Rev'!$A21-35,0),0.03999)","v":8.9999999999999993E-3},{"$f":"MIN(OFFSET(Female!CB$18,'Female Rev'!$A21-35,0),0.03999)","v":8.9999999999999993E-3},{"$f":"MIN(OFFSET(Female!CC$18,'Female Rev'!$A21-35,0),0.03999)","v":9.1999999999999998E-3},{"$f":"MIN(OFFSET(Female!CD$18,'Female Rev'!$A21-35,0),0.03999)","v":9.4000000000000004E-3},{"$f":"MIN(OFFSET(Female!CE$18,'Female Rev'!$A21-35,0),0.03999)","v":9.5999999999999992E-3},{"$f":"MIN(OFFSET(Female!CF$18,'Female Rev'!$A21-35,0),0.03999)","v":9.7999999999999997E-3},{"$f":"MIN(OFFSET(Female!CG$18,'Female Rev'!$A21-35,0),0.03999)","v":9.9000000000000008E-3},{"$f":"MIN(OFFSET(Female!CH$18,'Female Rev'!$A21-35,0),0.03999)","v":0.01}]
[76,76,{"$f":"MIN(OFFSET(Female!B$18,'Female Rev'!$A22-35,0),0.03999)","v":1.2E-2},{"$f":"MIN(OFFSET(Female!C$18,'Female Rev'!$A22-35,0),0.03999)","v":1.1900000000000001E-2},{"$f":"MIN(OFFSET(Female!D$18,'Female Rev'!$A22-35,0),0.03999)","v":1.1900000000000001E-2},{"$f":"MIN(OFFSET(Female!E$18,'Female Rev'!$A22-35,0),0.03999)","v":1.18E-2},{"$f":"MIN(OFFSET(Female!F$18,'Female Rev'!$A22-35,0),0.03999)","v":1.1599999999999999E-2},{"$f":"MIN(OFFSET(Female!G$18,'Female Rev'!$A22-35,0),0.03999)","v":1.1599999999999999E-2},{"$f":"MIN(OFFSET(Female!H$18,'Female Rev'!$A22-35,0),0.03999)","v":1.1599999999999999E-2},{"$f":"MIN(OFFSET(Female!I$18,'Female Rev'!$A22-35,0),0.03999)","v":1.17E-2},{"$f":"MIN(OFFSET(Female!J$18,'Female Rev'!$A22-35,0),0.03999)","v":1.1900000000000001E-2},{"$f":"MIN(OFFSET(Female!K$18,'Female Rev'!$A22-35,0),0.03999)","v":1.2200000000000001E-2},{"$f":"MIN(OFFSET(Female!L$18,'Female Rev'!$A22-35,0),0.03999)","v":1.2500000000000001E-2},{"$f":"MIN(OFFSET(Female!M$18,'Female Rev'!$A22-35,0),0.03999)","v":1.29E-2},{"$f":"MIN(OFFSET(Female!N$18,'Female Rev'!$A22-35,0),0.03999)","v":1.35E-2},{"$f":"MIN(OFFSET(Female!O$18,'Female Rev'!$A22-35,0),0.03999)","v":1.41E-2},{"$f":"MIN(OFFSET(Female!P$18,'Female Rev'!$A22-35,0),0.03999)","v":1.49E-2},{"$f":"MIN(OFFSET(Female!Q$18,'Female Rev'!$A22-35,0),0.03999)","v":1.5599999999999999E-2},{"$f":"MIN(OFFSET(Female!R$18,'Female Rev'!$A22-35,0),0.03999)","v":1.6500000000000001E-2},{"$f":"MIN(OFFSET(Female!S$18,'Female Rev'!$A22-35,0),0.03999)","v":1.7299999999999999E-2},{"$f":"MIN(OFFSET(Female!T$18,'Female Rev'!$A22-35,0),0.03999)","v":1.8100000000000002E-2},{"$f":"MIN(OFFSET(Female!U$18,'Female Rev'!$A22-35,0),0.03999)","v":1.8700000000000001E-2},{"$f":"MIN(OFFSET(Female!V$18,'Female Rev'!$A22-35,0),0.03999)","v":1.9300000000000001E-2},{"$f":"MIN(OFFSET(Female!W$18,'Female Rev'!$A22-35,0),0.03999)","v":1.9599999999999999E-2},{"$f":"MIN(OFFSET(Female!X$18,'Female Rev'!$A22-35,0),0.03999)","v":1.9800000000000002E-2},{"$f":"MIN(OFFSET(Female!Y$18,'Female Rev'!$A22-35,0),0.03999)","v":1.9599999999999999E-2},{"$f":"MIN(OFFSET(Female!Z$18,'Female Rev'!$A22-35,0),0.03999)","v":1.9E-2},{"$f":"MIN(OFFSET(Female!AA$18,'Female Rev'!$A22-35,0),0.03999)","v":1.7899999999999999E-2},{"$f":"MIN(OFFSET(Female!AB$18,'Female Rev'!$A22-35,0),0.03999)","v":1.6500000000000001E-2},{"$f":"MIN(OFFSET(Female!AC$18,'Female Rev'!$A22-35,0),0.03999)","v":1.4800000000000001E-2},{"$f":"MIN(OFFSET(Female!AD$18,'Female Rev'!$A22-35,0),0.03999)","v":1.2999999999999999E-2},{"$f":"MIN(OFFSET(Female!AE$18,'Female Rev'!$A22-35,0),0.03999)","v":1.12E-2},{"$f":"MIN(OFFSET(Female!AF$18,'Female Rev'!$A22-35,0),0.03999)","v":9.5999999999999992E-3},{"$f":"MIN(OFFSET(Female!AG$18,'Female Rev'!$A22-35,0),0.03999)","v":8.0999999999999996E-3},{"$f":"MIN(OFFSET(Female!AH$18,'Female Rev'!$A22-35,0),0.03999)","v":6.8999999999999999E-3},{"$f":"MIN(OFFSET(Female!AI$18,'Female Rev'!$A22-35,0),0.03999)","v":6.1000000000000004E-3},{"$f":"MIN(OFFSET(Female!AJ$18,'Female Rev'!$A22-35,0),0.03999)","v":5.4999999999999997E-3},{"$f":"MIN(OFFSET(Female!AK$18,'Female Rev'!$A22-35,0),0.03999)","v":5.1999999999999998E-3},{"$f":"MIN(OFFSET(Female!AL$18,'Female Rev'!$A22-35,0),0.03999)","v":5.1000000000000004E-3},{"$f":"MIN(OFFSET(Female!AM$18,'Female Rev'!$A22-35,0),0.03999)","v":5.0000000000000001E-3},{"$f":"MIN(OFFSET(Female!AN$18,'Female Rev'!$A22-35,0),0.03999)","v":4.8999999999999998E-3},{"$f":"MIN(OFFSET(Female!AO$18,'Female Rev'!$A22-35,0),0.03999)","v":4.5999999999999999E-3},{"$f":"MIN(OFFSET(Female!AP$18,'Female Rev'!$A22-35,0),0.03999)","v":4.1999999999999997E-3},{"$f":"MIN(OFFSET(Female!AQ$18,'Female Rev'!$A22-35,0),0.03999)","v":3.7000000000000002E-3},{"$f":"MIN(OFFSET(Female!AR$18,'Female Rev'!$A22-35,0),0.03999)","v":3.2000000000000002E-3},{"$f":"MIN(OFFSET(Female!AS$18,'Female Rev'!$A22-35,0),0.03999)","v":3.0999999999999999E-3},{"$f":"MIN(OFFSET(Female!AT$18,'Female Rev'!$A22-35,0),0.03999)","v":3.0999999999999999E-3},{"$f":"MIN(OFFSET(Female!AU$18,'Female Rev'!$A22-35,0),0.03999)","v":3.5000000000000001E-3},{"$f":"MIN(OFFSET(Female!AV$18,'Female Rev'!$A22-35,0),0.03999)","v":4.1000000000000003E-3},{"$f":"MIN(OFFSET(Female!AW$18,'Female Rev'!$A22-35,0),0.03999)","v":4.8999999999999998E-3},{"$f":"MIN(OFFSET(Female!AX$18,'Female Rev'!$A22-35,0),0.03999)","v":6.1000000000000004E-3},{"$f":"MIN(OFFSET(Female!AY$18,'Female Rev'!$A22-35,0),0.03999)","v":7.4999999999999997E-3},{"$f":"MIN(OFFSET(Female!AZ$18,'Female Rev'!$A22-35,0),0.03999)","v":9.1000000000000004E-3},{"$f":"MIN(OFFSET(Female!BA$18,'Female Rev'!$A22-35,0),0.03999)","v":1.0800000000000001E-2},{"$f":"MIN(OFFSET(Female!BB$18,'Female Rev'!$A22-35,0),0.03999)","v":1.24E-2},{"$f":"MIN(OFFSET(Female!BC$18,'Female Rev'!$A22-35,0),0.03999)","v":1.38E-2},{"$f":"MIN(OFFSET(Female!BD$18,'Female Rev'!$A22-35,0),0.03999)","v":1.47E-2},{"$f":"MIN(OFFSET(Female!BE$18,'Female Rev'!$A22-35,0),0.03999)","v":1.5299999999999999E-2},{"$f":"MIN(OFFSET(Female!BF$18,'Female Rev'!$A22-35,0),0.03999)","v":1.55E-2},{"$f":"MIN(OFFSET(Female!BG$18,'Female Rev'!$A22-35,0),0.03999)","v":1.54E-2},{"$f":"MIN(OFFSET(Female!BH$18,'Female Rev'!$A22-35,0),0.03999)","v":1.4999999999999999E-2},{"$f":"MIN(OFFSET(Female!BI$18,'Female Rev'!$A22-35,0),0.03999)","v":1.43E-2},{"$f":"MIN(OFFSET(Female!BJ$18,'Female Rev'!$A22-35,0),0.03999)","v":1.35E-2},{"$f":"MIN(OFFSET(Female!BK$18,'Female Rev'!$A22-35,0),0.03999)","v":1.2699999999999999E-2},{"$f":"MIN(OFFSET(Female!BL$18,'Female Rev'!$A22-35,0),0.03999)","v":1.2E-2},{"$f":"MIN(OFFSET(Female!BM$18,'Female Rev'!$A22-35,0),0.03999)","v":1.14E-2},{"$f":"MIN(OFFSET(Female!BN$18,'Female Rev'!$A22-35,0),0.03999)","v":1.0999999999999999E-2},{"$f":"MIN(OFFSET(Female!BO$18,'Female Rev'!$A22-35,0),0.03999)","v":1.11E-2},{"$f":"MIN(OFFSET(Female!BP$18,'Female Rev'!$A22-35,0),0.03999)","v":1.0999999999999999E-2},{"$f":"MIN(OFFSET(Female!BQ$18,'Female Rev'!$A22-35,0),0.03999)","v":1.09E-2},{"$f":"MIN(OFFSET(Female!BR$18,'Female Rev'!$A22-35,0),0.03999)","v":1.0800000000000001E-2},{"$f":"MIN(OFFSET(Female!BS$18,'Female Rev'!$A22-35,0),0.03999)","v":1.0500000000000001E-2},{"$f":"MIN(OFFSET(Female!BT$18,'Female Rev'!$A22-35,0),0.03999)","v":1.0200000000000001E-2},{"$f":"MIN(OFFSET(Female!BU$18,'Female Rev'!$A22-35,0),0.03999)","v":9.9000000000000008E-3},{"$f":"MIN(OFFSET(Female!BV$18,'Female Rev'!$A22-35,0),0.03999)","v":9.5999999999999992E-3},{"$f":"MIN(OFFSET(Female!BW$18,'Female Rev'!$A22-35,0),0.03999)","v":9.1999999999999998E-3},{"$f":"MIN(OFFSET(Female!BX$18,'Female Rev'!$A22-35,0),0.03999)","v":8.9999999999999993E-3},{"$f":"MIN(OFFSET(Female!BY$18,'Female Rev'!$A22-35,0),0.03999)","v":8.8000000000000005E-3},{"$f":"MIN(OFFSET(Female!BZ$18,'Female Rev'!$A22-35,0),0.03999)","v":8.6999999999999994E-3},{"$f":"MIN(OFFSET(Female!CA$18,'Female Rev'!$A22-35,0),0.03999)","v":8.6999999999999994E-3},{"$f":"MIN(OFFSET(Female!CB$18,'Female Rev'!$A22-35,0),0.03999)","v":8.8999999999999999E-3},{"$f":"MIN(OFFSET(Female!CC$18,'Female Rev'!$A22-35,0),0.03999)","v":9.1000000000000004E-3},{"$f":"MIN(OFFSET(Female!CD$18,'Female Rev'!$A22-35,0),0.03999)","v":9.2999999999999992E-3},{"$f":"MIN(OFFSET(Female!CE$18,'Female Rev'!$A22-35,0),0.03999)","v":9.5999999999999992E-3},{"$f":"MIN(OFFSET(Female!CF$18,'Female Rev'!$A22-35,0),0.03999)","v":9.7999999999999997E-3},{"$f":"MIN(OFFSET(Female!CG$18,'Female Rev'!$A22-35,0),0.03999)","v":9.9000000000000008E-3},{"$f":"MIN(OFFSET(Female!CH$18,'Female Rev'!$A22-35,0),0.03999)","v":0.01}]
[75,75,{"$f":"MIN(OFFSET(Female!B$18,'Female Rev'!$A23-35,0),0.03999)","v":1.24E-2},{"$f":"MIN(OFFSET(Female!C$18,'Female Rev'!$A23-35,0),0.03999)","v":1.23E-2},{"$f":"MIN(OFFSET(Female!D$18,'Female Rev'!$A23-35,0),0.03999)","v":1.23E-2},{"$f":"MIN(OFFSET(Female!E$18,'Female Rev'!$A23-35,0),0.03999)","v":1.2200000000000001E-2},{"$f":"MIN(OFFSET(Female!F$18,'Female Rev'!$A23-35,0),0.03999)","v":1.2E-2},{"$f":"MIN(OFFSET(Female!G$18,'Female Rev'!$A23-35,0),0.03999)","v":1.1900000000000001E-2},{"$f":"MIN(OFFSET(Female!H$18,'Female Rev'!$A23-35,0),0.03999)","v":1.1900000000000001E-2},{"$f":"MIN(OFFSET(Female!I$18,'Female Rev'!$A23-35,0),0.03999)","v":1.1900000000000001E-2},{"$f":"MIN(OFFSET(Female!J$18,'Female Rev'!$A23-35,0),0.03999)","v":1.21E-2},{"$f":"MIN(OFFSET(Female!K$18,'Female Rev'!$A23-35,0),0.03999)","v":1.23E-2},{"$f":"MIN(OFFSET(Female!L$18,'Female Rev'!$A23-35,0),0.03999)","v":1.26E-2},{"$f":"MIN(OFFSET(Female!M$18,'Female Rev'!$A23-35,0),0.03999)","v":1.2999999999999999E-2},{"$f":"MIN(OFFSET(Female!N$18,'Female Rev'!$A23-35,0),0.03999)","v":1.3599999999999999E-2},{"$f":"MIN(OFFSET(Female!O$18,'Female Rev'!$A23-35,0),0.03999)","v":1.4200000000000001E-2},{"$f":"MIN(OFFSET(Female!P$18,'Female Rev'!$A23-35,0),0.03999)","v":1.49E-2},{"$f":"MIN(OFFSET(Female!Q$18,'Female Rev'!$A23-35,0),0.03999)","v":1.5599999999999999E-2},{"$f":"MIN(OFFSET(Female!R$18,'Female Rev'!$A23-35,0),0.03999)","v":1.6500000000000001E-2},{"$f":"MIN(OFFSET(Female!S$18,'Female Rev'!$A23-35,0),0.03999)","v":1.7299999999999999E-2},{"$f":"MIN(OFFSET(Female!T$18,'Female Rev'!$A23-35,0),0.03999)","v":1.7999999999999999E-2},{"$f":"MIN(OFFSET(Female!U$18,'Female Rev'!$A23-35,0),0.03999)","v":1.8700000000000001E-2},{"$f":"MIN(OFFSET(Female!V$18,'Female Rev'!$A23-35,0),0.03999)","v":1.9199999999999998E-2},{"$f":"MIN(OFFSET(Female!W$18,'Female Rev'!$A23-35,0),0.03999)","v":1.95E-2},{"$f":"MIN(OFFSET(Female!X$18,'Female Rev'!$A23-35,0),0.03999)","v":1.9599999999999999E-2},{"$f":"MIN(OFFSET(Female!Y$18,'Female Rev'!$A23-35,0),0.03999)","v":1.9400000000000001E-2},{"$f":"MIN(OFFSET(Female!Z$18,'Female Rev'!$A23-35,0),0.03999)","v":1.8700000000000001E-2},{"$f":"MIN(OFFSET(Female!AA$18,'Female Rev'!$A23-35,0),0.03999)","v":1.7500000000000002E-2},{"$f":"MIN(OFFSET(Female!AB$18,'Female Rev'!$A23-35,0),0.03999)","v":1.6E-2},{"$f":"MIN(OFFSET(Female!AC$18,'Female Rev'!$A23-35,0),0.03999)","v":1.4200000000000001E-2},{"$f":"MIN(OFFSET(Female!AD$18,'Female Rev'!$A23-35,0),0.03999)","v":1.24E-2},{"$f":"MIN(OFFSET(Female!AE$18,'Female Rev'!$A23-35,0),0.03999)","v":1.06E-2},{"$f":"MIN(OFFSET(Female!AF$18,'Female Rev'!$A23-35,0),0.03999)","v":8.9999999999999993E-3},{"$f":"MIN(OFFSET(Female!AG$18,'Female Rev'!$A23-35,0),0.03999)","v":7.6E-3},{"$f":"MIN(OFFSET(Female!AH$18,'Female Rev'!$A23-35,0),0.03999)","v":6.4999999999999997E-3},{"$f":"MIN(OFFSET(Female!AI$18,'Female Rev'!$A23-35,0),0.03999)","v":5.7000000000000002E-3},{"$f":"MIN(OFFSET(Female!AJ$18,'Female Rev'!$A23-35,0),0.03999)","v":5.1999999999999998E-3},{"$f":"MIN(OFFSET(Female!AK$18,'Female Rev'!$A23-35,0),0.03999)","v":5.0000000000000001E-3},{"$f":"MIN(OFFSET(Female!AL$18,'Female Rev'!$A23-35,0),0.03999)","v":5.0000000000000001E-3},{"$f":"MIN(OFFSET(Female!AM$18,'Female Rev'!$A23-35,0),0.03999)","v":5.0000000000000001E-3},{"$f":"MIN(OFFSET(Female!AN$18,'Female Rev'!$A23-35,0),0.03999)","v":5.0000000000000001E-3},{"$f":"MIN(OFFSET(Female!AO$18,'Female Rev'!$A23-35,0),0.03999)","v":4.7000000000000002E-3},{"$f":"MIN(OFFSET(Female!AP$18,'Female Rev'!$A23-35,0),0.03999)","v":4.4000000000000003E-3},{"$f":"MIN(OFFSET(Female!AQ$18,'Female Rev'!$A23-35,0),0.03999)","v":3.8999999999999998E-3},{"$f":"MIN(OFFSET(Female!AR$18,'Female Rev'!$A23-35,0),0.03999)","v":3.5000000000000001E-3},{"$f":"MIN(OFFSET(Female!AS$18,'Female Rev'!$A23-35,0),0.03999)","v":3.3999999999999998E-3},{"$f":"MIN(OFFSET(Female!AT$18,'Female Rev'!$A23-35,0),0.03999)","v":3.5000000000000001E-3},{"$f":"MIN(OFFSET(Female!AU$18,'Female Rev'!$A23-35,0),0.03999)","v":3.8999999999999998E-3},{"$f":"MIN(OFFSET(Female!AV$18,'Female Rev'!$A23-35,0),0.03999)","v":4.5999999999999999E-3},{"$f":"MIN(OFFSET(Female!AW$18,'Female Rev'!$A23-35,0),0.03999)","v":5.4999999999999997E-3},{"$f":"MIN(OFFSET(Female!AX$18,'Female Rev'!$A23-35,0),0.03999)","v":6.7000000000000002E-3},{"$f":"MIN(OFFSET(Female!AY$18,'Female Rev'!$A23-35,0),0.03999)","v":8.0999999999999996E-3},{"$f":"MIN(OFFSET(Female!AZ$18,'Female Rev'!$A23-35,0),0.03999)","v":9.7999999999999997E-3},{"$f":"MIN(OFFSET(Female!BA$18,'Female Rev'!$A23-35,0),0.03999)","v":1.15E-2},{"$f":"MIN(OFFSET(Female!BB$18,'Female Rev'!$A23-35,0),0.03999)","v":1.3100000000000001E-2},{"$f":"MIN(OFFSET(Female!BC$18,'Female Rev'!$A23-35,0),0.03999)","v":1.44E-2},{"$f":"MIN(OFFSET(Female!BD$18,'Female Rev'!$A23-35,0),0.03999)","v":1.5299999999999999E-2},{"$f":"MIN(OFFSET(Female!BE$18,'Female Rev'!$A23-35,0),0.03999)","v":1.5900000000000001E-2},{"$f":"MIN(OFFSET(Female!BF$18,'Female Rev'!$A23-35,0),0.03999)","v":1.61E-2},{"$f":"MIN(OFFSET(Female!BG$18,'Female Rev'!$A23-35,0),0.03999)","v":1.5900000000000001E-2},{"$f":"MIN(OFFSET(Female!BH$18,'Female Rev'!$A23-35,0),0.03999)","v":1.55E-2},{"$f":"MIN(OFFSET(Female!BI$18,'Female Rev'!$A23-35,0),0.03999)","v":1.4800000000000001E-2},{"$f":"MIN(OFFSET(Female!BJ$18,'Female Rev'!$A23-35,0),0.03999)","v":1.3899999999999999E-2},{"$f":"MIN(OFFSET(Female!BK$18,'Female Rev'!$A23-35,0),0.03999)","v":1.3100000000000001E-2},{"$f":"MIN(OFFSET(Female!BL$18,'Female Rev'!$A23-35,0),0.03999)","v":1.23E-2},{"$f":"MIN(OFFSET(Female!BM$18,'Female Rev'!$A23-35,0),0.03999)","v":1.1599999999999999E-2},{"$f":"MIN(OFFSET(Female!BN$18,'Female Rev'!$A23-35,0),0.03999)","v":1.12E-2},{"$f":"MIN(OFFSET(Female!BO$18,'Female Rev'!$A23-35,0),0.03999)","v":1.12E-2},{"$f":"MIN(OFFSET(Female!BP$18,'Female Rev'!$A23-35,0),0.03999)","v":1.11E-2},{"$f":"MIN(OFFSET(Female!BQ$18,'Female Rev'!$A23-35,0),0.03999)","v":1.0999999999999999E-2},{"$f":"MIN(OFFSET(Female!BR$18,'Female Rev'!$A23-35,0),0.03999)","v":1.0699999999999999E-2},{"$f":"MIN(OFFSET(Female!BS$18,'Female Rev'!$A23-35,0),0.03999)","v":1.04E-2},{"$f":"MIN(OFFSET(Female!BT$18,'Female Rev'!$A23-35,0),0.03999)","v":0.01},{"$f":"MIN(OFFSET(Female!BU$18,'Female Rev'!$A23-35,0),0.03999)","v":9.5999999999999992E-3},{"$f":"MIN(OFFSET(Female!BV$18,'Female Rev'!$A23-35,0),0.03999)","v":9.1999999999999998E-3},{"$f":"MIN(OFFSET(Female!BW$18,'Female Rev'!$A23-35,0),0.03999)","v":8.8999999999999999E-3},{"$f":"MIN(OFFSET(Female!BX$18,'Female Rev'!$A23-35,0),0.03999)","v":8.6E-3},{"$f":"MIN(OFFSET(Female!BY$18,'Female Rev'!$A23-35,0),0.03999)","v":8.5000000000000006E-3},{"$f":"MIN(OFFSET(Female!BZ$18,'Female Rev'!$A23-35,0),0.03999)","v":8.3999999999999995E-3},{"$f":"MIN(OFFSET(Female!CA$18,'Female Rev'!$A23-35,0),0.03999)","v":8.5000000000000006E-3},{"$f":"MIN(OFFSET(Female!CB$18,'Female Rev'!$A23-35,0),0.03999)","v":8.6999999999999994E-3},{"$f":"MIN(OFFSET(Female!CC$18,'Female Rev'!$A23-35,0),0.03999)","v":8.9999999999999993E-3},{"$f":"MIN(OFFSET(Female!CD$18,'Female Rev'!$A23-35,0),0.03999)","v":9.2999999999999992E-3},{"$f":"MIN(OFFSET(Female!CE$18,'Female Rev'!$A23-35,0),0.03999)","v":9.5999999999999992E-3},{"$f":"MIN(OFFSET(Female!CF$18,'Female Rev'!$A23-35,0),0.03999)","v":9.7999999999999997E-3},{"$f":"MIN(OFFSET(Female!CG$18,'Female Rev'!$A23-35,0),0.03999)","v":0.01},{"$f":"MIN(OFFSET(Female!CH$18,'Female Rev'!$A23-35,0),0.03999)","v":0.01}]
[74,74,{"$f":"MIN(OFFSET(Female!B$18,'Female Rev'!$A24-35,0),0.03999)","v":1.2699999999999999E-2},{"$f":"MIN(OFFSET(Female!C$18,'Female Rev'!$A24-35,0),0.03999)","v":1.2699999999999999E-2},{"$f":"MIN(OFFSET(Female!D$18,'Female Rev'!$A24-35,0),0.03999)","v":1.26E-2},{"$f":"MIN(OFFSET(Female!E$18,'Female Rev'!$A24-35,0),0.03999)","v":1.2500000000000001E-2},{"$f":"MIN(OFFSET(Female!F$18,'Female Rev'!$A24-35,0),0.03999)","v":1.23E-2},{"$f":"MIN(OFFSET(Female!G$18,'Female Rev'!$A24-35,0),0.03999)","v":1.2200000000000001E-2},{"$f":"MIN(OFFSET(Female!H$18,'Female Rev'!$A24-35,0),0.03999)","v":1.21E-2},{"$f":"MIN(OFFSET(Female!I$18,'Female Rev'!$A24-35,0),0.03999)","v":1.21E-2},{"$f":"MIN(OFFSET(Female!J$18,'Female Rev'!$A24-35,0),0.03999)","v":1.23E-2},{"$f":"MIN(OFFSET(Female!K$18,'Female Rev'!$A24-35,0),0.03999)","v":1.2500000000000001E-2},{"$f":"MIN(OFFSET(Female!L$18,'Female Rev'!$A24-35,0),0.03999)","v":1.2800000000000001E-2},{"$f":"MIN(OFFSET(Female!M$18,'Female Rev'!$A24-35,0),0.03999)","v":1.3100000000000001E-2},{"$f":"MIN(OFFSET(Female!N$18,'Female Rev'!$A24-35,0),0.03999)","v":1.3599999999999999E-2},{"$f":"MIN(OFFSET(Female!O$18,'Female Rev'!$A24-35,0),0.03999)","v":1.43E-2},{"$f":"MIN(OFFSET(Female!P$18,'Female Rev'!$A24-35,0),0.03999)","v":1.49E-2},{"$f":"MIN(OFFSET(Female!Q$18,'Female Rev'!$A24-35,0),0.03999)","v":1.5599999999999999E-2},{"$f":"MIN(OFFSET(Female!R$18,'Female Rev'!$A24-35,0),0.03999)","v":1.6400000000000001E-2},{"$f":"MIN(OFFSET(Female!S$18,'Female Rev'!$A24-35,0),0.03999)","v":1.72E-2},{"$f":"MIN(OFFSET(Female!T$18,'Female Rev'!$A24-35,0),0.03999)","v":1.7899999999999999E-2},{"$f":"MIN(OFFSET(Female!U$18,'Female Rev'!$A24-35,0),0.03999)","v":1.8599999999999998E-2},{"$f":"MIN(OFFSET(Female!V$18,'Female Rev'!$A24-35,0),0.03999)","v":1.9E-2},{"$f":"MIN(OFFSET(Female!W$18,'Female Rev'!$A24-35,0),0.03999)","v":1.9300000000000001E-2},{"$f":"MIN(OFFSET(Female!X$18,'Female Rev'!$A24-35,0),0.03999)","v":1.9400000000000001E-2},{"$f":"MIN(OFFSET(Female!Y$18,'Female Rev'!$A24-35,0),0.03999)","v":1.9099999999999999E-2},{"$f":"MIN(OFFSET(Female!Z$18,'Female Rev'!$A24-35,0),0.03999)","v":1.83E-2},{"$f":"MIN(OFFSET(Female!AA$18,'Female Rev'!$A24-35,0),0.03999)","v":1.7000000000000001E-2},{"$f":"MIN(OFFSET(Female!AB$18,'Female Rev'!$A24-35,0),0.03999)","v":1.55E-2},{"$f":"MIN(OFFSET(Female!AC$18,'Female Rev'!$A24-35,0),0.03999)","v":1.37E-2},{"$f":"MIN(OFFSET(Female!AD$18,'Female Rev'!$A24-35,0),0.03999)","v":1.18E-2},{"$f":"MIN(OFFSET(Female!AE$18,'Female Rev'!$A24-35,0),0.03999)","v":0.01},{"$f":"MIN(OFFSET(Female!AF$18,'Female Rev'!$A24-35,0),0.03999)","v":8.5000000000000006E-3},{"$f":"MIN(OFFSET(Female!AG$18,'Female Rev'!$A24-35,0),0.03999)","v":7.1000000000000004E-3},{"$f":"MIN(OFFSET(Female!AH$18,'Female Rev'!$A24-35,0),0.03999)","v":6.0000000000000001E-3},{"$f":"MIN(OFFSET(Female!AI$18,'Female Rev'!$A24-35,0),0.03999)","v":5.3E-3},{"$f":"MIN(OFFSET(Female!AJ$18,'Female Rev'!$A24-35,0),0.03999)","v":4.8999999999999998E-3},{"$f":"MIN(OFFSET(Female!AK$18,'Female Rev'!$A24-35,0),0.03999)","v":4.8999999999999998E-3},{"$f":"MIN(OFFSET(Female!AL$18,'Female Rev'!$A24-35,0),0.03999)","v":4.8999999999999998E-3},{"$f":"MIN(OFFSET(Female!AM$18,'Female Rev'!$A24-35,0),0.03999)","v":5.0000000000000001E-3},{"$f":"MIN(OFFSET(Female!AN$18,'Female Rev'!$A24-35,0),0.03999)","v":5.0000000000000001E-3},{"$f":"MIN(OFFSET(Female!AO$18,'Female Rev'!$A24-35,0),0.03999)","v":4.8999999999999998E-3},{"$f":"MIN(OFFSET(Female!AP$18,'Female Rev'!$A24-35,0),0.03999)","v":4.4999999999999997E-3},{"$f":"MIN(OFFSET(Female!AQ$18,'Female Rev'!$A24-35,0),0.03999)","v":4.1000000000000003E-3},{"$f":"MIN(OFFSET(Female!AR$18,'Female Rev'!$A24-35,0),0.03999)","v":3.8E-3},{"$f":"MIN(OFFSET(Female!AS$18,'Female Rev'!$A24-35,0),0.03999)","v":3.8E-3},{"$f":"MIN(OFFSET(Female!AT$18,'Female Rev'!$A24-35,0),0.03999)","v":3.8999999999999998E-3},{"$f":"MIN(OFFSET(Female!AU$18,'Female Rev'!$A24-35,0),0.03999)","v":4.4000000000000003E-3},{"$f":"MIN(OFFSET(Female!AV$18,'Female Rev'!$A24-35,0),0.03999)","v":5.0000000000000001E-3},{"$f":"MIN(OFFSET(Female!AW$18,'Female Rev'!$A24-35,0),0.03999)","v":6.0000000000000001E-3},{"$f":"MIN(OFFSET(Female!AX$18,'Female Rev'!$A24-35,0),0.03999)","v":7.3000000000000001E-3},{"$f":"MIN(OFFSET(Female!AY$18,'Female Rev'!$A24-35,0),0.03999)","v":8.8000000000000005E-3},{"$f":"MIN(OFFSET(Female!AZ$18,'Female Rev'!$A24-35,0),0.03999)","v":1.0500000000000001E-2},{"$f":"MIN(OFFSET(Female!BA$18,'Female Rev'!$A24-35,0),0.03999)","v":1.2200000000000001E-2},{"$f":"MIN(OFFSET(Female!BB$18,'Female Rev'!$A24-35,0),0.03999)","v":1.37E-2},{"$f":"MIN(OFFSET(Female!BC$18,'Female Rev'!$A24-35,0),0.03999)","v":1.4999999999999999E-2},{"$f":"MIN(OFFSET(Female!BD$18,'Female Rev'!$A24-35,0),0.03999)","v":1.6E-2},{"$f":"MIN(OFFSET(Female!BE$18,'Female Rev'!$A24-35,0),0.03999)","v":1.6500000000000001E-2},{"$f":"MIN(OFFSET(Female!BF$18,'Female Rev'!$A24-35,0),0.03999)","v":1.67E-2},{"$f":"MIN(OFFSET(Female!BG$18,'Female Rev'!$A24-35,0),0.03999)","v":1.6500000000000001E-2},{"$f":"MIN(OFFSET(Female!BH$18,'Female Rev'!$A24-35,0),0.03999)","v":1.6E-2},{"$f":"MIN(OFFSET(Female!BI$18,'Female Rev'!$A24-35,0),0.03999)","v":1.52E-2},{"$f":"MIN(OFFSET(Female!BJ$18,'Female Rev'!$A24-35,0),0.03999)","v":1.43E-2},{"$f":"MIN(OFFSET(Female!BK$18,'Female Rev'!$A24-35,0),0.03999)","v":1.3299999999999999E-2},{"$f":"MIN(OFFSET(Female!BL$18,'Female Rev'!$A24-35,0),0.03999)","v":1.2500000000000001E-2},{"$f":"MIN(OFFSET(Female!BM$18,'Female Rev'!$A24-35,0),0.03999)","v":1.18E-2},{"$f":"MIN(OFFSET(Female!BN$18,'Female Rev'!$A24-35,0),0.03999)","v":1.1299999999999999E-2},{"$f":"MIN(OFFSET(Female!BO$18,'Female Rev'!$A24-35,0),0.03999)","v":1.12E-2},{"$f":"MIN(OFFSET(Female!BP$18,'Female Rev'!$A24-35,0),0.03999)","v":1.11E-2},{"$f":"MIN(OFFSET(Female!BQ$18,'Female Rev'!$A24-35,0),0.03999)","v":1.09E-2},{"$f":"MIN(OFFSET(Female!BR$18,'Female Rev'!$A24-35,0),0.03999)","v":1.0500000000000001E-2},{"$f":"MIN(OFFSET(Female!BS$18,'Female Rev'!$A24-35,0),0.03999)","v":1.01E-2},{"$f":"MIN(OFFSET(Female!BT$18,'Female Rev'!$A24-35,0),0.03999)","v":9.7000000000000003E-3},{"$f":"MIN(OFFSET(Female!BU$18,'Female Rev'!$A24-35,0),0.03999)","v":9.1999999999999998E-3},{"$f":"MIN(OFFSET(Female!BV$18,'Female Rev'!$A24-35,0),0.03999)","v":8.8000000000000005E-3},{"$f":"MIN(OFFSET(Female!BW$18,'Female Rev'!$A24-35,0),0.03999)","v":8.5000000000000006E-3},{"$f":"MIN(OFFSET(Female!BX$18,'Female Rev'!$A24-35,0),0.03999)","v":8.2000000000000007E-3},{"$f":"MIN(OFFSET(Female!BY$18,'Female Rev'!$A24-35,0),0.03999)","v":8.0999999999999996E-3},{"$f":"MIN(OFFSET(Female!BZ$18,'Female Rev'!$A24-35,0),0.03999)","v":8.2000000000000007E-3},{"$f":"MIN(OFFSET(Female!CA$18,'Female Rev'!$A24-35,0),0.03999)","v":8.3000000000000001E-3},{"$f":"MIN(OFFSET(Female!CB$18,'Female Rev'!$A24-35,0),0.03999)","v":8.6E-3},{"$f":"MIN(OFFSET(Female!CC$18,'Female Rev'!$A24-35,0),0.03999)","v":8.8999999999999999E-3},{"$f":"MIN(OFFSET(Female!CD$18,'Female Rev'!$A24-35,0),0.03999)","v":9.2999999999999992E-3},{"$f":"MIN(OFFSET(Female!CE$18,'Female Rev'!$A24-35,0),0.03999)","v":9.5999999999999992E-3},{"$f":"MIN(OFFSET(Female!CF$18,'Female Rev'!$A24-35,0),0.03999)","v":9.7999999999999997E-3},{"$f":"MIN(OFFSET(Female!CG$18,'Female Rev'!$A24-35,0),0.03999)","v":0.01},{"$f":"MIN(OFFSET(Female!CH$18,'Female Rev'!$A24-35,0),0.03999)","v":0.01}]
[73,73,{"$f":"MIN(OFFSET(Female!B$18,'Female Rev'!$A25-35,0),0.03999)","v":1.3100000000000001E-2},{"$f":"MIN(OFFSET(Female!C$18,'Female Rev'!$A25-35,0),0.03999)","v":1.3100000000000001E-2},{"$f":"MIN(OFFSET(Female!D$18,'Female Rev'!$A25-35,0),0.03999)","v":1.2999999999999999E-2},{"$f":"MIN(OFFSET(Female!E$18,'Female Rev'!$A25-35,0),0.03999)","v":1.29E-2},{"$f":"MIN(OFFSET(Female!F$18,'Female Rev'!$A25-35,0),0.03999)","v":1.26E-2},{"$f":"MIN(OFFSET(Female!G$18,'Female Rev'!$A25-35,0),0.03999)","v":1.24E-2},{"$f":"MIN(OFFSET(Female!H$18,'Female Rev'!$A25-35,0),0.03999)","v":1.23E-2},{"$f":"MIN(OFFSET(Female!I$18,'Female Rev'!$A25-35,0),0.03999)","v":1.23E-2},{"$f":"MIN(OFFSET(Female!J$18,'Female Rev'!$A25-35,0),0.03999)","v":1.24E-2},{"$f":"MIN(OFFSET(Female!K$18,'Female Rev'!$A25-35,0),0.03999)","v":1.26E-2},{"$f":"MIN(OFFSET(Female!L$18,'Female Rev'!$A25-35,0),0.03999)","v":1.2800000000000001E-2},{"$f":"MIN(OFFSET(Female!M$18,'Female Rev'!$A25-35,0),0.03999)","v":1.32E-2},{"$f":"MIN(OFFSET(Female!N$18,'Female Rev'!$A25-35,0),0.03999)","v":1.37E-2},{"$f":"MIN(OFFSET(Female!O$18,'Female Rev'!$A25-35,0),0.03999)","v":1.43E-2},{"$f":"MIN(OFFSET(Female!P$18,'Female Rev'!$A25-35,0),0.03999)","v":1.49E-2},{"$f":"MIN(OFFSET(Female!Q$18,'Female Rev'!$A25-35,0),0.03999)","v":1.5599999999999999E-2},{"$f":"MIN(OFFSET(Female!R$18,'Female Rev'!$A25-35,0),0.03999)","v":1.6400000000000001E-2},{"$f":"MIN(OFFSET(Female!S$18,'Female Rev'!$A25-35,0),0.03999)","v":1.7100000000000001E-2},{"$f":"MIN(OFFSET(Female!T$18,'Female Rev'!$A25-35,0),0.03999)","v":1.78E-2},{"$f":"MIN(OFFSET(Female!U$18,'Female Rev'!$A25-35,0),0.03999)","v":1.84E-2},{"$f":"MIN(OFFSET(Female!V$18,'Female Rev'!$A25-35,0),0.03999)","v":1.8800000000000001E-2},{"$f":"MIN(OFFSET(Female!W$18,'Female Rev'!$A25-35,0),0.03999)","v":1.9099999999999999E-2},{"$f":"MIN(OFFSET(Female!X$18,'Female Rev'!$A25-35,0),0.03999)","v":1.9099999999999999E-2},{"$f":"MIN(OFFSET(Female!Y$18,'Female Rev'!$A25-35,0),0.03999)","v":1.8700000000000001E-2},{"$f":"MIN(OFFSET(Female!Z$18,'Female Rev'!$A25-35,0),0.03999)","v":1.78E-2},{"$f":"MIN(OFFSET(Female!AA$18,'Female Rev'!$A25-35,0),0.03999)","v":1.66E-2},{"$f":"MIN(OFFSET(Female!AB$18,'Female Rev'!$A25-35,0),0.03999)","v":1.49E-2},{"$f":"MIN(OFFSET(Female!AC$18,'Female Rev'!$A25-35,0),0.03999)","v":1.3100000000000001E-2},{"$f":"MIN(OFFSET(Female!AD$18,'Female Rev'!$A25-35,0),0.03999)","v":1.12E-2},{"$f":"MIN(OFFSET(Female!AE$18,'Female Rev'!$A25-35,0),0.03999)","v":9.4000000000000004E-3},{"$f":"MIN(OFFSET(Female!AF$18,'Female Rev'!$A25-35,0),0.03999)","v":7.9000000000000008E-3},{"$f":"MIN(OFFSET(Female!AG$18,'Female Rev'!$A25-35,0),0.03999)","v":6.6E-3},{"$f":"MIN(OFFSET(Female!AH$18,'Female Rev'!$A25-35,0),0.03999)","v":5.5999999999999999E-3},{"$f":"MIN(OFFSET(Female!AI$18,'Female Rev'!$A25-35,0),0.03999)","v":5.0000000000000001E-3},{"$f":"MIN(OFFSET(Female!AJ$18,'Female Rev'!$A25-35,0),0.03999)","v":4.7000000000000002E-3},{"$f":"MIN(OFFSET(Female!AK$18,'Female Rev'!$A25-35,0),0.03999)","v":4.7000000000000002E-3},{"$f":"MIN(OFFSET(Female!AL$18,'Female Rev'!$A25-35,0),0.03999)","v":4.8999999999999998E-3},{"$f":"MIN(OFFSET(Female!AM$18,'Female Rev'!$A25-35,0),0.03999)","v":5.0000000000000001E-3},{"$f":"MIN(OFFSET(Female!AN$18,'Female Rev'!$A25-35,0),0.03999)","v":5.1000000000000004E-3},{"$f":"MIN(OFFSET(Female!AO$18,'Female Rev'!$A25-35,0),0.03999)","v":5.0000000000000001E-3},{"$f":"MIN(OFFSET(Female!AP$18,'Female Rev'!$A25-35,0),0.03999)","v":4.7000000000000002E-3},{"$f":"MIN(OFFSET(Female!AQ$18,'Female Rev'!$A25-35,0),0.03999)","v":4.4000000000000003E-3},{"$f":"MIN(OFFSET(Female!AR$18,'Female Rev'!$A25-35,0),0.03999)","v":4.1000000000000003E-3},{"$f":"MIN(OFFSET(Female!AS$18,'Female Rev'!$A25-35,0),0.03999)","v":4.1000000000000003E-3},{"$f":"MIN(OFFSET(Female!AT$18,'Female Rev'!$A25-35,0),0.03999)","v":4.3E-3},{"$f":"MIN(OFFSET(Female!AU$18,'Female Rev'!$A25-35,0),0.03999)","v":4.7999999999999996E-3},{"$f":"MIN(OFFSET(Female!AV$18,'Female Rev'!$A25-35,0),0.03999)","v":5.5999999999999999E-3},{"$f":"MIN(OFFSET(Female!AW$18,'Female Rev'!$A25-35,0),0.03999)","v":6.6E-3},{"$f":"MIN(OFFSET(Female!AX$18,'Female Rev'!$A25-35,0),0.03999)","v":7.9000000000000008E-3},{"$f":"MIN(OFFSET(Female!AY$18,'Female Rev'!$A25-35,0),0.03999)","v":9.4999999999999998E-3},{"$f":"MIN(OFFSET(Female!AZ$18,'Female Rev'!$A25-35,0),0.03999)","v":1.12E-2},{"$f":"MIN(OFFSET(Female!BA$18,'Female Rev'!$A25-35,0),0.03999)","v":1.2800000000000001E-2},{"$f":"MIN(OFFSET(Female!BB$18,'Female Rev'!$A25-35,0),0.03999)","v":1.44E-2},{"$f":"MIN(OFFSET(Female!BC$18,'Female Rev'!$A25-35,0),0.03999)","v":1.5699999999999999E-2},{"$f":"MIN(OFFSET(Female!BD$18,'Female Rev'!$A25-35,0),0.03999)","v":1.66E-2},{"$f":"MIN(OFFSET(Female!BE$18,'Female Rev'!$A25-35,0),0.03999)","v":1.7100000000000001E-2},{"$f":"MIN(OFFSET(Female!BF$18,'Female Rev'!$A25-35,0),0.03999)","v":1.72E-2},{"$f":"MIN(OFFSET(Female!BG$18,'Female Rev'!$A25-35,0),0.03999)","v":1.6899999999999998E-2},{"$f":"MIN(OFFSET(Female!BH$18,'Female Rev'!$A25-35,0),0.03999)","v":1.6400000000000001E-2},{"$f":"MIN(OFFSET(Female!BI$18,'Female Rev'!$A25-35,0),0.03999)","v":1.55E-2},{"$f":"MIN(OFFSET(Female!BJ$18,'Female Rev'!$A25-35,0),0.03999)","v":1.4500000000000001E-2},{"$f":"MIN(OFFSET(Female!BK$18,'Female Rev'!$A25-35,0),0.03999)","v":1.35E-2},{"$f":"MIN(OFFSET(Female!BL$18,'Female Rev'!$A25-35,0),0.03999)","v":1.2500000000000001E-2},{"$f":"MIN(OFFSET(Female!BM$18,'Female Rev'!$A25-35,0),0.03999)","v":1.18E-2},{"$f":"MIN(OFFSET(Female!BN$18,'Female Rev'!$A25-35,0),0.03999)","v":1.1299999999999999E-2},{"$f":"MIN(OFFSET(Female!BO$18,'Female Rev'!$A25-35,0),0.03999)","v":1.12E-2},{"$f":"MIN(OFFSET(Female!BP$18,'Female Rev'!$A25-35,0),0.03999)","v":1.09E-2},{"$f":"MIN(OFFSET(Female!BQ$18,'Female Rev'!$A25-35,0),0.03999)","v":1.06E-2},{"$f":"MIN(OFFSET(Female!BR$18,'Female Rev'!$A25-35,0),0.03999)","v":1.0200000000000001E-2},{"$f":"MIN(OFFSET(Female!BS$18,'Female Rev'!$A25-35,0),0.03999)","v":9.7000000000000003E-3},{"$f":"MIN(OFFSET(Female!BT$18,'Female Rev'!$A25-35,0),0.03999)","v":9.1999999999999998E-3},{"$f":"MIN(OFFSET(Female!BU$18,'Female Rev'!$A25-35,0),0.03999)","v":8.6999999999999994E-3},{"$f":"MIN(OFFSET(Female!BV$18,'Female Rev'!$A25-35,0),0.03999)","v":8.3000000000000001E-3},{"$f":"MIN(OFFSET(Female!BW$18,'Female Rev'!$A25-35,0),0.03999)","v":8.0000000000000002E-3},{"$f":"MIN(OFFSET(Female!BX$18,'Female Rev'!$A25-35,0),0.03999)","v":7.7999999999999996E-3},{"$f":"MIN(OFFSET(Female!BY$18,'Female Rev'!$A25-35,0),0.03999)","v":7.7999999999999996E-3},{"$f":"MIN(OFFSET(Female!BZ$18,'Female Rev'!$A25-35,0),0.03999)","v":7.9000000000000008E-3},{"$f":"MIN(OFFSET(Female!CA$18,'Female Rev'!$A25-35,0),0.03999)","v":8.2000000000000007E-3},{"$f":"MIN(OFFSET(Female!CB$18,'Female Rev'!$A25-35,0),0.03999)","v":8.5000000000000006E-3},{"$f":"MIN(OFFSET(Female!CC$18,'Female Rev'!$A25-35,0),0.03999)","v":8.8999999999999999E-3},{"$f":"MIN(OFFSET(Female!CD$18,'Female Rev'!$A25-35,0),0.03999)","v":9.2999999999999992E-3},{"$f":"MIN(OFFSET(Female!CE$18,'Female Rev'!$A25-35,0),0.03999)","v":9.5999999999999992E-3},{"$f":"MIN(OFFSET(Female!CF$18,'Female Rev'!$A25-35,0),0.03999)","v":9.7999999999999997E-3},{"$f":"MIN(OFFSET(Female!CG$18,'Female Rev'!$A25-35,0),0.03999)","v":0.01},{"$f":"MIN(OFFSET(Female!CH$18,'Female Rev'!$A25-35,0),0.03999)","v":0.01}]
[72,72,{"$f":"MIN(OFFSET(Female!B$18,'Female Rev'!$A26-35,0),0.03999)","v":1.34E-2},{"$f":"MIN(OFFSET(Female!C$18,'Female Rev'!$A26-35,0),0.03999)","v":1.34E-2},{"$f":"MIN(OFFSET(Female!D$18,'Female Rev'!$A26-35,0),0.03999)","v":1.3299999999999999E-2},{"$f":"MIN(OFFSET(Female!E$18,'Female Rev'!$A26-35,0),0.03999)","v":1.32E-2},{"$f":"MIN(OFFSET(Female!F$18,'Female Rev'!$A26-35,0),0.03999)","v":1.29E-2},{"$f":"MIN(OFFSET(Female!G$18,'Female Rev'!$A26-35,0),0.03999)","v":1.2699999999999999E-2},{"$f":"MIN(OFFSET(Female!H$18,'Female Rev'!$A26-35,0),0.03999)","v":1.2500000000000001E-2},{"$f":"MIN(OFFSET(Female!I$18,'Female Rev'!$A26-35,0),0.03999)","v":1.24E-2},{"$f":"MIN(OFFSET(Female!J$18,'Female Rev'!$A26-35,0),0.03999)","v":1.2500000000000001E-2},{"$f":"MIN(OFFSET(Female!K$18,'Female Rev'!$A26-35,0),0.03999)","v":1.26E-2},{"$f":"MIN(OFFSET(Female!L$18,'Female Rev'!$A26-35,0),0.03999)","v":1.29E-2},{"$f":"MIN(OFFSET(Female!M$18,'Female Rev'!$A26-35,0),0.03999)","v":1.32E-2},{"$f":"MIN(OFFSET(Female!N$18,'Female Rev'!$A26-35,0),0.03999)","v":1.3599999999999999E-2},{"$f":"MIN(OFFSET(Female!O$18,'Female Rev'!$A26-35,0),0.03999)","v":1.4200000000000001E-2},{"$f":"MIN(OFFSET(Female!P$18,'Female Rev'!$A26-35,0),0.03999)","v":1.4800000000000001E-2},{"$f":"MIN(OFFSET(Female!Q$18,'Female Rev'!$A26-35,0),0.03999)","v":1.55E-2},{"$f":"MIN(OFFSET(Female!R$18,'Female Rev'!$A26-35,0),0.03999)","v":1.6299999999999999E-2},{"$f":"MIN(OFFSET(Female!S$18,'Female Rev'!$A26-35,0),0.03999)","v":1.7000000000000001E-2},{"$f":"MIN(OFFSET(Female!T$18,'Female Rev'!$A26-35,0),0.03999)","v":1.77E-2},{"$f":"MIN(OFFSET(Female!U$18,'Female Rev'!$A26-35,0),0.03999)","v":1.8200000000000001E-2},{"$f":"MIN(OFFSET(Female!V$18,'Female Rev'!$A26-35,0),0.03999)","v":1.8599999999999998E-2},{"$f":"MIN(OFFSET(Female!W$18,'Female Rev'!$A26-35,0),0.03999)","v":1.8800000000000001E-2},{"$f":"MIN(OFFSET(Female!X$18,'Female Rev'!$A26-35,0),0.03999)","v":1.8700000000000001E-2},{"$f":"MIN(OFFSET(Female!Y$18,'Female Rev'!$A26-35,0),0.03999)","v":1.83E-2},{"$f":"MIN(OFFSET(Female!Z$18,'Female Rev'!$A26-35,0),0.03999)","v":1.7399999999999999E-2},{"$f":"MIN(OFFSET(Female!AA$18,'Female Rev'!$A26-35,0),0.03999)","v":1.6E-2},{"$f":"MIN(OFFSET(Female!AB$18,'Female Rev'!$A26-35,0),0.03999)","v":1.44E-2},{"$f":"MIN(OFFSET(Female!AC$18,'Female Rev'!$A26-35,0),0.03999)","v":1.2500000000000001E-2},{"$f":"MIN(OFFSET(Female!AD$18,'Female Rev'!$A26-35,0),0.03999)","v":1.06E-2},{"$f":"MIN(OFFSET(Female!AE$18,'Female Rev'!$A26-35,0),0.03999)","v":8.8999999999999999E-3},{"$f":"MIN(OFFSET(Female!AF$18,'Female Rev'!$A26-35,0),0.03999)","v":7.4000000000000003E-3},{"$f":"MIN(OFFSET(Female!AG$18,'Female Rev'!$A26-35,0),0.03999)","v":6.1999999999999998E-3},{"$f":"MIN(OFFSET(Female!AH$18,'Female Rev'!$A26-35,0),0.03999)","v":5.1999999999999998E-3},{"$f":"MIN(OFFSET(Female!AI$18,'Female Rev'!$A26-35,0),0.03999)","v":4.7000000000000002E-3},{"$f":"MIN(OFFSET(Female!AJ$18,'Female Rev'!$A26-35,0),0.03999)","v":4.4999999999999997E-3},{"$f":"MIN(OFFSET(Female!AK$18,'Female Rev'!$A26-35,0),0.03999)","v":4.5999999999999999E-3},{"$f":"MIN(OFFSET(Female!AL$18,'Female Rev'!$A26-35,0),0.03999)","v":4.7999999999999996E-3},{"$f":"MIN(OFFSET(Female!AM$18,'Female Rev'!$A26-35,0),0.03999)","v":5.1000000000000004E-3},{"$f":"MIN(OFFSET(Female!AN$18,'Female Rev'!$A26-35,0),0.03999)","v":5.1999999999999998E-3},{"$f":"MIN(OFFSET(Female!AO$18,'Female Rev'!$A26-35,0),0.03999)","v":5.1999999999999998E-3},{"$f":"MIN(OFFSET(Female!AP$18,'Female Rev'!$A26-35,0),0.03999)","v":4.8999999999999998E-3},{"$f":"MIN(OFFSET(Female!AQ$18,'Female Rev'!$A26-35,0),0.03999)","v":4.5999999999999999E-3},{"$f":"MIN(OFFSET(Female!AR$18,'Female Rev'!$A26-35,0),0.03999)","v":4.4999999999999997E-3},{"$f":"MIN(OFFSET(Female!AS$18,'Female Rev'!$A26-35,0),0.03999)","v":4.4999999999999997E-3},{"$f":"MIN(OFFSET(Female!AT$18,'Female Rev'!$A26-35,0),0.03999)","v":4.7000000000000002E-3},{"$f":"MIN(OFFSET(Female!AU$18,'Female Rev'!$A26-35,0),0.03999)","v":5.3E-3},{"$f":"MIN(OFFSET(Female!AV$18,'Female Rev'!$A26-35,0),0.03999)","v":6.1000000000000004E-3},{"$f":"MIN(OFFSET(Female!AW$18,'Female Rev'!$A26-35,0),0.03999)","v":7.1999999999999998E-3},{"$f":"MIN(OFFSET(Female!AX$18,'Female Rev'!$A26-35,0),0.03999)","v":8.5000000000000006E-3},{"$f":"MIN(OFFSET(Female!AY$18,'Female Rev'!$A26-35,0),0.03999)","v":1.0200000000000001E-2},{"$f":"MIN(OFFSET(Female!AZ$18,'Female Rev'!$A26-35,0),0.03999)","v":1.1900000000000001E-2},{"$f":"MIN(OFFSET(Female!BA$18,'Female Rev'!$A26-35,0),0.03999)","v":1.3599999999999999E-2},{"$f":"MIN(OFFSET(Female!BB$18,'Female Rev'!$A26-35,0),0.03999)","v":1.5100000000000001E-2},{"$f":"MIN(OFFSET(Female!BC$18,'Female Rev'!$A26-35,0),0.03999)","v":1.6299999999999999E-2},{"$f":"MIN(OFFSET(Female!BD$18,'Female Rev'!$A26-35,0),0.03999)","v":1.72E-2},{"$f":"MIN(OFFSET(Female!BE$18,'Female Rev'!$A26-35,0),0.03999)","v":1.7600000000000001E-2},{"$f":"MIN(OFFSET(Female!BF$18,'Female Rev'!$A26-35,0),0.03999)","v":1.77E-2},{"$f":"MIN(OFFSET(Female!BG$18,'Female Rev'!$A26-35,0),0.03999)","v":1.7399999999999999E-2},{"$f":"MIN(OFFSET(Female!BH$18,'Female Rev'!$A26-35,0),0.03999)","v":1.67E-2},{"$f":"MIN(OFFSET(Female!BI$18,'Female Rev'!$A26-35,0),0.03999)","v":1.5800000000000002E-2},{"$f":"MIN(OFFSET(Female!BJ$18,'Female Rev'!$A26-35,0),0.03999)","v":1.47E-2},{"$f":"MIN(OFFSET(Female!BK$18,'Female Rev'!$A26-35,0),0.03999)","v":1.35E-2},{"$f":"MIN(OFFSET(Female!BL$18,'Female Rev'!$A26-35,0),0.03999)","v":1.2500000000000001E-2},{"$f":"MIN(OFFSET(Female!BM$18,'Female Rev'!$A26-35,0),0.03999)","v":1.17E-2},{"$f":"MIN(OFFSET(Female!BN$18,'Female Rev'!$A26-35,0),0.03999)","v":1.11E-2},{"$f":"MIN(OFFSET(Female!BO$18,'Female Rev'!$A26-35,0),0.03999)","v":1.09E-2},{"$f":"MIN(OFFSET(Female!BP$18,'Female Rev'!$A26-35,0),0.03999)","v":1.06E-2},{"$f":"MIN(OFFSET(Female!BQ$18,'Female Rev'!$A26-35,0),0.03999)","v":1.03E-2},{"$f":"MIN(OFFSET(Female!BR$18,'Female Rev'!$A26-35,0),0.03999)","v":9.7999999999999997E-3},{"$f":"MIN(OFFSET(Female!BS$18,'Female Rev'!$A26-35,0),0.03999)","v":9.1999999999999998E-3},{"$f":"MIN(OFFSET(Female!BT$18,'Female Rev'!$A26-35,0),0.03999)","v":8.6999999999999994E-3},{"$f":"MIN(OFFSET(Female!BU$18,'Female Rev'!$A26-35,0),0.03999)","v":8.2000000000000007E-3},{"$f":"MIN(OFFSET(Female!BV$18,'Female Rev'!$A26-35,0),0.03999)","v":7.7000000000000002E-3},{"$f":"MIN(OFFSET(Female!BW$18,'Female Rev'!$A26-35,0),0.03999)","v":7.4999999999999997E-3},{"$f":"MIN(OFFSET(Female!BX$18,'Female Rev'!$A26-35,0),0.03999)","v":7.4000000000000003E-3},{"$f":"MIN(OFFSET(Female!BY$18,'Female Rev'!$A26-35,0),0.03999)","v":7.4999999999999997E-3},{"$f":"MIN(OFFSET(Female!BZ$18,'Female Rev'!$A26-35,0),0.03999)","v":7.7000000000000002E-3},{"$f":"MIN(OFFSET(Female!CA$18,'Female Rev'!$A26-35,0),0.03999)","v":8.0999999999999996E-3},{"$f":"MIN(OFFSET(Female!CB$18,'Female Rev'!$A26-35,0),0.03999)","v":8.5000000000000006E-3},{"$f":"MIN(OFFSET(Female!CC$18,'Female Rev'!$A26-35,0),0.03999)","v":8.8999999999999999E-3},{"$f":"MIN(OFFSET(Female!CD$18,'Female Rev'!$A26-35,0),0.03999)","v":9.2999999999999992E-3},{"$f":"MIN(OFFSET(Female!CE$18,'Female Rev'!$A26-35,0),0.03999)","v":9.5999999999999992E-3},{"$f":"MIN(OFFSET(Female!CF$18,'Female Rev'!$A26-35,0),0.03999)","v":9.7999999999999997E-3},{"$f":"MIN(OFFSET(Female!CG$18,'Female Rev'!$A26-35,0),0.03999)","v":0.01},{"$f":"MIN(OFFSET(Female!CH$18,'Female Rev'!$A26-35,0),0.03999)","v":0.01}]
[71,71,{"$f":"MIN(OFFSET(Female!B$18,'Female Rev'!$A27-35,0),0.03999)","v":1.37E-2},{"$f":"MIN(OFFSET(Female!C$18,'Female Rev'!$A27-35,0),0.03999)","v":1.37E-2},{"$f":"MIN(OFFSET(Female!D$18,'Female Rev'!$A27-35,0),0.03999)","v":1.3599999999999999E-2},{"$f":"MIN(OFFSET(Female!E$18,'Female Rev'!$A27-35,0),0.03999)","v":1.34E-2},{"$f":"MIN(OFFSET(Female!F$18,'Female Rev'!$A27-35,0),0.03999)","v":1.3100000000000001E-2},{"$f":"MIN(OFFSET(Female!G$18,'Female Rev'!$A27-35,0),0.03999)","v":1.2800000000000001E-2},{"$f":"MIN(OFFSET(Female!H$18,'Female Rev'!$A27-35,0),0.03999)","v":1.26E-2},{"$f":"MIN(OFFSET(Female!I$18,'Female Rev'!$A27-35,0),0.03999)","v":1.26E-2},{"$f":"MIN(OFFSET(Female!J$18,'Female Rev'!$A27-35,0),0.03999)","v":1.26E-2},{"$f":"MIN(OFFSET(Female!K$18,'Female Rev'!$A27-35,0),0.03999)","v":1.2699999999999999E-2},{"$f":"MIN(OFFSET(Female!L$18,'Female Rev'!$A27-35,0),0.03999)","v":1.29E-2},{"$f":"MIN(OFFSET(Female!M$18,'Female Rev'!$A27-35,0),0.03999)","v":1.3100000000000001E-2},{"$f":"MIN(OFFSET(Female!N$18,'Female Rev'!$A27-35,0),0.03999)","v":1.35E-2},{"$f":"MIN(OFFSET(Female!O$18,'Female Rev'!$A27-35,0),0.03999)","v":1.41E-2},{"$f":"MIN(OFFSET(Female!P$18,'Female Rev'!$A27-35,0),0.03999)","v":1.47E-2},{"$f":"MIN(OFFSET(Female!Q$18,'Female Rev'!$A27-35,0),0.03999)","v":1.54E-2},{"$f":"MIN(OFFSET(Female!R$18,'Female Rev'!$A27-35,0),0.03999)","v":1.6199999999999999E-2},{"$f":"MIN(OFFSET(Female!S$18,'Female Rev'!$A27-35,0),0.03999)","v":1.6899999999999998E-2},{"$f":"MIN(OFFSET(Female!T$18,'Female Rev'!$A27-35,0),0.03999)","v":1.7600000000000001E-2},{"$f":"MIN(OFFSET(Female!U$18,'Female Rev'!$A27-35,0),0.03999)","v":1.7999999999999999E-2},{"$f":"MIN(OFFSET(Female!V$18,'Female Rev'!$A27-35,0),0.03999)","v":1.83E-2},{"$f":"MIN(OFFSET(Female!W$18,'Female Rev'!$A27-35,0),0.03999)","v":1.8499999999999999E-2},{"$f":"MIN(OFFSET(Female!X$18,'Female Rev'!$A27-35,0),0.03999)","v":1.84E-2},{"$f":"MIN(OFFSET(Female!Y$18,'Female Rev'!$A27-35,0),0.03999)","v":1.7899999999999999E-2},{"$f":"MIN(OFFSET(Female!Z$18,'Female Rev'!$A27-35,0),0.03999)","v":1.6899999999999998E-2},{"$f":"MIN(OFFSET(Female!AA$18,'Female Rev'!$A27-35,0),0.03999)","v":1.55E-2},{"$f":"MIN(OFFSET(Female!AB$18,'Female Rev'!$A27-35,0),0.03999)","v":1.38E-2},{"$f":"MIN(OFFSET(Female!AC$18,'Female Rev'!$A27-35,0),0.03999)","v":1.2E-2},{"$f":"MIN(OFFSET(Female!AD$18,'Female Rev'!$A27-35,0),0.03999)","v":1.01E-2},{"$f":"MIN(OFFSET(Female!AE$18,'Female Rev'!$A27-35,0),0.03999)","v":8.3999999999999995E-3},{"$f":"MIN(OFFSET(Female!AF$18,'Female Rev'!$A27-35,0),0.03999)","v":7.0000000000000001E-3},{"$f":"MIN(OFFSET(Female!AG$18,'Female Rev'!$A27-35,0),0.03999)","v":5.7999999999999996E-3},{"$f":"MIN(OFFSET(Female!AH$18,'Female Rev'!$A27-35,0),0.03999)","v":4.8999999999999998E-3},{"$f":"MIN(OFFSET(Female!AI$18,'Female Rev'!$A27-35,0),0.03999)","v":4.4000000000000003E-3},{"$f":"MIN(OFFSET(Female!AJ$18,'Female Rev'!$A27-35,0),0.03999)","v":4.3E-3},{"$f":"MIN(OFFSET(Female!AK$18,'Female Rev'!$A27-35,0),0.03999)","v":4.4999999999999997E-3},{"$f":"MIN(OFFSET(Female!AL$18,'Female Rev'!$A27-35,0),0.03999)","v":4.7999999999999996E-3},{"$f":"MIN(OFFSET(Female!AM$18,'Female Rev'!$A27-35,0),0.03999)","v":5.1000000000000004E-3},{"$f":"MIN(OFFSET(Female!AN$18,'Female Rev'!$A27-35,0),0.03999)","v":5.3E-3},{"$f":"MIN(OFFSET(Female!AO$18,'Female Rev'!$A27-35,0),0.03999)","v":5.3E-3},{"$f":"MIN(OFFSET(Female!AP$18,'Female Rev'!$A27-35,0),0.03999)","v":5.1000000000000004E-3},{"$f":"MIN(OFFSET(Female!AQ$18,'Female Rev'!$A27-35,0),0.03999)","v":4.8999999999999998E-3},{"$f":"MIN(OFFSET(Female!AR$18,'Female Rev'!$A27-35,0),0.03999)","v":4.7999999999999996E-3},{"$f":"MIN(OFFSET(Female!AS$18,'Female Rev'!$A27-35,0),0.03999)","v":4.8999999999999998E-3},{"$f":"MIN(OFFSET(Female!AT$18,'Female Rev'!$A27-35,0),0.03999)","v":5.1999999999999998E-3},{"$f":"MIN(OFFSET(Female!AU$18,'Female Rev'!$A27-35,0),0.03999)","v":5.7999999999999996E-3},{"$f":"MIN(OFFSET(Female!AV$18,'Female Rev'!$A27-35,0),0.03999)","v":6.6E-3},{"$f":"MIN(OFFSET(Female!AW$18,'Female Rev'!$A27-35,0),0.03999)","v":7.7999999999999996E-3},{"$f":"MIN(OFFSET(Female!AX$18,'Female Rev'!$A27-35,0),0.03999)","v":9.1999999999999998E-3},{"$f":"MIN(OFFSET(Female!AY$18,'Female Rev'!$A27-35,0),0.03999)","v":1.09E-2},{"$f":"MIN(OFFSET(Female!AZ$18,'Female Rev'!$A27-35,0),0.03999)","v":1.26E-2},{"$f":"MIN(OFFSET(Female!BA$18,'Female Rev'!$A27-35,0),0.03999)","v":1.43E-2},{"$f":"MIN(OFFSET(Female!BB$18,'Female Rev'!$A27-35,0),0.03999)","v":1.5800000000000002E-2},{"$f":"MIN(OFFSET(Female!BC$18,'Female Rev'!$A27-35,0),0.03999)","v":1.7000000000000001E-2},{"$f":"MIN(OFFSET(Female!BD$18,'Female Rev'!$A27-35,0),0.03999)","v":1.77E-2},{"$f":"MIN(OFFSET(Female!BE$18,'Female Rev'!$A27-35,0),0.03999)","v":1.8100000000000002E-2},{"$f":"MIN(OFFSET(Female!BF$18,'Female Rev'!$A27-35,0),0.03999)","v":1.8100000000000002E-2},{"$f":"MIN(OFFSET(Female!BG$18,'Female Rev'!$A27-35,0),0.03999)","v":1.77E-2},{"$f":"MIN(OFFSET(Female!BH$18,'Female Rev'!$A27-35,0),0.03999)","v":1.7000000000000001E-2},{"$f":"MIN(OFFSET(Female!BI$18,'Female Rev'!$A27-35,0),0.03999)","v":1.5900000000000001E-2},{"$f":"MIN(OFFSET(Female!BJ$18,'Female Rev'!$A27-35,0),0.03999)","v":1.47E-2},{"$f":"MIN(OFFSET(Female!BK$18,'Female Rev'!$A27-35,0),0.03999)","v":1.34E-2},{"$f":"MIN(OFFSET(Female!BL$18,'Female Rev'!$A27-35,0),0.03999)","v":1.23E-2},{"$f":"MIN(OFFSET(Female!BM$18,'Female Rev'!$A27-35,0),0.03999)","v":1.14E-2},{"$f":"MIN(OFFSET(Female!BN$18,'Female Rev'!$A27-35,0),0.03999)","v":1.0800000000000001E-2},{"$f":"MIN(OFFSET(Female!BO$18,'Female Rev'!$A27-35,0),0.03999)","v":1.06E-2},{"$f":"MIN(OFFSET(Female!BP$18,'Female Rev'!$A27-35,0),0.03999)","v":1.0200000000000001E-2},{"$f":"MIN(OFFSET(Female!BQ$18,'Female Rev'!$A27-35,0),0.03999)","v":9.7000000000000003E-3},{"$f":"MIN(OFFSET(Female!BR$18,'Female Rev'!$A27-35,0),0.03999)","v":9.1999999999999998E-3},{"$f":"MIN(OFFSET(Female!BS$18,'Female Rev'!$A27-35,0),0.03999)","v":8.6E-3},{"$f":"MIN(OFFSET(Female!BT$18,'Female Rev'!$A27-35,0),0.03999)","v":8.0000000000000002E-3},{"$f":"MIN(OFFSET(Female!BU$18,'Female Rev'!$A27-35,0),0.03999)","v":7.4999999999999997E-3},{"$f":"MIN(OFFSET(Female!BV$18,'Female Rev'!$A27-35,0),0.03999)","v":7.1999999999999998E-3},{"$f":"MIN(OFFSET(Female!BW$18,'Female Rev'!$A27-35,0),0.03999)","v":7.0000000000000001E-3},{"$f":"MIN(OFFSET(Female!BX$18,'Female Rev'!$A27-35,0),0.03999)","v":7.0000000000000001E-3},{"$f":"MIN(OFFSET(Female!BY$18,'Female Rev'!$A27-35,0),0.03999)","v":7.1999999999999998E-3},{"$f":"MIN(OFFSET(Female!BZ$18,'Female Rev'!$A27-35,0),0.03999)","v":7.6E-3},{"$f":"MIN(OFFSET(Female!CA$18,'Female Rev'!$A27-35,0),0.03999)","v":8.0000000000000002E-3},{"$f":"MIN(OFFSET(Female!CB$18,'Female Rev'!$A27-35,0),0.03999)","v":8.5000000000000006E-3},{"$f":"MIN(OFFSET(Female!CC$18,'Female Rev'!$A27-35,0),0.03999)","v":8.8999999999999999E-3},{"$f":"MIN(OFFSET(Female!CD$18,'Female Rev'!$A27-35,0),0.03999)","v":9.2999999999999992E-3},{"$f":"MIN(OFFSET(Female!CE$18,'Female Rev'!$A27-35,0),0.03999)","v":9.5999999999999992E-3},{"$f":"MIN(OFFSET(Female!CF$18,'Female Rev'!$A27-35,0),0.03999)","v":9.7999999999999997E-3},{"$f":"MIN(OFFSET(Female!CG$18,'Female Rev'!$A27-35,0),0.03999)","v":0.01},{"$f":"MIN(OFFSET(Female!CH$18,'Female Rev'!$A27-35,0),0.03999)","v":0.01}]
[70,70,{"$f":"MIN(OFFSET(Female!B$18,'Female Rev'!$A28-35,0),0.03999)","v":1.4E-2},{"$f":"MIN(OFFSET(Female!C$18,'Female Rev'!$A28-35,0),0.03999)","v":1.4E-2},{"$f":"MIN(OFFSET(Female!D$18,'Female Rev'!$A28-35,0),0.03999)","v":1.3899999999999999E-2},{"$f":"MIN(OFFSET(Female!E$18,'Female Rev'!$A28-35,0),0.03999)","v":1.37E-2},{"$f":"MIN(OFFSET(Female!F$18,'Female Rev'!$A28-35,0),0.03999)","v":1.34E-2},{"$f":"MIN(OFFSET(Female!G$18,'Female Rev'!$A28-35,0),0.03999)","v":1.2999999999999999E-2},{"$f":"MIN(OFFSET(Female!H$18,'Female Rev'!$A28-35,0),0.03999)","v":1.2699999999999999E-2},{"$f":"MIN(OFFSET(Female!I$18,'Female Rev'!$A28-35,0),0.03999)","v":1.26E-2},{"$f":"MIN(OFFSET(Female!J$18,'Female Rev'!$A28-35,0),0.03999)","v":1.26E-2},{"$f":"MIN(OFFSET(Female!K$18,'Female Rev'!$A28-35,0),0.03999)","v":1.26E-2},{"$f":"MIN(OFFSET(Female!L$18,'Female Rev'!$A28-35,0),0.03999)","v":1.2800000000000001E-2},{"$f":"MIN(OFFSET(Female!M$18,'Female Rev'!$A28-35,0),0.03999)","v":1.2999999999999999E-2},{"$f":"MIN(OFFSET(Female!N$18,'Female Rev'!$A28-35,0),0.03999)","v":1.34E-2},{"$f":"MIN(OFFSET(Female!O$18,'Female Rev'!$A28-35,0),0.03999)","v":1.3899999999999999E-2},{"$f":"MIN(OFFSET(Female!P$18,'Female Rev'!$A28-35,0),0.03999)","v":1.4500000000000001E-2},{"$f":"MIN(OFFSET(Female!Q$18,'Female Rev'!$A28-35,0),0.03999)","v":1.52E-2},{"$f":"MIN(OFFSET(Female!R$18,'Female Rev'!$A28-35,0),0.03999)","v":1.6E-2},{"$f":"MIN(OFFSET(Female!S$18,'Female Rev'!$A28-35,0),0.03999)","v":1.6799999999999999E-2},{"$f":"MIN(OFFSET(Female!T$18,'Female Rev'!$A28-35,0),0.03999)","v":1.7399999999999999E-2},{"$f":"MIN(OFFSET(Female!U$18,'Female Rev'!$A28-35,0),0.03999)","v":1.78E-2},{"$f":"MIN(OFFSET(Female!V$18,'Female Rev'!$A28-35,0),0.03999)","v":1.7999999999999999E-2},{"$f":"MIN(OFFSET(Female!W$18,'Female Rev'!$A28-35,0),0.03999)","v":1.8100000000000002E-2},{"$f":"MIN(OFFSET(Female!X$18,'Female Rev'!$A28-35,0),0.03999)","v":1.7999999999999999E-2},{"$f":"MIN(OFFSET(Female!Y$18,'Female Rev'!$A28-35,0),0.03999)","v":1.7399999999999999E-2},{"$f":"MIN(OFFSET(Female!Z$18,'Female Rev'!$A28-35,0),0.03999)","v":1.6400000000000001E-2},{"$f":"MIN(OFFSET(Female!AA$18,'Female Rev'!$A28-35,0),0.03999)","v":1.4999999999999999E-2},{"$f":"MIN(OFFSET(Female!AB$18,'Female Rev'!$A28-35,0),0.03999)","v":1.3299999999999999E-2},{"$f":"MIN(OFFSET(Female!AC$18,'Female Rev'!$A28-35,0),0.03999)","v":1.15E-2},{"$f":"MIN(OFFSET(Female!AD$18,'Female Rev'!$A28-35,0),0.03999)","v":9.5999999999999992E-3},{"$f":"MIN(OFFSET(Female!AE$18,'Female Rev'!$A28-35,0),0.03999)","v":7.9000000000000008E-3},{"$f":"MIN(OFFSET(Female!AF$18,'Female Rev'!$A28-35,0),0.03999)","v":6.6E-3},{"$f":"MIN(OFFSET(Female!AG$18,'Female Rev'!$A28-35,0),0.03999)","v":5.4999999999999997E-3},{"$f":"MIN(OFFSET(Female!AH$18,'Female Rev'!$A28-35,0),0.03999)","v":4.7000000000000002E-3},{"$f":"MIN(OFFSET(Female!AI$18,'Female Rev'!$A28-35,0),0.03999)","v":4.3E-3},{"$f":"MIN(OFFSET(Female!AJ$18,'Female Rev'!$A28-35,0),0.03999)","v":4.1999999999999997E-3},{"$f":"MIN(OFFSET(Female!AK$18,'Female Rev'!$A28-35,0),0.03999)","v":4.4000000000000003E-3},{"$f":"MIN(OFFSET(Female!AL$18,'Female Rev'!$A28-35,0),0.03999)","v":4.7999999999999996E-3},{"$f":"MIN(OFFSET(Female!AM$18,'Female Rev'!$A28-35,0),0.03999)","v":5.1000000000000004E-3},{"$f":"MIN(OFFSET(Female!AN$18,'Female Rev'!$A28-35,0),0.03999)","v":5.4000000000000003E-3},{"$f":"MIN(OFFSET(Female!AO$18,'Female Rev'!$A28-35,0),0.03999)","v":5.4999999999999997E-3},{"$f":"MIN(OFFSET(Female!AP$18,'Female Rev'!$A28-35,0),0.03999)","v":5.4000000000000003E-3},{"$f":"MIN(OFFSET(Female!AQ$18,'Female Rev'!$A28-35,0),0.03999)","v":5.1999999999999998E-3},{"$f":"MIN(OFFSET(Female!AR$18,'Female Rev'!$A28-35,0),0.03999)","v":5.1000000000000004E-3},{"$f":"MIN(OFFSET(Female!AS$18,'Female Rev'!$A28-35,0),0.03999)","v":5.3E-3},{"$f":"MIN(OFFSET(Female!AT$18,'Female Rev'!$A28-35,0),0.03999)","v":5.5999999999999999E-3},{"$f":"MIN(OFFSET(Female!AU$18,'Female Rev'!$A28-35,0),0.03999)","v":6.3E-3},{"$f":"MIN(OFFSET(Female!AV$18,'Female Rev'!$A28-35,0),0.03999)","v":7.1999999999999998E-3},{"$f":"MIN(OFFSET(Female!AW$18,'Female Rev'!$A28-35,0),0.03999)","v":8.3999999999999995E-3},{"$f":"MIN(OFFSET(Female!AX$18,'Female Rev'!$A28-35,0),0.03999)","v":9.9000000000000008E-3},{"$f":"MIN(OFFSET(Female!AY$18,'Female Rev'!$A28-35,0),0.03999)","v":1.15E-2},{"$f":"MIN(OFFSET(Female!AZ$18,'Female Rev'!$A28-35,0),0.03999)","v":1.3299999999999999E-2},{"$f":"MIN(OFFSET(Female!BA$18,'Female Rev'!$A28-35,0),0.03999)","v":1.4999999999999999E-2},{"$f":"MIN(OFFSET(Female!BB$18,'Female Rev'!$A28-35,0),0.03999)","v":1.6400000000000001E-2},{"$f":"MIN(OFFSET(Female!BC$18,'Female Rev'!$A28-35,0),0.03999)","v":1.7600000000000001E-2},{"$f":"MIN(OFFSET(Female!BD$18,'Female Rev'!$A28-35,0),0.03999)","v":1.83E-2},{"$f":"MIN(OFFSET(Female!BE$18,'Female Rev'!$A28-35,0),0.03999)","v":1.8599999999999998E-2},{"$f":"MIN(OFFSET(Female!BF$18,'Female Rev'!$A28-35,0),0.03999)","v":1.8499999999999999E-2},{"$f":"MIN(OFFSET(Female!BG$18,'Female Rev'!$A28-35,0),0.03999)","v":1.7899999999999999E-2},{"$f":"MIN(OFFSET(Female!BH$18,'Female Rev'!$A28-35,0),0.03999)","v":1.7100000000000001E-2},{"$f":"MIN(OFFSET(Female!BI$18,'Female Rev'!$A28-35,0),0.03999)","v":1.5900000000000001E-2},{"$f":"MIN(OFFSET(Female!BJ$18,'Female Rev'!$A28-35,0),0.03999)","v":1.4500000000000001E-2},{"$f":"MIN(OFFSET(Female!BK$18,'Female Rev'!$A28-35,0),0.03999)","v":1.32E-2},{"$f":"MIN(OFFSET(Female!BL$18,'Female Rev'!$A28-35,0),0.03999)","v":1.2E-2},{"$f":"MIN(OFFSET(Female!BM$18,'Female Rev'!$A28-35,0),0.03999)","v":1.0999999999999999E-2},{"$f":"MIN(OFFSET(Female!BN$18,'Female Rev'!$A28-35,0),0.03999)","v":1.03E-2},{"$f":"MIN(OFFSET(Female!BO$18,'Female Rev'!$A28-35,0),0.03999)","v":0.01},{"$f":"MIN(OFFSET(Female!BP$18,'Female Rev'!$A28-35,0),0.03999)","v":9.4999999999999998E-3},{"$f":"MIN(OFFSET(Female!BQ$18,'Female Rev'!$A28-35,0),0.03999)","v":8.9999999999999993E-3},{"$f":"MIN(OFFSET(Female!BR$18,'Female Rev'!$A28-35,0),0.03999)","v":8.3999999999999995E-3},{"$f":"MIN(OFFSET(Female!BS$18,'Female Rev'!$A28-35,0),0.03999)","v":7.7999999999999996E-3},{"$f":"MIN(OFFSET(Female!BT$18,'Female Rev'!$A28-35,0),0.03999)","v":7.3000000000000001E-3},{"$f":"MIN(OFFSET(Female!BU$18,'Female Rev'!$A28-35,0),0.03999)","v":6.7999999999999996E-3},{"$f":"MIN(OFFSET(Female!BV$18,'Female Rev'!$A28-35,0),0.03999)","v":6.6E-3},{"$f":"MIN(OFFSET(Female!BW$18,'Female Rev'!$A28-35,0),0.03999)","v":6.6E-3},{"$f":"MIN(OFFSET(Female!BX$18,'Female Rev'!$A28-35,0),0.03999)","v":6.7999999999999996E-3},{"$f":"MIN(OFFSET(Female!BY$18,'Female Rev'!$A28-35,0),0.03999)","v":7.1000000000000004E-3},{"$f":"MIN(OFFSET(Female!BZ$18,'Female Rev'!$A28-35,0),0.03999)","v":7.4999999999999997E-3},{"$f":"MIN(OFFSET(Female!CA$18,'Female Rev'!$A28-35,0),0.03999)","v":8.0000000000000002E-3},{"$f":"MIN(OFFSET(Female!CB$18,'Female Rev'!$A28-35,0),0.03999)","v":8.5000000000000006E-3},{"$f":"MIN(OFFSET(Female!CC$18,'Female Rev'!$A28-35,0),0.03999)","v":8.9999999999999993E-3},{"$f":"MIN(OFFSET(Female!CD$18,'Female Rev'!$A28-35,0),0.03999)","v":9.4000000000000004E-3},{"$f":"MIN(OFFSET(Female!CE$18,'Female Rev'!$A28-35,0),0.03999)","v":9.7000000000000003E-3},{"$f":"MIN(OFFSET(Female!CF$18,'Female Rev'!$A28-35,0),0.03999)","v":9.9000000000000008E-3},{"$f":"MIN(OFFSET(Female!CG$18,'Female Rev'!$A28-35,0),0.03999)","v":0.01},{"$f":"MIN(OFFSET(Female!CH$18,'Female Rev'!$A28-35,0),0.03999)","v":0.01}]
[69,69,{"$f":"MIN(OFFSET(Female!B$18,'Female Rev'!$A29-35,0),0.03999)","v":1.44E-2},{"$f":"MIN(OFFSET(Female!C$18,'Female Rev'!$A29-35,0),0.03999)","v":1.43E-2},{"$f":"MIN(OFFSET(Female!D$18,'Female Rev'!$A29-35,0),0.03999)","v":1.4200000000000001E-2},{"$f":"MIN(OFFSET(Female!E$18,'Female Rev'!$A29-35,0),0.03999)","v":1.3899999999999999E-2},{"$f":"MIN(OFFSET(Female!F$18,'Female Rev'!$A29-35,0),0.03999)","v":1.35E-2},{"$f":"MIN(OFFSET(Female!G$18,'Female Rev'!$A29-35,0),0.03999)","v":1.3100000000000001E-2},{"$f":"MIN(OFFSET(Female!H$18,'Female Rev'!$A29-35,0),0.03999)","v":1.2800000000000001E-2},{"$f":"MIN(OFFSET(Female!I$18,'Female Rev'!$A29-35,0),0.03999)","v":1.2699999999999999E-2},{"$f":"MIN(OFFSET(Female!J$18,'Female Rev'!$A29-35,0),0.03999)","v":1.26E-2},{"$f":"MIN(OFFSET(Female!K$18,'Female Rev'!$A29-35,0),0.03999)","v":1.26E-2},{"$f":"MIN(OFFSET(Female!L$18,'Female Rev'!$A29-35,0),0.03999)","v":1.26E-2},{"$f":"MIN(OFFSET(Female!M$18,'Female Rev'!$A29-35,0),0.03999)","v":1.2800000000000001E-2},{"$f":"MIN(OFFSET(Female!N$18,'Female Rev'!$A29-35,0),0.03999)","v":1.3100000000000001E-2},{"$f":"MIN(OFFSET(Female!O$18,'Female Rev'!$A29-35,0),0.03999)","v":1.37E-2},{"$f":"MIN(OFFSET(Female!P$18,'Female Rev'!$A29-35,0),0.03999)","v":1.43E-2},{"$f":"MIN(OFFSET(Female!Q$18,'Female Rev'!$A29-35,0),0.03999)","v":1.4999999999999999E-2},{"$f":"MIN(OFFSET(Female!R$18,'Female Rev'!$A29-35,0),0.03999)","v":1.5800000000000002E-2},{"$f":"MIN(OFFSET(Female!S$18,'Female Rev'!$A29-35,0),0.03999)","v":1.66E-2},{"$f":"MIN(OFFSET(Female!T$18,'Female Rev'!$A29-35,0),0.03999)","v":1.7100000000000001E-2},{"$f":"MIN(OFFSET(Female!U$18,'Female Rev'!$A29-35,0),0.03999)","v":1.7500000000000002E-2},{"$f":"MIN(OFFSET(Female!V$18,'Female Rev'!$A29-35,0),0.03999)","v":1.77E-2},{"$f":"MIN(OFFSET(Female!W$18,'Female Rev'!$A29-35,0),0.03999)","v":1.77E-2},{"$f":"MIN(OFFSET(Female!X$18,'Female Rev'!$A29-35,0),0.03999)","v":1.7500000000000002E-2},{"$f":"MIN(OFFSET(Female!Y$18,'Female Rev'!$A29-35,0),0.03999)","v":1.7000000000000001E-2},{"$f":"MIN(OFFSET(Female!Z$18,'Female Rev'!$A29-35,0),0.03999)","v":1.6E-2},{"$f":"MIN(OFFSET(Female!AA$18,'Female Rev'!$A29-35,0),0.03999)","v":1.4500000000000001E-2},{"$f":"MIN(OFFSET(Female!AB$18,'Female Rev'!$A29-35,0),0.03999)","v":1.29E-2},{"$f":"MIN(OFFSET(Female!AC$18,'Female Rev'!$A29-35,0),0.03999)","v":1.0999999999999999E-2},{"$f":"MIN(OFFSET(Female!AD$18,'Female Rev'!$A29-35,0),0.03999)","v":9.2999999999999992E-3},{"$f":"MIN(OFFSET(Female!AE$18,'Female Rev'!$A29-35,0),0.03999)","v":7.6E-3},{"$f":"MIN(OFFSET(Female!AF$18,'Female Rev'!$A29-35,0),0.03999)","v":6.3E-3},{"$f":"MIN(OFFSET(Female!AG$18,'Female Rev'!$A29-35,0),0.03999)","v":5.3E-3},{"$f":"MIN(OFFSET(Female!AH$18,'Female Rev'!$A29-35,0),0.03999)","v":4.4999999999999997E-3},{"$f":"MIN(OFFSET(Female!AI$18,'Female Rev'!$A29-35,0),0.03999)","v":4.1999999999999997E-3},{"$f":"MIN(OFFSET(Female!AJ$18,'Female Rev'!$A29-35,0),0.03999)","v":4.1000000000000003E-3},{"$f":"MIN(OFFSET(Female!AK$18,'Female Rev'!$A29-35,0),0.03999)","v":4.4000000000000003E-3},{"$f":"MIN(OFFSET(Female!AL$18,'Female Rev'!$A29-35,0),0.03999)","v":4.7999999999999996E-3},{"$f":"MIN(OFFSET(Female!AM$18,'Female Rev'!$A29-35,0),0.03999)","v":5.1999999999999998E-3},{"$f":"MIN(OFFSET(Female!AN$18,'Female Rev'!$A29-35,0),0.03999)","v":5.5999999999999999E-3},{"$f":"MIN(OFFSET(Female!AO$18,'Female Rev'!$A29-35,0),0.03999)","v":5.7000000000000002E-3},{"$f":"MIN(OFFSET(Female!AP$18,'Female Rev'!$A29-35,0),0.03999)","v":5.5999999999999999E-3},{"$f":"MIN(OFFSET(Female!AQ$18,'Female Rev'!$A29-35,0),0.03999)","v":5.4999999999999997E-3},{"$f":"MIN(OFFSET(Female!AR$18,'Female Rev'!$A29-35,0),0.03999)","v":5.4999999999999997E-3},{"$f":"MIN(OFFSET(Female!AS$18,'Female Rev'!$A29-35,0),0.03999)","v":5.7000000000000002E-3},{"$f":"MIN(OFFSET(Female!AT$18,'Female Rev'!$A29-35,0),0.03999)","v":6.1000000000000004E-3},{"$f":"MIN(OFFSET(Female!AU$18,'Female Rev'!$A29-35,0),0.03999)","v":6.7999999999999996E-3},{"$f":"MIN(OFFSET(Female!AV$18,'Female Rev'!$A29-35,0),0.03999)","v":7.7999999999999996E-3},{"$f":"MIN(OFFSET(Female!AW$18,'Female Rev'!$A29-35,0),0.03999)","v":8.9999999999999993E-3},{"$f":"MIN(OFFSET(Female!AX$18,'Female Rev'!$A29-35,0),0.03999)","v":1.0500000000000001E-2},{"$f":"MIN(OFFSET(Female!AY$18,'Female Rev'!$A29-35,0),0.03999)","v":1.2200000000000001E-2},{"$f":"MIN(OFFSET(Female!AZ$18,'Female Rev'!$A29-35,0),0.03999)","v":1.4E-2},{"$f":"MIN(OFFSET(Female!BA$18,'Female Rev'!$A29-35,0),0.03999)","v":1.5599999999999999E-2},{"$f":"MIN(OFFSET(Female!BB$18,'Female Rev'!$A29-35,0),0.03999)","v":1.7000000000000001E-2},{"$f":"MIN(OFFSET(Female!BC$18,'Female Rev'!$A29-35,0),0.03999)","v":1.8100000000000002E-2},{"$f":"MIN(OFFSET(Female!BD$18,'Female Rev'!$A29-35,0),0.03999)","v":1.8700000000000001E-2},{"$f":"MIN(OFFSET(Female!BE$18,'Female Rev'!$A29-35,0),0.03999)","v":1.89E-2},{"$f":"MIN(OFFSET(Female!BF$18,'Female Rev'!$A29-35,0),0.03999)","v":1.8700000000000001E-2},{"$f":"MIN(OFFSET(Female!BG$18,'Female Rev'!$A29-35,0),0.03999)","v":1.8100000000000002E-2},{"$f":"MIN(OFFSET(Female!BH$18,'Female Rev'!$A29-35,0),0.03999)","v":1.7100000000000001E-2},{"$f":"MIN(OFFSET(Female!BI$18,'Female Rev'!$A29-35,0),0.03999)","v":1.5800000000000002E-2},{"$f":"MIN(OFFSET(Female!BJ$18,'Female Rev'!$A29-35,0),0.03999)","v":1.43E-2},{"$f":"MIN(OFFSET(Female!BK$18,'Female Rev'!$A29-35,0),0.03999)","v":1.2800000000000001E-2},{"$f":"MIN(OFFSET(Female!BL$18,'Female Rev'!$A29-35,0),0.03999)","v":1.15E-2},{"$f":"MIN(OFFSET(Female!BM$18,'Female Rev'!$A29-35,0),0.03999)","v":1.04E-2},{"$f":"MIN(OFFSET(Female!BN$18,'Female Rev'!$A29-35,0),0.03999)","v":9.5999999999999992E-3},{"$f":"MIN(OFFSET(Female!BO$18,'Female Rev'!$A29-35,0),0.03999)","v":9.1999999999999998E-3},{"$f":"MIN(OFFSET(Female!BP$18,'Female Rev'!$A29-35,0),0.03999)","v":8.6999999999999994E-3},{"$f":"MIN(OFFSET(Female!BQ$18,'Female Rev'!$A29-35,0),0.03999)","v":8.0999999999999996E-3},{"$f":"MIN(OFFSET(Female!BR$18,'Female Rev'!$A29-35,0),0.03999)","v":7.4000000000000003E-3},{"$f":"MIN(OFFSET(Female!BS$18,'Female Rev'!$A29-35,0),0.03999)","v":6.8999999999999999E-3},{"$f":"MIN(OFFSET(Female!BT$18,'Female Rev'!$A29-35,0),0.03999)","v":6.4999999999999997E-3},{"$f":"MIN(OFFSET(Female!BU$18,'Female Rev'!$A29-35,0),0.03999)","v":6.1999999999999998E-3},{"$f":"MIN(OFFSET(Female!BV$18,'Female Rev'!$A29-35,0),0.03999)","v":6.1000000000000004E-3},{"$f":"MIN(OFFSET(Female!BW$18,'Female Rev'!$A29-35,0),0.03999)","v":6.3E-3},{"$f":"MIN(OFFSET(Female!BX$18,'Female Rev'!$A29-35,0),0.03999)","v":6.6E-3},{"$f":"MIN(OFFSET(Female!BY$18,'Female Rev'!$A29-35,0),0.03999)","v":7.0000000000000001E-3},{"$f":"MIN(OFFSET(Female!BZ$18,'Female Rev'!$A29-35,0),0.03999)","v":7.4999999999999997E-3},{"$f":"MIN(OFFSET(Female!CA$18,'Female Rev'!$A29-35,0),0.03999)","v":8.0999999999999996E-3},{"$f":"MIN(OFFSET(Female!CB$18,'Female Rev'!$A29-35,0),0.03999)","v":8.6E-3},{"$f":"MIN(OFFSET(Female!CC$18,'Female Rev'!$A29-35,0),0.03999)","v":9.1000000000000004E-3},{"$f":"MIN(OFFSET(Female!CD$18,'Female Rev'!$A29-35,0),0.03999)","v":9.4000000000000004E-3},{"$f":"MIN(OFFSET(Female!CE$18,'Female Rev'!$A29-35,0),0.03999)","v":9.7000000000000003E-3},{"$f":"MIN(OFFSET(Female!CF$18,'Female Rev'!$A29-35,0),0.03999)","v":9.9000000000000008E-3},{"$f":"MIN(OFFSET(Female!CG$18,'Female Rev'!$A29-35,0),0.03999)","v":0.01},{"$f":"MIN(OFFSET(Female!CH$18,'Female Rev'!$A29-35,0),0.03999)","v":0.01}]
[68,68,{"$f":"MIN(OFFSET(Female!B$18,'Female Rev'!$A30-35,0),0.03999)","v":1.47E-2},{"$f":"MIN(OFFSET(Female!C$18,'Female Rev'!$A30-35,0),0.03999)","v":1.46E-2},{"$f":"MIN(OFFSET(Female!D$18,'Female Rev'!$A30-35,0),0.03999)","v":1.4500000000000001E-2},{"$f":"MIN(OFFSET(Female!E$18,'Female Rev'!$A30-35,0),0.03999)","v":1.4200000000000001E-2},{"$f":"MIN(OFFSET(Female!F$18,'Female Rev'!$A30-35,0),0.03999)","v":1.37E-2},{"$f":"MIN(OFFSET(Female!G$18,'Female Rev'!$A30-35,0),0.03999)","v":1.3299999999999999E-2},{"$f":"MIN(OFFSET(Female!H$18,'Female Rev'!$A30-35,0),0.03999)","v":1.29E-2},{"$f":"MIN(OFFSET(Female!I$18,'Female Rev'!$A30-35,0),0.03999)","v":1.2699999999999999E-2},{"$f":"MIN(OFFSET(Female!J$18,'Female Rev'!$A30-35,0),0.03999)","v":1.2500000000000001E-2},{"$f":"MIN(OFFSET(Female!K$18,'Female Rev'!$A30-35,0),0.03999)","v":1.24E-2},{"$f":"MIN(OFFSET(Female!L$18,'Female Rev'!$A30-35,0),0.03999)","v":1.24E-2},{"$f":"MIN(OFFSET(Female!M$18,'Female Rev'!$A30-35,0),0.03999)","v":1.2500000000000001E-2},{"$f":"MIN(OFFSET(Female!N$18,'Female Rev'!$A30-35,0),0.03999)","v":1.2800000000000001E-2},{"$f":"MIN(OFFSET(Female!O$18,'Female Rev'!$A30-35,0),0.03999)","v":1.34E-2},{"$f":"MIN(OFFSET(Female!P$18,'Female Rev'!$A30-35,0),0.03999)","v":1.4E-2},{"$f":"MIN(OFFSET(Female!Q$18,'Female Rev'!$A30-35,0),0.03999)","v":1.47E-2},{"$f":"MIN(OFFSET(Female!R$18,'Female Rev'!$A30-35,0),0.03999)","v":1.55E-2},{"$f":"MIN(OFFSET(Female!S$18,'Female Rev'!$A30-35,0),0.03999)","v":1.6299999999999999E-2},{"$f":"MIN(OFFSET(Female!T$18,'Female Rev'!$A30-35,0),0.03999)","v":1.6899999999999998E-2},{"$f":"MIN(OFFSET(Female!U$18,'Female Rev'!$A30-35,0),0.03999)","v":1.7100000000000001E-2},{"$f":"MIN(OFFSET(Female!V$18,'Female Rev'!$A30-35,0),0.03999)","v":1.7299999999999999E-2},{"$f":"MIN(OFFSET(Female!W$18,'Female Rev'!$A30-35,0),0.03999)","v":1.7299999999999999E-2},{"$f":"MIN(OFFSET(Female!X$18,'Female Rev'!$A30-35,0),0.03999)","v":1.7100000000000001E-2},{"$f":"MIN(OFFSET(Female!Y$18,'Female Rev'!$A30-35,0),0.03999)","v":1.6500000000000001E-2},{"$f":"MIN(OFFSET(Female!Z$18,'Female Rev'!$A30-35,0),0.03999)","v":1.55E-2},{"$f":"MIN(OFFSET(Female!AA$18,'Female Rev'!$A30-35,0),0.03999)","v":1.41E-2},{"$f":"MIN(OFFSET(Female!AB$18,'Female Rev'!$A30-35,0),0.03999)","v":1.2500000000000001E-2},{"$f":"MIN(OFFSET(Female!AC$18,'Female Rev'!$A30-35,0),0.03999)","v":1.0699999999999999E-2},{"$f":"MIN(OFFSET(Female!AD$18,'Female Rev'!$A30-35,0),0.03999)","v":8.9999999999999993E-3},{"$f":"MIN(OFFSET(Female!AE$18,'Female Rev'!$A30-35,0),0.03999)","v":7.4000000000000003E-3},{"$f":"MIN(OFFSET(Female!AF$18,'Female Rev'!$A30-35,0),0.03999)","v":6.1999999999999998E-3},{"$f":"MIN(OFFSET(Female!AG$18,'Female Rev'!$A30-35,0),0.03999)","v":5.1999999999999998E-3},{"$f":"MIN(OFFSET(Female!AH$18,'Female Rev'!$A30-35,0),0.03999)","v":4.4999999999999997E-3},{"$f":"MIN(OFFSET(Female!AI$18,'Female Rev'!$A30-35,0),0.03999)","v":4.1000000000000003E-3},{"$f":"MIN(OFFSET(Female!AJ$18,'Female Rev'!$A30-35,0),0.03999)","v":4.1999999999999997E-3},{"$f":"MIN(OFFSET(Female!AK$18,'Female Rev'!$A30-35,0),0.03999)","v":4.4000000000000003E-3},{"$f":"MIN(OFFSET(Female!AL$18,'Female Rev'!$A30-35,0),0.03999)","v":4.8999999999999998E-3},{"$f":"MIN(OFFSET(Female!AM$18,'Female Rev'!$A30-35,0),0.03999)","v":5.4000000000000003E-3},{"$f":"MIN(OFFSET(Female!AN$18,'Female Rev'!$A30-35,0),0.03999)","v":5.7999999999999996E-3},{"$f":"MIN(OFFSET(Female!AO$18,'Female Rev'!$A30-35,0),0.03999)","v":6.0000000000000001E-3},{"$f":"MIN(OFFSET(Female!AP$18,'Female Rev'!$A30-35,0),0.03999)","v":6.0000000000000001E-3},{"$f":"MIN(OFFSET(Female!AQ$18,'Female Rev'!$A30-35,0),0.03999)","v":5.8999999999999999E-3},{"$f":"MIN(OFFSET(Female!AR$18,'Female Rev'!$A30-35,0),0.03999)","v":5.8999999999999999E-3},{"$f":"MIN(OFFSET(Female!AS$18,'Female Rev'!$A30-35,0),0.03999)","v":6.1000000000000004E-3},{"$f":"MIN(OFFSET(Female!AT$18,'Female Rev'!$A30-35,0),0.03999)","v":6.6E-3},{"$f":"MIN(OFFSET(Female!AU$18,'Female Rev'!$A30-35,0),0.03999)","v":7.4000000000000003E-3},{"$f":"MIN(OFFSET(Female!AV$18,'Female Rev'!$A30-35,0),0.03999)","v":8.3999999999999995E-3},{"$f":"MIN(OFFSET(Female!AW$18,'Female Rev'!$A30-35,0),0.03999)","v":9.7000000000000003E-3},{"$f":"MIN(OFFSET(Female!AX$18,'Female Rev'!$A30-35,0),0.03999)","v":1.11E-2},{"$f":"MIN(OFFSET(Female!AY$18,'Female Rev'!$A30-35,0),0.03999)","v":1.2800000000000001E-2},{"$f":"MIN(OFFSET(Female!AZ$18,'Female Rev'!$A30-35,0),0.03999)","v":1.46E-2},{"$f":"MIN(OFFSET(Female!BA$18,'Female Rev'!$A30-35,0),0.03999)","v":1.6199999999999999E-2},{"$f":"MIN(OFFSET(Female!BB$18,'Female Rev'!$A30-35,0),0.03999)","v":1.7600000000000001E-2},{"$f":"MIN(OFFSET(Female!BC$18,'Female Rev'!$A30-35,0),0.03999)","v":1.8599999999999998E-2},{"$f":"MIN(OFFSET(Female!BD$18,'Female Rev'!$A30-35,0),0.03999)","v":1.9099999999999999E-2},{"$f":"MIN(OFFSET(Female!BE$18,'Female Rev'!$A30-35,0),0.03999)","v":1.9199999999999998E-2},{"$f":"MIN(OFFSET(Female!BF$18,'Female Rev'!$A30-35,0),0.03999)","v":1.89E-2},{"$f":"MIN(OFFSET(Female!BG$18,'Female Rev'!$A30-35,0),0.03999)","v":1.8100000000000002E-2},{"$f":"MIN(OFFSET(Female!BH$18,'Female Rev'!$A30-35,0),0.03999)","v":1.7000000000000001E-2},{"$f":"MIN(OFFSET(Female!BI$18,'Female Rev'!$A30-35,0),0.03999)","v":1.55E-2},{"$f":"MIN(OFFSET(Female!BJ$18,'Female Rev'!$A30-35,0),0.03999)","v":1.3899999999999999E-2},{"$f":"MIN(OFFSET(Female!BK$18,'Female Rev'!$A30-35,0),0.03999)","v":1.2200000000000001E-2},{"$f":"MIN(OFFSET(Female!BL$18,'Female Rev'!$A30-35,0),0.03999)","v":1.0800000000000001E-2},{"$f":"MIN(OFFSET(Female!BM$18,'Female Rev'!$A30-35,0),0.03999)","v":9.5999999999999992E-3},{"$f":"MIN(OFFSET(Female!BN$18,'Female Rev'!$A30-35,0),0.03999)","v":8.6999999999999994E-3},{"$f":"MIN(OFFSET(Female!BO$18,'Female Rev'!$A30-35,0),0.03999)","v":8.2000000000000007E-3},{"$f":"MIN(OFFSET(Female!BP$18,'Female Rev'!$A30-35,0),0.03999)","v":7.6E-3},{"$f":"MIN(OFFSET(Female!BQ$18,'Female Rev'!$A30-35,0),0.03999)","v":6.8999999999999999E-3},{"$f":"MIN(OFFSET(Female!BR$18,'Female Rev'!$A30-35,0),0.03999)","v":6.4000000000000003E-3},{"$f":"MIN(OFFSET(Female!BS$18,'Female Rev'!$A30-35,0),0.03999)","v":5.8999999999999999E-3},{"$f":"MIN(OFFSET(Female!BT$18,'Female Rev'!$A30-35,0),0.03999)","v":5.7000000000000002E-3},{"$f":"MIN(OFFSET(Female!BU$18,'Female Rev'!$A30-35,0),0.03999)","v":5.5999999999999999E-3},{"$f":"MIN(OFFSET(Female!BV$18,'Female Rev'!$A30-35,0),0.03999)","v":5.7000000000000002E-3},{"$f":"MIN(OFFSET(Female!BW$18,'Female Rev'!$A30-35,0),0.03999)","v":6.0000000000000001E-3},{"$f":"MIN(OFFSET(Female!BX$18,'Female Rev'!$A30-35,0),0.03999)","v":6.4999999999999997E-3},{"$f":"MIN(OFFSET(Female!BY$18,'Female Rev'!$A30-35,0),0.03999)","v":7.0000000000000001E-3},{"$f":"MIN(OFFSET(Female!BZ$18,'Female Rev'!$A30-35,0),0.03999)","v":7.6E-3},{"$f":"MIN(OFFSET(Female!CA$18,'Female Rev'!$A30-35,0),0.03999)","v":8.2000000000000007E-3},{"$f":"MIN(OFFSET(Female!CB$18,'Female Rev'!$A30-35,0),0.03999)","v":8.6999999999999994E-3},{"$f":"MIN(OFFSET(Female!CC$18,'Female Rev'!$A30-35,0),0.03999)","v":9.1999999999999998E-3},{"$f":"MIN(OFFSET(Female!CD$18,'Female Rev'!$A30-35,0),0.03999)","v":9.4999999999999998E-3},{"$f":"MIN(OFFSET(Female!CE$18,'Female Rev'!$A30-35,0),0.03999)","v":9.7000000000000003E-3},{"$f":"MIN(OFFSET(Female!CF$18,'Female Rev'!$A30-35,0),0.03999)","v":9.9000000000000008E-3},{"$f":"MIN(OFFSET(Female!CG$18,'Female Rev'!$A30-35,0),0.03999)","v":0.01},{"$f":"MIN(OFFSET(Female!CH$18,'Female Rev'!$A30-35,0),0.03999)","v":0.01}]
[67,67,{"$f":"MIN(OFFSET(Female!B$18,'Female Rev'!$A31-35,0),0.03999)","v":1.5100000000000001E-2},{"$f":"MIN(OFFSET(Female!C$18,'Female Rev'!$A31-35,0),0.03999)","v":1.4999999999999999E-2},{"$f":"MIN(OFFSET(Female!D$18,'Female Rev'!$A31-35,0),0.03999)","v":1.4800000000000001E-2},{"$f":"MIN(OFFSET(Female!E$18,'Female Rev'!$A31-35,0),0.03999)","v":1.4500000000000001E-2},{"$f":"MIN(OFFSET(Female!F$18,'Female Rev'!$A31-35,0),0.03999)","v":1.3899999999999999E-2},{"$f":"MIN(OFFSET(Female!G$18,'Female Rev'!$A31-35,0),0.03999)","v":1.34E-2},{"$f":"MIN(OFFSET(Female!H$18,'Female Rev'!$A31-35,0),0.03999)","v":1.2999999999999999E-2},{"$f":"MIN(OFFSET(Female!I$18,'Female Rev'!$A31-35,0),0.03999)","v":1.2699999999999999E-2},{"$f":"MIN(OFFSET(Female!J$18,'Female Rev'!$A31-35,0),0.03999)","v":1.24E-2},{"$f":"MIN(OFFSET(Female!K$18,'Female Rev'!$A31-35,0),0.03999)","v":1.2200000000000001E-2},{"$f":"MIN(OFFSET(Female!L$18,'Female Rev'!$A31-35,0),0.03999)","v":1.2200000000000001E-2},{"$f":"MIN(OFFSET(Female!M$18,'Female Rev'!$A31-35,0),0.03999)","v":1.2200000000000001E-2},{"$f":"MIN(OFFSET(Female!N$18,'Female Rev'!$A31-35,0),0.03999)","v":1.2500000000000001E-2},{"$f":"MIN(OFFSET(Female!O$18,'Female Rev'!$A31-35,0),0.03999)","v":1.2999999999999999E-2},{"$f":"MIN(OFFSET(Female!P$18,'Female Rev'!$A31-35,0),0.03999)","v":1.3599999999999999E-2},{"$f":"MIN(OFFSET(Female!Q$18,'Female Rev'!$A31-35,0),0.03999)","v":1.44E-2},{"$f":"MIN(OFFSET(Female!R$18,'Female Rev'!$A31-35,0),0.03999)","v":1.52E-2},{"$f":"MIN(OFFSET(Female!S$18,'Female Rev'!$A31-35,0),0.03999)","v":1.6E-2},{"$f":"MIN(OFFSET(Female!T$18,'Female Rev'!$A31-35,0),0.03999)","v":1.6500000000000001E-2},{"$f":"MIN(OFFSET(Female!U$18,'Female Rev'!$A31-35,0),0.03999)","v":1.67E-2},{"$f":"MIN(OFFSET(Female!V$18,'Female Rev'!$A31-35,0),0.03999)","v":1.6799999999999999E-2},{"$f":"MIN(OFFSET(Female!W$18,'Female Rev'!$A31-35,0),0.03999)","v":1.6799999999999999E-2},{"$f":"MIN(OFFSET(Female!X$18,'Female Rev'!$A31-35,0),0.03999)","v":1.66E-2},{"$f":"MIN(OFFSET(Female!Y$18,'Female Rev'!$A31-35,0),0.03999)","v":1.61E-2},{"$f":"MIN(OFFSET(Female!Z$18,'Female Rev'!$A31-35,0),0.03999)","v":1.52E-2},{"$f":"MIN(OFFSET(Female!AA$18,'Female Rev'!$A31-35,0),0.03999)","v":1.38E-2},{"$f":"MIN(OFFSET(Female!AB$18,'Female Rev'!$A31-35,0),0.03999)","v":1.23E-2},{"$f":"MIN(OFFSET(Female!AC$18,'Female Rev'!$A31-35,0),0.03999)","v":1.06E-2},{"$f":"MIN(OFFSET(Female!AD$18,'Female Rev'!$A31-35,0),0.03999)","v":8.8999999999999999E-3},{"$f":"MIN(OFFSET(Female!AE$18,'Female Rev'!$A31-35,0),0.03999)","v":7.4000000000000003E-3},{"$f":"MIN(OFFSET(Female!AF$18,'Female Rev'!$A31-35,0),0.03999)","v":6.1000000000000004E-3},{"$f":"MIN(OFFSET(Female!AG$18,'Female Rev'!$A31-35,0),0.03999)","v":5.1999999999999998E-3},{"$f":"MIN(OFFSET(Female!AH$18,'Female Rev'!$A31-35,0),0.03999)","v":4.4999999999999997E-3},{"$f":"MIN(OFFSET(Female!AI$18,'Female Rev'!$A31-35,0),0.03999)","v":4.1999999999999997E-3},{"$f":"MIN(OFFSET(Female!AJ$18,'Female Rev'!$A31-35,0),0.03999)","v":4.1999999999999997E-3},{"$f":"MIN(OFFSET(Female!AK$18,'Female Rev'!$A31-35,0),0.03999)","v":4.5999999999999999E-3},{"$f":"MIN(OFFSET(Female!AL$18,'Female Rev'!$A31-35,0),0.03999)","v":5.1000000000000004E-3},{"$f":"MIN(OFFSET(Female!AM$18,'Female Rev'!$A31-35,0),0.03999)","v":5.5999999999999999E-3},{"$f":"MIN(OFFSET(Female!AN$18,'Female Rev'!$A31-35,0),0.03999)","v":6.0000000000000001E-3},{"$f":"MIN(OFFSET(Female!AO$18,'Female Rev'!$A31-35,0),0.03999)","v":6.3E-3},{"$f":"MIN(OFFSET(Female!AP$18,'Female Rev'!$A31-35,0),0.03999)","v":6.3E-3},{"$f":"MIN(OFFSET(Female!AQ$18,'Female Rev'!$A31-35,0),0.03999)","v":6.3E-3},{"$f":"MIN(OFFSET(Female!AR$18,'Female Rev'!$A31-35,0),0.03999)","v":6.3E-3},{"$f":"MIN(OFFSET(Female!AS$18,'Female Rev'!$A31-35,0),0.03999)","v":6.6E-3},{"$f":"MIN(OFFSET(Female!AT$18,'Female Rev'!$A31-35,0),0.03999)","v":7.1999999999999998E-3},{"$f":"MIN(OFFSET(Female!AU$18,'Female Rev'!$A31-35,0),0.03999)","v":8.0000000000000002E-3},{"$f":"MIN(OFFSET(Female!AV$18,'Female Rev'!$A31-35,0),0.03999)","v":8.9999999999999993E-3},{"$f":"MIN(OFFSET(Female!AW$18,'Female Rev'!$A31-35,0),0.03999)","v":1.03E-2},{"$f":"MIN(OFFSET(Female!AX$18,'Female Rev'!$A31-35,0),0.03999)","v":1.18E-2},{"$f":"MIN(OFFSET(Female!AY$18,'Female Rev'!$A31-35,0),0.03999)","v":1.34E-2},{"$f":"MIN(OFFSET(Female!AZ$18,'Female Rev'!$A31-35,0),0.03999)","v":1.5100000000000001E-2},{"$f":"MIN(OFFSET(Female!BA$18,'Female Rev'!$A31-35,0),0.03999)","v":1.67E-2},{"$f":"MIN(OFFSET(Female!BB$18,'Female Rev'!$A31-35,0),0.03999)","v":1.7999999999999999E-2},{"$f":"MIN(OFFSET(Female!BC$18,'Female Rev'!$A31-35,0),0.03999)","v":1.89E-2},{"$f":"MIN(OFFSET(Female!BD$18,'Female Rev'!$A31-35,0),0.03999)","v":1.9400000000000001E-2},{"$f":"MIN(OFFSET(Female!BE$18,'Female Rev'!$A31-35,0),0.03999)","v":1.9400000000000001E-2},{"$f":"MIN(OFFSET(Female!BF$18,'Female Rev'!$A31-35,0),0.03999)","v":1.89E-2},{"$f":"MIN(OFFSET(Female!BG$18,'Female Rev'!$A31-35,0),0.03999)","v":1.7999999999999999E-2},{"$f":"MIN(OFFSET(Female!BH$18,'Female Rev'!$A31-35,0),0.03999)","v":1.6799999999999999E-2},{"$f":"MIN(OFFSET(Female!BI$18,'Female Rev'!$A31-35,0),0.03999)","v":1.5100000000000001E-2},{"$f":"MIN(OFFSET(Female!BJ$18,'Female Rev'!$A31-35,0),0.03999)","v":1.3299999999999999E-2},{"$f":"MIN(OFFSET(Female!BK$18,'Female Rev'!$A31-35,0),0.03999)","v":1.15E-2},{"$f":"MIN(OFFSET(Female!BL$18,'Female Rev'!$A31-35,0),0.03999)","v":9.9000000000000008E-3},{"$f":"MIN(OFFSET(Female!BM$18,'Female Rev'!$A31-35,0),0.03999)","v":8.6E-3},{"$f":"MIN(OFFSET(Female!BN$18,'Female Rev'!$A31-35,0),0.03999)","v":7.6E-3},{"$f":"MIN(OFFSET(Female!BO$18,'Female Rev'!$A31-35,0),0.03999)","v":6.8999999999999999E-3},{"$f":"MIN(OFFSET(Female!BP$18,'Female Rev'!$A31-35,0),0.03999)","v":6.3E-3},{"$f":"MIN(OFFSET(Female!BQ$18,'Female Rev'!$A31-35,0),0.03999)","v":5.7000000000000002E-3},{"$f":"MIN(OFFSET(Female!BR$18,'Female Rev'!$A31-35,0),0.03999)","v":5.1999999999999998E-3},{"$f":"MIN(OFFSET(Female!BS$18,'Female Rev'!$A31-35,0),0.03999)","v":5.0000000000000001E-3},{"$f":"MIN(OFFSET(Female!BT$18,'Female Rev'!$A31-35,0),0.03999)","v":4.8999999999999998E-3},{"$f":"MIN(OFFSET(Female!BU$18,'Female Rev'!$A31-35,0),0.03999)","v":5.1000000000000004E-3},{"$f":"MIN(OFFSET(Female!BV$18,'Female Rev'!$A31-35,0),0.03999)","v":5.4000000000000003E-3},{"$f":"MIN(OFFSET(Female!BW$18,'Female Rev'!$A31-35,0),0.03999)","v":5.8999999999999999E-3},{"$f":"MIN(OFFSET(Female!BX$18,'Female Rev'!$A31-35,0),0.03999)","v":6.4999999999999997E-3},{"$f":"MIN(OFFSET(Female!BY$18,'Female Rev'!$A31-35,0),0.03999)","v":7.1000000000000004E-3},{"$f":"MIN(OFFSET(Female!BZ$18,'Female Rev'!$A31-35,0),0.03999)","v":7.7000000000000002E-3},{"$f":"MIN(OFFSET(Female!CA$18,'Female Rev'!$A31-35,0),0.03999)","v":8.3000000000000001E-3},{"$f":"MIN(OFFSET(Female!CB$18,'Female Rev'!$A31-35,0),0.03999)","v":8.8000000000000005E-3},{"$f":"MIN(OFFSET(Female!CC$18,'Female Rev'!$A31-35,0),0.03999)","v":9.1999999999999998E-3},{"$f":"MIN(OFFSET(Female!CD$18,'Female Rev'!$A31-35,0),0.03999)","v":9.4999999999999998E-3},{"$f":"MIN(OFFSET(Female!CE$18,'Female Rev'!$A31-35,0),0.03999)","v":9.7999999999999997E-3},{"$f":"MIN(OFFSET(Female!CF$18,'Female Rev'!$A31-35,0),0.03999)","v":9.9000000000000008E-3},{"$f":"MIN(OFFSET(Female!CG$18,'Female Rev'!$A31-35,0),0.03999)","v":0.01},{"$f":"MIN(OFFSET(Female!CH$18,'Female Rev'!$A31-35,0),0.03999)","v":0.01}]
[66,66,{"$f":"MIN(OFFSET(Female!B$18,'Female Rev'!$A32-35,0),0.03999)","v":1.55E-2},{"$f":"MIN(OFFSET(Female!C$18,'Female Rev'!$A32-35,0),0.03999)","v":1.55E-2},{"$f":"MIN(OFFSET(Female!D$18,'Female Rev'!$A32-35,0),0.03999)","v":1.52E-2},{"$f":"MIN(OFFSET(Female!E$18,'Female Rev'!$A32-35,0),0.03999)","v":1.4800000000000001E-2},{"$f":"MIN(OFFSET(Female!F$18,'Female Rev'!$A32-35,0),0.03999)","v":1.4200000000000001E-2},{"$f":"MIN(OFFSET(Female!G$18,'Female Rev'!$A32-35,0),0.03999)","v":1.3599999999999999E-2},{"$f":"MIN(OFFSET(Female!H$18,'Female Rev'!$A32-35,0),0.03999)","v":1.2999999999999999E-2},{"$f":"MIN(OFFSET(Female!I$18,'Female Rev'!$A32-35,0),0.03999)","v":1.26E-2},{"$f":"MIN(OFFSET(Female!J$18,'Female Rev'!$A32-35,0),0.03999)","v":1.23E-2},{"$f":"MIN(OFFSET(Female!K$18,'Female Rev'!$A32-35,0),0.03999)","v":1.2E-2},{"$f":"MIN(OFFSET(Female!L$18,'Female Rev'!$A32-35,0),0.03999)","v":1.1900000000000001E-2},{"$f":"MIN(OFFSET(Female!M$18,'Female Rev'!$A32-35,0),0.03999)","v":1.1900000000000001E-2},{"$f":"MIN(OFFSET(Female!N$18,'Female Rev'!$A32-35,0),0.03999)","v":1.21E-2},{"$f":"MIN(OFFSET(Female!O$18,'Female Rev'!$A32-35,0),0.03999)","v":1.26E-2},{"$f":"MIN(OFFSET(Female!P$18,'Female Rev'!$A32-35,0),0.03999)","v":1.32E-2},{"$f":"MIN(OFFSET(Female!Q$18,'Female Rev'!$A32-35,0),0.03999)","v":1.3899999999999999E-2},{"$f":"MIN(OFFSET(Female!R$18,'Female Rev'!$A32-35,0),0.03999)","v":1.47E-2},{"$f":"MIN(OFFSET(Female!S$18,'Female Rev'!$A32-35,0),0.03999)","v":1.55E-2},{"$f":"MIN(OFFSET(Female!T$18,'Female Rev'!$A32-35,0),0.03999)","v":1.6E-2},{"$f":"MIN(OFFSET(Female!U$18,'Female Rev'!$A32-35,0),0.03999)","v":1.6199999999999999E-2},{"$f":"MIN(OFFSET(Female!V$18,'Female Rev'!$A32-35,0),0.03999)","v":1.6299999999999999E-2},{"$f":"MIN(OFFSET(Female!W$18,'Female Rev'!$A32-35,0),0.03999)","v":1.6299999999999999E-2},{"$f":"MIN(OFFSET(Female!X$18,'Female Rev'!$A32-35,0),0.03999)","v":1.6199999999999999E-2},{"$f":"MIN(OFFSET(Female!Y$18,'Female Rev'!$A32-35,0),0.03999)","v":1.5800000000000002E-2},{"$f":"MIN(OFFSET(Female!Z$18,'Female Rev'!$A32-35,0),0.03999)","v":1.49E-2},{"$f":"MIN(OFFSET(Female!AA$18,'Female Rev'!$A32-35,0),0.03999)","v":1.3599999999999999E-2},{"$f":"MIN(OFFSET(Female!AB$18,'Female Rev'!$A32-35,0),0.03999)","v":1.2200000000000001E-2},{"$f":"MIN(OFFSET(Female!AC$18,'Female Rev'!$A32-35,0),0.03999)","v":1.06E-2},{"$f":"MIN(OFFSET(Female!AD$18,'Female Rev'!$A32-35,0),0.03999)","v":8.9999999999999993E-3},{"$f":"MIN(OFFSET(Female!AE$18,'Female Rev'!$A32-35,0),0.03999)","v":7.4000000000000003E-3},{"$f":"MIN(OFFSET(Female!AF$18,'Female Rev'!$A32-35,0),0.03999)","v":6.1999999999999998E-3},{"$f":"MIN(OFFSET(Female!AG$18,'Female Rev'!$A32-35,0),0.03999)","v":5.3E-3},{"$f":"MIN(OFFSET(Female!AH$18,'Female Rev'!$A32-35,0),0.03999)","v":4.5999999999999999E-3},{"$f":"MIN(OFFSET(Female!AI$18,'Female Rev'!$A32-35,0),0.03999)","v":4.3E-3},{"$f":"MIN(OFFSET(Female!AJ$18,'Female Rev'!$A32-35,0),0.03999)","v":4.4000000000000003E-3},{"$f":"MIN(OFFSET(Female!AK$18,'Female Rev'!$A32-35,0),0.03999)","v":4.7999999999999996E-3},{"$f":"MIN(OFFSET(Female!AL$18,'Female Rev'!$A32-35,0),0.03999)","v":5.3E-3},{"$f":"MIN(OFFSET(Female!AM$18,'Female Rev'!$A32-35,0),0.03999)","v":5.8999999999999999E-3},{"$f":"MIN(OFFSET(Female!AN$18,'Female Rev'!$A32-35,0),0.03999)","v":6.3E-3},{"$f":"MIN(OFFSET(Female!AO$18,'Female Rev'!$A32-35,0),0.03999)","v":6.6E-3},{"$f":"MIN(OFFSET(Female!AP$18,'Female Rev'!$A32-35,0),0.03999)","v":6.7000000000000002E-3},{"$f":"MIN(OFFSET(Female!AQ$18,'Female Rev'!$A32-35,0),0.03999)","v":6.7000000000000002E-3},{"$f":"MIN(OFFSET(Female!AR$18,'Female Rev'!$A32-35,0),0.03999)","v":6.7999999999999996E-3},{"$f":"MIN(OFFSET(Female!AS$18,'Female Rev'!$A32-35,0),0.03999)","v":7.1000000000000004E-3},{"$f":"MIN(OFFSET(Female!AT$18,'Female Rev'!$A32-35,0),0.03999)","v":7.7000000000000002E-3},{"$f":"MIN(OFFSET(Female!AU$18,'Female Rev'!$A32-35,0),0.03999)","v":8.6E-3},{"$f":"MIN(OFFSET(Female!AV$18,'Female Rev'!$A32-35,0),0.03999)","v":9.7000000000000003E-3},{"$f":"MIN(OFFSET(Female!AW$18,'Female Rev'!$A32-35,0),0.03999)","v":1.09E-2},{"$f":"MIN(OFFSET(Female!AX$18,'Female Rev'!$A32-35,0),0.03999)","v":1.23E-2},{"$f":"MIN(OFFSET(Female!AY$18,'Female Rev'!$A32-35,0),0.03999)","v":1.3899999999999999E-2},{"$f":"MIN(OFFSET(Female!AZ$18,'Female Rev'!$A32-35,0),0.03999)","v":1.5599999999999999E-2},{"$f":"MIN(OFFSET(Female!BA$18,'Female Rev'!$A32-35,0),0.03999)","v":1.7100000000000001E-2},{"$f":"MIN(OFFSET(Female!BB$18,'Female Rev'!$A32-35,0),0.03999)","v":1.83E-2},{"$f":"MIN(OFFSET(Female!BC$18,'Female Rev'!$A32-35,0),0.03999)","v":1.9199999999999998E-2},{"$f":"MIN(OFFSET(Female!BD$18,'Female Rev'!$A32-35,0),0.03999)","v":1.95E-2},{"$f":"MIN(OFFSET(Female!BE$18,'Female Rev'!$A32-35,0),0.03999)","v":1.9400000000000001E-2},{"$f":"MIN(OFFSET(Female!BF$18,'Female Rev'!$A32-35,0),0.03999)","v":1.89E-2},{"$f":"MIN(OFFSET(Female!BG$18,'Female Rev'!$A32-35,0),0.03999)","v":1.78E-2},{"$f":"MIN(OFFSET(Female!BH$18,'Female Rev'!$A32-35,0),0.03999)","v":1.6400000000000001E-2},{"$f":"MIN(OFFSET(Female!BI$18,'Female Rev'!$A32-35,0),0.03999)","v":1.46E-2},{"$f":"MIN(OFFSET(Female!BJ$18,'Female Rev'!$A32-35,0),0.03999)","v":1.26E-2},{"$f":"MIN(OFFSET(Female!BK$18,'Female Rev'!$A32-35,0),0.03999)","v":1.06E-2},{"$f":"MIN(OFFSET(Female!BL$18,'Female Rev'!$A32-35,0),0.03999)","v":8.6999999999999994E-3},{"$f":"MIN(OFFSET(Female!BM$18,'Female Rev'!$A32-35,0),0.03999)","v":7.3000000000000001E-3},{"$f":"MIN(OFFSET(Female!BN$18,'Female Rev'!$A32-35,0),0.03999)","v":6.1999999999999998E-3},{"$f":"MIN(OFFSET(Female!BO$18,'Female Rev'!$A32-35,0),0.03999)","v":5.4000000000000003E-3},{"$f":"MIN(OFFSET(Female!BP$18,'Female Rev'!$A32-35,0),0.03999)","v":4.7999999999999996E-3},{"$f":"MIN(OFFSET(Female!BQ$18,'Female Rev'!$A32-35,0),0.03999)","v":4.3E-3},{"$f":"MIN(OFFSET(Female!BR$18,'Female Rev'!$A32-35,0),0.03999)","v":4.1000000000000003E-3},{"$f":"MIN(OFFSET(Female!BS$18,'Female Rev'!$A32-35,0),0.03999)","v":4.0000000000000001E-3},{"$f":"MIN(OFFSET(Female!BT$18,'Female Rev'!$A32-35,0),0.03999)","v":4.1999999999999997E-3},{"$f":"MIN(OFFSET(Female!BU$18,'Female Rev'!$A32-35,0),0.03999)","v":4.7000000000000002E-3},{"$f":"MIN(OFFSET(Female!BV$18,'Female Rev'!$A32-35,0),0.03999)","v":5.1999999999999998E-3},{"$f":"MIN(OFFSET(Female!BW$18,'Female Rev'!$A32-35,0),0.03999)","v":5.8999999999999999E-3},{"$f":"MIN(OFFSET(Female!BX$18,'Female Rev'!$A32-35,0),0.03999)","v":6.6E-3},{"$f":"MIN(OFFSET(Female!BY$18,'Female Rev'!$A32-35,0),0.03999)","v":7.3000000000000001E-3},{"$f":"MIN(OFFSET(Female!BZ$18,'Female Rev'!$A32-35,0),0.03999)","v":7.9000000000000008E-3},{"$f":"MIN(OFFSET(Female!CA$18,'Female Rev'!$A32-35,0),0.03999)","v":8.5000000000000006E-3},{"$f":"MIN(OFFSET(Female!CB$18,'Female Rev'!$A32-35,0),0.03999)","v":8.9999999999999993E-3},{"$f":"MIN(OFFSET(Female!CC$18,'Female Rev'!$A32-35,0),0.03999)","v":9.2999999999999992E-3},{"$f":"MIN(OFFSET(Female!CD$18,'Female Rev'!$A32-35,0),0.03999)","v":9.5999999999999992E-3},{"$f":"MIN(OFFSET(Female!CE$18,'Female Rev'!$A32-35,0),0.03999)","v":9.7999999999999997E-3},{"$f":"MIN(OFFSET(Female!CF$18,'Female Rev'!$A32-35,0),0.03999)","v":9.9000000000000008E-3},{"$f":"MIN(OFFSET(Female!CG$18,'Female Rev'!$A32-35,0),0.03999)","v":0.01},{"$f":"MIN(OFFSET(Female!CH$18,'Female Rev'!$A32-35,0),0.03999)","v":0.01}]
[65,65,{"$f":"MIN(OFFSET(Female!B$18,'Female Rev'!$A33-35,0),0.03999)","v":1.6E-2},{"$f":"MIN(OFFSET(Female!C$18,'Female Rev'!$A33-35,0),0.03999)","v":1.5900000000000001E-2},{"$f":"MIN(OFFSET(Female!D$18,'Female Rev'!$A33-35,0),0.03999)","v":1.5699999999999999E-2},{"$f":"MIN(OFFSET(Female!E$18,'Female Rev'!$A33-35,0),0.03999)","v":1.52E-2},{"$f":"MIN(OFFSET(Female!F$18,'Female Rev'!$A33-35,0),0.03999)","v":1.4500000000000001E-2},{"$f":"MIN(OFFSET(Female!G$18,'Female Rev'!$A33-35,0),0.03999)","v":1.38E-2},{"$f":"MIN(OFFSET(Female!H$18,'Female Rev'!$A33-35,0),0.03999)","v":1.3100000000000001E-2},{"$f":"MIN(OFFSET(Female!I$18,'Female Rev'!$A33-35,0),0.03999)","v":1.26E-2},{"$f":"MIN(OFFSET(Female!J$18,'Female Rev'!$A33-35,0),0.03999)","v":1.21E-2},{"$f":"MIN(OFFSET(Female!K$18,'Female Rev'!$A33-35,0),0.03999)","v":1.17E-2},{"$f":"MIN(OFFSET(Female!L$18,'Female Rev'!$A33-35,0),0.03999)","v":1.15E-2},{"$f":"MIN(OFFSET(Female!M$18,'Female Rev'!$A33-35,0),0.03999)","v":1.15E-2},{"$f":"MIN(OFFSET(Female!N$18,'Female Rev'!$A33-35,0),0.03999)","v":1.17E-2},{"$f":"MIN(OFFSET(Female!O$18,'Female Rev'!$A33-35,0),0.03999)","v":1.21E-2},{"$f":"MIN(OFFSET(Female!P$18,'Female Rev'!$A33-35,0),0.03999)","v":1.2699999999999999E-2},{"$f":"MIN(OFFSET(Female!Q$18,'Female Rev'!$A33-35,0),0.03999)","v":1.34E-2},{"$f":"MIN(OFFSET(Female!R$18,'Female Rev'!$A33-35,0),0.03999)","v":1.4200000000000001E-2},{"$f":"MIN(OFFSET(Female!S$18,'Female Rev'!$A33-35,0),0.03999)","v":1.49E-2},{"$f":"MIN(OFFSET(Female!T$18,'Female Rev'!$A33-35,0),0.03999)","v":1.54E-2},{"$f":"MIN(OFFSET(Female!U$18,'Female Rev'!$A33-35,0),0.03999)","v":1.5599999999999999E-2},{"$f":"MIN(OFFSET(Female!V$18,'Female Rev'!$A33-35,0),0.03999)","v":1.5800000000000002E-2},{"$f":"MIN(OFFSET(Female!W$18,'Female Rev'!$A33-35,0),0.03999)","v":1.5900000000000001E-2},{"$f":"MIN(OFFSET(Female!X$18,'Female Rev'!$A33-35,0),0.03999)","v":1.5800000000000002E-2},{"$f":"MIN(OFFSET(Female!Y$18,'Female Rev'!$A33-35,0),0.03999)","v":1.55E-2},{"$f":"MIN(OFFSET(Female!Z$18,'Female Rev'!$A33-35,0),0.03999)","v":1.47E-2},{"$f":"MIN(OFFSET(Female!AA$18,'Female Rev'!$A33-35,0),0.03999)","v":1.3599999999999999E-2},{"$f":"MIN(OFFSET(Female!AB$18,'Female Rev'!$A33-35,0),0.03999)","v":1.2200000000000001E-2},{"$f":"MIN(OFFSET(Female!AC$18,'Female Rev'!$A33-35,0),0.03999)","v":1.0699999999999999E-2},{"$f":"MIN(OFFSET(Female!AD$18,'Female Rev'!$A33-35,0),0.03999)","v":9.1999999999999998E-3},{"$f":"MIN(OFFSET(Female!AE$18,'Female Rev'!$A33-35,0),0.03999)","v":7.7000000000000002E-3},{"$f":"MIN(OFFSET(Female!AF$18,'Female Rev'!$A33-35,0),0.03999)","v":6.4999999999999997E-3},{"$f":"MIN(OFFSET(Female!AG$18,'Female Rev'!$A33-35,0),0.03999)","v":5.4999999999999997E-3},{"$f":"MIN(OFFSET(Female!AH$18,'Female Rev'!$A33-35,0),0.03999)","v":4.7999999999999996E-3},{"$f":"MIN(OFFSET(Female!AI$18,'Female Rev'!$A33-35,0),0.03999)","v":4.5999999999999999E-3},{"$f":"MIN(OFFSET(Female!AJ$18,'Female Rev'!$A33-35,0),0.03999)","v":4.5999999999999999E-3},{"$f":"MIN(OFFSET(Female!AK$18,'Female Rev'!$A33-35,0),0.03999)","v":5.0000000000000001E-3},{"$f":"MIN(OFFSET(Female!AL$18,'Female Rev'!$A33-35,0),0.03999)","v":5.5999999999999999E-3},{"$f":"MIN(OFFSET(Female!AM$18,'Female Rev'!$A33-35,0),0.03999)","v":6.1999999999999998E-3},{"$f":"MIN(OFFSET(Female!AN$18,'Female Rev'!$A33-35,0),0.03999)","v":6.7000000000000002E-3},{"$f":"MIN(OFFSET(Female!AO$18,'Female Rev'!$A33-35,0),0.03999)","v":7.0000000000000001E-3},{"$f":"MIN(OFFSET(Female!AP$18,'Female Rev'!$A33-35,0),0.03999)","v":7.1999999999999998E-3},{"$f":"MIN(OFFSET(Female!AQ$18,'Female Rev'!$A33-35,0),0.03999)","v":7.1999999999999998E-3},{"$f":"MIN(OFFSET(Female!AR$18,'Female Rev'!$A33-35,0),0.03999)","v":7.3000000000000001E-3},{"$f":"MIN(OFFSET(Female!AS$18,'Female Rev'!$A33-35,0),0.03999)","v":7.7000000000000002E-3},{"$f":"MIN(OFFSET(Female!AT$18,'Female Rev'!$A33-35,0),0.03999)","v":8.3000000000000001E-3},{"$f":"MIN(OFFSET(Female!AU$18,'Female Rev'!$A33-35,0),0.03999)","v":9.1000000000000004E-3},{"$f":"MIN(OFFSET(Female!AV$18,'Female Rev'!$A33-35,0),0.03999)","v":1.0200000000000001E-2},{"$f":"MIN(OFFSET(Female!AW$18,'Female Rev'!$A33-35,0),0.03999)","v":1.15E-2},{"$f":"MIN(OFFSET(Female!AX$18,'Female Rev'!$A33-35,0),0.03999)","v":1.2800000000000001E-2},{"$f":"MIN(OFFSET(Female!AY$18,'Female Rev'!$A33-35,0),0.03999)","v":1.43E-2},{"$f":"MIN(OFFSET(Female!AZ$18,'Female Rev'!$A33-35,0),0.03999)","v":1.5900000000000001E-2},{"$f":"MIN(OFFSET(Female!BA$18,'Female Rev'!$A33-35,0),0.03999)","v":1.7299999999999999E-2},{"$f":"MIN(OFFSET(Female!BB$18,'Female Rev'!$A33-35,0),0.03999)","v":1.84E-2},{"$f":"MIN(OFFSET(Female!BC$18,'Female Rev'!$A33-35,0),0.03999)","v":1.9199999999999998E-2},{"$f":"MIN(OFFSET(Female!BD$18,'Female Rev'!$A33-35,0),0.03999)","v":1.95E-2},{"$f":"MIN(OFFSET(Female!BE$18,'Female Rev'!$A33-35,0),0.03999)","v":1.9400000000000001E-2},{"$f":"MIN(OFFSET(Female!BF$18,'Female Rev'!$A33-35,0),0.03999)","v":1.8700000000000001E-2},{"$f":"MIN(OFFSET(Female!BG$18,'Female Rev'!$A33-35,0),0.03999)","v":1.7500000000000002E-2},{"$f":"MIN(OFFSET(Female!BH$18,'Female Rev'!$A33-35,0),0.03999)","v":1.5900000000000001E-2},{"$f":"MIN(OFFSET(Female!BI$18,'Female Rev'!$A33-35,0),0.03999)","v":1.3899999999999999E-2},{"$f":"MIN(OFFSET(Female!BJ$18,'Female Rev'!$A33-35,0),0.03999)","v":1.17E-2},{"$f":"MIN(OFFSET(Female!BK$18,'Female Rev'!$A33-35,0),0.03999)","v":9.4000000000000004E-3},{"$f":"MIN(OFFSET(Female!BL$18,'Female Rev'!$A33-35,0),0.03999)","v":7.4000000000000003E-3},{"$f":"MIN(OFFSET(Female!BM$18,'Female Rev'!$A33-35,0),0.03999)","v":5.7999999999999996E-3},{"$f":"MIN(OFFSET(Female!BN$18,'Female Rev'!$A33-35,0),0.03999)","v":4.5999999999999999E-3},{"$f":"MIN(OFFSET(Female!BO$18,'Female Rev'!$A33-35,0),0.03999)","v":3.8E-3},{"$f":"MIN(OFFSET(Female!BP$18,'Female Rev'!$A33-35,0),0.03999)","v":3.3E-3},{"$f":"MIN(OFFSET(Female!BQ$18,'Female Rev'!$A33-35,0),0.03999)","v":2.8999999999999998E-3},{"$f":"MIN(OFFSET(Female!BR$18,'Female Rev'!$A33-35,0),0.03999)","v":2.8999999999999998E-3},{"$f":"MIN(OFFSET(Female!BS$18,'Female Rev'!$A33-35,0),0.03999)","v":3.2000000000000002E-3},{"$f":"MIN(OFFSET(Female!BT$18,'Female Rev'!$A33-35,0),0.03999)","v":3.7000000000000002E-3},{"$f":"MIN(OFFSET(Female!BU$18,'Female Rev'!$A33-35,0),0.03999)","v":4.4000000000000003E-3},{"$f":"MIN(OFFSET(Female!BV$18,'Female Rev'!$A33-35,0),0.03999)","v":5.1999999999999998E-3},{"$f":"MIN(OFFSET(Female!BW$18,'Female Rev'!$A33-35,0),0.03999)","v":6.0000000000000001E-3},{"$f":"MIN(OFFSET(Female!BX$18,'Female Rev'!$A33-35,0),0.03999)","v":6.7999999999999996E-3},{"$f":"MIN(OFFSET(Female!BY$18,'Female Rev'!$A33-35,0),0.03999)","v":7.4999999999999997E-3},{"$f":"MIN(OFFSET(Female!BZ$18,'Female Rev'!$A33-35,0),0.03999)","v":8.0999999999999996E-3},{"$f":"MIN(OFFSET(Female!CA$18,'Female Rev'!$A33-35,0),0.03999)","v":8.6E-3},{"$f":"MIN(OFFSET(Female!CB$18,'Female Rev'!$A33-35,0),0.03999)","v":9.1000000000000004E-3},{"$f":"MIN(OFFSET(Female!CC$18,'Female Rev'!$A33-35,0),0.03999)","v":9.4000000000000004E-3},{"$f":"MIN(OFFSET(Female!CD$18,'Female Rev'!$A33-35,0),0.03999)","v":9.5999999999999992E-3},{"$f":"MIN(OFFSET(Female!CE$18,'Female Rev'!$A33-35,0),0.03999)","v":9.7999999999999997E-3},{"$f":"MIN(OFFSET(Female!CF$18,'Female Rev'!$A33-35,0),0.03999)","v":9.9000000000000008E-3},{"$f":"MIN(OFFSET(Female!CG$18,'Female Rev'!$A33-35,0),0.03999)","v":0.01},{"$f":"MIN(OFFSET(Female!CH$18,'Female Rev'!$A33-35,0),0.03999)","v":0.01}]
[64,64,{"$f":"MIN(OFFSET(Female!B$18,'Female Rev'!$A34-35,0),0.03999)","v":1.6500000000000001E-2},{"$f":"MIN(OFFSET(Female!C$18,'Female Rev'!$A34-35,0),0.03999)","v":1.6400000000000001E-2},{"$f":"MIN(OFFSET(Female!D$18,'Female Rev'!$A34-35,0),0.03999)","v":1.61E-2},{"$f":"MIN(OFFSET(Female!E$18,'Female Rev'!$A34-35,0),0.03999)","v":1.5599999999999999E-2},{"$f":"MIN(OFFSET(Female!F$18,'Female Rev'!$A34-35,0),0.03999)","v":1.4800000000000001E-2},{"$f":"MIN(OFFSET(Female!G$18,'Female Rev'!$A34-35,0),0.03999)","v":1.4E-2},{"$f":"MIN(OFFSET(Female!H$18,'Female Rev'!$A34-35,0),0.03999)","v":1.32E-2},{"$f":"MIN(OFFSET(Female!I$18,'Female Rev'!$A34-35,0),0.03999)","v":1.2500000000000001E-2},{"$f":"MIN(OFFSET(Female!J$18,'Female Rev'!$A34-35,0),0.03999)","v":1.1900000000000001E-2},{"$f":"MIN(OFFSET(Female!K$18,'Female Rev'!$A34-35,0),0.03999)","v":1.15E-2},{"$f":"MIN(OFFSET(Female!L$18,'Female Rev'!$A34-35,0),0.03999)","v":1.12E-2},{"$f":"MIN(OFFSET(Female!M$18,'Female Rev'!$A34-35,0),0.03999)","v":1.11E-2},{"$f":"MIN(OFFSET(Female!N$18,'Female Rev'!$A34-35,0),0.03999)","v":1.12E-2},{"$f":"MIN(OFFSET(Female!O$18,'Female Rev'!$A34-35,0),0.03999)","v":1.17E-2},{"$f":"MIN(OFFSET(Female!P$18,'Female Rev'!$A34-35,0),0.03999)","v":1.2200000000000001E-2},{"$f":"MIN(OFFSET(Female!Q$18,'Female Rev'!$A34-35,0),0.03999)","v":1.2800000000000001E-2},{"$f":"MIN(OFFSET(Female!R$18,'Female Rev'!$A34-35,0),0.03999)","v":1.35E-2},{"$f":"MIN(OFFSET(Female!S$18,'Female Rev'!$A34-35,0),0.03999)","v":1.41E-2},{"$f":"MIN(OFFSET(Female!T$18,'Female Rev'!$A34-35,0),0.03999)","v":1.46E-2},{"$f":"MIN(OFFSET(Female!U$18,'Female Rev'!$A34-35,0),0.03999)","v":1.4999999999999999E-2},{"$f":"MIN(OFFSET(Female!V$18,'Female Rev'!$A34-35,0),0.03999)","v":1.5299999999999999E-2},{"$f":"MIN(OFFSET(Female!W$18,'Female Rev'!$A34-35,0),0.03999)","v":1.55E-2},{"$f":"MIN(OFFSET(Female!X$18,'Female Rev'!$A34-35,0),0.03999)","v":1.55E-2},{"$f":"MIN(OFFSET(Female!Y$18,'Female Rev'!$A34-35,0),0.03999)","v":1.5299999999999999E-2},{"$f":"MIN(OFFSET(Female!Z$18,'Female Rev'!$A34-35,0),0.03999)","v":1.47E-2},{"$f":"MIN(OFFSET(Female!AA$18,'Female Rev'!$A34-35,0),0.03999)","v":1.37E-2},{"$f":"MIN(OFFSET(Female!AB$18,'Female Rev'!$A34-35,0),0.03999)","v":1.24E-2},{"$f":"MIN(OFFSET(Female!AC$18,'Female Rev'!$A34-35,0),0.03999)","v":1.0999999999999999E-2},{"$f":"MIN(OFFSET(Female!AD$18,'Female Rev'!$A34-35,0),0.03999)","v":9.4999999999999998E-3},{"$f":"MIN(OFFSET(Female!AE$18,'Female Rev'!$A34-35,0),0.03999)","v":8.0999999999999996E-3},{"$f":"MIN(OFFSET(Female!AF$18,'Female Rev'!$A34-35,0),0.03999)","v":6.7999999999999996E-3},{"$f":"MIN(OFFSET(Female!AG$18,'Female Rev'!$A34-35,0),0.03999)","v":5.7999999999999996E-3},{"$f":"MIN(OFFSET(Female!AH$18,'Female Rev'!$A34-35,0),0.03999)","v":5.1999999999999998E-3},{"$f":"MIN(OFFSET(Female!AI$18,'Female Rev'!$A34-35,0),0.03999)","v":4.8999999999999998E-3},{"$f":"MIN(OFFSET(Female!AJ$18,'Female Rev'!$A34-35,0),0.03999)","v":5.0000000000000001E-3},{"$f":"MIN(OFFSET(Female!AK$18,'Female Rev'!$A34-35,0),0.03999)","v":5.4000000000000003E-3},{"$f":"MIN(OFFSET(Female!AL$18,'Female Rev'!$A34-35,0),0.03999)","v":6.0000000000000001E-3},{"$f":"MIN(OFFSET(Female!AM$18,'Female Rev'!$A34-35,0),0.03999)","v":6.6E-3},{"$f":"MIN(OFFSET(Female!AN$18,'Female Rev'!$A34-35,0),0.03999)","v":7.1000000000000004E-3},{"$f":"MIN(OFFSET(Female!AO$18,'Female Rev'!$A34-35,0),0.03999)","v":7.4999999999999997E-3},{"$f":"MIN(OFFSET(Female!AP$18,'Female Rev'!$A34-35,0),0.03999)","v":7.7000000000000002E-3},{"$f":"MIN(OFFSET(Female!AQ$18,'Female Rev'!$A34-35,0),0.03999)","v":7.7999999999999996E-3},{"$f":"MIN(OFFSET(Female!AR$18,'Female Rev'!$A34-35,0),0.03999)","v":7.9000000000000008E-3},{"$f":"MIN(OFFSET(Female!AS$18,'Female Rev'!$A34-35,0),0.03999)","v":8.2000000000000007E-3},{"$f":"MIN(OFFSET(Female!AT$18,'Female Rev'!$A34-35,0),0.03999)","v":8.8999999999999999E-3},{"$f":"MIN(OFFSET(Female!AU$18,'Female Rev'!$A34-35,0),0.03999)","v":9.7000000000000003E-3},{"$f":"MIN(OFFSET(Female!AV$18,'Female Rev'!$A34-35,0),0.03999)","v":1.0800000000000001E-2},{"$f":"MIN(OFFSET(Female!AW$18,'Female Rev'!$A34-35,0),0.03999)","v":1.2E-2},{"$f":"MIN(OFFSET(Female!AX$18,'Female Rev'!$A34-35,0),0.03999)","v":1.3299999999999999E-2},{"$f":"MIN(OFFSET(Female!AY$18,'Female Rev'!$A34-35,0),0.03999)","v":1.46E-2},{"$f":"MIN(OFFSET(Female!AZ$18,'Female Rev'!$A34-35,0),0.03999)","v":1.61E-2},{"$f":"MIN(OFFSET(Female!BA$18,'Female Rev'!$A34-35,0),0.03999)","v":1.7399999999999999E-2},{"$f":"MIN(OFFSET(Female!BB$18,'Female Rev'!$A34-35,0),0.03999)","v":1.84E-2},{"$f":"MIN(OFFSET(Female!BC$18,'Female Rev'!$A34-35,0),0.03999)","v":1.9199999999999998E-2},{"$f":"MIN(OFFSET(Female!BD$18,'Female Rev'!$A34-35,0),0.03999)","v":1.9400000000000001E-2},{"$f":"MIN(OFFSET(Female!BE$18,'Female Rev'!$A34-35,0),0.03999)","v":1.9099999999999999E-2},{"$f":"MIN(OFFSET(Female!BF$18,'Female Rev'!$A34-35,0),0.03999)","v":1.83E-2},{"$f":"MIN(OFFSET(Female!BG$18,'Female Rev'!$A34-35,0),0.03999)","v":1.7000000000000001E-2},{"$f":"MIN(OFFSET(Female!BH$18,'Female Rev'!$A34-35,0),0.03999)","v":1.5299999999999999E-2},{"$f":"MIN(OFFSET(Female!BI$18,'Female Rev'!$A34-35,0),0.03999)","v":1.3100000000000001E-2},{"$f":"MIN(OFFSET(Female!BJ$18,'Female Rev'!$A34-35,0),0.03999)","v":1.06E-2},{"$f":"MIN(OFFSET(Female!BK$18,'Female Rev'!$A34-35,0),0.03999)","v":8.2000000000000007E-3},{"$f":"MIN(OFFSET(Female!BL$18,'Female Rev'!$A34-35,0),0.03999)","v":5.8999999999999999E-3},{"$f":"MIN(OFFSET(Female!BM$18,'Female Rev'!$A34-35,0),0.03999)","v":4.1000000000000003E-3},{"$f":"MIN(OFFSET(Female!BN$18,'Female Rev'!$A34-35,0),0.03999)","v":2.8E-3},{"$f":"MIN(OFFSET(Female!BO$18,'Female Rev'!$A34-35,0),0.03999)","v":2.0999999999999999E-3},{"$f":"MIN(OFFSET(Female!BP$18,'Female Rev'!$A34-35,0),0.03999)","v":1.6999999999999999E-3},{"$f":"MIN(OFFSET(Female!BQ$18,'Female Rev'!$A34-35,0),0.03999)","v":1.6000000000000001E-3},{"$f":"MIN(OFFSET(Female!BR$18,'Female Rev'!$A34-35,0),0.03999)","v":1.9E-3},{"$f":"MIN(OFFSET(Female!BS$18,'Female Rev'!$A34-35,0),0.03999)","v":2.3999999999999998E-3},{"$f":"MIN(OFFSET(Female!BT$18,'Female Rev'!$A34-35,0),0.03999)","v":3.2000000000000002E-3},{"$f":"MIN(OFFSET(Female!BU$18,'Female Rev'!$A34-35,0),0.03999)","v":4.1999999999999997E-3},{"$f":"MIN(OFFSET(Female!BV$18,'Female Rev'!$A34-35,0),0.03999)","v":5.1999999999999998E-3},{"$f":"MIN(OFFSET(Female!BW$18,'Female Rev'!$A34-35,0),0.03999)","v":6.1999999999999998E-3},{"$f":"MIN(OFFSET(Female!BX$18,'Female Rev'!$A34-35,0),0.03999)","v":7.0000000000000001E-3},{"$f":"MIN(OFFSET(Female!BY$18,'Female Rev'!$A34-35,0),0.03999)","v":7.7000000000000002E-3},{"$f":"MIN(OFFSET(Female!BZ$18,'Female Rev'!$A34-35,0),0.03999)","v":8.3000000000000001E-3},{"$f":"MIN(OFFSET(Female!CA$18,'Female Rev'!$A34-35,0),0.03999)","v":8.8000000000000005E-3},{"$f":"MIN(OFFSET(Female!CB$18,'Female Rev'!$A34-35,0),0.03999)","v":9.1000000000000004E-3},{"$f":"MIN(OFFSET(Female!CC$18,'Female Rev'!$A34-35,0),0.03999)","v":9.4000000000000004E-3},{"$f":"MIN(OFFSET(Female!CD$18,'Female Rev'!$A34-35,0),0.03999)","v":9.5999999999999992E-3},{"$f":"MIN(OFFSET(Female!CE$18,'Female Rev'!$A34-35,0),0.03999)","v":9.7999999999999997E-3},{"$f":"MIN(OFFSET(Female!CF$18,'Female Rev'!$A34-35,0),0.03999)","v":9.9000000000000008E-3},{"$f":"MIN(OFFSET(Female!CG$18,'Female Rev'!$A34-35,0),0.03999)","v":0.01},{"$f":"MIN(OFFSET(Female!CH$18,'Female Rev'!$A34-35,0),0.03999)","v":0.01}]
[63,63,{"$f":"MIN(OFFSET(Female!B$18,'Female Rev'!$A35-35,0),0.03999)","v":1.7100000000000001E-2},{"$f":"MIN(OFFSET(Female!C$18,'Female Rev'!$A35-35,0),0.03999)","v":1.7000000000000001E-2},{"$f":"MIN(OFFSET(Female!D$18,'Female Rev'!$A35-35,0),0.03999)","v":1.66E-2},{"$f":"MIN(OFFSET(Female!E$18,'Female Rev'!$A35-35,0),0.03999)","v":1.6E-2},{"$f":"MIN(OFFSET(Female!F$18,'Female Rev'!$A35-35,0),0.03999)","v":1.52E-2},{"$f":"MIN(OFFSET(Female!G$18,'Female Rev'!$A35-35,0),0.03999)","v":1.4200000000000001E-2},{"$f":"MIN(OFFSET(Female!H$18,'Female Rev'!$A35-35,0),0.03999)","v":1.3299999999999999E-2},{"$f":"MIN(OFFSET(Female!I$18,'Female Rev'!$A35-35,0),0.03999)","v":1.2500000000000001E-2},{"$f":"MIN(OFFSET(Female!J$18,'Female Rev'!$A35-35,0),0.03999)","v":1.18E-2},{"$f":"MIN(OFFSET(Female!K$18,'Female Rev'!$A35-35,0),0.03999)","v":1.12E-2},{"$f":"MIN(OFFSET(Female!L$18,'Female Rev'!$A35-35,0),0.03999)","v":1.09E-2},{"$f":"MIN(OFFSET(Female!M$18,'Female Rev'!$A35-35,0),0.03999)","v":1.0699999999999999E-2},{"$f":"MIN(OFFSET(Female!N$18,'Female Rev'!$A35-35,0),0.03999)","v":1.0800000000000001E-2},{"$f":"MIN(OFFSET(Female!O$18,'Female Rev'!$A35-35,0),0.03999)","v":1.11E-2},{"$f":"MIN(OFFSET(Female!P$18,'Female Rev'!$A35-35,0),0.03999)","v":1.1599999999999999E-2},{"$f":"MIN(OFFSET(Female!Q$18,'Female Rev'!$A35-35,0),0.03999)","v":1.2200000000000001E-2},{"$f":"MIN(OFFSET(Female!R$18,'Female Rev'!$A35-35,0),0.03999)","v":1.2699999999999999E-2},{"$f":"MIN(OFFSET(Female!S$18,'Female Rev'!$A35-35,0),0.03999)","v":1.32E-2},{"$f":"MIN(OFFSET(Female!T$18,'Female Rev'!$A35-35,0),0.03999)","v":1.38E-2},{"$f":"MIN(OFFSET(Female!U$18,'Female Rev'!$A35-35,0),0.03999)","v":1.43E-2},{"$f":"MIN(OFFSET(Female!V$18,'Female Rev'!$A35-35,0),0.03999)","v":1.47E-2},{"$f":"MIN(OFFSET(Female!W$18,'Female Rev'!$A35-35,0),0.03999)","v":1.5100000000000001E-2},{"$f":"MIN(OFFSET(Female!X$18,'Female Rev'!$A35-35,0),0.03999)","v":1.5299999999999999E-2},{"$f":"MIN(OFFSET(Female!Y$18,'Female Rev'!$A35-35,0),0.03999)","v":1.52E-2},{"$f":"MIN(OFFSET(Female!Z$18,'Female Rev'!$A35-35,0),0.03999)","v":1.4800000000000001E-2},{"$f":"MIN(OFFSET(Female!AA$18,'Female Rev'!$A35-35,0),0.03999)","v":1.3899999999999999E-2},{"$f":"MIN(OFFSET(Female!AB$18,'Female Rev'!$A35-35,0),0.03999)","v":1.2800000000000001E-2},{"$f":"MIN(OFFSET(Female!AC$18,'Female Rev'!$A35-35,0),0.03999)","v":1.14E-2},{"$f":"MIN(OFFSET(Female!AD$18,'Female Rev'!$A35-35,0),0.03999)","v":0.01},{"$f":"MIN(OFFSET(Female!AE$18,'Female Rev'!$A35-35,0),0.03999)","v":8.5000000000000006E-3},{"$f":"MIN(OFFSET(Female!AF$18,'Female Rev'!$A35-35,0),0.03999)","v":7.3000000000000001E-3},{"$f":"MIN(OFFSET(Female!AG$18,'Female Rev'!$A35-35,0),0.03999)","v":6.3E-3},{"$f":"MIN(OFFSET(Female!AH$18,'Female Rev'!$A35-35,0),0.03999)","v":5.5999999999999999E-3},{"$f":"MIN(OFFSET(Female!AI$18,'Female Rev'!$A35-35,0),0.03999)","v":5.3E-3},{"$f":"MIN(OFFSET(Female!AJ$18,'Female Rev'!$A35-35,0),0.03999)","v":5.4000000000000003E-3},{"$f":"MIN(OFFSET(Female!AK$18,'Female Rev'!$A35-35,0),0.03999)","v":5.7999999999999996E-3},{"$f":"MIN(OFFSET(Female!AL$18,'Female Rev'!$A35-35,0),0.03999)","v":6.4000000000000003E-3},{"$f":"MIN(OFFSET(Female!AM$18,'Female Rev'!$A35-35,0),0.03999)","v":7.0000000000000001E-3},{"$f":"MIN(OFFSET(Female!AN$18,'Female Rev'!$A35-35,0),0.03999)","v":7.6E-3},{"$f":"MIN(OFFSET(Female!AO$18,'Female Rev'!$A35-35,0),0.03999)","v":8.0000000000000002E-3},{"$f":"MIN(OFFSET(Female!AP$18,'Female Rev'!$A35-35,0),0.03999)","v":8.2000000000000007E-3},{"$f":"MIN(OFFSET(Female!AQ$18,'Female Rev'!$A35-35,0),0.03999)","v":8.3000000000000001E-3},{"$f":"MIN(OFFSET(Female!AR$18,'Female Rev'!$A35-35,0),0.03999)","v":8.5000000000000006E-3},{"$f":"MIN(OFFSET(Female!AS$18,'Female Rev'!$A35-35,0),0.03999)","v":8.8000000000000005E-3},{"$f":"MIN(OFFSET(Female!AT$18,'Female Rev'!$A35-35,0),0.03999)","v":9.4000000000000004E-3},{"$f":"MIN(OFFSET(Female!AU$18,'Female Rev'!$A35-35,0),0.03999)","v":1.0200000000000001E-2},{"$f":"MIN(OFFSET(Female!AV$18,'Female Rev'!$A35-35,0),0.03999)","v":1.1299999999999999E-2},{"$f":"MIN(OFFSET(Female!AW$18,'Female Rev'!$A35-35,0),0.03999)","v":1.24E-2},{"$f":"MIN(OFFSET(Female!AX$18,'Female Rev'!$A35-35,0),0.03999)","v":1.3599999999999999E-2},{"$f":"MIN(OFFSET(Female!AY$18,'Female Rev'!$A35-35,0),0.03999)","v":1.4800000000000001E-2},{"$f":"MIN(OFFSET(Female!AZ$18,'Female Rev'!$A35-35,0),0.03999)","v":1.61E-2},{"$f":"MIN(OFFSET(Female!BA$18,'Female Rev'!$A35-35,0),0.03999)","v":1.7299999999999999E-2},{"$f":"MIN(OFFSET(Female!BB$18,'Female Rev'!$A35-35,0),0.03999)","v":1.83E-2},{"$f":"MIN(OFFSET(Female!BC$18,'Female Rev'!$A35-35,0),0.03999)","v":1.89E-2},{"$f":"MIN(OFFSET(Female!BD$18,'Female Rev'!$A35-35,0),0.03999)","v":1.9E-2},{"$f":"MIN(OFFSET(Female!BE$18,'Female Rev'!$A35-35,0),0.03999)","v":1.8700000000000001E-2},{"$f":"MIN(OFFSET(Female!BF$18,'Female Rev'!$A35-35,0),0.03999)","v":1.78E-2},{"$f":"MIN(OFFSET(Female!BG$18,'Female Rev'!$A35-35,0),0.03999)","v":1.6299999999999999E-2},{"$f":"MIN(OFFSET(Female!BH$18,'Female Rev'!$A35-35,0),0.03999)","v":1.44E-2},{"$f":"MIN(OFFSET(Female!BI$18,'Female Rev'!$A35-35,0),0.03999)","v":1.21E-2},{"$f":"MIN(OFFSET(Female!BJ$18,'Female Rev'!$A35-35,0),0.03999)","v":9.4000000000000004E-3},{"$f":"MIN(OFFSET(Female!BK$18,'Female Rev'!$A35-35,0),0.03999)","v":6.7999999999999996E-3},{"$f":"MIN(OFFSET(Female!BL$18,'Female Rev'!$A35-35,0),0.03999)","v":4.4000000000000003E-3},{"$f":"MIN(OFFSET(Female!BM$18,'Female Rev'!$A35-35,0),0.03999)","v":2.3999999999999998E-3},{"$f":"MIN(OFFSET(Female!BN$18,'Female Rev'!$A35-35,0),0.03999)","v":1.1000000000000001E-3},{"$f":"MIN(OFFSET(Female!BO$18,'Female Rev'!$A35-35,0),0.03999)","v":5.0000000000000001E-4},{"$f":"MIN(OFFSET(Female!BP$18,'Female Rev'!$A35-35,0),0.03999)","v":2.0000000000000001E-4},{"$f":"MIN(OFFSET(Female!BQ$18,'Female Rev'!$A35-35,0),0.03999)","v":4.0000000000000002E-4},{"$f":"MIN(OFFSET(Female!BR$18,'Female Rev'!$A35-35,0),0.03999)","v":1E-3},{"$f":"MIN(OFFSET(Female!BS$18,'Female Rev'!$A35-35,0),0.03999)","v":1.8E-3},{"$f":"MIN(OFFSET(Female!BT$18,'Female Rev'!$A35-35,0),0.03999)","v":2.8999999999999998E-3},{"$f":"MIN(OFFSET(Female!BU$18,'Female Rev'!$A35-35,0),0.03999)","v":4.1999999999999997E-3},{"$f":"MIN(OFFSET(Female!BV$18,'Female Rev'!$A35-35,0),0.03999)","v":5.4000000000000003E-3},{"$f":"MIN(OFFSET(Female!BW$18,'Female Rev'!$A35-35,0),0.03999)","v":6.4999999999999997E-3},{"$f":"MIN(OFFSET(Female!BX$18,'Female Rev'!$A35-35,0),0.03999)","v":7.3000000000000001E-3},{"$f":"MIN(OFFSET(Female!BY$18,'Female Rev'!$A35-35,0),0.03999)","v":7.9000000000000008E-3},{"$f":"MIN(OFFSET(Female!BZ$18,'Female Rev'!$A35-35,0),0.03999)","v":8.5000000000000006E-3},{"$f":"MIN(OFFSET(Female!CA$18,'Female Rev'!$A35-35,0),0.03999)","v":8.8999999999999999E-3},{"$f":"MIN(OFFSET(Female!CB$18,'Female Rev'!$A35-35,0),0.03999)","v":9.1999999999999998E-3},{"$f":"MIN(OFFSET(Female!CC$18,'Female Rev'!$A35-35,0),0.03999)","v":9.4000000000000004E-3},{"$f":"MIN(OFFSET(Female!CD$18,'Female Rev'!$A35-35,0),0.03999)","v":9.5999999999999992E-3},{"$f":"MIN(OFFSET(Female!CE$18,'Female Rev'!$A35-35,0),0.03999)","v":9.7000000000000003E-3},{"$f":"MIN(OFFSET(Female!CF$18,'Female Rev'!$A35-35,0),0.03999)","v":9.9000000000000008E-3},{"$f":"MIN(OFFSET(Female!CG$18,'Female Rev'!$A35-35,0),0.03999)","v":0.01},{"$f":"MIN(OFFSET(Female!CH$18,'Female Rev'!$A35-35,0),0.03999)","v":0.01}]
[62,62,{"$f":"MIN(OFFSET(Female!B$18,'Female Rev'!$A36-35,0),0.03999)","v":1.7600000000000001E-2},{"$f":"MIN(OFFSET(Female!C$18,'Female Rev'!$A36-35,0),0.03999)","v":1.7500000000000002E-2},{"$f":"MIN(OFFSET(Female!D$18,'Female Rev'!$A36-35,0),0.03999)","v":1.7100000000000001E-2},{"$f":"MIN(OFFSET(Female!E$18,'Female Rev'!$A36-35,0),0.03999)","v":1.6500000000000001E-2},{"$f":"MIN(OFFSET(Female!F$18,'Female Rev'!$A36-35,0),0.03999)","v":1.55E-2},{"$f":"MIN(OFFSET(Female!G$18,'Female Rev'!$A36-35,0),0.03999)","v":1.44E-2},{"$f":"MIN(OFFSET(Female!H$18,'Female Rev'!$A36-35,0),0.03999)","v":1.34E-2},{"$f":"MIN(OFFSET(Female!I$18,'Female Rev'!$A36-35,0),0.03999)","v":1.2500000000000001E-2},{"$f":"MIN(OFFSET(Female!J$18,'Female Rev'!$A36-35,0),0.03999)","v":1.18E-2},{"$f":"MIN(OFFSET(Female!K$18,'Female Rev'!$A36-35,0),0.03999)","v":1.11E-2},{"$f":"MIN(OFFSET(Female!L$18,'Female Rev'!$A36-35,0),0.03999)","v":1.06E-2},{"$f":"MIN(OFFSET(Female!M$18,'Female Rev'!$A36-35,0),0.03999)","v":1.03E-2},{"$f":"MIN(OFFSET(Female!N$18,'Female Rev'!$A36-35,0),0.03999)","v":1.03E-2},{"$f":"MIN(OFFSET(Female!O$18,'Female Rev'!$A36-35,0),0.03999)","v":1.0500000000000001E-2},{"$f":"MIN(OFFSET(Female!P$18,'Female Rev'!$A36-35,0),0.03999)","v":1.09E-2},{"$f":"MIN(OFFSET(Female!Q$18,'Female Rev'!$A36-35,0),0.03999)","v":1.14E-2},{"$f":"MIN(OFFSET(Female!R$18,'Female Rev'!$A36-35,0),0.03999)","v":1.18E-2},{"$f":"MIN(OFFSET(Female!S$18,'Female Rev'!$A36-35,0),0.03999)","v":1.23E-2},{"$f":"MIN(OFFSET(Female!T$18,'Female Rev'!$A36-35,0),0.03999)","v":1.2999999999999999E-2},{"$f":"MIN(OFFSET(Female!U$18,'Female Rev'!$A36-35,0),0.03999)","v":1.3599999999999999E-2},{"$f":"MIN(OFFSET(Female!V$18,'Female Rev'!$A36-35,0),0.03999)","v":1.4200000000000001E-2},{"$f":"MIN(OFFSET(Female!W$18,'Female Rev'!$A36-35,0),0.03999)","v":1.4800000000000001E-2},{"$f":"MIN(OFFSET(Female!X$18,'Female Rev'!$A36-35,0),0.03999)","v":1.5100000000000001E-2},{"$f":"MIN(OFFSET(Female!Y$18,'Female Rev'!$A36-35,0),0.03999)","v":1.5299999999999999E-2},{"$f":"MIN(OFFSET(Female!Z$18,'Female Rev'!$A36-35,0),0.03999)","v":1.4999999999999999E-2},{"$f":"MIN(OFFSET(Female!AA$18,'Female Rev'!$A36-35,0),0.03999)","v":1.43E-2},{"$f":"MIN(OFFSET(Female!AB$18,'Female Rev'!$A36-35,0),0.03999)","v":1.3299999999999999E-2},{"$f":"MIN(OFFSET(Female!AC$18,'Female Rev'!$A36-35,0),0.03999)","v":1.2E-2},{"$f":"MIN(OFFSET(Female!AD$18,'Female Rev'!$A36-35,0),0.03999)","v":1.06E-2},{"$f":"MIN(OFFSET(Female!AE$18,'Female Rev'!$A36-35,0),0.03999)","v":9.1000000000000004E-3},{"$f":"MIN(OFFSET(Female!AF$18,'Female Rev'!$A36-35,0),0.03999)","v":7.7999999999999996E-3},{"$f":"MIN(OFFSET(Female!AG$18,'Female Rev'!$A36-35,0),0.03999)","v":6.7999999999999996E-3},{"$f":"MIN(OFFSET(Female!AH$18,'Female Rev'!$A36-35,0),0.03999)","v":6.1000000000000004E-3},{"$f":"MIN(OFFSET(Female!AI$18,'Female Rev'!$A36-35,0),0.03999)","v":5.8999999999999999E-3},{"$f":"MIN(OFFSET(Female!AJ$18,'Female Rev'!$A36-35,0),0.03999)","v":5.8999999999999999E-3},{"$f":"MIN(OFFSET(Female!AK$18,'Female Rev'!$A36-35,0),0.03999)","v":6.3E-3},{"$f":"MIN(OFFSET(Female!AL$18,'Female Rev'!$A36-35,0),0.03999)","v":6.8999999999999999E-3},{"$f":"MIN(OFFSET(Female!AM$18,'Female Rev'!$A36-35,0),0.03999)","v":7.4999999999999997E-3},{"$f":"MIN(OFFSET(Female!AN$18,'Female Rev'!$A36-35,0),0.03999)","v":8.0999999999999996E-3},{"$f":"MIN(OFFSET(Female!AO$18,'Female Rev'!$A36-35,0),0.03999)","v":8.5000000000000006E-3},{"$f":"MIN(OFFSET(Female!AP$18,'Female Rev'!$A36-35,0),0.03999)","v":8.6999999999999994E-3},{"$f":"MIN(OFFSET(Female!AQ$18,'Female Rev'!$A36-35,0),0.03999)","v":8.8999999999999999E-3},{"$f":"MIN(OFFSET(Female!AR$18,'Female Rev'!$A36-35,0),0.03999)","v":9.1000000000000004E-3},{"$f":"MIN(OFFSET(Female!AS$18,'Female Rev'!$A36-35,0),0.03999)","v":9.4000000000000004E-3},{"$f":"MIN(OFFSET(Female!AT$18,'Female Rev'!$A36-35,0),0.03999)","v":0.01},{"$f":"MIN(OFFSET(Female!AU$18,'Female Rev'!$A36-35,0),0.03999)","v":1.0699999999999999E-2},{"$f":"MIN(OFFSET(Female!AV$18,'Female Rev'!$A36-35,0),0.03999)","v":1.17E-2},{"$f":"MIN(OFFSET(Female!AW$18,'Female Rev'!$A36-35,0),0.03999)","v":1.2699999999999999E-2},{"$f":"MIN(OFFSET(Female!AX$18,'Female Rev'!$A36-35,0),0.03999)","v":1.38E-2},{"$f":"MIN(OFFSET(Female!AY$18,'Female Rev'!$A36-35,0),0.03999)","v":1.49E-2},{"$f":"MIN(OFFSET(Female!AZ$18,'Female Rev'!$A36-35,0),0.03999)","v":1.6E-2},{"$f":"MIN(OFFSET(Female!BA$18,'Female Rev'!$A36-35,0),0.03999)","v":1.7100000000000001E-2},{"$f":"MIN(OFFSET(Female!BB$18,'Female Rev'!$A36-35,0),0.03999)","v":1.7899999999999999E-2},{"$f":"MIN(OFFSET(Female!BC$18,'Female Rev'!$A36-35,0),0.03999)","v":1.8499999999999999E-2},{"$f":"MIN(OFFSET(Female!BD$18,'Female Rev'!$A36-35,0),0.03999)","v":1.8499999999999999E-2},{"$f":"MIN(OFFSET(Female!BE$18,'Female Rev'!$A36-35,0),0.03999)","v":1.8100000000000002E-2},{"$f":"MIN(OFFSET(Female!BF$18,'Female Rev'!$A36-35,0),0.03999)","v":1.7000000000000001E-2},{"$f":"MIN(OFFSET(Female!BG$18,'Female Rev'!$A36-35,0),0.03999)","v":1.54E-2},{"$f":"MIN(OFFSET(Female!BH$18,'Female Rev'!$A36-35,0),0.03999)","v":1.34E-2},{"$f":"MIN(OFFSET(Female!BI$18,'Female Rev'!$A36-35,0),0.03999)","v":1.09E-2},{"$f":"MIN(OFFSET(Female!BJ$18,'Female Rev'!$A36-35,0),0.03999)","v":8.0999999999999996E-3},{"$f":"MIN(OFFSET(Female!BK$18,'Female Rev'!$A36-35,0),0.03999)","v":5.3E-3},{"$f":"MIN(OFFSET(Female!BL$18,'Female Rev'!$A36-35,0),0.03999)","v":2.8E-3},{"$f":"MIN(OFFSET(Female!BM$18,'Female Rev'!$A36-35,0),0.03999)","v":8.0000000000000004E-4},{"$f":"MIN(OFFSET(Female!BN$18,'Female Rev'!$A36-35,0),0.03999)","v":-5.0000000000000001E-4},{"$f":"MIN(OFFSET(Female!BO$18,'Female Rev'!$A36-35,0),0.03999)","v":-1E-3},{"$f":"MIN(OFFSET(Female!BP$18,'Female Rev'!$A36-35,0),0.03999)","v":-1E-3},{"$f":"MIN(OFFSET(Female!BQ$18,'Female Rev'!$A36-35,0),0.03999)","v":-5.9999999999999995E-4},{"$f":"MIN(OFFSET(Female!BR$18,'Female Rev'!$A36-35,0),0.03999)","v":2.9999999999999997E-4},{"$f":"MIN(OFFSET(Female!BS$18,'Female Rev'!$A36-35,0),0.03999)","v":1.5E-3},{"$f":"MIN(OFFSET(Female!BT$18,'Female Rev'!$A36-35,0),0.03999)","v":2.8E-3},{"$f":"MIN(OFFSET(Female!BU$18,'Female Rev'!$A36-35,0),0.03999)","v":4.3E-3},{"$f":"MIN(OFFSET(Female!BV$18,'Female Rev'!$A36-35,0),0.03999)","v":5.5999999999999999E-3},{"$f":"MIN(OFFSET(Female!BW$18,'Female Rev'!$A36-35,0),0.03999)","v":6.7999999999999996E-3},{"$f":"MIN(OFFSET(Female!BX$18,'Female Rev'!$A36-35,0),0.03999)","v":7.6E-3},{"$f":"MIN(OFFSET(Female!BY$18,'Female Rev'!$A36-35,0),0.03999)","v":8.2000000000000007E-3},{"$f":"MIN(OFFSET(Female!BZ$18,'Female Rev'!$A36-35,0),0.03999)","v":8.6E-3},{"$f":"MIN(OFFSET(Female!CA$18,'Female Rev'!$A36-35,0),0.03999)","v":8.9999999999999993E-3},{"$f":"MIN(OFFSET(Female!CB$18,'Female Rev'!$A36-35,0),0.03999)","v":9.1999999999999998E-3},{"$f":"MIN(OFFSET(Female!CC$18,'Female Rev'!$A36-35,0),0.03999)","v":9.4000000000000004E-3},{"$f":"MIN(OFFSET(Female!CD$18,'Female Rev'!$A36-35,0),0.03999)","v":9.5999999999999992E-3},{"$f":"MIN(OFFSET(Female!CE$18,'Female Rev'!$A36-35,0),0.03999)","v":9.7000000000000003E-3},{"$f":"MIN(OFFSET(Female!CF$18,'Female Rev'!$A36-35,0),0.03999)","v":9.7999999999999997E-3},{"$f":"MIN(OFFSET(Female!CG$18,'Female Rev'!$A36-35,0),0.03999)","v":9.9000000000000008E-3},{"$f":"MIN(OFFSET(Female!CH$18,'Female Rev'!$A36-35,0),0.03999)","v":0.01}]
[61,61,{"$f":"MIN(OFFSET(Female!B$18,'Female Rev'!$A37-35,0),0.03999)","v":1.8100000000000002E-2},{"$f":"MIN(OFFSET(Female!C$18,'Female Rev'!$A37-35,0),0.03999)","v":1.7899999999999999E-2},{"$f":"MIN(OFFSET(Female!D$18,'Female Rev'!$A37-35,0),0.03999)","v":1.7600000000000001E-2},{"$f":"MIN(OFFSET(Female!E$18,'Female Rev'!$A37-35,0),0.03999)","v":1.6899999999999998E-2},{"$f":"MIN(OFFSET(Female!F$18,'Female Rev'!$A37-35,0),0.03999)","v":1.5900000000000001E-2},{"$f":"MIN(OFFSET(Female!G$18,'Female Rev'!$A37-35,0),0.03999)","v":1.47E-2},{"$f":"MIN(OFFSET(Female!H$18,'Female Rev'!$A37-35,0),0.03999)","v":1.3599999999999999E-2},{"$f":"MIN(OFFSET(Female!I$18,'Female Rev'!$A37-35,0),0.03999)","v":1.26E-2},{"$f":"MIN(OFFSET(Female!J$18,'Female Rev'!$A37-35,0),0.03999)","v":1.18E-2},{"$f":"MIN(OFFSET(Female!K$18,'Female Rev'!$A37-35,0),0.03999)","v":1.0999999999999999E-2},{"$f":"MIN(OFFSET(Female!L$18,'Female Rev'!$A37-35,0),0.03999)","v":1.04E-2},{"$f":"MIN(OFFSET(Female!M$18,'Female Rev'!$A37-35,0),0.03999)","v":9.9000000000000008E-3},{"$f":"MIN(OFFSET(Female!N$18,'Female Rev'!$A37-35,0),0.03999)","v":9.7999999999999997E-3},{"$f":"MIN(OFFSET(Female!O$18,'Female Rev'!$A37-35,0),0.03999)","v":9.9000000000000008E-3},{"$f":"MIN(OFFSET(Female!P$18,'Female Rev'!$A37-35,0),0.03999)","v":1.0200000000000001E-2},{"$f":"MIN(OFFSET(Female!Q$18,'Female Rev'!$A37-35,0),0.03999)","v":1.0500000000000001E-2},{"$f":"MIN(OFFSET(Female!R$18,'Female Rev'!$A37-35,0),0.03999)","v":1.09E-2},{"$f":"MIN(OFFSET(Female!S$18,'Female Rev'!$A37-35,0),0.03999)","v":1.14E-2},{"$f":"MIN(OFFSET(Female!T$18,'Female Rev'!$A37-35,0),0.03999)","v":1.21E-2},{"$f":"MIN(OFFSET(Female!U$18,'Female Rev'!$A37-35,0),0.03999)","v":1.29E-2},{"$f":"MIN(OFFSET(Female!V$18,'Female Rev'!$A37-35,0),0.03999)","v":1.38E-2},{"$f":"MIN(OFFSET(Female!W$18,'Female Rev'!$A37-35,0),0.03999)","v":1.4500000000000001E-2},{"$f":"MIN(OFFSET(Female!X$18,'Female Rev'!$A37-35,0),0.03999)","v":1.5100000000000001E-2},{"$f":"MIN(OFFSET(Female!Y$18,'Female Rev'!$A37-35,0),0.03999)","v":1.54E-2},{"$f":"MIN(OFFSET(Female!Z$18,'Female Rev'!$A37-35,0),0.03999)","v":1.5299999999999999E-2},{"$f":"MIN(OFFSET(Female!AA$18,'Female Rev'!$A37-35,0),0.03999)","v":1.4800000000000001E-2},{"$f":"MIN(OFFSET(Female!AB$18,'Female Rev'!$A37-35,0),0.03999)","v":1.3899999999999999E-2},{"$f":"MIN(OFFSET(Female!AC$18,'Female Rev'!$A37-35,0),0.03999)","v":1.2699999999999999E-2},{"$f":"MIN(OFFSET(Female!AD$18,'Female Rev'!$A37-35,0),0.03999)","v":1.1299999999999999E-2},{"$f":"MIN(OFFSET(Female!AE$18,'Female Rev'!$A37-35,0),0.03999)","v":9.7999999999999997E-3},{"$f":"MIN(OFFSET(Female!AF$18,'Female Rev'!$A37-35,0),0.03999)","v":8.3999999999999995E-3},{"$f":"MIN(OFFSET(Female!AG$18,'Female Rev'!$A37-35,0),0.03999)","v":7.4000000000000003E-3},{"$f":"MIN(OFFSET(Female!AH$18,'Female Rev'!$A37-35,0),0.03999)","v":6.7000000000000002E-3},{"$f":"MIN(OFFSET(Female!AI$18,'Female Rev'!$A37-35,0),0.03999)","v":6.4999999999999997E-3},{"$f":"MIN(OFFSET(Female!AJ$18,'Female Rev'!$A37-35,0),0.03999)","v":6.6E-3},{"$f":"MIN(OFFSET(Female!AK$18,'Female Rev'!$A37-35,0),0.03999)","v":6.8999999999999999E-3},{"$f":"MIN(OFFSET(Female!AL$18,'Female Rev'!$A37-35,0),0.03999)","v":7.4000000000000003E-3},{"$f":"MIN(OFFSET(Female!AM$18,'Female Rev'!$A37-35,0),0.03999)","v":8.0000000000000002E-3},{"$f":"MIN(OFFSET(Female!AN$18,'Female Rev'!$A37-35,0),0.03999)","v":8.6E-3},{"$f":"MIN(OFFSET(Female!AO$18,'Female Rev'!$A37-35,0),0.03999)","v":8.9999999999999993E-3},{"$f":"MIN(OFFSET(Female!AP$18,'Female Rev'!$A37-35,0),0.03999)","v":9.2999999999999992E-3},{"$f":"MIN(OFFSET(Female!AQ$18,'Female Rev'!$A37-35,0),0.03999)","v":9.4999999999999998E-3},{"$f":"MIN(OFFSET(Female!AR$18,'Female Rev'!$A37-35,0),0.03999)","v":9.5999999999999992E-3},{"$f":"MIN(OFFSET(Female!AS$18,'Female Rev'!$A37-35,0),0.03999)","v":0.01},{"$f":"MIN(OFFSET(Female!AT$18,'Female Rev'!$A37-35,0),0.03999)","v":1.0500000000000001E-2},{"$f":"MIN(OFFSET(Female!AU$18,'Female Rev'!$A37-35,0),0.03999)","v":1.12E-2},{"$f":"MIN(OFFSET(Female!AV$18,'Female Rev'!$A37-35,0),0.03999)","v":1.2E-2},{"$f":"MIN(OFFSET(Female!AW$18,'Female Rev'!$A37-35,0),0.03999)","v":1.29E-2},{"$f":"MIN(OFFSET(Female!AX$18,'Female Rev'!$A37-35,0),0.03999)","v":1.38E-2},{"$f":"MIN(OFFSET(Female!AY$18,'Female Rev'!$A37-35,0),0.03999)","v":1.4800000000000001E-2},{"$f":"MIN(OFFSET(Female!AZ$18,'Female Rev'!$A37-35,0),0.03999)","v":1.5800000000000002E-2},{"$f":"MIN(OFFSET(Female!BA$18,'Female Rev'!$A37-35,0),0.03999)","v":1.67E-2},{"$f":"MIN(OFFSET(Female!BB$18,'Female Rev'!$A37-35,0),0.03999)","v":1.7399999999999999E-2},{"$f":"MIN(OFFSET(Female!BC$18,'Female Rev'!$A37-35,0),0.03999)","v":1.7899999999999999E-2},{"$f":"MIN(OFFSET(Female!BD$18,'Female Rev'!$A37-35,0),0.03999)","v":1.78E-2},{"$f":"MIN(OFFSET(Female!BE$18,'Female Rev'!$A37-35,0),0.03999)","v":1.72E-2},{"$f":"MIN(OFFSET(Female!BF$18,'Female Rev'!$A37-35,0),0.03999)","v":1.61E-2},{"$f":"MIN(OFFSET(Female!BG$18,'Female Rev'!$A37-35,0),0.03999)","v":1.43E-2},{"$f":"MIN(OFFSET(Female!BH$18,'Female Rev'!$A37-35,0),0.03999)","v":1.21E-2},{"$f":"MIN(OFFSET(Female!BI$18,'Female Rev'!$A37-35,0),0.03999)","v":9.5999999999999992E-3},{"$f":"MIN(OFFSET(Female!BJ$18,'Female Rev'!$A37-35,0),0.03999)","v":6.7000000000000002E-3},{"$f":"MIN(OFFSET(Female!BK$18,'Female Rev'!$A37-35,0),0.03999)","v":3.8E-3},{"$f":"MIN(OFFSET(Female!BL$18,'Female Rev'!$A37-35,0),0.03999)","v":1.2999999999999999E-3},{"$f":"MIN(OFFSET(Female!BM$18,'Female Rev'!$A37-35,0),0.03999)","v":-5.9999999999999995E-4},{"$f":"MIN(OFFSET(Female!BN$18,'Female Rev'!$A37-35,0),0.03999)","v":-1.9E-3},{"$f":"MIN(OFFSET(Female!BO$18,'Female Rev'!$A37-35,0),0.03999)","v":-2.2000000000000001E-3},{"$f":"MIN(OFFSET(Female!BP$18,'Female Rev'!$A37-35,0),0.03999)","v":-2E-3},{"$f":"MIN(OFFSET(Female!BQ$18,'Female Rev'!$A37-35,0),0.03999)","v":-1.2999999999999999E-3},{"$f":"MIN(OFFSET(Female!BR$18,'Female Rev'!$A37-35,0),0.03999)","v":-1E-4},{"$f":"MIN(OFFSET(Female!BS$18,'Female Rev'!$A37-35,0),0.03999)","v":1.2999999999999999E-3},{"$f":"MIN(OFFSET(Female!BT$18,'Female Rev'!$A37-35,0),0.03999)","v":2.8999999999999998E-3},{"$f":"MIN(OFFSET(Female!BU$18,'Female Rev'!$A37-35,0),0.03999)","v":4.4000000000000003E-3},{"$f":"MIN(OFFSET(Female!BV$18,'Female Rev'!$A37-35,0),0.03999)","v":5.8999999999999999E-3},{"$f":"MIN(OFFSET(Female!BW$18,'Female Rev'!$A37-35,0),0.03999)","v":7.1000000000000004E-3},{"$f":"MIN(OFFSET(Female!BX$18,'Female Rev'!$A37-35,0),0.03999)","v":7.7999999999999996E-3},{"$f":"MIN(OFFSET(Female!BY$18,'Female Rev'!$A37-35,0),0.03999)","v":8.3000000000000001E-3},{"$f":"MIN(OFFSET(Female!BZ$18,'Female Rev'!$A37-35,0),0.03999)","v":8.6999999999999994E-3},{"$f":"MIN(OFFSET(Female!CA$18,'Female Rev'!$A37-35,0),0.03999)","v":8.9999999999999993E-3},{"$f":"MIN(OFFSET(Female!CB$18,'Female Rev'!$A37-35,0),0.03999)","v":9.1999999999999998E-3},{"$f":"MIN(OFFSET(Female!CC$18,'Female Rev'!$A37-35,0),0.03999)","v":9.2999999999999992E-3},{"$f":"MIN(OFFSET(Female!CD$18,'Female Rev'!$A37-35,0),0.03999)","v":9.4999999999999998E-3},{"$f":"MIN(OFFSET(Female!CE$18,'Female Rev'!$A37-35,0),0.03999)","v":9.5999999999999992E-3},{"$f":"MIN(OFFSET(Female!CF$18,'Female Rev'!$A37-35,0),0.03999)","v":9.7999999999999997E-3},{"$f":"MIN(OFFSET(Female!CG$18,'Female Rev'!$A37-35,0),0.03999)","v":9.9000000000000008E-3},{"$f":"MIN(OFFSET(Female!CH$18,'Female Rev'!$A37-35,0),0.03999)","v":0.01}]
[60,60,{"$f":"MIN(OFFSET(Female!B$18,'Female Rev'!$A38-35,0),0.03999)","v":1.8499999999999999E-2},{"$f":"MIN(OFFSET(Female!C$18,'Female Rev'!$A38-35,0),0.03999)","v":1.83E-2},{"$f":"MIN(OFFSET(Female!D$18,'Female Rev'!$A38-35,0),0.03999)","v":1.7999999999999999E-2},{"$f":"MIN(OFFSET(Female!E$18,'Female Rev'!$A38-35,0),0.03999)","v":1.7299999999999999E-2},{"$f":"MIN(OFFSET(Female!F$18,'Female Rev'!$A38-35,0),0.03999)","v":1.6199999999999999E-2},{"$f":"MIN(OFFSET(Female!G$18,'Female Rev'!$A38-35,0),0.03999)","v":1.4999999999999999E-2},{"$f":"MIN(OFFSET(Female!H$18,'Female Rev'!$A38-35,0),0.03999)","v":1.38E-2},{"$f":"MIN(OFFSET(Female!I$18,'Female Rev'!$A38-35,0),0.03999)","v":1.2800000000000001E-2},{"$f":"MIN(OFFSET(Female!J$18,'Female Rev'!$A38-35,0),0.03999)","v":1.18E-2},{"$f":"MIN(OFFSET(Female!K$18,'Female Rev'!$A38-35,0),0.03999)","v":1.09E-2},{"$f":"MIN(OFFSET(Female!L$18,'Female Rev'!$A38-35,0),0.03999)","v":1.0200000000000001E-2},{"$f":"MIN(OFFSET(Female!M$18,'Female Rev'!$A38-35,0),0.03999)","v":9.5999999999999992E-3},{"$f":"MIN(OFFSET(Female!N$18,'Female Rev'!$A38-35,0),0.03999)","v":9.2999999999999992E-3},{"$f":"MIN(OFFSET(Female!O$18,'Female Rev'!$A38-35,0),0.03999)","v":9.1999999999999998E-3},{"$f":"MIN(OFFSET(Female!P$18,'Female Rev'!$A38-35,0),0.03999)","v":9.2999999999999992E-3},{"$f":"MIN(OFFSET(Female!Q$18,'Female Rev'!$A38-35,0),0.03999)","v":9.4999999999999998E-3},{"$f":"MIN(OFFSET(Female!R$18,'Female Rev'!$A38-35,0),0.03999)","v":9.9000000000000008E-3},{"$f":"MIN(OFFSET(Female!S$18,'Female Rev'!$A38-35,0),0.03999)","v":1.04E-2},{"$f":"MIN(OFFSET(Female!T$18,'Female Rev'!$A38-35,0),0.03999)","v":1.1299999999999999E-2},{"$f":"MIN(OFFSET(Female!U$18,'Female Rev'!$A38-35,0),0.03999)","v":1.23E-2},{"$f":"MIN(OFFSET(Female!V$18,'Female Rev'!$A38-35,0),0.03999)","v":1.3299999999999999E-2},{"$f":"MIN(OFFSET(Female!W$18,'Female Rev'!$A38-35,0),0.03999)","v":1.43E-2},{"$f":"MIN(OFFSET(Female!X$18,'Female Rev'!$A38-35,0),0.03999)","v":1.5100000000000001E-2},{"$f":"MIN(OFFSET(Female!Y$18,'Female Rev'!$A38-35,0),0.03999)","v":1.5699999999999999E-2},{"$f":"MIN(OFFSET(Female!Z$18,'Female Rev'!$A38-35,0),0.03999)","v":1.5800000000000002E-2},{"$f":"MIN(OFFSET(Female!AA$18,'Female Rev'!$A38-35,0),0.03999)","v":1.54E-2},{"$f":"MIN(OFFSET(Female!AB$18,'Female Rev'!$A38-35,0),0.03999)","v":1.46E-2},{"$f":"MIN(OFFSET(Female!AC$18,'Female Rev'!$A38-35,0),0.03999)","v":1.34E-2},{"$f":"MIN(OFFSET(Female!AD$18,'Female Rev'!$A38-35,0),0.03999)","v":1.2E-2},{"$f":"MIN(OFFSET(Female!AE$18,'Female Rev'!$A38-35,0),0.03999)","v":1.0500000000000001E-2},{"$f":"MIN(OFFSET(Female!AF$18,'Female Rev'!$A38-35,0),0.03999)","v":9.1000000000000004E-3},{"$f":"MIN(OFFSET(Female!AG$18,'Female Rev'!$A38-35,0),0.03999)","v":8.0999999999999996E-3},{"$f":"MIN(OFFSET(Female!AH$18,'Female Rev'!$A38-35,0),0.03999)","v":7.4999999999999997E-3},{"$f":"MIN(OFFSET(Female!AI$18,'Female Rev'!$A38-35,0),0.03999)","v":7.1999999999999998E-3},{"$f":"MIN(OFFSET(Female!AJ$18,'Female Rev'!$A38-35,0),0.03999)","v":7.3000000000000001E-3},{"$f":"MIN(OFFSET(Female!AK$18,'Female Rev'!$A38-35,0),0.03999)","v":7.6E-3},{"$f":"MIN(OFFSET(Female!AL$18,'Female Rev'!$A38-35,0),0.03999)","v":8.0000000000000002E-3},{"$f":"MIN(OFFSET(Female!AM$18,'Female Rev'!$A38-35,0),0.03999)","v":8.5000000000000006E-3},{"$f":"MIN(OFFSET(Female!AN$18,'Female Rev'!$A38-35,0),0.03999)","v":9.1000000000000004E-3},{"$f":"MIN(OFFSET(Female!AO$18,'Female Rev'!$A38-35,0),0.03999)","v":9.4999999999999998E-3},{"$f":"MIN(OFFSET(Female!AP$18,'Female Rev'!$A38-35,0),0.03999)","v":9.7999999999999997E-3},{"$f":"MIN(OFFSET(Female!AQ$18,'Female Rev'!$A38-35,0),0.03999)","v":0.01},{"$f":"MIN(OFFSET(Female!AR$18,'Female Rev'!$A38-35,0),0.03999)","v":1.0200000000000001E-2},{"$f":"MIN(OFFSET(Female!AS$18,'Female Rev'!$A38-35,0),0.03999)","v":1.0500000000000001E-2},{"$f":"MIN(OFFSET(Female!AT$18,'Female Rev'!$A38-35,0),0.03999)","v":1.0999999999999999E-2},{"$f":"MIN(OFFSET(Female!AU$18,'Female Rev'!$A38-35,0),0.03999)","v":1.15E-2},{"$f":"MIN(OFFSET(Female!AV$18,'Female Rev'!$A38-35,0),0.03999)","v":1.2200000000000001E-2},{"$f":"MIN(OFFSET(Female!AW$18,'Female Rev'!$A38-35,0),0.03999)","v":1.2999999999999999E-2},{"$f":"MIN(OFFSET(Female!AX$18,'Female Rev'!$A38-35,0),0.03999)","v":1.37E-2},{"$f":"MIN(OFFSET(Female!AY$18,'Female Rev'!$A38-35,0),0.03999)","v":1.4500000000000001E-2},{"$f":"MIN(OFFSET(Female!AZ$18,'Female Rev'!$A38-35,0),0.03999)","v":1.5299999999999999E-2},{"$f":"MIN(OFFSET(Female!BA$18,'Female Rev'!$A38-35,0),0.03999)","v":1.61E-2},{"$f":"MIN(OFFSET(Female!BB$18,'Female Rev'!$A38-35,0),0.03999)","v":1.67E-2},{"$f":"MIN(OFFSET(Female!BC$18,'Female Rev'!$A38-35,0),0.03999)","v":1.7100000000000001E-2},{"$f":"MIN(OFFSET(Female!BD$18,'Female Rev'!$A38-35,0),0.03999)","v":1.6899999999999998E-2},{"$f":"MIN(OFFSET(Female!BE$18,'Female Rev'!$A38-35,0),0.03999)","v":1.6199999999999999E-2},{"$f":"MIN(OFFSET(Female!BF$18,'Female Rev'!$A38-35,0),0.03999)","v":1.49E-2},{"$f":"MIN(OFFSET(Female!BG$18,'Female Rev'!$A38-35,0),0.03999)","v":1.2999999999999999E-2},{"$f":"MIN(OFFSET(Female!BH$18,'Female Rev'!$A38-35,0),0.03999)","v":1.0699999999999999E-2},{"$f":"MIN(OFFSET(Female!BI$18,'Female Rev'!$A38-35,0),0.03999)","v":8.0999999999999996E-3},{"$f":"MIN(OFFSET(Female!BJ$18,'Female Rev'!$A38-35,0),0.03999)","v":5.1999999999999998E-3},{"$f":"MIN(OFFSET(Female!BK$18,'Female Rev'!$A38-35,0),0.03999)","v":2.3999999999999998E-3},{"$f":"MIN(OFFSET(Female!BL$18,'Female Rev'!$A38-35,0),0.03999)","v":0},{"$f":"MIN(OFFSET(Female!BM$18,'Female Rev'!$A38-35,0),0.03999)","v":-1.9E-3},{"$f":"MIN(OFFSET(Female!BN$18,'Female Rev'!$A38-35,0),0.03999)","v":-3.0000000000000001E-3},{"$f":"MIN(OFFSET(Female!BO$18,'Female Rev'!$A38-35,0),0.03999)","v":-3.0999999999999999E-3},{"$f":"MIN(OFFSET(Female!BP$18,'Female Rev'!$A38-35,0),0.03999)","v":-2.7000000000000001E-3},{"$f":"MIN(OFFSET(Female!BQ$18,'Female Rev'!$A38-35,0),0.03999)","v":-1.6999999999999999E-3},{"$f":"MIN(OFFSET(Female!BR$18,'Female Rev'!$A38-35,0),0.03999)","v":-2.9999999999999997E-4},{"$f":"MIN(OFFSET(Female!BS$18,'Female Rev'!$A38-35,0),0.03999)","v":1.2999999999999999E-3},{"$f":"MIN(OFFSET(Female!BT$18,'Female Rev'!$A38-35,0),0.03999)","v":3.0999999999999999E-3},{"$f":"MIN(OFFSET(Female!BU$18,'Female Rev'!$A38-35,0),0.03999)","v":4.7000000000000002E-3},{"$f":"MIN(OFFSET(Female!BV$18,'Female Rev'!$A38-35,0),0.03999)","v":6.1999999999999998E-3},{"$f":"MIN(OFFSET(Female!BW$18,'Female Rev'!$A38-35,0),0.03999)","v":7.3000000000000001E-3},{"$f":"MIN(OFFSET(Female!BX$18,'Female Rev'!$A38-35,0),0.03999)","v":8.0000000000000002E-3},{"$f":"MIN(OFFSET(Female!BY$18,'Female Rev'!$A38-35,0),0.03999)","v":8.3999999999999995E-3},{"$f":"MIN(OFFSET(Female!BZ$18,'Female Rev'!$A38-35,0),0.03999)","v":8.6999999999999994E-3},{"$f":"MIN(OFFSET(Female!CA$18,'Female Rev'!$A38-35,0),0.03999)","v":8.8999999999999999E-3},{"$f":"MIN(OFFSET(Female!CB$18,'Female Rev'!$A38-35,0),0.03999)","v":9.1000000000000004E-3},{"$f":"MIN(OFFSET(Female!CC$18,'Female Rev'!$A38-35,0),0.03999)","v":9.1999999999999998E-3},{"$f":"MIN(OFFSET(Female!CD$18,'Female Rev'!$A38-35,0),0.03999)","v":9.4000000000000004E-3},{"$f":"MIN(OFFSET(Female!CE$18,'Female Rev'!$A38-35,0),0.03999)","v":9.5999999999999992E-3},{"$f":"MIN(OFFSET(Female!CF$18,'Female Rev'!$A38-35,0),0.03999)","v":9.7999999999999997E-3},{"$f":"MIN(OFFSET(Female!CG$18,'Female Rev'!$A38-35,0),0.03999)","v":9.9000000000000008E-3},{"$f":"MIN(OFFSET(Female!CH$18,'Female Rev'!$A38-35,0),0.03999)","v":0.01}]
[59,59,{"$f":"MIN(OFFSET(Female!B$18,'Female Rev'!$A39-35,0),0.03999)","v":1.8800000000000001E-2},{"$f":"MIN(OFFSET(Female!C$18,'Female Rev'!$A39-35,0),0.03999)","v":1.8700000000000001E-2},{"$f":"MIN(OFFSET(Female!D$18,'Female Rev'!$A39-35,0),0.03999)","v":1.83E-2},{"$f":"MIN(OFFSET(Female!E$18,'Female Rev'!$A39-35,0),0.03999)","v":1.7600000000000001E-2},{"$f":"MIN(OFFSET(Female!F$18,'Female Rev'!$A39-35,0),0.03999)","v":1.6500000000000001E-2},{"$f":"MIN(OFFSET(Female!G$18,'Female Rev'!$A39-35,0),0.03999)","v":1.5299999999999999E-2},{"$f":"MIN(OFFSET(Female!H$18,'Female Rev'!$A39-35,0),0.03999)","v":1.41E-2},{"$f":"MIN(OFFSET(Female!I$18,'Female Rev'!$A39-35,0),0.03999)","v":1.2999999999999999E-2},{"$f":"MIN(OFFSET(Female!J$18,'Female Rev'!$A39-35,0),0.03999)","v":1.1900000000000001E-2},{"$f":"MIN(OFFSET(Female!K$18,'Female Rev'!$A39-35,0),0.03999)","v":1.09E-2},{"$f":"MIN(OFFSET(Female!L$18,'Female Rev'!$A39-35,0),0.03999)","v":0.01},{"$f":"MIN(OFFSET(Female!M$18,'Female Rev'!$A39-35,0),0.03999)","v":9.1999999999999998E-3},{"$f":"MIN(OFFSET(Female!N$18,'Female Rev'!$A39-35,0),0.03999)","v":8.6999999999999994E-3},{"$f":"MIN(OFFSET(Female!O$18,'Female Rev'!$A39-35,0),0.03999)","v":8.5000000000000006E-3},{"$f":"MIN(OFFSET(Female!P$18,'Female Rev'!$A39-35,0),0.03999)","v":8.3999999999999995E-3},{"$f":"MIN(OFFSET(Female!Q$18,'Female Rev'!$A39-35,0),0.03999)","v":8.5000000000000006E-3},{"$f":"MIN(OFFSET(Female!R$18,'Female Rev'!$A39-35,0),0.03999)","v":8.8999999999999999E-3},{"$f":"MIN(OFFSET(Female!S$18,'Female Rev'!$A39-35,0),0.03999)","v":9.4999999999999998E-3},{"$f":"MIN(OFFSET(Female!T$18,'Female Rev'!$A39-35,0),0.03999)","v":1.0500000000000001E-2},{"$f":"MIN(OFFSET(Female!U$18,'Female Rev'!$A39-35,0),0.03999)","v":1.17E-2},{"$f":"MIN(OFFSET(Female!V$18,'Female Rev'!$A39-35,0),0.03999)","v":1.2999999999999999E-2},{"$f":"MIN(OFFSET(Female!W$18,'Female Rev'!$A39-35,0),0.03999)","v":1.4200000000000001E-2},{"$f":"MIN(OFFSET(Female!X$18,'Female Rev'!$A39-35,0),0.03999)","v":1.5299999999999999E-2},{"$f":"MIN(OFFSET(Female!Y$18,'Female Rev'!$A39-35,0),0.03999)","v":1.61E-2},{"$f":"MIN(OFFSET(Female!Z$18,'Female Rev'!$A39-35,0),0.03999)","v":1.6400000000000001E-2},{"$f":"MIN(OFFSET(Female!AA$18,'Female Rev'!$A39-35,0),0.03999)","v":1.61E-2},{"$f":"MIN(OFFSET(Female!AB$18,'Female Rev'!$A39-35,0),0.03999)","v":1.54E-2},{"$f":"MIN(OFFSET(Female!AC$18,'Female Rev'!$A39-35,0),0.03999)","v":1.4200000000000001E-2},{"$f":"MIN(OFFSET(Female!AD$18,'Female Rev'!$A39-35,0),0.03999)","v":1.2800000000000001E-2},{"$f":"MIN(OFFSET(Female!AE$18,'Female Rev'!$A39-35,0),0.03999)","v":1.1299999999999999E-2},{"$f":"MIN(OFFSET(Female!AF$18,'Female Rev'!$A39-35,0),0.03999)","v":9.9000000000000008E-3},{"$f":"MIN(OFFSET(Female!AG$18,'Female Rev'!$A39-35,0),0.03999)","v":8.8999999999999999E-3},{"$f":"MIN(OFFSET(Female!AH$18,'Female Rev'!$A39-35,0),0.03999)","v":8.3000000000000001E-3},{"$f":"MIN(OFFSET(Female!AI$18,'Female Rev'!$A39-35,0),0.03999)","v":8.0000000000000002E-3},{"$f":"MIN(OFFSET(Female!AJ$18,'Female Rev'!$A39-35,0),0.03999)","v":8.0999999999999996E-3},{"$f":"MIN(OFFSET(Female!AK$18,'Female Rev'!$A39-35,0),0.03999)","v":8.3000000000000001E-3},{"$f":"MIN(OFFSET(Female!AL$18,'Female Rev'!$A39-35,0),0.03999)","v":8.6E-3},{"$f":"MIN(OFFSET(Female!AM$18,'Female Rev'!$A39-35,0),0.03999)","v":8.9999999999999993E-3},{"$f":"MIN(OFFSET(Female!AN$18,'Female Rev'!$A39-35,0),0.03999)","v":9.5999999999999992E-3},{"$f":"MIN(OFFSET(Female!AO$18,'Female Rev'!$A39-35,0),0.03999)","v":0.01},{"$f":"MIN(OFFSET(Female!AP$18,'Female Rev'!$A39-35,0),0.03999)","v":1.03E-2},{"$f":"MIN(OFFSET(Female!AQ$18,'Female Rev'!$A39-35,0),0.03999)","v":1.0500000000000001E-2},{"$f":"MIN(OFFSET(Female!AR$18,'Female Rev'!$A39-35,0),0.03999)","v":1.0699999999999999E-2},{"$f":"MIN(OFFSET(Female!AS$18,'Female Rev'!$A39-35,0),0.03999)","v":1.0999999999999999E-2},{"$f":"MIN(OFFSET(Female!AT$18,'Female Rev'!$A39-35,0),0.03999)","v":1.14E-2},{"$f":"MIN(OFFSET(Female!AU$18,'Female Rev'!$A39-35,0),0.03999)","v":1.18E-2},{"$f":"MIN(OFFSET(Female!AV$18,'Female Rev'!$A39-35,0),0.03999)","v":1.23E-2},{"$f":"MIN(OFFSET(Female!AW$18,'Female Rev'!$A39-35,0),0.03999)","v":1.29E-2},{"$f":"MIN(OFFSET(Female!AX$18,'Female Rev'!$A39-35,0),0.03999)","v":1.34E-2},{"$f":"MIN(OFFSET(Female!AY$18,'Female Rev'!$A39-35,0),0.03999)","v":1.4E-2},{"$f":"MIN(OFFSET(Female!AZ$18,'Female Rev'!$A39-35,0),0.03999)","v":1.47E-2},{"$f":"MIN(OFFSET(Female!BA$18,'Female Rev'!$A39-35,0),0.03999)","v":1.5299999999999999E-2},{"$f":"MIN(OFFSET(Female!BB$18,'Female Rev'!$A39-35,0),0.03999)","v":1.5800000000000002E-2},{"$f":"MIN(OFFSET(Female!BC$18,'Female Rev'!$A39-35,0),0.03999)","v":1.6E-2},{"$f":"MIN(OFFSET(Female!BD$18,'Female Rev'!$A39-35,0),0.03999)","v":1.5699999999999999E-2},{"$f":"MIN(OFFSET(Female!BE$18,'Female Rev'!$A39-35,0),0.03999)","v":1.49E-2},{"$f":"MIN(OFFSET(Female!BF$18,'Female Rev'!$A39-35,0),0.03999)","v":1.35E-2},{"$f":"MIN(OFFSET(Female!BG$18,'Female Rev'!$A39-35,0),0.03999)","v":1.15E-2},{"$f":"MIN(OFFSET(Female!BH$18,'Female Rev'!$A39-35,0),0.03999)","v":9.1999999999999998E-3},{"$f":"MIN(OFFSET(Female!BI$18,'Female Rev'!$A39-35,0),0.03999)","v":6.6E-3},{"$f":"MIN(OFFSET(Female!BJ$18,'Female Rev'!$A39-35,0),0.03999)","v":3.8E-3},{"$f":"MIN(OFFSET(Female!BK$18,'Female Rev'!$A39-35,0),0.03999)","v":1.1000000000000001E-3},{"$f":"MIN(OFFSET(Female!BL$18,'Female Rev'!$A39-35,0),0.03999)","v":-1.1000000000000001E-3},{"$f":"MIN(OFFSET(Female!BM$18,'Female Rev'!$A39-35,0),0.03999)","v":-2.8E-3},{"$f":"MIN(OFFSET(Female!BN$18,'Female Rev'!$A39-35,0),0.03999)","v":-3.7000000000000002E-3},{"$f":"MIN(OFFSET(Female!BO$18,'Female Rev'!$A39-35,0),0.03999)","v":-3.5999999999999999E-3},{"$f":"MIN(OFFSET(Female!BP$18,'Female Rev'!$A39-35,0),0.03999)","v":-3.0000000000000001E-3},{"$f":"MIN(OFFSET(Female!BQ$18,'Female Rev'!$A39-35,0),0.03999)","v":-1.8E-3},{"$f":"MIN(OFFSET(Female!BR$18,'Female Rev'!$A39-35,0),0.03999)","v":-2.0000000000000001E-4},{"$f":"MIN(OFFSET(Female!BS$18,'Female Rev'!$A39-35,0),0.03999)","v":1.6000000000000001E-3},{"$f":"MIN(OFFSET(Female!BT$18,'Female Rev'!$A39-35,0),0.03999)","v":3.3999999999999998E-3},{"$f":"MIN(OFFSET(Female!BU$18,'Female Rev'!$A39-35,0),0.03999)","v":5.0000000000000001E-3},{"$f":"MIN(OFFSET(Female!BV$18,'Female Rev'!$A39-35,0),0.03999)","v":6.4999999999999997E-3},{"$f":"MIN(OFFSET(Female!BW$18,'Female Rev'!$A39-35,0),0.03999)","v":7.4999999999999997E-3},{"$f":"MIN(OFFSET(Female!BX$18,'Female Rev'!$A39-35,0),0.03999)","v":8.0999999999999996E-3},{"$f":"MIN(OFFSET(Female!BY$18,'Female Rev'!$A39-35,0),0.03999)","v":8.3999999999999995E-3},{"$f":"MIN(OFFSET(Female!BZ$18,'Female Rev'!$A39-35,0),0.03999)","v":8.6E-3},{"$f":"MIN(OFFSET(Female!CA$18,'Female Rev'!$A39-35,0),0.03999)","v":8.8000000000000005E-3},{"$f":"MIN(OFFSET(Female!CB$18,'Female Rev'!$A39-35,0),0.03999)","v":8.8999999999999999E-3},{"$f":"MIN(OFFSET(Female!CC$18,'Female Rev'!$A39-35,0),0.03999)","v":9.1000000000000004E-3},{"$f":"MIN(OFFSET(Female!CD$18,'Female Rev'!$A39-35,0),0.03999)","v":9.2999999999999992E-3},{"$f":"MIN(OFFSET(Female!CE$18,'Female Rev'!$A39-35,0),0.03999)","v":9.4999999999999998E-3},{"$f":"MIN(OFFSET(Female!CF$18,'Female Rev'!$A39-35,0),0.03999)","v":9.7000000000000003E-3},{"$f":"MIN(OFFSET(Female!CG$18,'Female Rev'!$A39-35,0),0.03999)","v":9.9000000000000008E-3},{"$f":"MIN(OFFSET(Female!CH$18,'Female Rev'!$A39-35,0),0.03999)","v":0.01}]
[58,58,{"$f":"MIN(OFFSET(Female!B$18,'Female Rev'!$A40-35,0),0.03999)","v":1.9099999999999999E-2},{"$f":"MIN(OFFSET(Female!C$18,'Female Rev'!$A40-35,0),0.03999)","v":1.9E-2},{"$f":"MIN(OFFSET(Female!D$18,'Female Rev'!$A40-35,0),0.03999)","v":1.8700000000000001E-2},{"$f":"MIN(OFFSET(Female!E$18,'Female Rev'!$A40-35,0),0.03999)","v":1.7999999999999999E-2},{"$f":"MIN(OFFSET(Female!F$18,'Female Rev'!$A40-35,0),0.03999)","v":1.6799999999999999E-2},{"$f":"MIN(OFFSET(Female!G$18,'Female Rev'!$A40-35,0),0.03999)","v":1.55E-2},{"$f":"MIN(OFFSET(Female!H$18,'Female Rev'!$A40-35,0),0.03999)","v":1.43E-2},{"$f":"MIN(OFFSET(Female!I$18,'Female Rev'!$A40-35,0),0.03999)","v":1.32E-2},{"$f":"MIN(OFFSET(Female!J$18,'Female Rev'!$A40-35,0),0.03999)","v":1.2E-2},{"$f":"MIN(OFFSET(Female!K$18,'Female Rev'!$A40-35,0),0.03999)","v":1.09E-2},{"$f":"MIN(OFFSET(Female!L$18,'Female Rev'!$A40-35,0),0.03999)","v":9.7999999999999997E-3},{"$f":"MIN(OFFSET(Female!M$18,'Female Rev'!$A40-35,0),0.03999)","v":8.8000000000000005E-3},{"$f":"MIN(OFFSET(Female!N$18,'Female Rev'!$A40-35,0),0.03999)","v":8.0999999999999996E-3},{"$f":"MIN(OFFSET(Female!O$18,'Female Rev'!$A40-35,0),0.03999)","v":7.7000000000000002E-3},{"$f":"MIN(OFFSET(Female!P$18,'Female Rev'!$A40-35,0),0.03999)","v":7.4999999999999997E-3},{"$f":"MIN(OFFSET(Female!Q$18,'Female Rev'!$A40-35,0),0.03999)","v":7.6E-3},{"$f":"MIN(OFFSET(Female!R$18,'Female Rev'!$A40-35,0),0.03999)","v":8.0000000000000002E-3},{"$f":"MIN(OFFSET(Female!S$18,'Female Rev'!$A40-35,0),0.03999)","v":8.6999999999999994E-3},{"$f":"MIN(OFFSET(Female!T$18,'Female Rev'!$A40-35,0),0.03999)","v":9.9000000000000008E-3},{"$f":"MIN(OFFSET(Female!U$18,'Female Rev'!$A40-35,0),0.03999)","v":1.1299999999999999E-2},{"$f":"MIN(OFFSET(Female!V$18,'Female Rev'!$A40-35,0),0.03999)","v":1.2800000000000001E-2},{"$f":"MIN(OFFSET(Female!W$18,'Female Rev'!$A40-35,0),0.03999)","v":1.4200000000000001E-2},{"$f":"MIN(OFFSET(Female!X$18,'Female Rev'!$A40-35,0),0.03999)","v":1.55E-2},{"$f":"MIN(OFFSET(Female!Y$18,'Female Rev'!$A40-35,0),0.03999)","v":1.6500000000000001E-2},{"$f":"MIN(OFFSET(Female!Z$18,'Female Rev'!$A40-35,0),0.03999)","v":1.7000000000000001E-2},{"$f":"MIN(OFFSET(Female!AA$18,'Female Rev'!$A40-35,0),0.03999)","v":1.6899999999999998E-2},{"$f":"MIN(OFFSET(Female!AB$18,'Female Rev'!$A40-35,0),0.03999)","v":1.6199999999999999E-2},{"$f":"MIN(OFFSET(Female!AC$18,'Female Rev'!$A40-35,0),0.03999)","v":1.5100000000000001E-2},{"$f":"MIN(OFFSET(Female!AD$18,'Female Rev'!$A40-35,0),0.03999)","v":1.37E-2},{"$f":"MIN(OFFSET(Female!AE$18,'Female Rev'!$A40-35,0),0.03999)","v":1.21E-2},{"$f":"MIN(OFFSET(Female!AF$18,'Female Rev'!$A40-35,0),0.03999)","v":1.0800000000000001E-2},{"$f":"MIN(OFFSET(Female!AG$18,'Female Rev'!$A40-35,0),0.03999)","v":9.9000000000000008E-3},{"$f":"MIN(OFFSET(Female!AH$18,'Female Rev'!$A40-35,0),0.03999)","v":9.1999999999999998E-3},{"$f":"MIN(OFFSET(Female!AI$18,'Female Rev'!$A40-35,0),0.03999)","v":8.8999999999999999E-3},{"$f":"MIN(OFFSET(Female!AJ$18,'Female Rev'!$A40-35,0),0.03999)","v":8.8999999999999999E-3},{"$f":"MIN(OFFSET(Female!AK$18,'Female Rev'!$A40-35,0),0.03999)","v":9.1000000000000004E-3},{"$f":"MIN(OFFSET(Female!AL$18,'Female Rev'!$A40-35,0),0.03999)","v":9.2999999999999992E-3},{"$f":"MIN(OFFSET(Female!AM$18,'Female Rev'!$A40-35,0),0.03999)","v":9.5999999999999992E-3},{"$f":"MIN(OFFSET(Female!AN$18,'Female Rev'!$A40-35,0),0.03999)","v":1.01E-2},{"$f":"MIN(OFFSET(Female!AO$18,'Female Rev'!$A40-35,0),0.03999)","v":1.0500000000000001E-2},{"$f":"MIN(OFFSET(Female!AP$18,'Female Rev'!$A40-35,0),0.03999)","v":1.0699999999999999E-2},{"$f":"MIN(OFFSET(Female!AQ$18,'Female Rev'!$A40-35,0),0.03999)","v":1.0999999999999999E-2},{"$f":"MIN(OFFSET(Female!AR$18,'Female Rev'!$A40-35,0),0.03999)","v":1.12E-2},{"$f":"MIN(OFFSET(Female!AS$18,'Female Rev'!$A40-35,0),0.03999)","v":1.14E-2},{"$f":"MIN(OFFSET(Female!AT$18,'Female Rev'!$A40-35,0),0.03999)","v":1.17E-2},{"$f":"MIN(OFFSET(Female!AU$18,'Female Rev'!$A40-35,0),0.03999)","v":1.2E-2},{"$f":"MIN(OFFSET(Female!AV$18,'Female Rev'!$A40-35,0),0.03999)","v":1.23E-2},{"$f":"MIN(OFFSET(Female!AW$18,'Female Rev'!$A40-35,0),0.03999)","v":1.2699999999999999E-2},{"$f":"MIN(OFFSET(Female!AX$18,'Female Rev'!$A40-35,0),0.03999)","v":1.2999999999999999E-2},{"$f":"MIN(OFFSET(Female!AY$18,'Female Rev'!$A40-35,0),0.03999)","v":1.34E-2},{"$f":"MIN(OFFSET(Female!AZ$18,'Female Rev'!$A40-35,0),0.03999)","v":1.3899999999999999E-2},{"$f":"MIN(OFFSET(Female!BA$18,'Female Rev'!$A40-35,0),0.03999)","v":1.44E-2},{"$f":"MIN(OFFSET(Female!BB$18,'Female Rev'!$A40-35,0),0.03999)","v":1.47E-2},{"$f":"MIN(OFFSET(Female!BC$18,'Female Rev'!$A40-35,0),0.03999)","v":1.4800000000000001E-2},{"$f":"MIN(OFFSET(Female!BD$18,'Female Rev'!$A40-35,0),0.03999)","v":1.44E-2},{"$f":"MIN(OFFSET(Female!BE$18,'Female Rev'!$A40-35,0),0.03999)","v":1.34E-2},{"$f":"MIN(OFFSET(Female!BF$18,'Female Rev'!$A40-35,0),0.03999)","v":1.2E-2},{"$f":"MIN(OFFSET(Female!BG$18,'Female Rev'!$A40-35,0),0.03999)","v":0.01},{"$f":"MIN(OFFSET(Female!BH$18,'Female Rev'!$A40-35,0),0.03999)","v":7.7000000000000002E-3},{"$f":"MIN(OFFSET(Female!BI$18,'Female Rev'!$A40-35,0),0.03999)","v":5.1999999999999998E-3},{"$f":"MIN(OFFSET(Female!BJ$18,'Female Rev'!$A40-35,0),0.03999)","v":2.5999999999999999E-3},{"$f":"MIN(OFFSET(Female!BK$18,'Female Rev'!$A40-35,0),0.03999)","v":1E-4},{"$f":"MIN(OFFSET(Female!BL$18,'Female Rev'!$A40-35,0),0.03999)","v":-1.9E-3},{"$f":"MIN(OFFSET(Female!BM$18,'Female Rev'!$A40-35,0),0.03999)","v":-3.3E-3},{"$f":"MIN(OFFSET(Female!BN$18,'Female Rev'!$A40-35,0),0.03999)","v":-4.1000000000000003E-3},{"$f":"MIN(OFFSET(Female!BO$18,'Female Rev'!$A40-35,0),0.03999)","v":-3.8E-3},{"$f":"MIN(OFFSET(Female!BP$18,'Female Rev'!$A40-35,0),0.03999)","v":-2.8999999999999998E-3},{"$f":"MIN(OFFSET(Female!BQ$18,'Female Rev'!$A40-35,0),0.03999)","v":-1.5E-3},{"$f":"MIN(OFFSET(Female!BR$18,'Female Rev'!$A40-35,0),0.03999)","v":1E-4},{"$f":"MIN(OFFSET(Female!BS$18,'Female Rev'!$A40-35,0),0.03999)","v":1.9E-3},{"$f":"MIN(OFFSET(Female!BT$18,'Female Rev'!$A40-35,0),0.03999)","v":3.7000000000000002E-3},{"$f":"MIN(OFFSET(Female!BU$18,'Female Rev'!$A40-35,0),0.03999)","v":5.4000000000000003E-3},{"$f":"MIN(OFFSET(Female!BV$18,'Female Rev'!$A40-35,0),0.03999)","v":6.7000000000000002E-3},{"$f":"MIN(OFFSET(Female!BW$18,'Female Rev'!$A40-35,0),0.03999)","v":7.7000000000000002E-3},{"$f":"MIN(OFFSET(Female!BX$18,'Female Rev'!$A40-35,0),0.03999)","v":8.2000000000000007E-3},{"$f":"MIN(OFFSET(Female!BY$18,'Female Rev'!$A40-35,0),0.03999)","v":8.3999999999999995E-3},{"$f":"MIN(OFFSET(Female!BZ$18,'Female Rev'!$A40-35,0),0.03999)","v":8.5000000000000006E-3},{"$f":"MIN(OFFSET(Female!CA$18,'Female Rev'!$A40-35,0),0.03999)","v":8.6E-3},{"$f":"MIN(OFFSET(Female!CB$18,'Female Rev'!$A40-35,0),0.03999)","v":8.6999999999999994E-3},{"$f":"MIN(OFFSET(Female!CC$18,'Female Rev'!$A40-35,0),0.03999)","v":8.8999999999999999E-3},{"$f":"MIN(OFFSET(Female!CD$18,'Female Rev'!$A40-35,0),0.03999)","v":9.1000000000000004E-3},{"$f":"MIN(OFFSET(Female!CE$18,'Female Rev'!$A40-35,0),0.03999)","v":9.4000000000000004E-3},{"$f":"MIN(OFFSET(Female!CF$18,'Female Rev'!$A40-35,0),0.03999)","v":9.7000000000000003E-3},{"$f":"MIN(OFFSET(Female!CG$18,'Female Rev'!$A40-35,0),0.03999)","v":9.9000000000000008E-3},{"$f":"MIN(OFFSET(Female!CH$18,'Female Rev'!$A40-35,0),0.03999)","v":0.01}]
[57,57,{"$f":"MIN(OFFSET(Female!B$18,'Female Rev'!$A41-35,0),0.03999)","v":1.9400000000000001E-2},{"$f":"MIN(OFFSET(Female!C$18,'Female Rev'!$A41-35,0),0.03999)","v":1.9300000000000001E-2},{"$f":"MIN(OFFSET(Female!D$18,'Female Rev'!$A41-35,0),0.03999)","v":1.9E-2},{"$f":"MIN(OFFSET(Female!E$18,'Female Rev'!$A41-35,0),0.03999)","v":1.83E-2},{"$f":"MIN(OFFSET(Female!F$18,'Female Rev'!$A41-35,0),0.03999)","v":1.72E-2},{"$f":"MIN(OFFSET(Female!G$18,'Female Rev'!$A41-35,0),0.03999)","v":1.5900000000000001E-2},{"$f":"MIN(OFFSET(Female!H$18,'Female Rev'!$A41-35,0),0.03999)","v":1.46E-2},{"$f":"MIN(OFFSET(Female!I$18,'Female Rev'!$A41-35,0),0.03999)","v":1.3299999999999999E-2},{"$f":"MIN(OFFSET(Female!J$18,'Female Rev'!$A41-35,0),0.03999)","v":1.21E-2},{"$f":"MIN(OFFSET(Female!K$18,'Female Rev'!$A41-35,0),0.03999)","v":1.0800000000000001E-2},{"$f":"MIN(OFFSET(Female!L$18,'Female Rev'!$A41-35,0),0.03999)","v":9.5999999999999992E-3},{"$f":"MIN(OFFSET(Female!M$18,'Female Rev'!$A41-35,0),0.03999)","v":8.3999999999999995E-3},{"$f":"MIN(OFFSET(Female!N$18,'Female Rev'!$A41-35,0),0.03999)","v":7.4999999999999997E-3},{"$f":"MIN(OFFSET(Female!O$18,'Female Rev'!$A41-35,0),0.03999)","v":7.0000000000000001E-3},{"$f":"MIN(OFFSET(Female!P$18,'Female Rev'!$A41-35,0),0.03999)","v":6.7000000000000002E-3},{"$f":"MIN(OFFSET(Female!Q$18,'Female Rev'!$A41-35,0),0.03999)","v":6.7000000000000002E-3},{"$f":"MIN(OFFSET(Female!R$18,'Female Rev'!$A41-35,0),0.03999)","v":7.1000000000000004E-3},{"$f":"MIN(OFFSET(Female!S$18,'Female Rev'!$A41-35,0),0.03999)","v":8.0000000000000002E-3},{"$f":"MIN(OFFSET(Female!T$18,'Female Rev'!$A41-35,0),0.03999)","v":9.2999999999999992E-3},{"$f":"MIN(OFFSET(Female!U$18,'Female Rev'!$A41-35,0),0.03999)","v":1.0999999999999999E-2},{"$f":"MIN(OFFSET(Female!V$18,'Female Rev'!$A41-35,0),0.03999)","v":1.2699999999999999E-2},{"$f":"MIN(OFFSET(Female!W$18,'Female Rev'!$A41-35,0),0.03999)","v":1.43E-2},{"$f":"MIN(OFFSET(Female!X$18,'Female Rev'!$A41-35,0),0.03999)","v":1.5900000000000001E-2},{"$f":"MIN(OFFSET(Female!Y$18,'Female Rev'!$A41-35,0),0.03999)","v":1.7100000000000001E-2},{"$f":"MIN(OFFSET(Female!Z$18,'Female Rev'!$A41-35,0),0.03999)","v":1.7600000000000001E-2},{"$f":"MIN(OFFSET(Female!AA$18,'Female Rev'!$A41-35,0),0.03999)","v":1.7600000000000001E-2},{"$f":"MIN(OFFSET(Female!AB$18,'Female Rev'!$A41-35,0),0.03999)","v":1.7100000000000001E-2},{"$f":"MIN(OFFSET(Female!AC$18,'Female Rev'!$A41-35,0),0.03999)","v":1.6E-2},{"$f":"MIN(OFFSET(Female!AD$18,'Female Rev'!$A41-35,0),0.03999)","v":1.46E-2},{"$f":"MIN(OFFSET(Female!AE$18,'Female Rev'!$A41-35,0),0.03999)","v":1.3100000000000001E-2},{"$f":"MIN(OFFSET(Female!AF$18,'Female Rev'!$A41-35,0),0.03999)","v":1.1900000000000001E-2},{"$f":"MIN(OFFSET(Female!AG$18,'Female Rev'!$A41-35,0),0.03999)","v":1.09E-2},{"$f":"MIN(OFFSET(Female!AH$18,'Female Rev'!$A41-35,0),0.03999)","v":1.0200000000000001E-2},{"$f":"MIN(OFFSET(Female!AI$18,'Female Rev'!$A41-35,0),0.03999)","v":9.7999999999999997E-3},{"$f":"MIN(OFFSET(Female!AJ$18,'Female Rev'!$A41-35,0),0.03999)","v":9.7999999999999997E-3},{"$f":"MIN(OFFSET(Female!AK$18,'Female Rev'!$A41-35,0),0.03999)","v":9.7999999999999997E-3},{"$f":"MIN(OFFSET(Female!AL$18,'Female Rev'!$A41-35,0),0.03999)","v":9.9000000000000008E-3},{"$f":"MIN(OFFSET(Female!AM$18,'Female Rev'!$A41-35,0),0.03999)","v":1.0200000000000001E-2},{"$f":"MIN(OFFSET(Female!AN$18,'Female Rev'!$A41-35,0),0.03999)","v":1.06E-2},{"$f":"MIN(OFFSET(Female!AO$18,'Female Rev'!$A41-35,0),0.03999)","v":1.09E-2},{"$f":"MIN(OFFSET(Female!AP$18,'Female Rev'!$A41-35,0),0.03999)","v":1.11E-2},{"$f":"MIN(OFFSET(Female!AQ$18,'Female Rev'!$A41-35,0),0.03999)","v":1.14E-2},{"$f":"MIN(OFFSET(Female!AR$18,'Female Rev'!$A41-35,0),0.03999)","v":1.15E-2},{"$f":"MIN(OFFSET(Female!AS$18,'Female Rev'!$A41-35,0),0.03999)","v":1.17E-2},{"$f":"MIN(OFFSET(Female!AT$18,'Female Rev'!$A41-35,0),0.03999)","v":1.18E-2},{"$f":"MIN(OFFSET(Female!AU$18,'Female Rev'!$A41-35,0),0.03999)","v":1.2E-2},{"$f":"MIN(OFFSET(Female!AV$18,'Female Rev'!$A41-35,0),0.03999)","v":1.2200000000000001E-2},{"$f":"MIN(OFFSET(Female!AW$18,'Female Rev'!$A41-35,0),0.03999)","v":1.23E-2},{"$f":"MIN(OFFSET(Female!AX$18,'Female Rev'!$A41-35,0),0.03999)","v":1.24E-2},{"$f":"MIN(OFFSET(Female!AY$18,'Female Rev'!$A41-35,0),0.03999)","v":1.26E-2},{"$f":"MIN(OFFSET(Female!AZ$18,'Female Rev'!$A41-35,0),0.03999)","v":1.2800000000000001E-2},{"$f":"MIN(OFFSET(Female!BA$18,'Female Rev'!$A41-35,0),0.03999)","v":1.3100000000000001E-2},{"$f":"MIN(OFFSET(Female!BB$18,'Female Rev'!$A41-35,0),0.03999)","v":1.3299999999999999E-2},{"$f":"MIN(OFFSET(Female!BC$18,'Female Rev'!$A41-35,0),0.03999)","v":1.3299999999999999E-2},{"$f":"MIN(OFFSET(Female!BD$18,'Female Rev'!$A41-35,0),0.03999)","v":1.2800000000000001E-2},{"$f":"MIN(OFFSET(Female!BE$18,'Female Rev'!$A41-35,0),0.03999)","v":1.18E-2},{"$f":"MIN(OFFSET(Female!BF$18,'Female Rev'!$A41-35,0),0.03999)","v":1.04E-2},{"$f":"MIN(OFFSET(Female!BG$18,'Female Rev'!$A41-35,0),0.03999)","v":8.5000000000000006E-3},{"$f":"MIN(OFFSET(Female!BH$18,'Female Rev'!$A41-35,0),0.03999)","v":6.4000000000000003E-3},{"$f":"MIN(OFFSET(Female!BI$18,'Female Rev'!$A41-35,0),0.03999)","v":4.0000000000000001E-3},{"$f":"MIN(OFFSET(Female!BJ$18,'Female Rev'!$A41-35,0),0.03999)","v":1.6000000000000001E-3},{"$f":"MIN(OFFSET(Female!BK$18,'Female Rev'!$A41-35,0),0.03999)","v":-5.9999999999999995E-4},{"$f":"MIN(OFFSET(Female!BL$18,'Female Rev'!$A41-35,0),0.03999)","v":-2.3E-3},{"$f":"MIN(OFFSET(Female!BM$18,'Female Rev'!$A41-35,0),0.03999)","v":-3.3999999999999998E-3},{"$f":"MIN(OFFSET(Female!BN$18,'Female Rev'!$A41-35,0),0.03999)","v":-4.0000000000000001E-3},{"$f":"MIN(OFFSET(Female!BO$18,'Female Rev'!$A41-35,0),0.03999)","v":-3.5999999999999999E-3},{"$f":"MIN(OFFSET(Female!BP$18,'Female Rev'!$A41-35,0),0.03999)","v":-2.5000000000000001E-3},{"$f":"MIN(OFFSET(Female!BQ$18,'Female Rev'!$A41-35,0),0.03999)","v":-1.1000000000000001E-3},{"$f":"MIN(OFFSET(Female!BR$18,'Female Rev'!$A41-35,0),0.03999)","v":5.9999999999999995E-4},{"$f":"MIN(OFFSET(Female!BS$18,'Female Rev'!$A41-35,0),0.03999)","v":2.3999999999999998E-3},{"$f":"MIN(OFFSET(Female!BT$18,'Female Rev'!$A41-35,0),0.03999)","v":4.1000000000000003E-3},{"$f":"MIN(OFFSET(Female!BU$18,'Female Rev'!$A41-35,0),0.03999)","v":5.7000000000000002E-3},{"$f":"MIN(OFFSET(Female!BV$18,'Female Rev'!$A41-35,0),0.03999)","v":6.8999999999999999E-3},{"$f":"MIN(OFFSET(Female!BW$18,'Female Rev'!$A41-35,0),0.03999)","v":7.7000000000000002E-3},{"$f":"MIN(OFFSET(Female!BX$18,'Female Rev'!$A41-35,0),0.03999)","v":8.0999999999999996E-3},{"$f":"MIN(OFFSET(Female!BY$18,'Female Rev'!$A41-35,0),0.03999)","v":8.2000000000000007E-3},{"$f":"MIN(OFFSET(Female!BZ$18,'Female Rev'!$A41-35,0),0.03999)","v":8.3000000000000001E-3},{"$f":"MIN(OFFSET(Female!CA$18,'Female Rev'!$A41-35,0),0.03999)","v":8.3999999999999995E-3},{"$f":"MIN(OFFSET(Female!CB$18,'Female Rev'!$A41-35,0),0.03999)","v":8.5000000000000006E-3},{"$f":"MIN(OFFSET(Female!CC$18,'Female Rev'!$A41-35,0),0.03999)","v":8.6999999999999994E-3},{"$f":"MIN(OFFSET(Female!CD$18,'Female Rev'!$A41-35,0),0.03999)","v":8.9999999999999993E-3},{"$f":"MIN(OFFSET(Female!CE$18,'Female Rev'!$A41-35,0),0.03999)","v":9.2999999999999992E-3},{"$f":"MIN(OFFSET(Female!CF$18,'Female Rev'!$A41-35,0),0.03999)","v":9.5999999999999992E-3},{"$f":"MIN(OFFSET(Female!CG$18,'Female Rev'!$A41-35,0),0.03999)","v":9.9000000000000008E-3},{"$f":"MIN(OFFSET(Female!CH$18,'Female Rev'!$A41-35,0),0.03999)","v":0.01}]
[56,56,{"$f":"MIN(OFFSET(Female!B$18,'Female Rev'!$A42-35,0),0.03999)","v":1.9699999999999999E-2},{"$f":"MIN(OFFSET(Female!C$18,'Female Rev'!$A42-35,0),0.03999)","v":1.9599999999999999E-2},{"$f":"MIN(OFFSET(Female!D$18,'Female Rev'!$A42-35,0),0.03999)","v":1.9300000000000001E-2},{"$f":"MIN(OFFSET(Female!E$18,'Female Rev'!$A42-35,0),0.03999)","v":1.8700000000000001E-2},{"$f":"MIN(OFFSET(Female!F$18,'Female Rev'!$A42-35,0),0.03999)","v":1.7500000000000002E-2},{"$f":"MIN(OFFSET(Female!G$18,'Female Rev'!$A42-35,0),0.03999)","v":1.6199999999999999E-2},{"$f":"MIN(OFFSET(Female!H$18,'Female Rev'!$A42-35,0),0.03999)","v":1.4800000000000001E-2},{"$f":"MIN(OFFSET(Female!I$18,'Female Rev'!$A42-35,0),0.03999)","v":1.34E-2},{"$f":"MIN(OFFSET(Female!J$18,'Female Rev'!$A42-35,0),0.03999)","v":1.2E-2},{"$f":"MIN(OFFSET(Female!K$18,'Female Rev'!$A42-35,0),0.03999)","v":1.06E-2},{"$f":"MIN(OFFSET(Female!L$18,'Female Rev'!$A42-35,0),0.03999)","v":9.1999999999999998E-3},{"$f":"MIN(OFFSET(Female!M$18,'Female Rev'!$A42-35,0),0.03999)","v":7.7999999999999996E-3},{"$f":"MIN(OFFSET(Female!N$18,'Female Rev'!$A42-35,0),0.03999)","v":6.7999999999999996E-3},{"$f":"MIN(OFFSET(Female!O$18,'Female Rev'!$A42-35,0),0.03999)","v":6.1999999999999998E-3},{"$f":"MIN(OFFSET(Female!P$18,'Female Rev'!$A42-35,0),0.03999)","v":5.8999999999999999E-3},{"$f":"MIN(OFFSET(Female!Q$18,'Female Rev'!$A42-35,0),0.03999)","v":6.0000000000000001E-3},{"$f":"MIN(OFFSET(Female!R$18,'Female Rev'!$A42-35,0),0.03999)","v":6.4999999999999997E-3},{"$f":"MIN(OFFSET(Female!S$18,'Female Rev'!$A42-35,0),0.03999)","v":7.4999999999999997E-3},{"$f":"MIN(OFFSET(Female!T$18,'Female Rev'!$A42-35,0),0.03999)","v":8.9999999999999993E-3},{"$f":"MIN(OFFSET(Female!U$18,'Female Rev'!$A42-35,0),0.03999)","v":1.0800000000000001E-2},{"$f":"MIN(OFFSET(Female!V$18,'Female Rev'!$A42-35,0),0.03999)","v":1.2699999999999999E-2},{"$f":"MIN(OFFSET(Female!W$18,'Female Rev'!$A42-35,0),0.03999)","v":1.46E-2},{"$f":"MIN(OFFSET(Female!X$18,'Female Rev'!$A42-35,0),0.03999)","v":1.6299999999999999E-2},{"$f":"MIN(OFFSET(Female!Y$18,'Female Rev'!$A42-35,0),0.03999)","v":1.7600000000000001E-2},{"$f":"MIN(OFFSET(Female!Z$18,'Female Rev'!$A42-35,0),0.03999)","v":1.83E-2},{"$f":"MIN(OFFSET(Female!AA$18,'Female Rev'!$A42-35,0),0.03999)","v":1.84E-2},{"$f":"MIN(OFFSET(Female!AB$18,'Female Rev'!$A42-35,0),0.03999)","v":1.7999999999999999E-2},{"$f":"MIN(OFFSET(Female!AC$18,'Female Rev'!$A42-35,0),0.03999)","v":1.7000000000000001E-2},{"$f":"MIN(OFFSET(Female!AD$18,'Female Rev'!$A42-35,0),0.03999)","v":1.5699999999999999E-2},{"$f":"MIN(OFFSET(Female!AE$18,'Female Rev'!$A42-35,0),0.03999)","v":1.4200000000000001E-2},{"$f":"MIN(OFFSET(Female!AF$18,'Female Rev'!$A42-35,0),0.03999)","v":1.2999999999999999E-2},{"$f":"MIN(OFFSET(Female!AG$18,'Female Rev'!$A42-35,0),0.03999)","v":1.2E-2},{"$f":"MIN(OFFSET(Female!AH$18,'Female Rev'!$A42-35,0),0.03999)","v":1.1299999999999999E-2},{"$f":"MIN(OFFSET(Female!AI$18,'Female Rev'!$A42-35,0),0.03999)","v":1.0800000000000001E-2},{"$f":"MIN(OFFSET(Female!AJ$18,'Female Rev'!$A42-35,0),0.03999)","v":1.06E-2},{"$f":"MIN(OFFSET(Female!AK$18,'Female Rev'!$A42-35,0),0.03999)","v":1.06E-2},{"$f":"MIN(OFFSET(Female!AL$18,'Female Rev'!$A42-35,0),0.03999)","v":1.06E-2},{"$f":"MIN(OFFSET(Female!AM$18,'Female Rev'!$A42-35,0),0.03999)","v":1.0800000000000001E-2},{"$f":"MIN(OFFSET(Female!AN$18,'Female Rev'!$A42-35,0),0.03999)","v":1.11E-2},{"$f":"MIN(OFFSET(Female!AO$18,'Female Rev'!$A42-35,0),0.03999)","v":1.14E-2},{"$f":"MIN(OFFSET(Female!AP$18,'Female Rev'!$A42-35,0),0.03999)","v":1.15E-2},{"$f":"MIN(OFFSET(Female!AQ$18,'Female Rev'!$A42-35,0),0.03999)","v":1.1599999999999999E-2},{"$f":"MIN(OFFSET(Female!AR$18,'Female Rev'!$A42-35,0),0.03999)","v":1.17E-2},{"$f":"MIN(OFFSET(Female!AS$18,'Female Rev'!$A42-35,0),0.03999)","v":1.18E-2},{"$f":"MIN(OFFSET(Female!AT$18,'Female Rev'!$A42-35,0),0.03999)","v":1.1900000000000001E-2},{"$f":"MIN(OFFSET(Female!AU$18,'Female Rev'!$A42-35,0),0.03999)","v":1.1900000000000001E-2},{"$f":"MIN(OFFSET(Female!AV$18,'Female Rev'!$A42-35,0),0.03999)","v":1.1900000000000001E-2},{"$f":"MIN(OFFSET(Female!AW$18,'Female Rev'!$A42-35,0),0.03999)","v":1.18E-2},{"$f":"MIN(OFFSET(Female!AX$18,'Female Rev'!$A42-35,0),0.03999)","v":1.17E-2},{"$f":"MIN(OFFSET(Female!AY$18,'Female Rev'!$A42-35,0),0.03999)","v":1.1599999999999999E-2},{"$f":"MIN(OFFSET(Female!AZ$18,'Female Rev'!$A42-35,0),0.03999)","v":1.1599999999999999E-2},{"$f":"MIN(OFFSET(Female!BA$18,'Female Rev'!$A42-35,0),0.03999)","v":1.17E-2},{"$f":"MIN(OFFSET(Female!BB$18,'Female Rev'!$A42-35,0),0.03999)","v":1.17E-2},{"$f":"MIN(OFFSET(Female!BC$18,'Female Rev'!$A42-35,0),0.03999)","v":1.1599999999999999E-2},{"$f":"MIN(OFFSET(Female!BD$18,'Female Rev'!$A42-35,0),0.03999)","v":1.0999999999999999E-2},{"$f":"MIN(OFFSET(Female!BE$18,'Female Rev'!$A42-35,0),0.03999)","v":1.01E-2},{"$f":"MIN(OFFSET(Female!BF$18,'Female Rev'!$A42-35,0),0.03999)","v":8.8000000000000005E-3},{"$f":"MIN(OFFSET(Female!BG$18,'Female Rev'!$A42-35,0),0.03999)","v":7.1000000000000004E-3},{"$f":"MIN(OFFSET(Female!BH$18,'Female Rev'!$A42-35,0),0.03999)","v":5.1000000000000004E-3},{"$f":"MIN(OFFSET(Female!BI$18,'Female Rev'!$A42-35,0),0.03999)","v":3.0999999999999999E-3},{"$f":"MIN(OFFSET(Female!BJ$18,'Female Rev'!$A42-35,0),0.03999)","v":1E-3},{"$f":"MIN(OFFSET(Female!BK$18,'Female Rev'!$A42-35,0),0.03999)","v":-8.9999999999999998E-4},{"$f":"MIN(OFFSET(Female!BL$18,'Female Rev'!$A42-35,0),0.03999)","v":-2.3E-3},{"$f":"MIN(OFFSET(Female!BM$18,'Female Rev'!$A42-35,0),0.03999)","v":-3.2000000000000002E-3},{"$f":"MIN(OFFSET(Female!BN$18,'Female Rev'!$A42-35,0),0.03999)","v":-3.5999999999999999E-3},{"$f":"MIN(OFFSET(Female!BO$18,'Female Rev'!$A42-35,0),0.03999)","v":-3.0000000000000001E-3},{"$f":"MIN(OFFSET(Female!BP$18,'Female Rev'!$A42-35,0),0.03999)","v":-1.9E-3},{"$f":"MIN(OFFSET(Female!BQ$18,'Female Rev'!$A42-35,0),0.03999)","v":-4.0000000000000002E-4},{"$f":"MIN(OFFSET(Female!BR$18,'Female Rev'!$A42-35,0),0.03999)","v":1.2999999999999999E-3},{"$f":"MIN(OFFSET(Female!BS$18,'Female Rev'!$A42-35,0),0.03999)","v":2.8999999999999998E-3},{"$f":"MIN(OFFSET(Female!BT$18,'Female Rev'!$A42-35,0),0.03999)","v":4.4999999999999997E-3},{"$f":"MIN(OFFSET(Female!BU$18,'Female Rev'!$A42-35,0),0.03999)","v":5.8999999999999999E-3},{"$f":"MIN(OFFSET(Female!BV$18,'Female Rev'!$A42-35,0),0.03999)","v":6.8999999999999999E-3},{"$f":"MIN(OFFSET(Female!BW$18,'Female Rev'!$A42-35,0),0.03999)","v":7.6E-3},{"$f":"MIN(OFFSET(Female!BX$18,'Female Rev'!$A42-35,0),0.03999)","v":7.9000000000000008E-3},{"$f":"MIN(OFFSET(Female!BY$18,'Female Rev'!$A42-35,0),0.03999)","v":7.9000000000000008E-3},{"$f":"MIN(OFFSET(Female!BZ$18,'Female Rev'!$A42-35,0),0.03999)","v":7.9000000000000008E-3},{"$f":"MIN(OFFSET(Female!CA$18,'Female Rev'!$A42-35,0),0.03999)","v":8.0000000000000002E-3},{"$f":"MIN(OFFSET(Female!CB$18,'Female Rev'!$A42-35,0),0.03999)","v":8.2000000000000007E-3},{"$f":"MIN(OFFSET(Female!CC$18,'Female Rev'!$A42-35,0),0.03999)","v":8.5000000000000006E-3},{"$f":"MIN(OFFSET(Female!CD$18,'Female Rev'!$A42-35,0),0.03999)","v":8.8000000000000005E-3},{"$f":"MIN(OFFSET(Female!CE$18,'Female Rev'!$A42-35,0),0.03999)","v":9.1999999999999998E-3},{"$f":"MIN(OFFSET(Female!CF$18,'Female Rev'!$A42-35,0),0.03999)","v":9.5999999999999992E-3},{"$f":"MIN(OFFSET(Female!CG$18,'Female Rev'!$A42-35,0),0.03999)","v":9.9000000000000008E-3},{"$f":"MIN(OFFSET(Female!CH$18,'Female Rev'!$A42-35,0),0.03999)","v":0.01}]
[55,55,{"$f":"MIN(OFFSET(Female!B$18,'Female Rev'!$A43-35,0),0.03999)","v":0.02},{"$f":"MIN(OFFSET(Female!C$18,'Female Rev'!$A43-35,0),0.03999)","v":1.9900000000000001E-2},{"$f":"MIN(OFFSET(Female!D$18,'Female Rev'!$A43-35,0),0.03999)","v":1.9699999999999999E-2},{"$f":"MIN(OFFSET(Female!E$18,'Female Rev'!$A43-35,0),0.03999)","v":1.9E-2},{"$f":"MIN(OFFSET(Female!F$18,'Female Rev'!$A43-35,0),0.03999)","v":1.7899999999999999E-2},{"$f":"MIN(OFFSET(Female!G$18,'Female Rev'!$A43-35,0),0.03999)","v":1.6500000000000001E-2},{"$f":"MIN(OFFSET(Female!H$18,'Female Rev'!$A43-35,0),0.03999)","v":1.4999999999999999E-2},{"$f":"MIN(OFFSET(Female!I$18,'Female Rev'!$A43-35,0),0.03999)","v":1.34E-2},{"$f":"MIN(OFFSET(Female!J$18,'Female Rev'!$A43-35,0),0.03999)","v":1.1900000000000001E-2},{"$f":"MIN(OFFSET(Female!K$18,'Female Rev'!$A43-35,0),0.03999)","v":1.03E-2},{"$f":"MIN(OFFSET(Female!L$18,'Female Rev'!$A43-35,0),0.03999)","v":8.6999999999999994E-3},{"$f":"MIN(OFFSET(Female!M$18,'Female Rev'!$A43-35,0),0.03999)","v":7.1999999999999998E-3},{"$f":"MIN(OFFSET(Female!N$18,'Female Rev'!$A43-35,0),0.03999)","v":6.1000000000000004E-3},{"$f":"MIN(OFFSET(Female!O$18,'Female Rev'!$A43-35,0),0.03999)","v":5.4000000000000003E-3},{"$f":"MIN(OFFSET(Female!P$18,'Female Rev'!$A43-35,0),0.03999)","v":5.1999999999999998E-3},{"$f":"MIN(OFFSET(Female!Q$18,'Female Rev'!$A43-35,0),0.03999)","v":5.3E-3},{"$f":"MIN(OFFSET(Female!R$18,'Female Rev'!$A43-35,0),0.03999)","v":5.8999999999999999E-3},{"$f":"MIN(OFFSET(Female!S$18,'Female Rev'!$A43-35,0),0.03999)","v":7.1000000000000004E-3},{"$f":"MIN(OFFSET(Female!T$18,'Female Rev'!$A43-35,0),0.03999)","v":8.8000000000000005E-3},{"$f":"MIN(OFFSET(Female!U$18,'Female Rev'!$A43-35,0),0.03999)","v":1.0699999999999999E-2},{"$f":"MIN(OFFSET(Female!V$18,'Female Rev'!$A43-35,0),0.03999)","v":1.29E-2},{"$f":"MIN(OFFSET(Female!W$18,'Female Rev'!$A43-35,0),0.03999)","v":1.49E-2},{"$f":"MIN(OFFSET(Female!X$18,'Female Rev'!$A43-35,0),0.03999)","v":1.67E-2},{"$f":"MIN(OFFSET(Female!Y$18,'Female Rev'!$A43-35,0),0.03999)","v":1.8200000000000001E-2},{"$f":"MIN(OFFSET(Female!Z$18,'Female Rev'!$A43-35,0),0.03999)","v":1.9E-2},{"$f":"MIN(OFFSET(Female!AA$18,'Female Rev'!$A43-35,0),0.03999)","v":1.9199999999999998E-2},{"$f":"MIN(OFFSET(Female!AB$18,'Female Rev'!$A43-35,0),0.03999)","v":1.8800000000000001E-2},{"$f":"MIN(OFFSET(Female!AC$18,'Female Rev'!$A43-35,0),0.03999)","v":1.7999999999999999E-2},{"$f":"MIN(OFFSET(Female!AD$18,'Female Rev'!$A43-35,0),0.03999)","v":1.6799999999999999E-2},{"$f":"MIN(OFFSET(Female!AE$18,'Female Rev'!$A43-35,0),0.03999)","v":1.54E-2},{"$f":"MIN(OFFSET(Female!AF$18,'Female Rev'!$A43-35,0),0.03999)","v":1.43E-2},{"$f":"MIN(OFFSET(Female!AG$18,'Female Rev'!$A43-35,0),0.03999)","v":1.32E-2},{"$f":"MIN(OFFSET(Female!AH$18,'Female Rev'!$A43-35,0),0.03999)","v":1.24E-2},{"$f":"MIN(OFFSET(Female!AI$18,'Female Rev'!$A43-35,0),0.03999)","v":1.18E-2},{"$f":"MIN(OFFSET(Female!AJ$18,'Female Rev'!$A43-35,0),0.03999)","v":1.15E-2},{"$f":"MIN(OFFSET(Female!AK$18,'Female Rev'!$A43-35,0),0.03999)","v":1.14E-2},{"$f":"MIN(OFFSET(Female!AL$18,'Female Rev'!$A43-35,0),0.03999)","v":1.1299999999999999E-2},{"$f":"MIN(OFFSET(Female!AM$18,'Female Rev'!$A43-35,0),0.03999)","v":1.14E-2},{"$f":"MIN(OFFSET(Female!AN$18,'Female Rev'!$A43-35,0),0.03999)","v":1.1599999999999999E-2},{"$f":"MIN(OFFSET(Female!AO$18,'Female Rev'!$A43-35,0),0.03999)","v":1.18E-2},{"$f":"MIN(OFFSET(Female!AP$18,'Female Rev'!$A43-35,0),0.03999)","v":1.18E-2},{"$f":"MIN(OFFSET(Female!AQ$18,'Female Rev'!$A43-35,0),0.03999)","v":1.18E-2},{"$f":"MIN(OFFSET(Female!AR$18,'Female Rev'!$A43-35,0),0.03999)","v":1.18E-2},{"$f":"MIN(OFFSET(Female!AS$18,'Female Rev'!$A43-35,0),0.03999)","v":1.18E-2},{"$f":"MIN(OFFSET(Female!AT$18,'Female Rev'!$A43-35,0),0.03999)","v":1.17E-2},{"$f":"MIN(OFFSET(Female!AU$18,'Female Rev'!$A43-35,0),0.03999)","v":1.17E-2},{"$f":"MIN(OFFSET(Female!AV$18,'Female Rev'!$A43-35,0),0.03999)","v":1.15E-2},{"$f":"MIN(OFFSET(Female!AW$18,'Female Rev'!$A43-35,0),0.03999)","v":1.12E-2},{"$f":"MIN(OFFSET(Female!AX$18,'Female Rev'!$A43-35,0),0.03999)","v":1.0800000000000001E-2},{"$f":"MIN(OFFSET(Female!AY$18,'Female Rev'!$A43-35,0),0.03999)","v":1.04E-2},{"$f":"MIN(OFFSET(Female!AZ$18,'Female Rev'!$A43-35,0),0.03999)","v":1.0200000000000001E-2},{"$f":"MIN(OFFSET(Female!BA$18,'Female Rev'!$A43-35,0),0.03999)","v":1.01E-2},{"$f":"MIN(OFFSET(Female!BB$18,'Female Rev'!$A43-35,0),0.03999)","v":9.9000000000000008E-3},{"$f":"MIN(OFFSET(Female!BC$18,'Female Rev'!$A43-35,0),0.03999)","v":9.7000000000000003E-3},{"$f":"MIN(OFFSET(Female!BD$18,'Female Rev'!$A43-35,0),0.03999)","v":9.1999999999999998E-3},{"$f":"MIN(OFFSET(Female!BE$18,'Female Rev'!$A43-35,0),0.03999)","v":8.3000000000000001E-3},{"$f":"MIN(OFFSET(Female!BF$18,'Female Rev'!$A43-35,0),0.03999)","v":7.1999999999999998E-3},{"$f":"MIN(OFFSET(Female!BG$18,'Female Rev'!$A43-35,0),0.03999)","v":5.7999999999999996E-3},{"$f":"MIN(OFFSET(Female!BH$18,'Female Rev'!$A43-35,0),0.03999)","v":4.1999999999999997E-3},{"$f":"MIN(OFFSET(Female!BI$18,'Female Rev'!$A43-35,0),0.03999)","v":2.5000000000000001E-3},{"$f":"MIN(OFFSET(Female!BJ$18,'Female Rev'!$A43-35,0),0.03999)","v":6.9999999999999999E-4},{"$f":"MIN(OFFSET(Female!BK$18,'Female Rev'!$A43-35,0),0.03999)","v":-8.0000000000000004E-4},{"$f":"MIN(OFFSET(Female!BL$18,'Female Rev'!$A43-35,0),0.03999)","v":-1.9E-3},{"$f":"MIN(OFFSET(Female!BM$18,'Female Rev'!$A43-35,0),0.03999)","v":-2.5999999999999999E-3},{"$f":"MIN(OFFSET(Female!BN$18,'Female Rev'!$A43-35,0),0.03999)","v":-2.8999999999999998E-3},{"$f":"MIN(OFFSET(Female!BO$18,'Female Rev'!$A43-35,0),0.03999)","v":-2.0999999999999999E-3},{"$f":"MIN(OFFSET(Female!BP$18,'Female Rev'!$A43-35,0),0.03999)","v":-1E-3},{"$f":"MIN(OFFSET(Female!BQ$18,'Female Rev'!$A43-35,0),0.03999)","v":4.0000000000000002E-4},{"$f":"MIN(OFFSET(Female!BR$18,'Female Rev'!$A43-35,0),0.03999)","v":2E-3},{"$f":"MIN(OFFSET(Female!BS$18,'Female Rev'!$A43-35,0),0.03999)","v":3.5000000000000001E-3},{"$f":"MIN(OFFSET(Female!BT$18,'Female Rev'!$A43-35,0),0.03999)","v":4.7999999999999996E-3},{"$f":"MIN(OFFSET(Female!BU$18,'Female Rev'!$A43-35,0),0.03999)","v":6.0000000000000001E-3},{"$f":"MIN(OFFSET(Female!BV$18,'Female Rev'!$A43-35,0),0.03999)","v":6.7999999999999996E-3},{"$f":"MIN(OFFSET(Female!BW$18,'Female Rev'!$A43-35,0),0.03999)","v":7.4000000000000003E-3},{"$f":"MIN(OFFSET(Female!BX$18,'Female Rev'!$A43-35,0),0.03999)","v":7.4999999999999997E-3},{"$f":"MIN(OFFSET(Female!BY$18,'Female Rev'!$A43-35,0),0.03999)","v":7.4999999999999997E-3},{"$f":"MIN(OFFSET(Female!BZ$18,'Female Rev'!$A43-35,0),0.03999)","v":7.6E-3},{"$f":"MIN(OFFSET(Female!CA$18,'Female Rev'!$A43-35,0),0.03999)","v":7.7000000000000002E-3},{"$f":"MIN(OFFSET(Female!CB$18,'Female Rev'!$A43-35,0),0.03999)","v":7.9000000000000008E-3},{"$f":"MIN(OFFSET(Female!CC$18,'Female Rev'!$A43-35,0),0.03999)","v":8.3000000000000001E-3},{"$f":"MIN(OFFSET(Female!CD$18,'Female Rev'!$A43-35,0),0.03999)","v":8.6999999999999994E-3},{"$f":"MIN(OFFSET(Female!CE$18,'Female Rev'!$A43-35,0),0.03999)","v":9.1000000000000004E-3},{"$f":"MIN(OFFSET(Female!CF$18,'Female Rev'!$A43-35,0),0.03999)","v":9.5999999999999992E-3},{"$f":"MIN(OFFSET(Female!CG$18,'Female Rev'!$A43-35,0),0.03999)","v":9.9000000000000008E-3},{"$f":"MIN(OFFSET(Female!CH$18,'Female Rev'!$A43-35,0),0.03999)","v":0.01}]
[54,54,{"$f":"MIN(OFFSET(Female!B$18,'Female Rev'!$A44-35,0),0.03999)","v":2.0199999999999999E-2},{"$f":"MIN(OFFSET(Female!C$18,'Female Rev'!$A44-35,0),0.03999)","v":2.0199999999999999E-2},{"$f":"MIN(OFFSET(Female!D$18,'Female Rev'!$A44-35,0),0.03999)","v":0.02},{"$f":"MIN(OFFSET(Female!E$18,'Female Rev'!$A44-35,0),0.03999)","v":1.9400000000000001E-2},{"$f":"MIN(OFFSET(Female!F$18,'Female Rev'!$A44-35,0),0.03999)","v":1.83E-2},{"$f":"MIN(OFFSET(Female!G$18,'Female Rev'!$A44-35,0),0.03999)","v":1.6799999999999999E-2},{"$f":"MIN(OFFSET(Female!H$18,'Female Rev'!$A44-35,0),0.03999)","v":1.5100000000000001E-2},{"$f":"MIN(OFFSET(Female!I$18,'Female Rev'!$A44-35,0),0.03999)","v":1.34E-2},{"$f":"MIN(OFFSET(Female!J$18,'Female Rev'!$A44-35,0),0.03999)","v":1.17E-2},{"$f":"MIN(OFFSET(Female!K$18,'Female Rev'!$A44-35,0),0.03999)","v":9.9000000000000008E-3},{"$f":"MIN(OFFSET(Female!L$18,'Female Rev'!$A44-35,0),0.03999)","v":8.2000000000000007E-3},{"$f":"MIN(OFFSET(Female!M$18,'Female Rev'!$A44-35,0),0.03999)","v":6.6E-3},{"$f":"MIN(OFFSET(Female!N$18,'Female Rev'!$A44-35,0),0.03999)","v":5.4000000000000003E-3},{"$f":"MIN(OFFSET(Female!O$18,'Female Rev'!$A44-35,0),0.03999)","v":4.7000000000000002E-3},{"$f":"MIN(OFFSET(Female!P$18,'Female Rev'!$A44-35,0),0.03999)","v":4.4999999999999997E-3},{"$f":"MIN(OFFSET(Female!Q$18,'Female Rev'!$A44-35,0),0.03999)","v":4.7999999999999996E-3},{"$f":"MIN(OFFSET(Female!R$18,'Female Rev'!$A44-35,0),0.03999)","v":5.5999999999999999E-3},{"$f":"MIN(OFFSET(Female!S$18,'Female Rev'!$A44-35,0),0.03999)","v":6.7999999999999996E-3},{"$f":"MIN(OFFSET(Female!T$18,'Female Rev'!$A44-35,0),0.03999)","v":8.6999999999999994E-3},{"$f":"MIN(OFFSET(Female!U$18,'Female Rev'!$A44-35,0),0.03999)","v":1.0800000000000001E-2},{"$f":"MIN(OFFSET(Female!V$18,'Female Rev'!$A44-35,0),0.03999)","v":1.3100000000000001E-2},{"$f":"MIN(OFFSET(Female!W$18,'Female Rev'!$A44-35,0),0.03999)","v":1.5299999999999999E-2},{"$f":"MIN(OFFSET(Female!X$18,'Female Rev'!$A44-35,0),0.03999)","v":1.7299999999999999E-2},{"$f":"MIN(OFFSET(Female!Y$18,'Female Rev'!$A44-35,0),0.03999)","v":1.89E-2},{"$f":"MIN(OFFSET(Female!Z$18,'Female Rev'!$A44-35,0),0.03999)","v":1.9800000000000002E-2},{"$f":"MIN(OFFSET(Female!AA$18,'Female Rev'!$A44-35,0),0.03999)","v":2.01E-2},{"$f":"MIN(OFFSET(Female!AB$18,'Female Rev'!$A44-35,0),0.03999)","v":1.9800000000000002E-2},{"$f":"MIN(OFFSET(Female!AC$18,'Female Rev'!$A44-35,0),0.03999)","v":1.9099999999999999E-2},{"$f":"MIN(OFFSET(Female!AD$18,'Female Rev'!$A44-35,0),0.03999)","v":1.7999999999999999E-2},{"$f":"MIN(OFFSET(Female!AE$18,'Female Rev'!$A44-35,0),0.03999)","v":1.6799999999999999E-2},{"$f":"MIN(OFFSET(Female!AF$18,'Female Rev'!$A44-35,0),0.03999)","v":1.5599999999999999E-2},{"$f":"MIN(OFFSET(Female!AG$18,'Female Rev'!$A44-35,0),0.03999)","v":1.4500000000000001E-2},{"$f":"MIN(OFFSET(Female!AH$18,'Female Rev'!$A44-35,0),0.03999)","v":1.3599999999999999E-2},{"$f":"MIN(OFFSET(Female!AI$18,'Female Rev'!$A44-35,0),0.03999)","v":1.29E-2},{"$f":"MIN(OFFSET(Female!AJ$18,'Female Rev'!$A44-35,0),0.03999)","v":1.24E-2},{"$f":"MIN(OFFSET(Female!AK$18,'Female Rev'!$A44-35,0),0.03999)","v":1.21E-2},{"$f":"MIN(OFFSET(Female!AL$18,'Female Rev'!$A44-35,0),0.03999)","v":1.1900000000000001E-2},{"$f":"MIN(OFFSET(Female!AM$18,'Female Rev'!$A44-35,0),0.03999)","v":1.1900000000000001E-2},{"$f":"MIN(OFFSET(Female!AN$18,'Female Rev'!$A44-35,0),0.03999)","v":1.2E-2},{"$f":"MIN(OFFSET(Female!AO$18,'Female Rev'!$A44-35,0),0.03999)","v":1.21E-2},{"$f":"MIN(OFFSET(Female!AP$18,'Female Rev'!$A44-35,0),0.03999)","v":1.2E-2},{"$f":"MIN(OFFSET(Female!AQ$18,'Female Rev'!$A44-35,0),0.03999)","v":1.18E-2},{"$f":"MIN(OFFSET(Female!AR$18,'Female Rev'!$A44-35,0),0.03999)","v":1.17E-2},{"$f":"MIN(OFFSET(Female!AS$18,'Female Rev'!$A44-35,0),0.03999)","v":1.15E-2},{"$f":"MIN(OFFSET(Female!AT$18,'Female Rev'!$A44-35,0),0.03999)","v":1.14E-2},{"$f":"MIN(OFFSET(Female!AU$18,'Female Rev'!$A44-35,0),0.03999)","v":1.12E-2},{"$f":"MIN(OFFSET(Female!AV$18,'Female Rev'!$A44-35,0),0.03999)","v":1.09E-2},{"$f":"MIN(OFFSET(Female!AW$18,'Female Rev'!$A44-35,0),0.03999)","v":1.04E-2},{"$f":"MIN(OFFSET(Female!AX$18,'Female Rev'!$A44-35,0),0.03999)","v":9.7000000000000003E-3},{"$f":"MIN(OFFSET(Female!AY$18,'Female Rev'!$A44-35,0),0.03999)","v":9.1000000000000004E-3},{"$f":"MIN(OFFSET(Female!AZ$18,'Female Rev'!$A44-35,0),0.03999)","v":8.6E-3},{"$f":"MIN(OFFSET(Female!BA$18,'Female Rev'!$A44-35,0),0.03999)","v":8.3000000000000001E-3},{"$f":"MIN(OFFSET(Female!BB$18,'Female Rev'!$A44-35,0),0.03999)","v":8.0000000000000002E-3},{"$f":"MIN(OFFSET(Female!BC$18,'Female Rev'!$A44-35,0),0.03999)","v":7.7999999999999996E-3},{"$f":"MIN(OFFSET(Female!BD$18,'Female Rev'!$A44-35,0),0.03999)","v":7.3000000000000001E-3},{"$f":"MIN(OFFSET(Female!BE$18,'Female Rev'!$A44-35,0),0.03999)","v":6.7000000000000002E-3},{"$f":"MIN(OFFSET(Female!BF$18,'Female Rev'!$A44-35,0),0.03999)","v":5.8999999999999999E-3},{"$f":"MIN(OFFSET(Female!BG$18,'Female Rev'!$A44-35,0),0.03999)","v":4.7999999999999996E-3},{"$f":"MIN(OFFSET(Female!BH$18,'Female Rev'!$A44-35,0),0.03999)","v":3.5000000000000001E-3},{"$f":"MIN(OFFSET(Female!BI$18,'Female Rev'!$A44-35,0),0.03999)","v":2.2000000000000001E-3},{"$f":"MIN(OFFSET(Female!BJ$18,'Female Rev'!$A44-35,0),0.03999)","v":8.9999999999999998E-4},{"$f":"MIN(OFFSET(Female!BK$18,'Female Rev'!$A44-35,0),0.03999)","v":-2.9999999999999997E-4},{"$f":"MIN(OFFSET(Female!BL$18,'Female Rev'!$A44-35,0),0.03999)","v":-1.1999999999999999E-3},{"$f":"MIN(OFFSET(Female!BM$18,'Female Rev'!$A44-35,0),0.03999)","v":-1.8E-3},{"$f":"MIN(OFFSET(Female!BN$18,'Female Rev'!$A44-35,0),0.03999)","v":-1.9E-3},{"$f":"MIN(OFFSET(Female!BO$18,'Female Rev'!$A44-35,0),0.03999)","v":-1.1000000000000001E-3},{"$f":"MIN(OFFSET(Female!BP$18,'Female Rev'!$A44-35,0),0.03999)","v":0},{"$f":"MIN(OFFSET(Female!BQ$18,'Female Rev'!$A44-35,0),0.03999)","v":1.2999999999999999E-3},{"$f":"MIN(OFFSET(Female!BR$18,'Female Rev'!$A44-35,0),0.03999)","v":2.5999999999999999E-3},{"$f":"MIN(OFFSET(Female!BS$18,'Female Rev'!$A44-35,0),0.03999)","v":3.8999999999999998E-3},{"$f":"MIN(OFFSET(Female!BT$18,'Female Rev'!$A44-35,0),0.03999)","v":5.0000000000000001E-3},{"$f":"MIN(OFFSET(Female!BU$18,'Female Rev'!$A44-35,0),0.03999)","v":6.0000000000000001E-3},{"$f":"MIN(OFFSET(Female!BV$18,'Female Rev'!$A44-35,0),0.03999)","v":6.6E-3},{"$f":"MIN(OFFSET(Female!BW$18,'Female Rev'!$A44-35,0),0.03999)","v":7.0000000000000001E-3},{"$f":"MIN(OFFSET(Female!BX$18,'Female Rev'!$A44-35,0),0.03999)","v":7.1000000000000004E-3},{"$f":"MIN(OFFSET(Female!BY$18,'Female Rev'!$A44-35,0),0.03999)","v":7.1000000000000004E-3},{"$f":"MIN(OFFSET(Female!BZ$18,'Female Rev'!$A44-35,0),0.03999)","v":7.1000000000000004E-3},{"$f":"MIN(OFFSET(Female!CA$18,'Female Rev'!$A44-35,0),0.03999)","v":7.3000000000000001E-3},{"$f":"MIN(OFFSET(Female!CB$18,'Female Rev'!$A44-35,0),0.03999)","v":7.6E-3},{"$f":"MIN(OFFSET(Female!CC$18,'Female Rev'!$A44-35,0),0.03999)","v":8.0000000000000002E-3},{"$f":"MIN(OFFSET(Female!CD$18,'Female Rev'!$A44-35,0),0.03999)","v":8.5000000000000006E-3},{"$f":"MIN(OFFSET(Female!CE$18,'Female Rev'!$A44-35,0),0.03999)","v":9.1000000000000004E-3},{"$f":"MIN(OFFSET(Female!CF$18,'Female Rev'!$A44-35,0),0.03999)","v":9.4999999999999998E-3},{"$f":"MIN(OFFSET(Female!CG$18,'Female Rev'!$A44-35,0),0.03999)","v":9.9000000000000008E-3},{"$f":"MIN(OFFSET(Female!CH$18,'Female Rev'!$A44-35,0),0.03999)","v":0.01}]
[53,53,{"$f":"MIN(OFFSET(Female!B$18,'Female Rev'!$A45-35,0),0.03999)","v":2.06E-2},{"$f":"MIN(OFFSET(Female!C$18,'Female Rev'!$A45-35,0),0.03999)","v":2.06E-2},{"$f":"MIN(OFFSET(Female!D$18,'Female Rev'!$A45-35,0),0.03999)","v":2.0400000000000001E-2},{"$f":"MIN(OFFSET(Female!E$18,'Female Rev'!$A45-35,0),0.03999)","v":1.9800000000000002E-2},{"$f":"MIN(OFFSET(Female!F$18,'Female Rev'!$A45-35,0),0.03999)","v":1.8700000000000001E-2},{"$f":"MIN(OFFSET(Female!G$18,'Female Rev'!$A45-35,0),0.03999)","v":1.7000000000000001E-2},{"$f":"MIN(OFFSET(Female!H$18,'Female Rev'!$A45-35,0),0.03999)","v":1.5100000000000001E-2},{"$f":"MIN(OFFSET(Female!I$18,'Female Rev'!$A45-35,0),0.03999)","v":1.3299999999999999E-2},{"$f":"MIN(OFFSET(Female!J$18,'Female Rev'!$A45-35,0),0.03999)","v":1.14E-2},{"$f":"MIN(OFFSET(Female!K$18,'Female Rev'!$A45-35,0),0.03999)","v":9.4000000000000004E-3},{"$f":"MIN(OFFSET(Female!L$18,'Female Rev'!$A45-35,0),0.03999)","v":7.6E-3},{"$f":"MIN(OFFSET(Female!M$18,'Female Rev'!$A45-35,0),0.03999)","v":5.8999999999999999E-3},{"$f":"MIN(OFFSET(Female!N$18,'Female Rev'!$A45-35,0),0.03999)","v":4.7000000000000002E-3},{"$f":"MIN(OFFSET(Female!O$18,'Female Rev'!$A45-35,0),0.03999)","v":4.0000000000000001E-3},{"$f":"MIN(OFFSET(Female!P$18,'Female Rev'!$A45-35,0),0.03999)","v":3.8999999999999998E-3},{"$f":"MIN(OFFSET(Female!Q$18,'Female Rev'!$A45-35,0),0.03999)","v":4.3E-3},{"$f":"MIN(OFFSET(Female!R$18,'Female Rev'!$A45-35,0),0.03999)","v":5.1999999999999998E-3},{"$f":"MIN(OFFSET(Female!S$18,'Female Rev'!$A45-35,0),0.03999)","v":6.7000000000000002E-3},{"$f":"MIN(OFFSET(Female!T$18,'Female Rev'!$A45-35,0),0.03999)","v":8.6999999999999994E-3},{"$f":"MIN(OFFSET(Female!U$18,'Female Rev'!$A45-35,0),0.03999)","v":1.0999999999999999E-2},{"$f":"MIN(OFFSET(Female!V$18,'Female Rev'!$A45-35,0),0.03999)","v":1.34E-2},{"$f":"MIN(OFFSET(Female!W$18,'Female Rev'!$A45-35,0),0.03999)","v":1.5800000000000002E-2},{"$f":"MIN(OFFSET(Female!X$18,'Female Rev'!$A45-35,0),0.03999)","v":1.7899999999999999E-2},{"$f":"MIN(OFFSET(Female!Y$18,'Female Rev'!$A45-35,0),0.03999)","v":1.95E-2},{"$f":"MIN(OFFSET(Female!Z$18,'Female Rev'!$A45-35,0),0.03999)","v":2.06E-2},{"$f":"MIN(OFFSET(Female!AA$18,'Female Rev'!$A45-35,0),0.03999)","v":2.0899999999999998E-2},{"$f":"MIN(OFFSET(Female!AB$18,'Female Rev'!$A45-35,0),0.03999)","v":2.0799999999999999E-2},{"$f":"MIN(OFFSET(Female!AC$18,'Female Rev'!$A45-35,0),0.03999)","v":2.0199999999999999E-2},{"$f":"MIN(OFFSET(Female!AD$18,'Female Rev'!$A45-35,0),0.03999)","v":1.9300000000000001E-2},{"$f":"MIN(OFFSET(Female!AE$18,'Female Rev'!$A45-35,0),0.03999)","v":1.8100000000000002E-2},{"$f":"MIN(OFFSET(Female!AF$18,'Female Rev'!$A45-35,0),0.03999)","v":1.7000000000000001E-2},{"$f":"MIN(OFFSET(Female!AG$18,'Female Rev'!$A45-35,0),0.03999)","v":1.5800000000000002E-2},{"$f":"MIN(OFFSET(Female!AH$18,'Female Rev'!$A45-35,0),0.03999)","v":1.47E-2},{"$f":"MIN(OFFSET(Female!AI$18,'Female Rev'!$A45-35,0),0.03999)","v":1.3899999999999999E-2},{"$f":"MIN(OFFSET(Female!AJ$18,'Female Rev'!$A45-35,0),0.03999)","v":1.32E-2},{"$f":"MIN(OFFSET(Female!AK$18,'Female Rev'!$A45-35,0),0.03999)","v":1.2800000000000001E-2},{"$f":"MIN(OFFSET(Female!AL$18,'Female Rev'!$A45-35,0),0.03999)","v":1.2500000000000001E-2},{"$f":"MIN(OFFSET(Female!AM$18,'Female Rev'!$A45-35,0),0.03999)","v":1.24E-2},{"$f":"MIN(OFFSET(Female!AN$18,'Female Rev'!$A45-35,0),0.03999)","v":1.24E-2},{"$f":"MIN(OFFSET(Female!AO$18,'Female Rev'!$A45-35,0),0.03999)","v":1.23E-2},{"$f":"MIN(OFFSET(Female!AP$18,'Female Rev'!$A45-35,0),0.03999)","v":1.2E-2},{"$f":"MIN(OFFSET(Female!AQ$18,'Female Rev'!$A45-35,0),0.03999)","v":1.17E-2},{"$f":"MIN(OFFSET(Female!AR$18,'Female Rev'!$A45-35,0),0.03999)","v":1.14E-2},{"$f":"MIN(OFFSET(Female!AS$18,'Female Rev'!$A45-35,0),0.03999)","v":1.11E-2},{"$f":"MIN(OFFSET(Female!AT$18,'Female Rev'!$A45-35,0),0.03999)","v":1.09E-2},{"$f":"MIN(OFFSET(Female!AU$18,'Female Rev'!$A45-35,0),0.03999)","v":1.06E-2},{"$f":"MIN(OFFSET(Female!AV$18,'Female Rev'!$A45-35,0),0.03999)","v":1.0200000000000001E-2},{"$f":"MIN(OFFSET(Female!AW$18,'Female Rev'!$A45-35,0),0.03999)","v":9.4999999999999998E-3},{"$f":"MIN(OFFSET(Female!AX$18,'Female Rev'!$A45-35,0),0.03999)","v":8.5000000000000006E-3},{"$f":"MIN(OFFSET(Female!AY$18,'Female Rev'!$A45-35,0),0.03999)","v":7.6E-3},{"$f":"MIN(OFFSET(Female!AZ$18,'Female Rev'!$A45-35,0),0.03999)","v":6.8999999999999999E-3},{"$f":"MIN(OFFSET(Female!BA$18,'Female Rev'!$A45-35,0),0.03999)","v":6.4000000000000003E-3},{"$f":"MIN(OFFSET(Female!BB$18,'Female Rev'!$A45-35,0),0.03999)","v":6.1000000000000004E-3},{"$f":"MIN(OFFSET(Female!BC$18,'Female Rev'!$A45-35,0),0.03999)","v":5.8999999999999999E-3},{"$f":"MIN(OFFSET(Female!BD$18,'Female Rev'!$A45-35,0),0.03999)","v":5.5999999999999999E-3},{"$f":"MIN(OFFSET(Female!BE$18,'Female Rev'!$A45-35,0),0.03999)","v":5.3E-3},{"$f":"MIN(OFFSET(Female!BF$18,'Female Rev'!$A45-35,0),0.03999)","v":4.7999999999999996E-3},{"$f":"MIN(OFFSET(Female!BG$18,'Female Rev'!$A45-35,0),0.03999)","v":4.1000000000000003E-3},{"$f":"MIN(OFFSET(Female!BH$18,'Female Rev'!$A45-35,0),0.03999)","v":3.2000000000000002E-3},{"$f":"MIN(OFFSET(Female!BI$18,'Female Rev'!$A45-35,0),0.03999)","v":2.3999999999999998E-3},{"$f":"MIN(OFFSET(Female!BJ$18,'Female Rev'!$A45-35,0),0.03999)","v":1.4E-3},{"$f":"MIN(OFFSET(Female!BK$18,'Female Rev'!$A45-35,0),0.03999)","v":5.0000000000000001E-4},{"$f":"MIN(OFFSET(Female!BL$18,'Female Rev'!$A45-35,0),0.03999)","v":-2.9999999999999997E-4},{"$f":"MIN(OFFSET(Female!BM$18,'Female Rev'!$A45-35,0),0.03999)","v":-6.9999999999999999E-4},{"$f":"MIN(OFFSET(Female!BN$18,'Female Rev'!$A45-35,0),0.03999)","v":-8.0000000000000004E-4},{"$f":"MIN(OFFSET(Female!BO$18,'Female Rev'!$A45-35,0),0.03999)","v":0},{"$f":"MIN(OFFSET(Female!BP$18,'Female Rev'!$A45-35,0),0.03999)","v":1E-3},{"$f":"MIN(OFFSET(Female!BQ$18,'Female Rev'!$A45-35,0),0.03999)","v":2.0999999999999999E-3},{"$f":"MIN(OFFSET(Female!BR$18,'Female Rev'!$A45-35,0),0.03999)","v":3.2000000000000002E-3},{"$f":"MIN(OFFSET(Female!BS$18,'Female Rev'!$A45-35,0),0.03999)","v":4.1999999999999997E-3},{"$f":"MIN(OFFSET(Female!BT$18,'Female Rev'!$A45-35,0),0.03999)","v":5.1000000000000004E-3},{"$f":"MIN(OFFSET(Female!BU$18,'Female Rev'!$A45-35,0),0.03999)","v":5.7999999999999996E-3},{"$f":"MIN(OFFSET(Female!BV$18,'Female Rev'!$A45-35,0),0.03999)","v":6.1999999999999998E-3},{"$f":"MIN(OFFSET(Female!BW$18,'Female Rev'!$A45-35,0),0.03999)","v":6.4999999999999997E-3},{"$f":"MIN(OFFSET(Female!BX$18,'Female Rev'!$A45-35,0),0.03999)","v":6.4999999999999997E-3},{"$f":"MIN(OFFSET(Female!BY$18,'Female Rev'!$A45-35,0),0.03999)","v":6.4999999999999997E-3},{"$f":"MIN(OFFSET(Female!BZ$18,'Female Rev'!$A45-35,0),0.03999)","v":6.6E-3},{"$f":"MIN(OFFSET(Female!CA$18,'Female Rev'!$A45-35,0),0.03999)","v":6.8999999999999999E-3},{"$f":"MIN(OFFSET(Female!CB$18,'Female Rev'!$A45-35,0),0.03999)","v":7.3000000000000001E-3},{"$f":"MIN(OFFSET(Female!CC$18,'Female Rev'!$A45-35,0),0.03999)","v":7.7999999999999996E-3},{"$f":"MIN(OFFSET(Female!CD$18,'Female Rev'!$A45-35,0),0.03999)","v":8.3999999999999995E-3},{"$f":"MIN(OFFSET(Female!CE$18,'Female Rev'!$A45-35,0),0.03999)","v":8.9999999999999993E-3},{"$f":"MIN(OFFSET(Female!CF$18,'Female Rev'!$A45-35,0),0.03999)","v":9.4999999999999998E-3},{"$f":"MIN(OFFSET(Female!CG$18,'Female Rev'!$A45-35,0),0.03999)","v":9.9000000000000008E-3},{"$f":"MIN(OFFSET(Female!CH$18,'Female Rev'!$A45-35,0),0.03999)","v":0.01}]
[52,52,{"$f":"MIN(OFFSET(Female!B$18,'Female Rev'!$A46-35,0),0.03999)","v":2.1000000000000001E-2},{"$f":"MIN(OFFSET(Female!C$18,'Female Rev'!$A46-35,0),0.03999)","v":2.1100000000000001E-2},{"$f":"MIN(OFFSET(Female!D$18,'Female Rev'!$A46-35,0),0.03999)","v":2.0799999999999999E-2},{"$f":"MIN(OFFSET(Female!E$18,'Female Rev'!$A46-35,0),0.03999)","v":2.0199999999999999E-2},{"$f":"MIN(OFFSET(Female!F$18,'Female Rev'!$A46-35,0),0.03999)","v":1.9E-2},{"$f":"MIN(OFFSET(Female!G$18,'Female Rev'!$A46-35,0),0.03999)","v":1.72E-2},{"$f":"MIN(OFFSET(Female!H$18,'Female Rev'!$A46-35,0),0.03999)","v":1.52E-2},{"$f":"MIN(OFFSET(Female!I$18,'Female Rev'!$A46-35,0),0.03999)","v":1.3100000000000001E-2},{"$f":"MIN(OFFSET(Female!J$18,'Female Rev'!$A46-35,0),0.03999)","v":1.11E-2},{"$f":"MIN(OFFSET(Female!K$18,'Female Rev'!$A46-35,0),0.03999)","v":8.8999999999999999E-3},{"$f":"MIN(OFFSET(Female!L$18,'Female Rev'!$A46-35,0),0.03999)","v":7.0000000000000001E-3},{"$f":"MIN(OFFSET(Female!M$18,'Female Rev'!$A46-35,0),0.03999)","v":5.1999999999999998E-3},{"$f":"MIN(OFFSET(Female!N$18,'Female Rev'!$A46-35,0),0.03999)","v":4.0000000000000001E-3},{"$f":"MIN(OFFSET(Female!O$18,'Female Rev'!$A46-35,0),0.03999)","v":3.3E-3},{"$f":"MIN(OFFSET(Female!P$18,'Female Rev'!$A46-35,0),0.03999)","v":3.3E-3},{"$f":"MIN(OFFSET(Female!Q$18,'Female Rev'!$A46-35,0),0.03999)","v":3.8999999999999998E-3},{"$f":"MIN(OFFSET(Female!R$18,'Female Rev'!$A46-35,0),0.03999)","v":5.0000000000000001E-3},{"$f":"MIN(OFFSET(Female!S$18,'Female Rev'!$A46-35,0),0.03999)","v":6.6E-3},{"$f":"MIN(OFFSET(Female!T$18,'Female Rev'!$A46-35,0),0.03999)","v":8.6999999999999994E-3},{"$f":"MIN(OFFSET(Female!U$18,'Female Rev'!$A46-35,0),0.03999)","v":1.12E-2},{"$f":"MIN(OFFSET(Female!V$18,'Female Rev'!$A46-35,0),0.03999)","v":1.38E-2},{"$f":"MIN(OFFSET(Female!W$18,'Female Rev'!$A46-35,0),0.03999)","v":1.6400000000000001E-2},{"$f":"MIN(OFFSET(Female!X$18,'Female Rev'!$A46-35,0),0.03999)","v":1.8499999999999999E-2},{"$f":"MIN(OFFSET(Female!Y$18,'Female Rev'!$A46-35,0),0.03999)","v":2.0299999999999999E-2},{"$f":"MIN(OFFSET(Female!Z$18,'Female Rev'!$A46-35,0),0.03999)","v":2.1499999999999998E-2},{"$f":"MIN(OFFSET(Female!AA$18,'Female Rev'!$A46-35,0),0.03999)","v":2.1899999999999999E-2},{"$f":"MIN(OFFSET(Female!AB$18,'Female Rev'!$A46-35,0),0.03999)","v":2.1899999999999999E-2},{"$f":"MIN(OFFSET(Female!AC$18,'Female Rev'!$A46-35,0),0.03999)","v":2.1399999999999999E-2},{"$f":"MIN(OFFSET(Female!AD$18,'Female Rev'!$A46-35,0),0.03999)","v":2.06E-2},{"$f":"MIN(OFFSET(Female!AE$18,'Female Rev'!$A46-35,0),0.03999)","v":1.95E-2},{"$f":"MIN(OFFSET(Female!AF$18,'Female Rev'!$A46-35,0),0.03999)","v":1.84E-2},{"$f":"MIN(OFFSET(Female!AG$18,'Female Rev'!$A46-35,0),0.03999)","v":1.72E-2},{"$f":"MIN(OFFSET(Female!AH$18,'Female Rev'!$A46-35,0),0.03999)","v":1.5900000000000001E-2},{"$f":"MIN(OFFSET(Female!AI$18,'Female Rev'!$A46-35,0),0.03999)","v":1.49E-2},{"$f":"MIN(OFFSET(Female!AJ$18,'Female Rev'!$A46-35,0),0.03999)","v":1.4E-2},{"$f":"MIN(OFFSET(Female!AK$18,'Female Rev'!$A46-35,0),0.03999)","v":1.34E-2},{"$f":"MIN(OFFSET(Female!AL$18,'Female Rev'!$A46-35,0),0.03999)","v":1.3100000000000001E-2},{"$f":"MIN(OFFSET(Female!AM$18,'Female Rev'!$A46-35,0),0.03999)","v":1.2800000000000001E-2},{"$f":"MIN(OFFSET(Female!AN$18,'Female Rev'!$A46-35,0),0.03999)","v":1.26E-2},{"$f":"MIN(OFFSET(Female!AO$18,'Female Rev'!$A46-35,0),0.03999)","v":1.23E-2},{"$f":"MIN(OFFSET(Female!AP$18,'Female Rev'!$A46-35,0),0.03999)","v":1.1900000000000001E-2},{"$f":"MIN(OFFSET(Female!AQ$18,'Female Rev'!$A46-35,0),0.03999)","v":1.14E-2},{"$f":"MIN(OFFSET(Female!AR$18,'Female Rev'!$A46-35,0),0.03999)","v":1.09E-2},{"$f":"MIN(OFFSET(Female!AS$18,'Female Rev'!$A46-35,0),0.03999)","v":1.0500000000000001E-2},{"$f":"MIN(OFFSET(Female!AT$18,'Female Rev'!$A46-35,0),0.03999)","v":1.0200000000000001E-2},{"$f":"MIN(OFFSET(Female!AU$18,'Female Rev'!$A46-35,0),0.03999)","v":9.9000000000000008E-3},{"$f":"MIN(OFFSET(Female!AV$18,'Female Rev'!$A46-35,0),0.03999)","v":9.2999999999999992E-3},{"$f":"MIN(OFFSET(Female!AW$18,'Female Rev'!$A46-35,0),0.03999)","v":8.3000000000000001E-3},{"$f":"MIN(OFFSET(Female!AX$18,'Female Rev'!$A46-35,0),0.03999)","v":7.1000000000000004E-3},{"$f":"MIN(OFFSET(Female!AY$18,'Female Rev'!$A46-35,0),0.03999)","v":6.0000000000000001E-3},{"$f":"MIN(OFFSET(Female!AZ$18,'Female Rev'!$A46-35,0),0.03999)","v":5.1000000000000004E-3},{"$f":"MIN(OFFSET(Female!BA$18,'Female Rev'!$A46-35,0),0.03999)","v":4.4999999999999997E-3},{"$f":"MIN(OFFSET(Female!BB$18,'Female Rev'!$A46-35,0),0.03999)","v":4.3E-3},{"$f":"MIN(OFFSET(Female!BC$18,'Female Rev'!$A46-35,0),0.03999)","v":4.1999999999999997E-3},{"$f":"MIN(OFFSET(Female!BD$18,'Female Rev'!$A46-35,0),0.03999)","v":4.1000000000000003E-3},{"$f":"MIN(OFFSET(Female!BE$18,'Female Rev'!$A46-35,0),0.03999)","v":4.1999999999999997E-3},{"$f":"MIN(OFFSET(Female!BF$18,'Female Rev'!$A46-35,0),0.03999)","v":4.1000000000000003E-3},{"$f":"MIN(OFFSET(Female!BG$18,'Female Rev'!$A46-35,0),0.03999)","v":3.7000000000000002E-3},{"$f":"MIN(OFFSET(Female!BH$18,'Female Rev'!$A46-35,0),0.03999)","v":3.3E-3},{"$f":"MIN(OFFSET(Female!BI$18,'Female Rev'!$A46-35,0),0.03999)","v":2.8E-3},{"$f":"MIN(OFFSET(Female!BJ$18,'Female Rev'!$A46-35,0),0.03999)","v":2.0999999999999999E-3},{"$f":"MIN(OFFSET(Female!BK$18,'Female Rev'!$A46-35,0),0.03999)","v":1.4E-3},{"$f":"MIN(OFFSET(Female!BL$18,'Female Rev'!$A46-35,0),0.03999)","v":8.0000000000000004E-4},{"$f":"MIN(OFFSET(Female!BM$18,'Female Rev'!$A46-35,0),0.03999)","v":4.0000000000000002E-4},{"$f":"MIN(OFFSET(Female!BN$18,'Female Rev'!$A46-35,0),0.03999)","v":2.9999999999999997E-4},{"$f":"MIN(OFFSET(Female!BO$18,'Female Rev'!$A46-35,0),0.03999)","v":1E-3},{"$f":"MIN(OFFSET(Female!BP$18,'Female Rev'!$A46-35,0),0.03999)","v":1.8E-3},{"$f":"MIN(OFFSET(Female!BQ$18,'Female Rev'!$A46-35,0),0.03999)","v":2.7000000000000001E-3},{"$f":"MIN(OFFSET(Female!BR$18,'Female Rev'!$A46-35,0),0.03999)","v":3.5999999999999999E-3},{"$f":"MIN(OFFSET(Female!BS$18,'Female Rev'!$A46-35,0),0.03999)","v":4.3E-3},{"$f":"MIN(OFFSET(Female!BT$18,'Female Rev'!$A46-35,0),0.03999)","v":5.0000000000000001E-3},{"$f":"MIN(OFFSET(Female!BU$18,'Female Rev'!$A46-35,0),0.03999)","v":5.4000000000000003E-3},{"$f":"MIN(OFFSET(Female!BV$18,'Female Rev'!$A46-35,0),0.03999)","v":5.7000000000000002E-3},{"$f":"MIN(OFFSET(Female!BW$18,'Female Rev'!$A46-35,0),0.03999)","v":5.8999999999999999E-3},{"$f":"MIN(OFFSET(Female!BX$18,'Female Rev'!$A46-35,0),0.03999)","v":5.8999999999999999E-3},{"$f":"MIN(OFFSET(Female!BY$18,'Female Rev'!$A46-35,0),0.03999)","v":5.8999999999999999E-3},{"$f":"MIN(OFFSET(Female!BZ$18,'Female Rev'!$A46-35,0),0.03999)","v":6.1000000000000004E-3},{"$f":"MIN(OFFSET(Female!CA$18,'Female Rev'!$A46-35,0),0.03999)","v":6.4000000000000003E-3},{"$f":"MIN(OFFSET(Female!CB$18,'Female Rev'!$A46-35,0),0.03999)","v":6.8999999999999999E-3},{"$f":"MIN(OFFSET(Female!CC$18,'Female Rev'!$A46-35,0),0.03999)","v":7.6E-3},{"$f":"MIN(OFFSET(Female!CD$18,'Female Rev'!$A46-35,0),0.03999)","v":8.2000000000000007E-3},{"$f":"MIN(OFFSET(Female!CE$18,'Female Rev'!$A46-35,0),0.03999)","v":8.8999999999999999E-3},{"$f":"MIN(OFFSET(Female!CF$18,'Female Rev'!$A46-35,0),0.03999)","v":9.4999999999999998E-3},{"$f":"MIN(OFFSET(Female!CG$18,'Female Rev'!$A46-35,0),0.03999)","v":9.9000000000000008E-3},{"$f":"MIN(OFFSET(Female!CH$18,'Female Rev'!$A46-35,0),0.03999)","v":0.01}]
[51,51,{"$f":"MIN(OFFSET(Female!B$18,'Female Rev'!$A47-35,0),0.03999)","v":2.1600000000000001E-2},{"$f":"MIN(OFFSET(Female!C$18,'Female Rev'!$A47-35,0),0.03999)","v":2.1600000000000001E-2},{"$f":"MIN(OFFSET(Female!D$18,'Female Rev'!$A47-35,0),0.03999)","v":2.1299999999999999E-2},{"$f":"MIN(OFFSET(Female!E$18,'Female Rev'!$A47-35,0),0.03999)","v":2.06E-2},{"$f":"MIN(OFFSET(Female!F$18,'Female Rev'!$A47-35,0),0.03999)","v":1.9300000000000001E-2},{"$f":"MIN(OFFSET(Female!G$18,'Female Rev'!$A47-35,0),0.03999)","v":1.7399999999999999E-2},{"$f":"MIN(OFFSET(Female!H$18,'Female Rev'!$A47-35,0),0.03999)","v":1.5100000000000001E-2},{"$f":"MIN(OFFSET(Female!I$18,'Female Rev'!$A47-35,0),0.03999)","v":1.2999999999999999E-2},{"$f":"MIN(OFFSET(Female!J$18,'Female Rev'!$A47-35,0),0.03999)","v":1.0699999999999999E-2},{"$f":"MIN(OFFSET(Female!K$18,'Female Rev'!$A47-35,0),0.03999)","v":8.5000000000000006E-3},{"$f":"MIN(OFFSET(Female!L$18,'Female Rev'!$A47-35,0),0.03999)","v":6.4000000000000003E-3},{"$f":"MIN(OFFSET(Female!M$18,'Female Rev'!$A47-35,0),0.03999)","v":4.5999999999999999E-3},{"$f":"MIN(OFFSET(Female!N$18,'Female Rev'!$A47-35,0),0.03999)","v":3.3E-3},{"$f":"MIN(OFFSET(Female!O$18,'Female Rev'!$A47-35,0),0.03999)","v":2.7000000000000001E-3},{"$f":"MIN(OFFSET(Female!P$18,'Female Rev'!$A47-35,0),0.03999)","v":2.8E-3},{"$f":"MIN(OFFSET(Female!Q$18,'Female Rev'!$A47-35,0),0.03999)","v":3.5000000000000001E-3},{"$f":"MIN(OFFSET(Female!R$18,'Female Rev'!$A47-35,0),0.03999)","v":4.7000000000000002E-3},{"$f":"MIN(OFFSET(Female!S$18,'Female Rev'!$A47-35,0),0.03999)","v":6.4999999999999997E-3},{"$f":"MIN(OFFSET(Female!T$18,'Female Rev'!$A47-35,0),0.03999)","v":8.8000000000000005E-3},{"$f":"MIN(OFFSET(Female!U$18,'Female Rev'!$A47-35,0),0.03999)","v":1.14E-2},{"$f":"MIN(OFFSET(Female!V$18,'Female Rev'!$A47-35,0),0.03999)","v":1.4200000000000001E-2},{"$f":"MIN(OFFSET(Female!W$18,'Female Rev'!$A47-35,0),0.03999)","v":1.6899999999999998E-2},{"$f":"MIN(OFFSET(Female!X$18,'Female Rev'!$A47-35,0),0.03999)","v":1.9300000000000001E-2},{"$f":"MIN(OFFSET(Female!Y$18,'Female Rev'!$A47-35,0),0.03999)","v":2.12E-2},{"$f":"MIN(OFFSET(Female!Z$18,'Female Rev'!$A47-35,0),0.03999)","v":2.2499999999999999E-2},{"$f":"MIN(OFFSET(Female!AA$18,'Female Rev'!$A47-35,0),0.03999)","v":2.3E-2},{"$f":"MIN(OFFSET(Female!AB$18,'Female Rev'!$A47-35,0),0.03999)","v":2.3099999999999999E-2},{"$f":"MIN(OFFSET(Female!AC$18,'Female Rev'!$A47-35,0),0.03999)","v":2.2700000000000001E-2},{"$f":"MIN(OFFSET(Female!AD$18,'Female Rev'!$A47-35,0),0.03999)","v":2.1899999999999999E-2},{"$f":"MIN(OFFSET(Female!AE$18,'Female Rev'!$A47-35,0),0.03999)","v":2.0899999999999998E-2},{"$f":"MIN(OFFSET(Female!AF$18,'Female Rev'!$A47-35,0),0.03999)","v":1.9699999999999999E-2},{"$f":"MIN(OFFSET(Female!AG$18,'Female Rev'!$A47-35,0),0.03999)","v":1.8499999999999999E-2},{"$f":"MIN(OFFSET(Female!AH$18,'Female Rev'!$A47-35,0),0.03999)","v":1.7100000000000001E-2},{"$f":"MIN(OFFSET(Female!AI$18,'Female Rev'!$A47-35,0),0.03999)","v":1.5900000000000001E-2},{"$f":"MIN(OFFSET(Female!AJ$18,'Female Rev'!$A47-35,0),0.03999)","v":1.49E-2},{"$f":"MIN(OFFSET(Female!AK$18,'Female Rev'!$A47-35,0),0.03999)","v":1.41E-2},{"$f":"MIN(OFFSET(Female!AL$18,'Female Rev'!$A47-35,0),0.03999)","v":1.35E-2},{"$f":"MIN(OFFSET(Female!AM$18,'Female Rev'!$A47-35,0),0.03999)","v":1.3100000000000001E-2},{"$f":"MIN(OFFSET(Female!AN$18,'Female Rev'!$A47-35,0),0.03999)","v":1.26E-2},{"$f":"MIN(OFFSET(Female!AO$18,'Female Rev'!$A47-35,0),0.03999)","v":1.21E-2},{"$f":"MIN(OFFSET(Female!AP$18,'Female Rev'!$A47-35,0),0.03999)","v":1.1599999999999999E-2},{"$f":"MIN(OFFSET(Female!AQ$18,'Female Rev'!$A47-35,0),0.03999)","v":1.09E-2},{"$f":"MIN(OFFSET(Female!AR$18,'Female Rev'!$A47-35,0),0.03999)","v":1.03E-2},{"$f":"MIN(OFFSET(Female!AS$18,'Female Rev'!$A47-35,0),0.03999)","v":9.7999999999999997E-3},{"$f":"MIN(OFFSET(Female!AT$18,'Female Rev'!$A47-35,0),0.03999)","v":9.4000000000000004E-3},{"$f":"MIN(OFFSET(Female!AU$18,'Female Rev'!$A47-35,0),0.03999)","v":8.8999999999999999E-3},{"$f":"MIN(OFFSET(Female!AV$18,'Female Rev'!$A47-35,0),0.03999)","v":8.2000000000000007E-3},{"$f":"MIN(OFFSET(Female!AW$18,'Female Rev'!$A47-35,0),0.03999)","v":7.0000000000000001E-3},{"$f":"MIN(OFFSET(Female!AX$18,'Female Rev'!$A47-35,0),0.03999)","v":5.5999999999999999E-3},{"$f":"MIN(OFFSET(Female!AY$18,'Female Rev'!$A47-35,0),0.03999)","v":4.3E-3},{"$f":"MIN(OFFSET(Female!AZ$18,'Female Rev'!$A47-35,0),0.03999)","v":3.3E-3},{"$f":"MIN(OFFSET(Female!BA$18,'Female Rev'!$A47-35,0),0.03999)","v":2.7000000000000001E-3},{"$f":"MIN(OFFSET(Female!BB$18,'Female Rev'!$A47-35,0),0.03999)","v":2.5999999999999999E-3},{"$f":"MIN(OFFSET(Female!BC$18,'Female Rev'!$A47-35,0),0.03999)","v":2.8E-3},{"$f":"MIN(OFFSET(Female!BD$18,'Female Rev'!$A47-35,0),0.03999)","v":3.0000000000000001E-3},{"$f":"MIN(OFFSET(Female!BE$18,'Female Rev'!$A47-35,0),0.03999)","v":3.3999999999999998E-3},{"$f":"MIN(OFFSET(Female!BF$18,'Female Rev'!$A47-35,0),0.03999)","v":3.7000000000000002E-3},{"$f":"MIN(OFFSET(Female!BG$18,'Female Rev'!$A47-35,0),0.03999)","v":3.8E-3},{"$f":"MIN(OFFSET(Female!BH$18,'Female Rev'!$A47-35,0),0.03999)","v":3.7000000000000002E-3},{"$f":"MIN(OFFSET(Female!BI$18,'Female Rev'!$A47-35,0),0.03999)","v":3.5000000000000001E-3},{"$f":"MIN(OFFSET(Female!BJ$18,'Female Rev'!$A47-35,0),0.03999)","v":3.0999999999999999E-3},{"$f":"MIN(OFFSET(Female!BK$18,'Female Rev'!$A47-35,0),0.03999)","v":2.5000000000000001E-3},{"$f":"MIN(OFFSET(Female!BL$18,'Female Rev'!$A47-35,0),0.03999)","v":1.9E-3},{"$f":"MIN(OFFSET(Female!BM$18,'Female Rev'!$A47-35,0),0.03999)","v":1.5E-3},{"$f":"MIN(OFFSET(Female!BN$18,'Female Rev'!$A47-35,0),0.03999)","v":1.2999999999999999E-3},{"$f":"MIN(OFFSET(Female!BO$18,'Female Rev'!$A47-35,0),0.03999)","v":1.9E-3},{"$f":"MIN(OFFSET(Female!BP$18,'Female Rev'!$A47-35,0),0.03999)","v":2.5000000000000001E-3},{"$f":"MIN(OFFSET(Female!BQ$18,'Female Rev'!$A47-35,0),0.03999)","v":3.2000000000000002E-3},{"$f":"MIN(OFFSET(Female!BR$18,'Female Rev'!$A47-35,0),0.03999)","v":3.8E-3},{"$f":"MIN(OFFSET(Female!BS$18,'Female Rev'!$A47-35,0),0.03999)","v":4.1999999999999997E-3},{"$f":"MIN(OFFSET(Female!BT$18,'Female Rev'!$A47-35,0),0.03999)","v":4.5999999999999999E-3},{"$f":"MIN(OFFSET(Female!BU$18,'Female Rev'!$A47-35,0),0.03999)","v":4.8999999999999998E-3},{"$f":"MIN(OFFSET(Female!BV$18,'Female Rev'!$A47-35,0),0.03999)","v":5.1000000000000004E-3},{"$f":"MIN(OFFSET(Female!BW$18,'Female Rev'!$A47-35,0),0.03999)","v":5.1999999999999998E-3},{"$f":"MIN(OFFSET(Female!BX$18,'Female Rev'!$A47-35,0),0.03999)","v":5.1999999999999998E-3},{"$f":"MIN(OFFSET(Female!BY$18,'Female Rev'!$A47-35,0),0.03999)","v":5.3E-3},{"$f":"MIN(OFFSET(Female!BZ$18,'Female Rev'!$A47-35,0),0.03999)","v":5.5999999999999999E-3},{"$f":"MIN(OFFSET(Female!CA$18,'Female Rev'!$A47-35,0),0.03999)","v":6.0000000000000001E-3},{"$f":"MIN(OFFSET(Female!CB$18,'Female Rev'!$A47-35,0),0.03999)","v":6.6E-3},{"$f":"MIN(OFFSET(Female!CC$18,'Female Rev'!$A47-35,0),0.03999)","v":7.4000000000000003E-3},{"$f":"MIN(OFFSET(Female!CD$18,'Female Rev'!$A47-35,0),0.03999)","v":8.0999999999999996E-3},{"$f":"MIN(OFFSET(Female!CE$18,'Female Rev'!$A47-35,0),0.03999)","v":8.8000000000000005E-3},{"$f":"MIN(OFFSET(Female!CF$18,'Female Rev'!$A47-35,0),0.03999)","v":9.4000000000000004E-3},{"$f":"MIN(OFFSET(Female!CG$18,'Female Rev'!$A47-35,0),0.03999)","v":9.9000000000000008E-3},{"$f":"MIN(OFFSET(Female!CH$18,'Female Rev'!$A47-35,0),0.03999)","v":0.01}]
[50,50,{"$f":"MIN(OFFSET(Female!B$18,'Female Rev'!$A48-35,0),0.03999)","v":2.2200000000000001E-2},{"$f":"MIN(OFFSET(Female!C$18,'Female Rev'!$A48-35,0),0.03999)","v":2.2100000000000002E-2},{"$f":"MIN(OFFSET(Female!D$18,'Female Rev'!$A48-35,0),0.03999)","v":2.18E-2},{"$f":"MIN(OFFSET(Female!E$18,'Female Rev'!$A48-35,0),0.03999)","v":2.1000000000000001E-2},{"$f":"MIN(OFFSET(Female!F$18,'Female Rev'!$A48-35,0),0.03999)","v":1.95E-2},{"$f":"MIN(OFFSET(Female!G$18,'Female Rev'!$A48-35,0),0.03999)","v":1.7500000000000002E-2},{"$f":"MIN(OFFSET(Female!H$18,'Female Rev'!$A48-35,0),0.03999)","v":1.5100000000000001E-2},{"$f":"MIN(OFFSET(Female!I$18,'Female Rev'!$A48-35,0),0.03999)","v":1.2800000000000001E-2},{"$f":"MIN(OFFSET(Female!J$18,'Female Rev'!$A48-35,0),0.03999)","v":1.04E-2},{"$f":"MIN(OFFSET(Female!K$18,'Female Rev'!$A48-35,0),0.03999)","v":8.0000000000000002E-3},{"$f":"MIN(OFFSET(Female!L$18,'Female Rev'!$A48-35,0),0.03999)","v":5.7999999999999996E-3},{"$f":"MIN(OFFSET(Female!M$18,'Female Rev'!$A48-35,0),0.03999)","v":4.0000000000000001E-3},{"$f":"MIN(OFFSET(Female!N$18,'Female Rev'!$A48-35,0),0.03999)","v":2.7000000000000001E-3},{"$f":"MIN(OFFSET(Female!O$18,'Female Rev'!$A48-35,0),0.03999)","v":2.0999999999999999E-3},{"$f":"MIN(OFFSET(Female!P$18,'Female Rev'!$A48-35,0),0.03999)","v":2.3E-3},{"$f":"MIN(OFFSET(Female!Q$18,'Female Rev'!$A48-35,0),0.03999)","v":3.0999999999999999E-3},{"$f":"MIN(OFFSET(Female!R$18,'Female Rev'!$A48-35,0),0.03999)","v":4.4000000000000003E-3},{"$f":"MIN(OFFSET(Female!S$18,'Female Rev'!$A48-35,0),0.03999)","v":6.4000000000000003E-3},{"$f":"MIN(OFFSET(Female!T$18,'Female Rev'!$A48-35,0),0.03999)","v":8.8999999999999999E-3},{"$f":"MIN(OFFSET(Female!U$18,'Female Rev'!$A48-35,0),0.03999)","v":1.1599999999999999E-2},{"$f":"MIN(OFFSET(Female!V$18,'Female Rev'!$A48-35,0),0.03999)","v":1.46E-2},{"$f":"MIN(OFFSET(Female!W$18,'Female Rev'!$A48-35,0),0.03999)","v":1.7500000000000002E-2},{"$f":"MIN(OFFSET(Female!X$18,'Female Rev'!$A48-35,0),0.03999)","v":0.02},{"$f":"MIN(OFFSET(Female!Y$18,'Female Rev'!$A48-35,0),0.03999)","v":2.2100000000000002E-2},{"$f":"MIN(OFFSET(Female!Z$18,'Female Rev'!$A48-35,0),0.03999)","v":2.3599999999999999E-2},{"$f":"MIN(OFFSET(Female!AA$18,'Female Rev'!$A48-35,0),0.03999)","v":2.4299999999999999E-2},{"$f":"MIN(OFFSET(Female!AB$18,'Female Rev'!$A48-35,0),0.03999)","v":2.4400000000000002E-2},{"$f":"MIN(OFFSET(Female!AC$18,'Female Rev'!$A48-35,0),0.03999)","v":2.4E-2},{"$f":"MIN(OFFSET(Female!AD$18,'Female Rev'!$A48-35,0),0.03999)","v":2.3300000000000001E-2},{"$f":"MIN(OFFSET(Female!AE$18,'Female Rev'!$A48-35,0),0.03999)","v":2.2200000000000001E-2},{"$f":"MIN(OFFSET(Female!AF$18,'Female Rev'!$A48-35,0),0.03999)","v":2.1000000000000001E-2},{"$f":"MIN(OFFSET(Female!AG$18,'Female Rev'!$A48-35,0),0.03999)","v":1.9699999999999999E-2},{"$f":"MIN(OFFSET(Female!AH$18,'Female Rev'!$A48-35,0),0.03999)","v":1.83E-2},{"$f":"MIN(OFFSET(Female!AI$18,'Female Rev'!$A48-35,0),0.03999)","v":1.6899999999999998E-2},{"$f":"MIN(OFFSET(Female!AJ$18,'Female Rev'!$A48-35,0),0.03999)","v":1.5599999999999999E-2},{"$f":"MIN(OFFSET(Female!AK$18,'Female Rev'!$A48-35,0),0.03999)","v":1.46E-2},{"$f":"MIN(OFFSET(Female!AL$18,'Female Rev'!$A48-35,0),0.03999)","v":1.38E-2},{"$f":"MIN(OFFSET(Female!AM$18,'Female Rev'!$A48-35,0),0.03999)","v":1.32E-2},{"$f":"MIN(OFFSET(Female!AN$18,'Female Rev'!$A48-35,0),0.03999)","v":1.2500000000000001E-2},{"$f":"MIN(OFFSET(Female!AO$18,'Female Rev'!$A48-35,0),0.03999)","v":1.18E-2},{"$f":"MIN(OFFSET(Female!AP$18,'Female Rev'!$A48-35,0),0.03999)","v":1.0999999999999999E-2},{"$f":"MIN(OFFSET(Female!AQ$18,'Female Rev'!$A48-35,0),0.03999)","v":1.0200000000000001E-2},{"$f":"MIN(OFFSET(Female!AR$18,'Female Rev'!$A48-35,0),0.03999)","v":9.4999999999999998E-3},{"$f":"MIN(OFFSET(Female!AS$18,'Female Rev'!$A48-35,0),0.03999)","v":8.8999999999999999E-3},{"$f":"MIN(OFFSET(Female!AT$18,'Female Rev'!$A48-35,0),0.03999)","v":8.3999999999999995E-3},{"$f":"MIN(OFFSET(Female!AU$18,'Female Rev'!$A48-35,0),0.03999)","v":7.7999999999999996E-3},{"$f":"MIN(OFFSET(Female!AV$18,'Female Rev'!$A48-35,0),0.03999)","v":6.8999999999999999E-3},{"$f":"MIN(OFFSET(Female!AW$18,'Female Rev'!$A48-35,0),0.03999)","v":5.5999999999999999E-3},{"$f":"MIN(OFFSET(Female!AX$18,'Female Rev'!$A48-35,0),0.03999)","v":4.0000000000000001E-3},{"$f":"MIN(OFFSET(Female!AY$18,'Female Rev'!$A48-35,0),0.03999)","v":2.5000000000000001E-3},{"$f":"MIN(OFFSET(Female!AZ$18,'Female Rev'!$A48-35,0),0.03999)","v":1.5E-3},{"$f":"MIN(OFFSET(Female!BA$18,'Female Rev'!$A48-35,0),0.03999)","v":1.1000000000000001E-3},{"$f":"MIN(OFFSET(Female!BB$18,'Female Rev'!$A48-35,0),0.03999)","v":1.1999999999999999E-3},{"$f":"MIN(OFFSET(Female!BC$18,'Female Rev'!$A48-35,0),0.03999)","v":1.6999999999999999E-3},{"$f":"MIN(OFFSET(Female!BD$18,'Female Rev'!$A48-35,0),0.03999)","v":2.3E-3},{"$f":"MIN(OFFSET(Female!BE$18,'Female Rev'!$A48-35,0),0.03999)","v":3.0999999999999999E-3},{"$f":"MIN(OFFSET(Female!BF$18,'Female Rev'!$A48-35,0),0.03999)","v":3.7000000000000002E-3},{"$f":"MIN(OFFSET(Female!BG$18,'Female Rev'!$A48-35,0),0.03999)","v":4.1000000000000003E-3},{"$f":"MIN(OFFSET(Female!BH$18,'Female Rev'!$A48-35,0),0.03999)","v":4.4000000000000003E-3},{"$f":"MIN(OFFSET(Female!BI$18,'Female Rev'!$A48-35,0),0.03999)","v":4.4000000000000003E-3},{"$f":"MIN(OFFSET(Female!BJ$18,'Female Rev'!$A48-35,0),0.03999)","v":4.1000000000000003E-3},{"$f":"MIN(OFFSET(Female!BK$18,'Female Rev'!$A48-35,0),0.03999)","v":3.5999999999999999E-3},{"$f":"MIN(OFFSET(Female!BL$18,'Female Rev'!$A48-35,0),0.03999)","v":2.8999999999999998E-3},{"$f":"MIN(OFFSET(Female!BM$18,'Female Rev'!$A48-35,0),0.03999)","v":2.3999999999999998E-3},{"$f":"MIN(OFFSET(Female!BN$18,'Female Rev'!$A48-35,0),0.03999)","v":2.0999999999999999E-3},{"$f":"MIN(OFFSET(Female!BO$18,'Female Rev'!$A48-35,0),0.03999)","v":2.5000000000000001E-3},{"$f":"MIN(OFFSET(Female!BP$18,'Female Rev'!$A48-35,0),0.03999)","v":2.8999999999999998E-3},{"$f":"MIN(OFFSET(Female!BQ$18,'Female Rev'!$A48-35,0),0.03999)","v":3.3E-3},{"$f":"MIN(OFFSET(Female!BR$18,'Female Rev'!$A48-35,0),0.03999)","v":3.5999999999999999E-3},{"$f":"MIN(OFFSET(Female!BS$18,'Female Rev'!$A48-35,0),0.03999)","v":3.8999999999999998E-3},{"$f":"MIN(OFFSET(Female!BT$18,'Female Rev'!$A48-35,0),0.03999)","v":4.0000000000000001E-3},{"$f":"MIN(OFFSET(Female!BU$18,'Female Rev'!$A48-35,0),0.03999)","v":4.1999999999999997E-3},{"$f":"MIN(OFFSET(Female!BV$18,'Female Rev'!$A48-35,0),0.03999)","v":4.3E-3},{"$f":"MIN(OFFSET(Female!BW$18,'Female Rev'!$A48-35,0),0.03999)","v":4.4000000000000003E-3},{"$f":"MIN(OFFSET(Female!BX$18,'Female Rev'!$A48-35,0),0.03999)","v":4.4000000000000003E-3},{"$f":"MIN(OFFSET(Female!BY$18,'Female Rev'!$A48-35,0),0.03999)","v":4.5999999999999999E-3},{"$f":"MIN(OFFSET(Female!BZ$18,'Female Rev'!$A48-35,0),0.03999)","v":5.0000000000000001E-3},{"$f":"MIN(OFFSET(Female!CA$18,'Female Rev'!$A48-35,0),0.03999)","v":5.5999999999999999E-3},{"$f":"MIN(OFFSET(Female!CB$18,'Female Rev'!$A48-35,0),0.03999)","v":6.3E-3},{"$f":"MIN(OFFSET(Female!CC$18,'Female Rev'!$A48-35,0),0.03999)","v":7.1999999999999998E-3},{"$f":"MIN(OFFSET(Female!CD$18,'Female Rev'!$A48-35,0),0.03999)","v":8.0000000000000002E-3},{"$f":"MIN(OFFSET(Female!CE$18,'Female Rev'!$A48-35,0),0.03999)","v":8.8000000000000005E-3},{"$f":"MIN(OFFSET(Female!CF$18,'Female Rev'!$A48-35,0),0.03999)","v":9.4000000000000004E-3},{"$f":"MIN(OFFSET(Female!CG$18,'Female Rev'!$A48-35,0),0.03999)","v":9.9000000000000008E-3},{"$f":"MIN(OFFSET(Female!CH$18,'Female Rev'!$A48-35,0),0.03999)","v":0.01}]
[49,49,{"$f":"MIN(OFFSET(Female!B$18,'Female Rev'!$A49-35,0),0.03999)","v":2.29E-2},{"$f":"MIN(OFFSET(Female!C$18,'Female Rev'!$A49-35,0),0.03999)","v":2.2700000000000001E-2},{"$f":"MIN(OFFSET(Female!D$18,'Female Rev'!$A49-35,0),0.03999)","v":2.23E-2},{"$f":"MIN(OFFSET(Female!E$18,'Female Rev'!$A49-35,0),0.03999)","v":2.1299999999999999E-2},{"$f":"MIN(OFFSET(Female!F$18,'Female Rev'!$A49-35,0),0.03999)","v":1.9699999999999999E-2},{"$f":"MIN(OFFSET(Female!G$18,'Female Rev'!$A49-35,0),0.03999)","v":1.7600000000000001E-2},{"$f":"MIN(OFFSET(Female!H$18,'Female Rev'!$A49-35,0),0.03999)","v":1.5100000000000001E-2},{"$f":"MIN(OFFSET(Female!I$18,'Female Rev'!$A49-35,0),0.03999)","v":1.26E-2},{"$f":"MIN(OFFSET(Female!J$18,'Female Rev'!$A49-35,0),0.03999)","v":1.01E-2},{"$f":"MIN(OFFSET(Female!K$18,'Female Rev'!$A49-35,0),0.03999)","v":7.6E-3},{"$f":"MIN(OFFSET(Female!L$18,'Female Rev'!$A49-35,0),0.03999)","v":5.4000000000000003E-3},{"$f":"MIN(OFFSET(Female!M$18,'Female Rev'!$A49-35,0),0.03999)","v":3.5000000000000001E-3},{"$f":"MIN(OFFSET(Female!N$18,'Female Rev'!$A49-35,0),0.03999)","v":2.2000000000000001E-3},{"$f":"MIN(OFFSET(Female!O$18,'Female Rev'!$A49-35,0),0.03999)","v":1.6000000000000001E-3},{"$f":"MIN(OFFSET(Female!P$18,'Female Rev'!$A49-35,0),0.03999)","v":1.8E-3},{"$f":"MIN(OFFSET(Female!Q$18,'Female Rev'!$A49-35,0),0.03999)","v":2.7000000000000001E-3},{"$f":"MIN(OFFSET(Female!R$18,'Female Rev'!$A49-35,0),0.03999)","v":4.1999999999999997E-3},{"$f":"MIN(OFFSET(Female!S$18,'Female Rev'!$A49-35,0),0.03999)","v":6.3E-3},{"$f":"MIN(OFFSET(Female!T$18,'Female Rev'!$A49-35,0),0.03999)","v":8.8999999999999999E-3},{"$f":"MIN(OFFSET(Female!U$18,'Female Rev'!$A49-35,0),0.03999)","v":1.1900000000000001E-2},{"$f":"MIN(OFFSET(Female!V$18,'Female Rev'!$A49-35,0),0.03999)","v":1.4999999999999999E-2},{"$f":"MIN(OFFSET(Female!W$18,'Female Rev'!$A49-35,0),0.03999)","v":1.7999999999999999E-2},{"$f":"MIN(OFFSET(Female!X$18,'Female Rev'!$A49-35,0),0.03999)","v":2.0799999999999999E-2},{"$f":"MIN(OFFSET(Female!Y$18,'Female Rev'!$A49-35,0),0.03999)","v":2.3099999999999999E-2},{"$f":"MIN(OFFSET(Female!Z$18,'Female Rev'!$A49-35,0),0.03999)","v":2.47E-2},{"$f":"MIN(OFFSET(Female!AA$18,'Female Rev'!$A49-35,0),0.03999)","v":2.5499999999999998E-2},{"$f":"MIN(OFFSET(Female!AB$18,'Female Rev'!$A49-35,0),0.03999)","v":2.5700000000000001E-2},{"$f":"MIN(OFFSET(Female!AC$18,'Female Rev'!$A49-35,0),0.03999)","v":2.5399999999999999E-2},{"$f":"MIN(OFFSET(Female!AD$18,'Female Rev'!$A49-35,0),0.03999)","v":2.47E-2},{"$f":"MIN(OFFSET(Female!AE$18,'Female Rev'!$A49-35,0),0.03999)","v":2.3599999999999999E-2},{"$f":"MIN(OFFSET(Female!AF$18,'Female Rev'!$A49-35,0),0.03999)","v":2.23E-2},{"$f":"MIN(OFFSET(Female!AG$18,'Female Rev'!$A49-35,0),0.03999)","v":2.0899999999999998E-2},{"$f":"MIN(OFFSET(Female!AH$18,'Female Rev'!$A49-35,0),0.03999)","v":1.9300000000000001E-2},{"$f":"MIN(OFFSET(Female!AI$18,'Female Rev'!$A49-35,0),0.03999)","v":1.77E-2},{"$f":"MIN(OFFSET(Female!AJ$18,'Female Rev'!$A49-35,0),0.03999)","v":1.6299999999999999E-2},{"$f":"MIN(OFFSET(Female!AK$18,'Female Rev'!$A49-35,0),0.03999)","v":1.4999999999999999E-2},{"$f":"MIN(OFFSET(Female!AL$18,'Female Rev'!$A49-35,0),0.03999)","v":1.4E-2},{"$f":"MIN(OFFSET(Female!AM$18,'Female Rev'!$A49-35,0),0.03999)","v":1.3100000000000001E-2},{"$f":"MIN(OFFSET(Female!AN$18,'Female Rev'!$A49-35,0),0.03999)","v":1.2200000000000001E-2},{"$f":"MIN(OFFSET(Female!AO$18,'Female Rev'!$A49-35,0),0.03999)","v":1.12E-2},{"$f":"MIN(OFFSET(Female!AP$18,'Female Rev'!$A49-35,0),0.03999)","v":1.0200000000000001E-2},{"$f":"MIN(OFFSET(Female!AQ$18,'Female Rev'!$A49-35,0),0.03999)","v":9.2999999999999992E-3},{"$f":"MIN(OFFSET(Female!AR$18,'Female Rev'!$A49-35,0),0.03999)","v":8.3999999999999995E-3},{"$f":"MIN(OFFSET(Female!AS$18,'Female Rev'!$A49-35,0),0.03999)","v":7.7999999999999996E-3},{"$f":"MIN(OFFSET(Female!AT$18,'Female Rev'!$A49-35,0),0.03999)","v":7.3000000000000001E-3},{"$f":"MIN(OFFSET(Female!AU$18,'Female Rev'!$A49-35,0),0.03999)","v":6.6E-3},{"$f":"MIN(OFFSET(Female!AV$18,'Female Rev'!$A49-35,0),0.03999)","v":5.5999999999999999E-3},{"$f":"MIN(OFFSET(Female!AW$18,'Female Rev'!$A49-35,0),0.03999)","v":4.1000000000000003E-3},{"$f":"MIN(OFFSET(Female!AX$18,'Female Rev'!$A49-35,0),0.03999)","v":2.3999999999999998E-3},{"$f":"MIN(OFFSET(Female!AY$18,'Female Rev'!$A49-35,0),0.03999)","v":8.9999999999999998E-4},{"$f":"MIN(OFFSET(Female!AZ$18,'Female Rev'!$A49-35,0),0.03999)","v":0},{"$f":"MIN(OFFSET(Female!BA$18,'Female Rev'!$A49-35,0),0.03999)","v":-2.9999999999999997E-4},{"$f":"MIN(OFFSET(Female!BB$18,'Female Rev'!$A49-35,0),0.03999)","v":1E-4},{"$f":"MIN(OFFSET(Female!BC$18,'Female Rev'!$A49-35,0),0.03999)","v":1E-3},{"$f":"MIN(OFFSET(Female!BD$18,'Female Rev'!$A49-35,0),0.03999)","v":2E-3},{"$f":"MIN(OFFSET(Female!BE$18,'Female Rev'!$A49-35,0),0.03999)","v":3.0999999999999999E-3},{"$f":"MIN(OFFSET(Female!BF$18,'Female Rev'!$A49-35,0),0.03999)","v":4.1000000000000003E-3},{"$f":"MIN(OFFSET(Female!BG$18,'Female Rev'!$A49-35,0),0.03999)","v":4.7999999999999996E-3},{"$f":"MIN(OFFSET(Female!BH$18,'Female Rev'!$A49-35,0),0.03999)","v":5.3E-3},{"$f":"MIN(OFFSET(Female!BI$18,'Female Rev'!$A49-35,0),0.03999)","v":5.4999999999999997E-3},{"$f":"MIN(OFFSET(Female!BJ$18,'Female Rev'!$A49-35,0),0.03999)","v":5.1000000000000004E-3},{"$f":"MIN(OFFSET(Female!BK$18,'Female Rev'!$A49-35,0),0.03999)","v":4.4999999999999997E-3},{"$f":"MIN(OFFSET(Female!BL$18,'Female Rev'!$A49-35,0),0.03999)","v":3.8E-3},{"$f":"MIN(OFFSET(Female!BM$18,'Female Rev'!$A49-35,0),0.03999)","v":3.0999999999999999E-3},{"$f":"MIN(OFFSET(Female!BN$18,'Female Rev'!$A49-35,0),0.03999)","v":2.5999999999999999E-3},{"$f":"MIN(OFFSET(Female!BO$18,'Female Rev'!$A49-35,0),0.03999)","v":2.8E-3},{"$f":"MIN(OFFSET(Female!BP$18,'Female Rev'!$A49-35,0),0.03999)","v":3.0000000000000001E-3},{"$f":"MIN(OFFSET(Female!BQ$18,'Female Rev'!$A49-35,0),0.03999)","v":3.0999999999999999E-3},{"$f":"MIN(OFFSET(Female!BR$18,'Female Rev'!$A49-35,0),0.03999)","v":3.2000000000000002E-3},{"$f":"MIN(OFFSET(Female!BS$18,'Female Rev'!$A49-35,0),0.03999)","v":3.2000000000000002E-3},{"$f":"MIN(OFFSET(Female!BT$18,'Female Rev'!$A49-35,0),0.03999)","v":3.3E-3},{"$f":"MIN(OFFSET(Female!BU$18,'Female Rev'!$A49-35,0),0.03999)","v":3.3E-3},{"$f":"MIN(OFFSET(Female!BV$18,'Female Rev'!$A49-35,0),0.03999)","v":3.3999999999999998E-3},{"$f":"MIN(OFFSET(Female!BW$18,'Female Rev'!$A49-35,0),0.03999)","v":3.5000000000000001E-3},{"$f":"MIN(OFFSET(Female!BX$18,'Female Rev'!$A49-35,0),0.03999)","v":3.7000000000000002E-3},{"$f":"MIN(OFFSET(Female!BY$18,'Female Rev'!$A49-35,0),0.03999)","v":4.0000000000000001E-3},{"$f":"MIN(OFFSET(Female!BZ$18,'Female Rev'!$A49-35,0),0.03999)","v":4.4999999999999997E-3},{"$f":"MIN(OFFSET(Female!CA$18,'Female Rev'!$A49-35,0),0.03999)","v":5.1999999999999998E-3},{"$f":"MIN(OFFSET(Female!CB$18,'Female Rev'!$A49-35,0),0.03999)","v":6.1000000000000004E-3},{"$f":"MIN(OFFSET(Female!CC$18,'Female Rev'!$A49-35,0),0.03999)","v":7.0000000000000001E-3},{"$f":"MIN(OFFSET(Female!CD$18,'Female Rev'!$A49-35,0),0.03999)","v":7.9000000000000008E-3},{"$f":"MIN(OFFSET(Female!CE$18,'Female Rev'!$A49-35,0),0.03999)","v":8.8000000000000005E-3},{"$f":"MIN(OFFSET(Female!CF$18,'Female Rev'!$A49-35,0),0.03999)","v":9.4000000000000004E-3},{"$f":"MIN(OFFSET(Female!CG$18,'Female Rev'!$A49-35,0),0.03999)","v":9.9000000000000008E-3},{"$f":"MIN(OFFSET(Female!CH$18,'Female Rev'!$A49-35,0),0.03999)","v":0.01}]
[48,48,{"$f":"MIN(OFFSET(Female!B$18,'Female Rev'!$A50-35,0),0.03999)","v":2.3599999999999999E-2},{"$f":"MIN(OFFSET(Female!C$18,'Female Rev'!$A50-35,0),0.03999)","v":2.3400000000000001E-2},{"$f":"MIN(OFFSET(Female!D$18,'Female Rev'!$A50-35,0),0.03999)","v":2.2800000000000001E-2},{"$f":"MIN(OFFSET(Female!E$18,'Female Rev'!$A50-35,0),0.03999)","v":2.1700000000000001E-2},{"$f":"MIN(OFFSET(Female!F$18,'Female Rev'!$A50-35,0),0.03999)","v":0.02},{"$f":"MIN(OFFSET(Female!G$18,'Female Rev'!$A50-35,0),0.03999)","v":1.7600000000000001E-2},{"$f":"MIN(OFFSET(Female!H$18,'Female Rev'!$A50-35,0),0.03999)","v":1.5100000000000001E-2},{"$f":"MIN(OFFSET(Female!I$18,'Female Rev'!$A50-35,0),0.03999)","v":1.2500000000000001E-2},{"$f":"MIN(OFFSET(Female!J$18,'Female Rev'!$A50-35,0),0.03999)","v":9.9000000000000008E-3},{"$f":"MIN(OFFSET(Female!K$18,'Female Rev'!$A50-35,0),0.03999)","v":7.3000000000000001E-3},{"$f":"MIN(OFFSET(Female!L$18,'Female Rev'!$A50-35,0),0.03999)","v":5.0000000000000001E-3},{"$f":"MIN(OFFSET(Female!M$18,'Female Rev'!$A50-35,0),0.03999)","v":3.0000000000000001E-3},{"$f":"MIN(OFFSET(Female!N$18,'Female Rev'!$A50-35,0),0.03999)","v":1.6999999999999999E-3},{"$f":"MIN(OFFSET(Female!O$18,'Female Rev'!$A50-35,0),0.03999)","v":1.1999999999999999E-3},{"$f":"MIN(OFFSET(Female!P$18,'Female Rev'!$A50-35,0),0.03999)","v":1.2999999999999999E-3},{"$f":"MIN(OFFSET(Female!Q$18,'Female Rev'!$A50-35,0),0.03999)","v":2.3E-3},{"$f":"MIN(OFFSET(Female!R$18,'Female Rev'!$A50-35,0),0.03999)","v":3.8999999999999998E-3},{"$f":"MIN(OFFSET(Female!S$18,'Female Rev'!$A50-35,0),0.03999)","v":6.1999999999999998E-3},{"$f":"MIN(OFFSET(Female!T$18,'Female Rev'!$A50-35,0),0.03999)","v":8.9999999999999993E-3},{"$f":"MIN(OFFSET(Female!U$18,'Female Rev'!$A50-35,0),0.03999)","v":1.21E-2},{"$f":"MIN(OFFSET(Female!V$18,'Female Rev'!$A50-35,0),0.03999)","v":1.54E-2},{"$f":"MIN(OFFSET(Female!W$18,'Female Rev'!$A50-35,0),0.03999)","v":1.8700000000000001E-2},{"$f":"MIN(OFFSET(Female!X$18,'Female Rev'!$A50-35,0),0.03999)","v":2.1700000000000001E-2},{"$f":"MIN(OFFSET(Female!Y$18,'Female Rev'!$A50-35,0),0.03999)","v":2.4199999999999999E-2},{"$f":"MIN(OFFSET(Female!Z$18,'Female Rev'!$A50-35,0),0.03999)","v":2.5999999999999999E-2},{"$f":"MIN(OFFSET(Female!AA$18,'Female Rev'!$A50-35,0),0.03999)","v":2.69E-2},{"$f":"MIN(OFFSET(Female!AB$18,'Female Rev'!$A50-35,0),0.03999)","v":2.7199999999999998E-2},{"$f":"MIN(OFFSET(Female!AC$18,'Female Rev'!$A50-35,0),0.03999)","v":2.6800000000000001E-2},{"$f":"MIN(OFFSET(Female!AD$18,'Female Rev'!$A50-35,0),0.03999)","v":2.6100000000000002E-2},{"$f":"MIN(OFFSET(Female!AE$18,'Female Rev'!$A50-35,0),0.03999)","v":2.4799999999999999E-2},{"$f":"MIN(OFFSET(Female!AF$18,'Female Rev'!$A50-35,0),0.03999)","v":2.35E-2},{"$f":"MIN(OFFSET(Female!AG$18,'Female Rev'!$A50-35,0),0.03999)","v":2.1899999999999999E-2},{"$f":"MIN(OFFSET(Female!AH$18,'Female Rev'!$A50-35,0),0.03999)","v":2.0199999999999999E-2},{"$f":"MIN(OFFSET(Female!AI$18,'Female Rev'!$A50-35,0),0.03999)","v":1.8499999999999999E-2},{"$f":"MIN(OFFSET(Female!AJ$18,'Female Rev'!$A50-35,0),0.03999)","v":1.6799999999999999E-2},{"$f":"MIN(OFFSET(Female!AK$18,'Female Rev'!$A50-35,0),0.03999)","v":1.5299999999999999E-2},{"$f":"MIN(OFFSET(Female!AL$18,'Female Rev'!$A50-35,0),0.03999)","v":1.4E-2},{"$f":"MIN(OFFSET(Female!AM$18,'Female Rev'!$A50-35,0),0.03999)","v":1.2800000000000001E-2},{"$f":"MIN(OFFSET(Female!AN$18,'Female Rev'!$A50-35,0),0.03999)","v":1.1599999999999999E-2},{"$f":"MIN(OFFSET(Female!AO$18,'Female Rev'!$A50-35,0),0.03999)","v":1.04E-2},{"$f":"MIN(OFFSET(Female!AP$18,'Female Rev'!$A50-35,0),0.03999)","v":9.2999999999999992E-3},{"$f":"MIN(OFFSET(Female!AQ$18,'Female Rev'!$A50-35,0),0.03999)","v":8.2000000000000007E-3},{"$f":"MIN(OFFSET(Female!AR$18,'Female Rev'!$A50-35,0),0.03999)","v":7.1999999999999998E-3},{"$f":"MIN(OFFSET(Female!AS$18,'Female Rev'!$A50-35,0),0.03999)","v":6.4999999999999997E-3},{"$f":"MIN(OFFSET(Female!AT$18,'Female Rev'!$A50-35,0),0.03999)","v":6.0000000000000001E-3},{"$f":"MIN(OFFSET(Female!AU$18,'Female Rev'!$A50-35,0),0.03999)","v":5.3E-3},{"$f":"MIN(OFFSET(Female!AV$18,'Female Rev'!$A50-35,0),0.03999)","v":4.1999999999999997E-3},{"$f":"MIN(OFFSET(Female!AW$18,'Female Rev'!$A50-35,0),0.03999)","v":2.5999999999999999E-3},{"$f":"MIN(OFFSET(Female!AX$18,'Female Rev'!$A50-35,0),0.03999)","v":8.9999999999999998E-4},{"$f":"MIN(OFFSET(Female!AY$18,'Female Rev'!$A50-35,0),0.03999)","v":-5.0000000000000001E-4},{"$f":"MIN(OFFSET(Female!AZ$18,'Female Rev'!$A50-35,0),0.03999)","v":-1.2999999999999999E-3},{"$f":"MIN(OFFSET(Female!BA$18,'Female Rev'!$A50-35,0),0.03999)","v":-1.2999999999999999E-3},{"$f":"MIN(OFFSET(Female!BB$18,'Female Rev'!$A50-35,0),0.03999)","v":-5.0000000000000001E-4},{"$f":"MIN(OFFSET(Female!BC$18,'Female Rev'!$A50-35,0),0.03999)","v":6.9999999999999999E-4},{"$f":"MIN(OFFSET(Female!BD$18,'Female Rev'!$A50-35,0),0.03999)","v":2.0999999999999999E-3},{"$f":"MIN(OFFSET(Female!BE$18,'Female Rev'!$A50-35,0),0.03999)","v":3.5999999999999999E-3},{"$f":"MIN(OFFSET(Female!BF$18,'Female Rev'!$A50-35,0),0.03999)","v":4.8999999999999998E-3},{"$f":"MIN(OFFSET(Female!BG$18,'Female Rev'!$A50-35,0),0.03999)","v":5.7999999999999996E-3},{"$f":"MIN(OFFSET(Female!BH$18,'Female Rev'!$A50-35,0),0.03999)","v":6.3E-3},{"$f":"MIN(OFFSET(Female!BI$18,'Female Rev'!$A50-35,0),0.03999)","v":6.4999999999999997E-3},{"$f":"MIN(OFFSET(Female!BJ$18,'Female Rev'!$A50-35,0),0.03999)","v":6.1000000000000004E-3},{"$f":"MIN(OFFSET(Female!BK$18,'Female Rev'!$A50-35,0),0.03999)","v":5.3E-3},{"$f":"MIN(OFFSET(Female!BL$18,'Female Rev'!$A50-35,0),0.03999)","v":4.3E-3},{"$f":"MIN(OFFSET(Female!BM$18,'Female Rev'!$A50-35,0),0.03999)","v":3.3999999999999998E-3},{"$f":"MIN(OFFSET(Female!BN$18,'Female Rev'!$A50-35,0),0.03999)","v":2.7000000000000001E-3},{"$f":"MIN(OFFSET(Female!BO$18,'Female Rev'!$A50-35,0),0.03999)","v":2.5999999999999999E-3},{"$f":"MIN(OFFSET(Female!BP$18,'Female Rev'!$A50-35,0),0.03999)","v":2.5999999999999999E-3},{"$f":"MIN(OFFSET(Female!BQ$18,'Female Rev'!$A50-35,0),0.03999)","v":2.5000000000000001E-3},{"$f":"MIN(OFFSET(Female!BR$18,'Female Rev'!$A50-35,0),0.03999)","v":2.3999999999999998E-3},{"$f":"MIN(OFFSET(Female!BS$18,'Female Rev'!$A50-35,0),0.03999)","v":2.3E-3},{"$f":"MIN(OFFSET(Female!BT$18,'Female Rev'!$A50-35,0),0.03999)","v":2.3E-3},{"$f":"MIN(OFFSET(Female!BU$18,'Female Rev'!$A50-35,0),0.03999)","v":2.3E-3},{"$f":"MIN(OFFSET(Female!BV$18,'Female Rev'!$A50-35,0),0.03999)","v":2.3999999999999998E-3},{"$f":"MIN(OFFSET(Female!BW$18,'Female Rev'!$A50-35,0),0.03999)","v":2.5999999999999999E-3},{"$f":"MIN(OFFSET(Female!BX$18,'Female Rev'!$A50-35,0),0.03999)","v":2.8999999999999998E-3},{"$f":"MIN(OFFSET(Female!BY$18,'Female Rev'!$A50-35,0),0.03999)","v":3.3999999999999998E-3},{"$f":"MIN(OFFSET(Female!BZ$18,'Female Rev'!$A50-35,0),0.03999)","v":4.0000000000000001E-3},{"$f":"MIN(OFFSET(Female!CA$18,'Female Rev'!$A50-35,0),0.03999)","v":4.8999999999999998E-3},{"$f":"MIN(OFFSET(Female!CB$18,'Female Rev'!$A50-35,0),0.03999)","v":5.8999999999999999E-3},{"$f":"MIN(OFFSET(Female!CC$18,'Female Rev'!$A50-35,0),0.03999)","v":6.8999999999999999E-3},{"$f":"MIN(OFFSET(Female!CD$18,'Female Rev'!$A50-35,0),0.03999)","v":7.9000000000000008E-3},{"$f":"MIN(OFFSET(Female!CE$18,'Female Rev'!$A50-35,0),0.03999)","v":8.8000000000000005E-3},{"$f":"MIN(OFFSET(Female!CF$18,'Female Rev'!$A50-35,0),0.03999)","v":9.4000000000000004E-3},{"$f":"MIN(OFFSET(Female!CG$18,'Female Rev'!$A50-35,0),0.03999)","v":9.9000000000000008E-3},{"$f":"MIN(OFFSET(Female!CH$18,'Female Rev'!$A50-35,0),0.03999)","v":0.01}]
[47,47,{"$f":"MIN(OFFSET(Female!B$18,'Female Rev'!$A51-35,0),0.03999)","v":2.4199999999999999E-2},{"$f":"MIN(OFFSET(Female!C$18,'Female Rev'!$A51-35,0),0.03999)","v":2.4E-2},{"$f":"MIN(OFFSET(Female!D$18,'Female Rev'!$A51-35,0),0.03999)","v":2.3300000000000001E-2},{"$f":"MIN(OFFSET(Female!E$18,'Female Rev'!$A51-35,0),0.03999)","v":2.2100000000000002E-2},{"$f":"MIN(OFFSET(Female!F$18,'Female Rev'!$A51-35,0),0.03999)","v":2.0199999999999999E-2},{"$f":"MIN(OFFSET(Female!G$18,'Female Rev'!$A51-35,0),0.03999)","v":1.78E-2},{"$f":"MIN(OFFSET(Female!H$18,'Female Rev'!$A51-35,0),0.03999)","v":1.5100000000000001E-2},{"$f":"MIN(OFFSET(Female!I$18,'Female Rev'!$A51-35,0),0.03999)","v":1.2500000000000001E-2},{"$f":"MIN(OFFSET(Female!J$18,'Female Rev'!$A51-35,0),0.03999)","v":9.7000000000000003E-3},{"$f":"MIN(OFFSET(Female!K$18,'Female Rev'!$A51-35,0),0.03999)","v":7.0000000000000001E-3},{"$f":"MIN(OFFSET(Female!L$18,'Female Rev'!$A51-35,0),0.03999)","v":4.5999999999999999E-3},{"$f":"MIN(OFFSET(Female!M$18,'Female Rev'!$A51-35,0),0.03999)","v":2.5999999999999999E-3},{"$f":"MIN(OFFSET(Female!N$18,'Female Rev'!$A51-35,0),0.03999)","v":1.2999999999999999E-3},{"$f":"MIN(OFFSET(Female!O$18,'Female Rev'!$A51-35,0),0.03999)","v":8.0000000000000004E-4},{"$f":"MIN(OFFSET(Female!P$18,'Female Rev'!$A51-35,0),0.03999)","v":8.9999999999999998E-4},{"$f":"MIN(OFFSET(Female!Q$18,'Female Rev'!$A51-35,0),0.03999)","v":2E-3},{"$f":"MIN(OFFSET(Female!R$18,'Female Rev'!$A51-35,0),0.03999)","v":3.7000000000000002E-3},{"$f":"MIN(OFFSET(Female!S$18,'Female Rev'!$A51-35,0),0.03999)","v":6.1000000000000004E-3},{"$f":"MIN(OFFSET(Female!T$18,'Female Rev'!$A51-35,0),0.03999)","v":9.1000000000000004E-3},{"$f":"MIN(OFFSET(Female!U$18,'Female Rev'!$A51-35,0),0.03999)","v":1.24E-2},{"$f":"MIN(OFFSET(Female!V$18,'Female Rev'!$A51-35,0),0.03999)","v":1.5900000000000001E-2},{"$f":"MIN(OFFSET(Female!W$18,'Female Rev'!$A51-35,0),0.03999)","v":1.9300000000000001E-2},{"$f":"MIN(OFFSET(Female!X$18,'Female Rev'!$A51-35,0),0.03999)","v":2.2599999999999999E-2},{"$f":"MIN(OFFSET(Female!Y$18,'Female Rev'!$A51-35,0),0.03999)","v":2.53E-2},{"$f":"MIN(OFFSET(Female!Z$18,'Female Rev'!$A51-35,0),0.03999)","v":2.7199999999999998E-2},{"$f":"MIN(OFFSET(Female!AA$18,'Female Rev'!$A51-35,0),0.03999)","v":2.8199999999999999E-2},{"$f":"MIN(OFFSET(Female!AB$18,'Female Rev'!$A51-35,0),0.03999)","v":2.86E-2},{"$f":"MIN(OFFSET(Female!AC$18,'Female Rev'!$A51-35,0),0.03999)","v":2.8199999999999999E-2},{"$f":"MIN(OFFSET(Female!AD$18,'Female Rev'!$A51-35,0),0.03999)","v":2.7400000000000001E-2},{"$f":"MIN(OFFSET(Female!AE$18,'Female Rev'!$A51-35,0),0.03999)","v":2.5999999999999999E-2},{"$f":"MIN(OFFSET(Female!AF$18,'Female Rev'!$A51-35,0),0.03999)","v":2.4500000000000001E-2},{"$f":"MIN(OFFSET(Female!AG$18,'Female Rev'!$A51-35,0),0.03999)","v":2.29E-2},{"$f":"MIN(OFFSET(Female!AH$18,'Female Rev'!$A51-35,0),0.03999)","v":2.1000000000000001E-2},{"$f":"MIN(OFFSET(Female!AI$18,'Female Rev'!$A51-35,0),0.03999)","v":1.9E-2},{"$f":"MIN(OFFSET(Female!AJ$18,'Female Rev'!$A51-35,0),0.03999)","v":1.7100000000000001E-2},{"$f":"MIN(OFFSET(Female!AK$18,'Female Rev'!$A51-35,0),0.03999)","v":1.54E-2},{"$f":"MIN(OFFSET(Female!AL$18,'Female Rev'!$A51-35,0),0.03999)","v":1.38E-2},{"$f":"MIN(OFFSET(Female!AM$18,'Female Rev'!$A51-35,0),0.03999)","v":1.23E-2},{"$f":"MIN(OFFSET(Female!AN$18,'Female Rev'!$A51-35,0),0.03999)","v":1.09E-2},{"$f":"MIN(OFFSET(Female!AO$18,'Female Rev'!$A51-35,0),0.03999)","v":9.4000000000000004E-3},{"$f":"MIN(OFFSET(Female!AP$18,'Female Rev'!$A51-35,0),0.03999)","v":8.0999999999999996E-3},{"$f":"MIN(OFFSET(Female!AQ$18,'Female Rev'!$A51-35,0),0.03999)","v":7.0000000000000001E-3},{"$f":"MIN(OFFSET(Female!AR$18,'Female Rev'!$A51-35,0),0.03999)","v":5.7999999999999996E-3},{"$f":"MIN(OFFSET(Female!AS$18,'Female Rev'!$A51-35,0),0.03999)","v":5.1000000000000004E-3},{"$f":"MIN(OFFSET(Female!AT$18,'Female Rev'!$A51-35,0),0.03999)","v":4.5999999999999999E-3},{"$f":"MIN(OFFSET(Female!AU$18,'Female Rev'!$A51-35,0),0.03999)","v":3.8999999999999998E-3},{"$f":"MIN(OFFSET(Female!AV$18,'Female Rev'!$A51-35,0),0.03999)","v":2.8E-3},{"$f":"MIN(OFFSET(Female!AW$18,'Female Rev'!$A51-35,0),0.03999)","v":1.2999999999999999E-3},{"$f":"MIN(OFFSET(Female!AX$18,'Female Rev'!$A51-35,0),0.03999)","v":-2.9999999999999997E-4},{"$f":"MIN(OFFSET(Female!AY$18,'Female Rev'!$A51-35,0),0.03999)","v":-1.6000000000000001E-3},{"$f":"MIN(OFFSET(Female!AZ$18,'Female Rev'!$A51-35,0),0.03999)","v":-2.3E-3},{"$f":"MIN(OFFSET(Female!BA$18,'Female Rev'!$A51-35,0),0.03999)","v":-1.9E-3},{"$f":"MIN(OFFSET(Female!BB$18,'Female Rev'!$A51-35,0),0.03999)","v":-8.0000000000000004E-4},{"$f":"MIN(OFFSET(Female!BC$18,'Female Rev'!$A51-35,0),0.03999)","v":8.0000000000000004E-4},{"$f":"MIN(OFFSET(Female!BD$18,'Female Rev'!$A51-35,0),0.03999)","v":2.5999999999999999E-3},{"$f":"MIN(OFFSET(Female!BE$18,'Female Rev'!$A51-35,0),0.03999)","v":4.4000000000000003E-3},{"$f":"MIN(OFFSET(Female!BF$18,'Female Rev'!$A51-35,0),0.03999)","v":5.7999999999999996E-3},{"$f":"MIN(OFFSET(Female!BG$18,'Female Rev'!$A51-35,0),0.03999)","v":6.7999999999999996E-3},{"$f":"MIN(OFFSET(Female!BH$18,'Female Rev'!$A51-35,0),0.03999)","v":7.4000000000000003E-3},{"$f":"MIN(OFFSET(Female!BI$18,'Female Rev'!$A51-35,0),0.03999)","v":7.4999999999999997E-3},{"$f":"MIN(OFFSET(Female!BJ$18,'Female Rev'!$A51-35,0),0.03999)","v":6.7999999999999996E-3},{"$f":"MIN(OFFSET(Female!BK$18,'Female Rev'!$A51-35,0),0.03999)","v":5.7000000000000002E-3},{"$f":"MIN(OFFSET(Female!BL$18,'Female Rev'!$A51-35,0),0.03999)","v":4.4999999999999997E-3},{"$f":"MIN(OFFSET(Female!BM$18,'Female Rev'!$A51-35,0),0.03999)","v":3.2000000000000002E-3},{"$f":"MIN(OFFSET(Female!BN$18,'Female Rev'!$A51-35,0),0.03999)","v":2.3E-3},{"$f":"MIN(OFFSET(Female!BO$18,'Female Rev'!$A51-35,0),0.03999)","v":2E-3},{"$f":"MIN(OFFSET(Female!BP$18,'Female Rev'!$A51-35,0),0.03999)","v":1.8E-3},{"$f":"MIN(OFFSET(Female!BQ$18,'Female Rev'!$A51-35,0),0.03999)","v":1.5E-3},{"$f":"MIN(OFFSET(Female!BR$18,'Female Rev'!$A51-35,0),0.03999)","v":1.2999999999999999E-3},{"$f":"MIN(OFFSET(Female!BS$18,'Female Rev'!$A51-35,0),0.03999)","v":1.1999999999999999E-3},{"$f":"MIN(OFFSET(Female!BT$18,'Female Rev'!$A51-35,0),0.03999)","v":1.1000000000000001E-3},{"$f":"MIN(OFFSET(Female!BU$18,'Female Rev'!$A51-35,0),0.03999)","v":1.1999999999999999E-3},{"$f":"MIN(OFFSET(Female!BV$18,'Female Rev'!$A51-35,0),0.03999)","v":1.4E-3},{"$f":"MIN(OFFSET(Female!BW$18,'Female Rev'!$A51-35,0),0.03999)","v":1.8E-3},{"$f":"MIN(OFFSET(Female!BX$18,'Female Rev'!$A51-35,0),0.03999)","v":2.2000000000000001E-3},{"$f":"MIN(OFFSET(Female!BY$18,'Female Rev'!$A51-35,0),0.03999)","v":2.8E-3},{"$f":"MIN(OFFSET(Female!BZ$18,'Female Rev'!$A51-35,0),0.03999)","v":3.5999999999999999E-3},{"$f":"MIN(OFFSET(Female!CA$18,'Female Rev'!$A51-35,0),0.03999)","v":4.5999999999999999E-3},{"$f":"MIN(OFFSET(Female!CB$18,'Female Rev'!$A51-35,0),0.03999)","v":5.7000000000000002E-3},{"$f":"MIN(OFFSET(Female!CC$18,'Female Rev'!$A51-35,0),0.03999)","v":6.7999999999999996E-3},{"$f":"MIN(OFFSET(Female!CD$18,'Female Rev'!$A51-35,0),0.03999)","v":7.9000000000000008E-3},{"$f":"MIN(OFFSET(Female!CE$18,'Female Rev'!$A51-35,0),0.03999)","v":8.8000000000000005E-3},{"$f":"MIN(OFFSET(Female!CF$18,'Female Rev'!$A51-35,0),0.03999)","v":9.4000000000000004E-3},{"$f":"MIN(OFFSET(Female!CG$18,'Female Rev'!$A51-35,0),0.03999)","v":9.9000000000000008E-3},{"$f":"MIN(OFFSET(Female!CH$18,'Female Rev'!$A51-35,0),0.03999)","v":0.01}]
[46,46,{"$f":"MIN(OFFSET(Female!B$18,'Female Rev'!$A52-35,0),0.03999)","v":2.4899999999999999E-2},{"$f":"MIN(OFFSET(Female!C$18,'Female Rev'!$A52-35,0),0.03999)","v":2.46E-2},{"$f":"MIN(OFFSET(Female!D$18,'Female Rev'!$A52-35,0),0.03999)","v":2.3900000000000001E-2},{"$f":"MIN(OFFSET(Female!E$18,'Female Rev'!$A52-35,0),0.03999)","v":2.2599999999999999E-2},{"$f":"MIN(OFFSET(Female!F$18,'Female Rev'!$A52-35,0),0.03999)","v":2.0500000000000001E-2},{"$f":"MIN(OFFSET(Female!G$18,'Female Rev'!$A52-35,0),0.03999)","v":1.7999999999999999E-2},{"$f":"MIN(OFFSET(Female!H$18,'Female Rev'!$A52-35,0),0.03999)","v":1.5299999999999999E-2},{"$f":"MIN(OFFSET(Female!I$18,'Female Rev'!$A52-35,0),0.03999)","v":1.2500000000000001E-2},{"$f":"MIN(OFFSET(Female!J$18,'Female Rev'!$A52-35,0),0.03999)","v":9.5999999999999992E-3},{"$f":"MIN(OFFSET(Female!K$18,'Female Rev'!$A52-35,0),0.03999)","v":6.7999999999999996E-3},{"$f":"MIN(OFFSET(Female!L$18,'Female Rev'!$A52-35,0),0.03999)","v":4.3E-3},{"$f":"MIN(OFFSET(Female!M$18,'Female Rev'!$A52-35,0),0.03999)","v":2.3E-3},{"$f":"MIN(OFFSET(Female!N$18,'Female Rev'!$A52-35,0),0.03999)","v":1E-3},{"$f":"MIN(OFFSET(Female!O$18,'Female Rev'!$A52-35,0),0.03999)","v":4.0000000000000002E-4},{"$f":"MIN(OFFSET(Female!P$18,'Female Rev'!$A52-35,0),0.03999)","v":5.9999999999999995E-4},{"$f":"MIN(OFFSET(Female!Q$18,'Female Rev'!$A52-35,0),0.03999)","v":1.6999999999999999E-3},{"$f":"MIN(OFFSET(Female!R$18,'Female Rev'!$A52-35,0),0.03999)","v":3.5999999999999999E-3},{"$f":"MIN(OFFSET(Female!S$18,'Female Rev'!$A52-35,0),0.03999)","v":6.1000000000000004E-3},{"$f":"MIN(OFFSET(Female!T$18,'Female Rev'!$A52-35,0),0.03999)","v":9.2999999999999992E-3},{"$f":"MIN(OFFSET(Female!U$18,'Female Rev'!$A52-35,0),0.03999)","v":1.2800000000000001E-2},{"$f":"MIN(OFFSET(Female!V$18,'Female Rev'!$A52-35,0),0.03999)","v":1.6500000000000001E-2},{"$f":"MIN(OFFSET(Female!W$18,'Female Rev'!$A52-35,0),0.03999)","v":2.01E-2},{"$f":"MIN(OFFSET(Female!X$18,'Female Rev'!$A52-35,0),0.03999)","v":2.35E-2},{"$f":"MIN(OFFSET(Female!Y$18,'Female Rev'!$A52-35,0),0.03999)","v":2.64E-2},{"$f":"MIN(OFFSET(Female!Z$18,'Female Rev'!$A52-35,0),0.03999)","v":2.8500000000000001E-2},{"$f":"MIN(OFFSET(Female!AA$18,'Female Rev'!$A52-35,0),0.03999)","v":2.9600000000000001E-2},{"$f":"MIN(OFFSET(Female!AB$18,'Female Rev'!$A52-35,0),0.03999)","v":2.9899999999999999E-2},{"$f":"MIN(OFFSET(Female!AC$18,'Female Rev'!$A52-35,0),0.03999)","v":2.9600000000000001E-2},{"$f":"MIN(OFFSET(Female!AD$18,'Female Rev'!$A52-35,0),0.03999)","v":2.87E-2},{"$f":"MIN(OFFSET(Female!AE$18,'Female Rev'!$A52-35,0),0.03999)","v":2.7199999999999998E-2},{"$f":"MIN(OFFSET(Female!AF$18,'Female Rev'!$A52-35,0),0.03999)","v":2.5499999999999998E-2},{"$f":"MIN(OFFSET(Female!AG$18,'Female Rev'!$A52-35,0),0.03999)","v":2.3699999999999999E-2},{"$f":"MIN(OFFSET(Female!AH$18,'Female Rev'!$A52-35,0),0.03999)","v":2.1600000000000001E-2},{"$f":"MIN(OFFSET(Female!AI$18,'Female Rev'!$A52-35,0),0.03999)","v":1.9300000000000001E-2},{"$f":"MIN(OFFSET(Female!AJ$18,'Female Rev'!$A52-35,0),0.03999)","v":1.72E-2},{"$f":"MIN(OFFSET(Female!AK$18,'Female Rev'!$A52-35,0),0.03999)","v":1.52E-2},{"$f":"MIN(OFFSET(Female!AL$18,'Female Rev'!$A52-35,0),0.03999)","v":1.3299999999999999E-2},{"$f":"MIN(OFFSET(Female!AM$18,'Female Rev'!$A52-35,0),0.03999)","v":1.1599999999999999E-2},{"$f":"MIN(OFFSET(Female!AN$18,'Female Rev'!$A52-35,0),0.03999)","v":9.9000000000000008E-3},{"$f":"MIN(OFFSET(Female!AO$18,'Female Rev'!$A52-35,0),0.03999)","v":8.3000000000000001E-3},{"$f":"MIN(OFFSET(Female!AP$18,'Female Rev'!$A52-35,0),0.03999)","v":6.7999999999999996E-3},{"$f":"MIN(OFFSET(Female!AQ$18,'Female Rev'!$A52-35,0),0.03999)","v":5.4999999999999997E-3},{"$f":"MIN(OFFSET(Female!AR$18,'Female Rev'!$A52-35,0),0.03999)","v":4.3E-3},{"$f":"MIN(OFFSET(Female!AS$18,'Female Rev'!$A52-35,0),0.03999)","v":3.5999999999999999E-3},{"$f":"MIN(OFFSET(Female!AT$18,'Female Rev'!$A52-35,0),0.03999)","v":3.2000000000000002E-3},{"$f":"MIN(OFFSET(Female!AU$18,'Female Rev'!$A52-35,0),0.03999)","v":2.5999999999999999E-3},{"$f":"MIN(OFFSET(Female!AV$18,'Female Rev'!$A52-35,0),0.03999)","v":1.6000000000000001E-3},{"$f":"MIN(OFFSET(Female!AW$18,'Female Rev'!$A52-35,0),0.03999)","v":2.0000000000000001E-4},{"$f":"MIN(OFFSET(Female!AX$18,'Female Rev'!$A52-35,0),0.03999)","v":-1.2999999999999999E-3},{"$f":"MIN(OFFSET(Female!AY$18,'Female Rev'!$A52-35,0),0.03999)","v":-2.3999999999999998E-3},{"$f":"MIN(OFFSET(Female!AZ$18,'Female Rev'!$A52-35,0),0.03999)","v":-2.8E-3},{"$f":"MIN(OFFSET(Female!BA$18,'Female Rev'!$A52-35,0),0.03999)","v":-2.0999999999999999E-3},{"$f":"MIN(OFFSET(Female!BB$18,'Female Rev'!$A52-35,0),0.03999)","v":-5.9999999999999995E-4},{"$f":"MIN(OFFSET(Female!BC$18,'Female Rev'!$A52-35,0),0.03999)","v":1.2999999999999999E-3},{"$f":"MIN(OFFSET(Female!BD$18,'Female Rev'!$A52-35,0),0.03999)","v":3.3999999999999998E-3},{"$f":"MIN(OFFSET(Female!BE$18,'Female Rev'!$A52-35,0),0.03999)","v":5.4000000000000003E-3},{"$f":"MIN(OFFSET(Female!BF$18,'Female Rev'!$A52-35,0),0.03999)","v":6.8999999999999999E-3},{"$f":"MIN(OFFSET(Female!BG$18,'Female Rev'!$A52-35,0),0.03999)","v":7.9000000000000008E-3},{"$f":"MIN(OFFSET(Female!BH$18,'Female Rev'!$A52-35,0),0.03999)","v":8.3999999999999995E-3},{"$f":"MIN(OFFSET(Female!BI$18,'Female Rev'!$A52-35,0),0.03999)","v":8.2000000000000007E-3},{"$f":"MIN(OFFSET(Female!BJ$18,'Female Rev'!$A52-35,0),0.03999)","v":7.1999999999999998E-3},{"$f":"MIN(OFFSET(Female!BK$18,'Female Rev'!$A52-35,0),0.03999)","v":5.7999999999999996E-3},{"$f":"MIN(OFFSET(Female!BL$18,'Female Rev'!$A52-35,0),0.03999)","v":4.1999999999999997E-3},{"$f":"MIN(OFFSET(Female!BM$18,'Female Rev'!$A52-35,0),0.03999)","v":2.5999999999999999E-3},{"$f":"MIN(OFFSET(Female!BN$18,'Female Rev'!$A52-35,0),0.03999)","v":1.5E-3},{"$f":"MIN(OFFSET(Female!BO$18,'Female Rev'!$A52-35,0),0.03999)","v":1E-3},{"$f":"MIN(OFFSET(Female!BP$18,'Female Rev'!$A52-35,0),0.03999)","v":5.0000000000000001E-4},{"$f":"MIN(OFFSET(Female!BQ$18,'Female Rev'!$A52-35,0),0.03999)","v":1E-4},{"$f":"MIN(OFFSET(Female!BR$18,'Female Rev'!$A52-35,0),0.03999)","v":-1E-4},{"$f":"MIN(OFFSET(Female!BS$18,'Female Rev'!$A52-35,0),0.03999)","v":-2.0000000000000001E-4},{"$f":"MIN(OFFSET(Female!BT$18,'Female Rev'!$A52-35,0),0.03999)","v":-2.0000000000000001E-4},{"$f":"MIN(OFFSET(Female!BU$18,'Female Rev'!$A52-35,0),0.03999)","v":0},{"$f":"MIN(OFFSET(Female!BV$18,'Female Rev'!$A52-35,0),0.03999)","v":4.0000000000000002E-4},{"$f":"MIN(OFFSET(Female!BW$18,'Female Rev'!$A52-35,0),0.03999)","v":8.9999999999999998E-4},{"$f":"MIN(OFFSET(Female!BX$18,'Female Rev'!$A52-35,0),0.03999)","v":1.5E-3},{"$f":"MIN(OFFSET(Female!BY$18,'Female Rev'!$A52-35,0),0.03999)","v":2.3E-3},{"$f":"MIN(OFFSET(Female!BZ$18,'Female Rev'!$A52-35,0),0.03999)","v":3.3E-3},{"$f":"MIN(OFFSET(Female!CA$18,'Female Rev'!$A52-35,0),0.03999)","v":4.4000000000000003E-3},{"$f":"MIN(OFFSET(Female!CB$18,'Female Rev'!$A52-35,0),0.03999)","v":5.5999999999999999E-3},{"$f":"MIN(OFFSET(Female!CC$18,'Female Rev'!$A52-35,0),0.03999)","v":6.7999999999999996E-3},{"$f":"MIN(OFFSET(Female!CD$18,'Female Rev'!$A52-35,0),0.03999)","v":7.9000000000000008E-3},{"$f":"MIN(OFFSET(Female!CE$18,'Female Rev'!$A52-35,0),0.03999)","v":8.8000000000000005E-3},{"$f":"MIN(OFFSET(Female!CF$18,'Female Rev'!$A52-35,0),0.03999)","v":9.4999999999999998E-3},{"$f":"MIN(OFFSET(Female!CG$18,'Female Rev'!$A52-35,0),0.03999)","v":9.9000000000000008E-3},{"$f":"MIN(OFFSET(Female!CH$18,'Female Rev'!$A52-35,0),0.03999)","v":0.01}]
[45,45,{"$f":"MIN(OFFSET(Female!B$18,'Female Rev'!$A53-35,0),0.03999)","v":2.5399999999999999E-2},{"$f":"MIN(OFFSET(Female!C$18,'Female Rev'!$A53-35,0),0.03999)","v":2.5100000000000001E-2},{"$f":"MIN(OFFSET(Female!D$18,'Female Rev'!$A53-35,0),0.03999)","v":2.4400000000000002E-2},{"$f":"MIN(OFFSET(Female!E$18,'Female Rev'!$A53-35,0),0.03999)","v":2.3E-2},{"$f":"MIN(OFFSET(Female!F$18,'Female Rev'!$A53-35,0),0.03999)","v":2.0899999999999998E-2},{"$f":"MIN(OFFSET(Female!G$18,'Female Rev'!$A53-35,0),0.03999)","v":1.83E-2},{"$f":"MIN(OFFSET(Female!H$18,'Female Rev'!$A53-35,0),0.03999)","v":1.54E-2},{"$f":"MIN(OFFSET(Female!I$18,'Female Rev'!$A53-35,0),0.03999)","v":1.2500000000000001E-2},{"$f":"MIN(OFFSET(Female!J$18,'Female Rev'!$A53-35,0),0.03999)","v":9.4999999999999998E-3},{"$f":"MIN(OFFSET(Female!K$18,'Female Rev'!$A53-35,0),0.03999)","v":6.6E-3},{"$f":"MIN(OFFSET(Female!L$18,'Female Rev'!$A53-35,0),0.03999)","v":4.1000000000000003E-3},{"$f":"MIN(OFFSET(Female!M$18,'Female Rev'!$A53-35,0),0.03999)","v":2E-3},{"$f":"MIN(OFFSET(Female!N$18,'Female Rev'!$A53-35,0),0.03999)","v":6.9999999999999999E-4},{"$f":"MIN(OFFSET(Female!O$18,'Female Rev'!$A53-35,0),0.03999)","v":2.0000000000000001E-4},{"$f":"MIN(OFFSET(Female!P$18,'Female Rev'!$A53-35,0),0.03999)","v":4.0000000000000002E-4},{"$f":"MIN(OFFSET(Female!Q$18,'Female Rev'!$A53-35,0),0.03999)","v":1.5E-3},{"$f":"MIN(OFFSET(Female!R$18,'Female Rev'!$A53-35,0),0.03999)","v":3.5000000000000001E-3},{"$f":"MIN(OFFSET(Female!S$18,'Female Rev'!$A53-35,0),0.03999)","v":6.1000000000000004E-3},{"$f":"MIN(OFFSET(Female!T$18,'Female Rev'!$A53-35,0),0.03999)","v":9.4999999999999998E-3},{"$f":"MIN(OFFSET(Female!U$18,'Female Rev'!$A53-35,0),0.03999)","v":1.32E-2},{"$f":"MIN(OFFSET(Female!V$18,'Female Rev'!$A53-35,0),0.03999)","v":1.7100000000000001E-2},{"$f":"MIN(OFFSET(Female!W$18,'Female Rev'!$A53-35,0),0.03999)","v":2.0899999999999998E-2},{"$f":"MIN(OFFSET(Female!X$18,'Female Rev'!$A53-35,0),0.03999)","v":2.4500000000000001E-2},{"$f":"MIN(OFFSET(Female!Y$18,'Female Rev'!$A53-35,0),0.03999)","v":2.75E-2},{"$f":"MIN(OFFSET(Female!Z$18,'Female Rev'!$A53-35,0),0.03999)","v":2.9700000000000001E-2},{"$f":"MIN(OFFSET(Female!AA$18,'Female Rev'!$A53-35,0),0.03999)","v":3.09E-2},{"$f":"MIN(OFFSET(Female!AB$18,'Female Rev'!$A53-35,0),0.03999)","v":3.1199999999999999E-2},{"$f":"MIN(OFFSET(Female!AC$18,'Female Rev'!$A53-35,0),0.03999)","v":3.0800000000000001E-2},{"$f":"MIN(OFFSET(Female!AD$18,'Female Rev'!$A53-35,0),0.03999)","v":2.98E-2},{"$f":"MIN(OFFSET(Female!AE$18,'Female Rev'!$A53-35,0),0.03999)","v":2.8199999999999999E-2},{"$f":"MIN(OFFSET(Female!AF$18,'Female Rev'!$A53-35,0),0.03999)","v":2.64E-2},{"$f":"MIN(OFFSET(Female!AG$18,'Female Rev'!$A53-35,0),0.03999)","v":2.4299999999999999E-2},{"$f":"MIN(OFFSET(Female!AH$18,'Female Rev'!$A53-35,0),0.03999)","v":2.1899999999999999E-2},{"$f":"MIN(OFFSET(Female!AI$18,'Female Rev'!$A53-35,0),0.03999)","v":1.9400000000000001E-2},{"$f":"MIN(OFFSET(Female!AJ$18,'Female Rev'!$A53-35,0),0.03999)","v":1.7000000000000001E-2},{"$f":"MIN(OFFSET(Female!AK$18,'Female Rev'!$A53-35,0),0.03999)","v":1.4800000000000001E-2},{"$f":"MIN(OFFSET(Female!AL$18,'Female Rev'!$A53-35,0),0.03999)","v":1.2699999999999999E-2},{"$f":"MIN(OFFSET(Female!AM$18,'Female Rev'!$A53-35,0),0.03999)","v":1.0699999999999999E-2},{"$f":"MIN(OFFSET(Female!AN$18,'Female Rev'!$A53-35,0),0.03999)","v":8.8000000000000005E-3},{"$f":"MIN(OFFSET(Female!AO$18,'Female Rev'!$A53-35,0),0.03999)","v":7.0000000000000001E-3},{"$f":"MIN(OFFSET(Female!AP$18,'Female Rev'!$A53-35,0),0.03999)","v":5.3E-3},{"$f":"MIN(OFFSET(Female!AQ$18,'Female Rev'!$A53-35,0),0.03999)","v":3.8999999999999998E-3},{"$f":"MIN(OFFSET(Female!AR$18,'Female Rev'!$A53-35,0),0.03999)","v":2.7000000000000001E-3},{"$f":"MIN(OFFSET(Female!AS$18,'Female Rev'!$A53-35,0),0.03999)","v":2.0999999999999999E-3},{"$f":"MIN(OFFSET(Female!AT$18,'Female Rev'!$A53-35,0),0.03999)","v":1.8E-3},{"$f":"MIN(OFFSET(Female!AU$18,'Female Rev'!$A53-35,0),0.03999)","v":1.4E-3},{"$f":"MIN(OFFSET(Female!AV$18,'Female Rev'!$A53-35,0),0.03999)","v":5.9999999999999995E-4},{"$f":"MIN(OFFSET(Female!AW$18,'Female Rev'!$A53-35,0),0.03999)","v":-5.9999999999999995E-4},{"$f":"MIN(OFFSET(Female!AX$18,'Female Rev'!$A53-35,0),0.03999)","v":-1.9E-3},{"$f":"MIN(OFFSET(Female!AY$18,'Female Rev'!$A53-35,0),0.03999)","v":-2.8E-3},{"$f":"MIN(OFFSET(Female!AZ$18,'Female Rev'!$A53-35,0),0.03999)","v":-2.8999999999999998E-3},{"$f":"MIN(OFFSET(Female!BA$18,'Female Rev'!$A53-35,0),0.03999)","v":-1.9E-3},{"$f":"MIN(OFFSET(Female!BB$18,'Female Rev'!$A53-35,0),0.03999)","v":-1E-4},{"$f":"MIN(OFFSET(Female!BC$18,'Female Rev'!$A53-35,0),0.03999)","v":2.0999999999999999E-3},{"$f":"MIN(OFFSET(Female!BD$18,'Female Rev'!$A53-35,0),0.03999)","v":4.4000000000000003E-3},{"$f":"MIN(OFFSET(Female!BE$18,'Female Rev'!$A53-35,0),0.03999)","v":6.4999999999999997E-3},{"$f":"MIN(OFFSET(Female!BF$18,'Female Rev'!$A53-35,0),0.03999)","v":8.0999999999999996E-3},{"$f":"MIN(OFFSET(Female!BG$18,'Female Rev'!$A53-35,0),0.03999)","v":8.8999999999999999E-3},{"$f":"MIN(OFFSET(Female!BH$18,'Female Rev'!$A53-35,0),0.03999)","v":9.1999999999999998E-3},{"$f":"MIN(OFFSET(Female!BI$18,'Female Rev'!$A53-35,0),0.03999)","v":8.6999999999999994E-3},{"$f":"MIN(OFFSET(Female!BJ$18,'Female Rev'!$A53-35,0),0.03999)","v":7.3000000000000001E-3},{"$f":"MIN(OFFSET(Female!BK$18,'Female Rev'!$A53-35,0),0.03999)","v":5.4999999999999997E-3},{"$f":"MIN(OFFSET(Female!BL$18,'Female Rev'!$A53-35,0),0.03999)","v":3.3999999999999998E-3},{"$f":"MIN(OFFSET(Female!BM$18,'Female Rev'!$A53-35,0),0.03999)","v":1.5E-3},{"$f":"MIN(OFFSET(Female!BN$18,'Female Rev'!$A53-35,0),0.03999)","v":1E-4},{"$f":"MIN(OFFSET(Female!BO$18,'Female Rev'!$A53-35,0),0.03999)","v":-5.9999999999999995E-4},{"$f":"MIN(OFFSET(Female!BP$18,'Female Rev'!$A53-35,0),0.03999)","v":-1.1999999999999999E-3},{"$f":"MIN(OFFSET(Female!BQ$18,'Female Rev'!$A53-35,0),0.03999)","v":-1.6000000000000001E-3},{"$f":"MIN(OFFSET(Female!BR$18,'Female Rev'!$A53-35,0),0.03999)","v":-1.8E-3},{"$f":"MIN(OFFSET(Female!BS$18,'Female Rev'!$A53-35,0),0.03999)","v":-1.8E-3},{"$f":"MIN(OFFSET(Female!BT$18,'Female Rev'!$A53-35,0),0.03999)","v":-1.6000000000000001E-3},{"$f":"MIN(OFFSET(Female!BU$18,'Female Rev'!$A53-35,0),0.03999)","v":-1.1999999999999999E-3},{"$f":"MIN(OFFSET(Female!BV$18,'Female Rev'!$A53-35,0),0.03999)","v":-5.9999999999999995E-4},{"$f":"MIN(OFFSET(Female!BW$18,'Female Rev'!$A53-35,0),0.03999)","v":1E-4},{"$f":"MIN(OFFSET(Female!BX$18,'Female Rev'!$A53-35,0),0.03999)","v":8.9999999999999998E-4},{"$f":"MIN(OFFSET(Female!BY$18,'Female Rev'!$A53-35,0),0.03999)","v":1.9E-3},{"$f":"MIN(OFFSET(Female!BZ$18,'Female Rev'!$A53-35,0),0.03999)","v":3.0000000000000001E-3},{"$f":"MIN(OFFSET(Female!CA$18,'Female Rev'!$A53-35,0),0.03999)","v":4.3E-3},{"$f":"MIN(OFFSET(Female!CB$18,'Female Rev'!$A53-35,0),0.03999)","v":5.5999999999999999E-3},{"$f":"MIN(OFFSET(Female!CC$18,'Female Rev'!$A53-35,0),0.03999)","v":6.7999999999999996E-3},{"$f":"MIN(OFFSET(Female!CD$18,'Female Rev'!$A53-35,0),0.03999)","v":7.9000000000000008E-3},{"$f":"MIN(OFFSET(Female!CE$18,'Female Rev'!$A53-35,0),0.03999)","v":8.8000000000000005E-3},{"$f":"MIN(OFFSET(Female!CF$18,'Female Rev'!$A53-35,0),0.03999)","v":9.4999999999999998E-3},{"$f":"MIN(OFFSET(Female!CG$18,'Female Rev'!$A53-35,0),0.03999)","v":9.9000000000000008E-3},{"$f":"MIN(OFFSET(Female!CH$18,'Female Rev'!$A53-35,0),0.03999)","v":0.01}]
[44,44,{"$f":"MIN(OFFSET(Female!B$18,'Female Rev'!$A54-35,0),0.03999)","v":2.5999999999999999E-2},{"$f":"MIN(OFFSET(Female!C$18,'Female Rev'!$A54-35,0),0.03999)","v":2.5700000000000001E-2},{"$f":"MIN(OFFSET(Female!D$18,'Female Rev'!$A54-35,0),0.03999)","v":2.4899999999999999E-2},{"$f":"MIN(OFFSET(Female!E$18,'Female Rev'!$A54-35,0),0.03999)","v":2.35E-2},{"$f":"MIN(OFFSET(Female!F$18,'Female Rev'!$A54-35,0),0.03999)","v":2.1299999999999999E-2},{"$f":"MIN(OFFSET(Female!G$18,'Female Rev'!$A54-35,0),0.03999)","v":1.8599999999999998E-2},{"$f":"MIN(OFFSET(Female!H$18,'Female Rev'!$A54-35,0),0.03999)","v":1.5699999999999999E-2},{"$f":"MIN(OFFSET(Female!I$18,'Female Rev'!$A54-35,0),0.03999)","v":1.26E-2},{"$f":"MIN(OFFSET(Female!J$18,'Female Rev'!$A54-35,0),0.03999)","v":9.4000000000000004E-3},{"$f":"MIN(OFFSET(Female!K$18,'Female Rev'!$A54-35,0),0.03999)","v":6.4000000000000003E-3},{"$f":"MIN(OFFSET(Female!L$18,'Female Rev'!$A54-35,0),0.03999)","v":3.8999999999999998E-3},{"$f":"MIN(OFFSET(Female!M$18,'Female Rev'!$A54-35,0),0.03999)","v":1.8E-3},{"$f":"MIN(OFFSET(Female!N$18,'Female Rev'!$A54-35,0),0.03999)","v":4.0000000000000002E-4},{"$f":"MIN(OFFSET(Female!O$18,'Female Rev'!$A54-35,0),0.03999)","v":-1E-4},{"$f":"MIN(OFFSET(Female!P$18,'Female Rev'!$A54-35,0),0.03999)","v":2.9999999999999997E-4},{"$f":"MIN(OFFSET(Female!Q$18,'Female Rev'!$A54-35,0),0.03999)","v":1.5E-3},{"$f":"MIN(OFFSET(Female!R$18,'Female Rev'!$A54-35,0),0.03999)","v":3.5000000000000001E-3},{"$f":"MIN(OFFSET(Female!S$18,'Female Rev'!$A54-35,0),0.03999)","v":6.1999999999999998E-3},{"$f":"MIN(OFFSET(Female!T$18,'Female Rev'!$A54-35,0),0.03999)","v":9.7000000000000003E-3},{"$f":"MIN(OFFSET(Female!U$18,'Female Rev'!$A54-35,0),0.03999)","v":1.37E-2},{"$f":"MIN(OFFSET(Female!V$18,'Female Rev'!$A54-35,0),0.03999)","v":1.77E-2},{"$f":"MIN(OFFSET(Female!W$18,'Female Rev'!$A54-35,0),0.03999)","v":2.18E-2},{"$f":"MIN(OFFSET(Female!X$18,'Female Rev'!$A54-35,0),0.03999)","v":2.5499999999999998E-2},{"$f":"MIN(OFFSET(Female!Y$18,'Female Rev'!$A54-35,0),0.03999)","v":2.86E-2},{"$f":"MIN(OFFSET(Female!Z$18,'Female Rev'!$A54-35,0),0.03999)","v":3.09E-2},{"$f":"MIN(OFFSET(Female!AA$18,'Female Rev'!$A54-35,0),0.03999)","v":3.2099999999999997E-2},{"$f":"MIN(OFFSET(Female!AB$18,'Female Rev'!$A54-35,0),0.03999)","v":3.2399999999999998E-2},{"$f":"MIN(OFFSET(Female!AC$18,'Female Rev'!$A54-35,0),0.03999)","v":3.2000000000000001E-2},{"$f":"MIN(OFFSET(Female!AD$18,'Female Rev'!$A54-35,0),0.03999)","v":3.09E-2},{"$f":"MIN(OFFSET(Female!AE$18,'Female Rev'!$A54-35,0),0.03999)","v":2.9100000000000001E-2},{"$f":"MIN(OFFSET(Female!AF$18,'Female Rev'!$A54-35,0),0.03999)","v":2.7099999999999999E-2},{"$f":"MIN(OFFSET(Female!AG$18,'Female Rev'!$A54-35,0),0.03999)","v":2.47E-2},{"$f":"MIN(OFFSET(Female!AH$18,'Female Rev'!$A54-35,0),0.03999)","v":2.1999999999999999E-2},{"$f":"MIN(OFFSET(Female!AI$18,'Female Rev'!$A54-35,0),0.03999)","v":1.9199999999999998E-2},{"$f":"MIN(OFFSET(Female!AJ$18,'Female Rev'!$A54-35,0),0.03999)","v":1.66E-2},{"$f":"MIN(OFFSET(Female!AK$18,'Female Rev'!$A54-35,0),0.03999)","v":1.41E-2},{"$f":"MIN(OFFSET(Female!AL$18,'Female Rev'!$A54-35,0),0.03999)","v":1.18E-2},{"$f":"MIN(OFFSET(Female!AM$18,'Female Rev'!$A54-35,0),0.03999)","v":9.5999999999999992E-3},{"$f":"MIN(OFFSET(Female!AN$18,'Female Rev'!$A54-35,0),0.03999)","v":7.4999999999999997E-3},{"$f":"MIN(OFFSET(Female!AO$18,'Female Rev'!$A54-35,0),0.03999)","v":5.5999999999999999E-3},{"$f":"MIN(OFFSET(Female!AP$18,'Female Rev'!$A54-35,0),0.03999)","v":3.8E-3},{"$f":"MIN(OFFSET(Female!AQ$18,'Female Rev'!$A54-35,0),0.03999)","v":2.3E-3},{"$f":"MIN(OFFSET(Female!AR$18,'Female Rev'!$A54-35,0),0.03999)","v":1.1000000000000001E-3},{"$f":"MIN(OFFSET(Female!AS$18,'Female Rev'!$A54-35,0),0.03999)","v":6.9999999999999999E-4},{"$f":"MIN(OFFSET(Female!AT$18,'Female Rev'!$A54-35,0),0.03999)","v":5.0000000000000001E-4},{"$f":"MIN(OFFSET(Female!AU$18,'Female Rev'!$A54-35,0),0.03999)","v":4.0000000000000002E-4},{"$f":"MIN(OFFSET(Female!AV$18,'Female Rev'!$A54-35,0),0.03999)","v":-1E-4},{"$f":"MIN(OFFSET(Female!AW$18,'Female Rev'!$A54-35,0),0.03999)","v":-1E-3},{"$f":"MIN(OFFSET(Female!AX$18,'Female Rev'!$A54-35,0),0.03999)","v":-2E-3},{"$f":"MIN(OFFSET(Female!AY$18,'Female Rev'!$A54-35,0),0.03999)","v":-2.7000000000000001E-3},{"$f":"MIN(OFFSET(Female!AZ$18,'Female Rev'!$A54-35,0),0.03999)","v":-2.5000000000000001E-3},{"$f":"MIN(OFFSET(Female!BA$18,'Female Rev'!$A54-35,0),0.03999)","v":-1.2999999999999999E-3},{"$f":"MIN(OFFSET(Female!BB$18,'Female Rev'!$A54-35,0),0.03999)","v":8.0000000000000004E-4},{"$f":"MIN(OFFSET(Female!BC$18,'Female Rev'!$A54-35,0),0.03999)","v":3.2000000000000002E-3},{"$f":"MIN(OFFSET(Female!BD$18,'Female Rev'!$A54-35,0),0.03999)","v":5.5999999999999999E-3},{"$f":"MIN(OFFSET(Female!BE$18,'Female Rev'!$A54-35,0),0.03999)","v":7.6E-3},{"$f":"MIN(OFFSET(Female!BF$18,'Female Rev'!$A54-35,0),0.03999)","v":9.1000000000000004E-3},{"$f":"MIN(OFFSET(Female!BG$18,'Female Rev'!$A54-35,0),0.03999)","v":9.7999999999999997E-3},{"$f":"MIN(OFFSET(Female!BH$18,'Female Rev'!$A54-35,0),0.03999)","v":9.7000000000000003E-3},{"$f":"MIN(OFFSET(Female!BI$18,'Female Rev'!$A54-35,0),0.03999)","v":8.8999999999999999E-3},{"$f":"MIN(OFFSET(Female!BJ$18,'Female Rev'!$A54-35,0),0.03999)","v":7.0000000000000001E-3},{"$f":"MIN(OFFSET(Female!BK$18,'Female Rev'!$A54-35,0),0.03999)","v":4.7000000000000002E-3},{"$f":"MIN(OFFSET(Female!BL$18,'Female Rev'!$A54-35,0),0.03999)","v":2.2000000000000001E-3},{"$f":"MIN(OFFSET(Female!BM$18,'Female Rev'!$A54-35,0),0.03999)","v":0},{"$f":"MIN(OFFSET(Female!BN$18,'Female Rev'!$A54-35,0),0.03999)","v":-1.6999999999999999E-3},{"$f":"MIN(OFFSET(Female!BO$18,'Female Rev'!$A54-35,0),0.03999)","v":-2.5000000000000001E-3},{"$f":"MIN(OFFSET(Female!BP$18,'Female Rev'!$A54-35,0),0.03999)","v":-3.2000000000000002E-3},{"$f":"MIN(OFFSET(Female!BQ$18,'Female Rev'!$A54-35,0),0.03999)","v":-3.5999999999999999E-3},{"$f":"MIN(OFFSET(Female!BR$18,'Female Rev'!$A54-35,0),0.03999)","v":-3.7000000000000002E-3},{"$f":"MIN(OFFSET(Female!BS$18,'Female Rev'!$A54-35,0),0.03999)","v":-3.5999999999999999E-3},{"$f":"MIN(OFFSET(Female!BT$18,'Female Rev'!$A54-35,0),0.03999)","v":-3.0999999999999999E-3},{"$f":"MIN(OFFSET(Female!BU$18,'Female Rev'!$A54-35,0),0.03999)","v":-2.5000000000000001E-3},{"$f":"MIN(OFFSET(Female!BV$18,'Female Rev'!$A54-35,0),0.03999)","v":-1.6000000000000001E-3},{"$f":"MIN(OFFSET(Female!BW$18,'Female Rev'!$A54-35,0),0.03999)","v":-5.9999999999999995E-4},{"$f":"MIN(OFFSET(Female!BX$18,'Female Rev'!$A54-35,0),0.03999)","v":4.0000000000000002E-4},{"$f":"MIN(OFFSET(Female!BY$18,'Female Rev'!$A54-35,0),0.03999)","v":1.6000000000000001E-3},{"$f":"MIN(OFFSET(Female!BZ$18,'Female Rev'!$A54-35,0),0.03999)","v":2.8E-3},{"$f":"MIN(OFFSET(Female!CA$18,'Female Rev'!$A54-35,0),0.03999)","v":4.1999999999999997E-3},{"$f":"MIN(OFFSET(Female!CB$18,'Female Rev'!$A54-35,0),0.03999)","v":5.5999999999999999E-3},{"$f":"MIN(OFFSET(Female!CC$18,'Female Rev'!$A54-35,0),0.03999)","v":6.8999999999999999E-3},{"$f":"MIN(OFFSET(Female!CD$18,'Female Rev'!$A54-35,0),0.03999)","v":8.0000000000000002E-3},{"$f":"MIN(OFFSET(Female!CE$18,'Female Rev'!$A54-35,0),0.03999)","v":8.8999999999999999E-3},{"$f":"MIN(OFFSET(Female!CF$18,'Female Rev'!$A54-35,0),0.03999)","v":9.4999999999999998E-3},{"$f":"MIN(OFFSET(Female!CG$18,'Female Rev'!$A54-35,0),0.03999)","v":9.9000000000000008E-3},{"$f":"MIN(OFFSET(Female!CH$18,'Female Rev'!$A54-35,0),0.03999)","v":0.01}]
[43,43,{"$f":"MIN(OFFSET(Female!B$18,'Female Rev'!$A55-35,0),0.03999)","v":2.6499999999999999E-2},{"$f":"MIN(OFFSET(Female!C$18,'Female Rev'!$A55-35,0),0.03999)","v":2.63E-2},{"$f":"MIN(OFFSET(Female!D$18,'Female Rev'!$A55-35,0),0.03999)","v":2.5499999999999998E-2},{"$f":"MIN(OFFSET(Female!E$18,'Female Rev'!$A55-35,0),0.03999)","v":2.4E-2},{"$f":"MIN(OFFSET(Female!F$18,'Female Rev'!$A55-35,0),0.03999)","v":2.18E-2},{"$f":"MIN(OFFSET(Female!G$18,'Female Rev'!$A55-35,0),0.03999)","v":1.9E-2},{"$f":"MIN(OFFSET(Female!H$18,'Female Rev'!$A55-35,0),0.03999)","v":1.5900000000000001E-2},{"$f":"MIN(OFFSET(Female!I$18,'Female Rev'!$A55-35,0),0.03999)","v":1.2699999999999999E-2},{"$f":"MIN(OFFSET(Female!J$18,'Female Rev'!$A55-35,0),0.03999)","v":9.4000000000000004E-3},{"$f":"MIN(OFFSET(Female!K$18,'Female Rev'!$A55-35,0),0.03999)","v":6.1999999999999998E-3},{"$f":"MIN(OFFSET(Female!L$18,'Female Rev'!$A55-35,0),0.03999)","v":3.7000000000000002E-3},{"$f":"MIN(OFFSET(Female!M$18,'Female Rev'!$A55-35,0),0.03999)","v":1.5E-3},{"$f":"MIN(OFFSET(Female!N$18,'Female Rev'!$A55-35,0),0.03999)","v":2.0000000000000001E-4},{"$f":"MIN(OFFSET(Female!O$18,'Female Rev'!$A55-35,0),0.03999)","v":-2.0000000000000001E-4},{"$f":"MIN(OFFSET(Female!P$18,'Female Rev'!$A55-35,0),0.03999)","v":2.0000000000000001E-4},{"$f":"MIN(OFFSET(Female!Q$18,'Female Rev'!$A55-35,0),0.03999)","v":1.5E-3},{"$f":"MIN(OFFSET(Female!R$18,'Female Rev'!$A55-35,0),0.03999)","v":3.5999999999999999E-3},{"$f":"MIN(OFFSET(Female!S$18,'Female Rev'!$A55-35,0),0.03999)","v":6.4000000000000003E-3},{"$f":"MIN(OFFSET(Female!T$18,'Female Rev'!$A55-35,0),0.03999)","v":1.01E-2},{"$f":"MIN(OFFSET(Female!U$18,'Female Rev'!$A55-35,0),0.03999)","v":1.4200000000000001E-2},{"$f":"MIN(OFFSET(Female!V$18,'Female Rev'!$A55-35,0),0.03999)","v":1.8499999999999999E-2},{"$f":"MIN(OFFSET(Female!W$18,'Female Rev'!$A55-35,0),0.03999)","v":2.2700000000000001E-2},{"$f":"MIN(OFFSET(Female!X$18,'Female Rev'!$A55-35,0),0.03999)","v":2.6499999999999999E-2},{"$f":"MIN(OFFSET(Female!Y$18,'Female Rev'!$A55-35,0),0.03999)","v":2.9700000000000001E-2},{"$f":"MIN(OFFSET(Female!Z$18,'Female Rev'!$A55-35,0),0.03999)","v":3.2000000000000001E-2},{"$f":"MIN(OFFSET(Female!AA$18,'Female Rev'!$A55-35,0),0.03999)","v":3.3300000000000003E-2},{"$f":"MIN(OFFSET(Female!AB$18,'Female Rev'!$A55-35,0),0.03999)","v":3.3500000000000002E-2},{"$f":"MIN(OFFSET(Female!AC$18,'Female Rev'!$A55-35,0),0.03999)","v":3.3000000000000002E-2},{"$f":"MIN(OFFSET(Female!AD$18,'Female Rev'!$A55-35,0),0.03999)","v":3.1800000000000002E-2},{"$f":"MIN(OFFSET(Female!AE$18,'Female Rev'!$A55-35,0),0.03999)","v":2.9899999999999999E-2},{"$f":"MIN(OFFSET(Female!AF$18,'Female Rev'!$A55-35,0),0.03999)","v":2.76E-2},{"$f":"MIN(OFFSET(Female!AG$18,'Female Rev'!$A55-35,0),0.03999)","v":2.4899999999999999E-2},{"$f":"MIN(OFFSET(Female!AH$18,'Female Rev'!$A55-35,0),0.03999)","v":2.1899999999999999E-2},{"$f":"MIN(OFFSET(Female!AI$18,'Female Rev'!$A55-35,0),0.03999)","v":1.8800000000000001E-2},{"$f":"MIN(OFFSET(Female!AJ$18,'Female Rev'!$A55-35,0),0.03999)","v":1.5900000000000001E-2},{"$f":"MIN(OFFSET(Female!AK$18,'Female Rev'!$A55-35,0),0.03999)","v":1.3100000000000001E-2},{"$f":"MIN(OFFSET(Female!AL$18,'Female Rev'!$A55-35,0),0.03999)","v":1.0699999999999999E-2},{"$f":"MIN(OFFSET(Female!AM$18,'Female Rev'!$A55-35,0),0.03999)","v":8.2000000000000007E-3},{"$f":"MIN(OFFSET(Female!AN$18,'Female Rev'!$A55-35,0),0.03999)","v":6.1000000000000004E-3},{"$f":"MIN(OFFSET(Female!AO$18,'Female Rev'!$A55-35,0),0.03999)","v":4.1000000000000003E-3},{"$f":"MIN(OFFSET(Female!AP$18,'Female Rev'!$A55-35,0),0.03999)","v":2.2000000000000001E-3},{"$f":"MIN(OFFSET(Female!AQ$18,'Female Rev'!$A55-35,0),0.03999)","v":5.9999999999999995E-4},{"$f":"MIN(OFFSET(Female!AR$18,'Female Rev'!$A55-35,0),0.03999)","v":-4.0000000000000002E-4},{"$f":"MIN(OFFSET(Female!AS$18,'Female Rev'!$A55-35,0),0.03999)","v":-5.9999999999999995E-4},{"$f":"MIN(OFFSET(Female!AT$18,'Female Rev'!$A55-35,0),0.03999)","v":-5.0000000000000001E-4},{"$f":"MIN(OFFSET(Female!AU$18,'Female Rev'!$A55-35,0),0.03999)","v":-2.0000000000000001E-4},{"$f":"MIN(OFFSET(Female!AV$18,'Female Rev'!$A55-35,0),0.03999)","v":-4.0000000000000002E-4},{"$f":"MIN(OFFSET(Female!AW$18,'Female Rev'!$A55-35,0),0.03999)","v":-1E-3},{"$f":"MIN(OFFSET(Female!AX$18,'Female Rev'!$A55-35,0),0.03999)","v":-1.8E-3},{"$f":"MIN(OFFSET(Female!AY$18,'Female Rev'!$A55-35,0),0.03999)","v":-2.2000000000000001E-3},{"$f":"MIN(OFFSET(Female!AZ$18,'Female Rev'!$A55-35,0),0.03999)","v":-1.8E-3},{"$f":"MIN(OFFSET(Female!BA$18,'Female Rev'!$A55-35,0),0.03999)","v":-2.9999999999999997E-4},{"$f":"MIN(OFFSET(Female!BB$18,'Female Rev'!$A55-35,0),0.03999)","v":1.9E-3},{"$f":"MIN(OFFSET(Female!BC$18,'Female Rev'!$A55-35,0),0.03999)","v":4.4000000000000003E-3},{"$f":"MIN(OFFSET(Female!BD$18,'Female Rev'!$A55-35,0),0.03999)","v":6.7000000000000002E-3},{"$f":"MIN(OFFSET(Female!BE$18,'Female Rev'!$A55-35,0),0.03999)","v":8.6999999999999994E-3},{"$f":"MIN(OFFSET(Female!BF$18,'Female Rev'!$A55-35,0),0.03999)","v":0.01},{"$f":"MIN(OFFSET(Female!BG$18,'Female Rev'!$A55-35,0),0.03999)","v":1.04E-2},{"$f":"MIN(OFFSET(Female!BH$18,'Female Rev'!$A55-35,0),0.03999)","v":9.9000000000000008E-3},{"$f":"MIN(OFFSET(Female!BI$18,'Female Rev'!$A55-35,0),0.03999)","v":8.6E-3},{"$f":"MIN(OFFSET(Female!BJ$18,'Female Rev'!$A55-35,0),0.03999)","v":6.3E-3},{"$f":"MIN(OFFSET(Female!BK$18,'Female Rev'!$A55-35,0),0.03999)","v":3.5000000000000001E-3},{"$f":"MIN(OFFSET(Female!BL$18,'Female Rev'!$A55-35,0),0.03999)","v":5.9999999999999995E-4},{"$f":"MIN(OFFSET(Female!BM$18,'Female Rev'!$A55-35,0),0.03999)","v":-2E-3},{"$f":"MIN(OFFSET(Female!BN$18,'Female Rev'!$A55-35,0),0.03999)","v":-3.8999999999999998E-3},{"$f":"MIN(OFFSET(Female!BO$18,'Female Rev'!$A55-35,0),0.03999)","v":-4.8999999999999998E-3},{"$f":"MIN(OFFSET(Female!BP$18,'Female Rev'!$A55-35,0),0.03999)","v":-5.5999999999999999E-3},{"$f":"MIN(OFFSET(Female!BQ$18,'Female Rev'!$A55-35,0),0.03999)","v":-5.8999999999999999E-3},{"$f":"MIN(OFFSET(Female!BR$18,'Female Rev'!$A55-35,0),0.03999)","v":-5.7999999999999996E-3},{"$f":"MIN(OFFSET(Female!BS$18,'Female Rev'!$A55-35,0),0.03999)","v":-5.4000000000000003E-3},{"$f":"MIN(OFFSET(Female!BT$18,'Female Rev'!$A55-35,0),0.03999)","v":-4.7000000000000002E-3},{"$f":"MIN(OFFSET(Female!BU$18,'Female Rev'!$A55-35,0),0.03999)","v":-3.7000000000000002E-3},{"$f":"MIN(OFFSET(Female!BV$18,'Female Rev'!$A55-35,0),0.03999)","v":-2.5000000000000001E-3},{"$f":"MIN(OFFSET(Female!BW$18,'Female Rev'!$A55-35,0),0.03999)","v":-1.1999999999999999E-3},{"$f":"MIN(OFFSET(Female!BX$18,'Female Rev'!$A55-35,0),0.03999)","v":1E-4},{"$f":"MIN(OFFSET(Female!BY$18,'Female Rev'!$A55-35,0),0.03999)","v":1.4E-3},{"$f":"MIN(OFFSET(Female!BZ$18,'Female Rev'!$A55-35,0),0.03999)","v":2.8E-3},{"$f":"MIN(OFFSET(Female!CA$18,'Female Rev'!$A55-35,0),0.03999)","v":4.1999999999999997E-3},{"$f":"MIN(OFFSET(Female!CB$18,'Female Rev'!$A55-35,0),0.03999)","v":5.7000000000000002E-3},{"$f":"MIN(OFFSET(Female!CC$18,'Female Rev'!$A55-35,0),0.03999)","v":7.0000000000000001E-3},{"$f":"MIN(OFFSET(Female!CD$18,'Female Rev'!$A55-35,0),0.03999)","v":8.0999999999999996E-3},{"$f":"MIN(OFFSET(Female!CE$18,'Female Rev'!$A55-35,0),0.03999)","v":8.8999999999999999E-3},{"$f":"MIN(OFFSET(Female!CF$18,'Female Rev'!$A55-35,0),0.03999)","v":9.4999999999999998E-3},{"$f":"MIN(OFFSET(Female!CG$18,'Female Rev'!$A55-35,0),0.03999)","v":9.9000000000000008E-3},{"$f":"MIN(OFFSET(Female!CH$18,'Female Rev'!$A55-35,0),0.03999)","v":0.01}]
[42,42,{"$f":"MIN(OFFSET(Female!B$18,'Female Rev'!$A56-35,0),0.03999)","v":2.7099999999999999E-2},{"$f":"MIN(OFFSET(Female!C$18,'Female Rev'!$A56-35,0),0.03999)","v":2.69E-2},{"$f":"MIN(OFFSET(Female!D$18,'Female Rev'!$A56-35,0),0.03999)","v":2.6100000000000002E-2},{"$f":"MIN(OFFSET(Female!E$18,'Female Rev'!$A56-35,0),0.03999)","v":2.46E-2},{"$f":"MIN(OFFSET(Female!F$18,'Female Rev'!$A56-35,0),0.03999)","v":2.23E-2},{"$f":"MIN(OFFSET(Female!G$18,'Female Rev'!$A56-35,0),0.03999)","v":1.9400000000000001E-2},{"$f":"MIN(OFFSET(Female!H$18,'Female Rev'!$A56-35,0),0.03999)","v":1.61E-2},{"$f":"MIN(OFFSET(Female!I$18,'Female Rev'!$A56-35,0),0.03999)","v":1.2800000000000001E-2},{"$f":"MIN(OFFSET(Female!J$18,'Female Rev'!$A56-35,0),0.03999)","v":9.2999999999999992E-3},{"$f":"MIN(OFFSET(Female!K$18,'Female Rev'!$A56-35,0),0.03999)","v":6.1000000000000004E-3},{"$f":"MIN(OFFSET(Female!L$18,'Female Rev'!$A56-35,0),0.03999)","v":3.5000000000000001E-3},{"$f":"MIN(OFFSET(Female!M$18,'Female Rev'!$A56-35,0),0.03999)","v":1.2999999999999999E-3},{"$f":"MIN(OFFSET(Female!N$18,'Female Rev'!$A56-35,0),0.03999)","v":1E-4},{"$f":"MIN(OFFSET(Female!O$18,'Female Rev'!$A56-35,0),0.03999)","v":-2.9999999999999997E-4},{"$f":"MIN(OFFSET(Female!P$18,'Female Rev'!$A56-35,0),0.03999)","v":2.0000000000000001E-4},{"$f":"MIN(OFFSET(Female!Q$18,'Female Rev'!$A56-35,0),0.03999)","v":1.6000000000000001E-3},{"$f":"MIN(OFFSET(Female!R$18,'Female Rev'!$A56-35,0),0.03999)","v":3.8E-3},{"$f":"MIN(OFFSET(Female!S$18,'Female Rev'!$A56-35,0),0.03999)","v":6.7000000000000002E-3},{"$f":"MIN(OFFSET(Female!T$18,'Female Rev'!$A56-35,0),0.03999)","v":1.0500000000000001E-2},{"$f":"MIN(OFFSET(Female!U$18,'Female Rev'!$A56-35,0),0.03999)","v":1.4800000000000001E-2},{"$f":"MIN(OFFSET(Female!V$18,'Female Rev'!$A56-35,0),0.03999)","v":1.9199999999999998E-2},{"$f":"MIN(OFFSET(Female!W$18,'Female Rev'!$A56-35,0),0.03999)","v":2.3599999999999999E-2},{"$f":"MIN(OFFSET(Female!X$18,'Female Rev'!$A56-35,0),0.03999)","v":2.76E-2},{"$f":"MIN(OFFSET(Female!Y$18,'Female Rev'!$A56-35,0),0.03999)","v":3.0800000000000001E-2},{"$f":"MIN(OFFSET(Female!Z$18,'Female Rev'!$A56-35,0),0.03999)","v":3.3099999999999997E-2},{"$f":"MIN(OFFSET(Female!AA$18,'Female Rev'!$A56-35,0),0.03999)","v":3.4299999999999997E-2},{"$f":"MIN(OFFSET(Female!AB$18,'Female Rev'!$A56-35,0),0.03999)","v":3.4500000000000003E-2},{"$f":"MIN(OFFSET(Female!AC$18,'Female Rev'!$A56-35,0),0.03999)","v":3.39E-2},{"$f":"MIN(OFFSET(Female!AD$18,'Female Rev'!$A56-35,0),0.03999)","v":3.2500000000000001E-2},{"$f":"MIN(OFFSET(Female!AE$18,'Female Rev'!$A56-35,0),0.03999)","v":3.04E-2},{"$f":"MIN(OFFSET(Female!AF$18,'Female Rev'!$A56-35,0),0.03999)","v":2.7900000000000001E-2},{"$f":"MIN(OFFSET(Female!AG$18,'Female Rev'!$A56-35,0),0.03999)","v":2.4899999999999999E-2},{"$f":"MIN(OFFSET(Female!AH$18,'Female Rev'!$A56-35,0),0.03999)","v":2.1499999999999998E-2},{"$f":"MIN(OFFSET(Female!AI$18,'Female Rev'!$A56-35,0),0.03999)","v":1.8100000000000002E-2},{"$f":"MIN(OFFSET(Female!AJ$18,'Female Rev'!$A56-35,0),0.03999)","v":1.49E-2},{"$f":"MIN(OFFSET(Female!AK$18,'Female Rev'!$A56-35,0),0.03999)","v":1.1900000000000001E-2},{"$f":"MIN(OFFSET(Female!AL$18,'Female Rev'!$A56-35,0),0.03999)","v":9.1999999999999998E-3},{"$f":"MIN(OFFSET(Female!AM$18,'Female Rev'!$A56-35,0),0.03999)","v":6.6E-3},{"$f":"MIN(OFFSET(Female!AN$18,'Female Rev'!$A56-35,0),0.03999)","v":4.4000000000000003E-3},{"$f":"MIN(OFFSET(Female!AO$18,'Female Rev'!$A56-35,0),0.03999)","v":2.5000000000000001E-3},{"$f":"MIN(OFFSET(Female!AP$18,'Female Rev'!$A56-35,0),0.03999)","v":5.9999999999999995E-4},{"$f":"MIN(OFFSET(Female!AQ$18,'Female Rev'!$A56-35,0),0.03999)","v":-1E-3},{"$f":"MIN(OFFSET(Female!AR$18,'Female Rev'!$A56-35,0),0.03999)","v":-1.6999999999999999E-3},{"$f":"MIN(OFFSET(Female!AS$18,'Female Rev'!$A56-35,0),0.03999)","v":-1.6999999999999999E-3},{"$f":"MIN(OFFSET(Female!AT$18,'Female Rev'!$A56-35,0),0.03999)","v":-1.1999999999999999E-3},{"$f":"MIN(OFFSET(Female!AU$18,'Female Rev'!$A56-35,0),0.03999)","v":-5.0000000000000001E-4},{"$f":"MIN(OFFSET(Female!AV$18,'Female Rev'!$A56-35,0),0.03999)","v":-2.9999999999999997E-4},{"$f":"MIN(OFFSET(Female!AW$18,'Female Rev'!$A56-35,0),0.03999)","v":-5.9999999999999995E-4},{"$f":"MIN(OFFSET(Female!AX$18,'Female Rev'!$A56-35,0),0.03999)","v":-1.1000000000000001E-3},{"$f":"MIN(OFFSET(Female!AY$18,'Female Rev'!$A56-35,0),0.03999)","v":-1.2999999999999999E-3},{"$f":"MIN(OFFSET(Female!AZ$18,'Female Rev'!$A56-35,0),0.03999)","v":-6.9999999999999999E-4},{"$f":"MIN(OFFSET(Female!BA$18,'Female Rev'!$A56-35,0),0.03999)","v":8.9999999999999998E-4},{"$f":"MIN(OFFSET(Female!BB$18,'Female Rev'!$A56-35,0),0.03999)","v":3.2000000000000002E-3},{"$f":"MIN(OFFSET(Female!BC$18,'Female Rev'!$A56-35,0),0.03999)","v":5.7000000000000002E-3},{"$f":"MIN(OFFSET(Female!BD$18,'Female Rev'!$A56-35,0),0.03999)","v":7.9000000000000008E-3},{"$f":"MIN(OFFSET(Female!BE$18,'Female Rev'!$A56-35,0),0.03999)","v":9.5999999999999992E-3},{"$f":"MIN(OFFSET(Female!BF$18,'Female Rev'!$A56-35,0),0.03999)","v":1.06E-2},{"$f":"MIN(OFFSET(Female!BG$18,'Female Rev'!$A56-35,0),0.03999)","v":1.06E-2},{"$f":"MIN(OFFSET(Female!BH$18,'Female Rev'!$A56-35,0),0.03999)","v":9.7999999999999997E-3},{"$f":"MIN(OFFSET(Female!BI$18,'Female Rev'!$A56-35,0),0.03999)","v":8.0000000000000002E-3},{"$f":"MIN(OFFSET(Female!BJ$18,'Female Rev'!$A56-35,0),0.03999)","v":5.1000000000000004E-3},{"$f":"MIN(OFFSET(Female!BK$18,'Female Rev'!$A56-35,0),0.03999)","v":1.9E-3},{"$f":"MIN(OFFSET(Female!BL$18,'Female Rev'!$A56-35,0),0.03999)","v":-1.4E-3},{"$f":"MIN(OFFSET(Female!BM$18,'Female Rev'!$A56-35,0),0.03999)","v":-4.4000000000000003E-3},{"$f":"MIN(OFFSET(Female!BN$18,'Female Rev'!$A56-35,0),0.03999)","v":-6.4000000000000003E-3},{"$f":"MIN(OFFSET(Female!BO$18,'Female Rev'!$A56-35,0),0.03999)","v":-7.4999999999999997E-3},{"$f":"MIN(OFFSET(Female!BP$18,'Female Rev'!$A56-35,0),0.03999)","v":-8.2000000000000007E-3},{"$f":"MIN(OFFSET(Female!BQ$18,'Female Rev'!$A56-35,0),0.03999)","v":-8.3000000000000001E-3},{"$f":"MIN(OFFSET(Female!BR$18,'Female Rev'!$A56-35,0),0.03999)","v":-8.0000000000000002E-3},{"$f":"MIN(OFFSET(Female!BS$18,'Female Rev'!$A56-35,0),0.03999)","v":-7.3000000000000001E-3},{"$f":"MIN(OFFSET(Female!BT$18,'Female Rev'!$A56-35,0),0.03999)","v":-6.1999999999999998E-3},{"$f":"MIN(OFFSET(Female!BU$18,'Female Rev'!$A56-35,0),0.03999)","v":-4.7999999999999996E-3},{"$f":"MIN(OFFSET(Female!BV$18,'Female Rev'!$A56-35,0),0.03999)","v":-3.2000000000000002E-3},{"$f":"MIN(OFFSET(Female!BW$18,'Female Rev'!$A56-35,0),0.03999)","v":-1.6000000000000001E-3},{"$f":"MIN(OFFSET(Female!BX$18,'Female Rev'!$A56-35,0),0.03999)","v":-2.0000000000000001E-4},{"$f":"MIN(OFFSET(Female!BY$18,'Female Rev'!$A56-35,0),0.03999)","v":1.2999999999999999E-3},{"$f":"MIN(OFFSET(Female!BZ$18,'Female Rev'!$A56-35,0),0.03999)","v":2.8E-3},{"$f":"MIN(OFFSET(Female!CA$18,'Female Rev'!$A56-35,0),0.03999)","v":4.4000000000000003E-3},{"$f":"MIN(OFFSET(Female!CB$18,'Female Rev'!$A56-35,0),0.03999)","v":5.7999999999999996E-3},{"$f":"MIN(OFFSET(Female!CC$18,'Female Rev'!$A56-35,0),0.03999)","v":7.1000000000000004E-3},{"$f":"MIN(OFFSET(Female!CD$18,'Female Rev'!$A56-35,0),0.03999)","v":8.2000000000000007E-3},{"$f":"MIN(OFFSET(Female!CE$18,'Female Rev'!$A56-35,0),0.03999)","v":8.9999999999999993E-3},{"$f":"MIN(OFFSET(Female!CF$18,'Female Rev'!$A56-35,0),0.03999)","v":9.5999999999999992E-3},{"$f":"MIN(OFFSET(Female!CG$18,'Female Rev'!$A56-35,0),0.03999)","v":9.9000000000000008E-3},{"$f":"MIN(OFFSET(Female!CH$18,'Female Rev'!$A56-35,0),0.03999)","v":0.01}]
[41,41,{"$f":"MIN(OFFSET(Female!B$18,'Female Rev'!$A57-35,0),0.03999)","v":2.7699999999999999E-2},{"$f":"MIN(OFFSET(Female!C$18,'Female Rev'!$A57-35,0),0.03999)","v":2.75E-2},{"$f":"MIN(OFFSET(Female!D$18,'Female Rev'!$A57-35,0),0.03999)","v":2.6700000000000002E-2},{"$f":"MIN(OFFSET(Female!E$18,'Female Rev'!$A57-35,0),0.03999)","v":2.5100000000000001E-2},{"$f":"MIN(OFFSET(Female!F$18,'Female Rev'!$A57-35,0),0.03999)","v":2.2700000000000001E-2},{"$f":"MIN(OFFSET(Female!G$18,'Female Rev'!$A57-35,0),0.03999)","v":1.9699999999999999E-2},{"$f":"MIN(OFFSET(Female!H$18,'Female Rev'!$A57-35,0),0.03999)","v":1.6299999999999999E-2},{"$f":"MIN(OFFSET(Female!I$18,'Female Rev'!$A57-35,0),0.03999)","v":1.2800000000000001E-2},{"$f":"MIN(OFFSET(Female!J$18,'Female Rev'!$A57-35,0),0.03999)","v":9.2999999999999992E-3},{"$f":"MIN(OFFSET(Female!K$18,'Female Rev'!$A57-35,0),0.03999)","v":6.0000000000000001E-3},{"$f":"MIN(OFFSET(Female!L$18,'Female Rev'!$A57-35,0),0.03999)","v":3.3E-3},{"$f":"MIN(OFFSET(Female!M$18,'Female Rev'!$A57-35,0),0.03999)","v":1.1999999999999999E-3},{"$f":"MIN(OFFSET(Female!N$18,'Female Rev'!$A57-35,0),0.03999)","v":-1E-4},{"$f":"MIN(OFFSET(Female!O$18,'Female Rev'!$A57-35,0),0.03999)","v":-2.9999999999999997E-4},{"$f":"MIN(OFFSET(Female!P$18,'Female Rev'!$A57-35,0),0.03999)","v":2.9999999999999997E-4},{"$f":"MIN(OFFSET(Female!Q$18,'Female Rev'!$A57-35,0),0.03999)","v":1.6999999999999999E-3},{"$f":"MIN(OFFSET(Female!R$18,'Female Rev'!$A57-35,0),0.03999)","v":4.0000000000000001E-3},{"$f":"MIN(OFFSET(Female!S$18,'Female Rev'!$A57-35,0),0.03999)","v":7.0000000000000001E-3},{"$f":"MIN(OFFSET(Female!T$18,'Female Rev'!$A57-35,0),0.03999)","v":1.0999999999999999E-2},{"$f":"MIN(OFFSET(Female!U$18,'Female Rev'!$A57-35,0),0.03999)","v":1.55E-2},{"$f":"MIN(OFFSET(Female!V$18,'Female Rev'!$A57-35,0),0.03999)","v":2.01E-2},{"$f":"MIN(OFFSET(Female!W$18,'Female Rev'!$A57-35,0),0.03999)","v":2.46E-2},{"$f":"MIN(OFFSET(Female!X$18,'Female Rev'!$A57-35,0),0.03999)","v":2.86E-2},{"$f":"MIN(OFFSET(Female!Y$18,'Female Rev'!$A57-35,0),0.03999)","v":3.1899999999999998E-2},{"$f":"MIN(OFFSET(Female!Z$18,'Female Rev'!$A57-35,0),0.03999)","v":3.4200000000000001E-2},{"$f":"MIN(OFFSET(Female!AA$18,'Female Rev'!$A57-35,0),0.03999)","v":3.5299999999999998E-2},{"$f":"MIN(OFFSET(Female!AB$18,'Female Rev'!$A57-35,0),0.03999)","v":3.5299999999999998E-2},{"$f":"MIN(OFFSET(Female!AC$18,'Female Rev'!$A57-35,0),0.03999)","v":3.4599999999999999E-2},{"$f":"MIN(OFFSET(Female!AD$18,'Female Rev'!$A57-35,0),0.03999)","v":3.3000000000000002E-2},{"$f":"MIN(OFFSET(Female!AE$18,'Female Rev'!$A57-35,0),0.03999)","v":3.0700000000000002E-2},{"$f":"MIN(OFFSET(Female!AF$18,'Female Rev'!$A57-35,0),0.03999)","v":2.8000000000000001E-2},{"$f":"MIN(OFFSET(Female!AG$18,'Female Rev'!$A57-35,0),0.03999)","v":2.46E-2},{"$f":"MIN(OFFSET(Female!AH$18,'Female Rev'!$A57-35,0),0.03999)","v":2.1000000000000001E-2},{"$f":"MIN(OFFSET(Female!AI$18,'Female Rev'!$A57-35,0),0.03999)","v":1.72E-2},{"$f":"MIN(OFFSET(Female!AJ$18,'Female Rev'!$A57-35,0),0.03999)","v":1.37E-2},{"$f":"MIN(OFFSET(Female!AK$18,'Female Rev'!$A57-35,0),0.03999)","v":1.04E-2},{"$f":"MIN(OFFSET(Female!AL$18,'Female Rev'!$A57-35,0),0.03999)","v":7.6E-3},{"$f":"MIN(OFFSET(Female!AM$18,'Female Rev'!$A57-35,0),0.03999)","v":4.8999999999999998E-3},{"$f":"MIN(OFFSET(Female!AN$18,'Female Rev'!$A57-35,0),0.03999)","v":2.7000000000000001E-3},{"$f":"MIN(OFFSET(Female!AO$18,'Female Rev'!$A57-35,0),0.03999)","v":8.0000000000000004E-4},{"$f":"MIN(OFFSET(Female!AP$18,'Female Rev'!$A57-35,0),0.03999)","v":-1E-3},{"$f":"MIN(OFFSET(Female!AQ$18,'Female Rev'!$A57-35,0),0.03999)","v":-2.3E-3},{"$f":"MIN(OFFSET(Female!AR$18,'Female Rev'!$A57-35,0),0.03999)","v":-2.8E-3},{"$f":"MIN(OFFSET(Female!AS$18,'Female Rev'!$A57-35,0),0.03999)","v":-2.3999999999999998E-3},{"$f":"MIN(OFFSET(Female!AT$18,'Female Rev'!$A57-35,0),0.03999)","v":-1.5E-3},{"$f":"MIN(OFFSET(Female!AU$18,'Female Rev'!$A57-35,0),0.03999)","v":-4.0000000000000002E-4},{"$f":"MIN(OFFSET(Female!AV$18,'Female Rev'!$A57-35,0),0.03999)","v":2.9999999999999997E-4},{"$f":"MIN(OFFSET(Female!AW$18,'Female Rev'!$A57-35,0),0.03999)","v":2.0000000000000001E-4},{"$f":"MIN(OFFSET(Female!AX$18,'Female Rev'!$A57-35,0),0.03999)","v":-1E-4},{"$f":"MIN(OFFSET(Female!AY$18,'Female Rev'!$A57-35,0),0.03999)","v":-1E-4},{"$f":"MIN(OFFSET(Female!AZ$18,'Female Rev'!$A57-35,0),0.03999)","v":5.9999999999999995E-4},{"$f":"MIN(OFFSET(Female!BA$18,'Female Rev'!$A57-35,0),0.03999)","v":2.3E-3},{"$f":"MIN(OFFSET(Female!BB$18,'Female Rev'!$A57-35,0),0.03999)","v":4.5999999999999999E-3},{"$f":"MIN(OFFSET(Female!BC$18,'Female Rev'!$A57-35,0),0.03999)","v":6.8999999999999999E-3},{"$f":"MIN(OFFSET(Female!BD$18,'Female Rev'!$A57-35,0),0.03999)","v":8.8000000000000005E-3},{"$f":"MIN(OFFSET(Female!BE$18,'Female Rev'!$A57-35,0),0.03999)","v":1.0200000000000001E-2},{"$f":"MIN(OFFSET(Female!BF$18,'Female Rev'!$A57-35,0),0.03999)","v":1.09E-2},{"$f":"MIN(OFFSET(Female!BG$18,'Female Rev'!$A57-35,0),0.03999)","v":1.0500000000000001E-2},{"$f":"MIN(OFFSET(Female!BH$18,'Female Rev'!$A57-35,0),0.03999)","v":9.1999999999999998E-3},{"$f":"MIN(OFFSET(Female!BI$18,'Female Rev'!$A57-35,0),0.03999)","v":7.0000000000000001E-3},{"$f":"MIN(OFFSET(Female!BJ$18,'Female Rev'!$A57-35,0),0.03999)","v":3.5999999999999999E-3},{"$f":"MIN(OFFSET(Female!BK$18,'Female Rev'!$A57-35,0),0.03999)","v":0},{"$f":"MIN(OFFSET(Female!BL$18,'Female Rev'!$A57-35,0),0.03999)","v":-3.7000000000000002E-3},{"$f":"MIN(OFFSET(Female!BM$18,'Female Rev'!$A57-35,0),0.03999)","v":-7.0000000000000001E-3},{"$f":"MIN(OFFSET(Female!BN$18,'Female Rev'!$A57-35,0),0.03999)","v":-9.1999999999999998E-3},{"$f":"MIN(OFFSET(Female!BO$18,'Female Rev'!$A57-35,0),0.03999)","v":-1.04E-2},{"$f":"MIN(OFFSET(Female!BP$18,'Female Rev'!$A57-35,0),0.03999)","v":-1.09E-2},{"$f":"MIN(OFFSET(Female!BQ$18,'Female Rev'!$A57-35,0),0.03999)","v":-1.0800000000000001E-2},{"$f":"MIN(OFFSET(Female!BR$18,'Female Rev'!$A57-35,0),0.03999)","v":-1.0200000000000001E-2},{"$f":"MIN(OFFSET(Female!BS$18,'Female Rev'!$A57-35,0),0.03999)","v":-9.1000000000000004E-3},{"$f":"MIN(OFFSET(Female!BT$18,'Female Rev'!$A57-35,0),0.03999)","v":-7.6E-3},{"$f":"MIN(OFFSET(Female!BU$18,'Female Rev'!$A57-35,0),0.03999)","v":-5.7999999999999996E-3},{"$f":"MIN(OFFSET(Female!BV$18,'Female Rev'!$A57-35,0),0.03999)","v":-3.8999999999999998E-3},{"$f":"MIN(OFFSET(Female!BW$18,'Female Rev'!$A57-35,0),0.03999)","v":-2E-3},{"$f":"MIN(OFFSET(Female!BX$18,'Female Rev'!$A57-35,0),0.03999)","v":-2.9999999999999997E-4},{"$f":"MIN(OFFSET(Female!BY$18,'Female Rev'!$A57-35,0),0.03999)","v":1.2999999999999999E-3},{"$f":"MIN(OFFSET(Female!BZ$18,'Female Rev'!$A57-35,0),0.03999)","v":2.8999999999999998E-3},{"$f":"MIN(OFFSET(Female!CA$18,'Female Rev'!$A57-35,0),0.03999)","v":4.4999999999999997E-3},{"$f":"MIN(OFFSET(Female!CB$18,'Female Rev'!$A57-35,0),0.03999)","v":6.0000000000000001E-3},{"$f":"MIN(OFFSET(Female!CC$18,'Female Rev'!$A57-35,0),0.03999)","v":7.1999999999999998E-3},{"$f":"MIN(OFFSET(Female!CD$18,'Female Rev'!$A57-35,0),0.03999)","v":8.3000000000000001E-3},{"$f":"MIN(OFFSET(Female!CE$18,'Female Rev'!$A57-35,0),0.03999)","v":9.1000000000000004E-3},{"$f":"MIN(OFFSET(Female!CF$18,'Female Rev'!$A57-35,0),0.03999)","v":9.5999999999999992E-3},{"$f":"MIN(OFFSET(Female!CG$18,'Female Rev'!$A57-35,0),0.03999)","v":9.9000000000000008E-3},{"$f":"MIN(OFFSET(Female!CH$18,'Female Rev'!$A57-35,0),0.03999)","v":0.01}]
[40,40,{"$f":"MIN(OFFSET(Female!B$18,'Female Rev'!$A58-35,0),0.03999)","v":2.8400000000000002E-2},{"$f":"MIN(OFFSET(Female!C$18,'Female Rev'!$A58-35,0),0.03999)","v":2.81E-2},{"$f":"MIN(OFFSET(Female!D$18,'Female Rev'!$A58-35,0),0.03999)","v":2.7300000000000001E-2},{"$f":"MIN(OFFSET(Female!E$18,'Female Rev'!$A58-35,0),0.03999)","v":2.5700000000000001E-2},{"$f":"MIN(OFFSET(Female!F$18,'Female Rev'!$A58-35,0),0.03999)","v":2.3199999999999998E-2},{"$f":"MIN(OFFSET(Female!G$18,'Female Rev'!$A58-35,0),0.03999)","v":0.02},{"$f":"MIN(OFFSET(Female!H$18,'Female Rev'!$A58-35,0),0.03999)","v":1.6500000000000001E-2},{"$f":"MIN(OFFSET(Female!I$18,'Female Rev'!$A58-35,0),0.03999)","v":1.29E-2},{"$f":"MIN(OFFSET(Female!J$18,'Female Rev'!$A58-35,0),0.03999)","v":9.2999999999999992E-3},{"$f":"MIN(OFFSET(Female!K$18,'Female Rev'!$A58-35,0),0.03999)","v":5.8999999999999999E-3},{"$f":"MIN(OFFSET(Female!L$18,'Female Rev'!$A58-35,0),0.03999)","v":3.0999999999999999E-3},{"$f":"MIN(OFFSET(Female!M$18,'Female Rev'!$A58-35,0),0.03999)","v":1E-3},{"$f":"MIN(OFFSET(Female!N$18,'Female Rev'!$A58-35,0),0.03999)","v":-1E-4},{"$f":"MIN(OFFSET(Female!O$18,'Female Rev'!$A58-35,0),0.03999)","v":-2.9999999999999997E-4},{"$f":"MIN(OFFSET(Female!P$18,'Female Rev'!$A58-35,0),0.03999)","v":4.0000000000000002E-4},{"$f":"MIN(OFFSET(Female!Q$18,'Female Rev'!$A58-35,0),0.03999)","v":2E-3},{"$f":"MIN(OFFSET(Female!R$18,'Female Rev'!$A58-35,0),0.03999)","v":4.3E-3},{"$f":"MIN(OFFSET(Female!S$18,'Female Rev'!$A58-35,0),0.03999)","v":7.4000000000000003E-3},{"$f":"MIN(OFFSET(Female!T$18,'Female Rev'!$A58-35,0),0.03999)","v":1.15E-2},{"$f":"MIN(OFFSET(Female!U$18,'Female Rev'!$A58-35,0),0.03999)","v":1.61E-2},{"$f":"MIN(OFFSET(Female!V$18,'Female Rev'!$A58-35,0),0.03999)","v":2.0899999999999998E-2},{"$f":"MIN(OFFSET(Female!W$18,'Female Rev'!$A58-35,0),0.03999)","v":2.5499999999999998E-2},{"$f":"MIN(OFFSET(Female!X$18,'Female Rev'!$A58-35,0),0.03999)","v":2.9600000000000001E-2},{"$f":"MIN(OFFSET(Female!Y$18,'Female Rev'!$A58-35,0),0.03999)","v":3.2899999999999999E-2},{"$f":"MIN(OFFSET(Female!Z$18,'Female Rev'!$A58-35,0),0.03999)","v":3.5200000000000002E-2},{"$f":"MIN(OFFSET(Female!AA$18,'Female Rev'!$A58-35,0),0.03999)","v":3.6200000000000003E-2},{"$f":"MIN(OFFSET(Female!AB$18,'Female Rev'!$A58-35,0),0.03999)","v":3.61E-2},{"$f":"MIN(OFFSET(Female!AC$18,'Female Rev'!$A58-35,0),0.03999)","v":3.5099999999999999E-2},{"$f":"MIN(OFFSET(Female!AD$18,'Female Rev'!$A58-35,0),0.03999)","v":3.3300000000000003E-2},{"$f":"MIN(OFFSET(Female!AE$18,'Female Rev'!$A58-35,0),0.03999)","v":3.0800000000000001E-2},{"$f":"MIN(OFFSET(Female!AF$18,'Female Rev'!$A58-35,0),0.03999)","v":2.7799999999999998E-2},{"$f":"MIN(OFFSET(Female!AG$18,'Female Rev'!$A58-35,0),0.03999)","v":2.4199999999999999E-2},{"$f":"MIN(OFFSET(Female!AH$18,'Female Rev'!$A58-35,0),0.03999)","v":2.0199999999999999E-2},{"$f":"MIN(OFFSET(Female!AI$18,'Female Rev'!$A58-35,0),0.03999)","v":1.61E-2},{"$f":"MIN(OFFSET(Female!AJ$18,'Female Rev'!$A58-35,0),0.03999)","v":1.23E-2},{"$f":"MIN(OFFSET(Female!AK$18,'Female Rev'!$A58-35,0),0.03999)","v":8.6999999999999994E-3},{"$f":"MIN(OFFSET(Female!AL$18,'Female Rev'!$A58-35,0),0.03999)","v":5.7000000000000002E-3},{"$f":"MIN(OFFSET(Female!AM$18,'Female Rev'!$A58-35,0),0.03999)","v":3.0999999999999999E-3},{"$f":"MIN(OFFSET(Female!AN$18,'Female Rev'!$A58-35,0),0.03999)","v":1E-3},{"$f":"MIN(OFFSET(Female!AO$18,'Female Rev'!$A58-35,0),0.03999)","v":-8.0000000000000004E-4},{"$f":"MIN(OFFSET(Female!AP$18,'Female Rev'!$A58-35,0),0.03999)","v":-2.3999999999999998E-3},{"$f":"MIN(OFFSET(Female!AQ$18,'Female Rev'!$A58-35,0),0.03999)","v":-3.5000000000000001E-3},{"$f":"MIN(OFFSET(Female!AR$18,'Female Rev'!$A58-35,0),0.03999)","v":-3.5999999999999999E-3},{"$f":"MIN(OFFSET(Female!AS$18,'Female Rev'!$A58-35,0),0.03999)","v":-2.8E-3},{"$f":"MIN(OFFSET(Female!AT$18,'Female Rev'!$A58-35,0),0.03999)","v":-1.4E-3},{"$f":"MIN(OFFSET(Female!AU$18,'Female Rev'!$A58-35,0),0.03999)","v":2.0000000000000001E-4},{"$f":"MIN(OFFSET(Female!AV$18,'Female Rev'!$A58-35,0),0.03999)","v":1.1999999999999999E-3},{"$f":"MIN(OFFSET(Female!AW$18,'Female Rev'!$A58-35,0),0.03999)","v":1.4E-3},{"$f":"MIN(OFFSET(Female!AX$18,'Female Rev'!$A58-35,0),0.03999)","v":1.2999999999999999E-3},{"$f":"MIN(OFFSET(Female!AY$18,'Female Rev'!$A58-35,0),0.03999)","v":1.4E-3},{"$f":"MIN(OFFSET(Female!AZ$18,'Female Rev'!$A58-35,0),0.03999)","v":2.0999999999999999E-3},{"$f":"MIN(OFFSET(Female!BA$18,'Female Rev'!$A58-35,0),0.03999)","v":3.7000000000000002E-3},{"$f":"MIN(OFFSET(Female!BB$18,'Female Rev'!$A58-35,0),0.03999)","v":5.7999999999999996E-3},{"$f":"MIN(OFFSET(Female!BC$18,'Female Rev'!$A58-35,0),0.03999)","v":8.0000000000000002E-3},{"$f":"MIN(OFFSET(Female!BD$18,'Female Rev'!$A58-35,0),0.03999)","v":9.4999999999999998E-3},{"$f":"MIN(OFFSET(Female!BE$18,'Female Rev'!$A58-35,0),0.03999)","v":1.0500000000000001E-2},{"$f":"MIN(OFFSET(Female!BF$18,'Female Rev'!$A58-35,0),0.03999)","v":1.0800000000000001E-2},{"$f":"MIN(OFFSET(Female!BG$18,'Female Rev'!$A58-35,0),0.03999)","v":0.01},{"$f":"MIN(OFFSET(Female!BH$18,'Female Rev'!$A58-35,0),0.03999)","v":8.2000000000000007E-3},{"$f":"MIN(OFFSET(Female!BI$18,'Female Rev'!$A58-35,0),0.03999)","v":5.4999999999999997E-3},{"$f":"MIN(OFFSET(Female!BJ$18,'Female Rev'!$A58-35,0),0.03999)","v":1.9E-3},{"$f":"MIN(OFFSET(Female!BK$18,'Female Rev'!$A58-35,0),0.03999)","v":-2.2000000000000001E-3},{"$f":"MIN(OFFSET(Female!BL$18,'Female Rev'!$A58-35,0),0.03999)","v":-6.1999999999999998E-3},{"$f":"MIN(OFFSET(Female!BM$18,'Female Rev'!$A58-35,0),0.03999)","v":-9.7000000000000003E-3},{"$f":"MIN(OFFSET(Female!BN$18,'Female Rev'!$A58-35,0),0.03999)","v":-1.2200000000000001E-2},{"$f":"MIN(OFFSET(Female!BO$18,'Female Rev'!$A58-35,0),0.03999)","v":-1.3299999999999999E-2},{"$f":"MIN(OFFSET(Female!BP$18,'Female Rev'!$A58-35,0),0.03999)","v":-1.37E-2},{"$f":"MIN(OFFSET(Female!BQ$18,'Female Rev'!$A58-35,0),0.03999)","v":-1.34E-2},{"$f":"MIN(OFFSET(Female!BR$18,'Female Rev'!$A58-35,0),0.03999)","v":-1.24E-2},{"$f":"MIN(OFFSET(Female!BS$18,'Female Rev'!$A58-35,0),0.03999)","v":-1.0800000000000001E-2},{"$f":"MIN(OFFSET(Female!BT$18,'Female Rev'!$A58-35,0),0.03999)","v":-8.8999999999999999E-3},{"$f":"MIN(OFFSET(Female!BU$18,'Female Rev'!$A58-35,0),0.03999)","v":-6.7000000000000002E-3},{"$f":"MIN(OFFSET(Female!BV$18,'Female Rev'!$A58-35,0),0.03999)","v":-4.3E-3},{"$f":"MIN(OFFSET(Female!BW$18,'Female Rev'!$A58-35,0),0.03999)","v":-2.0999999999999999E-3},{"$f":"MIN(OFFSET(Female!BX$18,'Female Rev'!$A58-35,0),0.03999)","v":-2.0000000000000001E-4},{"$f":"MIN(OFFSET(Female!BY$18,'Female Rev'!$A58-35,0),0.03999)","v":1.5E-3},{"$f":"MIN(OFFSET(Female!BZ$18,'Female Rev'!$A58-35,0),0.03999)","v":3.2000000000000002E-3},{"$f":"MIN(OFFSET(Female!CA$18,'Female Rev'!$A58-35,0),0.03999)","v":4.7000000000000002E-3},{"$f":"MIN(OFFSET(Female!CB$18,'Female Rev'!$A58-35,0),0.03999)","v":6.1999999999999998E-3},{"$f":"MIN(OFFSET(Female!CC$18,'Female Rev'!$A58-35,0),0.03999)","v":7.4000000000000003E-3},{"$f":"MIN(OFFSET(Female!CD$18,'Female Rev'!$A58-35,0),0.03999)","v":8.3999999999999995E-3},{"$f":"MIN(OFFSET(Female!CE$18,'Female Rev'!$A58-35,0),0.03999)","v":9.1000000000000004E-3},{"$f":"MIN(OFFSET(Female!CF$18,'Female Rev'!$A58-35,0),0.03999)","v":9.5999999999999992E-3},{"$f":"MIN(OFFSET(Female!CG$18,'Female Rev'!$A58-35,0),0.03999)","v":9.9000000000000008E-3},{"$f":"MIN(OFFSET(Female!CH$18,'Female Rev'!$A58-35,0),0.03999)","v":0.01}]
[39,39,{"$f":"MIN(OFFSET(Female!B$18,'Female Rev'!$A59-35,0),0.03999)","v":2.9100000000000001E-2},{"$f":"MIN(OFFSET(Female!C$18,'Female Rev'!$A59-35,0),0.03999)","v":2.8899999999999999E-2},{"$f":"MIN(OFFSET(Female!D$18,'Female Rev'!$A59-35,0),0.03999)","v":2.8000000000000001E-2},{"$f":"MIN(OFFSET(Female!E$18,'Female Rev'!$A59-35,0),0.03999)","v":2.63E-2},{"$f":"MIN(OFFSET(Female!F$18,'Female Rev'!$A59-35,0),0.03999)","v":2.3599999999999999E-2},{"$f":"MIN(OFFSET(Female!G$18,'Female Rev'!$A59-35,0),0.03999)","v":2.0299999999999999E-2},{"$f":"MIN(OFFSET(Female!H$18,'Female Rev'!$A59-35,0),0.03999)","v":1.66E-2},{"$f":"MIN(OFFSET(Female!I$18,'Female Rev'!$A59-35,0),0.03999)","v":1.2999999999999999E-2},{"$f":"MIN(OFFSET(Female!J$18,'Female Rev'!$A59-35,0),0.03999)","v":9.2999999999999992E-3},{"$f":"MIN(OFFSET(Female!K$18,'Female Rev'!$A59-35,0),0.03999)","v":5.7999999999999996E-3},{"$f":"MIN(OFFSET(Female!L$18,'Female Rev'!$A59-35,0),0.03999)","v":3.0000000000000001E-3},{"$f":"MIN(OFFSET(Female!M$18,'Female Rev'!$A59-35,0),0.03999)","v":8.9999999999999998E-4},{"$f":"MIN(OFFSET(Female!N$18,'Female Rev'!$A59-35,0),0.03999)","v":-2.0000000000000001E-4},{"$f":"MIN(OFFSET(Female!O$18,'Female Rev'!$A59-35,0),0.03999)","v":-2.0000000000000001E-4},{"$f":"MIN(OFFSET(Female!P$18,'Female Rev'!$A59-35,0),0.03999)","v":5.9999999999999995E-4},{"$f":"MIN(OFFSET(Female!Q$18,'Female Rev'!$A59-35,0),0.03999)","v":2.2000000000000001E-3},{"$f":"MIN(OFFSET(Female!R$18,'Female Rev'!$A59-35,0),0.03999)","v":4.5999999999999999E-3},{"$f":"MIN(OFFSET(Female!S$18,'Female Rev'!$A59-35,0),0.03999)","v":7.9000000000000008E-3},{"$f":"MIN(OFFSET(Female!T$18,'Female Rev'!$A59-35,0),0.03999)","v":1.21E-2},{"$f":"MIN(OFFSET(Female!U$18,'Female Rev'!$A59-35,0),0.03999)","v":1.6799999999999999E-2},{"$f":"MIN(OFFSET(Female!V$18,'Female Rev'!$A59-35,0),0.03999)","v":2.1600000000000001E-2},{"$f":"MIN(OFFSET(Female!W$18,'Female Rev'!$A59-35,0),0.03999)","v":2.63E-2},{"$f":"MIN(OFFSET(Female!X$18,'Female Rev'!$A59-35,0),0.03999)","v":3.0499999999999999E-2},{"$f":"MIN(OFFSET(Female!Y$18,'Female Rev'!$A59-35,0),0.03999)","v":3.3799999999999997E-2},{"$f":"MIN(OFFSET(Female!Z$18,'Female Rev'!$A59-35,0),0.03999)","v":3.5999999999999997E-2},{"$f":"MIN(OFFSET(Female!AA$18,'Female Rev'!$A59-35,0),0.03999)","v":3.6900000000000002E-2},{"$f":"MIN(OFFSET(Female!AB$18,'Female Rev'!$A59-35,0),0.03999)","v":3.6600000000000001E-2},{"$f":"MIN(OFFSET(Female!AC$18,'Female Rev'!$A59-35,0),0.03999)","v":3.5400000000000001E-2},{"$f":"MIN(OFFSET(Female!AD$18,'Female Rev'!$A59-35,0),0.03999)","v":3.3399999999999999E-2},{"$f":"MIN(OFFSET(Female!AE$18,'Female Rev'!$A59-35,0),0.03999)","v":3.0700000000000002E-2},{"$f":"MIN(OFFSET(Female!AF$18,'Female Rev'!$A59-35,0),0.03999)","v":2.7400000000000001E-2},{"$f":"MIN(OFFSET(Female!AG$18,'Female Rev'!$A59-35,0),0.03999)","v":2.3599999999999999E-2},{"$f":"MIN(OFFSET(Female!AH$18,'Female Rev'!$A59-35,0),0.03999)","v":1.9199999999999998E-2},{"$f":"MIN(OFFSET(Female!AI$18,'Female Rev'!$A59-35,0),0.03999)","v":1.4800000000000001E-2},{"$f":"MIN(OFFSET(Female!AJ$18,'Female Rev'!$A59-35,0),0.03999)","v":1.0699999999999999E-2},{"$f":"MIN(OFFSET(Female!AK$18,'Female Rev'!$A59-35,0),0.03999)","v":6.8999999999999999E-3},{"$f":"MIN(OFFSET(Female!AL$18,'Female Rev'!$A59-35,0),0.03999)","v":3.7000000000000002E-3},{"$f":"MIN(OFFSET(Female!AM$18,'Female Rev'!$A59-35,0),0.03999)","v":1.1999999999999999E-3},{"$f":"MIN(OFFSET(Female!AN$18,'Female Rev'!$A59-35,0),0.03999)","v":-6.9999999999999999E-4},{"$f":"MIN(OFFSET(Female!AO$18,'Female Rev'!$A59-35,0),0.03999)","v":-2.3E-3},{"$f":"MIN(OFFSET(Female!AP$18,'Female Rev'!$A59-35,0),0.03999)","v":-3.5999999999999999E-3},{"$f":"MIN(OFFSET(Female!AQ$18,'Female Rev'!$A59-35,0),0.03999)","v":-4.3E-3},{"$f":"MIN(OFFSET(Female!AR$18,'Female Rev'!$A59-35,0),0.03999)","v":-4.0000000000000001E-3},{"$f":"MIN(OFFSET(Female!AS$18,'Female Rev'!$A59-35,0),0.03999)","v":-2.7000000000000001E-3},{"$f":"MIN(OFFSET(Female!AT$18,'Female Rev'!$A59-35,0),0.03999)","v":-8.0000000000000004E-4},{"$f":"MIN(OFFSET(Female!AU$18,'Female Rev'!$A59-35,0),0.03999)","v":1.2999999999999999E-3},{"$f":"MIN(OFFSET(Female!AV$18,'Female Rev'!$A59-35,0),0.03999)","v":2.5999999999999999E-3},{"$f":"MIN(OFFSET(Female!AW$18,'Female Rev'!$A59-35,0),0.03999)","v":2.8999999999999998E-3},{"$f":"MIN(OFFSET(Female!AX$18,'Female Rev'!$A59-35,0),0.03999)","v":2.8999999999999998E-3},{"$f":"MIN(OFFSET(Female!AY$18,'Female Rev'!$A59-35,0),0.03999)","v":3.0000000000000001E-3},{"$f":"MIN(OFFSET(Female!AZ$18,'Female Rev'!$A59-35,0),0.03999)","v":3.5999999999999999E-3},{"$f":"MIN(OFFSET(Female!BA$18,'Female Rev'!$A59-35,0),0.03999)","v":5.1000000000000004E-3},{"$f":"MIN(OFFSET(Female!BB$18,'Female Rev'!$A59-35,0),0.03999)","v":7.0000000000000001E-3},{"$f":"MIN(OFFSET(Female!BC$18,'Female Rev'!$A59-35,0),0.03999)","v":8.8000000000000005E-3},{"$f":"MIN(OFFSET(Female!BD$18,'Female Rev'!$A59-35,0),0.03999)","v":9.9000000000000008E-3},{"$f":"MIN(OFFSET(Female!BE$18,'Female Rev'!$A59-35,0),0.03999)","v":1.0500000000000001E-2},{"$f":"MIN(OFFSET(Female!BF$18,'Female Rev'!$A59-35,0),0.03999)","v":1.03E-2},{"$f":"MIN(OFFSET(Female!BG$18,'Female Rev'!$A59-35,0),0.03999)","v":9.1000000000000004E-3},{"$f":"MIN(OFFSET(Female!BH$18,'Female Rev'!$A59-35,0),0.03999)","v":6.8999999999999999E-3},{"$f":"MIN(OFFSET(Female!BI$18,'Female Rev'!$A59-35,0),0.03999)","v":3.8E-3},{"$f":"MIN(OFFSET(Female!BJ$18,'Female Rev'!$A59-35,0),0.03999)","v":-1E-4},{"$f":"MIN(OFFSET(Female!BK$18,'Female Rev'!$A59-35,0),0.03999)","v":-4.4999999999999997E-3},{"$f":"MIN(OFFSET(Female!BL$18,'Female Rev'!$A59-35,0),0.03999)","v":-8.8000000000000005E-3},{"$f":"MIN(OFFSET(Female!BM$18,'Female Rev'!$A59-35,0),0.03999)","v":-1.26E-2},{"$f":"MIN(OFFSET(Female!BN$18,'Female Rev'!$A59-35,0),0.03999)","v":-1.5299999999999999E-2},{"$f":"MIN(OFFSET(Female!BO$18,'Female Rev'!$A59-35,0),0.03999)","v":-1.6299999999999999E-2},{"$f":"MIN(OFFSET(Female!BP$18,'Female Rev'!$A59-35,0),0.03999)","v":-1.6500000000000001E-2},{"$f":"MIN(OFFSET(Female!BQ$18,'Female Rev'!$A59-35,0),0.03999)","v":-1.5800000000000002E-2},{"$f":"MIN(OFFSET(Female!BR$18,'Female Rev'!$A59-35,0),0.03999)","v":-1.44E-2},{"$f":"MIN(OFFSET(Female!BS$18,'Female Rev'!$A59-35,0),0.03999)","v":-1.24E-2},{"$f":"MIN(OFFSET(Female!BT$18,'Female Rev'!$A59-35,0),0.03999)","v":-0.01},{"$f":"MIN(OFFSET(Female!BU$18,'Female Rev'!$A59-35,0),0.03999)","v":-7.3000000000000001E-3},{"$f":"MIN(OFFSET(Female!BV$18,'Female Rev'!$A59-35,0),0.03999)","v":-4.5999999999999999E-3},{"$f":"MIN(OFFSET(Female!BW$18,'Female Rev'!$A59-35,0),0.03999)","v":-2.0999999999999999E-3},{"$f":"MIN(OFFSET(Female!BX$18,'Female Rev'!$A59-35,0),0.03999)","v":0},{"$f":"MIN(OFFSET(Female!BY$18,'Female Rev'!$A59-35,0),0.03999)","v":1.6999999999999999E-3},{"$f":"MIN(OFFSET(Female!BZ$18,'Female Rev'!$A59-35,0),0.03999)","v":3.3999999999999998E-3},{"$f":"MIN(OFFSET(Female!CA$18,'Female Rev'!$A59-35,0),0.03999)","v":5.0000000000000001E-3},{"$f":"MIN(OFFSET(Female!CB$18,'Female Rev'!$A59-35,0),0.03999)","v":6.4000000000000003E-3},{"$f":"MIN(OFFSET(Female!CC$18,'Female Rev'!$A59-35,0),0.03999)","v":7.6E-3},{"$f":"MIN(OFFSET(Female!CD$18,'Female Rev'!$A59-35,0),0.03999)","v":8.5000000000000006E-3},{"$f":"MIN(OFFSET(Female!CE$18,'Female Rev'!$A59-35,0),0.03999)","v":9.1999999999999998E-3},{"$f":"MIN(OFFSET(Female!CF$18,'Female Rev'!$A59-35,0),0.03999)","v":9.7000000000000003E-3},{"$f":"MIN(OFFSET(Female!CG$18,'Female Rev'!$A59-35,0),0.03999)","v":9.9000000000000008E-3},{"$f":"MIN(OFFSET(Female!CH$18,'Female Rev'!$A59-35,0),0.03999)","v":0.01}]
[38,38,{"$f":"MIN(OFFSET(Female!B$18,'Female Rev'!$A60-35,0),0.03999)","v":2.9899999999999999E-2},{"$f":"MIN(OFFSET(Female!C$18,'Female Rev'!$A60-35,0),0.03999)","v":2.9600000000000001E-2},{"$f":"MIN(OFFSET(Female!D$18,'Female Rev'!$A60-35,0),0.03999)","v":2.87E-2},{"$f":"MIN(OFFSET(Female!E$18,'Female Rev'!$A60-35,0),0.03999)","v":2.6800000000000001E-2},{"$f":"MIN(OFFSET(Female!F$18,'Female Rev'!$A60-35,0),0.03999)","v":2.4E-2},{"$f":"MIN(OFFSET(Female!G$18,'Female Rev'!$A60-35,0),0.03999)","v":2.0500000000000001E-2},{"$f":"MIN(OFFSET(Female!H$18,'Female Rev'!$A60-35,0),0.03999)","v":1.67E-2},{"$f":"MIN(OFFSET(Female!I$18,'Female Rev'!$A60-35,0),0.03999)","v":1.2999999999999999E-2},{"$f":"MIN(OFFSET(Female!J$18,'Female Rev'!$A60-35,0),0.03999)","v":9.2999999999999992E-3},{"$f":"MIN(OFFSET(Female!K$18,'Female Rev'!$A60-35,0),0.03999)","v":5.7999999999999996E-3},{"$f":"MIN(OFFSET(Female!L$18,'Female Rev'!$A60-35,0),0.03999)","v":3.0000000000000001E-3},{"$f":"MIN(OFFSET(Female!M$18,'Female Rev'!$A60-35,0),0.03999)","v":8.9999999999999998E-4},{"$f":"MIN(OFFSET(Female!N$18,'Female Rev'!$A60-35,0),0.03999)","v":-1E-4},{"$f":"MIN(OFFSET(Female!O$18,'Female Rev'!$A60-35,0),0.03999)","v":-1E-4},{"$f":"MIN(OFFSET(Female!P$18,'Female Rev'!$A60-35,0),0.03999)","v":8.0000000000000004E-4},{"$f":"MIN(OFFSET(Female!Q$18,'Female Rev'!$A60-35,0),0.03999)","v":2.5000000000000001E-3},{"$f":"MIN(OFFSET(Female!R$18,'Female Rev'!$A60-35,0),0.03999)","v":5.0000000000000001E-3},{"$f":"MIN(OFFSET(Female!S$18,'Female Rev'!$A60-35,0),0.03999)","v":8.3999999999999995E-3},{"$f":"MIN(OFFSET(Female!T$18,'Female Rev'!$A60-35,0),0.03999)","v":1.26E-2},{"$f":"MIN(OFFSET(Female!U$18,'Female Rev'!$A60-35,0),0.03999)","v":1.7399999999999999E-2},{"$f":"MIN(OFFSET(Female!V$18,'Female Rev'!$A60-35,0),0.03999)","v":2.23E-2},{"$f":"MIN(OFFSET(Female!W$18,'Female Rev'!$A60-35,0),0.03999)","v":2.7E-2},{"$f":"MIN(OFFSET(Female!X$18,'Female Rev'!$A60-35,0),0.03999)","v":3.1199999999999999E-2},{"$f":"MIN(OFFSET(Female!Y$18,'Female Rev'!$A60-35,0),0.03999)","v":3.4599999999999999E-2},{"$f":"MIN(OFFSET(Female!Z$18,'Female Rev'!$A60-35,0),0.03999)","v":3.6700000000000003E-2},{"$f":"MIN(OFFSET(Female!AA$18,'Female Rev'!$A60-35,0),0.03999)","v":3.7499999999999999E-2},{"$f":"MIN(OFFSET(Female!AB$18,'Female Rev'!$A60-35,0),0.03999)","v":3.6999999999999998E-2},{"$f":"MIN(OFFSET(Female!AC$18,'Female Rev'!$A60-35,0),0.03999)","v":3.56E-2},{"$f":"MIN(OFFSET(Female!AD$18,'Female Rev'!$A60-35,0),0.03999)","v":3.3300000000000003E-2},{"$f":"MIN(OFFSET(Female!AE$18,'Female Rev'!$A60-35,0),0.03999)","v":3.04E-2},{"$f":"MIN(OFFSET(Female!AF$18,'Female Rev'!$A60-35,0),0.03999)","v":2.6800000000000001E-2},{"$f":"MIN(OFFSET(Female!AG$18,'Female Rev'!$A60-35,0),0.03999)","v":2.2800000000000001E-2},{"$f":"MIN(OFFSET(Female!AH$18,'Female Rev'!$A60-35,0),0.03999)","v":1.8100000000000002E-2},{"$f":"MIN(OFFSET(Female!AI$18,'Female Rev'!$A60-35,0),0.03999)","v":1.34E-2},{"$f":"MIN(OFFSET(Female!AJ$18,'Female Rev'!$A60-35,0),0.03999)","v":8.8999999999999999E-3},{"$f":"MIN(OFFSET(Female!AK$18,'Female Rev'!$A60-35,0),0.03999)","v":5.0000000000000001E-3},{"$f":"MIN(OFFSET(Female!AL$18,'Female Rev'!$A60-35,0),0.03999)","v":1.6999999999999999E-3},{"$f":"MIN(OFFSET(Female!AM$18,'Female Rev'!$A60-35,0),0.03999)","v":-6.9999999999999999E-4},{"$f":"MIN(OFFSET(Female!AN$18,'Female Rev'!$A60-35,0),0.03999)","v":-2.3E-3},{"$f":"MIN(OFFSET(Female!AO$18,'Female Rev'!$A60-35,0),0.03999)","v":-3.7000000000000002E-3},{"$f":"MIN(OFFSET(Female!AP$18,'Female Rev'!$A60-35,0),0.03999)","v":-4.5999999999999999E-3},{"$f":"MIN(OFFSET(Female!AQ$18,'Female Rev'!$A60-35,0),0.03999)","v":-4.7999999999999996E-3},{"$f":"MIN(OFFSET(Female!AR$18,'Female Rev'!$A60-35,0),0.03999)","v":-4.0000000000000001E-3},{"$f":"MIN(OFFSET(Female!AS$18,'Female Rev'!$A60-35,0),0.03999)","v":-2.3E-3},{"$f":"MIN(OFFSET(Female!AT$18,'Female Rev'!$A60-35,0),0.03999)","v":1E-4},{"$f":"MIN(OFFSET(Female!AU$18,'Female Rev'!$A60-35,0),0.03999)","v":2.5999999999999999E-3},{"$f":"MIN(OFFSET(Female!AV$18,'Female Rev'!$A60-35,0),0.03999)","v":4.1999999999999997E-3},{"$f":"MIN(OFFSET(Female!AW$18,'Female Rev'!$A60-35,0),0.03999)","v":4.7000000000000002E-3},{"$f":"MIN(OFFSET(Female!AX$18,'Female Rev'!$A60-35,0),0.03999)","v":4.7000000000000002E-3},{"$f":"MIN(OFFSET(Female!AY$18,'Female Rev'!$A60-35,0),0.03999)","v":4.7000000000000002E-3},{"$f":"MIN(OFFSET(Female!AZ$18,'Female Rev'!$A60-35,0),0.03999)","v":5.1999999999999998E-3},{"$f":"MIN(OFFSET(Female!BA$18,'Female Rev'!$A60-35,0),0.03999)","v":6.4000000000000003E-3},{"$f":"MIN(OFFSET(Female!BB$18,'Female Rev'!$A60-35,0),0.03999)","v":7.9000000000000008E-3},{"$f":"MIN(OFFSET(Female!BC$18,'Female Rev'!$A60-35,0),0.03999)","v":9.1999999999999998E-3},{"$f":"MIN(OFFSET(Female!BD$18,'Female Rev'!$A60-35,0),0.03999)","v":9.9000000000000008E-3},{"$f":"MIN(OFFSET(Female!BE$18,'Female Rev'!$A60-35,0),0.03999)","v":0.01},{"$f":"MIN(OFFSET(Female!BF$18,'Female Rev'!$A60-35,0),0.03999)","v":9.4999999999999998E-3},{"$f":"MIN(OFFSET(Female!BG$18,'Female Rev'!$A60-35,0),0.03999)","v":7.9000000000000008E-3},{"$f":"MIN(OFFSET(Female!BH$18,'Female Rev'!$A60-35,0),0.03999)","v":5.3E-3},{"$f":"MIN(OFFSET(Female!BI$18,'Female Rev'!$A60-35,0),0.03999)","v":1.9E-3},{"$f":"MIN(OFFSET(Female!BJ$18,'Female Rev'!$A60-35,0),0.03999)","v":-2.3E-3},{"$f":"MIN(OFFSET(Female!BK$18,'Female Rev'!$A60-35,0),0.03999)","v":-6.7999999999999996E-3},{"$f":"MIN(OFFSET(Female!BL$18,'Female Rev'!$A60-35,0),0.03999)","v":-1.14E-2},{"$f":"MIN(OFFSET(Female!BM$18,'Female Rev'!$A60-35,0),0.03999)","v":-1.54E-2},{"$f":"MIN(OFFSET(Female!BN$18,'Female Rev'!$A60-35,0),0.03999)","v":-1.83E-2},{"$f":"MIN(OFFSET(Female!BO$18,'Female Rev'!$A60-35,0),0.03999)","v":-1.9199999999999998E-2},{"$f":"MIN(OFFSET(Female!BP$18,'Female Rev'!$A60-35,0),0.03999)","v":-1.9099999999999999E-2},{"$f":"MIN(OFFSET(Female!BQ$18,'Female Rev'!$A60-35,0),0.03999)","v":-1.8100000000000002E-2},{"$f":"MIN(OFFSET(Female!BR$18,'Female Rev'!$A60-35,0),0.03999)","v":-1.6299999999999999E-2},{"$f":"MIN(OFFSET(Female!BS$18,'Female Rev'!$A60-35,0),0.03999)","v":-1.38E-2},{"$f":"MIN(OFFSET(Female!BT$18,'Female Rev'!$A60-35,0),0.03999)","v":-1.09E-2},{"$f":"MIN(OFFSET(Female!BU$18,'Female Rev'!$A60-35,0),0.03999)","v":-7.7999999999999996E-3},{"$f":"MIN(OFFSET(Female!BV$18,'Female Rev'!$A60-35,0),0.03999)","v":-4.7000000000000002E-3},{"$f":"MIN(OFFSET(Female!BW$18,'Female Rev'!$A60-35,0),0.03999)","v":-1.9E-3},{"$f":"MIN(OFFSET(Female!BX$18,'Female Rev'!$A60-35,0),0.03999)","v":2.9999999999999997E-4},{"$f":"MIN(OFFSET(Female!BY$18,'Female Rev'!$A60-35,0),0.03999)","v":2.0999999999999999E-3},{"$f":"MIN(OFFSET(Female!BZ$18,'Female Rev'!$A60-35,0),0.03999)","v":3.8E-3},{"$f":"MIN(OFFSET(Female!CA$18,'Female Rev'!$A60-35,0),0.03999)","v":5.3E-3},{"$f":"MIN(OFFSET(Female!CB$18,'Female Rev'!$A60-35,0),0.03999)","v":6.7000000000000002E-3},{"$f":"MIN(OFFSET(Female!CC$18,'Female Rev'!$A60-35,0),0.03999)","v":7.7999999999999996E-3},{"$f":"MIN(OFFSET(Female!CD$18,'Female Rev'!$A60-35,0),0.03999)","v":8.6999999999999994E-3},{"$f":"MIN(OFFSET(Female!CE$18,'Female Rev'!$A60-35,0),0.03999)","v":9.2999999999999992E-3},{"$f":"MIN(OFFSET(Female!CF$18,'Female Rev'!$A60-35,0),0.03999)","v":9.7000000000000003E-3},{"$f":"MIN(OFFSET(Female!CG$18,'Female Rev'!$A60-35,0),0.03999)","v":9.9000000000000008E-3},{"$f":"MIN(OFFSET(Female!CH$18,'Female Rev'!$A60-35,0),0.03999)","v":0.01}]
[37,37,{"$f":"MIN(OFFSET(Female!B$18,'Female Rev'!$A61-35,0),0.03999)","v":3.0700000000000002E-2},{"$f":"MIN(OFFSET(Female!C$18,'Female Rev'!$A61-35,0),0.03999)","v":3.04E-2},{"$f":"MIN(OFFSET(Female!D$18,'Female Rev'!$A61-35,0),0.03999)","v":2.9399999999999999E-2},{"$f":"MIN(OFFSET(Female!E$18,'Female Rev'!$A61-35,0),0.03999)","v":2.7400000000000001E-2},{"$f":"MIN(OFFSET(Female!F$18,'Female Rev'!$A61-35,0),0.03999)","v":2.4400000000000002E-2},{"$f":"MIN(OFFSET(Female!G$18,'Female Rev'!$A61-35,0),0.03999)","v":2.0799999999999999E-2},{"$f":"MIN(OFFSET(Female!H$18,'Female Rev'!$A61-35,0),0.03999)","v":1.6799999999999999E-2},{"$f":"MIN(OFFSET(Female!I$18,'Female Rev'!$A61-35,0),0.03999)","v":1.3100000000000001E-2},{"$f":"MIN(OFFSET(Female!J$18,'Female Rev'!$A61-35,0),0.03999)","v":9.4000000000000004E-3},{"$f":"MIN(OFFSET(Female!K$18,'Female Rev'!$A61-35,0),0.03999)","v":5.8999999999999999E-3},{"$f":"MIN(OFFSET(Female!L$18,'Female Rev'!$A61-35,0),0.03999)","v":3.0000000000000001E-3},{"$f":"MIN(OFFSET(Female!M$18,'Female Rev'!$A61-35,0),0.03999)","v":8.9999999999999998E-4},{"$f":"MIN(OFFSET(Female!N$18,'Female Rev'!$A61-35,0),0.03999)","v":0},{"$f":"MIN(OFFSET(Female!O$18,'Female Rev'!$A61-35,0),0.03999)","v":1E-4},{"$f":"MIN(OFFSET(Female!P$18,'Female Rev'!$A61-35,0),0.03999)","v":1.1000000000000001E-3},{"$f":"MIN(OFFSET(Female!Q$18,'Female Rev'!$A61-35,0),0.03999)","v":2.8999999999999998E-3},{"$f":"MIN(OFFSET(Female!R$18,'Female Rev'!$A61-35,0),0.03999)","v":5.4000000000000003E-3},{"$f":"MIN(OFFSET(Female!S$18,'Female Rev'!$A61-35,0),0.03999)","v":8.8000000000000005E-3},{"$f":"MIN(OFFSET(Female!T$18,'Female Rev'!$A61-35,0),0.03999)","v":1.3100000000000001E-2},{"$f":"MIN(OFFSET(Female!U$18,'Female Rev'!$A61-35,0),0.03999)","v":1.7899999999999999E-2},{"$f":"MIN(OFFSET(Female!V$18,'Female Rev'!$A61-35,0),0.03999)","v":2.29E-2},{"$f":"MIN(OFFSET(Female!W$18,'Female Rev'!$A61-35,0),0.03999)","v":2.76E-2},{"$f":"MIN(OFFSET(Female!X$18,'Female Rev'!$A61-35,0),0.03999)","v":3.1800000000000002E-2},{"$f":"MIN(OFFSET(Female!Y$18,'Female Rev'!$A61-35,0),0.03999)","v":3.5200000000000002E-2},{"$f":"MIN(OFFSET(Female!Z$18,'Female Rev'!$A61-35,0),0.03999)","v":3.7199999999999997E-2},{"$f":"MIN(OFFSET(Female!AA$18,'Female Rev'!$A61-35,0),0.03999)","v":3.78E-2},{"$f":"MIN(OFFSET(Female!AB$18,'Female Rev'!$A61-35,0),0.03999)","v":3.7199999999999997E-2},{"$f":"MIN(OFFSET(Female!AC$18,'Female Rev'!$A61-35,0),0.03999)","v":3.56E-2},{"$f":"MIN(OFFSET(Female!AD$18,'Female Rev'!$A61-35,0),0.03999)","v":3.3000000000000002E-2},{"$f":"MIN(OFFSET(Female!AE$18,'Female Rev'!$A61-35,0),0.03999)","v":2.9899999999999999E-2},{"$f":"MIN(OFFSET(Female!AF$18,'Female Rev'!$A61-35,0),0.03999)","v":2.6100000000000002E-2},{"$f":"MIN(OFFSET(Female!AG$18,'Female Rev'!$A61-35,0),0.03999)","v":2.18E-2},{"$f":"MIN(OFFSET(Female!AH$18,'Female Rev'!$A61-35,0),0.03999)","v":1.6899999999999998E-2},{"$f":"MIN(OFFSET(Female!AI$18,'Female Rev'!$A61-35,0),0.03999)","v":1.18E-2},{"$f":"MIN(OFFSET(Female!AJ$18,'Female Rev'!$A61-35,0),0.03999)","v":7.1999999999999998E-3},{"$f":"MIN(OFFSET(Female!AK$18,'Female Rev'!$A61-35,0),0.03999)","v":3.0999999999999999E-3},{"$f":"MIN(OFFSET(Female!AL$18,'Female Rev'!$A61-35,0),0.03999)","v":-2.0000000000000001E-4},{"$f":"MIN(OFFSET(Female!AM$18,'Female Rev'!$A61-35,0),0.03999)","v":-2.3E-3},{"$f":"MIN(OFFSET(Female!AN$18,'Female Rev'!$A61-35,0),0.03999)","v":-3.7000000000000002E-3},{"$f":"MIN(OFFSET(Female!AO$18,'Female Rev'!$A61-35,0),0.03999)","v":-4.7000000000000002E-3},{"$f":"MIN(OFFSET(Female!AP$18,'Female Rev'!$A61-35,0),0.03999)","v":-5.1999999999999998E-3},{"$f":"MIN(OFFSET(Female!AQ$18,'Female Rev'!$A61-35,0),0.03999)","v":-4.8999999999999998E-3},{"$f":"MIN(OFFSET(Female!AR$18,'Female Rev'!$A61-35,0),0.03999)","v":-3.7000000000000002E-3},{"$f":"MIN(OFFSET(Female!AS$18,'Female Rev'!$A61-35,0),0.03999)","v":-1.6000000000000001E-3},{"$f":"MIN(OFFSET(Female!AT$18,'Female Rev'!$A61-35,0),0.03999)","v":1.4E-3},{"$f":"MIN(OFFSET(Female!AU$18,'Female Rev'!$A61-35,0),0.03999)","v":4.1999999999999997E-3},{"$f":"MIN(OFFSET(Female!AV$18,'Female Rev'!$A61-35,0),0.03999)","v":6.0000000000000001E-3},{"$f":"MIN(OFFSET(Female!AW$18,'Female Rev'!$A61-35,0),0.03999)","v":6.4999999999999997E-3},{"$f":"MIN(OFFSET(Female!AX$18,'Female Rev'!$A61-35,0),0.03999)","v":6.4999999999999997E-3},{"$f":"MIN(OFFSET(Female!AY$18,'Female Rev'!$A61-35,0),0.03999)","v":6.4000000000000003E-3},{"$f":"MIN(OFFSET(Female!AZ$18,'Female Rev'!$A61-35,0),0.03999)","v":6.6E-3},{"$f":"MIN(OFFSET(Female!BA$18,'Female Rev'!$A61-35,0),0.03999)","v":7.4000000000000003E-3},{"$f":"MIN(OFFSET(Female!BB$18,'Female Rev'!$A61-35,0),0.03999)","v":8.5000000000000006E-3},{"$f":"MIN(OFFSET(Female!BC$18,'Female Rev'!$A61-35,0),0.03999)","v":9.4000000000000004E-3},{"$f":"MIN(OFFSET(Female!BD$18,'Female Rev'!$A61-35,0),0.03999)","v":9.4999999999999998E-3},{"$f":"MIN(OFFSET(Female!BE$18,'Female Rev'!$A61-35,0),0.03999)","v":9.2999999999999992E-3},{"$f":"MIN(OFFSET(Female!BF$18,'Female Rev'!$A61-35,0),0.03999)","v":8.3000000000000001E-3},{"$f":"MIN(OFFSET(Female!BG$18,'Female Rev'!$A61-35,0),0.03999)","v":6.4000000000000003E-3},{"$f":"MIN(OFFSET(Female!BH$18,'Female Rev'!$A61-35,0),0.03999)","v":3.5000000000000001E-3},{"$f":"MIN(OFFSET(Female!BI$18,'Female Rev'!$A61-35,0),0.03999)","v":-2.0000000000000001E-4},{"$f":"MIN(OFFSET(Female!BJ$18,'Female Rev'!$A61-35,0),0.03999)","v":-4.4000000000000003E-3},{"$f":"MIN(OFFSET(Female!BK$18,'Female Rev'!$A61-35,0),0.03999)","v":-9.1000000000000004E-3},{"$f":"MIN(OFFSET(Female!BL$18,'Female Rev'!$A61-35,0),0.03999)","v":-1.38E-2},{"$f":"MIN(OFFSET(Female!BM$18,'Female Rev'!$A61-35,0),0.03999)","v":-1.7999999999999999E-2},{"$f":"MIN(OFFSET(Female!BN$18,'Female Rev'!$A61-35,0),0.03999)","v":-2.12E-2},{"$f":"MIN(OFFSET(Female!BO$18,'Female Rev'!$A61-35,0),0.03999)","v":-2.1999999999999999E-2},{"$f":"MIN(OFFSET(Female!BP$18,'Female Rev'!$A61-35,0),0.03999)","v":-2.1600000000000001E-2},{"$f":"MIN(OFFSET(Female!BQ$18,'Female Rev'!$A61-35,0),0.03999)","v":-2.0199999999999999E-2},{"$f":"MIN(OFFSET(Female!BR$18,'Female Rev'!$A61-35,0),0.03999)","v":-1.7899999999999999E-2},{"$f":"MIN(OFFSET(Female!BS$18,'Female Rev'!$A61-35,0),0.03999)","v":-1.49E-2},{"$f":"MIN(OFFSET(Female!BT$18,'Female Rev'!$A61-35,0),0.03999)","v":-1.1599999999999999E-2},{"$f":"MIN(OFFSET(Female!BU$18,'Female Rev'!$A61-35,0),0.03999)","v":-8.0000000000000002E-3},{"$f":"MIN(OFFSET(Female!BV$18,'Female Rev'!$A61-35,0),0.03999)","v":-4.5999999999999999E-3},{"$f":"MIN(OFFSET(Female!BW$18,'Female Rev'!$A61-35,0),0.03999)","v":-1.6000000000000001E-3},{"$f":"MIN(OFFSET(Female!BX$18,'Female Rev'!$A61-35,0),0.03999)","v":6.9999999999999999E-4},{"$f":"MIN(OFFSET(Female!BY$18,'Female Rev'!$A61-35,0),0.03999)","v":2.5000000000000001E-3},{"$f":"MIN(OFFSET(Female!BZ$18,'Female Rev'!$A61-35,0),0.03999)","v":4.1000000000000003E-3},{"$f":"MIN(OFFSET(Female!CA$18,'Female Rev'!$A61-35,0),0.03999)","v":5.7000000000000002E-3},{"$f":"MIN(OFFSET(Female!CB$18,'Female Rev'!$A61-35,0),0.03999)","v":6.8999999999999999E-3},{"$f":"MIN(OFFSET(Female!CC$18,'Female Rev'!$A61-35,0),0.03999)","v":8.0000000000000002E-3},{"$f":"MIN(OFFSET(Female!CD$18,'Female Rev'!$A61-35,0),0.03999)","v":8.8000000000000005E-3},{"$f":"MIN(OFFSET(Female!CE$18,'Female Rev'!$A61-35,0),0.03999)","v":9.4000000000000004E-3},{"$f":"MIN(OFFSET(Female!CF$18,'Female Rev'!$A61-35,0),0.03999)","v":9.7000000000000003E-3},{"$f":"MIN(OFFSET(Female!CG$18,'Female Rev'!$A61-35,0),0.03999)","v":9.9000000000000008E-3},{"$f":"MIN(OFFSET(Female!CH$18,'Female Rev'!$A61-35,0),0.03999)","v":0.01}]
[36,36,{"$f":"MIN(OFFSET(Female!B$18,'Female Rev'!$A62-35,0),0.03999)","v":3.1600000000000003E-2},{"$f":"MIN(OFFSET(Female!C$18,'Female Rev'!$A62-35,0),0.03999)","v":3.1199999999999999E-2},{"$f":"MIN(OFFSET(Female!D$18,'Female Rev'!$A62-35,0),0.03999)","v":3.0200000000000001E-2},{"$f":"MIN(OFFSET(Female!E$18,'Female Rev'!$A62-35,0),0.03999)","v":2.8000000000000001E-2},{"$f":"MIN(OFFSET(Female!F$18,'Female Rev'!$A62-35,0),0.03999)","v":2.4799999999999999E-2},{"$f":"MIN(OFFSET(Female!G$18,'Female Rev'!$A62-35,0),0.03999)","v":2.1000000000000001E-2},{"$f":"MIN(OFFSET(Female!H$18,'Female Rev'!$A62-35,0),0.03999)","v":1.6899999999999998E-2},{"$f":"MIN(OFFSET(Female!I$18,'Female Rev'!$A62-35,0),0.03999)","v":1.32E-2},{"$f":"MIN(OFFSET(Female!J$18,'Female Rev'!$A62-35,0),0.03999)","v":9.4999999999999998E-3},{"$f":"MIN(OFFSET(Female!K$18,'Female Rev'!$A62-35,0),0.03999)","v":6.0000000000000001E-3},{"$f":"MIN(OFFSET(Female!L$18,'Female Rev'!$A62-35,0),0.03999)","v":3.2000000000000002E-3},{"$f":"MIN(OFFSET(Female!M$18,'Female Rev'!$A62-35,0),0.03999)","v":1.1000000000000001E-3},{"$f":"MIN(OFFSET(Female!N$18,'Female Rev'!$A62-35,0),0.03999)","v":1E-4},{"$f":"MIN(OFFSET(Female!O$18,'Female Rev'!$A62-35,0),0.03999)","v":2.0000000000000001E-4},{"$f":"MIN(OFFSET(Female!P$18,'Female Rev'!$A62-35,0),0.03999)","v":1.2999999999999999E-3},{"$f":"MIN(OFFSET(Female!Q$18,'Female Rev'!$A62-35,0),0.03999)","v":3.2000000000000002E-3},{"$f":"MIN(OFFSET(Female!R$18,'Female Rev'!$A62-35,0),0.03999)","v":5.7999999999999996E-3},{"$f":"MIN(OFFSET(Female!S$18,'Female Rev'!$A62-35,0),0.03999)","v":9.2999999999999992E-3},{"$f":"MIN(OFFSET(Female!T$18,'Female Rev'!$A62-35,0),0.03999)","v":1.3599999999999999E-2},{"$f":"MIN(OFFSET(Female!U$18,'Female Rev'!$A62-35,0),0.03999)","v":1.83E-2},{"$f":"MIN(OFFSET(Female!V$18,'Female Rev'!$A62-35,0),0.03999)","v":2.3300000000000001E-2},{"$f":"MIN(OFFSET(Female!W$18,'Female Rev'!$A62-35,0),0.03999)","v":2.8000000000000001E-2},{"$f":"MIN(OFFSET(Female!X$18,'Female Rev'!$A62-35,0),0.03999)","v":3.2199999999999999E-2},{"$f":"MIN(OFFSET(Female!Y$18,'Female Rev'!$A62-35,0),0.03999)","v":3.5499999999999997E-2},{"$f":"MIN(OFFSET(Female!Z$18,'Female Rev'!$A62-35,0),0.03999)","v":3.7499999999999999E-2},{"$f":"MIN(OFFSET(Female!AA$18,'Female Rev'!$A62-35,0),0.03999)","v":3.7999999999999999E-2},{"$f":"MIN(OFFSET(Female!AB$18,'Female Rev'!$A62-35,0),0.03999)","v":3.7199999999999997E-2},{"$f":"MIN(OFFSET(Female!AC$18,'Female Rev'!$A62-35,0),0.03999)","v":3.5400000000000001E-2},{"$f":"MIN(OFFSET(Female!AD$18,'Female Rev'!$A62-35,0),0.03999)","v":3.2599999999999997E-2},{"$f":"MIN(OFFSET(Female!AE$18,'Female Rev'!$A62-35,0),0.03999)","v":2.92E-2},{"$f":"MIN(OFFSET(Female!AF$18,'Female Rev'!$A62-35,0),0.03999)","v":2.53E-2},{"$f":"MIN(OFFSET(Female!AG$18,'Female Rev'!$A62-35,0),0.03999)","v":2.0799999999999999E-2},{"$f":"MIN(OFFSET(Female!AH$18,'Female Rev'!$A62-35,0),0.03999)","v":1.5599999999999999E-2},{"$f":"MIN(OFFSET(Female!AI$18,'Female Rev'!$A62-35,0),0.03999)","v":1.03E-2},{"$f":"MIN(OFFSET(Female!AJ$18,'Female Rev'!$A62-35,0),0.03999)","v":5.4000000000000003E-3},{"$f":"MIN(OFFSET(Female!AK$18,'Female Rev'!$A62-35,0),0.03999)","v":1.2999999999999999E-3},{"$f":"MIN(OFFSET(Female!AL$18,'Female Rev'!$A62-35,0),0.03999)","v":-1.9E-3},{"$f":"MIN(OFFSET(Female!AM$18,'Female Rev'!$A62-35,0),0.03999)","v":-3.7000000000000002E-3},{"$f":"MIN(OFFSET(Female!AN$18,'Female Rev'!$A62-35,0),0.03999)","v":-4.7000000000000002E-3},{"$f":"MIN(OFFSET(Female!AO$18,'Female Rev'!$A62-35,0),0.03999)","v":-5.3E-3},{"$f":"MIN(OFFSET(Female!AP$18,'Female Rev'!$A62-35,0),0.03999)","v":-5.3E-3},{"$f":"MIN(OFFSET(Female!AQ$18,'Female Rev'!$A62-35,0),0.03999)","v":-4.5999999999999999E-3},{"$f":"MIN(OFFSET(Female!AR$18,'Female Rev'!$A62-35,0),0.03999)","v":-3.0999999999999999E-3},{"$f":"MIN(OFFSET(Female!AS$18,'Female Rev'!$A62-35,0),0.03999)","v":-5.0000000000000001E-4},{"$f":"MIN(OFFSET(Female!AT$18,'Female Rev'!$A62-35,0),0.03999)","v":2.8E-3},{"$f":"MIN(OFFSET(Female!AU$18,'Female Rev'!$A62-35,0),0.03999)","v":5.8999999999999999E-3},{"$f":"MIN(OFFSET(Female!AV$18,'Female Rev'!$A62-35,0),0.03999)","v":7.9000000000000008E-3},{"$f":"MIN(OFFSET(Female!AW$18,'Female Rev'!$A62-35,0),0.03999)","v":8.5000000000000006E-3},{"$f":"MIN(OFFSET(Female!AX$18,'Female Rev'!$A62-35,0),0.03999)","v":8.3999999999999995E-3},{"$f":"MIN(OFFSET(Female!AY$18,'Female Rev'!$A62-35,0),0.03999)","v":8.0000000000000002E-3},{"$f":"MIN(OFFSET(Female!AZ$18,'Female Rev'!$A62-35,0),0.03999)","v":7.7999999999999996E-3},{"$f":"MIN(OFFSET(Female!BA$18,'Female Rev'!$A62-35,0),0.03999)","v":8.2000000000000007E-3},{"$f":"MIN(OFFSET(Female!BB$18,'Female Rev'!$A62-35,0),0.03999)","v":8.6999999999999994E-3},{"$f":"MIN(OFFSET(Female!BC$18,'Female Rev'!$A62-35,0),0.03999)","v":9.1000000000000004E-3},{"$f":"MIN(OFFSET(Female!BD$18,'Female Rev'!$A62-35,0),0.03999)","v":8.8000000000000005E-3},{"$f":"MIN(OFFSET(Female!BE$18,'Female Rev'!$A62-35,0),0.03999)","v":8.0999999999999996E-3},{"$f":"MIN(OFFSET(Female!BF$18,'Female Rev'!$A62-35,0),0.03999)","v":6.8999999999999999E-3},{"$f":"MIN(OFFSET(Female!BG$18,'Female Rev'!$A62-35,0),0.03999)","v":4.7000000000000002E-3},{"$f":"MIN(OFFSET(Female!BH$18,'Female Rev'!$A62-35,0),0.03999)","v":1.6000000000000001E-3},{"$f":"MIN(OFFSET(Female!BI$18,'Female Rev'!$A62-35,0),0.03999)","v":-2.2000000000000001E-3},{"$f":"MIN(OFFSET(Female!BJ$18,'Female Rev'!$A62-35,0),0.03999)","v":-6.4999999999999997E-3},{"$f":"MIN(OFFSET(Female!BK$18,'Female Rev'!$A62-35,0),0.03999)","v":-1.12E-2},{"$f":"MIN(OFFSET(Female!BL$18,'Female Rev'!$A62-35,0),0.03999)","v":-1.6E-2},{"$f":"MIN(OFFSET(Female!BM$18,'Female Rev'!$A62-35,0),0.03999)","v":-2.0400000000000001E-2},{"$f":"MIN(OFFSET(Female!BN$18,'Female Rev'!$A62-35,0),0.03999)","v":-2.3900000000000001E-2},{"$f":"MIN(OFFSET(Female!BO$18,'Female Rev'!$A62-35,0),0.03999)","v":-2.4500000000000001E-2},{"$f":"MIN(OFFSET(Female!BP$18,'Female Rev'!$A62-35,0),0.03999)","v":-2.3699999999999999E-2},{"$f":"MIN(OFFSET(Female!BQ$18,'Female Rev'!$A62-35,0),0.03999)","v":-2.1899999999999999E-2},{"$f":"MIN(OFFSET(Female!BR$18,'Female Rev'!$A62-35,0),0.03999)","v":-1.9199999999999998E-2},{"$f":"MIN(OFFSET(Female!BS$18,'Female Rev'!$A62-35,0),0.03999)","v":-1.5800000000000002E-2},{"$f":"MIN(OFFSET(Female!BT$18,'Female Rev'!$A62-35,0),0.03999)","v":-1.2E-2},{"$f":"MIN(OFFSET(Female!BU$18,'Female Rev'!$A62-35,0),0.03999)","v":-8.0999999999999996E-3},{"$f":"MIN(OFFSET(Female!BV$18,'Female Rev'!$A62-35,0),0.03999)","v":-4.4000000000000003E-3},{"$f":"MIN(OFFSET(Female!BW$18,'Female Rev'!$A62-35,0),0.03999)","v":-1.1999999999999999E-3},{"$f":"MIN(OFFSET(Female!BX$18,'Female Rev'!$A62-35,0),0.03999)","v":1.1000000000000001E-3},{"$f":"MIN(OFFSET(Female!BY$18,'Female Rev'!$A62-35,0),0.03999)","v":2.8999999999999998E-3},{"$f":"MIN(OFFSET(Female!BZ$18,'Female Rev'!$A62-35,0),0.03999)","v":4.5999999999999999E-3},{"$f":"MIN(OFFSET(Female!CA$18,'Female Rev'!$A62-35,0),0.03999)","v":6.0000000000000001E-3},{"$f":"MIN(OFFSET(Female!CB$18,'Female Rev'!$A62-35,0),0.03999)","v":7.1999999999999998E-3},{"$f":"MIN(OFFSET(Female!CC$18,'Female Rev'!$A62-35,0),0.03999)","v":8.2000000000000007E-3},{"$f":"MIN(OFFSET(Female!CD$18,'Female Rev'!$A62-35,0),0.03999)","v":8.9999999999999993E-3},{"$f":"MIN(OFFSET(Female!CE$18,'Female Rev'!$A62-35,0),0.03999)","v":9.4000000000000004E-3},{"$f":"MIN(OFFSET(Female!CF$18,'Female Rev'!$A62-35,0),0.03999)","v":9.7000000000000003E-3},{"$f":"MIN(OFFSET(Female!CG$18,'Female Rev'!$A62-35,0),0.03999)","v":9.9000000000000008E-3},{"$f":"MIN(OFFSET(Female!CH$18,'Female Rev'!$A62-35,0),0.03999)","v":0.01}]
[35,35,{"$f":"MIN(OFFSET(Female!B$18,'Female Rev'!$A63-35,0),0.03999)","v":3.2500000000000001E-2},{"$f":"MIN(OFFSET(Female!C$18,'Female Rev'!$A63-35,0),0.03999)","v":3.2099999999999997E-2},{"$f":"MIN(OFFSET(Female!D$18,'Female Rev'!$A63-35,0),0.03999)","v":3.09E-2},{"$f":"MIN(OFFSET(Female!E$18,'Female Rev'!$A63-35,0),0.03999)","v":2.86E-2},{"$f":"MIN(OFFSET(Female!F$18,'Female Rev'!$A63-35,0),0.03999)","v":2.52E-2},{"$f":"MIN(OFFSET(Female!G$18,'Female Rev'!$A63-35,0),0.03999)","v":2.12E-2},{"$f":"MIN(OFFSET(Female!H$18,'Female Rev'!$A63-35,0),0.03999)","v":1.7100000000000001E-2},{"$f":"MIN(OFFSET(Female!I$18,'Female Rev'!$A63-35,0),0.03999)","v":1.3299999999999999E-2},{"$f":"MIN(OFFSET(Female!J$18,'Female Rev'!$A63-35,0),0.03999)","v":9.5999999999999992E-3},{"$f":"MIN(OFFSET(Female!K$18,'Female Rev'!$A63-35,0),0.03999)","v":6.1999999999999998E-3},{"$f":"MIN(OFFSET(Female!L$18,'Female Rev'!$A63-35,0),0.03999)","v":3.3999999999999998E-3},{"$f":"MIN(OFFSET(Female!M$18,'Female Rev'!$A63-35,0),0.03999)","v":1.2999999999999999E-3},{"$f":"MIN(OFFSET(Female!N$18,'Female Rev'!$A63-35,0),0.03999)","v":2.9999999999999997E-4},{"$f":"MIN(OFFSET(Female!O$18,'Female Rev'!$A63-35,0),0.03999)","v":4.0000000000000002E-4},{"$f":"MIN(OFFSET(Female!P$18,'Female Rev'!$A63-35,0),0.03999)","v":1.5E-3},{"$f":"MIN(OFFSET(Female!Q$18,'Female Rev'!$A63-35,0),0.03999)","v":3.5000000000000001E-3},{"$f":"MIN(OFFSET(Female!R$18,'Female Rev'!$A63-35,0),0.03999)","v":6.1999999999999998E-3},{"$f":"MIN(OFFSET(Female!S$18,'Female Rev'!$A63-35,0),0.03999)","v":9.7000000000000003E-3},{"$f":"MIN(OFFSET(Female!T$18,'Female Rev'!$A63-35,0),0.03999)","v":1.3899999999999999E-2},{"$f":"MIN(OFFSET(Female!U$18,'Female Rev'!$A63-35,0),0.03999)","v":1.8599999999999998E-2},{"$f":"MIN(OFFSET(Female!V$18,'Female Rev'!$A63-35,0),0.03999)","v":2.35E-2},{"$f":"MIN(OFFSET(Female!W$18,'Female Rev'!$A63-35,0),0.03999)","v":2.81E-2},{"$f":"MIN(OFFSET(Female!X$18,'Female Rev'!$A63-35,0),0.03999)","v":3.2300000000000002E-2},{"$f":"MIN(OFFSET(Female!Y$18,'Female Rev'!$A63-35,0),0.03999)","v":3.56E-2},{"$f":"MIN(OFFSET(Female!Z$18,'Female Rev'!$A63-35,0),0.03999)","v":3.7499999999999999E-2},{"$f":"MIN(OFFSET(Female!AA$18,'Female Rev'!$A63-35,0),0.03999)","v":3.7900000000000003E-2},{"$f":"MIN(OFFSET(Female!AB$18,'Female Rev'!$A63-35,0),0.03999)","v":3.6999999999999998E-2},{"$f":"MIN(OFFSET(Female!AC$18,'Female Rev'!$A63-35,0),0.03999)","v":3.5000000000000003E-2},{"$f":"MIN(OFFSET(Female!AD$18,'Female Rev'!$A63-35,0),0.03999)","v":3.2000000000000001E-2},{"$f":"MIN(OFFSET(Female!AE$18,'Female Rev'!$A63-35,0),0.03999)","v":2.8500000000000001E-2},{"$f":"MIN(OFFSET(Female!AF$18,'Female Rev'!$A63-35,0),0.03999)","v":2.4400000000000002E-2},{"$f":"MIN(OFFSET(Female!AG$18,'Female Rev'!$A63-35,0),0.03999)","v":1.9699999999999999E-2},{"$f":"MIN(OFFSET(Female!AH$18,'Female Rev'!$A63-35,0),0.03999)","v":1.43E-2},{"$f":"MIN(OFFSET(Female!AI$18,'Female Rev'!$A63-35,0),0.03999)","v":8.8000000000000005E-3},{"$f":"MIN(OFFSET(Female!AJ$18,'Female Rev'!$A63-35,0),0.03999)","v":3.8999999999999998E-3},{"$f":"MIN(OFFSET(Female!AK$18,'Female Rev'!$A63-35,0),0.03999)","v":-2.0000000000000001E-4},{"$f":"MIN(OFFSET(Female!AL$18,'Female Rev'!$A63-35,0),0.03999)","v":-3.2000000000000002E-3},{"$f":"MIN(OFFSET(Female!AM$18,'Female Rev'!$A63-35,0),0.03999)","v":-4.7999999999999996E-3},{"$f":"MIN(OFFSET(Female!AN$18,'Female Rev'!$A63-35,0),0.03999)","v":-5.4999999999999997E-3},{"$f":"MIN(OFFSET(Female!AO$18,'Female Rev'!$A63-35,0),0.03999)","v":-5.5999999999999999E-3},{"$f":"MIN(OFFSET(Female!AP$18,'Female Rev'!$A63-35,0),0.03999)","v":-5.1000000000000004E-3},{"$f":"MIN(OFFSET(Female!AQ$18,'Female Rev'!$A63-35,0),0.03999)","v":-4.0000000000000001E-3},{"$f":"MIN(OFFSET(Female!AR$18,'Female Rev'!$A63-35,0),0.03999)","v":-2.0999999999999999E-3},{"$f":"MIN(OFFSET(Female!AS$18,'Female Rev'!$A63-35,0),0.03999)","v":8.0000000000000004E-4},{"$f":"MIN(OFFSET(Female!AT$18,'Female Rev'!$A63-35,0),0.03999)","v":4.3E-3},{"$f":"MIN(OFFSET(Female!AU$18,'Female Rev'!$A63-35,0),0.03999)","v":7.7000000000000002E-3},{"$f":"MIN(OFFSET(Female!AV$18,'Female Rev'!$A63-35,0),0.03999)","v":9.7999999999999997E-3},{"$f":"MIN(OFFSET(Female!AW$18,'Female Rev'!$A63-35,0),0.03999)","v":1.03E-2},{"$f":"MIN(OFFSET(Female!AX$18,'Female Rev'!$A63-35,0),0.03999)","v":1.01E-2},{"$f":"MIN(OFFSET(Female!AY$18,'Female Rev'!$A63-35,0),0.03999)","v":9.4000000000000004E-3},{"$f":"MIN(OFFSET(Female!AZ$18,'Female Rev'!$A63-35,0),0.03999)","v":8.6999999999999994E-3},{"$f":"MIN(OFFSET(Female!BA$18,'Female Rev'!$A63-35,0),0.03999)","v":8.6E-3},{"$f":"MIN(OFFSET(Female!BB$18,'Female Rev'!$A63-35,0),0.03999)","v":8.6E-3},{"$f":"MIN(OFFSET(Female!BC$18,'Female Rev'!$A63-35,0),0.03999)","v":8.3999999999999995E-3},{"$f":"MIN(OFFSET(Female!BD$18,'Female Rev'!$A63-35,0),0.03999)","v":7.7000000000000002E-3},{"$f":"MIN(OFFSET(Female!BE$18,'Female Rev'!$A63-35,0),0.03999)","v":6.7999999999999996E-3},{"$f":"MIN(OFFSET(Female!BF$18,'Female Rev'!$A63-35,0),0.03999)","v":5.3E-3},{"$f":"MIN(OFFSET(Female!BG$18,'Female Rev'!$A63-35,0),0.03999)","v":3.0000000000000001E-3},{"$f":"MIN(OFFSET(Female!BH$18,'Female Rev'!$A63-35,0),0.03999)","v":-2.9999999999999997E-4},{"$f":"MIN(OFFSET(Female!BI$18,'Female Rev'!$A63-35,0),0.03999)","v":-4.1000000000000003E-3},{"$f":"MIN(OFFSET(Female!BJ$18,'Female Rev'!$A63-35,0),0.03999)","v":-8.3000000000000001E-3},{"$f":"MIN(OFFSET(Female!BK$18,'Female Rev'!$A63-35,0),0.03999)","v":-1.2999999999999999E-2},{"$f":"MIN(OFFSET(Female!BL$18,'Female Rev'!$A63-35,0),0.03999)","v":-1.7899999999999999E-2},{"$f":"MIN(OFFSET(Female!BM$18,'Female Rev'!$A63-35,0),0.03999)","v":-2.2499999999999999E-2},{"$f":"MIN(OFFSET(Female!BN$18,'Female Rev'!$A63-35,0),0.03999)","v":-2.6200000000000001E-2},{"$f":"MIN(OFFSET(Female!BO$18,'Female Rev'!$A63-35,0),0.03999)","v":-2.6599999999999999E-2},{"$f":"MIN(OFFSET(Female!BP$18,'Female Rev'!$A63-35,0),0.03999)","v":-2.5499999999999998E-2},{"$f":"MIN(OFFSET(Female!BQ$18,'Female Rev'!$A63-35,0),0.03999)","v":-2.3300000000000001E-2},{"$f":"MIN(OFFSET(Female!BR$18,'Female Rev'!$A63-35,0),0.03999)","v":-2.01E-2},{"$f":"MIN(OFFSET(Female!BS$18,'Female Rev'!$A63-35,0),0.03999)","v":-1.6299999999999999E-2},{"$f":"MIN(OFFSET(Female!BT$18,'Female Rev'!$A63-35,0),0.03999)","v":-1.21E-2},{"$f":"MIN(OFFSET(Female!BU$18,'Female Rev'!$A63-35,0),0.03999)","v":-7.9000000000000008E-3},{"$f":"MIN(OFFSET(Female!BV$18,'Female Rev'!$A63-35,0),0.03999)","v":-4.0000000000000001E-3},{"$f":"MIN(OFFSET(Female!BW$18,'Female Rev'!$A63-35,0),0.03999)","v":-6.9999999999999999E-4},{"$f":"MIN(OFFSET(Female!BX$18,'Female Rev'!$A63-35,0),0.03999)","v":1.6999999999999999E-3},{"$f":"MIN(OFFSET(Female!BY$18,'Female Rev'!$A63-35,0),0.03999)","v":3.3999999999999998E-3},{"$f":"MIN(OFFSET(Female!BZ$18,'Female Rev'!$A63-35,0),0.03999)","v":5.0000000000000001E-3},{"$f":"MIN(OFFSET(Female!CA$18,'Female Rev'!$A63-35,0),0.03999)","v":6.4000000000000003E-3},{"$f":"MIN(OFFSET(Female!CB$18,'Female Rev'!$A63-35,0),0.03999)","v":7.4999999999999997E-3},{"$f":"MIN(OFFSET(Female!CC$18,'Female Rev'!$A63-35,0),0.03999)","v":8.5000000000000006E-3},{"$f":"MIN(OFFSET(Female!CD$18,'Female Rev'!$A63-35,0),0.03999)","v":8.9999999999999993E-3},{"$f":"MIN(OFFSET(Female!CE$18,'Female Rev'!$A63-35,0),0.03999)","v":9.4000000000000004E-3},{"$f":"MIN(OFFSET(Female!CF$18,'Female Rev'!$A63-35,0),0.03999)","v":9.7000000000000003E-3},{"$f":"MIN(OFFSET(Female!CG$18,'Female Rev'!$A63-35,0),0.03999)","v":9.9000000000000008E-3},{"$f":"MIN(OFFSET(Female!CH$18,'Female Rev'!$A63-35,0),0.03999)","v":0.01}]

{"sheet":"Heat Maps","index":5,"n_rows":0,"n_cols":0,"rows_kept":0,"cut":false,"hidden":false,"merged":[]}