{"text_format":"1","workbook":"xlsx","n_sheets":6,"sheets":["Input","Male","Female","Male - Rev","Female - Rev","Heat Maps"],"not_rendered":{"charts":2,"images":0,"macros":1,"external_links":0,"defined_names":14,"comments":1,"pivot_tables":0},"unopened":[],"bounds":{"document_bytes":16777216,"sheet_cells":100000,"rows_first":2000,"rows_last":500,"rows_between":2000,"halvings":0,"cell_chars":16384,"cell_head_chars":4096},"cells_cut":0,"cells_raw":0,"read":"whole","date_system":"1900"}

{"sheet":"Input","index":0,"n_rows":107,"n_cols":25,"rows_kept":107,"cut":false,"hidden":false,"merged":[]}
["The RPEC_2014_v2019 model to construct a mortality improvement scale",null,null,null,null,null,null,null,null,null,null,null,null,null,null,null,null,"Unrounded rates for MP-2019"]
["Written Oct, 2014 by Bob Howard & modified October, 2019",null,null,null,null,null,"bob@howardfamily.ca",null,null,null,null,null,null,null,null,null,null,"Male",null,"Female"]
[null,null,null,null,null,null,null,null,null,null,null,null,null,null,null,null,null,2014,2015,2014,2015]
["Name of improvement scale",null,null,"MP-2019",null,null,null,null,null,null,null,null,null,null,null,null,20,-5.969984891573521E-3,-2.2952904609974789E-2,-1.1372291775600951E-2,-2.5315783816470372E-2]
["Long term rates",null,null,null,null,null,null,"Convergence",null,null,null,null,null,"Rounding",null,null,21,-8.4849552016084129E-3,-2.4870091861372234E-2,-1.3725169392166059E-2,-2.7272196105855739E-2,null,"Manual Ultimate"]
[null,null,"Age","Rate",null,null,null,"The rates for intervening years are obtained by",null,null,null,null,null,4,"decimals",null,22,-1.145203128708383E-2,-2.7449545062429248E-2,-1.6179258389586781E-2,-2.9344943047539873E-2,null,null,"Male","Female"]
["Line segments",null,85,0.01,null,null,null,"combining cubics running from historical to long term",null,null,null,null,null,"Calculations are done without",null,null,23,-1.4789846880809643E-2,-3.0594636666614994E-2,-1.8716949463033705E-2,-3.1530717251767149E-2,null,20]
[null,null,95,8.5000000000000006E-3,null,null,null,"1. by attained age",null,null,null,null,null,"rounding until the final",null,null,24,-1.8391346391397612E-2,-3.415755707914081E-2,-2.1297697352650191E-2,-3.3808944979568878E-2,null,21]
[null,null,115,0,null,null,null,"2. by birth cohort",null,null,null,null,null,"numbers are displayed.",null,null,25,-2.2129446858832225E-2,-3.795261198898281E-2,-2.3861518447788832E-2,-3.6141506918195621E-2,null,22]
[null,null,null,null,null,null,null,null,"Birth cohort proportion",null,null,null,null,null,null,null,26,-2.5864045129467828E-2,-4.1778966360063841E-2,-2.6337689656104946E-2,-3.8476287670895282E-2,null,23]
[null,null,null,null,null,null,null,"Male",0.5,null,null,null,null,null,null,null,27,-2.9450994136364983E-2,-4.54449840788691E-2,-2.8649194266161082E-2,-4.0741758194059674E-2,null,24]
["The long term rates are developed as line segments.",null,null,null,null,null,null,"Female",0.5,null,null,null,null,null,null,null,28,-3.2753874131725258E-2,-4.8786798476003534E-2,-3.0716333034495724E-2,-4.2837837415356184E-2,null,25]
["The first line segment is flat from age 20 to the age specified.",null,null,null,null,null,null,null,null,null,null,null,null,null,null,null,29,-3.5653065760207214E-2,-5.1680767782794401E-2,-3.245946858588189E-2,-4.4636726883222178E-2,null,26]
["Tne next segment begins there and ends at the next age and rate",null,null,null,null,null,null,"Convergence to ultimate in year",null,null,null,null,null,null,null,null,30,-3.8046874184269441E-2,-5.4043493252711183E-2,-3.3799819405257114E-2,-4.5995922086821128E-2,null,27]
["specified, until all the age-rates are used. The ages must be ",null,null,null,null,null,null,"Age",2025,null,null,null,null,null,null,null,31,-3.9849593883290346E-2,-5.5817577503547211E-2,-3.4658977947459757E-2,-4.6774951273227838E-2,null,28]
["ascending order. ",null,null,null,null,null,null,"Cohort",2035,null,null,null,null,null,null,null,32,-4.0987023362898389E-2,-5.6951692885140348E-2,-3.4959383176196068E-2,-4.6856134576209962E-2,null,29]
["Alternatively, cell C7 can be set to \"Manual\". In that case the ",null,null,null,null,null,null,null,null,null,null,null,null,null,null,null,33,-4.1390262010886802E-2,-5.7383459793754588E-2,-3.4629783059863639E-2,-4.6162977109006409E-2,null,30]
["values shown in cells X7:Y107 are used for the ultimate.",null,null,null,null,null,null,"Constraint on initial slope",null,null,null,null,null,null,null,null,34,-4.099488835520626E-2,-5.7033321866461373E-2,-3.3613650195481792E-2,-4.4668792564686921E-2,null,31]
["Otherwise the values in cells X7:Y107 are ignored.",null,null,null,null,null,null,"Age",0,null,null,null,null,null,null,null,35,-3.9749185676326126E-2,-5.5814127694536975E-2,-3.1880463408122894E-2,-4.2391373743540406E-2,null,32]
[null,null,null,null,null,null,null,"Cohort",0,null,null,null,null,null,null,null,36,-3.762826401270325E-2,-5.3653934218578669E-2,-2.9437932688626267E-2,-3.9386030403717687E-2,null,33]
[null,null,null,null,null,null,null,null,null,null,null,null,null,null,null,null,37,-3.4650396628672864E-2,-5.0524384148185053E-2,-2.6340822812384701E-2,-3.5737781962739135E-2,null,34]
["About RPEC_2014_v2019",null,null,null,null,null,null,null,null,null,null,null,null,null,null,null,38,-3.088965822627765E-2,-4.6462699987600331E-2,-2.2692254583050353E-2,-3.1558132771860148E-2,null,35]
["This model includes historical data through 2017. Historical mortality improvement rates have been developed using Order 3 Whittaker-Henderson graduation.",null,null,null,null,null,null,null,null,null,null,null,null,null,null,null,39,-2.6478416343072242E-2,-4.1579964398707148E-2,-1.863817637022791E-2,-2.698234741457628E-2,null,36]
[null,null,null,null,null,null,null,null,null,null,null,null,null,null,null,null,40,-2.1599105592735368E-2,-3.6054690697608249E-2,-1.4355920140687317E-2,-2.2165030354135418E-2,null,37]
[null,null,null,null,null,null,null,null,null,null,null,null,null,null,null,null,41,-1.6470244535646161E-2,-3.0115905497768658E-2,-1.0039255943879777E-2,-1.7277104452407599E-2,null,38]
["How to…",null,null,null,null,null,null,null,null,null,null,null,null,null,null,null,42,-1.1332513194252991E-2,-2.4023436608747284E-2,-5.8881564278681076E-3,-1.2500831127981726E-2,null,39]
["You can enter values in any of the cells with a pale yellow background. These fields provide the parameters for the RPEC_2014_v2019 model, which along with the historical",null,null,null,null,null,null,null,null,null,null,null,null,null,null,null,43,-6.4341087909876027E-3,-1.8049692271125739E-2,-2.1013536821008483E-3,-8.0221071456991755E-3,null,40]
["improvement rates, will be used to construct improvement scales in the worksheets \"Male\" and \"Female\". The rates in the new scales are the same as Scale MP-2019",null,null,null,null,null,null,null,null,null,null,null,null,null,null,null,44,-2.0116537338057405E-3,-1.2458362379163646E-2,1.1333301732386891E-3,-4.0223930037439626E-3,null,41]
["through to year 2015 (with a light blue or pink background); projected rates are shown for year 2016 and later (with a yellow background). The name for your scale",null,null,null,null,null,null,null,null,null,null,null,null,null,null,null,45,1.7331839207830324E-3,-7.4805576395500228E-3,3.6538355160160574E-3,-6.6698325280212245E-4,null,42]
["cannot include the text \"MP-2019\". Click on the button \"Calculate\" to calculate the new scale.",null,null,null,null,null,null,null,null,null,null,null,null,null,null,null,46,4.6559376608622527E-3,-3.2924154468176869E-3,5.3399151017968771E-3,1.9079587745334248E-3,null,43]
["You can restore the parameters and rates for Scale MP-2019 by clicking on the button \"Calculate with input values for MP-2019\". ",null,null,null,null,null,null,null,null,null,null,null,null,null,null,null,47,6.685930626559311E-3,1.1722477800679698E-6,6.1266505310932917E-3,3.6076005246862275E-3,null,44]
[null,null,null,null,null,null,null,null,null,null,null,null,null,null,null,null,48,7.8313551570607931E-3,2.3721052587235558E-3,6.012315910838506E-3,4.3874091421781669E-3,null,45]
[null,null,null,null,null,null,null,null,null,null,null,null,null,null,null,null,49,8.1702138511987599E-3,3.8606648272409005E-3,5.0593759090915569E-3,4.2574895339616559E-3,null,46]
["Troubleshooting",null,null,null,null,null,null,null,null,null,null,null,null,null,null,null,50,7.8282065681030133E-3,4.5562671996262072E-3,3.3880534909176419E-3,3.2837793963446105E-3,null,47]
["Some when clicking on the buttons on this worksheet have received the error, “Can’t find project or library”. This is most likely caused by a missing",null,null,null,null,null,null,null,null,null,null,null,null,null,null,null,51,6.9501665397803114E-3,4.5735879162662751E-3,1.16662422181113E-3,1.5861943972993453E-3,null,48]
["reference. It can be fixed by the following steps:",null,null,null,null,null,null,null,null,null,null,null,null,null,null,null,52,5.673415159120121E-3,4.0304566037413503E-3,-1.3984201621195513E-3,-6.6557594846283763E-4,null,49]
[null,"Bring up the list of workbook macros (Alt + T + M + M)",null,null,null,null,null,null,null,null,null,null,null,null,null,null,53,4.1112249153147928E-3,3.03337967698325E-3,-4.0727731656546862E-3,-3.2592918259648496E-3,null,50]
[null,"Select “Edit”",null,null,null,null,null,null,null,null,null,null,null,null,null,null,54,2.3498586163310797E-3,1.6745009702276992E-3,-6.6096178928978233E-3,-5.9532484730906443E-3,null,51]
[null,"In the Visual Basic Window, select “Tools” -> “References”",null,null,null,null,null,null,null,null,null,null,null,null,null,null,55,4.5967385329226396E-4,3.9365279720038338E-5,-8.7715941014088195E-3,-8.4952995139737641E-3,null,52]
[null,"Look at the list of available references.  If any have the text “MISSING” in front of them, uncheck the box for that reference",null,null,null,null,null,null,null,null,null,null,null,null,null,null,56,-1.4849670481853483E-3,-1.7785891414097144E-3,-1.0354120252870747E-2,-1.0645428319714823E-2,null,53]
[null,null,null,null,null,null,null,null,null,null,null,null,null,null,null,null,57,-3.384015058927492E-3,-3.6625586701515278E-3,-1.1205814022529736E-2,-1.2196356120027563E-2,null,54]
["Disclaimer",null,null,null,null,null,null,null,null,null,null,null,null,null,null,null,58,-5.0996781831269544E-3,-5.4644130055834239E-3,-1.1241834127014183E-2,-1.2990105361384563E-2,null,55]
["This software is made available free of charge with the understanding that neither the author nor the Society of Actuaries accepts",null,null,null,null,null,null,null,null,null,null,null,null,null,null,null,59,-6.4635462258126886E-3,-7.0107827491010521E-3,-1.044997052296992E-2,-1.2931292577345488E-2,null,56]
["any liability for its use. It may be used for any personal, research or commercial use provided that the user does not represent it ",null,null,null,null,null,null,null,null,null,null,null,null,null,null,null,60,-7.3038167641594764E-3,-8.1252882705233898E-3,-8.8893087180430541E-3,-1.1997687114303046E-2,null,57]
["as his or her own work and does not distribute it to others for a fee.",null,null,null,null,null,null,null,null,null,null,null,null,null,null,null,61,-7.4848011895425337E-3,-8.6607776564973094E-3,-6.6836050957759241E-3,-1.024740180674244E-2,null,58]
[null,null,null,null,null,null,null,null,null,null,null,null,null,null,null,null,62,-6.9459926098893732E-3,-8.5318100602174152E-3,-4.0129802492001598E-3,-7.8218603840987111E-3,null,59]
[null,null,null,null,null,null,null,null,null,null,null,null,null,null,null,null,63,-5.7253516537392191E-3,-7.7359765478506315E-3,-1.1006191063724913E-3,-4.9379227499468659E-3,null,60]
[null,null,null,null,null,null,null,null,null,null,null,null,null,null,null,null,64,-3.9564659077908626E-3,-6.3561828005072041E-3,1.810249805492492E-3,-1.8633911490379962E-3,null,61]
[null,null,null,null,null,null,null,null,null,null,null,null,null,null,null,null,65,-1.8402918913469346E-3,-4.5430479159003223E-3,4.4881354850915267E-3,1.1225055871573186E-3,null,62]
[null,null,null,null,null,null,null,null,null,null,null,null,null,null,null,null,66,3.9757993996814012E-4,-2.4844773871188774E-3,6.7463695740456187E-3,3.7738140070161519E-3,null,63]
[null,null,null,null,null,null,null,null,null,null,null,null,null,null,null,null,67,2.550196076725908E-3,-3.7268815449076342E-4,8.4697061380433203E-3,5.9157931474903558E-3,null,64]
[null,null,null,null,null,null,null,null,null,null,null,null,null,null,null,null,68,4.461008820169643E-3,1.6230304134724483E-3,9.6261287255768879E-3,7.4647094073310161E-3,null,65]
[null,null,null,null,null,null,null,null,null,null,null,null,null,null,null,null,69,6.0371966967940338E-3,3.3737400148875496E-3,1.0254491953578415E-2,8.4243525292682087E-3,null,66]
[null,null,null,null,null,null,null,null,null,null,null,null,null,null,null,null,70,7.2455466904227661E-3,4.7983405476805796E-3,1.0443799365048578E-2,8.8628261025623933E-3,null,67]
[null,null,null,null,null,null,null,null,null,null,null,null,null,null,null,null,71,8.0991278503527164E-3,5.8620885674893763E-3,1.0304972775931009E-2,8.8843961639959446E-3,null,68]
[null,null,null,null,null,null,null,null,null,null,null,null,null,null,null,null,72,8.6406326226603491E-3,6.5702150474753473E-3,9.9438262922377785E-3,8.6010085151106974E-3,null,69]
[null,null,null,null,null,null,null,null,null,null,null,null,null,null,null,null,73,8.9261280294502532E-3,6.9592715343750333E-3,9.4425620131948218E-3,8.1115806293124981E-3,null,70]
[null,null,null,null,null,null,null,null,null,null,null,null,null,null,null,null,74,9.013981825746864E-3,7.0855455198638451E-3,8.8545363671054256E-3,7.4913408855484809E-3,null,71]
[null,null,null,null,null,null,null,null,null,null,null,null,null,null,null,null,75,8.9581588609485285E-3,7.0148267097911443E-3,8.2101349022476455E-3,6.7935207728264668E-3,null,72]
[null,null,null,null,null,null,null,null,null,null,null,null,null,null,null,null,76,8.8044426126808739E-3,6.8126411492039907E-3,7.5278123734789926E-3,6.056521530785175E-3,null,73]
[null,null,null,null,null,null,null,null,null,null,null,null,null,null,null,null,77,8.5885174442338341E-3,6.5359515652879674E-3,6.825208650934278E-3,5.3113389314541903E-3,null,74]
[null,null,null,null,null,null,null,null,null,null,null,null,null,null,null,null,78,8.3355293777465089E-3,6.2277307333525878E-3,6.125949517426621E-3,4.5864071135875983E-3,null,75]
[null,null,null,null,null,null,null,null,null,null,null,null,null,null,null,null,79,8.0612111188382851E-3,5.9154145121587121E-3,5.4603267710858772E-3,3.9092651686297719E-3,null,76]
[null,null,null,null,null,null,null,null,null,null,null,null,null,null,null,null,80,7.7742222469063815E-3,5.6130450893197015E-3,4.8609299479661638E-3,3.3051865616043896E-3,null,77]
[null,null,null,null,null,null,null,null,null,null,null,null,null,null,null,null,81,7.4790420239188027E-3,5.3255049682202626E-3,4.3560508936688613E-3,2.7939287612409602E-3,null,78]
[null,null,null,null,null,null,null,null,null,null,null,null,null,null,null,null,82,7.1786856527410459E-3,5.0530458600398509E-3,3.9633130661221871E-3,2.386773436759082E-3,null,79]
[null,null,null,null,null,null,null,null,null,null,null,null,null,null,null,null,83,6.8768440965554234E-3,4.7951535966997971E-3,3.6862682567834204E-3,2.0854210616401136E-3,null,80]
[null,null,null,null,null,null,null,null,null,null,null,null,null,null,null,null,84,6.5792182058580506E-3,4.5533129251457138E-3,3.5151768966966701E-3,1.8828794701012397E-3,null,81]
[null,null,null,null,null,null,null,null,null,null,null,null,null,null,null,null,85,6.2940420303367883E-3,4.332742865646888E-3,3.4313584717089451E-3,1.766242177499322E-3,null,82]
[null,null,null,null,null,null,null,null,null,null,null,null,null,null,null,null,86,6.0319123927673468E-3,4.1429976254494516E-3,3.4129343418105584E-3,1.7204589514421276E-3,null,83]
[null,null,null,null,null,null,null,null,null,null,null,null,null,null,null,null,87,5.8052155414238804E-3,3.9975757432658687E-3,3.4398997504839768E-3,1.7320691338991168E-3,null,84]
[null,null,null,null,null,null,null,null,null,null,null,null,null,null,null,null,88,5.6272733442561673E-3,3.9127978984609957E-3,3.4973827493260945E-3,1.7917219151518671E-3,null,85]
[null,null,null,null,null,null,null,null,null,null,null,null,null,null,null,null,89,5.511276307192281E-3,3.9062098608284579E-3,3.5766383784096023E-3,1.8950829560094862E-3,null,86]
[null,null,null,null,null,null,null,null,null,null,null,null,null,null,null,null,90,5.4693355658120835E-3,3.994930567788546E-3,3.6743254859000762E-3,2.0424059220109925E-3,null,87]
[null,null,null,null,null,null,null,null,null,null,null,null,null,null,null,null,91,5.5117647642154433E-3,4.1943166100995022E-3,3.7908551194955065E-3,2.2371638936492522E-3,null,88]
[null,null,null,null,null,null,null,null,null,null,null,null,null,null,null,null,92,5.6466455062661458E-3,4.5169775753752806E-3,3.9285068008603208E-3,2.4842662995163689E-3,null,89]
[null,null,null,null,null,null,null,null,null,null,null,null,null,null,null,null,93,5.8797386813767005E-3,4.9722828492616555E-3,4.0899809994043856E-3,2.7885751952160254E-3,null,90]
[null,null,null,null,null,null,null,null,null,null,null,null,null,null,null,null,94,6.2146683850774487E-3,5.5663671705156181E-3,4.2774648463613785E-3,3.1539449768334116E-3,null,91]
[null,null,null,null,null,null,null,null,null,null,null,null,null,null,null,null,95,6.6533252626440609E-3,6.3025349908030215E-3,4.4922245377418957E-3,3.5827388944686955E-3,null,92]
[null,null,null,null,null,null,null,null,null,null,null,null,null,null,null,null,null,null,null,null,null,null,93]
[null,null,null,null,null,null,null,null,null,null,null,null,null,null,null,null,null,null,null,null,null,null,94]
[null,null,null,null,null,null,null,null,null,null,null,null,null,null,null,null,null,null,null,null,null,null,95]
[null,null,null,null,null,null,null,null,null,null,null,null,null,null,null,null,null,null,null,null,null,null,96]
[null,null,null,null,null,null,null,null,null,null,null,null,null,null,null,null,null,null,null,null,null,null,97]
[null,null,null,null,null,null,null,null,null,null,null,null,null,null,null,null,null,null,null,null,null,null,98]
[null,null,null,null,null,null,null,null,null,null,null,null,null,null,null,null,null,null,null,null,null,null,99]
[null,null,null,null,null,null,null,null,null,null,null,null,null,null,null,null,null,null,null,null,null,null,100]
[null,null,null,null,null,null,null,null,null,null,null,null,null,null,null,null,null,null,null,null,null,null,101]
[null,null,null,null,null,null,null,null,null,null,null,null,null,null,null,null,null,null,null,null,null,null,102]
[null,null,null,null,null,null,null,null,null,null,null,null,null,null,null,null,null,null,null,null,null,null,103]
[null,null,null,null,null,null,null,null,null,null,null,null,null,null,null,null,null,null,null,null,null,null,104]
[null,null,null,null,null,null,null,null,null,null,null,null,null,null,null,null,null,null,null,null,null,null,105]
[null,null,null,null,null,null,null,null,null,null,null,null,null,null,null,null,null,null,null,null,null,null,106]
[null,null,null,null,null,null,null,null,null,null,null,null,null,null,null,null,null,null,null,null,null,null,107]
[null,null,null,null,null,null,null,null,null,null,null,null,null,null,null,null,null,null,null,null,null,null,108]
[null,null,null,null,null,null,null,null,null,null,null,null,null,null,null,null,null,null,null,null,null,null,109]
[null,null,null,null,null,null,null,null,null,null,null,null,null,null,null,null,null,null,null,null,null,null,110]
[null,null,null,null,null,null,null,null,null,null,null,null,null,null,null,null,null,null,null,null,null,null,111]
[null,null,null,null,null,null,null,null,null,null,null,null,null,null,null,null,null,null,null,null,null,null,112]
[null,null,null,null,null,null,null,null,null,null,null,null,null,null,null,null,null,null,null,null,null,null,113]
[null,null,null,null,null,null,null,null,null,null,null,null,null,null,null,null,null,null,null,null,null,null,114]
[null,null,null,null,null,null,null,null,null,null,null,null,null,null,null,null,null,null,null,null,null,null,115]
[null,null,null,null,null,null,null,null,null,null,null,null,null,null,null,null,null,null,null,null,null,null,116]
[null,null,null,null,null,null,null,null,null,null,null,null,null,null,null,null,null,null,null,null,null,null,117]
[null,null,null,null,null,null,null,null,null,null,null,null,null,null,null,null,null,null,null,null,null,null,118]
[null,null,null,null,null,null,null,null,null,null,null,null,null,null,null,null,null,null,null,null,null,null,119]
[null,null,null,null,null,null,null,null,null,null,null,null,null,null,null,null,null,null,null,null,null,null,120]

{"sheet":"Male","index":1,"n_rows":103,"n_cols":86,"rows_kept":103,"cut":false,"hidden":false,"merged":[]}
["MP-2019 - Male"]
[null,1951,1952,1953,1954,1955,1956,1957,1958,1959,1960,1961,1962,1963,1964,1965,1966,1967,1968,1969,1970,1971,1972,1973,1974,1975,1976,1977,1978,1979,1980,1981,1982,1983,1984,1985,1986,1987,1988,1989,1990,1991,1992,1993,1994,1995,1996,1997,1998,1999,2000,2001,2002,2003,2004,2005,2006,2007,2008,2009,2010,2011,2012,2013,2014,2015,2016,2017,2018,2019,2020,2021,2022,2023,2024,2025,2026,2027,2028,2029,2030,2031,2032,2033,2034,"2035+"]
["≤ 20",-1.4999999999999999E-2,-6.4999999999999997E-3,1.6999999999999999E-3,8.9999999999999993E-3,1.49E-2,1.9199999999999998E-2,2.1499999999999998E-2,2.1299999999999999E-2,1.83E-2,1.2500000000000001E-2,4.1999999999999997E-3,-5.7000000000000002E-3,-1.6199999999999999E-2,-2.58E-2,-3.32E-2,-3.7199999999999997E-2,-3.7199999999999997E-2,-3.2899999999999999E-2,-2.5000000000000001E-2,-1.5100000000000001E-2,-5.0000000000000001E-3,3.8999999999999998E-3,1.0999999999999999E-2,1.5699999999999999E-2,1.8200000000000001E-2,1.9199999999999998E-2,0.02,2.1999999999999999E-2,2.5700000000000001E-2,3.0200000000000001E-2,3.3500000000000002E-2,3.3599999999999998E-2,2.9499999999999998E-2,2.1899999999999999E-2,1.2999999999999999E-2,4.7999999999999996E-3,-1.1999999999999999E-3,-4.4000000000000003E-3,-4.7999999999999996E-3,-2.7000000000000001E-3,1.6999999999999999E-3,7.7999999999999996E-3,1.46E-2,2.1399999999999999E-2,2.69E-2,2.98E-2,2.92E-2,2.4899999999999999E-2,1.78E-2,9.5999999999999992E-3,2.3E-3,-2.3999999999999998E-3,-3.3999999999999998E-3,-4.0000000000000002E-4,6.1999999999999998E-3,1.5599999999999999E-2,2.5700000000000001E-2,3.4200000000000001E-2,3.8800000000000001E-2,3.8300000000000001E-2,3.3000000000000002E-2,2.3199999999999998E-2,9.9000000000000008E-3,-6.0000000000000001E-3,-2.3E-2,-2.24E-2,-2.0799999999999999E-2,-1.84E-2,-1.54E-2,-1.21E-2,-8.6999999999999994E-3,-5.4000000000000003E-3,-2.3999999999999998E-3,1E-4,1.8E-3,3.0000000000000001E-3,4.1999999999999997E-3,5.4000000000000003E-3,6.4000000000000003E-3,7.4000000000000003E-3,8.3000000000000001E-3,8.9999999999999993E-3,9.4999999999999998E-3,9.9000000000000008E-3,0.01]
[21,-1.43E-2,-6.0000000000000001E-3,2.0999999999999999E-3,9.2999999999999992E-3,1.5100000000000001E-2,1.9300000000000001E-2,2.1399999999999999E-2,2.1000000000000001E-2,1.7899999999999999E-2,1.2E-2,3.7000000000000002E-3,-6.0000000000000001E-3,-1.6E-2,-2.53E-2,-3.2399999999999998E-2,-3.6299999999999999E-2,-3.6200000000000003E-2,-3.2000000000000001E-2,-2.4299999999999999E-2,-1.47E-2,-4.8999999999999998E-3,3.7000000000000002E-3,1.03E-2,1.47E-2,1.6799999999999999E-2,1.77E-2,1.84E-2,2.0400000000000001E-2,2.41E-2,2.87E-2,3.2300000000000002E-2,3.27E-2,2.9000000000000001E-2,2.1899999999999999E-2,1.34E-2,5.4999999999999997E-3,0,-2.8E-3,-2.8999999999999998E-3,-5.9999999999999995E-4,3.8E-3,9.5999999999999992E-3,1.6E-2,2.2200000000000001E-2,2.7E-2,2.9100000000000001E-2,2.76E-2,2.2599999999999999E-2,1.4800000000000001E-2,6.0000000000000001E-3,-1.6999999999999999E-3,-6.6E-3,-7.7999999999999996E-3,-5.0000000000000001E-3,1.5E-3,1.0800000000000001E-2,2.1000000000000001E-2,2.9600000000000001E-2,3.4500000000000003E-2,3.4299999999999997E-2,2.92E-2,1.9800000000000002E-2,6.8999999999999999E-3,-8.5000000000000006E-3,-2.4899999999999999E-2,-2.3300000000000001E-2,-2.1600000000000001E-2,-1.9099999999999999E-2,-1.61E-2,-1.26E-2,-9.1000000000000004E-3,-5.5999999999999999E-3,-2.5000000000000001E-3,0,1.8E-3,3.0000000000000001E-3,4.1999999999999997E-3,5.4000000000000003E-3,6.4000000000000003E-3,7.4000000000000003E-3,8.3000000000000001E-3,8.9999999999999993E-3,9.4999999999999998E-3,9.9000000000000008E-3,0.01]
[22,-1.1900000000000001E-2,-4.0000000000000001E-3,3.5999999999999999E-3,1.03E-2,1.5699999999999999E-2,1.95E-2,2.12E-2,2.0400000000000001E-2,1.7000000000000001E-2,1.0999999999999999E-2,3.0000000000000001E-3,-6.4000000000000003E-3,-1.5900000000000001E-2,-2.46E-2,-3.1300000000000001E-2,-3.49E-2,-3.4700000000000002E-2,-3.0599999999999999E-2,-2.3099999999999999E-2,-1.38E-2,-4.4999999999999997E-3,3.7000000000000002E-3,9.7999999999999997E-3,1.38E-2,1.5599999999999999E-2,1.6199999999999999E-2,1.6799999999999999E-2,1.8599999999999998E-2,2.23E-2,2.6800000000000001E-2,3.0599999999999999E-2,3.1300000000000001E-2,2.7900000000000001E-2,2.1100000000000001E-2,1.29E-2,5.3E-3,1E-4,-2.3E-3,-1.9E-3,8.0000000000000004E-4,5.4999999999999997E-3,1.1599999999999999E-2,1.7999999999999999E-2,2.4E-2,2.8299999999999999E-2,2.98E-2,2.76E-2,2.1700000000000001E-2,1.2999999999999999E-2,3.5000000000000001E-3,-4.8999999999999998E-3,-1.0200000000000001E-2,-1.17E-2,-9.1000000000000004E-3,-2.7000000000000001E-3,6.4999999999999997E-3,1.67E-2,2.53E-2,3.0300000000000001E-2,3.0300000000000001E-2,2.5399999999999999E-2,1.6199999999999999E-2,3.5999999999999999E-3,-1.15E-2,-2.7400000000000001E-2,-2.5499999999999998E-2,-2.2800000000000001E-2,-2.0199999999999999E-2,-1.6899999999999998E-2,-1.3299999999999999E-2,-9.4999999999999998E-3,-5.8999999999999999E-3,-2.5999999999999999E-3,0,1.8E-3,3.0000000000000001E-3,4.1999999999999997E-3,5.4000000000000003E-3,6.4000000000000003E-3,7.4000000000000003E-3,8.3000000000000001E-3,8.9999999999999993E-3,9.4999999999999998E-3,9.9000000000000008E-3,0.01]
[23,-8.0000000000000002E-3,-8.0000000000000004E-4,6.0000000000000001E-3,1.2E-2,1.66E-2,1.9699999999999999E-2,2.07E-2,1.95E-2,1.5800000000000002E-2,9.7999999999999997E-3,2E-3,-6.8999999999999999E-3,-1.5900000000000001E-2,-2.3900000000000001E-2,-0.03,-3.3099999999999997E-2,-3.27E-2,-2.86E-2,-2.1499999999999998E-2,-1.2699999999999999E-2,-3.8E-3,3.8E-3,9.4999999999999998E-3,1.2999999999999999E-2,1.4500000000000001E-2,1.49E-2,1.5299999999999999E-2,1.6899999999999998E-2,2.0199999999999999E-2,2.47E-2,2.8400000000000002E-2,2.93E-2,2.6100000000000002E-2,1.9599999999999999E-2,1.15E-2,4.1999999999999997E-3,-8.0000000000000004E-4,-2.8E-3,-2E-3,1.4E-3,6.8999999999999999E-3,1.35E-2,2.0299999999999999E-2,2.6499999999999999E-2,3.0800000000000001E-2,3.2000000000000001E-2,2.9100000000000001E-2,2.23E-2,1.2699999999999999E-2,2.0999999999999999E-3,-7.0000000000000001E-3,-1.2999999999999999E-2,-1.4999999999999999E-2,-1.26E-2,-6.4000000000000003E-3,2.5999999999999999E-3,1.2699999999999999E-2,2.1299999999999999E-2,2.6200000000000001E-2,2.6200000000000001E-2,2.1399999999999999E-2,1.24E-2,0,-1.4800000000000001E-2,-3.0599999999999999E-2,-2.8299999999999999E-2,-2.5100000000000001E-2,-2.1399999999999999E-2,-1.7899999999999999E-2,-1.41E-2,-1.01E-2,-6.1999999999999998E-3,-2.8E-3,0,1.8E-3,3.0000000000000001E-3,4.1999999999999997E-3,5.4000000000000003E-3,6.4000000000000003E-3,7.4000000000000003E-3,8.3000000000000001E-3,8.9999999999999993E-3,9.4999999999999998E-3,9.9000000000000008E-3,0.01]
[24,-2.8999999999999998E-3,3.2000000000000002E-3,8.9999999999999993E-3,1.4E-2,1.77E-2,1.9800000000000002E-2,2.01E-2,1.83E-2,1.43E-2,8.3000000000000001E-3,8.0000000000000004E-4,-7.6E-3,-1.5900000000000001E-2,-2.3099999999999999E-2,-2.8500000000000001E-2,-3.1099999999999999E-2,-3.04E-2,-2.63E-2,-1.95E-2,-1.1299999999999999E-2,-3.0000000000000001E-3,4.1000000000000003E-3,9.4000000000000004E-3,1.26E-2,1.38E-2,1.3899999999999999E-2,1.4E-2,1.52E-2,1.8100000000000002E-2,2.2200000000000001E-2,2.58E-2,2.6599999999999999E-2,2.3599999999999999E-2,1.72E-2,9.2999999999999992E-3,2.0999999999999999E-3,-2.7000000000000001E-3,-4.4000000000000003E-3,-3.0000000000000001E-3,1.2999999999999999E-3,7.6E-3,1.52E-2,2.2800000000000001E-2,2.9600000000000001E-2,3.4299999999999997E-2,3.5400000000000001E-2,3.2099999999999997E-2,2.4500000000000001E-2,1.38E-2,2.0999999999999999E-3,-8.0000000000000002E-3,-1.4800000000000001E-2,-1.7399999999999999E-2,-1.55E-2,-9.4999999999999998E-3,-6.9999999999999999E-4,9.1000000000000004E-3,1.7500000000000002E-2,2.2200000000000001E-2,2.2200000000000001E-2,1.7500000000000002E-2,8.6E-3,-3.7000000000000002E-3,-1.84E-2,-3.4200000000000001E-2,-3.1600000000000003E-2,-2.8000000000000001E-2,-2.3699999999999999E-2,-1.9099999999999999E-2,-1.49E-2,-1.0699999999999999E-2,-6.6E-3,-3.0000000000000001E-3,-1E-4,1.8E-3,3.0000000000000001E-3,4.1999999999999997E-3,5.4000000000000003E-3,6.4000000000000003E-3,7.4000000000000003E-3,8.3000000000000001E-3,8.9999999999999993E-3,9.4999999999999998E-3,9.9000000000000008E-3,0.01]
[25,3.0000000000000001E-3,7.9000000000000008E-3,1.2500000000000001E-2,1.6299999999999999E-2,1.8800000000000001E-2,1.9900000000000001E-2,1.9199999999999998E-2,1.6799999999999999E-2,1.2500000000000001E-2,6.6E-3,-5.0000000000000001E-4,-8.3000000000000001E-3,-1.5900000000000001E-2,-2.24E-2,-2.7E-2,-2.9000000000000001E-2,-2.7900000000000001E-2,-2.3900000000000001E-2,-1.7500000000000002E-2,-9.7000000000000003E-3,-1.9E-3,4.7000000000000002E-3,9.5999999999999992E-3,1.2500000000000001E-2,1.35E-2,1.34E-2,1.2999999999999999E-2,1.38E-2,1.61E-2,1.9599999999999999E-2,2.2800000000000001E-2,2.3400000000000001E-2,2.0400000000000001E-2,1.4E-2,6.1999999999999998E-3,-8.9999999999999998E-4,-5.4999999999999997E-3,-6.8999999999999999E-3,-4.7999999999999996E-3,2.9999999999999997E-4,7.7999999999999996E-3,1.6400000000000001E-2,2.52E-2,3.2899999999999999E-2,3.8300000000000001E-2,3.9800000000000002E-2,3.6299999999999999E-2,2.8000000000000001E-2,1.6299999999999999E-2,3.5000000000000001E-3,-7.7999999999999996E-3,-1.55E-2,-1.8800000000000001E-2,-1.7500000000000002E-2,-1.2E-2,-3.5000000000000001E-3,6.0000000000000001E-3,1.4E-2,1.8499999999999999E-2,1.83E-2,1.3599999999999999E-2,4.7000000000000002E-3,-7.4999999999999997E-3,-2.2100000000000002E-2,-3.7999999999999999E-2,-3.5200000000000002E-2,-3.1199999999999999E-2,-2.64E-2,-2.12E-2,-1.5900000000000001E-2,-1.14E-2,-7.0000000000000001E-3,-3.2000000000000002E-3,-1E-4,1.8E-3,3.0000000000000001E-3,4.1999999999999997E-3,5.4000000000000003E-3,6.4000000000000003E-3,7.4000000000000003E-3,8.3000000000000001E-3,8.9999999999999993E-3,9.4999999999999998E-3,9.9000000000000008E-3,0.01]
[26,9.1999999999999998E-3,1.2800000000000001E-2,1.61E-2,1.8599999999999998E-2,1.9800000000000002E-2,1.9800000000000002E-2,1.8200000000000001E-2,1.52E-2,1.0699999999999999E-2,4.8999999999999998E-3,-1.8E-3,-8.9999999999999993E-3,-1.5900000000000001E-2,-2.1600000000000001E-2,-2.5399999999999999E-2,-2.69E-2,-2.5499999999999998E-2,-2.1600000000000001E-2,-1.54E-2,-8.0999999999999996E-3,-8.0000000000000004E-4,5.4999999999999997E-3,1.0200000000000001E-2,1.2999999999999999E-2,1.38E-2,1.34E-2,1.2699999999999999E-2,1.2800000000000001E-2,1.43E-2,1.7000000000000001E-2,1.9400000000000001E-2,1.9599999999999999E-2,1.6400000000000001E-2,0.01,2.2000000000000001E-3,-4.7000000000000002E-3,-9.1000000000000004E-3,-0.01,-7.3000000000000001E-3,-1.2999999999999999E-3,7.1999999999999998E-3,1.7000000000000001E-2,2.7E-2,3.5999999999999997E-2,4.2500000000000003E-2,4.4699999999999997E-2,4.1300000000000003E-2,3.2599999999999997E-2,2.01E-2,6.1999999999999998E-3,-6.3E-3,-1.4999999999999999E-2,-1.9199999999999998E-2,-1.8599999999999998E-2,-1.3599999999999999E-2,-5.7000000000000002E-3,3.3E-3,1.0800000000000001E-2,1.4999999999999999E-2,1.46E-2,9.7999999999999997E-3,8.9999999999999998E-4,-1.1299999999999999E-2,-2.5899999999999999E-2,-4.1799999999999997E-2,-3.9E-2,-3.4700000000000002E-2,-2.9399999999999999E-2,-2.3599999999999999E-2,-1.77E-2,-1.2E-2,-7.4000000000000003E-3,-3.3999999999999998E-3,-2.0000000000000001E-4,1.8E-3,3.0000000000000001E-3,4.1999999999999997E-3,5.4000000000000003E-3,6.4000000000000003E-3,7.4000000000000003E-3,8.3000000000000001E-3,8.9999999999999993E-3,9.4999999999999998E-3,9.9000000000000008E-3,0.01]
[27,1.54E-2,1.77E-2,1.9599999999999999E-2,2.07E-2,2.06E-2,1.95E-2,1.7100000000000001E-2,1.35E-2,8.8999999999999999E-3,3.3E-3,-3.0000000000000001E-3,-9.5999999999999992E-3,-1.5800000000000002E-2,-2.0799999999999999E-2,-2.4E-2,-2.4899999999999999E-2,-2.3300000000000001E-2,-1.9300000000000001E-2,-1.34E-2,-6.4000000000000003E-3,5.0000000000000001E-4,6.6E-3,1.12E-2,1.3899999999999999E-2,1.4800000000000001E-2,1.4200000000000001E-2,1.2999999999999999E-2,1.24E-2,1.29E-2,1.46E-2,1.6E-2,1.54E-2,1.18E-2,5.1999999999999998E-3,-2.5000000000000001E-3,-9.1999999999999998E-3,-1.32E-2,-1.3599999999999999E-2,-1.03E-2,-3.5000000000000001E-3,6.0000000000000001E-3,1.6899999999999998E-2,2.8199999999999999E-2,3.8600000000000002E-2,4.6399999999999997E-2,4.9700000000000001E-2,4.6899999999999997E-2,3.7999999999999999E-2,2.4799999999999999E-2,0.01,-3.5000000000000001E-3,-1.34E-2,-1.84E-2,-1.8599999999999998E-2,-1.44E-2,-7.1999999999999998E-3,1.1000000000000001E-3,8.0999999999999996E-3,1.18E-2,1.12E-2,6.1999999999999998E-3,-2.7000000000000001E-3,-1.4800000000000001E-2,-2.9499999999999998E-2,-4.5400000000000003E-2,-4.2599999999999999E-2,-3.8100000000000002E-2,-3.2500000000000001E-2,-2.6200000000000001E-2,-1.9699999999999999E-2,-1.34E-2,-7.7999999999999996E-3,-3.5999999999999999E-3,-2.0000000000000001E-4,1.8E-3,3.0000000000000001E-3,4.1999999999999997E-3,5.4000000000000003E-3,6.4000000000000003E-3,7.4000000000000003E-3,8.3000000000000001E-3,8.9999999999999993E-3,9.4999999999999998E-3,9.9000000000000008E-3,0.01]
[28,2.1299999999999999E-2,2.2100000000000002E-2,2.2700000000000001E-2,2.24E-2,2.12E-2,1.9E-2,1.5900000000000001E-2,1.1900000000000001E-2,7.1999999999999998E-3,1.8E-3,-4.0000000000000001E-3,-1.01E-2,-1.5699999999999999E-2,-2.01E-2,-2.2700000000000001E-2,-2.3099999999999999E-2,-2.1299999999999999E-2,-1.7399999999999999E-2,-1.17E-2,-4.8999999999999998E-3,1.8E-3,7.7999999999999996E-3,1.2500000000000001E-2,1.54E-2,1.6299999999999999E-2,1.5599999999999999E-2,1.4E-2,1.26E-2,1.21E-2,1.24E-2,1.26E-2,1.11E-2,6.7999999999999996E-3,0,-7.6E-3,-1.41E-2,-1.7600000000000001E-2,-1.7399999999999999E-2,-1.35E-2,-6.0000000000000001E-3,4.1000000000000003E-3,1.6E-2,2.8500000000000001E-2,4.0500000000000001E-2,4.99E-2,5.4399999999999997E-2,5.2400000000000002E-2,4.3799999999999999E-2,3.0200000000000001E-2,1.46E-2,2.0000000000000001E-4,-1.06E-2,-1.66E-2,-1.77E-2,-1.43E-2,-8.0000000000000002E-3,-5.0000000000000001E-4,5.7999999999999996E-3,8.9999999999999993E-3,8.0999999999999996E-3,2.8999999999999998E-3,-6.0000000000000001E-3,-1.8200000000000001E-2,-3.2800000000000003E-2,-4.8800000000000003E-2,-4.6100000000000002E-2,-4.1500000000000002E-2,-3.56E-2,-2.8799999999999999E-2,-2.18E-2,-1.4999999999999999E-2,-8.8999999999999999E-3,-3.7000000000000002E-3,-2.9999999999999997E-4,1.8E-3,3.0000000000000001E-3,4.1999999999999997E-3,5.4000000000000003E-3,6.4000000000000003E-3,7.4000000000000003E-3,8.3000000000000001E-3,8.9999999999999993E-3,9.4999999999999998E-3,9.9000000000000008E-3,0.01]
[29,2.6499999999999999E-2,2.5999999999999999E-2,2.53E-2,2.3800000000000002E-2,2.1499999999999998E-2,1.83E-2,1.46E-2,1.04E-2,5.7000000000000002E-3,5.9999999999999995E-4,-4.8999999999999998E-3,-1.0500000000000001E-2,-1.55E-2,-1.9300000000000001E-2,-2.1399999999999999E-2,-2.1600000000000001E-2,-1.9599999999999999E-2,-1.5699999999999999E-2,-1.01E-2,-3.5000000000000001E-3,3.2000000000000002E-3,9.2999999999999992E-3,1.41E-2,1.72E-2,1.83E-2,1.7600000000000001E-2,1.5599999999999999E-2,1.35E-2,1.18E-2,1.0800000000000001E-2,9.5999999999999992E-3,6.8999999999999999E-3,1.8E-3,-5.4000000000000003E-3,-1.2999999999999999E-2,-1.9099999999999999E-2,-2.2100000000000002E-2,-2.1299999999999999E-2,-1.6799999999999999E-2,-8.8999999999999999E-3,1.8E-3,1.44E-2,2.81E-2,4.1500000000000002E-2,5.2600000000000001E-2,5.8599999999999999E-2,5.7500000000000002E-2,4.9299999999999997E-2,3.56E-2,1.9599999999999999E-2,4.5999999999999999E-3,-7.0000000000000001E-3,-1.38E-2,-1.5699999999999999E-2,-1.3299999999999999E-2,-7.9000000000000008E-3,-1.4E-3,4.1000000000000003E-3,6.7000000000000002E-3,5.4000000000000003E-3,1E-4,-8.8999999999999999E-3,-2.1100000000000001E-2,-3.5700000000000003E-2,-5.1700000000000003E-2,-4.9200000000000001E-2,-4.4600000000000001E-2,-3.85E-2,-3.15E-2,-2.4E-2,-1.6799999999999999E-2,-1.01E-2,-4.4999999999999997E-3,-2.9999999999999997E-4,1.8E-3,3.0000000000000001E-3,4.1999999999999997E-3,5.4000000000000003E-3,6.4000000000000003E-3,7.4000000000000003E-3,8.3000000000000001E-3,8.9999999999999993E-3,9.4999999999999998E-3,9.9000000000000008E-3,0.01]
[30,3.1E-2,2.93E-2,2.7300000000000001E-2,2.4799999999999999E-2,2.1499999999999998E-2,1.7600000000000001E-2,1.34E-2,8.9999999999999993E-3,4.4000000000000003E-3,-4.0000000000000002E-4,-5.5999999999999999E-3,-1.0699999999999999E-2,-1.52E-2,-1.8599999999999998E-2,-2.0400000000000001E-2,-2.0299999999999999E-2,-1.8200000000000001E-2,-1.43E-2,-8.8000000000000005E-3,-2.2000000000000001E-3,4.4999999999999997E-3,1.0800000000000001E-2,1.5900000000000001E-2,1.9300000000000001E-2,2.06E-2,0.02,1.78E-2,1.4999999999999999E-2,1.23E-2,0.01,7.3000000000000001E-3,3.2000000000000002E-3,-2.8999999999999998E-3,-1.0500000000000001E-2,-1.8200000000000001E-2,-2.4E-2,-2.6499999999999999E-2,-2.52E-2,-2.0199999999999999E-2,-1.1900000000000001E-2,-8.0000000000000004E-4,1.24E-2,2.7E-2,4.1799999999999997E-2,5.4300000000000001E-2,6.1800000000000001E-2,6.1800000000000001E-2,5.4100000000000002E-2,4.07E-2,2.46E-2,9.1999999999999998E-3,-2.8E-3,-1.0200000000000001E-2,-1.29E-2,-1.14E-2,-7.0000000000000001E-3,-1.5E-3,3.0999999999999999E-3,5.1000000000000004E-3,3.3999999999999998E-3,-2.0999999999999999E-3,-1.1299999999999999E-2,-2.35E-2,-3.7999999999999999E-2,-5.3999999999999999E-2,-5.1700000000000003E-2,-4.7300000000000002E-2,-4.1099999999999998E-2,-3.39E-2,-2.6200000000000001E-2,-1.8599999999999998E-2,-1.15E-2,-5.4999999999999997E-3,-8.9999999999999998E-4,1.8E-3,3.0000000000000001E-3,4.1999999999999997E-3,5.4000000000000003E-3,6.4000000000000003E-3,7.4000000000000003E-3,8.3000000000000001E-3,8.9999999999999993E-3,9.4999999999999998E-3,9.9000000000000008E-3,0.01]
[31,3.4500000000000003E-2,3.1800000000000002E-2,2.8899999999999999E-2,2.5399999999999999E-2,2.1299999999999999E-2,1.6799999999999999E-2,1.23E-2,7.7999999999999996E-3,3.3E-3,-1.2999999999999999E-3,-6.1000000000000004E-3,-1.0800000000000001E-2,-1.49E-2,-1.7999999999999999E-2,-1.9400000000000001E-2,-1.9199999999999998E-2,-1.7000000000000001E-2,-1.3100000000000001E-2,-7.6E-3,-1E-3,5.8999999999999999E-3,1.23E-2,1.77E-2,2.1499999999999998E-2,2.3099999999999999E-2,2.2599999999999999E-2,2.0199999999999999E-2,1.6899999999999998E-2,1.34E-2,9.9000000000000008E-3,5.7999999999999996E-3,4.0000000000000002E-4,-6.7000000000000002E-3,-1.49E-2,-2.2800000000000001E-2,-2.8500000000000001E-2,-3.0599999999999999E-2,-2.8899999999999999E-2,-2.35E-2,-1.49E-2,-3.5999999999999999E-3,0.01,2.5399999999999999E-2,4.1300000000000003E-2,5.5199999999999999E-2,6.3899999999999998E-2,6.4899999999999999E-2,5.79E-2,4.48E-2,2.9000000000000001E-2,1.37E-2,1.6000000000000001E-3,-6.1000000000000004E-3,-9.2999999999999992E-3,-8.6999999999999994E-3,-5.3E-3,-6.9999999999999999E-4,3.0000000000000001E-3,4.3E-3,2.2000000000000001E-3,-3.7000000000000002E-3,-1.2999999999999999E-2,-2.53E-2,-3.9800000000000002E-2,-5.5800000000000002E-2,-5.3800000000000001E-2,-4.9500000000000002E-2,-4.3400000000000001E-2,-3.6200000000000003E-2,-2.8299999999999999E-2,-2.0400000000000001E-2,-1.2999999999999999E-2,-6.6E-3,-1.6999999999999999E-3,1.2999999999999999E-3,3.0000000000000001E-3,4.1999999999999997E-3,5.4000000000000003E-3,6.4000000000000003E-3,7.4000000000000003E-3,8.3000000000000001E-3,8.9999999999999993E-3,9.4999999999999998E-3,9.9000000000000008E-3,0.01]
[32,3.7199999999999997E-2,3.3700000000000001E-2,2.9899999999999999E-2,2.58E-2,2.1100000000000001E-2,1.61E-2,1.1299999999999999E-2,6.7999999999999996E-3,2.3999999999999998E-3,-1.9E-3,-6.4000000000000003E-3,-1.0800000000000001E-2,-1.46E-2,-1.7299999999999999E-2,-1.8599999999999998E-2,-1.8200000000000001E-2,-1.6E-2,-1.21E-2,-6.4999999999999997E-3,1E-4,7.1000000000000004E-3,1.38E-2,1.95E-2,2.3599999999999999E-2,2.5499999999999998E-2,2.52E-2,2.2800000000000001E-2,1.9300000000000001E-2,1.5100000000000001E-2,1.06E-2,5.3E-3,-1.2999999999999999E-3,-9.2999999999999992E-3,-1.8200000000000001E-2,-2.6499999999999999E-2,-3.2199999999999999E-2,-3.4200000000000001E-2,-3.2199999999999999E-2,-2.6599999999999999E-2,-1.78E-2,-6.3E-3,7.6E-3,2.3599999999999999E-2,4.0300000000000002E-2,5.5100000000000003E-2,6.4799999999999996E-2,6.6699999999999995E-2,6.0299999999999999E-2,4.7800000000000002E-2,3.2500000000000001E-2,1.7600000000000001E-2,5.7000000000000002E-3,-1.9E-3,-5.3E-3,-5.3E-3,-2.7000000000000001E-3,8.9999999999999998E-4,3.7000000000000002E-3,4.3E-3,1.6999999999999999E-3,-4.4000000000000003E-3,-1.3899999999999999E-2,-2.63E-2,-4.1000000000000002E-2,-5.7000000000000002E-2,-5.5199999999999999E-2,-5.11E-2,-4.5199999999999997E-2,-3.7999999999999999E-2,-3.0099999999999998E-2,-2.2100000000000002E-2,-1.4500000000000001E-2,-7.7999999999999996E-3,-2.5999999999999999E-3,5.9999999999999995E-4,2.5999999999999999E-3,4.1999999999999997E-3,5.4000000000000003E-3,6.4000000000000003E-3,7.4000000000000003E-3,8.3000000000000001E-3,8.9999999999999993E-3,9.4999999999999998E-3,9.9000000000000008E-3,0.01]
[33,3.9E-2,3.49E-2,3.0499999999999999E-2,2.5899999999999999E-2,2.0799999999999999E-2,1.55E-2,1.0500000000000001E-2,6.0000000000000001E-3,1.8E-3,-2.3999999999999998E-3,-6.7000000000000002E-3,-1.0699999999999999E-2,-1.43E-2,-1.67E-2,-1.78E-2,-1.7299999999999999E-2,-1.5100000000000001E-2,-1.11E-2,-5.4999999999999997E-3,1.1999999999999999E-3,8.3000000000000001E-3,1.52E-2,2.12E-2,2.5600000000000001E-2,2.7799999999999998E-2,2.76E-2,2.5399999999999999E-2,2.18E-2,1.72E-2,1.2E-2,5.8999999999999999E-3,-1.6999999999999999E-3,-1.06E-2,-2.0199999999999999E-2,-2.8899999999999999E-2,-3.5000000000000003E-2,-3.6999999999999998E-2,-3.5000000000000003E-2,-2.9399999999999999E-2,-2.0500000000000001E-2,-8.8999999999999999E-3,5.1999999999999998E-3,2.1499999999999998E-2,3.8699999999999998E-2,5.4100000000000002E-2,6.4399999999999999E-2,6.7000000000000004E-2,6.13E-2,4.9399999999999999E-2,3.4799999999999998E-2,2.06E-2,9.4000000000000004E-3,2.2000000000000001E-3,-1.1000000000000001E-3,-1.4E-3,5.0000000000000001E-4,3.3E-3,5.3E-3,5.1999999999999998E-3,2.0999999999999999E-3,-4.3E-3,-1.41E-2,-2.6700000000000002E-2,-4.1399999999999999E-2,-5.74E-2,-5.6000000000000001E-2,-5.2200000000000003E-2,-4.65E-2,-3.95E-2,-3.1600000000000003E-2,-2.3599999999999999E-2,-1.5900000000000001E-2,-8.9999999999999993E-3,-3.5999999999999999E-3,-1E-4,2E-3,3.8999999999999998E-3,5.4000000000000003E-3,6.4000000000000003E-3,7.4000000000000003E-3,8.3000000000000001E-3,8.9999999999999993E-3,9.4999999999999998E-3,9.9000000000000008E-3,0.01]
[34,0.04,3.5499999999999997E-2,3.0800000000000001E-2,2.58E-2,2.0500000000000001E-2,1.5100000000000001E-2,0.01,5.4999999999999997E-3,1.2999999999999999E-3,-2.8E-3,-6.7999999999999996E-3,-1.06E-2,-1.3899999999999999E-2,-1.61E-2,-1.7100000000000001E-2,-1.6500000000000001E-2,-1.43E-2,-1.03E-2,-4.5999999999999999E-3,2.2000000000000001E-3,9.4000000000000004E-3,1.6500000000000001E-2,2.2599999999999999E-2,2.7199999999999998E-2,2.9700000000000001E-2,2.98E-2,2.7799999999999998E-2,2.4299999999999999E-2,1.9699999999999999E-2,1.41E-2,7.3000000000000001E-3,-8.9999999999999998E-4,-1.0500000000000001E-2,-2.0799999999999999E-2,-0.03,-3.6400000000000002E-2,-3.8800000000000001E-2,-3.7100000000000001E-2,-3.1600000000000003E-2,-2.29E-2,-1.1299999999999999E-2,2.8999999999999998E-3,1.9300000000000001E-2,3.6600000000000001E-2,5.2200000000000003E-2,6.2899999999999998E-2,6.59E-2,6.08E-2,4.9700000000000001E-2,3.5900000000000001E-2,2.2700000000000001E-2,1.24E-2,6.0000000000000001E-3,3.0000000000000001E-3,2.7000000000000001E-3,4.1999999999999997E-3,6.3E-3,7.7000000000000002E-3,7.0000000000000001E-3,3.5000000000000001E-3,-3.3999999999999998E-3,-1.34E-2,-2.6100000000000002E-2,-4.1000000000000002E-2,-5.7000000000000002E-2,-5.6000000000000001E-2,-5.2600000000000001E-2,-4.7199999999999999E-2,-4.0399999999999998E-2,-3.2800000000000003E-2,-2.4799999999999999E-2,-1.72E-2,-1.03E-2,-4.7000000000000002E-3,-1E-3,1.4E-3,3.3999999999999998E-3,5.1000000000000004E-3,6.4000000000000003E-3,7.4000000000000003E-3,8.3000000000000001E-3,8.9999999999999993E-3,9.4999999999999998E-3,9.9000000000000008E-3,0.01]
[35,4.02E-2,3.56E-2,3.0800000000000001E-2,2.5600000000000001E-2,2.0199999999999999E-2,1.4800000000000001E-2,9.7000000000000003E-3,5.1999999999999998E-3,1.1000000000000001E-3,-2.8999999999999998E-3,-6.7000000000000002E-3,-1.04E-2,-1.34E-2,-1.55E-2,-1.6400000000000001E-2,-1.5800000000000002E-2,-1.35E-2,-9.4000000000000004E-3,-3.7000000000000002E-3,3.0999999999999999E-3,1.0500000000000001E-2,1.7600000000000001E-2,2.3800000000000002E-2,2.8500000000000001E-2,3.1199999999999999E-2,3.15E-2,2.9899999999999999E-2,2.6700000000000002E-2,2.2200000000000001E-2,1.6500000000000001E-2,9.4999999999999998E-3,8.9999999999999998E-4,-9.1999999999999998E-3,-1.9900000000000001E-2,-2.9499999999999998E-2,-3.6400000000000002E-2,-3.9399999999999998E-2,-3.8199999999999998E-2,-3.3099999999999997E-2,-2.47E-2,-1.34E-2,5.9999999999999995E-4,1.6799999999999999E-2,3.39E-2,4.9500000000000002E-2,6.0299999999999999E-2,6.3600000000000004E-2,5.8999999999999997E-2,4.8599999999999997E-2,3.5799999999999998E-2,2.3699999999999999E-2,1.46E-2,9.1000000000000004E-3,6.7000000000000002E-3,6.6E-3,8.0000000000000002E-3,9.7999999999999997E-3,1.06E-2,9.4999999999999998E-3,5.5999999999999999E-3,-1.6000000000000001E-3,-1.18E-2,-2.4799999999999999E-2,-3.9699999999999999E-2,-5.5800000000000002E-2,-5.5300000000000002E-2,-5.2200000000000003E-2,-4.7199999999999999E-2,-4.0800000000000003E-2,-3.3500000000000002E-2,-2.58E-2,-1.8200000000000001E-2,-1.14E-2,-5.7999999999999996E-3,-2E-3,5.9999999999999995E-4,2.8999999999999998E-3,4.7000000000000002E-3,6.1999999999999998E-3,7.4000000000000003E-3,8.3000000000000001E-3,8.9999999999999993E-3,9.4999999999999998E-3,9.9000000000000008E-3,0.01]
[36,3.9800000000000002E-2,3.5200000000000002E-2,3.0499999999999999E-2,2.5399999999999999E-2,0.02,1.47E-2,9.7000000000000003E-3,5.1999999999999998E-3,1.1000000000000001E-3,-2.8E-3,-6.4999999999999997E-3,-0.01,-1.29E-2,-1.49E-2,-1.5699999999999999E-2,-1.5100000000000001E-2,-1.2800000000000001E-2,-8.6999999999999994E-3,-2.8999999999999998E-3,4.0000000000000001E-3,1.14E-2,1.8499999999999999E-2,2.4799999999999999E-2,2.9499999999999998E-2,3.2300000000000002E-2,3.2899999999999999E-2,3.1600000000000003E-2,2.8799999999999999E-2,2.47E-2,1.9199999999999998E-2,1.2200000000000001E-2,3.5000000000000001E-3,-6.7000000000000002E-3,-1.77E-2,-2.7699999999999999E-2,-3.5000000000000003E-2,-3.8600000000000002E-2,-3.8100000000000002E-2,-3.3700000000000001E-2,-2.5999999999999999E-2,-1.52E-2,-1.6999999999999999E-3,1.41E-2,3.0800000000000001E-2,4.6100000000000002E-2,5.6800000000000003E-2,6.0299999999999999E-2,5.62E-2,4.6600000000000003E-2,3.4700000000000002E-2,2.3800000000000002E-2,1.5900000000000001E-2,1.14E-2,9.7999999999999997E-3,1.03E-2,1.18E-2,1.34E-2,1.4E-2,1.26E-2,8.3000000000000001E-3,8.9999999999999998E-4,-9.5999999999999992E-3,-2.2599999999999999E-2,-3.7600000000000001E-2,-5.3699999999999998E-2,-5.3600000000000002E-2,-5.11E-2,-4.6600000000000003E-2,-4.0599999999999997E-2,-3.3700000000000001E-2,-2.63E-2,-1.9E-2,-1.24E-2,-6.7999999999999996E-3,-2.8999999999999998E-3,-2.0000000000000001E-4,2.2000000000000001E-3,4.3E-3,6.0000000000000001E-3,7.3000000000000001E-3,8.3000000000000001E-3,8.9999999999999993E-3,9.4999999999999998E-3,9.9000000000000008E-3,0.01]
[37,3.8899999999999997E-2,3.4500000000000003E-2,2.9899999999999999E-2,2.5000000000000001E-2,1.9800000000000002E-2,1.47E-2,9.7000000000000003E-3,5.3E-3,1.2999999999999999E-3,-2.5000000000000001E-3,-6.1000000000000004E-3,-9.4000000000000004E-3,-1.2200000000000001E-2,-1.41E-2,-1.49E-2,-1.43E-2,-1.2E-2,-7.9000000000000008E-3,-2.2000000000000001E-3,4.7999999999999996E-3,1.21E-2,1.9199999999999998E-2,2.5399999999999999E-2,3.0200000000000001E-2,3.3000000000000002E-2,3.39E-2,3.3000000000000002E-2,3.0700000000000002E-2,2.7E-2,2.18E-2,1.5100000000000001E-2,6.6E-3,-3.5999999999999999E-3,-1.4500000000000001E-2,-2.4500000000000001E-2,-3.2199999999999999E-2,-3.6400000000000002E-2,-3.6700000000000003E-2,-3.3300000000000003E-2,-2.6499999999999999E-2,-1.66E-2,-3.8999999999999998E-3,1.11E-2,2.7199999999999998E-2,4.2000000000000003E-2,5.2600000000000001E-2,5.62E-2,5.2600000000000001E-2,4.3700000000000003E-2,3.2899999999999999E-2,2.3199999999999998E-2,1.6400000000000001E-2,1.2999999999999999E-2,1.2200000000000001E-2,1.3299999999999999E-2,1.52E-2,1.7000000000000001E-2,1.7500000000000002E-2,1.6E-2,1.15E-2,3.8999999999999998E-3,-6.6E-3,-1.9699999999999999E-2,-3.4700000000000002E-2,-5.0500000000000003E-2,-5.0999999999999997E-2,-4.9099999999999998E-2,-4.5199999999999997E-2,-3.9800000000000002E-2,-3.3399999999999999E-2,-2.6499999999999999E-2,-1.95E-2,-1.3100000000000001E-2,-7.7000000000000002E-3,-3.8999999999999998E-3,-1E-3,1.6000000000000001E-3,3.8E-3,5.5999999999999999E-3,7.1000000000000004E-3,8.2000000000000007E-3,8.9999999999999993E-3,9.4999999999999998E-3,9.9000000000000008E-3,0.01]
[38,3.7499999999999999E-2,3.3399999999999999E-2,2.92E-2,2.46E-2,1.9699999999999999E-2,1.47E-2,9.9000000000000008E-3,5.7000000000000002E-3,1.6999999999999999E-3,-1.9E-3,-5.4000000000000003E-3,-8.6999999999999994E-3,-1.14E-2,-1.3299999999999999E-2,-1.41E-2,-1.35E-2,-1.1299999999999999E-2,-7.1999999999999998E-3,-1.5E-3,5.4000000000000003E-3,1.2699999999999999E-2,1.9800000000000002E-2,2.5899999999999999E-2,3.0499999999999999E-2,3.3500000000000002E-2,3.4599999999999999E-2,3.4099999999999998E-2,3.2199999999999999E-2,2.9000000000000001E-2,2.4299999999999999E-2,1.7999999999999999E-2,9.7999999999999997E-3,0,-1.0500000000000001E-2,-2.0400000000000001E-2,-2.81E-2,-3.2800000000000003E-2,-3.4000000000000002E-2,-3.1800000000000002E-2,-2.6200000000000001E-2,-1.7600000000000001E-2,-6.0000000000000001E-3,8.0000000000000002E-3,2.3300000000000001E-2,3.7600000000000001E-2,4.7800000000000002E-2,5.1499999999999997E-2,4.8300000000000003E-2,4.0300000000000002E-2,3.0499999999999999E-2,2.1899999999999999E-2,1.6199999999999999E-2,1.37E-2,1.38E-2,1.5599999999999999E-2,1.8100000000000002E-2,2.0199999999999999E-2,2.0899999999999998E-2,1.9400000000000001E-2,1.4999999999999999E-2,7.3000000000000001E-3,-3.2000000000000002E-3,-1.6199999999999999E-2,-3.09E-2,-4.65E-2,-4.7500000000000001E-2,-4.6199999999999998E-2,-4.2999999999999997E-2,-3.8300000000000001E-2,-3.2500000000000001E-2,-2.6200000000000001E-2,-1.9699999999999999E-2,-1.37E-2,-8.5000000000000006E-3,-4.7000000000000002E-3,-1.8E-3,8.9999999999999998E-4,3.2000000000000002E-3,5.1999999999999998E-3,6.7999999999999996E-3,8.0999999999999996E-3,8.8999999999999999E-3,9.4999999999999998E-3,9.9000000000000008E-3,0.01]
[39,3.5799999999999998E-2,3.2199999999999999E-2,2.8400000000000002E-2,2.41E-2,1.95E-2,1.47E-2,1.0200000000000001E-2,6.1000000000000004E-3,2.3E-3,-1.1999999999999999E-3,-4.5999999999999999E-3,-7.7999999999999996E-3,-1.0500000000000001E-2,-1.24E-2,-1.32E-2,-1.2699999999999999E-2,-1.0500000000000001E-2,-6.4999999999999997E-3,-8.9999999999999998E-4,5.8999999999999999E-3,1.32E-2,2.01E-2,2.5999999999999999E-2,3.0599999999999999E-2,3.3599999999999998E-2,3.49E-2,3.4799999999999998E-2,3.3399999999999999E-2,3.0599999999999999E-2,2.64E-2,2.06E-2,1.2999999999999999E-2,3.8E-3,-6.1000000000000004E-3,-1.55E-2,-2.3199999999999998E-2,-2.8299999999999999E-2,-3.0300000000000001E-2,-2.93E-2,-2.5100000000000001E-2,-1.7999999999999999E-2,-7.7999999999999996E-3,5.0000000000000001E-3,1.9400000000000001E-2,3.2800000000000003E-2,4.2599999999999999E-2,4.6399999999999997E-2,4.3700000000000003E-2,3.6499999999999998E-2,2.7699999999999999E-2,2.01E-2,1.5299999999999999E-2,1.37E-2,1.47E-2,1.72E-2,2.0299999999999999E-2,2.29E-2,2.4E-2,2.2599999999999999E-2,1.83E-2,1.0800000000000001E-2,4.0000000000000002E-4,-1.2200000000000001E-2,-2.6499999999999999E-2,-4.1599999999999998E-2,-4.3099999999999999E-2,-4.2500000000000003E-2,-4.0099999999999997E-2,-3.6200000000000003E-2,-3.1199999999999999E-2,-2.5499999999999998E-2,-1.9599999999999999E-2,-1.4E-2,-9.1000000000000004E-3,-5.4000000000000003E-3,-2.5000000000000001E-3,2.0000000000000001E-4,2.7000000000000001E-3,4.7999999999999996E-3,6.6E-3,7.9000000000000008E-3,8.8999999999999999E-3,9.4999999999999998E-3,9.9000000000000008E-3,0.01]
[40,3.39E-2,3.0800000000000001E-2,2.7400000000000001E-2,2.35E-2,1.9199999999999998E-2,1.47E-2,1.04E-2,6.4999999999999997E-3,2.8999999999999998E-3,-5.0000000000000001E-4,-3.8E-3,-6.7999999999999996E-3,-9.4999999999999998E-3,-1.14E-2,-1.2200000000000001E-2,-1.18E-2,-9.7000000000000003E-3,-5.8999999999999999E-3,-4.0000000000000002E-4,6.3E-3,1.34E-2,2.0199999999999999E-2,2.5999999999999999E-2,3.0499999999999999E-2,3.3500000000000002E-2,3.5099999999999999E-2,3.5200000000000002E-2,3.4200000000000001E-2,3.1899999999999998E-2,2.8199999999999999E-2,2.3E-2,1.6E-2,7.6E-3,-1.5E-3,-1.03E-2,-1.77E-2,-2.3E-2,-2.58E-2,-2.5899999999999999E-2,-2.3300000000000001E-2,-1.77E-2,-9.1000000000000004E-3,2.3999999999999998E-3,1.5599999999999999E-2,2.81E-2,3.7400000000000003E-2,4.1000000000000002E-2,3.8699999999999998E-2,3.2399999999999998E-2,2.46E-2,1.7999999999999999E-2,1.4E-2,1.32E-2,1.49E-2,1.8100000000000002E-2,2.18E-2,2.4899999999999999E-2,2.64E-2,2.53E-2,2.1299999999999999E-2,1.41E-2,4.1999999999999997E-3,-8.0000000000000002E-3,-2.1600000000000001E-2,-3.61E-2,-3.7999999999999999E-2,-3.8100000000000002E-2,-3.6499999999999998E-2,-3.3399999999999999E-2,-2.93E-2,-2.4400000000000002E-2,-1.9199999999999998E-2,-1.41E-2,-9.5999999999999992E-3,-6.0000000000000001E-3,-3.0999999999999999E-3,-2.9999999999999997E-4,2.2000000000000001E-3,4.4000000000000003E-3,6.3E-3,7.7000000000000002E-3,8.8000000000000005E-3,9.4999999999999998E-3,9.9000000000000008E-3,0.01]
[41,3.2000000000000001E-2,2.92E-2,2.6200000000000001E-2,2.2800000000000001E-2,1.8800000000000001E-2,1.46E-2,1.06E-2,6.8999999999999999E-3,3.5000000000000001E-3,2.0000000000000001E-4,-2.8999999999999998E-3,-5.8999999999999999E-3,-8.3999999999999995E-3,-1.03E-2,-1.12E-2,-1.0699999999999999E-2,-8.8000000000000005E-3,-5.1000000000000004E-3,1E-4,6.6E-3,1.35E-2,0.02,2.5700000000000001E-2,3.0200000000000001E-2,3.3300000000000003E-2,3.5000000000000003E-2,3.5400000000000001E-2,3.4599999999999999E-2,3.27E-2,2.9499999999999998E-2,2.4899999999999999E-2,1.8800000000000001E-2,1.12E-2,3.0000000000000001E-3,-5.0000000000000001E-3,-1.2E-2,-1.7399999999999999E-2,-2.0899999999999998E-2,-2.1999999999999999E-2,-2.07E-2,-1.66E-2,-9.4999999999999998E-3,5.0000000000000001E-4,1.23E-2,2.3699999999999999E-2,3.2199999999999999E-2,3.56E-2,3.3700000000000001E-2,2.81E-2,2.1299999999999999E-2,1.5599999999999999E-2,1.24E-2,1.23E-2,1.46E-2,1.83E-2,2.2499999999999999E-2,2.6100000000000002E-2,2.8000000000000001E-2,2.7300000000000001E-2,2.3699999999999999E-2,1.7100000000000001E-2,7.7000000000000002E-3,-3.5999999999999999E-3,-1.6500000000000001E-2,-3.0099999999999998E-2,-3.2399999999999998E-2,-3.3000000000000002E-2,-3.2199999999999999E-2,-3.0099999999999998E-2,-2.69E-2,-2.29E-2,-1.84E-2,-1.3899999999999999E-2,-9.7999999999999997E-3,-6.4999999999999997E-3,-3.5999999999999999E-3,-8.9999999999999998E-4,1.6999999999999999E-3,4.0000000000000001E-3,6.0000000000000001E-3,7.4999999999999997E-3,8.6999999999999994E-3,9.4000000000000004E-3,9.9000000000000008E-3,0.01]
[42,3.0200000000000001E-2,2.7699999999999999E-2,2.5000000000000001E-2,2.1899999999999999E-2,1.83E-2,1.44E-2,1.0699999999999999E-2,7.1999999999999998E-3,4.0000000000000001E-3,8.9999999999999998E-4,-2.0999999999999999E-3,-4.8999999999999998E-3,-7.3000000000000001E-3,-9.1000000000000004E-3,-0.01,-9.5999999999999992E-3,-7.7999999999999996E-3,-4.3E-3,6.9999999999999999E-4,6.7999999999999996E-3,1.34E-2,1.9699999999999999E-2,2.53E-2,2.98E-2,3.2899999999999999E-2,3.4700000000000002E-2,3.5299999999999998E-2,3.4799999999999998E-2,3.3099999999999997E-2,3.04E-2,2.64E-2,2.1100000000000001E-2,1.4500000000000001E-2,7.3000000000000001E-3,1E-4,-6.4999999999999997E-3,-1.1900000000000001E-2,-1.5699999999999999E-2,-1.77E-2,-1.7399999999999999E-2,-1.47E-2,-8.9999999999999993E-3,-5.9999999999999995E-4,9.7000000000000003E-3,1.9800000000000002E-2,2.7300000000000001E-2,3.0300000000000001E-2,2.86E-2,2.3699999999999999E-2,1.78E-2,1.2999999999999999E-2,1.0699999999999999E-2,1.11E-2,1.3899999999999999E-2,1.7999999999999999E-2,2.2599999999999999E-2,2.6499999999999999E-2,2.87E-2,2.8500000000000001E-2,2.5399999999999999E-2,1.95E-2,1.0999999999999999E-2,5.0000000000000001E-4,-1.1299999999999999E-2,-2.4E-2,-2.64E-2,-2.76E-2,-2.76E-2,-2.63E-2,-2.4E-2,-2.0899999999999998E-2,-1.7299999999999999E-2,-1.35E-2,-9.7999999999999997E-3,-6.7000000000000002E-3,-4.0000000000000001E-3,-1.2999999999999999E-3,1.2999999999999999E-3,3.7000000000000002E-3,5.7000000000000002E-3,7.3000000000000001E-3,8.5000000000000006E-3,9.4000000000000004E-3,9.9000000000000008E-3,0.01]
[43,2.8500000000000001E-2,2.6200000000000001E-2,2.3800000000000002E-2,2.0899999999999998E-2,1.7600000000000001E-2,1.41E-2,1.06E-2,7.3000000000000001E-3,4.3E-3,1.4E-3,-1.4E-3,-4.0000000000000001E-3,-6.3E-3,-7.9000000000000008E-3,-8.6999999999999994E-3,-8.3999999999999995E-3,-6.6E-3,-3.3999999999999998E-3,1.1999999999999999E-3,7.0000000000000001E-3,1.32E-2,1.9199999999999998E-2,2.47E-2,2.92E-2,3.2399999999999998E-2,3.4299999999999997E-2,3.5000000000000003E-2,3.4599999999999999E-2,3.32E-2,3.0800000000000001E-2,2.75E-2,2.3E-2,1.7399999999999999E-2,1.11E-2,4.7000000000000002E-3,-1.2999999999999999E-3,-6.6E-3,-1.0699999999999999E-2,-1.32E-2,-1.37E-2,-1.2E-2,-7.6E-3,-5.9999999999999995E-4,8.0000000000000002E-3,1.6500000000000001E-2,2.29E-2,2.53E-2,2.3699999999999999E-2,1.9400000000000001E-2,1.43E-2,1.04E-2,8.6999999999999994E-3,9.7999999999999997E-3,1.29E-2,1.7299999999999999E-2,2.1999999999999999E-2,2.6100000000000002E-2,2.86E-2,2.8799999999999999E-2,2.64E-2,2.12E-2,1.37E-2,4.3E-3,-6.4000000000000003E-3,-1.7999999999999999E-2,-2.0500000000000001E-2,-2.2100000000000002E-2,-2.2599999999999999E-2,-2.2200000000000001E-2,-2.0799999999999999E-2,-1.8700000000000001E-2,-1.5900000000000001E-2,-1.2800000000000001E-2,-9.7000000000000003E-3,-6.7999999999999996E-3,-4.1999999999999997E-3,-1.6000000000000001E-3,1E-3,3.3E-3,5.4000000000000003E-3,7.1000000000000004E-3,8.3999999999999995E-3,9.2999999999999992E-3,9.7999999999999997E-3,0.01]
[44,2.69E-2,2.47E-2,2.2499999999999999E-2,1.9900000000000001E-2,1.6799999999999999E-2,1.3599999999999999E-2,1.03E-2,7.3000000000000001E-3,4.4000000000000003E-3,1.6999999999999999E-3,-8.9999999999999998E-4,-3.3E-3,-5.3E-3,-6.7000000000000002E-3,-7.4000000000000003E-3,-7.0000000000000001E-3,-5.4000000000000003E-3,-2.3999999999999998E-3,1.9E-3,7.3000000000000001E-3,1.2999999999999999E-2,1.8700000000000001E-2,2.4E-2,2.8500000000000001E-2,3.1800000000000002E-2,3.3700000000000001E-2,3.4500000000000003E-2,3.4200000000000001E-2,3.3000000000000002E-2,3.1E-2,2.8199999999999999E-2,2.4500000000000001E-2,1.9800000000000002E-2,1.44E-2,8.6999999999999994E-3,3.2000000000000002E-3,-1.8E-3,-5.8999999999999999E-3,-8.6E-3,-9.5999999999999992E-3,-8.6E-3,-5.3E-3,2.9999999999999997E-4,7.3000000000000001E-3,1.4200000000000001E-2,1.9199999999999998E-2,2.1000000000000001E-2,1.9300000000000001E-2,1.5299999999999999E-2,1.09E-2,7.7000000000000002E-3,6.7000000000000002E-3,8.2000000000000007E-3,1.1599999999999999E-2,1.61E-2,2.0899999999999998E-2,2.5100000000000001E-2,2.7699999999999999E-2,2.8299999999999999E-2,2.6499999999999999E-2,2.2200000000000001E-2,1.5800000000000002E-2,7.6E-3,-2E-3,-1.2500000000000001E-2,-1.4800000000000001E-2,-1.66E-2,-1.7600000000000001E-2,-1.7899999999999999E-2,-1.7399999999999999E-2,-1.61E-2,-1.4200000000000001E-2,-1.18E-2,-9.1999999999999998E-3,-6.7999999999999996E-3,-4.3E-3,-1.8E-3,6.9999999999999999E-4,3.0999999999999999E-3,5.1999999999999998E-3,6.8999999999999999E-3,8.3000000000000001E-3,9.2999999999999992E-3,9.7999999999999997E-3,0.01]
[45,2.5399999999999999E-2,2.3300000000000001E-2,2.12E-2,1.8800000000000001E-2,1.6E-2,1.2999999999999999E-2,0.01,7.1000000000000004E-3,4.4000000000000003E-3,1.8E-3,-5.0000000000000001E-4,-2.5999999999999999E-3,-4.4000000000000003E-3,-5.5999999999999999E-3,-6.1000000000000004E-3,-5.5999999999999999E-3,-4.0000000000000001E-3,-1.1999999999999999E-3,2.8E-3,7.6E-3,1.29E-2,1.83E-2,2.3300000000000001E-2,2.7699999999999999E-2,3.1E-2,3.3000000000000002E-2,3.3700000000000001E-2,3.3500000000000002E-2,3.2399999999999998E-2,3.0800000000000001E-2,2.8500000000000001E-2,2.5499999999999998E-2,2.1700000000000001E-2,1.7100000000000001E-2,1.21E-2,7.1000000000000004E-3,2.5000000000000001E-3,-1.4E-3,-4.1999999999999997E-3,-5.4000000000000003E-3,-4.7999999999999996E-3,-2.3E-3,2E-3,7.4000000000000003E-3,1.2699999999999999E-2,1.6400000000000001E-2,1.7399999999999999E-2,1.55E-2,1.18E-2,7.9000000000000008E-3,5.1999999999999998E-3,4.7000000000000002E-3,6.4000000000000003E-3,0.01,1.4500000000000001E-2,1.9300000000000001E-2,2.3400000000000001E-2,2.6200000000000001E-2,2.7099999999999999E-2,2.5899999999999999E-2,2.2599999999999999E-2,1.72E-2,1.01E-2,1.6999999999999999E-3,-7.4999999999999997E-3,-9.5999999999999992E-3,-1.15E-2,-1.2800000000000001E-2,-1.3599999999999999E-2,-1.38E-2,-1.3299999999999999E-2,-1.2200000000000001E-2,-1.0500000000000001E-2,-8.5000000000000006E-3,-6.4999999999999997E-3,-4.3E-3,-1.9E-3,5.9999999999999995E-4,2.8999999999999998E-3,5.0000000000000001E-3,6.7999999999999996E-3,8.2000000000000007E-3,9.1999999999999998E-3,9.7999999999999997E-3,0.01]
[46,2.4E-2,2.1999999999999999E-2,0.02,1.77E-2,1.5100000000000001E-2,1.23E-2,9.4999999999999998E-3,6.7000000000000002E-3,4.1999999999999997E-3,1.9E-3,-2.0000000000000001E-4,-2.0999999999999999E-3,-3.5999999999999999E-3,-4.4999999999999997E-3,-4.7999999999999996E-3,-4.1999999999999997E-3,-2.5999999999999999E-3,0,3.7000000000000002E-3,8.2000000000000007E-3,1.2999999999999999E-2,1.7999999999999999E-2,2.2700000000000001E-2,2.69E-2,3.0099999999999998E-2,3.2000000000000001E-2,3.2800000000000003E-2,3.2599999999999997E-2,3.1699999999999999E-2,3.0300000000000001E-2,2.8500000000000001E-2,2.6100000000000002E-2,2.3E-2,1.9099999999999999E-2,1.4800000000000001E-2,1.04E-2,6.1999999999999998E-3,2.7000000000000001E-3,1E-4,-1.1000000000000001E-3,-8.9999999999999998E-4,1E-3,4.1999999999999997E-3,8.2000000000000007E-3,1.21E-2,1.46E-2,1.4800000000000001E-2,1.26E-2,8.9999999999999993E-3,5.3E-3,3.0000000000000001E-3,2.5999999999999999E-3,4.4000000000000003E-3,8.0000000000000002E-3,1.2500000000000001E-2,1.7299999999999999E-2,2.1399999999999999E-2,2.4299999999999999E-2,2.5499999999999998E-2,2.4799999999999999E-2,2.2200000000000001E-2,1.78E-2,1.18E-2,4.7000000000000002E-3,-3.3E-3,-5.1000000000000004E-3,-6.8999999999999999E-3,-8.3999999999999995E-3,-9.4999999999999998E-3,-1.0200000000000001E-2,-1.04E-2,-0.01,-8.9999999999999993E-3,-7.6E-3,-5.8999999999999999E-3,-4.0000000000000001E-3,-1.8E-3,5.0000000000000001E-4,2.8E-3,4.8999999999999998E-3,6.7000000000000002E-3,8.0999999999999996E-3,9.1999999999999998E-3,9.7999999999999997E-3,0.01]
[47,2.2599999999999999E-2,2.07E-2,1.8800000000000001E-2,1.67E-2,1.43E-2,1.1599999999999999E-2,8.8999999999999999E-3,6.3E-3,3.8999999999999998E-3,1.8E-3,0,-1.6000000000000001E-3,-2.8999999999999998E-3,-3.5000000000000001E-3,-3.5999999999999999E-3,-2.8999999999999998E-3,-1.2999999999999999E-3,1.2999999999999999E-3,4.7999999999999996E-3,8.8999999999999999E-3,1.3299999999999999E-2,1.78E-2,2.2200000000000001E-2,2.6100000000000002E-2,2.9100000000000001E-2,3.09E-2,3.1600000000000003E-2,3.15E-2,3.0800000000000001E-2,2.9700000000000001E-2,2.8299999999999999E-2,2.63E-2,2.3699999999999999E-2,2.0400000000000001E-2,1.67E-2,1.2999999999999999E-2,9.4000000000000004E-3,6.4000000000000003E-3,4.1999999999999997E-3,3.0000000000000001E-3,3.0999999999999999E-3,4.3E-3,6.6E-3,9.4999999999999998E-3,1.2200000000000001E-2,1.38E-2,1.3299999999999999E-2,1.0800000000000001E-2,7.1000000000000004E-3,3.3999999999999998E-3,1E-3,6.9999999999999999E-4,2.3999999999999998E-3,5.7999999999999996E-3,1.03E-2,1.4999999999999999E-2,1.9099999999999999E-2,2.1999999999999999E-2,2.3400000000000001E-2,2.3199999999999998E-2,2.12E-2,1.7600000000000001E-2,1.2699999999999999E-2,6.7000000000000002E-3,0,-1.5E-3,-3.0000000000000001E-3,-4.4999999999999997E-3,-5.7999999999999996E-3,-6.8999999999999999E-3,-7.4999999999999997E-3,-7.6E-3,-7.1999999999999998E-3,-6.4000000000000003E-3,-5.1000000000000004E-3,-3.5000000000000001E-3,-1.6000000000000001E-3,5.9999999999999995E-4,2.7000000000000001E-3,4.7999999999999996E-3,6.6E-3,8.0999999999999996E-3,9.1000000000000004E-3,9.7999999999999997E-3,0.01]
[48,2.1299999999999999E-2,1.9599999999999999E-2,1.78E-2,1.5800000000000002E-2,1.35E-2,1.09E-2,8.3000000000000001E-3,5.8999999999999999E-3,3.5999999999999999E-3,1.6999999999999999E-3,1E-4,-1.2999999999999999E-3,-2.3E-3,-2.7000000000000001E-3,-2.5999999999999999E-3,-1.6999999999999999E-3,0,2.5999999999999999E-3,5.8999999999999999E-3,9.7000000000000003E-3,1.38E-2,1.7899999999999999E-2,2.1899999999999999E-2,2.5399999999999999E-2,2.81E-2,2.9700000000000001E-2,3.0300000000000001E-2,3.0300000000000001E-2,2.98E-2,2.8899999999999999E-2,2.7699999999999999E-2,2.6100000000000002E-2,2.3900000000000001E-2,2.12E-2,1.8100000000000002E-2,1.4999999999999999E-2,1.21E-2,9.7000000000000003E-3,7.9000000000000008E-3,6.8999999999999999E-3,6.7999999999999996E-3,7.6E-3,9.1999999999999998E-3,1.12E-2,1.2999999999999999E-2,1.38E-2,1.29E-2,0.01,6.1000000000000004E-3,2.2000000000000001E-3,-4.0000000000000002E-4,-1.1000000000000001E-3,4.0000000000000002E-4,3.5999999999999999E-3,7.9000000000000008E-3,1.2500000000000001E-2,1.66E-2,1.9599999999999999E-2,2.12E-2,2.12E-2,1.9699999999999999E-2,1.6799999999999999E-2,1.2699999999999999E-2,7.7999999999999996E-3,2.3999999999999998E-3,1.2999999999999999E-3,1E-4,-1.1999999999999999E-3,-2.5000000000000001E-3,-3.7000000000000002E-3,-4.7000000000000002E-3,-5.1999999999999998E-3,-5.3E-3,-4.8999999999999998E-3,-4.1000000000000003E-3,-2.8999999999999998E-3,-1.1999999999999999E-3,6.9999999999999999E-4,2.8E-3,4.7000000000000002E-3,6.4999999999999997E-3,8.0000000000000002E-3,9.1000000000000004E-3,9.7999999999999997E-3,0.01]
[49,0.02,1.8499999999999999E-2,1.6899999999999998E-2,1.4999999999999999E-2,1.2800000000000001E-2,1.03E-2,7.7999999999999996E-3,5.4000000000000003E-3,3.3999999999999998E-3,1.6000000000000001E-3,2.0000000000000001E-4,-1E-3,-1.8E-3,-2.0999999999999999E-3,-1.6999999999999999E-3,-6.9999999999999999E-4,1.1000000000000001E-3,3.7000000000000002E-3,6.8999999999999999E-3,1.06E-2,1.44E-2,1.8200000000000001E-2,2.18E-2,2.4899999999999999E-2,2.7099999999999999E-2,2.8500000000000001E-2,2.9100000000000001E-2,2.9000000000000001E-2,2.86E-2,2.7900000000000001E-2,2.69E-2,2.5600000000000001E-2,2.3699999999999999E-2,2.1399999999999999E-2,1.89E-2,1.6400000000000001E-2,1.43E-2,1.2500000000000001E-2,1.12E-2,1.04E-2,1.0200000000000001E-2,1.06E-2,1.1599999999999999E-2,1.2999999999999999E-2,1.43E-2,1.46E-2,1.3299999999999999E-2,1.0200000000000001E-2,6.0000000000000001E-3,1.9E-3,-1.1999999999999999E-3,-2.3E-3,-1.2999999999999999E-3,1.5E-3,5.4999999999999997E-3,0.01,1.4E-2,1.7000000000000001E-2,1.8700000000000001E-2,1.89E-2,1.78E-2,1.54E-2,1.21E-2,8.2000000000000007E-3,3.8999999999999998E-3,3.2000000000000002E-3,2.3999999999999998E-3,1.4E-3,2.0000000000000001E-4,-1E-3,-2.0999999999999999E-3,-2.8999999999999998E-3,-3.3E-3,-3.3E-3,-2.8999999999999998E-3,-2E-3,-6.9999999999999999E-4,1E-3,2.8999999999999998E-3,4.7999999999999996E-3,6.4999999999999997E-3,8.0000000000000002E-3,9.1000000000000004E-3,9.7999999999999997E-3,0.01]
[50,1.9E-2,1.7600000000000001E-2,1.61E-2,1.43E-2,1.2200000000000001E-2,9.7000000000000003E-3,7.3000000000000001E-3,5.0000000000000001E-3,3.2000000000000002E-3,1.6000000000000001E-3,2.9999999999999997E-4,-6.9999999999999999E-4,-1.4E-3,-1.6000000000000001E-3,-1.1999999999999999E-3,0,1.9E-3,4.4999999999999997E-3,7.7999999999999996E-3,1.1299999999999999E-2,1.4999999999999999E-2,1.8599999999999998E-2,2.1899999999999999E-2,2.46E-2,2.6499999999999999E-2,2.75E-2,2.7900000000000001E-2,2.7799999999999998E-2,2.7400000000000001E-2,2.6800000000000001E-2,2.5899999999999999E-2,2.47E-2,2.3099999999999999E-2,2.12E-2,1.9199999999999998E-2,1.7500000000000002E-2,1.6E-2,1.49E-2,1.4E-2,1.34E-2,1.32E-2,1.3299999999999999E-2,1.3899999999999999E-2,1.49E-2,1.5800000000000002E-2,1.5800000000000002E-2,1.4200000000000001E-2,1.0999999999999999E-2,6.6E-3,2.2000000000000001E-3,-1.1999999999999999E-3,-2.8999999999999998E-3,-2.5000000000000001E-3,-1E-4,3.5000000000000001E-3,7.7000000000000002E-3,1.15E-2,1.4500000000000001E-2,1.61E-2,1.6400000000000001E-2,1.55E-2,1.35E-2,1.09E-2,7.7999999999999996E-3,4.5999999999999999E-3,4.3E-3,3.8999999999999998E-3,3.2000000000000002E-3,2.3E-3,1.2999999999999999E-3,2.0000000000000001E-4,-6.9999999999999999E-4,-1.2999999999999999E-3,-1.6000000000000001E-3,-1.5E-3,-1E-3,1E-4,1.5E-3,3.0999999999999999E-3,4.8999999999999998E-3,6.4999999999999997E-3,8.0000000000000002E-3,9.1000000000000004E-3,9.7999999999999997E-3,0.01]
[51,1.8100000000000002E-2,1.6799999999999999E-2,1.54E-2,1.37E-2,1.1599999999999999E-2,9.2999999999999992E-3,6.8999999999999999E-3,4.7999999999999996E-3,3.0000000000000001E-3,1.6000000000000001E-3,4.0000000000000002E-4,-5.9999999999999995E-4,-1.1999999999999999E-3,-1.2999999999999999E-3,-8.0000000000000004E-4,4.0000000000000002E-4,2.3999999999999998E-3,5.0000000000000001E-3,8.3000000000000001E-3,1.1900000000000001E-2,1.5599999999999999E-2,1.9099999999999999E-2,2.2100000000000002E-2,2.4500000000000001E-2,2.6100000000000002E-2,2.69E-2,2.7E-2,2.6800000000000001E-2,2.63E-2,2.5600000000000001E-2,2.47E-2,2.35E-2,2.2200000000000001E-2,2.07E-2,1.9300000000000001E-2,1.8100000000000002E-2,1.7299999999999999E-2,1.67E-2,1.6299999999999999E-2,1.5900000000000001E-2,1.5599999999999999E-2,1.5599999999999999E-2,1.6E-2,1.67E-2,1.7299999999999999E-2,1.7100000000000001E-2,1.55E-2,1.2200000000000001E-2,7.7999999999999996E-3,3.3E-3,-5.0000000000000001E-4,-2.7000000000000001E-3,-2.8E-3,-1.1000000000000001E-3,2E-3,5.7000000000000002E-3,9.1999999999999998E-3,1.18E-2,1.34E-2,1.37E-2,1.29E-2,1.1299999999999999E-2,9.2999999999999992E-3,7.0000000000000001E-3,4.5999999999999999E-3,4.7000000000000002E-3,4.5999999999999999E-3,4.3E-3,3.8E-3,3.0000000000000001E-3,2.2000000000000001E-3,1.2999999999999999E-3,5.9999999999999995E-4,1E-4,0,2.0000000000000001E-4,8.9999999999999998E-4,2E-3,3.5000000000000001E-3,5.0000000000000001E-3,6.6E-3,8.0000000000000002E-3,9.1000000000000004E-3,9.7999999999999997E-3,0.01]
[52,1.7399999999999999E-2,1.6199999999999999E-2,1.49E-2,1.32E-2,1.11E-2,8.8000000000000005E-3,6.4999999999999997E-3,4.5999999999999999E-3,2.8999999999999998E-3,1.6000000000000001E-3,5.0000000000000001E-4,-5.0000000000000001E-4,-1.1000000000000001E-3,-1.1999999999999999E-3,-8.0000000000000004E-4,5.0000000000000001E-4,2.5000000000000001E-3,5.1999999999999998E-3,8.6E-3,1.2200000000000001E-2,1.6E-2,1.95E-2,2.2499999999999999E-2,2.47E-2,2.6100000000000002E-2,2.6599999999999999E-2,2.64E-2,2.5899999999999999E-2,2.5100000000000001E-2,2.4199999999999999E-2,2.3300000000000001E-2,2.2200000000000001E-2,2.1000000000000001E-2,0.02,1.9099999999999999E-2,1.8499999999999999E-2,1.8200000000000001E-2,1.7999999999999999E-2,1.7999999999999999E-2,1.78E-2,1.7600000000000001E-2,1.7600000000000001E-2,1.78E-2,1.84E-2,1.8800000000000001E-2,1.8499999999999999E-2,1.6799999999999999E-2,1.3599999999999999E-2,9.4000000000000004E-3,4.8999999999999998E-3,1E-3,-1.5E-3,-2.2000000000000001E-3,-1.1000000000000001E-3,1.1999999999999999E-3,4.1000000000000003E-3,7.1000000000000004E-3,9.2999999999999992E-3,1.06E-2,1.09E-2,1.0200000000000001E-2,8.9999999999999993E-3,7.4000000000000003E-3,5.7000000000000002E-3,4.0000000000000001E-3,4.4000000000000003E-3,4.7000000000000002E-3,4.7999999999999996E-3,4.5999999999999999E-3,4.3E-3,3.7000000000000002E-3,3.0999999999999999E-3,2.3999999999999998E-3,1.9E-3,1.5E-3,1.5E-3,1.9E-3,2.7000000000000001E-3,3.8999999999999998E-3,5.3E-3,6.7000000000000002E-3,8.0000000000000002E-3,9.1000000000000004E-3,9.7999999999999997E-3,0.01]
[53,1.6899999999999998E-2,1.5699999999999999E-2,1.43E-2,1.2699999999999999E-2,1.0699999999999999E-2,8.3999999999999995E-3,6.3E-3,4.4000000000000003E-3,2.8999999999999998E-3,1.6000000000000001E-3,5.0000000000000001E-4,-5.0000000000000001E-4,-1.1000000000000001E-3,-1.2999999999999999E-3,-8.9999999999999998E-4,2.9999999999999997E-4,2.3E-3,5.1000000000000004E-3,8.5000000000000006E-3,1.23E-2,1.6199999999999999E-2,1.9900000000000001E-2,2.29E-2,2.5100000000000001E-2,2.63E-2,2.6599999999999999E-2,2.6200000000000001E-2,2.52E-2,2.41E-2,2.29E-2,2.18E-2,2.07E-2,1.9800000000000002E-2,1.9099999999999999E-2,1.8700000000000001E-2,1.8499999999999999E-2,1.8700000000000001E-2,1.89E-2,1.9099999999999999E-2,1.9199999999999998E-2,1.9199999999999998E-2,1.9199999999999998E-2,1.9400000000000001E-2,1.9800000000000002E-2,2.01E-2,1.9699999999999999E-2,1.7999999999999999E-2,1.5100000000000001E-2,1.11E-2,6.8999999999999999E-3,3.2000000000000002E-3,5.9999999999999995E-4,-5.9999999999999995E-4,-2.0000000000000001E-4,1.1999999999999999E-3,3.3E-3,5.4000000000000003E-3,7.0000000000000001E-3,8.0000000000000002E-3,8.0999999999999996E-3,7.4999999999999997E-3,6.4999999999999997E-3,5.3E-3,4.1000000000000003E-3,3.0000000000000001E-3,3.7000000000000002E-3,4.1999999999999997E-3,4.7000000000000002E-3,5.0000000000000001E-3,5.0000000000000001E-3,4.8999999999999998E-3,4.4999999999999997E-3,4.0000000000000001E-3,3.3999999999999998E-3,3.0000000000000001E-3,2.8E-3,2.8999999999999998E-3,3.5000000000000001E-3,4.4000000000000003E-3,5.5999999999999999E-3,6.8999999999999999E-3,8.0999999999999996E-3,9.1000000000000004E-3,9.7999999999999997E-3,0.01]
[54,1.6400000000000001E-2,1.52E-2,1.3899999999999999E-2,1.2200000000000001E-2,1.0200000000000001E-2,8.0000000000000002E-3,6.0000000000000001E-3,4.1999999999999997E-3,2.8E-3,1.5E-3,4.0000000000000002E-4,-5.9999999999999995E-4,-1.2999999999999999E-3,-1.5E-3,-1.1999999999999999E-3,-1E-4,1.9E-3,4.7000000000000002E-3,8.3000000000000001E-3,1.2200000000000001E-2,1.6299999999999999E-2,2.01E-2,2.3300000000000001E-2,2.5600000000000001E-2,2.6800000000000001E-2,2.69E-2,2.6200000000000001E-2,2.4799999999999999E-2,2.3199999999999998E-2,2.1700000000000001E-2,2.0299999999999999E-2,1.9300000000000001E-2,1.8599999999999998E-2,1.8200000000000001E-2,1.8100000000000002E-2,1.84E-2,1.8800000000000001E-2,1.9300000000000001E-2,1.9800000000000002E-2,2.01E-2,2.0199999999999999E-2,2.0400000000000001E-2,2.07E-2,2.1000000000000001E-2,2.12E-2,2.06E-2,1.9099999999999999E-2,1.6400000000000001E-2,1.29E-2,9.1999999999999998E-3,5.7999999999999996E-3,3.3E-3,1.8E-3,1.5E-3,2E-3,3.0000000000000001E-3,4.1999999999999997E-3,5.1000000000000004E-3,5.5999999999999999E-3,5.4999999999999997E-3,5.0000000000000001E-3,4.1000000000000003E-3,3.2000000000000002E-3,2.3E-3,1.6999999999999999E-3,2.5000000000000001E-3,3.3999999999999998E-3,4.1999999999999997E-3,4.8999999999999998E-3,5.3E-3,5.4999999999999997E-3,5.4999999999999997E-3,5.3E-3,4.8999999999999998E-3,4.4000000000000003E-3,4.0000000000000001E-3,4.0000000000000001E-3,4.3E-3,5.0000000000000001E-3,6.0000000000000001E-3,7.1000000000000004E-3,8.2000000000000007E-3,9.1000000000000004E-3,9.7999999999999997E-3,0.01]
[55,1.61E-2,1.4800000000000001E-2,1.34E-2,1.17E-2,9.5999999999999992E-3,7.4999999999999997E-3,5.5999999999999999E-3,4.0000000000000001E-3,2.5999999999999999E-3,1.4E-3,2.9999999999999997E-4,-8.0000000000000004E-4,-1.5E-3,-1.8E-3,-1.6000000000000001E-3,-5.0000000000000001E-4,1.4E-3,4.3E-3,7.9000000000000008E-3,1.2E-2,1.6299999999999999E-2,2.0299999999999999E-2,2.3699999999999999E-2,2.6100000000000002E-2,2.7400000000000001E-2,2.7400000000000001E-2,2.64E-2,2.46E-2,2.2599999999999999E-2,2.06E-2,1.9099999999999999E-2,1.7999999999999999E-2,1.7399999999999999E-2,1.72E-2,1.7500000000000002E-2,1.7999999999999999E-2,1.8700000000000001E-2,1.9400000000000001E-2,0.02,2.06E-2,2.0899999999999998E-2,2.1299999999999999E-2,2.1600000000000001E-2,2.1899999999999999E-2,2.1899999999999999E-2,2.1299999999999999E-2,1.9900000000000001E-2,1.7600000000000001E-2,1.47E-2,1.1599999999999999E-2,8.6999999999999994E-3,6.4000000000000003E-3,4.7999999999999996E-3,3.8999999999999998E-3,3.5000000000000001E-3,3.5999999999999999E-3,3.7000000000000002E-3,3.8999999999999998E-3,3.8E-3,3.3E-3,2.7000000000000001E-3,1.8E-3,1.1000000000000001E-3,5.0000000000000001E-4,0,1E-3,2.2000000000000001E-3,3.3E-3,4.3E-3,5.1999999999999998E-3,5.7999999999999996E-3,6.1999999999999998E-3,6.1999999999999998E-3,6.0000000000000001E-3,5.5999999999999999E-3,5.1999999999999998E-3,5.1000000000000004E-3,5.1999999999999998E-3,5.7000000000000002E-3,6.4000000000000003E-3,7.3000000000000001E-3,8.3000000000000001E-3,9.1999999999999998E-3,9.7999999999999997E-3,0.01]
[56,1.5699999999999999E-2,1.43E-2,1.2800000000000001E-2,1.0999999999999999E-2,8.9999999999999993E-3,7.0000000000000001E-3,5.1000000000000004E-3,3.5999999999999999E-3,2.2000000000000001E-3,1E-3,-1E-4,-1.1000000000000001E-3,-1.9E-3,-2.2000000000000001E-3,-1.9E-3,-8.9999999999999998E-4,1E-3,3.8999999999999998E-3,7.6E-3,1.18E-2,1.6199999999999999E-2,2.0299999999999999E-2,2.3900000000000001E-2,2.6499999999999999E-2,2.7799999999999998E-2,2.7799999999999998E-2,2.6599999999999999E-2,2.46E-2,2.2200000000000001E-2,1.9900000000000001E-2,1.8100000000000002E-2,1.6899999999999998E-2,1.6299999999999999E-2,1.6299999999999999E-2,1.67E-2,1.7500000000000002E-2,1.83E-2,1.9199999999999998E-2,0.02,2.07E-2,2.1299999999999999E-2,2.1700000000000001E-2,2.2100000000000002E-2,2.24E-2,2.23E-2,2.18E-2,2.06E-2,1.8700000000000001E-2,1.6400000000000001E-2,1.4E-2,1.1599999999999999E-2,9.5999999999999992E-3,8.0000000000000002E-3,6.7000000000000002E-3,5.5999999999999999E-3,4.7999999999999996E-3,4.0000000000000001E-3,3.3E-3,2.5999999999999999E-3,1.6999999999999999E-3,8.0000000000000004E-4,-2.0000000000000001E-4,-8.9999999999999998E-4,-1.5E-3,-1.8E-3,-6.9999999999999999E-4,6.9999999999999999E-4,2.0999999999999999E-3,3.5000000000000001E-3,4.7999999999999996E-3,5.7999999999999996E-3,6.4999999999999997E-3,6.8999999999999999E-3,7.0000000000000001E-3,6.7000000000000002E-3,6.3E-3,6.0000000000000001E-3,6.0000000000000001E-3,6.3E-3,6.8999999999999999E-3,7.6E-3,8.3999999999999995E-3,9.1999999999999998E-3,9.7999999999999997E-3,0.01]
[57,1.52E-2,1.37E-2,1.21E-2,1.03E-2,8.3000000000000001E-3,6.3E-3,4.4999999999999997E-3,3.0000000000000001E-3,1.6999999999999999E-3,5.0000000000000001E-4,-5.9999999999999995E-4,-1.6000000000000001E-3,-2.3E-3,-2.5999999999999999E-3,-2.3E-3,-1.1999999999999999E-3,8.0000000000000004E-4,3.7000000000000002E-3,7.4000000000000003E-3,1.1599999999999999E-2,1.6E-2,2.0199999999999999E-2,2.3900000000000001E-2,2.6599999999999999E-2,2.8000000000000001E-2,2.8000000000000001E-2,2.6800000000000001E-2,2.46E-2,2.1999999999999999E-2,1.95E-2,1.7500000000000002E-2,1.61E-2,1.54E-2,1.54E-2,1.5900000000000001E-2,1.6799999999999999E-2,1.78E-2,1.8800000000000001E-2,1.9699999999999999E-2,2.06E-2,2.1299999999999999E-2,2.18E-2,2.23E-2,2.2499999999999999E-2,2.2499999999999999E-2,2.2100000000000002E-2,2.12E-2,1.9800000000000002E-2,1.7999999999999999E-2,1.6199999999999999E-2,1.44E-2,1.2699999999999999E-2,1.12E-2,9.7000000000000003E-3,8.0999999999999996E-3,6.6E-3,5.1000000000000004E-3,3.7000000000000002E-3,2.2000000000000001E-3,8.0000000000000004E-4,-5.9999999999999995E-4,-1.8E-3,-2.8E-3,-3.3999999999999998E-3,-3.7000000000000002E-3,-2.5000000000000001E-3,-1E-3,6.9999999999999999E-4,2.5000000000000001E-3,4.1000000000000003E-3,5.4999999999999997E-3,6.6E-3,7.3000000000000001E-3,7.6E-3,7.4999999999999997E-3,7.1999999999999998E-3,6.8999999999999999E-3,6.7999999999999996E-3,7.0000000000000001E-3,7.3000000000000001E-3,7.9000000000000008E-3,8.6E-3,9.2999999999999992E-3,9.7999999999999997E-3,0.01]
[58,1.46E-2,1.2999999999999999E-2,1.1299999999999999E-2,9.4000000000000004E-3,7.4000000000000003E-3,5.4000000000000003E-3,3.7000000000000002E-3,2.2000000000000001E-3,1E-3,-1E-4,-1.1999999999999999E-3,-2.0999999999999999E-3,-2.8E-3,-2.8999999999999998E-3,-2.3999999999999998E-3,-1.1999999999999999E-3,8.0000000000000004E-4,3.7000000000000002E-3,7.4000000000000003E-3,1.15E-2,1.5900000000000001E-2,0.02,2.3699999999999999E-2,2.64E-2,2.7799999999999998E-2,2.7900000000000001E-2,2.6800000000000001E-2,2.47E-2,2.2100000000000002E-2,1.9400000000000001E-2,1.72E-2,1.5599999999999999E-2,1.4800000000000001E-2,1.47E-2,1.52E-2,1.61E-2,1.72E-2,1.83E-2,1.9300000000000001E-2,2.0299999999999999E-2,2.1000000000000001E-2,2.1600000000000001E-2,2.1999999999999999E-2,2.23E-2,2.24E-2,2.2200000000000001E-2,2.1600000000000001E-2,2.07E-2,1.95E-2,1.8200000000000001E-2,1.6899999999999998E-2,1.55E-2,1.41E-2,1.26E-2,1.0800000000000001E-2,8.8999999999999999E-3,6.8999999999999999E-3,4.7999999999999996E-3,2.7000000000000001E-3,6.9999999999999999E-4,-1.2999999999999999E-3,-3.0000000000000001E-3,-4.3E-3,-5.1000000000000004E-3,-5.4999999999999997E-3,-4.3E-3,-2.7000000000000001E-3,-6.9999999999999999E-4,1.2999999999999999E-3,3.2000000000000002E-3,4.8999999999999998E-3,6.4000000000000003E-3,7.4000000000000003E-3,8.0000000000000002E-3,8.0999999999999996E-3,7.9000000000000008E-3,7.7000000000000002E-3,7.4999999999999997E-3,7.6E-3,7.7999999999999996E-3,8.2000000000000007E-3,8.8000000000000005E-3,9.4000000000000004E-3,9.7999999999999997E-3,0.01]
[59,1.38E-2,1.21E-2,1.04E-2,8.5000000000000006E-3,6.4999999999999997E-3,4.4999999999999997E-3,2.8E-3,1.4E-3,2.0000000000000001E-4,-8.9999999999999998E-4,-1.9E-3,-2.7000000000000001E-3,-3.2000000000000002E-3,-3.0999999999999999E-3,-2.5000000000000001E-3,-1.1000000000000001E-3,1E-3,3.8999999999999998E-3,7.4999999999999997E-3,1.15E-2,1.5699999999999999E-2,1.9699999999999999E-2,2.3199999999999998E-2,2.5899999999999999E-2,2.7300000000000001E-2,2.75E-2,2.6499999999999999E-2,2.46E-2,2.2200000000000001E-2,1.95E-2,1.72E-2,1.54E-2,1.44E-2,1.41E-2,1.4500000000000001E-2,1.54E-2,1.6500000000000001E-2,1.77E-2,1.89E-2,1.9800000000000002E-2,2.06E-2,2.1100000000000001E-2,2.1499999999999998E-2,2.18E-2,2.2100000000000002E-2,2.2100000000000002E-2,2.1999999999999999E-2,2.1499999999999998E-2,2.0799999999999999E-2,1.9900000000000001E-2,1.9E-2,1.7899999999999999E-2,1.67E-2,1.5299999999999999E-2,1.35E-2,1.15E-2,9.1000000000000004E-3,6.6E-3,4.0000000000000001E-3,1.2999999999999999E-3,-1.2999999999999999E-3,-3.5999999999999999E-3,-5.4000000000000003E-3,-6.4999999999999997E-3,-7.0000000000000001E-3,-5.8999999999999999E-3,-4.3E-3,-2.2000000000000001E-3,0,2.2000000000000001E-3,4.3E-3,6.0000000000000001E-3,7.4000000000000003E-3,8.2000000000000007E-3,8.5000000000000006E-3,8.3999999999999995E-3,8.2000000000000007E-3,8.0999999999999996E-3,8.0999999999999996E-3,8.2000000000000007E-3,8.5000000000000006E-3,8.9999999999999993E-3,9.4000000000000004E-3,9.7999999999999997E-3,0.01]
[60,1.2999999999999999E-2,1.12E-2,9.4000000000000004E-3,7.4000000000000003E-3,5.4000000000000003E-3,3.5000000000000001E-3,1.8E-3,4.0000000000000002E-4,-6.9999999999999999E-4,-1.6999999999999999E-3,-2.5999999999999999E-3,-3.2000000000000002E-3,-3.5000000000000001E-3,-3.3E-3,-2.3999999999999998E-3,-8.0000000000000004E-4,1.4E-3,4.3E-3,7.7999999999999996E-3,1.1599999999999999E-2,1.55E-2,1.9199999999999998E-2,2.2499999999999999E-2,2.5100000000000001E-2,2.6599999999999999E-2,2.69E-2,2.6100000000000002E-2,2.4400000000000002E-2,2.2200000000000001E-2,1.9699999999999999E-2,1.7399999999999999E-2,1.54E-2,1.41E-2,1.37E-2,1.3899999999999999E-2,1.4800000000000001E-2,1.5900000000000001E-2,1.7100000000000001E-2,1.83E-2,1.9300000000000001E-2,0.02,2.0400000000000001E-2,2.0799999999999999E-2,2.1100000000000001E-2,2.1499999999999998E-2,2.1899999999999999E-2,2.2200000000000001E-2,2.2200000000000001E-2,2.1899999999999999E-2,2.1399999999999999E-2,2.07E-2,1.9900000000000001E-2,1.9E-2,1.77E-2,1.61E-2,1.41E-2,1.1599999999999999E-2,8.8000000000000005E-3,5.7999999999999996E-3,2.5999999999999999E-3,-6.9999999999999999E-4,-3.5999999999999999E-3,-5.7999999999999996E-3,-7.3000000000000001E-3,-8.0999999999999996E-3,-7.3000000000000001E-3,-5.5999999999999999E-3,-3.5000000000000001E-3,-1.1000000000000001E-3,1.2999999999999999E-3,3.5000000000000001E-3,5.4999999999999997E-3,7.1000000000000004E-3,8.2000000000000007E-3,8.6E-3,8.6999999999999994E-3,8.6999999999999994E-3,8.6E-3,8.6E-3,8.6E-3,8.8000000000000005E-3,9.1000000000000004E-3,9.4999999999999998E-3,9.9000000000000008E-3,0.01]
[61,1.1900000000000001E-2,1.01E-2,8.3000000000000001E-3,6.4000000000000003E-3,4.4000000000000003E-3,2.5000000000000001E-3,8.0000000000000004E-4,-5.0000000000000001E-4,-1.6000000000000001E-3,-2.5000000000000001E-3,-3.2000000000000002E-3,-3.7000000000000002E-3,-3.7000000000000002E-3,-3.2000000000000002E-3,-2.0999999999999999E-3,-4.0000000000000002E-4,1.9E-3,4.7000000000000002E-3,8.0000000000000002E-3,1.1599999999999999E-2,1.52E-2,1.8599999999999998E-2,2.1700000000000001E-2,2.41E-2,2.5499999999999998E-2,2.5999999999999999E-2,2.5399999999999999E-2,2.41E-2,2.2100000000000002E-2,1.9900000000000001E-2,1.7600000000000001E-2,1.55E-2,1.41E-2,1.35E-2,1.3599999999999999E-2,1.43E-2,1.54E-2,1.66E-2,1.78E-2,1.8700000000000001E-2,1.9300000000000001E-2,1.9599999999999999E-2,1.9900000000000001E-2,2.0299999999999999E-2,2.0899999999999998E-2,2.1600000000000001E-2,2.23E-2,2.2700000000000001E-2,2.2800000000000001E-2,2.2599999999999999E-2,2.2200000000000001E-2,2.1600000000000001E-2,2.0899999999999998E-2,1.9900000000000001E-2,1.8499999999999999E-2,1.66E-2,1.4200000000000001E-2,1.1299999999999999E-2,7.9000000000000008E-3,4.3E-3,5.9999999999999995E-4,-2.8999999999999998E-3,-5.5999999999999999E-3,-7.4999999999999997E-3,-8.6999999999999994E-3,-8.0999999999999996E-3,-6.6E-3,-4.5999999999999999E-3,-2.2000000000000001E-3,4.0000000000000002E-4,2.8E-3,5.0000000000000001E-3,6.7999999999999996E-3,8.0000000000000002E-3,8.6E-3,8.8000000000000005E-3,8.8999999999999999E-3,8.8999999999999999E-3,8.8999999999999999E-3,8.9999999999999993E-3,9.1000000000000004E-3,9.2999999999999992E-3,9.5999999999999992E-3,9.9000000000000008E-3,0.01]
[62,1.09E-2,8.9999999999999993E-3,7.1999999999999998E-3,5.3E-3,3.3E-3,1.5E-3,-1E-4,-1.2999999999999999E-3,-2.3E-3,-3.0999999999999999E-3,-3.7000000000000002E-3,-4.0000000000000001E-3,-3.8E-3,-3.0999999999999999E-3,-1.8E-3,1E-4,2.3999999999999998E-3,5.1999999999999998E-3,8.3000000000000001E-3,1.15E-2,1.4800000000000001E-2,1.7899999999999999E-2,2.0799999999999999E-2,2.3E-2,2.4400000000000002E-2,2.4899999999999999E-2,2.4500000000000001E-2,2.35E-2,2.1899999999999999E-2,1.9800000000000002E-2,1.77E-2,1.5699999999999999E-2,1.4200000000000001E-2,1.35E-2,1.34E-2,1.4E-2,1.5100000000000001E-2,1.6199999999999999E-2,1.7299999999999999E-2,1.7999999999999999E-2,1.8499999999999999E-2,1.8700000000000001E-2,1.89E-2,1.9400000000000001E-2,2.0199999999999999E-2,2.1100000000000001E-2,2.2100000000000002E-2,2.29E-2,2.3300000000000001E-2,2.35E-2,2.3300000000000001E-2,2.3E-2,2.2499999999999999E-2,2.18E-2,2.06E-2,1.89E-2,1.66E-2,1.3599999999999999E-2,1.0200000000000001E-2,6.3E-3,2.3E-3,-1.5E-3,-4.5999999999999999E-3,-6.8999999999999999E-3,-8.5000000000000006E-3,-8.3000000000000001E-3,-7.1000000000000004E-3,-5.3E-3,-2.8999999999999998E-3,-4.0000000000000002E-4,2.0999999999999999E-3,4.4000000000000003E-3,6.3E-3,7.7000000000000002E-3,8.5000000000000006E-3,8.8000000000000005E-3,8.9999999999999993E-3,9.1000000000000004E-3,9.1999999999999998E-3,9.1999999999999998E-3,9.2999999999999992E-3,9.4999999999999998E-3,9.7000000000000003E-3,9.9000000000000008E-3,0.01]
[63,9.7999999999999997E-3,8.0000000000000002E-3,6.1999999999999998E-3,4.3E-3,2.3999999999999998E-3,5.9999999999999995E-4,-8.9999999999999998E-4,-2.0999999999999999E-3,-3.0000000000000001E-3,-3.5999999999999999E-3,-4.0000000000000001E-3,-4.1000000000000003E-3,-3.7000000000000002E-3,-2.8E-3,-1.4E-3,5.0000000000000001E-4,2.8E-3,5.4999999999999997E-3,8.3999999999999995E-3,1.1299999999999999E-2,1.43E-2,1.72E-2,1.9699999999999999E-2,2.18E-2,2.3099999999999999E-2,2.3699999999999999E-2,2.35E-2,2.2700000000000001E-2,2.1399999999999999E-2,1.9599999999999999E-2,1.77E-2,1.5900000000000001E-2,1.44E-2,1.3599999999999999E-2,1.35E-2,1.4E-2,1.49E-2,1.5900000000000001E-2,1.6799999999999999E-2,1.7399999999999999E-2,1.77E-2,1.78E-2,1.7999999999999999E-2,1.8499999999999999E-2,1.9300000000000001E-2,2.0500000000000001E-2,2.18E-2,2.29E-2,2.3599999999999999E-2,2.41E-2,2.4199999999999999E-2,2.41E-2,2.3900000000000001E-2,2.3300000000000001E-2,2.23E-2,2.0799999999999999E-2,1.8599999999999998E-2,1.5800000000000002E-2,1.24E-2,8.5000000000000006E-3,4.3E-3,2.9999999999999997E-4,-3.0999999999999999E-3,-5.7000000000000002E-3,-7.7000000000000002E-3,-7.7999999999999996E-3,-7.0000000000000001E-3,-5.4999999999999997E-3,-3.3999999999999998E-3,-1E-3,1.5E-3,3.8999999999999998E-3,5.8999999999999999E-3,7.4000000000000003E-3,8.3000000000000001E-3,8.6999999999999994E-3,8.9999999999999993E-3,9.1999999999999998E-3,9.2999999999999992E-3,9.4000000000000004E-3,9.4999999999999998E-3,9.5999999999999992E-3,9.7999999999999997E-3,9.9000000000000008E-3,0.01]
[64,8.8999999999999999E-3,7.1000000000000004E-3,5.3E-3,3.3999999999999998E-3,1.6000000000000001E-3,-1E-4,-1.6000000000000001E-3,-2.5999999999999999E-3,-3.3999999999999998E-3,-4.0000000000000001E-3,-4.1999999999999997E-3,-4.1000000000000003E-3,-3.5999999999999999E-3,-2.5000000000000001E-3,-1E-3,8.9999999999999998E-4,3.0999999999999999E-3,5.5999999999999999E-3,8.3000000000000001E-3,1.0999999999999999E-2,1.37E-2,1.6299999999999999E-2,1.8700000000000001E-2,2.06E-2,2.1899999999999999E-2,2.2499999999999999E-2,2.24E-2,2.18E-2,2.06E-2,1.9099999999999999E-2,1.7500000000000002E-2,1.5900000000000001E-2,1.46E-2,1.38E-2,1.37E-2,1.41E-2,1.49E-2,1.5800000000000002E-2,1.6500000000000001E-2,1.6899999999999998E-2,1.7000000000000001E-2,1.7000000000000001E-2,1.7100000000000001E-2,1.7600000000000001E-2,1.8499999999999999E-2,1.9800000000000002E-2,2.12E-2,2.2599999999999999E-2,2.3699999999999999E-2,2.4400000000000002E-2,2.4899999999999999E-2,2.5000000000000001E-2,2.5000000000000001E-2,2.46E-2,2.3800000000000002E-2,2.24E-2,2.0400000000000001E-2,1.77E-2,1.44E-2,1.06E-2,6.4999999999999997E-3,2.5000000000000001E-3,-1E-3,-4.0000000000000001E-3,-6.4000000000000003E-3,-6.7999999999999996E-3,-6.3E-3,-5.1999999999999998E-3,-3.3999999999999998E-3,-1.2999999999999999E-3,1.1000000000000001E-3,3.3E-3,5.3E-3,6.8999999999999999E-3,7.9000000000000008E-3,8.5000000000000006E-3,8.8999999999999999E-3,9.1999999999999998E-3,9.4000000000000004E-3,9.4999999999999998E-3,9.5999999999999992E-3,9.7000000000000003E-3,9.7999999999999997E-3,9.9000000000000008E-3,0.01]
[65,8.2000000000000007E-3,6.4000000000000003E-3,4.5999999999999999E-3,2.8E-3,1E-3,-6.9999999999999999E-4,-2E-3,-3.0000000000000001E-3,-3.7000000000000002E-3,-4.1000000000000003E-3,-4.1999999999999997E-3,-4.0000000000000001E-3,-3.3E-3,-2.2000000000000001E-3,-6.9999999999999999E-4,1.1000000000000001E-3,3.2000000000000002E-3,5.5999999999999999E-3,8.0000000000000002E-3,1.06E-2,1.3100000000000001E-2,1.55E-2,1.77E-2,1.95E-2,2.07E-2,2.1299999999999999E-2,2.12E-2,2.07E-2,1.9699999999999999E-2,1.8499999999999999E-2,1.7100000000000001E-2,1.5699999999999999E-2,1.47E-2,1.4E-2,1.4E-2,1.43E-2,1.4999999999999999E-2,1.5699999999999999E-2,1.6299999999999999E-2,1.6500000000000001E-2,1.6500000000000001E-2,1.6299999999999999E-2,1.6299999999999999E-2,1.67E-2,1.7600000000000001E-2,1.9E-2,2.0500000000000001E-2,2.2100000000000002E-2,2.3400000000000001E-2,2.4500000000000001E-2,2.53E-2,2.5700000000000001E-2,2.5899999999999999E-2,2.5700000000000001E-2,2.4899999999999999E-2,2.3599999999999999E-2,2.18E-2,1.9300000000000001E-2,1.6199999999999999E-2,1.26E-2,8.6999999999999994E-3,4.7999999999999996E-3,1.2999999999999999E-3,-1.8E-3,-4.4999999999999997E-3,-5.1999999999999998E-3,-5.1000000000000004E-3,-4.4000000000000003E-3,-3.0999999999999999E-3,-1.2999999999999999E-3,8.0000000000000004E-4,2.8999999999999998E-3,4.7999999999999996E-3,6.4000000000000003E-3,7.4999999999999997E-3,8.2000000000000007E-3,8.8000000000000005E-3,9.1999999999999998E-3,9.4000000000000004E-3,9.5999999999999992E-3,9.7000000000000003E-3,9.7999999999999997E-3,9.9000000000000008E-3,0.01,0.01]
[66,7.7000000000000002E-3,5.8999999999999999E-3,4.1000000000000003E-3,2.3E-3,5.9999999999999995E-4,-1E-3,-2.3E-3,-3.0999999999999999E-3,-3.7000000000000002E-3,-4.0000000000000001E-3,-4.1000000000000003E-3,-3.8E-3,-3.0999999999999999E-3,-2E-3,-5.9999999999999995E-4,1.1999999999999999E-3,3.2000000000000002E-3,5.3E-3,7.7000000000000002E-3,0.01,1.24E-2,1.47E-2,1.67E-2,1.84E-2,1.9599999999999999E-2,2.01E-2,0.02,1.95E-2,1.8700000000000001E-2,1.7600000000000001E-2,1.6500000000000001E-2,1.54E-2,1.46E-2,1.4200000000000001E-2,1.4200000000000001E-2,1.46E-2,1.52E-2,1.5800000000000002E-2,1.6299999999999999E-2,1.6299999999999999E-2,1.61E-2,1.5800000000000002E-2,1.5699999999999999E-2,1.6E-2,1.6799999999999999E-2,1.8100000000000002E-2,1.9599999999999999E-2,2.1399999999999999E-2,2.3E-2,2.4400000000000002E-2,2.5499999999999998E-2,2.6200000000000001E-2,2.6599999999999999E-2,2.6499999999999999E-2,2.58E-2,2.46E-2,2.2800000000000001E-2,2.0500000000000001E-2,1.7600000000000001E-2,1.43E-2,1.0699999999999999E-2,7.1000000000000004E-3,3.5999999999999999E-3,4.0000000000000002E-4,-2.5000000000000001E-3,-3.3E-3,-3.5000000000000001E-3,-3.2000000000000002E-3,-2.3E-3,-1E-3,6.9999999999999999E-4,2.5000000000000001E-3,4.3E-3,5.8999999999999999E-3,7.1000000000000004E-3,7.9000000000000008E-3,8.5000000000000006E-3,8.9999999999999993E-3,9.4000000000000004E-3,9.5999999999999992E-3,9.7000000000000003E-3,9.7999999999999997E-3,9.9000000000000008E-3,0.01,0.01]
[67,7.4999999999999997E-3,5.7000000000000002E-3,3.8999999999999998E-3,2.0999999999999999E-3,4.0000000000000002E-4,-1.1000000000000001E-3,-2.3E-3,-3.0999999999999999E-3,-3.5999999999999999E-3,-3.8999999999999998E-3,-3.8999999999999998E-3,-3.5999999999999999E-3,-2.8999999999999998E-3,-1.8E-3,-5.0000000000000001E-4,1.1000000000000001E-3,2.8999999999999998E-3,5.0000000000000001E-3,7.1999999999999998E-3,9.4000000000000004E-3,1.17E-2,1.3899999999999999E-2,1.5900000000000001E-2,1.7500000000000002E-2,1.8499999999999999E-2,1.9E-2,1.89E-2,1.84E-2,1.7600000000000001E-2,1.66E-2,1.5699999999999999E-2,1.4999999999999999E-2,1.44E-2,1.4200000000000001E-2,1.44E-2,1.49E-2,1.55E-2,1.6E-2,1.6299999999999999E-2,1.6299999999999999E-2,1.5900000000000001E-2,1.54E-2,1.52E-2,1.5299999999999999E-2,1.6E-2,1.72E-2,1.8700000000000001E-2,2.0500000000000001E-2,2.23E-2,2.4E-2,2.5399999999999999E-2,2.6499999999999999E-2,2.7E-2,2.7099999999999999E-2,2.6499999999999999E-2,2.5399999999999999E-2,2.3699999999999999E-2,2.1499999999999998E-2,1.8800000000000001E-2,1.5800000000000002E-2,1.24E-2,8.9999999999999993E-3,5.7000000000000002E-3,2.5999999999999999E-3,-4.0000000000000002E-4,-1.1999999999999999E-3,-1.6999999999999999E-3,-1.6999999999999999E-3,-1.2999999999999999E-3,-4.0000000000000002E-4,8.9999999999999998E-4,2.3999999999999998E-3,3.8999999999999998E-3,5.4000000000000003E-3,6.6E-3,7.4999999999999997E-3,8.2000000000000007E-3,8.8000000000000005E-3,9.1999999999999998E-3,9.4999999999999998E-3,9.7000000000000003E-3,9.7999999999999997E-3,9.9000000000000008E-3,0.01,0.01]
[68,7.6E-3,5.7999999999999996E-3,4.0000000000000001E-3,2.2000000000000001E-3,5.0000000000000001E-4,-1E-3,-2.2000000000000001E-3,-2.8999999999999998E-3,-3.3999999999999998E-3,-3.5999999999999999E-3,-3.5999999999999999E-3,-3.3E-3,-2.7000000000000001E-3,-1.8E-3,-5.9999999999999995E-4,8.9999999999999998E-4,2.5999999999999999E-3,4.4999999999999997E-3,6.6E-3,8.8000000000000005E-3,1.11E-2,1.32E-2,1.5100000000000001E-2,1.67E-2,1.7600000000000001E-2,1.7999999999999999E-2,1.78E-2,1.72E-2,1.6500000000000001E-2,1.5599999999999999E-2,1.49E-2,1.43E-2,1.4E-2,1.4E-2,1.44E-2,1.5100000000000001E-2,1.5699999999999999E-2,1.6299999999999999E-2,1.6500000000000001E-2,1.6400000000000001E-2,1.5900000000000001E-2,1.5299999999999999E-2,1.4800000000000001E-2,1.4800000000000001E-2,1.5299999999999999E-2,1.6299999999999999E-2,1.78E-2,1.9599999999999999E-2,2.1600000000000001E-2,2.35E-2,2.52E-2,2.6499999999999999E-2,2.7300000000000001E-2,2.75E-2,2.7E-2,2.5899999999999999E-2,2.4299999999999999E-2,2.2200000000000001E-2,1.9699999999999999E-2,1.6899999999999998E-2,1.38E-2,1.06E-2,7.4999999999999997E-3,4.4999999999999997E-3,1.6000000000000001E-3,8.0000000000000004E-4,2.0000000000000001E-4,-1E-4,0,4.0000000000000002E-4,1.2999999999999999E-3,2.3999999999999998E-3,3.7000000000000002E-3,5.0000000000000001E-3,6.1000000000000004E-3,7.1000000000000004E-3,7.9000000000000008E-3,8.6E-3,9.1000000000000004E-3,9.4999999999999998E-3,9.7000000000000003E-3,9.7999999999999997E-3,9.9000000000000008E-3,0.01,0.01]
[69,7.9000000000000008E-3,6.1000000000000004E-3,4.1999999999999997E-3,2.3999999999999998E-3,6.9999999999999999E-4,-6.9999999999999999E-4,-1.9E-3,-2.5999999999999999E-3,-3.0999999999999999E-3,-3.3E-3,-3.3E-3,-3.0999999999999999E-3,-2.5999999999999999E-3,-1.8E-3,-8.0000000000000004E-4,5.0000000000000001E-4,2.0999999999999999E-3,4.0000000000000001E-3,6.1000000000000004E-3,8.3000000000000001E-3,1.0500000000000001E-2,1.26E-2,1.4500000000000001E-2,1.6E-2,1.6899999999999998E-2,1.7100000000000001E-2,1.6799999999999999E-2,1.6199999999999999E-2,1.54E-2,1.46E-2,1.3899999999999999E-2,1.35E-2,1.34E-2,1.37E-2,1.43E-2,1.5100000000000001E-2,1.5900000000000001E-2,1.6500000000000001E-2,1.6799999999999999E-2,1.66E-2,1.6E-2,1.52E-2,1.46E-2,1.44E-2,1.47E-2,1.55E-2,1.6799999999999999E-2,1.8599999999999998E-2,2.07E-2,2.2800000000000001E-2,2.47E-2,2.63E-2,2.7300000000000001E-2,2.7699999999999999E-2,2.7300000000000001E-2,2.64E-2,2.4799999999999999E-2,2.2800000000000001E-2,2.0400000000000001E-2,1.77E-2,1.4800000000000001E-2,1.18E-2,8.8000000000000005E-3,6.0000000000000001E-3,3.3999999999999998E-3,2.5999999999999999E-3,2E-3,1.5E-3,1.2999999999999999E-3,1.4E-3,1.9E-3,2.5999999999999999E-3,3.5999999999999999E-3,4.7000000000000002E-3,5.7000000000000002E-3,6.7000000000000002E-3,7.6E-3,8.3000000000000001E-3,8.8999999999999999E-3,9.2999999999999992E-3,9.5999999999999992E-3,9.7999999999999997E-3,9.9000000000000008E-3,0.01,0.01]
[70,8.3999999999999995E-3,6.6E-3,4.7000000000000002E-3,2.8999999999999998E-3,1.1999999999999999E-3,-2.9999999999999997E-4,-1.4E-3,-2.2000000000000001E-3,-2.7000000000000001E-3,-2.8999999999999998E-3,-3.0000000000000001E-3,-2.8999999999999998E-3,-2.5000000000000001E-3,-1.9E-3,-1E-3,2.0000000000000001E-4,1.6999999999999999E-3,3.5000000000000001E-3,5.5999999999999999E-3,7.7999999999999996E-3,0.01,1.21E-2,1.4E-2,1.54E-2,1.6199999999999999E-2,1.6299999999999999E-2,1.6E-2,1.52E-2,1.44E-2,1.3599999999999999E-2,1.2999999999999999E-2,1.2699999999999999E-2,1.2699999999999999E-2,1.32E-2,1.4E-2,1.4999999999999999E-2,1.6E-2,1.67E-2,1.7000000000000001E-2,1.6799999999999999E-2,1.6199999999999999E-2,1.5299999999999999E-2,1.4500000000000001E-2,1.41E-2,1.4200000000000001E-2,1.4800000000000001E-2,1.6E-2,1.77E-2,1.9800000000000002E-2,2.1999999999999999E-2,2.4199999999999999E-2,2.5899999999999999E-2,2.7199999999999998E-2,2.7699999999999999E-2,2.75E-2,2.6599999999999999E-2,2.52E-2,2.3199999999999998E-2,2.0899999999999998E-2,1.83E-2,1.55E-2,1.26E-2,9.9000000000000008E-3,7.1999999999999998E-3,4.7999999999999996E-3,4.1999999999999997E-3,3.5999999999999999E-3,3.0999999999999999E-3,2.7000000000000001E-3,2.5999999999999999E-3,2.7000000000000001E-3,3.0999999999999999E-3,3.7000000000000002E-3,4.5999999999999999E-3,5.4999999999999997E-3,6.4000000000000003E-3,7.3000000000000001E-3,8.0999999999999996E-3,8.6999999999999994E-3,9.1999999999999998E-3,9.5999999999999992E-3,9.7999999999999997E-3,9.9000000000000008E-3,0.01,0.01]
[71,8.9999999999999993E-3,7.1000000000000004E-3,5.1999999999999998E-3,3.3999999999999998E-3,1.6999999999999999E-3,2.9999999999999997E-4,-8.9999999999999998E-4,-1.6999999999999999E-3,-2.2000000000000001E-3,-2.5999999999999999E-3,-2.7000000000000001E-3,-2.8E-3,-2.5999999999999999E-3,-2.0999999999999999E-3,-1.2999999999999999E-3,-2.0000000000000001E-4,1.2999999999999999E-3,3.0999999999999999E-3,5.1999999999999998E-3,7.4000000000000003E-3,9.5999999999999992E-3,1.17E-2,1.3599999999999999E-2,1.49E-2,1.5599999999999999E-2,1.5699999999999999E-2,1.52E-2,1.44E-2,1.35E-2,1.26E-2,1.2E-2,1.18E-2,1.1900000000000001E-2,1.2500000000000001E-2,1.35E-2,1.47E-2,1.5900000000000001E-2,1.67E-2,1.7100000000000001E-2,1.7000000000000001E-2,1.6299999999999999E-2,1.54E-2,1.4500000000000001E-2,1.3899999999999999E-2,1.38E-2,1.4200000000000001E-2,1.52E-2,1.6799999999999999E-2,1.89E-2,2.12E-2,2.35E-2,2.5399999999999999E-2,2.6800000000000001E-2,2.76E-2,2.75E-2,2.6800000000000001E-2,2.5399999999999999E-2,2.35E-2,2.12E-2,1.8599999999999998E-2,1.5900000000000001E-2,1.32E-2,1.0500000000000001E-2,8.0999999999999996E-3,5.8999999999999999E-3,5.4000000000000003E-3,4.8999999999999998E-3,4.4000000000000003E-3,4.0000000000000001E-3,3.7000000000000002E-3,3.5999999999999999E-3,3.7000000000000002E-3,4.0000000000000001E-3,4.5999999999999999E-3,5.3E-3,6.1000000000000004E-3,7.0000000000000001E-3,7.7999999999999996E-3,8.5000000000000006E-3,9.1000000000000004E-3,9.4999999999999998E-3,9.7000000000000003E-3,9.9000000000000008E-3,0.01,0.01]
[72,9.5999999999999992E-3,7.7000000000000002E-3,5.7999999999999996E-3,4.0000000000000001E-3,2.3E-3,8.0000000000000004E-4,-2.9999999999999997E-4,-1.1999999999999999E-3,-1.8E-3,-2.3E-3,-2.5000000000000001E-3,-2.7000000000000001E-3,-2.5999999999999999E-3,-2.2000000000000001E-3,-1.6000000000000001E-3,-5.0000000000000001E-4,8.9999999999999998E-4,2.8E-3,4.8999999999999998E-3,7.1000000000000004E-3,9.4000000000000004E-3,1.15E-2,1.3299999999999999E-2,1.4500000000000001E-2,1.52E-2,1.5100000000000001E-2,1.46E-2,1.37E-2,1.2699999999999999E-2,1.17E-2,1.11E-2,1.0800000000000001E-2,1.0999999999999999E-2,1.18E-2,1.29E-2,1.43E-2,1.5599999999999999E-2,1.66E-2,1.7100000000000001E-2,1.7000000000000001E-2,1.6400000000000001E-2,1.55E-2,1.4500000000000001E-2,1.38E-2,1.35E-2,1.37E-2,1.46E-2,1.61E-2,1.8100000000000002E-2,2.0400000000000001E-2,2.2700000000000001E-2,2.4799999999999999E-2,2.64E-2,2.7300000000000001E-2,2.7400000000000001E-2,2.6800000000000001E-2,2.5499999999999998E-2,2.3599999999999999E-2,2.1399999999999999E-2,1.8800000000000001E-2,1.61E-2,1.34E-2,1.09E-2,8.6E-3,6.6E-3,6.3E-3,5.8999999999999999E-3,5.4999999999999997E-3,5.1000000000000004E-3,4.7000000000000002E-3,4.4999999999999997E-3,4.4000000000000003E-3,4.4999999999999997E-3,4.8999999999999998E-3,5.4000000000000003E-3,6.0000000000000001E-3,6.7999999999999996E-3,7.6E-3,8.3000000000000001E-3,8.8999999999999999E-3,9.4000000000000004E-3,9.7000000000000003E-3,9.9000000000000008E-3,0.01,0.01]
[73,1.01E-2,8.2000000000000007E-3,6.4000000000000003E-3,4.5999999999999999E-3,2.8999999999999998E-3,1.4E-3,2.0000000000000001E-4,-6.9999999999999999E-4,-1.4E-3,-2E-3,-2.3999999999999998E-3,-2.5999999999999999E-3,-2.7000000000000001E-3,-2.3999999999999998E-3,-1.6999999999999999E-3,-6.9999999999999999E-4,6.9999999999999999E-4,2.5999999999999999E-3,4.7000000000000002E-3,7.0000000000000001E-3,9.1999999999999998E-3,1.1299999999999999E-2,1.2999999999999999E-2,1.4200000000000001E-2,1.4800000000000001E-2,1.47E-2,1.4E-2,1.2999999999999999E-2,1.1900000000000001E-2,1.09E-2,1.0200000000000001E-2,9.9000000000000008E-3,1.0200000000000001E-2,1.09E-2,1.2200000000000001E-2,1.37E-2,1.5100000000000001E-2,1.6299999999999999E-2,1.6899999999999998E-2,1.7000000000000001E-2,1.6400000000000001E-2,1.55E-2,1.4500000000000001E-2,1.37E-2,1.32E-2,1.34E-2,1.41E-2,1.54E-2,1.7299999999999999E-2,1.9599999999999999E-2,2.1899999999999999E-2,2.41E-2,2.58E-2,2.6800000000000001E-2,2.7099999999999999E-2,2.6599999999999999E-2,2.5399999999999999E-2,2.3599999999999999E-2,2.1399999999999999E-2,1.8800000000000001E-2,1.6199999999999999E-2,1.3599999999999999E-2,1.11E-2,8.8999999999999999E-3,7.0000000000000001E-3,6.7999999999999996E-3,6.6E-3,6.3E-3,6.0000000000000001E-3,5.7000000000000002E-3,5.4000000000000003E-3,5.1999999999999998E-3,5.1000000000000004E-3,5.3E-3,5.5999999999999999E-3,6.1000000000000004E-3,6.7000000000000002E-3,7.4000000000000003E-3,8.2000000000000007E-3,8.8000000000000005E-3,9.2999999999999992E-3,9.5999999999999992E-3,9.9000000000000008E-3,0.01,0.01]
[74,1.04E-2,8.6E-3,6.7999999999999996E-3,5.1000000000000004E-3,3.3999999999999998E-3,2E-3,6.9999999999999999E-4,-2.9999999999999997E-4,-1.1000000000000001E-3,-1.6999999999999999E-3,-2.2000000000000001E-3,-2.5999999999999999E-3,-2.7000000000000001E-3,-2.3999999999999998E-3,-1.8E-3,-8.0000000000000004E-4,6.9999999999999999E-4,2.5000000000000001E-3,4.7000000000000002E-3,6.8999999999999999E-3,9.1000000000000004E-3,1.11E-2,1.2800000000000001E-2,1.4E-2,1.4500000000000001E-2,1.43E-2,1.3599999999999999E-2,1.2500000000000001E-2,1.1299999999999999E-2,1.0200000000000001E-2,9.4000000000000004E-3,9.1000000000000004E-3,9.2999999999999992E-3,1.01E-2,1.14E-2,1.29E-2,1.4500000000000001E-2,1.5800000000000002E-2,1.6500000000000001E-2,1.67E-2,1.6199999999999999E-2,1.54E-2,1.44E-2,1.35E-2,1.2999999999999999E-2,1.3100000000000001E-2,1.37E-2,1.49E-2,1.67E-2,1.8800000000000001E-2,2.1100000000000001E-2,2.3300000000000001E-2,2.5100000000000001E-2,2.63E-2,2.6700000000000002E-2,2.63E-2,2.52E-2,2.35E-2,2.1299999999999999E-2,1.8800000000000001E-2,1.6199999999999999E-2,1.3599999999999999E-2,1.12E-2,8.9999999999999993E-3,7.1000000000000004E-3,7.1000000000000004E-3,7.0000000000000001E-3,6.8999999999999999E-3,6.7000000000000002E-3,6.4000000000000003E-3,6.1999999999999998E-3,5.8999999999999999E-3,5.7999999999999996E-3,5.7999999999999996E-3,5.8999999999999999E-3,6.1999999999999998E-3,6.7000000000000002E-3,7.4000000000000003E-3,8.0000000000000002E-3,8.6999999999999994E-3,9.1999999999999998E-3,9.5999999999999992E-3,9.7999999999999997E-3,0.01,0.01]
[75,1.0500000000000001E-2,8.8000000000000005E-3,7.1000000000000004E-3,5.4000000000000003E-3,3.8E-3,2.3999999999999998E-3,1.1999999999999999E-3,1E-4,-8.0000000000000004E-4,-1.5E-3,-2.0999999999999999E-3,-2.5000000000000001E-3,-2.7000000000000001E-3,-2.3999999999999998E-3,-1.8E-3,-6.9999999999999999E-4,6.9999999999999999E-4,2.5999999999999999E-3,4.7000000000000002E-3,6.8999999999999999E-3,9.1000000000000004E-3,1.11E-2,1.2699999999999999E-2,1.38E-2,1.43E-2,1.4E-2,1.3299999999999999E-2,1.21E-2,1.0800000000000001E-2,9.5999999999999992E-3,8.6999999999999994E-3,8.3000000000000001E-3,8.5000000000000006E-3,9.1999999999999998E-3,1.0500000000000001E-2,1.21E-2,1.37E-2,1.4999999999999999E-2,1.5900000000000001E-2,1.6199999999999999E-2,1.5800000000000002E-2,1.5100000000000001E-2,1.41E-2,1.3299999999999999E-2,1.2800000000000001E-2,1.2800000000000001E-2,1.3299999999999999E-2,1.44E-2,1.61E-2,1.8100000000000002E-2,2.0400000000000001E-2,2.2499999999999999E-2,2.4400000000000002E-2,2.5600000000000001E-2,2.6200000000000001E-2,2.5899999999999999E-2,2.4899999999999999E-2,2.3300000000000001E-2,2.1100000000000001E-2,1.8700000000000001E-2,1.61E-2,1.35E-2,1.11E-2,8.9999999999999993E-3,7.0000000000000001E-3,7.1000000000000004E-3,7.1999999999999998E-3,7.1999999999999998E-3,7.1000000000000004E-3,7.0000000000000001E-3,6.7999999999999996E-3,6.6E-3,6.4000000000000003E-3,6.3E-3,6.4000000000000003E-3,6.4999999999999997E-3,6.8999999999999999E-3,7.4000000000000003E-3,8.0000000000000002E-3,8.6E-3,9.1000000000000004E-3,9.4999999999999998E-3,9.7999999999999997E-3,0.01,0.01]
[76,1.0500000000000001E-2,8.8999999999999999E-3,7.1999999999999998E-3,5.5999999999999999E-3,4.1000000000000003E-3,2.7000000000000001E-3,1.5E-3,4.0000000000000002E-4,-5.9999999999999995E-4,-1.4E-3,-2E-3,-2.3999999999999998E-3,-2.5999999999999999E-3,-2.3E-3,-1.6000000000000001E-3,-5.9999999999999995E-4,8.9999999999999998E-4,2.8E-3,4.7999999999999996E-3,7.0000000000000001E-3,9.1999999999999998E-3,1.11E-2,1.2699999999999999E-2,1.37E-2,1.41E-2,1.38E-2,1.2999999999999999E-2,1.18E-2,1.04E-2,9.1000000000000004E-3,8.2000000000000007E-3,7.6E-3,7.7000000000000002E-3,8.3999999999999995E-3,9.5999999999999992E-3,1.11E-2,1.2699999999999999E-2,1.41E-2,1.5100000000000001E-2,1.54E-2,1.52E-2,1.46E-2,1.37E-2,1.2999999999999999E-2,1.2500000000000001E-2,1.2500000000000001E-2,1.2999999999999999E-2,1.4E-2,1.5599999999999999E-2,1.7500000000000002E-2,1.9699999999999999E-2,2.18E-2,2.3599999999999999E-2,2.5000000000000001E-2,2.5600000000000001E-2,2.5399999999999999E-2,2.4500000000000001E-2,2.29E-2,2.0799999999999999E-2,1.84E-2,1.5900000000000001E-2,1.34E-2,1.0999999999999999E-2,8.8000000000000005E-3,6.7999999999999996E-3,7.0000000000000001E-3,7.1000000000000004E-3,7.3000000000000001E-3,7.4000000000000003E-3,7.4000000000000003E-3,7.3000000000000001E-3,7.1999999999999998E-3,7.0000000000000001E-3,6.8999999999999999E-3,6.7999999999999996E-3,6.8999999999999999E-3,7.1000000000000004E-3,7.4999999999999997E-3,8.0000000000000002E-3,8.5000000000000006E-3,9.1000000000000004E-3,9.4999999999999998E-3,9.7999999999999997E-3,0.01,0.01]
[77,1.0200000000000001E-2,8.6999999999999994E-3,7.1999999999999998E-3,5.7000000000000002E-3,4.1999999999999997E-3,2.8E-3,1.6000000000000001E-3,5.0000000000000001E-4,-4.0000000000000002E-4,-1.1999999999999999E-3,-1.9E-3,-2.3E-3,-2.3999999999999998E-3,-2.0999999999999999E-3,-1.4E-3,-2.9999999999999997E-4,1.1999999999999999E-3,3.0000000000000001E-3,5.1000000000000004E-3,7.1999999999999998E-3,9.2999999999999992E-3,1.12E-2,1.2699999999999999E-2,1.37E-2,1.4E-2,1.37E-2,1.2800000000000001E-2,1.1599999999999999E-2,1.01E-2,8.8000000000000005E-3,7.7000000000000002E-3,7.1000000000000004E-3,7.0000000000000001E-3,7.6E-3,8.6999999999999994E-3,1.01E-2,1.17E-2,1.3100000000000001E-2,1.41E-2,1.4500000000000001E-2,1.44E-2,1.3899999999999999E-2,1.3100000000000001E-2,1.2500000000000001E-2,1.21E-2,1.21E-2,1.26E-2,1.3599999999999999E-2,1.5100000000000001E-2,1.7000000000000001E-2,1.9E-2,2.1100000000000001E-2,2.29E-2,2.4199999999999999E-2,2.4899999999999999E-2,2.4799999999999999E-2,2.4E-2,2.2499999999999999E-2,2.0500000000000001E-2,1.8100000000000002E-2,1.5699999999999999E-2,1.32E-2,1.0800000000000001E-2,8.6E-3,6.4999999999999997E-3,6.7000000000000002E-3,7.0000000000000001E-3,7.1999999999999998E-3,7.4999999999999997E-3,7.6E-3,7.7000000000000002E-3,7.7000000000000002E-3,7.6E-3,7.4000000000000003E-3,7.3000000000000001E-3,7.3000000000000001E-3,7.4000000000000003E-3,7.7000000000000002E-3,8.0999999999999996E-3,8.6E-3,8.9999999999999993E-3,9.4000000000000004E-3,9.7999999999999997E-3,9.9000000000000008E-3,0.01]
[78,9.7000000000000003E-3,8.3000000000000001E-3,6.8999999999999999E-3,5.4999999999999997E-3,4.1000000000000003E-3,2.8E-3,1.6000000000000001E-3,5.0000000000000001E-4,-4.0000000000000002E-4,-1.1999999999999999E-3,-1.8E-3,-2.0999999999999999E-3,-2.2000000000000001E-3,-1.8E-3,-1.1000000000000001E-3,1E-4,1.5E-3,3.3E-3,5.3E-3,7.4000000000000003E-3,9.4999999999999998E-3,1.1299999999999999E-2,1.2800000000000001E-2,1.37E-2,1.4E-2,1.3599999999999999E-2,1.2699999999999999E-2,1.14E-2,9.9000000000000008E-3,8.5000000000000006E-3,7.3000000000000001E-3,6.6E-3,6.4000000000000003E-3,6.7999999999999996E-3,7.7999999999999996E-3,9.1000000000000004E-3,1.06E-2,1.1900000000000001E-2,1.29E-2,1.34E-2,1.34E-2,1.2999999999999999E-2,1.24E-2,1.1900000000000001E-2,1.1599999999999999E-2,1.1599999999999999E-2,1.2200000000000001E-2,1.32E-2,1.46E-2,1.6500000000000001E-2,1.8499999999999999E-2,2.0400000000000001E-2,2.2200000000000001E-2,2.35E-2,2.4199999999999999E-2,2.41E-2,2.3300000000000001E-2,2.1899999999999999E-2,0.02,1.78E-2,1.54E-2,1.29E-2,1.06E-2,8.3000000000000001E-3,6.1999999999999998E-3,6.4000000000000003E-3,6.7000000000000002E-3,7.1000000000000004E-3,7.4000000000000003E-3,7.7000000000000002E-3,7.9000000000000008E-3,8.0000000000000002E-3,8.0000000000000002E-3,7.9000000000000008E-3,7.7999999999999996E-3,7.7000000000000002E-3,7.7999999999999996E-3,8.0000000000000002E-3,8.2000000000000007E-3,8.6E-3,8.9999999999999993E-3,9.4000000000000004E-3,9.7000000000000003E-3,9.9000000000000008E-3,0.01]
[79,9.1000000000000004E-3,7.7999999999999996E-3,6.4999999999999997E-3,5.1999999999999998E-3,3.8E-3,2.5999999999999999E-3,1.4E-3,4.0000000000000002E-4,-5.0000000000000001E-4,-1.1999999999999999E-3,-1.6999999999999999E-3,-2E-3,-1.9E-3,-1.5E-3,-6.9999999999999999E-4,5.0000000000000001E-4,2E-3,3.7000000000000002E-3,5.7000000000000002E-3,7.7000000000000002E-3,9.7000000000000003E-3,1.14E-2,1.2800000000000001E-2,1.37E-2,1.4E-2,1.3599999999999999E-2,1.26E-2,1.1299999999999999E-2,9.7999999999999997E-3,8.3000000000000001E-3,7.0000000000000001E-3,6.1999999999999998E-3,5.8999999999999999E-3,6.1999999999999998E-3,7.0000000000000001E-3,8.0999999999999996E-3,9.4000000000000004E-3,1.06E-2,1.1599999999999999E-2,1.21E-2,1.2200000000000001E-2,1.1900000000000001E-2,1.14E-2,1.0999999999999999E-2,1.09E-2,1.0999999999999999E-2,1.1599999999999999E-2,1.2699999999999999E-2,1.41E-2,1.5900000000000001E-2,1.7899999999999999E-2,1.9800000000000002E-2,2.1499999999999998E-2,2.2800000000000001E-2,2.3400000000000001E-2,2.3400000000000001E-2,2.2700000000000001E-2,2.1299999999999999E-2,1.95E-2,1.7399999999999999E-2,1.4999999999999999E-2,1.26E-2,1.03E-2,8.0999999999999996E-3,5.8999999999999999E-3,6.1000000000000004E-3,6.4999999999999997E-3,6.7999999999999996E-3,7.3000000000000001E-3,7.6E-3,8.0000000000000002E-3,8.2000000000000007E-3,8.3000000000000001E-3,8.3000000000000001E-3,8.2000000000000007E-3,8.0999999999999996E-3,8.0999999999999996E-3,8.2000000000000007E-3,8.3999999999999995E-3,8.6999999999999994E-3,9.1000000000000004E-3,9.4000000000000004E-3,9.7000000000000003E-3,9.9000000000000008E-3,0.01]
[80,8.3999999999999995E-3,7.1999999999999998E-3,5.8999999999999999E-3,4.7000000000000002E-3,3.3999999999999998E-3,2.2000000000000001E-3,1.1000000000000001E-3,1E-4,-6.9999999999999999E-4,-1.2999999999999999E-3,-1.6999999999999999E-3,-1.8E-3,-1.6000000000000001E-3,-1.1000000000000001E-3,-2.9999999999999997E-4,8.9999999999999998E-4,2.3999999999999998E-3,4.1000000000000003E-3,6.1000000000000004E-3,8.0000000000000002E-3,9.9000000000000008E-3,1.1599999999999999E-2,1.29E-2,1.38E-2,1.4E-2,1.35E-2,1.26E-2,1.12E-2,9.7000000000000003E-3,8.2000000000000007E-3,6.8999999999999999E-3,5.8999999999999999E-3,5.4999999999999997E-3,5.5999999999999999E-3,6.1999999999999998E-3,7.1000000000000004E-3,8.2000000000000007E-3,9.2999999999999992E-3,1.0200000000000001E-2,1.0699999999999999E-2,1.0800000000000001E-2,1.06E-2,1.03E-2,1.01E-2,0.01,1.03E-2,1.0999999999999999E-2,1.21E-2,1.3599999999999999E-2,1.54E-2,1.7299999999999999E-2,1.9199999999999998E-2,2.0799999999999999E-2,2.1999999999999999E-2,2.2599999999999999E-2,2.2599999999999999E-2,2.1999999999999999E-2,2.07E-2,1.9E-2,1.6899999999999998E-2,1.46E-2,1.23E-2,0.01,7.7999999999999996E-3,5.5999999999999999E-3,5.7999999999999996E-3,6.1999999999999998E-3,6.6E-3,7.1000000000000004E-3,7.4999999999999997E-3,7.9000000000000008E-3,8.3000000000000001E-3,8.5000000000000006E-3,8.6E-3,8.5000000000000006E-3,8.3999999999999995E-3,8.3999999999999995E-3,8.3999999999999995E-3,8.6E-3,8.8999999999999999E-3,9.1000000000000004E-3,9.4999999999999998E-3,9.7000000000000003E-3,9.9000000000000008E-3,0.01]
[81,7.7000000000000002E-3,6.4999999999999997E-3,5.3E-3,4.0000000000000001E-3,2.8E-3,1.6999999999999999E-3,5.9999999999999995E-4,-2.9999999999999997E-4,-1E-3,-1.5E-3,-1.6999999999999999E-3,-1.6999999999999999E-3,-1.4E-3,-8.0000000000000004E-4,2.0000000000000001E-4,1.4E-3,2.8999999999999998E-3,4.5999999999999999E-3,6.4999999999999997E-3,8.3999999999999995E-3,1.0200000000000001E-2,1.18E-2,1.3100000000000001E-2,1.38E-2,1.4E-2,1.35E-2,1.26E-2,1.12E-2,9.7000000000000003E-3,8.0999999999999996E-3,6.7999999999999996E-3,5.7000000000000002E-3,5.1000000000000004E-3,5.0000000000000001E-3,5.4000000000000003E-3,6.1000000000000004E-3,7.1000000000000004E-3,8.0000000000000002E-3,8.6999999999999994E-3,9.1999999999999998E-3,9.2999999999999992E-3,9.1999999999999998E-3,8.9999999999999993E-3,8.8999999999999999E-3,8.9999999999999993E-3,9.4000000000000004E-3,1.0200000000000001E-2,1.14E-2,1.29E-2,1.47E-2,1.66E-2,1.8499999999999999E-2,2.01E-2,2.12E-2,2.18E-2,2.18E-2,2.12E-2,0.02,1.84E-2,1.6400000000000001E-2,1.4200000000000001E-2,1.1900000000000001E-2,9.7000000000000003E-3,7.4999999999999997E-3,5.3E-3,5.4999999999999997E-3,5.8999999999999999E-3,6.3E-3,6.7999999999999996E-3,7.3000000000000001E-3,7.7999999999999996E-3,8.3000000000000001E-3,8.6E-3,8.6999999999999994E-3,8.6999999999999994E-3,8.6999999999999994E-3,8.6E-3,8.6999999999999994E-3,8.8000000000000005E-3,8.9999999999999993E-3,9.1999999999999998E-3,9.4999999999999998E-3,9.7999999999999997E-3,9.9000000000000008E-3,0.01]
[82,6.7999999999999996E-3,5.5999999999999999E-3,4.4999999999999997E-3,3.3E-3,2.0999999999999999E-3,1E-3,0,-8.0000000000000004E-4,-1.4E-3,-1.8E-3,-1.9E-3,-1.6999999999999999E-3,-1.1999999999999999E-3,-4.0000000000000002E-4,5.9999999999999995E-4,1.9E-3,3.3999999999999998E-3,5.1000000000000004E-3,6.8999999999999999E-3,8.8000000000000005E-3,1.0500000000000001E-2,1.2E-2,1.32E-2,1.3899999999999999E-2,1.4E-2,1.35E-2,1.26E-2,1.1299999999999999E-2,9.7000000000000003E-3,8.2000000000000007E-3,6.7000000000000002E-3,5.5999999999999999E-3,4.8999999999999998E-3,4.5999999999999999E-3,4.7000000000000002E-3,5.1999999999999998E-3,5.8999999999999999E-3,6.6E-3,7.1999999999999998E-3,7.6E-3,7.7999999999999996E-3,7.7999999999999996E-3,7.7000000000000002E-3,7.7000000000000002E-3,7.9000000000000008E-3,8.3999999999999995E-3,9.2999999999999992E-3,1.0500000000000001E-2,1.2200000000000001E-2,1.4E-2,1.5900000000000001E-2,1.78E-2,1.9300000000000001E-2,2.0400000000000001E-2,2.1000000000000001E-2,2.1000000000000001E-2,2.0400000000000001E-2,1.9300000000000001E-2,1.77E-2,1.5800000000000002E-2,1.37E-2,1.15E-2,9.2999999999999992E-3,7.1999999999999998E-3,5.1000000000000004E-3,5.3E-3,5.5999999999999999E-3,6.0000000000000001E-3,6.6E-3,7.1000000000000004E-3,7.7000000000000002E-3,8.2000000000000007E-3,8.6E-3,8.8000000000000005E-3,8.8999999999999999E-3,8.8999999999999999E-3,8.8000000000000005E-3,8.8999999999999999E-3,8.8999999999999999E-3,9.1000000000000004E-3,9.2999999999999992E-3,9.5999999999999992E-3,9.7999999999999997E-3,9.9000000000000008E-3,0.01]
[83,5.8999999999999999E-3,4.7000000000000002E-3,3.5999999999999999E-3,2.3999999999999998E-3,1.2999999999999999E-3,2.0000000000000001E-4,-6.9999999999999999E-4,-1.4E-3,-1.9E-3,-2.0999999999999999E-3,-2.0999999999999999E-3,-1.6999999999999999E-3,-1.1000000000000001E-3,-2.0000000000000001E-4,1E-3,2.3999999999999998E-3,3.8999999999999998E-3,5.5999999999999999E-3,7.4000000000000003E-3,9.1999999999999998E-3,1.0800000000000001E-2,1.2200000000000001E-2,1.3299999999999999E-2,1.3899999999999999E-2,1.4E-2,1.35E-2,1.26E-2,1.1299999999999999E-2,9.7999999999999997E-3,8.2000000000000007E-3,6.7999999999999996E-3,5.4999999999999997E-3,4.5999999999999999E-3,4.1000000000000003E-3,4.1000000000000003E-3,4.3E-3,4.7999999999999996E-3,5.3E-3,5.7999999999999996E-3,6.1000000000000004E-3,6.1999999999999998E-3,6.1999999999999998E-3,6.1999999999999998E-3,6.3E-3,6.7000000000000002E-3,7.3000000000000001E-3,8.3000000000000001E-3,9.5999999999999992E-3,1.1299999999999999E-2,1.32E-2,1.5100000000000001E-2,1.6899999999999998E-2,1.8499999999999999E-2,1.9599999999999999E-2,2.0199999999999999E-2,2.0199999999999999E-2,1.9599999999999999E-2,1.8599999999999998E-2,1.7100000000000001E-2,1.52E-2,1.32E-2,1.11E-2,8.9999999999999993E-3,6.8999999999999999E-3,4.7999999999999996E-3,5.0000000000000001E-3,5.3E-3,5.7999999999999996E-3,6.3E-3,6.8999999999999999E-3,7.4999999999999997E-3,8.0000000000000002E-3,8.5000000000000006E-3,8.8000000000000005E-3,8.8999999999999999E-3,8.9999999999999993E-3,8.9999999999999993E-3,8.9999999999999993E-3,8.9999999999999993E-3,9.1999999999999998E-3,9.2999999999999992E-3,9.5999999999999992E-3,9.7999999999999997E-3,9.9000000000000008E-3,0.01]
[84,4.8999999999999998E-3,3.8E-3,2.5999999999999999E-3,1.4E-3,2.9999999999999997E-4,-6.9999999999999999E-4,-1.5E-3,-2.0999999999999999E-3,-2.5000000000000001E-3,-2.5000000000000001E-3,-2.3E-3,-1.8E-3,-1E-3,1E-4,1.4E-3,2.8E-3,4.4000000000000003E-3,6.1999999999999998E-3,7.9000000000000008E-3,9.5999999999999992E-3,1.11E-2,1.24E-2,1.34E-2,1.4E-2,1.4E-2,1.35E-2,1.26E-2,1.14E-2,9.9000000000000008E-3,8.3000000000000001E-3,6.7999999999999996E-3,5.4999999999999997E-3,4.4999999999999997E-3,3.8E-3,3.5000000000000001E-3,3.5000000000000001E-3,3.7000000000000002E-3,4.0000000000000001E-3,4.3E-3,4.4999999999999997E-3,4.5999999999999999E-3,4.5999999999999999E-3,4.7000000000000002E-3,4.8999999999999998E-3,5.3E-3,6.1000000000000004E-3,7.1999999999999998E-3,8.6E-3,1.03E-2,1.2200000000000001E-2,1.4200000000000001E-2,1.6E-2,1.7600000000000001E-2,1.8700000000000001E-2,1.9300000000000001E-2,1.9300000000000001E-2,1.8800000000000001E-2,1.78E-2,1.6400000000000001E-2,1.46E-2,1.2699999999999999E-2,1.0699999999999999E-2,8.6E-3,6.6E-3,4.5999999999999999E-3,4.7999999999999996E-3,5.1000000000000004E-3,5.4999999999999997E-3,6.1000000000000004E-3,6.7000000000000002E-3,7.3000000000000001E-3,7.7999999999999996E-3,8.3000000000000001E-3,8.6999999999999994E-3,8.8999999999999999E-3,8.9999999999999993E-3,9.1000000000000004E-3,9.1000000000000004E-3,9.1000000000000004E-3,9.1999999999999998E-3,9.4000000000000004E-3,9.4999999999999998E-3,9.7999999999999997E-3,9.9000000000000008E-3,0.01]
[85,3.8E-3,2.5999999999999999E-3,1.5E-3,4.0000000000000002E-4,-6.9999999999999999E-4,-1.6000000000000001E-3,-2.3E-3,-2.8E-3,-3.0999999999999999E-3,-3.0000000000000001E-3,-2.5999999999999999E-3,-2E-3,-1E-3,2.0000000000000001E-4,1.6999999999999999E-3,3.2000000000000002E-3,4.8999999999999998E-3,6.7000000000000002E-3,8.3999999999999995E-3,0.01,1.14E-2,1.26E-2,1.35E-2,1.4E-2,1.4E-2,1.35E-2,1.26E-2,1.14E-2,9.9000000000000008E-3,8.3999999999999995E-3,6.8999999999999999E-3,5.4999999999999997E-3,4.3E-3,3.5000000000000001E-3,2.8999999999999998E-3,2.7000000000000001E-3,2.5999999999999999E-3,2.7000000000000001E-3,2.8999999999999998E-3,3.0000000000000001E-3,3.0000000000000001E-3,3.0000000000000001E-3,3.0999999999999999E-3,3.3999999999999998E-3,4.0000000000000001E-3,4.7999999999999996E-3,6.0000000000000001E-3,7.4999999999999997E-3,9.1999999999999998E-3,1.12E-2,1.3100000000000001E-2,1.4999999999999999E-2,1.66E-2,1.77E-2,1.83E-2,1.84E-2,1.7999999999999999E-2,1.7000000000000001E-2,1.5699999999999999E-2,1.4E-2,1.2200000000000001E-2,1.0200000000000001E-2,8.3000000000000001E-3,6.3E-3,4.3E-3,4.4999999999999997E-3,4.8999999999999998E-3,5.3E-3,5.8999999999999999E-3,6.4000000000000003E-3,7.1000000000000004E-3,7.6E-3,8.2000000000000007E-3,8.6E-3,8.8999999999999999E-3,8.9999999999999993E-3,9.1000000000000004E-3,9.1000000000000004E-3,9.1999999999999998E-3,9.2999999999999992E-3,9.4000000000000004E-3,9.4999999999999998E-3,9.7000000000000003E-3,9.9000000000000008E-3,0.01]
[86,2.5000000000000001E-3,1.4E-3,2.9999999999999997E-4,-8.0000000000000004E-4,-1.8E-3,-2.5999999999999999E-3,-3.2000000000000002E-3,-3.5999999999999999E-3,-3.7000000000000002E-3,-3.5000000000000001E-3,-3.0000000000000001E-3,-2.0999999999999999E-3,-1E-3,4.0000000000000002E-4,1.9E-3,3.5999999999999999E-3,5.4000000000000003E-3,7.1000000000000004E-3,8.8000000000000005E-3,1.03E-2,1.17E-2,1.2800000000000001E-2,1.3599999999999999E-2,1.4E-2,1.4E-2,1.35E-2,1.26E-2,1.14E-2,0.01,8.5000000000000006E-3,6.8999999999999999E-3,5.4999999999999997E-3,4.1999999999999997E-3,3.2000000000000002E-3,2.3999999999999998E-3,2E-3,1.6999999999999999E-3,1.6000000000000001E-3,1.5E-3,1.5E-3,1.4E-3,1.5E-3,1.6000000000000001E-3,2E-3,2.5999999999999999E-3,3.5000000000000001E-3,4.7000000000000002E-3,6.3E-3,8.0000000000000002E-3,0.01,1.2E-2,1.38E-2,1.54E-2,1.66E-2,1.7299999999999999E-2,1.7500000000000002E-2,1.7100000000000001E-2,1.6199999999999999E-2,1.4999999999999999E-2,1.34E-2,1.17E-2,9.7999999999999997E-3,7.9000000000000008E-3,6.0000000000000001E-3,4.1000000000000003E-3,4.3E-3,4.5999999999999999E-3,5.1000000000000004E-3,5.5999999999999999E-3,6.1999999999999998E-3,6.7999999999999996E-3,7.4000000000000003E-3,7.9000000000000008E-3,8.3000000000000001E-3,8.6E-3,8.8999999999999999E-3,8.9999999999999993E-3,9.1000000000000004E-3,9.1000000000000004E-3,9.1999999999999998E-3,9.2999999999999992E-3,9.4000000000000004E-3,9.5999999999999992E-3,9.7000000000000003E-3,9.9000000000000008E-3]
[87,1E-3,0,-1E-3,-2E-3,-2.8999999999999998E-3,-3.5999999999999999E-3,-4.1000000000000003E-3,-4.3E-3,-4.3E-3,-3.8999999999999998E-3,-3.3E-3,-2.3E-3,-1E-3,5.0000000000000001E-4,2.2000000000000001E-3,4.0000000000000001E-3,5.7000000000000002E-3,7.4999999999999997E-3,9.1999999999999998E-3,1.0699999999999999E-2,1.2E-2,1.2999999999999999E-2,1.37E-2,1.4E-2,1.4E-2,1.35E-2,1.26E-2,1.15E-2,1.01E-2,8.6E-3,7.0000000000000001E-3,5.4999999999999997E-3,4.1000000000000003E-3,2.8999999999999998E-3,2E-3,1.2999999999999999E-3,8.0000000000000004E-4,4.0000000000000002E-4,2.0000000000000001E-4,0,-1E-4,-1E-4,1E-4,5.0000000000000001E-4,1.1999999999999999E-3,2.0999999999999999E-3,3.3999999999999998E-3,5.0000000000000001E-3,6.7999999999999996E-3,8.6999999999999994E-3,1.0699999999999999E-2,1.26E-2,1.4200000000000001E-2,1.54E-2,1.6199999999999999E-2,1.6400000000000001E-2,1.61E-2,1.54E-2,1.4200000000000001E-2,1.2800000000000001E-2,1.12E-2,9.4000000000000004E-3,7.6E-3,5.7999999999999996E-3,4.0000000000000001E-3,4.1000000000000003E-3,4.4999999999999997E-3,4.8999999999999998E-3,5.4000000000000003E-3,6.0000000000000001E-3,6.6E-3,7.1000000000000004E-3,7.7000000000000002E-3,8.0999999999999996E-3,8.3999999999999995E-3,8.6E-3,8.8000000000000005E-3,8.9999999999999993E-3,9.1000000000000004E-3,9.1000000000000004E-3,9.1999999999999998E-3,9.2999999999999992E-3,9.4999999999999998E-3,9.5999999999999992E-3,9.7000000000000003E-3]
[88,-6.9999999999999999E-4,-1.6000000000000001E-3,-2.5000000000000001E-3,-3.3E-3,-4.1000000000000003E-3,-4.5999999999999999E-3,-5.0000000000000001E-3,-5.1000000000000004E-3,-4.8999999999999998E-3,-4.4000000000000003E-3,-3.5000000000000001E-3,-2.3999999999999998E-3,-1E-3,5.9999999999999995E-4,2.3999999999999998E-3,4.1999999999999997E-3,6.1000000000000004E-3,7.9000000000000008E-3,9.4999999999999998E-3,1.09E-2,1.2200000000000001E-2,1.3100000000000001E-2,1.37E-2,1.4E-2,1.3899999999999999E-2,1.34E-2,1.26E-2,1.15E-2,1.01E-2,8.6E-3,7.1000000000000004E-3,5.4999999999999997E-3,4.0000000000000001E-3,2.7000000000000001E-3,1.6000000000000001E-3,6.9999999999999999E-4,-1E-4,-5.9999999999999995E-4,-1E-3,-1.2999999999999999E-3,-1.5E-3,-1.5E-3,-1.4E-3,-8.9999999999999998E-4,-2.0000000000000001E-4,8.0000000000000004E-4,2.0999999999999999E-3,3.5999999999999999E-3,5.4999999999999997E-3,7.4000000000000003E-3,9.4000000000000004E-3,1.12E-2,1.29E-2,1.41E-2,1.4999999999999999E-2,1.5299999999999999E-2,1.5100000000000001E-2,1.4500000000000001E-2,1.35E-2,1.2200000000000001E-2,1.0699999999999999E-2,8.9999999999999993E-3,7.3000000000000001E-3,5.5999999999999999E-3,3.8999999999999998E-3,4.0000000000000001E-3,4.3E-3,4.7000000000000002E-3,5.1999999999999998E-3,5.7999999999999996E-3,6.4000000000000003E-3,6.8999999999999999E-3,7.4000000000000003E-3,7.7999999999999996E-3,8.0999999999999996E-3,8.3999999999999995E-3,8.6E-3,8.8000000000000005E-3,8.8999999999999999E-3,8.9999999999999993E-3,9.1000000000000004E-3,9.1999999999999998E-3,9.2999999999999992E-3,9.4999999999999998E-3,9.5999999999999992E-3]
[89,-2.7000000000000001E-3,-3.3999999999999998E-3,-4.1000000000000003E-3,-4.7000000000000002E-3,-5.3E-3,-5.7000000000000002E-3,-5.7999999999999996E-3,-5.7999999999999996E-3,-5.4000000000000003E-3,-4.7000000000000002E-3,-3.8E-3,-2.5000000000000001E-3,-1E-3,8.0000000000000004E-4,2.5999999999999999E-3,4.4999999999999997E-3,6.4000000000000003E-3,8.0999999999999996E-3,9.7999999999999997E-3,1.12E-2,1.23E-2,1.32E-2,1.38E-2,1.4E-2,1.3899999999999999E-2,1.34E-2,1.26E-2,1.15E-2,1.0200000000000001E-2,8.6999999999999994E-3,7.1000000000000004E-3,5.4999999999999997E-3,3.8999999999999998E-3,2.5000000000000001E-3,1.1999999999999999E-3,1E-4,-8.0000000000000004E-4,-1.6000000000000001E-3,-2.0999999999999999E-3,-2.5000000000000001E-3,-2.8E-3,-2.8999999999999998E-3,-2.8E-3,-2.3E-3,-1.6000000000000001E-3,-5.9999999999999995E-4,6.9999999999999999E-4,2.3E-3,4.1000000000000003E-3,6.0000000000000001E-3,7.9000000000000008E-3,9.7999999999999997E-3,1.14E-2,1.2800000000000001E-2,1.3599999999999999E-2,1.41E-2,1.4E-2,1.35E-2,1.2699999999999999E-2,1.15E-2,1.0200000000000001E-2,8.6999999999999994E-3,7.1000000000000004E-3,5.4999999999999997E-3,3.8999999999999998E-3,4.0000000000000001E-3,4.1999999999999997E-3,4.5999999999999999E-3,5.1000000000000004E-3,5.5999999999999999E-3,6.1999999999999998E-3,6.7000000000000002E-3,7.1999999999999998E-3,7.6E-3,7.9000000000000008E-3,8.0999999999999996E-3,8.3000000000000001E-3,8.6E-3,8.8000000000000005E-3,8.8999999999999999E-3,8.9999999999999993E-3,9.1000000000000004E-3,9.1999999999999998E-3,9.2999999999999992E-3,9.4000000000000004E-3]
[90,-4.8999999999999998E-3,-5.4000000000000003E-3,-5.7999999999999996E-3,-6.1999999999999998E-3,-6.6E-3,-6.7000000000000002E-3,-6.7000000000000002E-3,-6.4000000000000003E-3,-5.8999999999999999E-3,-5.0000000000000001E-3,-3.8999999999999998E-3,-2.5000000000000001E-3,-8.9999999999999998E-4,8.9999999999999998E-4,2.8E-3,4.7000000000000002E-3,6.6E-3,8.3999999999999995E-3,0.01,1.1299999999999999E-2,1.24E-2,1.32E-2,1.38E-2,1.3899999999999999E-2,1.38E-2,1.3299999999999999E-2,1.2500000000000001E-2,1.14E-2,1.0200000000000001E-2,8.6999999999999994E-3,7.1000000000000004E-3,5.4000000000000003E-3,3.8E-3,2.3E-3,8.0000000000000004E-4,-4.0000000000000002E-4,-1.5E-3,-2.3999999999999998E-3,-3.2000000000000002E-3,-3.7000000000000002E-3,-4.0000000000000001E-3,-4.1999999999999997E-3,-4.1000000000000003E-3,-3.7000000000000002E-3,-3.0000000000000001E-3,-2E-3,-6.9999999999999999E-4,8.9999999999999998E-4,2.5999999999999999E-3,4.4999999999999997E-3,6.4000000000000003E-3,8.3000000000000001E-3,9.9000000000000008E-3,1.1299999999999999E-2,1.2200000000000001E-2,1.2800000000000001E-2,1.29E-2,1.2500000000000001E-2,1.1900000000000001E-2,1.09E-2,9.7000000000000003E-3,8.3000000000000001E-3,6.8999999999999999E-3,5.4999999999999997E-3,4.0000000000000001E-3,4.0000000000000001E-3,4.1999999999999997E-3,4.4999999999999997E-3,5.0000000000000001E-3,5.4999999999999997E-3,6.0000000000000001E-3,6.4999999999999997E-3,7.0000000000000001E-3,7.3000000000000001E-3,7.6E-3,7.7999999999999996E-3,8.0999999999999996E-3,8.3000000000000001E-3,8.5000000000000006E-3,8.8000000000000005E-3,8.8999999999999999E-3,8.9999999999999993E-3,9.1000000000000004E-3,9.1999999999999998E-3,9.2999999999999992E-3]
[91,-7.3000000000000001E-3,-7.4999999999999997E-3,-7.7000000000000002E-3,-7.7999999999999996E-3,-7.9000000000000008E-3,-7.7999999999999996E-3,-7.4999999999999997E-3,-7.0000000000000001E-3,-6.3E-3,-5.3E-3,-4.0000000000000001E-3,-2.5000000000000001E-3,-8.0000000000000004E-4,1E-3,2.8999999999999998E-3,4.8999999999999998E-3,6.7999999999999996E-3,8.5000000000000006E-3,1.01E-2,1.14E-2,1.2500000000000001E-2,1.32E-2,1.37E-2,1.3899999999999999E-2,1.37E-2,1.32E-2,1.24E-2,1.14E-2,1.01E-2,8.6999999999999994E-3,7.1000000000000004E-3,5.4000000000000003E-3,3.7000000000000002E-3,2E-3,5.0000000000000001E-4,-8.9999999999999998E-4,-2.2000000000000001E-3,-3.2000000000000002E-3,-4.1000000000000003E-3,-4.7000000000000002E-3,-5.1999999999999998E-3,-5.4000000000000003E-3,-5.3E-3,-5.0000000000000001E-3,-4.3E-3,-3.3E-3,-2.0999999999999999E-3,-5.9999999999999995E-4,1.1000000000000001E-3,3.0000000000000001E-3,4.7999999999999996E-3,6.6E-3,8.3000000000000001E-3,9.7000000000000003E-3,1.0699999999999999E-2,1.14E-2,1.1599999999999999E-2,1.15E-2,1.0999999999999999E-2,1.0200000000000001E-2,9.1999999999999998E-3,8.0000000000000002E-3,6.7999999999999996E-3,5.4999999999999997E-3,4.1999999999999997E-3,4.1999999999999997E-3,4.3E-3,4.5999999999999999E-3,4.8999999999999998E-3,5.4000000000000003E-3,5.7999999999999996E-3,6.3E-3,6.7000000000000002E-3,7.1000000000000004E-3,7.4000000000000003E-3,7.6E-3,7.7999999999999996E-3,8.0000000000000002E-3,8.3000000000000001E-3,8.5000000000000006E-3,8.6999999999999994E-3,8.8000000000000005E-3,8.8999999999999999E-3,8.9999999999999993E-3,9.1000000000000004E-3]
[92,-0.01,-9.7999999999999997E-3,-9.7000000000000003E-3,-9.4999999999999998E-3,-9.1999999999999998E-3,-8.8000000000000005E-3,-8.3000000000000001E-3,-7.6E-3,-6.6E-3,-5.4999999999999997E-3,-4.1000000000000003E-3,-2.5000000000000001E-3,-6.9999999999999999E-4,1.1999999999999999E-3,3.0999999999999999E-3,5.0000000000000001E-3,6.8999999999999999E-3,8.6E-3,1.01E-2,1.14E-2,1.2500000000000001E-2,1.32E-2,1.3599999999999999E-2,1.38E-2,1.3599999999999999E-2,1.3100000000000001E-2,1.23E-2,1.1299999999999999E-2,1.01E-2,8.6E-3,7.0000000000000001E-3,5.3E-3,3.5999999999999999E-3,1.8E-3,2.0000000000000001E-4,-1.2999999999999999E-3,-2.7000000000000001E-3,-3.8999999999999998E-3,-4.8999999999999998E-3,-5.7000000000000002E-3,-6.1999999999999998E-3,-6.4999999999999997E-3,-6.4999999999999997E-3,-6.1999999999999998E-3,-5.5999999999999999E-3,-4.7000000000000002E-3,-3.5000000000000001E-3,-2E-3,-4.0000000000000002E-4,1.2999999999999999E-3,3.2000000000000002E-3,4.8999999999999998E-3,6.6E-3,8.0000000000000002E-3,9.1000000000000004E-3,9.9000000000000008E-3,1.03E-2,1.03E-2,1.01E-2,9.4999999999999998E-3,8.6999999999999994E-3,7.7999999999999996E-3,6.7000000000000002E-3,5.5999999999999999E-3,4.4999999999999997E-3,4.4000000000000003E-3,4.4999999999999997E-3,4.5999999999999999E-3,4.8999999999999998E-3,5.3E-3,5.7000000000000002E-3,6.1999999999999998E-3,6.4999999999999997E-3,6.8999999999999999E-3,7.1000000000000004E-3,7.3000000000000001E-3,7.4999999999999997E-3,7.7999999999999996E-3,8.0000000000000002E-3,8.2000000000000007E-3,8.3999999999999995E-3,8.6999999999999994E-3,8.8000000000000005E-3,8.8999999999999999E-3,8.9999999999999993E-3]
[93,-1.2800000000000001E-2,-1.23E-2,-1.18E-2,-1.12E-2,-1.06E-2,-9.9000000000000008E-3,-9.1000000000000004E-3,-8.0999999999999996E-3,-6.8999999999999999E-3,-5.5999999999999999E-3,-4.1000000000000003E-3,-2.3999999999999998E-3,-5.9999999999999995E-4,1.2999999999999999E-3,3.3E-3,5.1999999999999998E-3,7.0000000000000001E-3,8.6999999999999994E-3,1.01E-2,1.14E-2,1.24E-2,1.3100000000000001E-2,1.35E-2,1.3599999999999999E-2,1.34E-2,1.2999999999999999E-2,1.2200000000000001E-2,1.12E-2,0.01,8.5000000000000006E-3,6.8999999999999999E-3,5.1999999999999998E-3,3.3999999999999998E-3,1.6999999999999999E-3,-1E-4,-1.6999999999999999E-3,-3.2000000000000002E-3,-4.4999999999999997E-3,-5.5999999999999999E-3,-6.4999999999999997E-3,-7.1000000000000004E-3,-7.4999999999999997E-3,-7.6E-3,-7.3000000000000001E-3,-6.7999999999999996E-3,-6.0000000000000001E-3,-4.8999999999999998E-3,-3.5000000000000001E-3,-2E-3,-2.9999999999999997E-4,1.4E-3,3.2000000000000002E-3,4.7999999999999996E-3,6.1999999999999998E-3,7.4000000000000003E-3,8.3000000000000001E-3,8.8999999999999999E-3,9.1999999999999998E-3,9.1000000000000004E-3,8.8000000000000005E-3,8.2000000000000007E-3,7.6E-3,6.7999999999999996E-3,5.8999999999999999E-3,5.0000000000000001E-3,4.7999999999999996E-3,4.7000000000000002E-3,4.7999999999999996E-3,5.0000000000000001E-3,5.3E-3,5.7000000000000002E-3,6.0000000000000001E-3,6.4000000000000003E-3,6.6E-3,6.8999999999999999E-3,7.1000000000000004E-3,7.3000000000000001E-3,7.4999999999999997E-3,7.7000000000000002E-3,7.9000000000000008E-3,8.2000000000000007E-3,8.3999999999999995E-3,8.6E-3,8.6999999999999994E-3,8.8000000000000005E-3]
[94,-1.5900000000000001E-2,-1.4999999999999999E-2,-1.4E-2,-1.3100000000000001E-2,-1.21E-2,-1.0999999999999999E-2,-9.7999999999999997E-3,-8.6E-3,-7.1999999999999998E-3,-5.5999999999999999E-3,-4.0000000000000001E-3,-2.2000000000000001E-3,-4.0000000000000002E-4,1.5E-3,3.3999999999999998E-3,5.3E-3,7.0000000000000001E-3,8.6999999999999994E-3,1.01E-2,1.1299999999999999E-2,1.2200000000000001E-2,1.29E-2,1.3299999999999999E-2,1.34E-2,1.3299999999999999E-2,1.2800000000000001E-2,1.21E-2,1.11E-2,9.7999999999999997E-3,8.3999999999999995E-3,6.7999999999999996E-3,5.1000000000000004E-3,3.3E-3,1.5E-3,-2.9999999999999997E-4,-2E-3,-3.5999999999999999E-3,-5.0000000000000001E-3,-6.1999999999999998E-3,-7.1999999999999998E-3,-7.9000000000000008E-3,-8.3999999999999995E-3,-8.5000000000000006E-3,-8.3999999999999995E-3,-8.0000000000000002E-3,-7.3000000000000001E-3,-6.3E-3,-5.0000000000000001E-3,-3.5999999999999999E-3,-2E-3,-4.0000000000000002E-4,1.2999999999999999E-3,2.8999999999999998E-3,4.4000000000000003E-3,5.5999999999999999E-3,6.7000000000000002E-3,7.4000000000000003E-3,7.9000000000000008E-3,8.0999999999999996E-3,8.0000000000000002E-3,7.7999999999999996E-3,7.4000000000000003E-3,6.7999999999999996E-3,6.1999999999999998E-3,5.5999999999999999E-3,5.3E-3,5.1999999999999998E-3,5.1000000000000004E-3,5.1999999999999998E-3,5.4000000000000003E-3,5.5999999999999999E-3,5.8999999999999999E-3,6.1999999999999998E-3,6.4000000000000003E-3,6.6E-3,6.7999999999999996E-3,7.0000000000000001E-3,7.1999999999999998E-3,7.4000000000000003E-3,7.7000000000000002E-3,7.9000000000000008E-3,8.0999999999999996E-3,8.3000000000000001E-3,8.6E-3,8.6999999999999994E-3]
[95,-1.9199999999999998E-2,-1.78E-2,-1.6400000000000001E-2,-1.4999999999999999E-2,-1.35E-2,-1.21E-2,-1.0500000000000001E-2,-8.9999999999999993E-3,-7.3000000000000001E-3,-5.5999999999999999E-3,-3.8E-3,-2E-3,-1E-4,1.6999999999999999E-3,3.5999999999999999E-3,5.4000000000000003E-3,7.0000000000000001E-3,8.6E-3,0.01,1.11E-2,1.2E-2,1.2699999999999999E-2,1.3100000000000001E-2,1.32E-2,1.3100000000000001E-2,1.26E-2,1.1900000000000001E-2,1.09E-2,9.7000000000000003E-3,8.3000000000000001E-3,6.7000000000000002E-3,4.8999999999999998E-3,3.0999999999999999E-3,1.2999999999999999E-3,-5.0000000000000001E-4,-2.3E-3,-3.8999999999999998E-3,-5.4000000000000003E-3,-6.7000000000000002E-3,-7.7999999999999996E-3,-8.6E-3,-9.1999999999999998E-3,-9.4000000000000004E-3,-9.4000000000000004E-3,-9.1000000000000004E-3,-8.5000000000000006E-3,-7.7000000000000002E-3,-6.6E-3,-5.3E-3,-3.8E-3,-2.2000000000000001E-3,-5.9999999999999995E-4,8.9999999999999998E-4,2.3999999999999998E-3,3.8E-3,4.8999999999999998E-3,5.8999999999999999E-3,6.6E-3,7.0000000000000001E-3,7.3000000000000001E-3,7.3000000000000001E-3,7.1999999999999998E-3,7.0000000000000001E-3,6.7000000000000002E-3,6.3E-3,5.8999999999999999E-3,5.7000000000000002E-3,5.4999999999999997E-3,5.4999999999999997E-3,5.5999999999999999E-3,5.7000000000000002E-3,5.7999999999999996E-3,6.0000000000000001E-3,6.1999999999999998E-3,6.4000000000000003E-3,6.6E-3,6.7000000000000002E-3,6.8999999999999999E-3,7.1999999999999998E-3,7.4000000000000003E-3,7.6E-3,7.7999999999999996E-3,8.0999999999999996E-3,8.3000000000000001E-3,8.5000000000000006E-3]
[96,-1.83E-2,-1.6899999999999998E-2,-1.5599999999999999E-2,-1.4200000000000001E-2,-1.29E-2,-1.15E-2,-0.01,-8.5000000000000006E-3,-7.0000000000000001E-3,-5.3E-3,-3.5999999999999999E-3,-1.9E-3,-1E-4,1.6999999999999999E-3,3.3999999999999998E-3,5.1000000000000004E-3,6.7000000000000002E-3,8.2000000000000007E-3,9.4999999999999998E-3,1.06E-2,1.14E-2,1.21E-2,1.2500000000000001E-2,1.26E-2,1.24E-2,1.2E-2,1.1299999999999999E-2,1.04E-2,9.1999999999999998E-3,7.9000000000000008E-3,6.3E-3,4.7000000000000002E-3,3.0000000000000001E-3,1.1999999999999999E-3,-5.0000000000000001E-4,-2.2000000000000001E-3,-3.7000000000000002E-3,-5.1999999999999998E-3,-6.4000000000000003E-3,-7.4000000000000003E-3,-8.2000000000000007E-3,-8.6999999999999994E-3,-8.9999999999999993E-3,-8.9999999999999993E-3,-8.6999999999999994E-3,-8.0999999999999996E-3,-7.3000000000000001E-3,-6.1999999999999998E-3,-5.0000000000000001E-3,-3.5999999999999999E-3,-2.0999999999999999E-3,-5.9999999999999995E-4,8.9999999999999998E-4,2.3E-3,3.5999999999999999E-3,4.7000000000000002E-3,5.5999999999999999E-3,6.1999999999999998E-3,6.7000000000000002E-3,6.8999999999999999E-3,6.8999999999999999E-3,6.7999999999999996E-3,6.6E-3,6.3E-3,6.0000000000000001E-3,5.5999999999999999E-3,5.4000000000000003E-3,5.3E-3,5.1999999999999998E-3,5.3E-3,5.4000000000000003E-3,5.4999999999999997E-3,5.7000000000000002E-3,5.8999999999999999E-3,6.1000000000000004E-3,6.1999999999999998E-3,6.4000000000000003E-3,6.6E-3,6.7999999999999996E-3,7.0000000000000001E-3,7.1999999999999998E-3,7.4000000000000003E-3,7.7000000000000002E-3,7.9000000000000008E-3,8.0999999999999996E-3]
[97,-1.7299999999999999E-2,-1.6E-2,-1.4800000000000001E-2,-1.35E-2,-1.2200000000000001E-2,-1.09E-2,-9.4999999999999998E-3,-8.0999999999999996E-3,-6.6E-3,-5.0000000000000001E-3,-3.3999999999999998E-3,-1.8E-3,-1E-4,1.6000000000000001E-3,3.2000000000000002E-3,4.7999999999999996E-3,6.3E-3,7.7000000000000002E-3,8.9999999999999993E-3,0.01,1.0800000000000001E-2,1.14E-2,1.18E-2,1.1900000000000001E-2,1.18E-2,1.1299999999999999E-2,1.0699999999999999E-2,9.7999999999999997E-3,8.6999999999999994E-3,7.4000000000000003E-3,6.0000000000000001E-3,4.4999999999999997E-3,2.8E-3,1.1999999999999999E-3,-5.0000000000000001E-4,-2.0999999999999999E-3,-3.5000000000000001E-3,-4.8999999999999998E-3,-6.0000000000000001E-3,-7.0000000000000001E-3,-7.7000000000000002E-3,-8.2000000000000007E-3,-8.5000000000000006E-3,-8.5000000000000006E-3,-8.2000000000000007E-3,-7.7000000000000002E-3,-6.8999999999999999E-3,-5.8999999999999999E-3,-4.7000000000000002E-3,-3.3999999999999998E-3,-2E-3,-5.9999999999999995E-4,8.0000000000000004E-4,2.2000000000000001E-3,3.3999999999999998E-3,4.4000000000000003E-3,5.3E-3,5.8999999999999999E-3,6.3E-3,6.4999999999999997E-3,6.6E-3,6.4999999999999997E-3,6.3E-3,6.0000000000000001E-3,5.7000000000000002E-3,5.4000000000000003E-3,5.1000000000000004E-3,5.0000000000000001E-3,5.0000000000000001E-3,5.0000000000000001E-3,5.1000000000000004E-3,5.3E-3,5.4000000000000003E-3,5.5999999999999999E-3,5.7999999999999996E-3,5.8999999999999999E-3,6.1000000000000004E-3,6.3E-3,6.4000000000000003E-3,6.6E-3,6.7999999999999996E-3,7.0000000000000001E-3,7.3000000000000001E-3,7.4999999999999997E-3,7.7000000000000002E-3]
[98,-1.6299999999999999E-2,-1.5100000000000001E-2,-1.3899999999999999E-2,-1.2699999999999999E-2,-1.15E-2,-1.03E-2,-8.9999999999999993E-3,-7.6E-3,-6.1999999999999998E-3,-4.7999999999999996E-3,-3.3E-3,-1.6999999999999999E-3,-1E-4,1.5E-3,3.0000000000000001E-3,4.5999999999999999E-3,6.0000000000000001E-3,7.3000000000000001E-3,8.5000000000000006E-3,9.4999999999999998E-3,1.0200000000000001E-2,1.0800000000000001E-2,1.11E-2,1.12E-2,1.11E-2,1.0699999999999999E-2,1.01E-2,9.2999999999999992E-3,8.2000000000000007E-3,7.0000000000000001E-3,5.7000000000000002E-3,4.1999999999999997E-3,2.7000000000000001E-3,1.1000000000000001E-3,-5.0000000000000001E-4,-1.9E-3,-3.3E-3,-4.5999999999999999E-3,-5.7000000000000002E-3,-6.6E-3,-7.3000000000000001E-3,-7.7999999999999996E-3,-8.0000000000000002E-3,-8.0000000000000002E-3,-7.7999999999999996E-3,-7.1999999999999998E-3,-6.4999999999999997E-3,-5.5999999999999999E-3,-4.4999999999999997E-3,-3.2000000000000002E-3,-1.9E-3,-5.0000000000000001E-4,8.0000000000000004E-4,2.0999999999999999E-3,3.2000000000000002E-3,4.1999999999999997E-3,5.0000000000000001E-3,5.5999999999999999E-3,6.0000000000000001E-3,6.1999999999999998E-3,6.1999999999999998E-3,6.1000000000000004E-3,5.8999999999999999E-3,5.7000000000000002E-3,5.4000000000000003E-3,5.1000000000000004E-3,4.7999999999999996E-3,4.7000000000000002E-3,4.7000000000000002E-3,4.7000000000000002E-3,4.7999999999999996E-3,5.0000000000000001E-3,5.1000000000000004E-3,5.3E-3,5.4000000000000003E-3,5.5999999999999999E-3,5.7000000000000002E-3,5.8999999999999999E-3,6.1000000000000004E-3,6.3E-3,6.4999999999999997E-3,6.7000000000000002E-3,6.8999999999999999E-3,7.0000000000000001E-3,7.1999999999999998E-3]
[99,-1.54E-2,-1.43E-2,-1.3100000000000001E-2,-1.2E-2,-1.0800000000000001E-2,-9.7000000000000003E-3,-8.3999999999999995E-3,-7.1999999999999998E-3,-5.8999999999999999E-3,-4.4999999999999997E-3,-3.0999999999999999E-3,-1.6000000000000001E-3,-1E-4,1.4E-3,2.8999999999999998E-3,4.3E-3,5.5999999999999999E-3,6.8999999999999999E-3,8.0000000000000002E-3,8.8999999999999999E-3,9.5999999999999992E-3,1.0200000000000001E-2,1.0500000000000001E-2,1.06E-2,1.04E-2,1.01E-2,9.4999999999999998E-3,8.6999999999999994E-3,7.7999999999999996E-3,6.6E-3,5.3E-3,4.0000000000000001E-3,2.5000000000000001E-3,1E-3,-4.0000000000000002E-4,-1.8E-3,-3.0999999999999999E-3,-4.3E-3,-5.4000000000000003E-3,-6.1999999999999998E-3,-6.8999999999999999E-3,-7.3000000000000001E-3,-7.6E-3,-7.4999999999999997E-3,-7.3000000000000001E-3,-6.7999999999999996E-3,-6.1000000000000004E-3,-5.3E-3,-4.1999999999999997E-3,-3.0000000000000001E-3,-1.8E-3,-5.0000000000000001E-4,6.9999999999999999E-4,1.9E-3,3.0000000000000001E-3,4.0000000000000001E-3,4.7000000000000002E-3,5.3E-3,5.5999999999999999E-3,5.7999999999999996E-3,5.7999999999999996E-3,5.7999999999999996E-3,5.5999999999999999E-3,5.3E-3,5.0000000000000001E-3,4.7999999999999996E-3,4.5999999999999999E-3,4.4000000000000003E-3,4.4000000000000003E-3,4.4000000000000003E-3,4.4999999999999997E-3,4.7000000000000002E-3,4.7999999999999996E-3,5.0000000000000001E-3,5.1000000000000004E-3,5.1999999999999998E-3,5.4000000000000003E-3,5.5999999999999999E-3,5.7000000000000002E-3,5.8999999999999999E-3,6.1000000000000004E-3,6.3E-3,6.4000000000000003E-3,6.6E-3,6.7999999999999996E-3]
[100,-1.44E-2,-1.34E-2,-1.23E-2,-1.12E-2,-1.0200000000000001E-2,-9.1000000000000004E-3,-7.9000000000000008E-3,-6.7000000000000002E-3,-5.4999999999999997E-3,-4.1999999999999997E-3,-2.8999999999999998E-3,-1.5E-3,-1E-4,1.2999999999999999E-3,2.7000000000000001E-3,4.0000000000000001E-3,5.3E-3,6.4000000000000003E-3,7.4999999999999997E-3,8.3000000000000001E-3,8.9999999999999993E-3,9.4999999999999998E-3,9.7999999999999997E-3,9.9000000000000008E-3,9.7999999999999997E-3,9.4999999999999998E-3,8.8999999999999999E-3,8.2000000000000007E-3,7.3000000000000001E-3,6.1999999999999998E-3,5.0000000000000001E-3,3.7000000000000002E-3,2.3999999999999998E-3,1E-3,-4.0000000000000002E-4,-1.6999999999999999E-3,-3.0000000000000001E-3,-4.1000000000000003E-3,-5.0000000000000001E-3,-5.7999999999999996E-3,-6.4999999999999997E-3,-6.8999999999999999E-3,-7.1000000000000004E-3,-7.1000000000000004E-3,-6.7999999999999996E-3,-6.4000000000000003E-3,-5.7999999999999996E-3,-4.8999999999999998E-3,-3.8999999999999998E-3,-2.8999999999999998E-3,-1.6999999999999999E-3,-5.0000000000000001E-4,6.9999999999999999E-4,1.8E-3,2.8E-3,3.7000000000000002E-3,4.4000000000000003E-3,4.8999999999999998E-3,5.3E-3,5.4000000000000003E-3,5.4999999999999997E-3,5.4000000000000003E-3,5.1999999999999998E-3,5.0000000000000001E-3,4.7000000000000002E-3,4.4999999999999997E-3,4.3E-3,4.1999999999999997E-3,4.1000000000000003E-3,4.1999999999999997E-3,4.3E-3,4.4000000000000003E-3,4.4999999999999997E-3,4.7000000000000002E-3,4.7999999999999996E-3,4.8999999999999998E-3,5.1000000000000004E-3,5.1999999999999998E-3,5.4000000000000003E-3,5.4999999999999997E-3,5.7000000000000002E-3,5.8999999999999999E-3,6.0000000000000001E-3,6.1999999999999998E-3,6.4000000000000003E-3]
[101,-1.35E-2,-1.2500000000000001E-2,-1.15E-2,-1.0500000000000001E-2,-9.4999999999999998E-3,-8.3999999999999995E-3,-7.4000000000000003E-3,-6.3E-3,-5.1000000000000004E-3,-3.8999999999999998E-3,-2.7000000000000001E-3,-1.4E-3,-1E-4,1.1999999999999999E-3,2.5000000000000001E-3,3.8E-3,4.8999999999999998E-3,6.0000000000000001E-3,7.0000000000000001E-3,7.7999999999999996E-3,8.3999999999999995E-3,8.8999999999999999E-3,9.1999999999999998E-3,9.2999999999999992E-3,9.1000000000000004E-3,8.8000000000000005E-3,8.3000000000000001E-3,7.6E-3,6.7999999999999996E-3,5.7999999999999996E-3,4.7000000000000002E-3,3.5000000000000001E-3,2.2000000000000001E-3,8.9999999999999998E-4,-4.0000000000000002E-4,-1.6000000000000001E-3,-2.8E-3,-3.8E-3,-4.7000000000000002E-3,-5.4000000000000003E-3,-6.0000000000000001E-3,-6.4000000000000003E-3,-6.6E-3,-6.6E-3,-6.4000000000000003E-3,-6.0000000000000001E-3,-5.4000000000000003E-3,-4.5999999999999999E-3,-3.7000000000000002E-3,-2.7000000000000001E-3,-1.6000000000000001E-3,-5.0000000000000001E-4,6.9999999999999999E-4,1.6999999999999999E-3,2.5999999999999999E-3,3.5000000000000001E-3,4.1000000000000003E-3,4.5999999999999999E-3,4.8999999999999998E-3,5.1000000000000004E-3,5.1000000000000004E-3,5.0000000000000001E-3,4.8999999999999998E-3,4.7000000000000002E-3,4.4000000000000003E-3,4.1999999999999997E-3,4.0000000000000001E-3,3.8999999999999998E-3,3.8999999999999998E-3,3.8999999999999998E-3,4.0000000000000001E-3,4.1000000000000003E-3,4.1999999999999997E-3,4.4000000000000003E-3,4.4999999999999997E-3,4.5999999999999999E-3,4.7000000000000002E-3,4.8999999999999998E-3,5.0000000000000001E-3,5.1999999999999998E-3,5.3E-3,5.4999999999999997E-3,5.5999999999999999E-3,5.7999999999999996E-3,6.0000000000000001E-3]
[102,-1.2500000000000001E-2,-1.1599999999999999E-2,-1.0699999999999999E-2,-9.7000000000000003E-3,-8.8000000000000005E-3,-7.7999999999999996E-3,-6.8999999999999999E-3,-5.7999999999999996E-3,-4.7999999999999996E-3,-3.5999999999999999E-3,-2.5000000000000001E-3,-1.2999999999999999E-3,-1E-4,1.1000000000000001E-3,2.3E-3,3.5000000000000001E-3,4.5999999999999999E-3,5.5999999999999999E-3,6.4999999999999997E-3,7.1999999999999998E-3,7.7999999999999996E-3,8.3000000000000001E-3,8.5000000000000006E-3,8.6E-3,8.5000000000000006E-3,8.2000000000000007E-3,7.7000000000000002E-3,7.1000000000000004E-3,6.3E-3,5.4000000000000003E-3,4.3E-3,3.2000000000000002E-3,2E-3,8.0000000000000004E-4,-2.9999999999999997E-4,-1.5E-3,-2.5999999999999999E-3,-3.5000000000000001E-3,-4.4000000000000003E-3,-5.1000000000000004E-3,-5.5999999999999999E-3,-6.0000000000000001E-3,-6.1000000000000004E-3,-6.1000000000000004E-3,-5.8999999999999999E-3,-5.4999999999999997E-3,-5.0000000000000001E-3,-4.3E-3,-3.3999999999999998E-3,-2.5000000000000001E-3,-1.5E-3,-4.0000000000000002E-4,5.9999999999999995E-4,1.6000000000000001E-3,2.5000000000000001E-3,3.2000000000000002E-3,3.8E-3,4.3E-3,4.5999999999999999E-3,4.7000000000000002E-3,4.7000000000000002E-3,4.7000000000000002E-3,4.4999999999999997E-3,4.3E-3,4.1000000000000003E-3,3.8999999999999998E-3,3.7000000000000002E-3,3.5999999999999999E-3,3.5999999999999999E-3,3.5999999999999999E-3,3.7000000000000002E-3,3.8E-3,3.8999999999999998E-3,4.0000000000000001E-3,4.1999999999999997E-3,4.3E-3,4.4000000000000003E-3,4.4999999999999997E-3,4.7000000000000002E-3,4.7999999999999996E-3,4.8999999999999998E-3,5.1000000000000004E-3,5.1999999999999998E-3,5.4000000000000003E-3,5.4999999999999997E-3]
[103,-1.15E-2,-1.0699999999999999E-2,-9.7999999999999997E-3,-8.9999999999999993E-3,-8.0999999999999996E-3,-7.1999999999999998E-3,-6.3E-3,-5.4000000000000003E-3,-4.4000000000000003E-3,-3.3999999999999998E-3,-2.3E-3,-1.1999999999999999E-3,-1E-4,1E-3,2.0999999999999999E-3,3.2000000000000002E-3,4.1999999999999997E-3,5.1999999999999998E-3,6.0000000000000001E-3,6.7000000000000002E-3,7.1999999999999998E-3,7.6E-3,7.9000000000000008E-3,7.9000000000000008E-3,7.7999999999999996E-3,7.6E-3,7.1000000000000004E-3,6.4999999999999997E-3,5.7999999999999996E-3,5.0000000000000001E-3,4.0000000000000001E-3,3.0000000000000001E-3,1.9E-3,8.0000000000000004E-4,-2.9999999999999997E-4,-1.4E-3,-2.3999999999999998E-3,-3.3E-3,-4.0000000000000001E-3,-4.7000000000000002E-3,-5.1999999999999998E-3,-5.4999999999999997E-3,-5.7000000000000002E-3,-5.7000000000000002E-3,-5.4999999999999997E-3,-5.1000000000000004E-3,-4.5999999999999999E-3,-3.8999999999999998E-3,-3.2000000000000002E-3,-2.3E-3,-1.2999999999999999E-3,-4.0000000000000002E-4,5.9999999999999995E-4,1.5E-3,2.3E-3,3.0000000000000001E-3,3.5000000000000001E-3,3.8999999999999998E-3,4.1999999999999997E-3,4.4000000000000003E-3,4.4000000000000003E-3,4.3E-3,4.1999999999999997E-3,4.0000000000000001E-3,3.8E-3,3.5999999999999999E-3,3.3999999999999998E-3,3.3E-3,3.3E-3,3.3E-3,3.3999999999999998E-3,3.5000000000000001E-3,3.5999999999999999E-3,3.7000000000000002E-3,3.8E-3,3.8999999999999998E-3,4.0000000000000001E-3,4.1999999999999997E-3,4.3E-3,4.4000000000000003E-3,4.5999999999999999E-3,4.7000000000000002E-3,4.7999999999999996E-3,5.0000000000000001E-3,5.1000000000000004E-3]
[104,-1.06E-2,-9.7999999999999997E-3,-8.9999999999999993E-3,-8.2000000000000007E-3,-7.4000000000000003E-3,-6.6E-3,-5.7999999999999996E-3,-4.8999999999999998E-3,-4.0000000000000001E-3,-3.0999999999999999E-3,-2.0999999999999999E-3,-1.1000000000000001E-3,-1E-4,1E-3,2E-3,2.8999999999999998E-3,3.8999999999999998E-3,4.7000000000000002E-3,5.4999999999999997E-3,6.1000000000000004E-3,6.6E-3,7.0000000000000001E-3,7.1999999999999998E-3,7.3000000000000001E-3,7.1999999999999998E-3,6.8999999999999999E-3,6.4999999999999997E-3,6.0000000000000001E-3,5.3E-3,4.4999999999999997E-3,3.7000000000000002E-3,2.7000000000000001E-3,1.6999999999999999E-3,6.9999999999999999E-4,-2.9999999999999997E-4,-1.2999999999999999E-3,-2.2000000000000001E-3,-3.0000000000000001E-3,-3.7000000000000002E-3,-4.3E-3,-4.7000000000000002E-3,-5.0000000000000001E-3,-5.1999999999999998E-3,-5.1999999999999998E-3,-5.0000000000000001E-3,-4.7000000000000002E-3,-4.1999999999999997E-3,-3.5999999999999999E-3,-2.8999999999999998E-3,-2.0999999999999999E-3,-1.1999999999999999E-3,-4.0000000000000002E-4,5.0000000000000001E-4,1.2999999999999999E-3,2.0999999999999999E-3,2.7000000000000001E-3,3.2000000000000002E-3,3.5999999999999999E-3,3.8999999999999998E-3,4.0000000000000001E-3,4.0000000000000001E-3,4.0000000000000001E-3,3.8E-3,3.7000000000000002E-3,3.5000000000000001E-3,3.3E-3,3.0999999999999999E-3,3.0999999999999999E-3,3.0000000000000001E-3,3.0999999999999999E-3,3.0999999999999999E-3,3.2000000000000002E-3,3.3E-3,3.3999999999999998E-3,3.5000000000000001E-3,3.5999999999999999E-3,3.7000000000000002E-3,3.8E-3,3.8999999999999998E-3,4.1000000000000003E-3,4.1999999999999997E-3,4.3E-3,4.4000000000000003E-3,4.5999999999999999E-3,4.7000000000000002E-3]
[105,-9.5999999999999992E-3,-8.8999999999999999E-3,-8.2000000000000007E-3,-7.4999999999999997E-3,-6.7999999999999996E-3,-6.0000000000000001E-3,-5.3E-3,-4.4999999999999997E-3,-3.7000000000000002E-3,-2.8E-3,-1.9E-3,-1E-3,-1E-4,8.9999999999999998E-4,1.8E-3,2.7000000000000001E-3,3.5000000000000001E-3,4.3E-3,5.0000000000000001E-3,5.5999999999999999E-3,6.0000000000000001E-3,6.4000000000000003E-3,6.6E-3,6.6E-3,6.4999999999999997E-3,6.3E-3,5.8999999999999999E-3,5.4999999999999997E-3,4.7999999999999996E-3,4.1000000000000003E-3,3.3E-3,2.5000000000000001E-3,1.6000000000000001E-3,5.9999999999999995E-4,-2.9999999999999997E-4,-1.1000000000000001E-3,-2E-3,-2.7000000000000001E-3,-3.3999999999999998E-3,-3.8999999999999998E-3,-4.3E-3,-4.5999999999999999E-3,-4.7000000000000002E-3,-4.7000000000000002E-3,-4.5999999999999999E-3,-4.3E-3,-3.8E-3,-3.3E-3,-2.5999999999999999E-3,-1.9E-3,-1.1000000000000001E-3,-2.9999999999999997E-4,5.0000000000000001E-4,1.1999999999999999E-3,1.9E-3,2.5000000000000001E-3,2.8999999999999998E-3,3.3E-3,3.5000000000000001E-3,3.5999999999999999E-3,3.7000000000000002E-3,3.5999999999999999E-3,3.5000000000000001E-3,3.3E-3,3.2000000000000002E-3,3.0000000000000001E-3,2.8E-3,2.8E-3,2.8E-3,2.8E-3,2.8E-3,2.8999999999999998E-3,3.0000000000000001E-3,3.0999999999999999E-3,3.2000000000000002E-3,3.3E-3,3.3999999999999998E-3,3.5000000000000001E-3,3.5999999999999999E-3,3.7000000000000002E-3,3.8E-3,3.8999999999999998E-3,4.0000000000000001E-3,4.1000000000000003E-3,4.3E-3]
[106,-8.6999999999999994E-3,-8.0000000000000002E-3,-7.4000000000000003E-3,-6.7000000000000002E-3,-6.1000000000000004E-3,-5.4000000000000003E-3,-4.7000000000000002E-3,-4.0000000000000001E-3,-3.3E-3,-2.5000000000000001E-3,-1.6999999999999999E-3,-8.9999999999999998E-4,-1E-4,8.0000000000000004E-4,1.6000000000000001E-3,2.3999999999999998E-3,3.2000000000000002E-3,3.8999999999999998E-3,4.4999999999999997E-3,5.0000000000000001E-3,5.4000000000000003E-3,5.7000000000000002E-3,5.8999999999999999E-3,6.0000000000000001E-3,5.8999999999999999E-3,5.7000000000000002E-3,5.3E-3,4.8999999999999998E-3,4.4000000000000003E-3,3.7000000000000002E-3,3.0000000000000001E-3,2.2000000000000001E-3,1.4E-3,5.9999999999999995E-4,-2.0000000000000001E-4,-1E-3,-1.8E-3,-2.3999999999999998E-3,-3.0000000000000001E-3,-3.5000000000000001E-3,-3.8999999999999998E-3,-4.1000000000000003E-3,-4.1999999999999997E-3,-4.1999999999999997E-3,-4.1000000000000003E-3,-3.8E-3,-3.5000000000000001E-3,-3.0000000000000001E-3,-2.3999999999999998E-3,-1.6999999999999999E-3,-1E-3,-2.9999999999999997E-4,4.0000000000000002E-4,1.1000000000000001E-3,1.6999999999999999E-3,2.2000000000000001E-3,2.5999999999999999E-3,3.0000000000000001E-3,3.2000000000000002E-3,3.3E-3,3.3E-3,3.2000000000000002E-3,3.0999999999999999E-3,3.0000000000000001E-3,2.8E-3,2.7000000000000001E-3,2.5999999999999999E-3,2.5000000000000001E-3,2.5000000000000001E-3,2.5000000000000001E-3,2.5999999999999999E-3,2.5999999999999999E-3,2.7000000000000001E-3,2.8E-3,2.8999999999999998E-3,3.0000000000000001E-3,3.0000000000000001E-3,3.0999999999999999E-3,3.2000000000000002E-3,3.3E-3,3.3999999999999998E-3,3.5000000000000001E-3,3.5999999999999999E-3,3.7000000000000002E-3,3.8E-3]
[107,-7.7000000000000002E-3,-7.1000000000000004E-3,-6.6E-3,-6.0000000000000001E-3,-5.4000000000000003E-3,-4.7999999999999996E-3,-4.1999999999999997E-3,-3.5999999999999999E-3,-2.8999999999999998E-3,-2.2000000000000001E-3,-1.5E-3,-8.0000000000000004E-4,-1E-4,6.9999999999999999E-4,1.4E-3,2.0999999999999999E-3,2.8E-3,3.3999999999999998E-3,4.0000000000000001E-3,4.4000000000000003E-3,4.7999999999999996E-3,5.1000000000000004E-3,5.1999999999999998E-3,5.3E-3,5.1999999999999998E-3,5.0000000000000001E-3,4.7999999999999996E-3,4.4000000000000003E-3,3.8999999999999998E-3,3.3E-3,2.7000000000000001E-3,2E-3,1.2999999999999999E-3,5.0000000000000001E-4,-2.0000000000000001E-4,-8.9999999999999998E-4,-1.6000000000000001E-3,-2.2000000000000001E-3,-2.7000000000000001E-3,-3.0999999999999999E-3,-3.3999999999999998E-3,-3.7000000000000002E-3,-3.8E-3,-3.8E-3,-3.5999999999999999E-3,-3.3999999999999998E-3,-3.0999999999999999E-3,-2.5999999999999999E-3,-2.0999999999999999E-3,-1.5E-3,-8.9999999999999998E-4,-2.9999999999999997E-4,4.0000000000000002E-4,1E-3,1.5E-3,2E-3,2.3999999999999998E-3,2.5999999999999999E-3,2.8E-3,2.8999999999999998E-3,2.8999999999999998E-3,2.8999999999999998E-3,2.8E-3,2.7000000000000001E-3,2.5000000000000001E-3,2.3999999999999998E-3,2.3E-3,2.2000000000000001E-3,2.2000000000000001E-3,2.2000000000000001E-3,2.3E-3,2.3E-3,2.3999999999999998E-3,2.5000000000000001E-3,2.5999999999999999E-3,2.5999999999999999E-3,2.7000000000000001E-3,2.8E-3,2.8999999999999998E-3,3.0000000000000001E-3,3.0000000000000001E-3,3.0999999999999999E-3,3.2000000000000002E-3,3.3E-3,3.3999999999999998E-3]
[108,-6.7000000000000002E-3,-6.1999999999999998E-3,-5.7000000000000002E-3,-5.1999999999999998E-3,-4.7000000000000002E-3,-4.1999999999999997E-3,-3.7000000000000002E-3,-3.0999999999999999E-3,-2.5999999999999999E-3,-2E-3,-1.2999999999999999E-3,-6.9999999999999999E-4,0,5.9999999999999995E-4,1.2999999999999999E-3,1.9E-3,2.5000000000000001E-3,3.0000000000000001E-3,3.5000000000000001E-3,3.8999999999999998E-3,4.1999999999999997E-3,4.4999999999999997E-3,4.5999999999999999E-3,4.5999999999999999E-3,4.5999999999999999E-3,4.4000000000000003E-3,4.1999999999999997E-3,3.8E-3,3.3999999999999998E-3,2.8999999999999998E-3,2.3E-3,1.6999999999999999E-3,1.1000000000000001E-3,5.0000000000000001E-4,-2.0000000000000001E-4,-8.0000000000000004E-4,-1.4E-3,-1.9E-3,-2.3E-3,-2.7000000000000001E-3,-3.0000000000000001E-3,-3.2000000000000002E-3,-3.3E-3,-3.3E-3,-3.2000000000000002E-3,-3.0000000000000001E-3,-2.7000000000000001E-3,-2.3E-3,-1.8E-3,-1.2999999999999999E-3,-8.0000000000000004E-4,-2.0000000000000001E-4,2.9999999999999997E-4,8.9999999999999998E-4,1.2999999999999999E-3,1.6999999999999999E-3,2.0999999999999999E-3,2.3E-3,2.5000000000000001E-3,2.5000000000000001E-3,2.5999999999999999E-3,2.5000000000000001E-3,2.3999999999999998E-3,2.3E-3,2.2000000000000001E-3,2.0999999999999999E-3,2E-3,1.9E-3,1.9E-3,1.9E-3,2E-3,2E-3,2.0999999999999999E-3,2.2000000000000001E-3,2.2000000000000001E-3,2.3E-3,2.3999999999999998E-3,2.3999999999999998E-3,2.5000000000000001E-3,2.5999999999999999E-3,2.7000000000000001E-3,2.7000000000000001E-3,2.8E-3,2.8999999999999998E-3,3.0000000000000001E-3]
[109,-5.7999999999999996E-3,-5.3E-3,-4.8999999999999998E-3,-4.4999999999999997E-3,-4.1000000000000003E-3,-3.5999999999999999E-3,-3.2000000000000002E-3,-2.7000000000000001E-3,-2.2000000000000001E-3,-1.6999999999999999E-3,-1.1000000000000001E-3,-5.9999999999999995E-4,0,5.0000000000000001E-4,1.1000000000000001E-3,1.6000000000000001E-3,2.0999999999999999E-3,2.5999999999999999E-3,3.0000000000000001E-3,3.3E-3,3.5999999999999999E-3,3.8E-3,3.8999999999999998E-3,4.0000000000000001E-3,3.8999999999999998E-3,3.8E-3,3.5999999999999999E-3,3.3E-3,2.8999999999999998E-3,2.5000000000000001E-3,2E-3,1.5E-3,8.9999999999999998E-4,4.0000000000000002E-4,-2.0000000000000001E-4,-6.9999999999999999E-4,-1.1999999999999999E-3,-1.6000000000000001E-3,-2E-3,-2.3E-3,-2.5999999999999999E-3,-2.7000000000000001E-3,-2.8E-3,-2.8E-3,-2.7000000000000001E-3,-2.5999999999999999E-3,-2.3E-3,-2E-3,-1.6000000000000001E-3,-1.1000000000000001E-3,-6.9999999999999999E-4,-2.0000000000000001E-4,2.9999999999999997E-4,6.9999999999999999E-4,1.1000000000000001E-3,1.5E-3,1.8E-3,2E-3,2.0999999999999999E-3,2.2000000000000001E-3,2.2000000000000001E-3,2.2000000000000001E-3,2.0999999999999999E-3,2E-3,1.9E-3,1.8E-3,1.6999999999999999E-3,1.6999999999999999E-3,1.6999999999999999E-3,1.6999999999999999E-3,1.6999999999999999E-3,1.8E-3,1.8E-3,1.9E-3,1.9E-3,2E-3,2E-3,2.0999999999999999E-3,2.0999999999999999E-3,2.2000000000000001E-3,2.3E-3,2.3E-3,2.3999999999999998E-3,2.5000000000000001E-3,2.5999999999999999E-3]
[110,-4.7999999999999996E-3,-4.4999999999999997E-3,-4.1000000000000003E-3,-3.7000000000000002E-3,-3.3999999999999998E-3,-3.0000000000000001E-3,-2.5999999999999999E-3,-2.2000000000000001E-3,-1.8E-3,-1.4E-3,-1E-3,-5.0000000000000001E-4,0,4.0000000000000002E-4,8.9999999999999998E-4,1.2999999999999999E-3,1.8E-3,2.0999999999999999E-3,2.5000000000000001E-3,2.8E-3,3.0000000000000001E-3,3.2000000000000002E-3,3.3E-3,3.3E-3,3.3E-3,3.2000000000000002E-3,3.0000000000000001E-3,2.7000000000000001E-3,2.3999999999999998E-3,2.0999999999999999E-3,1.6999999999999999E-3,1.1999999999999999E-3,8.0000000000000004E-4,2.9999999999999997E-4,-1E-4,-5.9999999999999995E-4,-1E-3,-1.4E-3,-1.6999999999999999E-3,-1.9E-3,-2.2000000000000001E-3,-2.3E-3,-2.3999999999999998E-3,-2.3999999999999998E-3,-2.3E-3,-2.0999999999999999E-3,-1.9E-3,-1.6000000000000001E-3,-1.2999999999999999E-3,-1E-3,-5.9999999999999995E-4,-2.0000000000000001E-4,2.0000000000000001E-4,5.9999999999999995E-4,8.9999999999999998E-4,1.1999999999999999E-3,1.5E-3,1.6000000000000001E-3,1.8E-3,1.8E-3,1.8E-3,1.8E-3,1.6999999999999999E-3,1.6999999999999999E-3,1.6000000000000001E-3,1.5E-3,1.4E-3,1.4E-3,1.4E-3,1.4E-3,1.4E-3,1.5E-3,1.5E-3,1.6000000000000001E-3,1.6000000000000001E-3,1.6000000000000001E-3,1.6999999999999999E-3,1.6999999999999999E-3,1.8E-3,1.8E-3,1.9E-3,2E-3,2E-3,2.0999999999999999E-3,2.0999999999999999E-3]
[111,-3.8E-3,-3.5999999999999999E-3,-3.3E-3,-3.0000000000000001E-3,-2.7000000000000001E-3,-2.3999999999999998E-3,-2.0999999999999999E-3,-1.8E-3,-1.5E-3,-1.1000000000000001E-3,-8.0000000000000004E-4,-4.0000000000000002E-4,0,2.9999999999999997E-4,6.9999999999999999E-4,1.1000000000000001E-3,1.4E-3,1.6999999999999999E-3,2E-3,2.2000000000000001E-3,2.3999999999999998E-3,2.5000000000000001E-3,2.5999999999999999E-3,2.5999999999999999E-3,2.5999999999999999E-3,2.5000000000000001E-3,2.3999999999999998E-3,2.2000000000000001E-3,1.9E-3,1.6999999999999999E-3,1.2999999999999999E-3,1E-3,5.9999999999999995E-4,2.9999999999999997E-4,-1E-4,-5.0000000000000001E-4,-8.0000000000000004E-4,-1.1000000000000001E-3,-1.2999999999999999E-3,-1.6000000000000001E-3,-1.6999999999999999E-3,-1.8E-3,-1.9E-3,-1.9E-3,-1.8E-3,-1.6999999999999999E-3,-1.5E-3,-1.2999999999999999E-3,-1.1000000000000001E-3,-8.0000000000000004E-4,-4.0000000000000002E-4,-1E-4,2.0000000000000001E-4,5.0000000000000001E-4,8.0000000000000004E-4,1E-3,1.1999999999999999E-3,1.2999999999999999E-3,1.4E-3,1.5E-3,1.5E-3,1.4E-3,1.4E-3,1.2999999999999999E-3,1.2999999999999999E-3,1.1999999999999999E-3,1.1000000000000001E-3,1.1000000000000001E-3,1.1000000000000001E-3,1.1000000000000001E-3,1.1000000000000001E-3,1.1999999999999999E-3,1.1999999999999999E-3,1.1999999999999999E-3,1.2999999999999999E-3,1.2999999999999999E-3,1.2999999999999999E-3,1.4E-3,1.4E-3,1.5E-3,1.5E-3,1.6000000000000001E-3,1.6000000000000001E-3,1.6999999999999999E-3,1.6999999999999999E-3]
[112,-2.8999999999999998E-3,-2.7000000000000001E-3,-2.5000000000000001E-3,-2.2000000000000001E-3,-2E-3,-1.8E-3,-1.6000000000000001E-3,-1.2999999999999999E-3,-1.1000000000000001E-3,-8.0000000000000004E-4,-5.9999999999999995E-4,-2.9999999999999997E-4,0,2.9999999999999997E-4,5.0000000000000001E-4,8.0000000000000004E-4,1.1000000000000001E-3,1.2999999999999999E-3,1.5E-3,1.6999999999999999E-3,1.8E-3,1.9E-3,2E-3,2E-3,2E-3,1.9E-3,1.8E-3,1.6000000000000001E-3,1.5E-3,1.1999999999999999E-3,1E-3,6.9999999999999999E-4,5.0000000000000001E-4,2.0000000000000001E-4,-1E-4,-2.9999999999999997E-4,-5.9999999999999995E-4,-8.0000000000000004E-4,-1E-3,-1.1999999999999999E-3,-1.2999999999999999E-3,-1.4E-3,-1.4E-3,-1.4E-3,-1.4E-3,-1.2999999999999999E-3,-1.1999999999999999E-3,-1E-3,-8.0000000000000004E-4,-5.9999999999999995E-4,-2.9999999999999997E-4,-1E-4,1E-4,4.0000000000000002E-4,5.9999999999999995E-4,6.9999999999999999E-4,8.9999999999999998E-4,1E-3,1.1000000000000001E-3,1.1000000000000001E-3,1.1000000000000001E-3,1.1000000000000001E-3,1E-3,1E-3,8.9999999999999998E-4,8.9999999999999998E-4,8.9999999999999998E-4,8.0000000000000004E-4,8.0000000000000004E-4,8.0000000000000004E-4,8.9999999999999998E-4,8.9999999999999998E-4,8.9999999999999998E-4,8.9999999999999998E-4,1E-3,1E-3,1E-3,1E-3,1.1000000000000001E-3,1.1000000000000001E-3,1.1000000000000001E-3,1.1999999999999999E-3,1.1999999999999999E-3,1.1999999999999999E-3,1.2999999999999999E-3]
[113,-1.9E-3,-1.8E-3,-1.6000000000000001E-3,-1.5E-3,-1.4E-3,-1.1999999999999999E-3,-1.1000000000000001E-3,-8.9999999999999998E-4,-6.9999999999999999E-4,-5.9999999999999995E-4,-4.0000000000000002E-4,-2.0000000000000001E-4,0,2.0000000000000001E-4,4.0000000000000002E-4,5.0000000000000001E-4,6.9999999999999999E-4,8.9999999999999998E-4,1E-3,1.1000000000000001E-3,1.1999999999999999E-3,1.2999999999999999E-3,1.2999999999999999E-3,1.2999999999999999E-3,1.2999999999999999E-3,1.2999999999999999E-3,1.1999999999999999E-3,1.1000000000000001E-3,1E-3,8.0000000000000004E-4,6.9999999999999999E-4,5.0000000000000001E-4,2.9999999999999997E-4,1E-4,-1E-4,-2.0000000000000001E-4,-4.0000000000000002E-4,-5.0000000000000001E-4,-6.9999999999999999E-4,-8.0000000000000004E-4,-8.9999999999999998E-4,-8.9999999999999998E-4,-8.9999999999999998E-4,-8.9999999999999998E-4,-8.9999999999999998E-4,-8.9999999999999998E-4,-8.0000000000000004E-4,-6.9999999999999999E-4,-5.0000000000000001E-4,-4.0000000000000002E-4,-2.0000000000000001E-4,-1E-4,1E-4,2.0000000000000001E-4,4.0000000000000002E-4,5.0000000000000001E-4,5.9999999999999995E-4,6.9999999999999999E-4,6.9999999999999999E-4,6.9999999999999999E-4,6.9999999999999999E-4,6.9999999999999999E-4,6.9999999999999999E-4,6.9999999999999999E-4,5.9999999999999995E-4,5.9999999999999995E-4,5.9999999999999995E-4,5.9999999999999995E-4,5.9999999999999995E-4,5.9999999999999995E-4,5.9999999999999995E-4,5.9999999999999995E-4,5.9999999999999995E-4,5.9999999999999995E-4,5.9999999999999995E-4,6.9999999999999999E-4,6.9999999999999999E-4,6.9999999999999999E-4,6.9999999999999999E-4,6.9999999999999999E-4,8.0000000000000004E-4,8.0000000000000004E-4,8.0000000000000004E-4,8.0000000000000004E-4,8.9999999999999998E-4]
[114,-1E-3,-8.9999999999999998E-4,-8.0000000000000004E-4,-6.9999999999999999E-4,-6.9999999999999999E-4,-5.9999999999999995E-4,-5.0000000000000001E-4,-4.0000000000000002E-4,-4.0000000000000002E-4,-2.9999999999999997E-4,-2.0000000000000001E-4,-1E-4,0,1E-4,2.0000000000000001E-4,2.9999999999999997E-4,4.0000000000000002E-4,4.0000000000000002E-4,5.0000000000000001E-4,5.9999999999999995E-4,5.9999999999999995E-4,5.9999999999999995E-4,6.9999999999999999E-4,6.9999999999999999E-4,6.9999999999999999E-4,5.9999999999999995E-4,5.9999999999999995E-4,5.0000000000000001E-4,5.0000000000000001E-4,4.0000000000000002E-4,2.9999999999999997E-4,2.0000000000000001E-4,2.0000000000000001E-4,1E-4,0,-1E-4,-2.0000000000000001E-4,-2.9999999999999997E-4,-2.9999999999999997E-4,-4.0000000000000002E-4,-4.0000000000000002E-4,-5.0000000000000001E-4,-5.0000000000000001E-4,-5.0000000000000001E-4,-5.0000000000000001E-4,-4.0000000000000002E-4,-4.0000000000000002E-4,-2.9999999999999997E-4,-2.9999999999999997E-4,-2.0000000000000001E-4,-1E-4,0,0,1E-4,2.0000000000000001E-4,2.0000000000000001E-4,2.9999999999999997E-4,2.9999999999999997E-4,4.0000000000000002E-4,4.0000000000000002E-4,4.0000000000000002E-4,4.0000000000000002E-4,2.9999999999999997E-4,2.9999999999999997E-4,2.9999999999999997E-4,2.9999999999999997E-4,2.9999999999999997E-4,2.9999999999999997E-4,2.9999999999999997E-4,2.9999999999999997E-4,2.9999999999999997E-4,2.9999999999999997E-4,2.9999999999999997E-4,2.9999999999999997E-4,2.9999999999999997E-4,2.9999999999999997E-4,2.9999999999999997E-4,2.9999999999999997E-4,4.0000000000000002E-4,4.0000000000000002E-4,4.0000000000000002E-4,4.0000000000000002E-4,4.0000000000000002E-4,4.0000000000000002E-4,4.0000000000000002E-4]
[115,0,0,0,0,0,0,0,0,0,0,0,0,0,0,0,0,0,0,0,0,0,0,0,0,0,0,0,0,0,0,0,0,0,0,0,0,0,0,0,0,0,0,0,0,0,0,0,0,0,0,0,0,0,0,0,0,0,0,0,0,0,0,0,0,0,0,0,0,0,0,0,0,0,0,0,0,0,0,0,0,0,0,0,0,0]
[116,0,0,0,0,0,0,0,0,0,0,0,0,0,0,0,0,0,0,0,0,0,0,0,0,0,0,0,0,0,0,0,0,0,0,0,0,0,0,0,0,0,0,0,0,0,0,0,0,0,0,0,0,0,0,0,0,0,0,0,0,0,0,0,0,0,0,0,0,0,0,0,0,0,0,0,0,0,0,0,0,0,0,0,0,0]
[117,0,0,0,0,0,0,0,0,0,0,0,0,0,0,0,0,0,0,0,0,0,0,0,0,0,0,0,0,0,0,0,0,0,0,0,0,0,0,0,0,0,0,0,0,0,0,0,0,0,0,0,0,0,0,0,0,0,0,0,0,0,0,0,0,0,0,0,0,0,0,0,0,0,0,0,0,0,0,0,0,0,0,0,0,0]
[118,0,0,0,0,0,0,0,0,0,0,0,0,0,0,0,0,0,0,0,0,0,0,0,0,0,0,0,0,0,0,0,0,0,0,0,0,0,0,0,0,0,0,0,0,0,0,0,0,0,0,0,0,0,0,0,0,0,0,0,0,0,0,0,0,0,0,0,0,0,0,0,0,0,0,0,0,0,0,0,0,0,0,0,0,0]
[119,0,0,0,0,0,0,0,0,0,0,0,0,0,0,0,0,0,0,0,0,0,0,0,0,0,0,0,0,0,0,0,0,0,0,0,0,0,0,0,0,0,0,0,0,0,0,0,0,0,0,0,0,0,0,0,0,0,0,0,0,0,0,0,0,0,0,0,0,0,0,0,0,0,0,0,0,0,0,0,0,0,0,0,0,0]
[120,0,0,0,0,0,0,0,0,0,0,0,0,0,0,0,0,0,0,0,0,0,0,0,0,0,0,0,0,0,0,0,0,0,0,0,0,0,0,0,0,0,0,0,0,0,0,0,0,0,0,0,0,0,0,0,0,0,0,0,0,0,0,0,0,0,0,0,0,0,0,0,0,0,0,0,0,0,0,0,0,0,0,0,0,0]

{"sheet":"Female","index":2,"n_rows":103,"n_cols":86,"rows_kept":103,"cut":false,"hidden":false,"merged":[]}
["MP-2019 - Female"]
[null,1951,1952,1953,1954,1955,1956,1957,1958,1959,1960,1961,1962,1963,1964,1965,1966,1967,1968,1969,1970,1971,1972,1973,1974,1975,1976,1977,1978,1979,1980,1981,1982,1983,1984,1985,1986,1987,1988,1989,1990,1991,1992,1993,1994,1995,1996,1997,1998,1999,2000,2001,2002,2003,2004,2005,2006,2007,2008,{"$f":"BG2+1","v":2009},2010,2011,2012,2013,2014,2015,2016,2017,2018,2019,2020,2021,2022,2023,2024,2025,2026,2027,2028,2029,2030,2031,2032,2033,2034,"2035+"]
["≤ 20",6.6699999999999995E-2,6.0199999999999997E-2,5.3699999999999998E-2,4.6800000000000001E-2,3.9800000000000002E-2,3.3099999999999997E-2,2.69E-2,2.0899999999999998E-2,1.49E-2,8.8000000000000005E-3,2.5999999999999999E-3,-3.5000000000000001E-3,-8.8999999999999999E-3,-1.32E-2,-1.61E-2,-1.7299999999999999E-2,-1.6500000000000001E-2,-1.35E-2,-8.3999999999999995E-3,-1.9E-3,5.1000000000000004E-3,1.1599999999999999E-2,1.67E-2,1.9900000000000001E-2,2.1000000000000001E-2,2.0899999999999998E-2,2.07E-2,2.1399999999999999E-2,2.3099999999999999E-2,2.47E-2,2.52E-2,2.3699999999999999E-2,0.02,1.52E-2,1.0500000000000001E-2,7.0000000000000001E-3,5.4000000000000003E-3,5.7000000000000002E-3,7.3000000000000001E-3,9.4999999999999998E-3,1.17E-2,1.3599999999999999E-2,1.4800000000000001E-2,1.54E-2,1.5299999999999999E-2,1.4200000000000001E-2,1.2E-2,8.8000000000000005E-3,5.1000000000000004E-3,1.6999999999999999E-3,-6.9999999999999999E-4,-1.1999999999999999E-3,8.0000000000000004E-4,5.3E-3,1.1599999999999999E-2,1.8599999999999998E-2,2.5000000000000001E-2,2.9399999999999999E-2,3.0700000000000002E-2,2.8299999999999999E-2,2.24E-2,1.3299999999999999E-2,1.8E-3,-1.14E-2,-2.53E-2,-2.47E-2,-2.3E-2,-2.0400000000000001E-2,-1.7299999999999999E-2,-1.37E-2,-1.01E-2,-6.4999999999999997E-3,-3.3E-3,-5.9999999999999995E-4,1.1999999999999999E-3,2.5000000000000001E-3,3.8E-3,5.0000000000000001E-3,6.1999999999999998E-3,7.1999999999999998E-3,8.2000000000000007E-3,8.8999999999999999E-3,9.4999999999999998E-3,9.9000000000000008E-3,0.01]
[21,6.9099999999999995E-2,6.1800000000000001E-2,5.4399999999999997E-2,4.6800000000000001E-2,3.9300000000000002E-2,3.2199999999999999E-2,2.5600000000000001E-2,1.9599999999999999E-2,1.37E-2,8.0000000000000002E-3,2.3E-3,-3.0000000000000001E-3,-7.4999999999999997E-3,-1.11E-2,-1.34E-2,-1.43E-2,-1.35E-2,-1.0699999999999999E-2,-6.1000000000000004E-3,-2.0000000000000001E-4,6.3E-3,1.23E-2,1.7100000000000001E-2,2.01E-2,2.12E-2,2.12E-2,2.0899999999999998E-2,2.1499999999999998E-2,2.29E-2,2.4299999999999999E-2,2.4799999999999999E-2,2.3400000000000001E-2,2.0199999999999999E-2,1.5699999999999999E-2,1.11E-2,7.6E-3,5.7999999999999996E-3,5.8999999999999999E-3,7.3000000000000001E-3,9.4000000000000004E-3,1.1599999999999999E-2,1.3599999999999999E-2,1.5100000000000001E-2,1.6E-2,1.61E-2,1.49E-2,1.23E-2,8.6E-3,4.3E-3,2.0000000000000001E-4,-2.8E-3,-4.0000000000000001E-3,-2.7000000000000001E-3,1E-3,6.4999999999999997E-3,1.2800000000000001E-2,1.8800000000000001E-2,2.3099999999999999E-2,2.46E-2,2.2800000000000001E-2,1.77E-2,9.4999999999999998E-3,-1.1999999999999999E-3,-1.37E-2,-2.7300000000000001E-2,-2.5600000000000001E-2,-2.3900000000000001E-2,-2.12E-2,-1.7899999999999999E-2,-1.4200000000000001E-2,-1.04E-2,-6.7000000000000002E-3,-3.3999999999999998E-3,-6.9999999999999999E-4,1.1999999999999999E-3,2.5000000000000001E-3,3.8E-3,5.0000000000000001E-3,6.1999999999999998E-3,7.1999999999999998E-3,8.2000000000000007E-3,8.8999999999999999E-3,9.4999999999999998E-3,9.9000000000000008E-3,0.01]
[22,7.0999999999999994E-2,6.3100000000000003E-2,5.5100000000000003E-2,4.6800000000000001E-2,3.8800000000000001E-2,3.1199999999999999E-2,2.4400000000000002E-2,1.8200000000000001E-2,1.2500000000000001E-2,7.1999999999999998E-3,2.2000000000000001E-3,-2.3E-3,-6.0000000000000001E-3,-8.8000000000000005E-3,-1.0500000000000001E-2,-1.12E-2,-1.03E-2,-7.9000000000000008E-3,-3.7000000000000002E-3,1.8E-3,7.7999999999999996E-3,1.35E-2,1.8100000000000002E-2,2.0899999999999998E-2,2.1999999999999999E-2,2.1899999999999999E-2,2.1499999999999998E-2,2.1600000000000001E-2,2.2599999999999999E-2,2.3699999999999999E-2,2.41E-2,2.2800000000000001E-2,1.9699999999999999E-2,1.54E-2,1.09E-2,7.3000000000000001E-3,5.4000000000000003E-3,5.3E-3,6.7000000000000002E-3,8.8000000000000005E-3,1.11E-2,1.34E-2,1.5299999999999999E-2,1.67E-2,1.72E-2,1.61E-2,1.35E-2,9.4000000000000004E-3,4.4000000000000003E-3,-4.0000000000000002E-4,-4.1000000000000003E-3,-6.1000000000000004E-3,-5.5999999999999999E-3,-2.5999999999999999E-3,2E-3,7.6E-3,1.3100000000000001E-2,1.72E-2,1.89E-2,1.7600000000000001E-2,1.3100000000000001E-2,5.7000000000000002E-3,-4.1999999999999997E-3,-1.6199999999999999E-2,-2.93E-2,-2.76E-2,-2.4799999999999999E-2,-2.1999999999999999E-2,-1.8599999999999998E-2,-1.47E-2,-1.0800000000000001E-2,-6.8999999999999999E-3,-3.5000000000000001E-3,-6.9999999999999999E-4,1.1999999999999999E-3,2.5000000000000001E-3,3.8E-3,5.0000000000000001E-3,6.1999999999999998E-3,7.1999999999999998E-3,8.2000000000000007E-3,8.8999999999999999E-3,9.4999999999999998E-3,9.9000000000000008E-3,0.01]
[23,7.2400000000000006E-2,6.4100000000000004E-2,5.5599999999999997E-2,4.6899999999999997E-2,3.8300000000000001E-2,3.0300000000000001E-2,2.3199999999999998E-2,1.6899999999999998E-2,1.1299999999999999E-2,6.4000000000000003E-3,2.0999999999999999E-3,-1.6000000000000001E-3,-4.4999999999999997E-3,-6.4999999999999997E-3,-7.7000000000000002E-3,-8.0999999999999996E-3,-7.3000000000000001E-3,-5.0000000000000001E-3,-1.1999999999999999E-3,3.8999999999999998E-3,9.5999999999999992E-3,1.5100000000000001E-2,1.9400000000000001E-2,2.2200000000000001E-2,2.3199999999999998E-2,2.29E-2,2.2200000000000001E-2,2.1999999999999999E-2,2.2499999999999999E-2,2.3099999999999999E-2,2.3199999999999998E-2,2.18E-2,1.8800000000000001E-2,1.4500000000000001E-2,9.9000000000000008E-3,6.1000000000000004E-3,4.0000000000000001E-3,3.8999999999999998E-3,5.4000000000000003E-3,7.7000000000000002E-3,1.03E-2,1.2999999999999999E-2,1.54E-2,1.7399999999999999E-2,1.84E-2,1.78E-2,1.5299999999999999E-2,1.0999999999999999E-2,5.4999999999999997E-3,0,-4.5999999999999999E-3,-7.3000000000000001E-3,-7.6E-3,-5.5999999999999999E-3,-1.9E-3,3.0000000000000001E-3,8.0000000000000002E-3,1.1900000000000001E-2,1.37E-2,1.2800000000000001E-2,8.8999999999999999E-3,2.0999999999999999E-3,-7.3000000000000001E-3,-1.8700000000000001E-2,-3.15E-2,-2.9700000000000001E-2,-2.6700000000000002E-2,-2.29E-2,-1.9300000000000001E-2,-1.5299999999999999E-2,-1.12E-2,-7.1999999999999998E-3,-3.5999999999999999E-3,-6.9999999999999999E-4,1.1999999999999999E-3,2.5000000000000001E-3,3.8E-3,5.0000000000000001E-3,6.1999999999999998E-3,7.1999999999999998E-3,8.2000000000000007E-3,8.8999999999999999E-3,9.4999999999999998E-3,9.9000000000000008E-3,0.01]
[24,7.3200000000000001E-2,6.4600000000000005E-2,5.5899999999999998E-2,4.6800000000000001E-2,3.78E-2,2.9399999999999999E-2,2.1999999999999999E-2,1.5599999999999999E-2,1.0200000000000001E-2,5.7000000000000002E-3,2E-3,-8.9999999999999998E-4,-3.0000000000000001E-3,-4.4000000000000003E-3,-5.1000000000000004E-3,-5.1999999999999998E-3,-4.4000000000000003E-3,-2.3E-3,1.2999999999999999E-3,6.1999999999999998E-3,1.17E-2,1.7000000000000001E-2,2.12E-2,2.3900000000000001E-2,2.4799999999999999E-2,2.4400000000000002E-2,2.3400000000000001E-2,2.2599999999999999E-2,2.24E-2,2.2499999999999999E-2,2.2100000000000002E-2,2.0500000000000001E-2,1.7399999999999999E-2,1.29E-2,8.0999999999999996E-3,4.1000000000000003E-3,1.9E-3,1.9E-3,3.5999999999999999E-3,6.3E-3,9.2999999999999992E-3,1.23E-2,1.5299999999999999E-2,1.7899999999999999E-2,1.9699999999999999E-2,1.9800000000000002E-2,1.7600000000000001E-2,1.3299999999999999E-2,7.4000000000000003E-3,1.1000000000000001E-3,-4.1999999999999997E-3,-7.6E-3,-8.8000000000000005E-3,-7.7000000000000002E-3,-4.8999999999999998E-3,-8.9999999999999998E-4,3.5999999999999999E-3,7.1999999999999998E-3,9.1000000000000004E-3,8.6E-3,5.1000000000000004E-3,-1.1999999999999999E-3,-1.0200000000000001E-2,-2.1299999999999999E-2,-3.3799999999999997E-2,-3.1899999999999998E-2,-2.87E-2,-2.47E-2,-0.02,-1.5900000000000001E-2,-1.1599999999999999E-2,-7.4000000000000003E-3,-3.7000000000000002E-3,-8.0000000000000004E-4,1.1999999999999999E-3,2.5000000000000001E-3,3.8E-3,5.0000000000000001E-3,6.1999999999999998E-3,7.1999999999999998E-3,8.2000000000000007E-3,8.8999999999999999E-3,9.4999999999999998E-3,9.9000000000000008E-3,0.01]
[25,7.3499999999999996E-2,6.4799999999999996E-2,5.5899999999999998E-2,4.6600000000000003E-2,3.73E-2,2.8500000000000001E-2,2.0799999999999999E-2,1.43E-2,9.1000000000000004E-3,5.0000000000000001E-3,1.9E-3,-4.0000000000000002E-4,-1.8E-3,-2.5999999999999999E-3,-2.8999999999999998E-3,-2.8E-3,-1.8E-3,2.9999999999999997E-4,3.7000000000000002E-3,8.3999999999999995E-3,1.38E-2,1.9099999999999999E-2,2.3300000000000001E-2,2.5999999999999999E-2,2.6800000000000001E-2,2.6200000000000001E-2,2.4799999999999999E-2,2.3400000000000001E-2,2.2599999999999999E-2,2.1999999999999999E-2,2.1000000000000001E-2,1.9E-2,1.55E-2,1.0800000000000001E-2,5.7000000000000002E-3,1.4E-3,-8.0000000000000004E-4,-5.9999999999999995E-4,1.5E-3,4.4999999999999997E-3,7.9000000000000008E-3,1.14E-2,1.49E-2,1.83E-2,2.0899999999999998E-2,2.18E-2,2.0199999999999999E-2,1.6E-2,9.7999999999999997E-3,3.0000000000000001E-3,-3.0000000000000001E-3,-7.1999999999999998E-3,-9.1999999999999998E-3,-8.9999999999999993E-3,-7.0000000000000001E-3,-3.8E-3,0,3.3999999999999998E-3,5.3E-3,4.8999999999999998E-3,1.8E-3,-4.3E-3,-1.2999999999999999E-2,-2.3900000000000001E-2,-3.61E-2,-3.4200000000000001E-2,-3.09E-2,-2.6599999999999999E-2,-2.1600000000000001E-2,-1.6400000000000001E-2,-1.2E-2,-7.7000000000000002E-3,-3.8E-3,-8.0000000000000004E-4,1.1999999999999999E-3,2.5000000000000001E-3,3.8E-3,5.0000000000000001E-3,6.1999999999999998E-3,7.1999999999999998E-3,8.2000000000000007E-3,8.8999999999999999E-3,9.4999999999999998E-3,9.9000000000000008E-3,0.01]
[26,7.3200000000000001E-2,6.4500000000000002E-2,5.5500000000000001E-2,4.6100000000000002E-2,3.6600000000000001E-2,2.75E-2,1.9599999999999999E-2,1.32E-2,8.2000000000000007E-3,4.4000000000000003E-3,1.8E-3,0,-8.9999999999999998E-4,-1.1999999999999999E-3,-1.1999999999999999E-3,-8.0000000000000004E-4,4.0000000000000002E-4,2.5000000000000001E-3,6.0000000000000001E-3,1.06E-2,1.6E-2,2.1299999999999999E-2,2.5600000000000001E-2,2.8299999999999999E-2,2.92E-2,2.8400000000000002E-2,2.6599999999999999E-2,2.47E-2,2.3099999999999999E-2,2.1600000000000001E-2,0.02,1.7399999999999999E-2,1.34E-2,8.2000000000000007E-3,2.8E-3,-1.6999999999999999E-3,-3.8E-3,-3.3999999999999998E-3,-8.9999999999999998E-4,2.5999999999999999E-3,6.4000000000000003E-3,1.0200000000000001E-2,1.4200000000000001E-2,1.83E-2,2.1700000000000001E-2,2.35E-2,2.2700000000000001E-2,1.8800000000000001E-2,1.26E-2,5.4000000000000003E-3,-1.1000000000000001E-3,-6.0000000000000001E-3,-8.6999999999999994E-3,-9.2999999999999992E-3,-8.2000000000000007E-3,-5.7999999999999996E-3,-2.5999999999999999E-3,4.0000000000000002E-4,2.0999999999999999E-3,1.8E-3,-1.1999999999999999E-3,-7.1000000000000004E-3,-1.5599999999999999E-2,-2.63E-2,-3.85E-2,-3.6499999999999998E-2,-3.3000000000000002E-2,-2.8500000000000001E-2,-2.3300000000000001E-2,-1.78E-2,-1.24E-2,-7.9000000000000008E-3,-4.0000000000000001E-3,-8.0000000000000004E-4,1.1999999999999999E-3,2.5000000000000001E-3,3.8E-3,5.0000000000000001E-3,6.1999999999999998E-3,7.1999999999999998E-3,8.2000000000000007E-3,8.8999999999999999E-3,9.4999999999999998E-3,9.9000000000000008E-3,0.01]
[27,7.2499999999999995E-2,6.3799999999999996E-2,5.4800000000000001E-2,4.5400000000000003E-2,3.5700000000000003E-2,2.6499999999999999E-2,1.8599999999999998E-2,1.2200000000000001E-2,7.4000000000000003E-3,3.8999999999999998E-3,1.6000000000000001E-3,2.0000000000000001E-4,-4.0000000000000002E-4,-4.0000000000000002E-4,-1E-4,6.9999999999999999E-4,2.2000000000000001E-3,4.4999999999999997E-3,8.0999999999999996E-3,1.2800000000000001E-2,1.8200000000000001E-2,2.3599999999999999E-2,2.8000000000000001E-2,3.0800000000000001E-2,3.1699999999999999E-2,3.0800000000000001E-2,2.8799999999999999E-2,2.63E-2,2.3900000000000001E-2,2.1600000000000001E-2,1.9099999999999999E-2,1.5699999999999999E-2,1.11E-2,5.4999999999999997E-3,-2.9999999999999997E-4,-4.7999999999999996E-3,-6.8999999999999999E-3,-6.1999999999999998E-3,-3.3999999999999998E-3,5.0000000000000001E-4,4.5999999999999999E-3,8.8000000000000005E-3,1.32E-2,1.78E-2,2.2100000000000002E-2,2.4799999999999999E-2,2.47E-2,2.1399999999999999E-2,1.54E-2,8.0999999999999996E-3,1.1999999999999999E-3,-4.1000000000000003E-3,-7.4999999999999997E-3,-8.8999999999999999E-3,-8.5000000000000006E-3,-6.7999999999999996E-3,-4.1999999999999997E-3,-1.8E-3,-2.9999999999999997E-4,-6.9999999999999999E-4,-3.8E-3,-9.5999999999999992E-3,-1.7999999999999999E-2,-2.86E-2,-4.07E-2,-3.8699999999999998E-2,-3.5200000000000002E-2,-3.0499999999999999E-2,-2.5000000000000001E-2,-1.9300000000000001E-2,-1.35E-2,-8.2000000000000007E-3,-4.1000000000000003E-3,-8.9999999999999998E-4,1.1999999999999999E-3,2.5000000000000001E-3,3.8E-3,5.0000000000000001E-3,6.1999999999999998E-3,7.1999999999999998E-3,8.2000000000000007E-3,8.8999999999999999E-3,9.4999999999999998E-3,9.9000000000000008E-3,0.01]
[28,7.1499999999999994E-2,6.2799999999999995E-2,5.3800000000000001E-2,4.4299999999999999E-2,3.4700000000000002E-2,2.5499999999999998E-2,1.7600000000000001E-2,1.14E-2,6.7999999999999996E-3,3.5999999999999999E-3,1.4E-3,2.0000000000000001E-4,-2.9999999999999997E-4,-2.0000000000000001E-4,5.0000000000000001E-4,1.6000000000000001E-3,3.5000000000000001E-3,6.1999999999999998E-3,9.9000000000000008E-3,1.47E-2,2.0199999999999999E-2,2.5700000000000001E-2,3.0300000000000001E-2,3.3300000000000003E-2,3.44E-2,3.3500000000000002E-2,3.1199999999999999E-2,2.8199999999999999E-2,2.5100000000000001E-2,2.1899999999999999E-2,1.84E-2,1.4200000000000001E-2,8.8999999999999999E-3,2.7000000000000001E-3,-3.3E-3,-7.7999999999999996E-3,-9.7000000000000003E-3,-8.8000000000000005E-3,-5.7999999999999996E-3,-1.8E-3,2.5999999999999999E-3,7.0000000000000001E-3,1.18E-2,1.7000000000000001E-2,2.1999999999999999E-2,2.5499999999999998E-2,2.6200000000000001E-2,2.35E-2,1.7899999999999999E-2,1.0800000000000001E-2,3.8999999999999998E-3,-1.8E-3,-5.5999999999999999E-3,-7.6E-3,-7.7999999999999996E-3,-6.7999999999999996E-3,-4.8999999999999998E-3,-3.0000000000000001E-3,-2.0999999999999999E-3,-2.8E-3,-5.8999999999999999E-3,-1.17E-2,-2.01E-2,-3.0700000000000002E-2,-4.2799999999999998E-2,-4.0899999999999999E-2,-3.7199999999999997E-2,-3.2399999999999998E-2,-2.6700000000000002E-2,-2.07E-2,-1.47E-2,-9.1000000000000004E-3,-4.1999999999999997E-3,-8.9999999999999998E-4,1.1999999999999999E-3,2.5000000000000001E-3,3.8E-3,5.0000000000000001E-3,6.1999999999999998E-3,7.1999999999999998E-3,8.2000000000000007E-3,8.8999999999999999E-3,9.4999999999999998E-3,9.9000000000000008E-3,0.01]
[29,7.0099999999999996E-2,6.1400000000000003E-2,5.2499999999999998E-2,4.3099999999999999E-2,3.3500000000000002E-2,2.4500000000000001E-2,1.6799999999999999E-2,1.0800000000000001E-2,6.4000000000000003E-3,3.3E-3,1.1999999999999999E-3,-1E-4,-5.9999999999999995E-4,-4.0000000000000002E-4,5.0000000000000001E-4,2.0999999999999999E-3,4.4000000000000003E-3,7.4000000000000003E-3,1.15E-2,1.6500000000000001E-2,2.2100000000000002E-2,2.7699999999999999E-2,3.2500000000000001E-2,3.5700000000000003E-2,3.6999999999999998E-2,3.61E-2,3.3700000000000001E-2,3.0300000000000001E-2,2.6499999999999999E-2,2.2499999999999999E-2,1.8100000000000002E-2,1.2999999999999999E-2,6.8999999999999999E-3,2.9999999999999997E-4,-5.7999999999999996E-3,-1.03E-2,-1.21E-2,-1.11E-2,-8.0999999999999996E-3,-4.0000000000000001E-3,4.0000000000000002E-4,5.0000000000000001E-3,0.01,1.5599999999999999E-2,2.12E-2,2.5399999999999999E-2,2.69E-2,2.4899999999999999E-2,0.02,1.3299999999999999E-2,6.4999999999999997E-3,8.9999999999999998E-4,-3.2000000000000002E-3,-5.5999999999999999E-3,-6.4000000000000003E-3,-5.8999999999999999E-3,-4.5999999999999999E-3,-3.5000000000000001E-3,-3.0999999999999999E-3,-4.1999999999999997E-3,-7.4999999999999997E-3,-1.34E-2,-2.18E-2,-3.2500000000000001E-2,-4.4600000000000001E-2,-4.2799999999999998E-2,-3.9100000000000003E-2,-3.4200000000000001E-2,-2.8400000000000002E-2,-2.2100000000000002E-2,-1.5900000000000001E-2,-0.01,-4.8999999999999998E-3,-8.9999999999999998E-4,1.1999999999999999E-3,2.5000000000000001E-3,3.8E-3,5.0000000000000001E-3,6.1999999999999998E-3,7.1999999999999998E-3,8.2000000000000007E-3,8.8999999999999999E-3,9.4999999999999998E-3,9.9000000000000008E-3,0.01]
[30,6.8400000000000002E-2,5.9799999999999999E-2,5.0999999999999997E-2,4.1799999999999997E-2,3.2399999999999998E-2,2.3599999999999999E-2,1.6199999999999999E-2,1.04E-2,6.1000000000000004E-3,3.0000000000000001E-3,8.0000000000000004E-4,-5.9999999999999995E-4,-1.1999999999999999E-3,-1E-3,1E-4,2.0999999999999999E-3,4.7999999999999996E-3,8.2000000000000007E-3,1.26E-2,1.7899999999999999E-2,2.3599999999999999E-2,2.9499999999999998E-2,3.4500000000000003E-2,3.7999999999999999E-2,3.9399999999999998E-2,3.8699999999999998E-2,3.6200000000000003E-2,3.2500000000000001E-2,2.8199999999999999E-2,2.3400000000000001E-2,1.8200000000000001E-2,1.23E-2,5.5999999999999999E-3,-1.5E-3,-7.7000000000000002E-3,-1.21E-2,-1.38E-2,-1.2999999999999999E-2,-1.01E-2,-6.1999999999999998E-3,-1.8E-3,2.8E-3,8.0000000000000002E-3,1.38E-2,1.9800000000000002E-2,2.47E-2,2.6800000000000001E-2,2.5499999999999998E-2,2.1299999999999999E-2,1.5299999999999999E-2,8.9999999999999993E-3,3.5000000000000001E-3,-5.0000000000000001E-4,-3.0999999999999999E-3,-4.1000000000000003E-3,-4.1000000000000003E-3,-3.5000000000000001E-3,-3.0999999999999999E-3,-3.3999999999999998E-3,-5.1000000000000004E-3,-8.6999999999999994E-3,-1.46E-2,-2.3099999999999999E-2,-3.3799999999999997E-2,-4.5999999999999999E-2,-4.4299999999999999E-2,-4.0800000000000003E-2,-3.5799999999999998E-2,-2.9899999999999999E-2,-2.35E-2,-1.7000000000000001E-2,-1.0999999999999999E-2,-5.7000000000000002E-3,-1.5E-3,1.1999999999999999E-3,2.5000000000000001E-3,3.8E-3,5.0000000000000001E-3,6.1999999999999998E-3,7.1999999999999998E-3,8.2000000000000007E-3,8.8999999999999999E-3,9.4999999999999998E-3,9.9000000000000008E-3,0.01]
[31,6.6500000000000004E-2,5.8099999999999999E-2,4.9399999999999999E-2,4.0500000000000001E-2,3.1399999999999997E-2,2.29E-2,1.5699999999999999E-2,1.01E-2,5.8999999999999999E-3,2.8E-3,4.0000000000000002E-4,-1.1999999999999999E-3,-2E-3,-1.9E-3,-5.9999999999999995E-4,1.6999999999999999E-3,4.7999999999999996E-3,8.6E-3,1.34E-2,1.89E-2,2.4899999999999999E-2,3.09E-2,3.6200000000000003E-2,0.04,4.1700000000000001E-2,4.1099999999999998E-2,3.8600000000000002E-2,3.4700000000000002E-2,2.9899999999999999E-2,2.46E-2,1.8700000000000001E-2,1.2200000000000001E-2,4.8999999999999998E-3,-2.3999999999999998E-3,-8.6999999999999994E-3,-1.3100000000000001E-2,-1.49E-2,-1.43E-2,-1.18E-2,-8.2000000000000007E-3,-4.1000000000000003E-3,5.0000000000000001E-4,5.7000000000000002E-3,1.17E-2,1.7999999999999999E-2,2.3199999999999998E-2,2.5899999999999999E-2,2.52E-2,2.18E-2,1.6500000000000001E-2,1.09E-2,6.0000000000000001E-3,2.3E-3,-1E-4,-1.2999999999999999E-3,-1.6000000000000001E-3,-1.6000000000000001E-3,-1.9E-3,-3.0000000000000001E-3,-5.3E-3,-9.2999999999999992E-3,-1.54E-2,-2.3900000000000001E-2,-3.4700000000000002E-2,-4.6800000000000001E-2,-4.5400000000000003E-2,-4.2000000000000003E-2,-3.7100000000000001E-2,-3.1099999999999999E-2,-2.46E-2,-1.8100000000000002E-2,-1.1900000000000001E-2,-6.4000000000000003E-3,-2.0999999999999999E-3,6.9999999999999999E-4,2.5000000000000001E-3,3.8E-3,5.0000000000000001E-3,6.1999999999999998E-3,7.1999999999999998E-3,8.2000000000000007E-3,8.8999999999999999E-3,9.4999999999999998E-3,9.9000000000000008E-3,0.01]
[32,6.4399999999999999E-2,5.62E-2,4.7899999999999998E-2,3.9300000000000002E-2,3.0599999999999999E-2,2.2499999999999999E-2,1.55E-2,0.01,5.7999999999999996E-3,2.5000000000000001E-3,-1E-4,-1.9E-3,-2.8999999999999998E-3,-2.8E-3,-1.4E-3,1E-3,4.4000000000000003E-3,8.6E-3,1.3599999999999999E-2,1.95E-2,2.58E-2,3.2099999999999997E-2,3.7600000000000001E-2,4.1599999999999998E-2,4.3499999999999997E-2,4.2999999999999997E-2,4.0599999999999997E-2,3.6600000000000001E-2,3.1600000000000003E-2,2.5899999999999999E-2,1.9699999999999999E-2,1.2699999999999999E-2,5.1999999999999998E-3,-2.3E-3,-8.6999999999999994E-3,-1.32E-2,-1.52E-2,-1.49E-2,-1.2999999999999999E-2,-9.9000000000000008E-3,-6.1999999999999998E-3,-1.9E-3,3.0999999999999999E-3,9.1999999999999998E-3,1.5599999999999999E-2,2.1100000000000001E-2,2.4199999999999999E-2,2.41E-2,2.1399999999999999E-2,1.7000000000000001E-2,1.2200000000000001E-2,8.0999999999999996E-3,5.0000000000000001E-3,3.0000000000000001E-3,1.8E-3,1.4E-3,8.9999999999999998E-4,0,-1.8E-3,-4.7999999999999996E-3,-9.2999999999999992E-3,-1.5699999999999999E-2,-2.4299999999999999E-2,-3.5000000000000003E-2,-4.6899999999999997E-2,-4.58E-2,-4.2700000000000002E-2,-3.7900000000000003E-2,-3.2099999999999997E-2,-2.5600000000000001E-2,-1.9E-2,-1.2699999999999999E-2,-7.1999999999999998E-3,-2.7000000000000001E-3,2.0000000000000001E-4,2.0999999999999999E-3,3.8E-3,5.0000000000000001E-3,6.1999999999999998E-3,7.1999999999999998E-3,8.2000000000000007E-3,8.8999999999999999E-3,9.4999999999999998E-3,9.9000000000000008E-3,0.01]
[33,6.2E-2,5.4300000000000001E-2,4.65E-2,3.8300000000000001E-2,3.0099999999999998E-2,2.23E-2,1.5599999999999999E-2,1.01E-2,5.7999999999999996E-3,2.2000000000000001E-3,-5.9999999999999995E-4,-2.7000000000000001E-3,-3.8E-3,-3.7000000000000002E-3,-2.3E-3,2.0000000000000001E-4,3.7000000000000002E-3,8.0999999999999996E-3,1.35E-2,1.9699999999999999E-2,2.63E-2,3.2800000000000003E-2,3.8600000000000002E-2,4.2799999999999998E-2,4.48E-2,4.4600000000000001E-2,4.2200000000000001E-2,3.8199999999999998E-2,3.32E-2,2.7400000000000001E-2,2.1000000000000001E-2,1.3899999999999999E-2,6.3E-3,-1.1999999999999999E-3,-7.7000000000000002E-3,-1.23E-2,-1.47E-2,-1.4999999999999999E-2,-1.3599999999999999E-2,-1.1299999999999999E-2,-8.2000000000000007E-3,-4.3E-3,5.9999999999999995E-4,6.4999999999999997E-3,1.29E-2,1.8499999999999999E-2,2.18E-2,2.2100000000000002E-2,0.02,1.6500000000000001E-2,1.2800000000000001E-2,9.5999999999999992E-3,7.4000000000000003E-3,6.0000000000000001E-3,5.1999999999999998E-3,4.5999999999999999E-3,3.8999999999999998E-3,2.3999999999999998E-3,0,-3.5999999999999999E-3,-8.6999999999999994E-3,-1.54E-2,-2.4199999999999999E-2,-3.4599999999999999E-2,-4.6199999999999998E-2,-4.5499999999999999E-2,-4.2799999999999998E-2,-3.8300000000000001E-2,-3.27E-2,-2.63E-2,-1.9800000000000002E-2,-1.35E-2,-7.9000000000000008E-3,-3.3999999999999998E-3,-4.0000000000000002E-4,1.6000000000000001E-3,3.3999999999999998E-3,5.0000000000000001E-3,6.1999999999999998E-3,7.1999999999999998E-3,8.2000000000000007E-3,8.8999999999999999E-3,9.4999999999999998E-3,9.9000000000000008E-3,0.01]
[34,5.96E-2,5.2499999999999998E-2,4.5100000000000001E-2,3.7499999999999999E-2,2.98E-2,2.24E-2,1.5800000000000002E-2,1.04E-2,5.7999999999999996E-3,2E-3,-1.1000000000000001E-3,-3.3999999999999998E-3,-4.5999999999999999E-3,-4.4999999999999997E-3,-3.2000000000000002E-3,-6.9999999999999999E-4,2.8E-3,7.4000000000000003E-3,1.2999999999999999E-2,1.95E-2,2.64E-2,3.3099999999999997E-2,3.9100000000000003E-2,4.3499999999999997E-2,4.5699999999999998E-2,4.5600000000000002E-2,4.3400000000000001E-2,3.95E-2,3.4599999999999999E-2,2.8899999999999999E-2,2.2599999999999999E-2,1.5599999999999999E-2,8.0999999999999996E-3,6.9999999999999999E-4,-5.7999999999999996E-3,-1.06E-2,-1.34E-2,-1.43E-2,-1.37E-2,-1.21E-2,-9.7000000000000003E-3,-6.4000000000000003E-3,-2E-3,3.7000000000000002E-3,0.01,1.55E-2,1.8800000000000001E-2,1.9400000000000001E-2,1.7899999999999999E-2,1.52E-2,1.2500000000000001E-2,1.0500000000000001E-2,9.2999999999999992E-3,8.6999999999999994E-3,8.3999999999999995E-3,8.0000000000000002E-3,7.1000000000000004E-3,5.3E-3,2.3E-3,-1.8E-3,-7.4000000000000003E-3,-1.4500000000000001E-2,-2.3400000000000001E-2,-3.3599999999999998E-2,-4.4699999999999997E-2,-4.4400000000000002E-2,-4.2099999999999999E-2,-3.8100000000000002E-2,-3.2800000000000003E-2,-2.6700000000000002E-2,-2.0299999999999999E-2,-1.41E-2,-8.5000000000000006E-3,-4.0000000000000001E-3,-1E-3,1.1999999999999999E-3,3.0999999999999999E-3,4.7000000000000002E-3,6.1999999999999998E-3,7.1999999999999998E-3,8.2000000000000007E-3,8.8999999999999999E-3,9.4999999999999998E-3,9.9000000000000008E-3,0.01]
[35,5.7200000000000001E-2,5.0599999999999999E-2,4.3900000000000002E-2,3.6900000000000002E-2,2.9600000000000001E-2,2.2599999999999999E-2,1.6199999999999999E-2,1.0699999999999999E-2,5.8999999999999999E-3,1.8E-3,-1.5E-3,-3.8999999999999998E-3,-5.1999999999999998E-3,-5.1999999999999998E-3,-4.0000000000000001E-3,-1.6000000000000001E-3,1.8E-3,6.4000000000000003E-3,1.2200000000000001E-2,1.89E-2,2.5999999999999999E-2,3.3000000000000002E-2,3.9100000000000003E-2,4.3700000000000003E-2,4.5999999999999999E-2,4.6100000000000002E-2,4.41E-2,4.0500000000000001E-2,3.5799999999999998E-2,3.04E-2,2.4299999999999999E-2,1.77E-2,1.0500000000000001E-2,3.3E-3,-3.0999999999999999E-3,-8.0999999999999996E-3,-1.14E-2,-1.2800000000000001E-2,-1.2999999999999999E-2,-1.23E-2,-1.0800000000000001E-2,-8.2000000000000007E-3,-4.1999999999999997E-3,1.1000000000000001E-3,7.0000000000000001E-3,1.23E-2,1.55E-2,1.6199999999999999E-2,1.5100000000000001E-2,1.32E-2,1.15E-2,1.06E-2,1.06E-2,1.0999999999999999E-2,1.12E-2,1.12E-2,1.04E-2,8.3999999999999995E-3,5.1000000000000004E-3,5.0000000000000001E-4,-5.5999999999999999E-3,-1.2999999999999999E-2,-2.1899999999999999E-2,-3.1899999999999998E-2,-4.24E-2,-4.2599999999999999E-2,-4.0800000000000003E-2,-3.7199999999999997E-2,-3.2399999999999998E-2,-2.6700000000000002E-2,-2.06E-2,-1.46E-2,-9.1999999999999998E-3,-4.7000000000000002E-3,-1.5E-3,6.9999999999999999E-4,2.7000000000000001E-3,4.4999999999999997E-3,6.0000000000000001E-3,7.1999999999999998E-3,8.2000000000000007E-3,8.8999999999999999E-3,9.4999999999999998E-3,9.9000000000000008E-3,0.01]
[36,5.4800000000000001E-2,4.8899999999999999E-2,4.2799999999999998E-2,3.6299999999999999E-2,2.9600000000000001E-2,2.29E-2,1.67E-2,1.11E-2,6.1999999999999998E-3,1.8E-3,-1.6999999999999999E-3,-4.3E-3,-5.5999999999999999E-3,-5.7000000000000002E-3,-4.5999999999999999E-3,-2.5000000000000001E-3,6.9999999999999999E-4,5.3E-3,1.11E-2,1.7999999999999999E-2,2.53E-2,3.2399999999999998E-2,3.8699999999999998E-2,4.3299999999999998E-2,4.58E-2,4.6100000000000002E-2,4.4299999999999999E-2,4.1099999999999998E-2,3.6799999999999999E-2,3.1699999999999999E-2,2.6100000000000002E-2,1.9900000000000001E-2,1.3100000000000001E-2,6.3E-3,0,-5.0000000000000001E-3,-8.6999999999999994E-3,-1.0699999999999999E-2,-1.1599999999999999E-2,-1.1900000000000001E-2,-1.12E-2,-9.4000000000000004E-3,-6.1000000000000004E-3,-1.4E-3,4.0000000000000001E-3,8.8999999999999999E-3,1.1900000000000001E-2,1.26E-2,1.18E-2,1.0500000000000001E-2,9.7000000000000003E-3,0.01,1.11E-2,1.2500000000000001E-2,1.35E-2,1.4E-2,1.34E-2,1.15E-2,8.0999999999999996E-3,3.0999999999999999E-3,-3.2000000000000002E-3,-1.09E-2,-1.9800000000000002E-2,-2.9399999999999999E-2,-3.9399999999999998E-2,-0.04,-3.8699999999999998E-2,-3.5700000000000003E-2,-3.15E-2,-2.63E-2,-2.06E-2,-1.4999999999999999E-2,-9.7000000000000003E-3,-5.3E-3,-2.0999999999999999E-3,2.0000000000000001E-4,2.3E-3,4.1000000000000003E-3,5.7999999999999996E-3,7.1000000000000004E-3,8.2000000000000007E-3,8.8999999999999999E-3,9.4999999999999998E-3,9.9000000000000008E-3,0.01]
[37,5.2600000000000001E-2,4.7300000000000002E-2,4.1799999999999997E-2,3.5900000000000001E-2,2.9600000000000001E-2,2.3300000000000001E-2,1.72E-2,1.1599999999999999E-2,6.4999999999999997E-3,1.9E-3,-1.8E-3,-4.4000000000000003E-3,-5.7999999999999996E-3,-6.0000000000000001E-3,-5.1000000000000004E-3,-3.2000000000000002E-3,-2.0000000000000001E-4,4.1999999999999997E-3,0.01,1.6899999999999998E-2,2.4299999999999999E-2,3.15E-2,3.78E-2,4.2500000000000003E-2,4.5199999999999997E-2,4.5699999999999998E-2,4.4299999999999999E-2,4.1399999999999999E-2,3.7499999999999999E-2,3.3000000000000002E-2,2.7799999999999998E-2,2.1999999999999999E-2,1.5699999999999999E-2,9.2999999999999992E-3,3.3999999999999998E-3,-1.6000000000000001E-3,-5.4999999999999997E-3,-8.0000000000000002E-3,-9.5999999999999992E-3,-1.0699999999999999E-2,-1.0999999999999999E-2,-0.01,-7.4999999999999997E-3,-3.5000000000000001E-3,1.2999999999999999E-3,5.5999999999999999E-3,8.2000000000000007E-3,8.8999999999999999E-3,8.3000000000000001E-3,7.4999999999999997E-3,7.4999999999999997E-3,8.6999999999999994E-3,1.0800000000000001E-2,1.32E-2,1.5100000000000001E-2,1.6199999999999999E-2,1.61E-2,1.44E-2,1.11E-2,6.1000000000000004E-3,-4.0000000000000002E-4,-8.2000000000000007E-3,-1.7000000000000001E-2,-2.63E-2,-3.5700000000000003E-2,-3.6700000000000003E-2,-3.5999999999999997E-2,-3.3599999999999998E-2,-0.03,-2.5399999999999999E-2,-2.0299999999999999E-2,-1.4999999999999999E-2,-1.01E-2,-5.7999999999999996E-3,-2.7000000000000001E-3,-2.9999999999999997E-4,1.9E-3,3.8E-3,5.4999999999999997E-3,6.8999999999999999E-3,8.0999999999999996E-3,8.8999999999999999E-3,9.4999999999999998E-3,9.9000000000000008E-3,0.01]
[38,5.0599999999999999E-2,4.58E-2,4.0800000000000003E-2,3.5400000000000001E-2,2.9499999999999998E-2,2.35E-2,1.7600000000000001E-2,1.2E-2,6.7999999999999996E-3,2.2000000000000001E-3,-1.6000000000000001E-3,-4.3E-3,-5.7999999999999996E-3,-6.1999999999999998E-3,-5.4999999999999997E-3,-3.8999999999999998E-3,-1E-3,3.2000000000000002E-3,8.8999999999999999E-3,1.5699999999999999E-2,2.3099999999999999E-2,3.0200000000000001E-2,3.6499999999999998E-2,4.1300000000000003E-2,4.41E-2,4.4900000000000002E-2,4.3799999999999999E-2,4.1399999999999999E-2,3.7999999999999999E-2,3.39E-2,2.92E-2,2.4E-2,1.8200000000000001E-2,1.23E-2,6.7999999999999996E-3,2E-3,-1.9E-3,-4.8999999999999998E-3,-7.1000000000000004E-3,-8.8999999999999999E-3,-0.01,-9.9000000000000008E-3,-8.3000000000000001E-3,-5.1000000000000004E-3,-1.1000000000000001E-3,2.5000000000000001E-3,4.7000000000000002E-3,5.1999999999999998E-3,4.7000000000000002E-3,4.3E-3,4.7999999999999996E-3,6.7000000000000002E-3,9.7000000000000003E-3,1.2999999999999999E-2,1.5800000000000002E-2,1.77E-2,1.8200000000000001E-2,1.7000000000000001E-2,1.3899999999999999E-2,8.9999999999999993E-3,2.5999999999999999E-3,-5.1999999999999998E-3,-1.38E-2,-2.2700000000000001E-2,-3.1600000000000003E-2,-3.2899999999999999E-2,-3.2599999999999997E-2,-3.09E-2,-2.8000000000000001E-2,-2.41E-2,-1.9599999999999999E-2,-1.49E-2,-1.03E-2,-6.3E-3,-3.2000000000000002E-3,-8.0000000000000004E-4,1.5E-3,3.5000000000000001E-3,5.3E-3,6.7999999999999996E-3,8.0000000000000002E-3,8.8999999999999999E-3,9.4999999999999998E-3,9.9000000000000008E-3,0.01]
[39,4.8899999999999999E-2,4.4400000000000002E-2,3.9800000000000002E-2,3.4799999999999998E-2,2.9399999999999999E-2,2.3599999999999999E-2,1.7899999999999999E-2,1.24E-2,7.1999999999999998E-3,2.5999999999999999E-3,-1.1999999999999999E-3,-4.0000000000000001E-3,-5.7000000000000002E-3,-6.1999999999999998E-3,-5.7999999999999996E-3,-4.3E-3,-1.6999999999999999E-3,2.3999999999999998E-3,7.9000000000000008E-3,1.4500000000000001E-2,2.1700000000000001E-2,2.8799999999999999E-2,3.5000000000000003E-2,3.9800000000000002E-2,4.2799999999999998E-2,4.3799999999999999E-2,4.3200000000000002E-2,4.1200000000000001E-2,3.8300000000000001E-2,3.4599999999999999E-2,3.04E-2,2.5600000000000001E-2,2.0299999999999999E-2,1.4999999999999999E-2,0.01,5.4999999999999997E-3,1.6999999999999999E-3,-1.5E-3,-4.1999999999999997E-3,-6.4999999999999997E-3,-8.3000000000000001E-3,-9.1000000000000004E-3,-8.3000000000000001E-3,-6.1000000000000004E-3,-3.0000000000000001E-3,-1E-4,1.6000000000000001E-3,1.9E-3,1.2999999999999999E-3,1E-3,1.8E-3,4.3E-3,8.0000000000000002E-3,1.21E-2,1.5699999999999999E-2,1.83E-2,1.9599999999999999E-2,1.89E-2,1.6299999999999999E-2,1.18E-2,5.5999999999999999E-3,-1.9E-3,-1.0200000000000001E-2,-1.8599999999999998E-2,-2.7E-2,-2.86E-2,-2.8799999999999999E-2,-2.7699999999999999E-2,-2.5499999999999998E-2,-2.23E-2,-1.8499999999999999E-2,-1.44E-2,-1.03E-2,-6.6E-3,-3.7000000000000002E-3,-1.1999999999999999E-3,1.1000000000000001E-3,3.2000000000000002E-3,5.0000000000000001E-3,6.6E-3,7.7999999999999996E-3,8.8000000000000005E-3,9.4999999999999998E-3,9.9000000000000008E-3,0.01]
[40,4.7500000000000001E-2,4.3299999999999998E-2,3.8899999999999997E-2,3.4099999999999998E-2,2.9000000000000001E-2,2.3599999999999999E-2,1.7999999999999999E-2,1.26E-2,7.6E-3,3.0000000000000001E-3,-8.0000000000000004E-4,-3.5999999999999999E-3,-5.4000000000000003E-3,-6.1999999999999998E-3,-5.8999999999999999E-3,-4.4999999999999997E-3,-2.0999999999999999E-3,1.6999999999999999E-3,7.0000000000000001E-3,1.34E-2,2.0400000000000001E-2,2.7199999999999998E-2,3.3399999999999999E-2,3.8199999999999998E-2,4.1300000000000003E-2,4.2599999999999999E-2,4.2200000000000001E-2,4.07E-2,3.8199999999999998E-2,3.49E-2,3.1099999999999999E-2,2.6700000000000002E-2,2.1999999999999999E-2,1.7299999999999999E-2,1.2800000000000001E-2,8.6999999999999994E-3,5.1000000000000004E-3,1.8E-3,-1.1000000000000001E-3,-3.8E-3,-6.1999999999999998E-3,-7.6E-3,-7.6E-3,-6.3E-3,-4.1000000000000003E-3,-2E-3,-8.9999999999999998E-4,-1E-3,-1.8E-3,-2.0999999999999999E-3,-1.1999999999999999E-3,1.6000000000000001E-3,5.7000000000000002E-3,1.04E-2,1.47E-2,1.8200000000000001E-2,2.01E-2,2.0199999999999999E-2,1.8200000000000001E-2,1.43E-2,8.5000000000000006E-3,1.4E-3,-6.4000000000000003E-3,-1.44E-2,-2.2200000000000001E-2,-2.4E-2,-2.46E-2,-2.41E-2,-2.2499999999999999E-2,-2.01E-2,-1.7100000000000001E-2,-1.3599999999999999E-2,-1.01E-2,-6.7999999999999996E-3,-4.0000000000000001E-3,-1.6000000000000001E-3,6.9999999999999999E-4,2.8999999999999998E-3,4.7999999999999996E-3,6.4000000000000003E-3,7.7000000000000002E-3,8.6999999999999994E-3,9.4000000000000004E-3,9.9000000000000008E-3,0.01]
[41,4.6399999999999997E-2,4.2200000000000001E-2,3.7999999999999999E-2,3.3399999999999999E-2,2.8500000000000001E-2,2.3199999999999998E-2,1.7899999999999999E-2,1.2699999999999999E-2,7.7999999999999996E-3,3.3999999999999998E-3,-2.9999999999999997E-4,-3.2000000000000002E-3,-5.1000000000000004E-3,-6.0000000000000001E-3,-5.7999999999999996E-3,-4.5999999999999999E-3,-2.3E-3,1.2999999999999999E-3,6.4000000000000003E-3,1.2500000000000001E-2,1.9099999999999999E-2,2.5700000000000001E-2,3.1699999999999999E-2,3.6499999999999998E-2,3.9699999999999999E-2,4.1200000000000001E-2,4.1099999999999998E-2,3.9899999999999998E-2,3.7699999999999997E-2,3.4799999999999998E-2,3.1300000000000001E-2,2.7400000000000001E-2,2.3199999999999998E-2,1.9099999999999999E-2,1.5100000000000001E-2,1.15E-2,8.2000000000000007E-3,5.0000000000000001E-3,1.9E-3,-1E-3,-3.7000000000000002E-3,-5.5999999999999999E-3,-6.1999999999999998E-3,-5.7000000000000002E-3,-4.3E-3,-3.0000000000000001E-3,-2.5999999999999999E-3,-3.2000000000000002E-3,-4.3E-3,-4.8999999999999998E-3,-4.0000000000000001E-3,-1.2999999999999999E-3,3.0999999999999999E-3,8.2000000000000007E-3,1.3100000000000001E-2,1.72E-2,1.9900000000000001E-2,2.07E-2,1.9400000000000001E-2,1.6199999999999999E-2,1.0999999999999999E-2,4.5999999999999999E-3,-2.5999999999999999E-3,-0.01,-1.7299999999999999E-2,-1.9199999999999998E-2,-2.0199999999999999E-2,-2.0199999999999999E-2,-1.9300000000000001E-2,-1.77E-2,-1.5299999999999999E-2,-1.26E-2,-9.5999999999999992E-3,-6.7000000000000002E-3,-4.1999999999999997E-3,-1.9E-3,4.0000000000000002E-4,2.5999999999999999E-3,4.4999999999999997E-3,6.1999999999999998E-3,7.6E-3,8.6999999999999994E-3,9.4000000000000004E-3,9.9000000000000008E-3,0.01]
[42,4.5499999999999999E-2,4.1399999999999999E-2,3.7100000000000001E-2,3.2599999999999997E-2,2.7799999999999998E-2,2.2700000000000001E-2,1.77E-2,1.2699999999999999E-2,8.0000000000000002E-3,3.7000000000000002E-3,1E-4,-2.7000000000000001E-3,-4.7000000000000002E-3,-5.7000000000000002E-3,-5.7000000000000002E-3,-4.4999999999999997E-3,-2.3E-3,1.1999999999999999E-3,6.0000000000000001E-3,1.17E-2,1.7999999999999999E-2,2.4400000000000002E-2,3.0200000000000001E-2,3.49E-2,3.8100000000000002E-2,3.9699999999999999E-2,3.9800000000000002E-2,3.8800000000000001E-2,3.6900000000000002E-2,3.4299999999999997E-2,3.1099999999999999E-2,2.76E-2,2.4E-2,2.0299999999999999E-2,1.6899999999999998E-2,1.38E-2,1.0800000000000001E-2,7.7000000000000002E-3,4.7000000000000002E-3,1.8E-3,-1E-3,-3.2000000000000002E-3,-4.3E-3,-4.3E-3,-3.7000000000000002E-3,-3.0999999999999999E-3,-3.3999999999999998E-3,-4.5999999999999999E-3,-6.1999999999999998E-3,-7.1999999999999998E-3,-6.6E-3,-4.0000000000000001E-3,2.9999999999999997E-4,5.5999999999999999E-3,1.09E-2,1.55E-2,1.8800000000000001E-2,2.0299999999999999E-2,1.9800000000000002E-2,1.7399999999999999E-2,1.2999999999999999E-2,7.3000000000000001E-3,8.0000000000000004E-4,-5.8999999999999999E-3,-1.2500000000000001E-2,-1.4500000000000001E-2,-1.5699999999999999E-2,-1.6199999999999999E-2,-1.5900000000000001E-2,-1.49E-2,-1.3299999999999999E-2,-1.12E-2,-8.8999999999999999E-3,-6.4999999999999997E-3,-4.1999999999999997E-3,-2.0999999999999999E-3,1E-4,2.3E-3,4.3E-3,6.0000000000000001E-3,7.4999999999999997E-3,8.6E-3,9.4000000000000004E-3,9.7999999999999997E-3,0.01]
[43,4.4699999999999997E-2,4.0500000000000001E-2,3.6200000000000003E-2,3.1800000000000002E-2,2.7E-2,2.2100000000000002E-2,1.72E-2,1.2500000000000001E-2,8.0999999999999996E-3,4.0000000000000001E-3,5.0000000000000001E-4,-2.3E-3,-4.3E-3,-5.4000000000000003E-3,-5.4000000000000003E-3,-4.3E-3,-2.0999999999999999E-3,1.2999999999999999E-3,5.7999999999999996E-3,1.1299999999999999E-2,1.72E-2,2.3199999999999998E-2,2.8799999999999999E-2,3.3300000000000003E-2,3.6499999999999998E-2,3.8100000000000002E-2,3.8399999999999997E-2,3.7499999999999999E-2,3.5700000000000003E-2,3.3300000000000003E-2,3.0499999999999999E-2,2.7400000000000001E-2,2.4199999999999999E-2,2.1100000000000001E-2,1.8200000000000001E-2,1.54E-2,1.2800000000000001E-2,0.01,7.1999999999999998E-3,4.4000000000000003E-3,1.6999999999999999E-3,-5.0000000000000001E-4,-1.8E-3,-2.2000000000000001E-3,-2.2000000000000001E-3,-2.3E-3,-3.3E-3,-5.1999999999999998E-3,-7.4000000000000003E-3,-8.8000000000000005E-3,-8.6999999999999994E-3,-6.4999999999999997E-3,-2.3999999999999998E-3,2.8999999999999998E-3,8.3000000000000001E-3,1.3299999999999999E-2,1.7000000000000001E-2,1.9099999999999999E-2,1.9400000000000001E-2,1.78E-2,1.43E-2,9.4999999999999998E-3,3.8999999999999998E-3,-2.0999999999999999E-3,-8.0000000000000002E-3,-9.9000000000000008E-3,-1.1299999999999999E-2,-1.2200000000000001E-2,-1.24E-2,-1.2E-2,-1.11E-2,-9.7000000000000003E-3,-7.9000000000000008E-3,-6.0000000000000001E-3,-4.0000000000000001E-3,-2.0999999999999999E-3,0,2.0999999999999999E-3,4.1000000000000003E-3,5.8999999999999999E-3,7.4000000000000003E-3,8.5000000000000006E-3,9.4000000000000004E-3,9.7999999999999997E-3,0.01]
[44,4.3900000000000002E-2,3.9699999999999999E-2,3.5400000000000001E-2,3.09E-2,2.6200000000000001E-2,2.1499999999999998E-2,1.6799999999999999E-2,1.23E-2,8.0999999999999996E-3,4.1999999999999997E-3,8.0000000000000004E-4,-2E-3,-4.0000000000000001E-3,-5.0000000000000001E-3,-5.0000000000000001E-3,-3.8999999999999998E-3,-1.6999999999999999E-3,1.6000000000000001E-3,5.8999999999999999E-3,1.11E-2,1.67E-2,2.23E-2,2.75E-2,3.1899999999999998E-2,3.49E-2,3.6499999999999998E-2,3.6799999999999999E-2,3.5900000000000001E-2,3.4299999999999997E-2,3.2000000000000001E-2,2.9499999999999998E-2,2.6800000000000001E-2,2.41E-2,2.1399999999999999E-2,1.89E-2,1.6500000000000001E-2,1.4200000000000001E-2,1.17E-2,9.1999999999999998E-3,6.7000000000000002E-3,4.3E-3,2.3E-3,8.9999999999999998E-4,2.9999999999999997E-4,-1E-4,-8.0000000000000004E-4,-2.3999999999999998E-3,-4.8999999999999998E-3,-7.7000000000000002E-3,-9.7000000000000003E-3,-1.01E-2,-8.3999999999999995E-3,-4.7000000000000002E-3,2.0000000000000001E-4,5.5999999999999999E-3,1.06E-2,1.47E-2,1.7299999999999999E-2,1.83E-2,1.7500000000000002E-2,1.49E-2,1.0999999999999999E-2,6.3E-3,1.1000000000000001E-3,-4.0000000000000001E-3,-5.7999999999999996E-3,-7.1999999999999998E-3,-8.3000000000000001E-3,-8.9999999999999993E-3,-9.1000000000000004E-3,-8.8000000000000005E-3,-7.9000000000000008E-3,-6.7000000000000002E-3,-5.3E-3,-3.7000000000000002E-3,-1.9E-3,0,2E-3,4.0000000000000001E-3,5.7000000000000002E-3,7.3000000000000001E-3,8.5000000000000006E-3,9.2999999999999992E-3,9.7999999999999997E-3,0.01]
[45,4.2900000000000001E-2,3.8699999999999998E-2,3.4500000000000003E-2,3.0099999999999998E-2,2.5499999999999998E-2,2.0899999999999998E-2,1.6400000000000001E-2,1.21E-2,8.0999999999999996E-3,4.3E-3,1E-3,-1.6999999999999999E-3,-3.5999999999999999E-3,-4.5999999999999999E-3,-4.4999999999999997E-3,-3.3999999999999998E-3,-1.1999999999999999E-3,2.0999999999999999E-3,6.3E-3,1.11E-2,1.6299999999999999E-2,2.1600000000000001E-2,2.6499999999999999E-2,3.0599999999999999E-2,3.3399999999999999E-2,3.49E-2,3.5000000000000003E-2,3.4200000000000001E-2,3.2599999999999997E-2,3.04E-2,2.8199999999999999E-2,2.58E-2,2.35E-2,2.12E-2,1.9E-2,1.7000000000000001E-2,1.4999999999999999E-2,1.2999999999999999E-2,1.09E-2,8.6999999999999994E-3,6.7000000000000002E-3,5.0000000000000001E-3,3.7000000000000002E-3,3.0000000000000001E-3,2.3999999999999998E-3,1.2999999999999999E-3,-8.9999999999999998E-4,-3.8999999999999998E-3,-7.1999999999999998E-3,-9.7999999999999997E-3,-1.0800000000000001E-2,-9.7000000000000003E-3,-6.6E-3,-2.0999999999999999E-3,2.8999999999999998E-3,7.7999999999999996E-3,1.2E-2,1.49E-2,1.6400000000000001E-2,1.6400000000000001E-2,1.47E-2,1.17E-2,7.9000000000000008E-3,3.7000000000000002E-3,-6.9999999999999999E-4,-2.0999999999999999E-3,-3.5000000000000001E-3,-4.7000000000000002E-3,-5.7000000000000002E-3,-6.1999999999999998E-3,-6.4000000000000003E-3,-6.1000000000000004E-3,-5.4000000000000003E-3,-4.3E-3,-3.0999999999999999E-3,-1.6000000000000001E-3,1E-4,2E-3,3.8999999999999998E-3,5.5999999999999999E-3,7.1999999999999998E-3,8.3999999999999995E-3,9.2999999999999992E-3,9.7999999999999997E-3,0.01]
[46,4.1500000000000002E-2,3.7600000000000001E-2,3.3599999999999998E-2,2.9399999999999999E-2,2.5000000000000001E-2,2.0500000000000001E-2,1.6199999999999999E-2,1.21E-2,8.0999999999999996E-3,4.4999999999999997E-3,1.1999999999999999E-3,-1.4E-3,-3.3E-3,-4.1000000000000003E-3,-4.0000000000000001E-3,-2.8E-3,-5.0000000000000001E-4,2.7000000000000001E-3,6.7000000000000002E-3,1.1299999999999999E-2,1.6199999999999999E-2,2.1100000000000001E-2,2.5700000000000001E-2,2.9399999999999999E-2,3.2000000000000001E-2,3.32E-2,3.32E-2,3.2300000000000002E-2,3.0700000000000002E-2,2.87E-2,2.6599999999999999E-2,2.46E-2,2.2499999999999999E-2,2.0500000000000001E-2,1.8599999999999998E-2,1.6899999999999998E-2,1.5299999999999999E-2,1.38E-2,1.21E-2,1.04E-2,8.8000000000000005E-3,7.4999999999999997E-3,6.4000000000000003E-3,5.7000000000000002E-3,5.0000000000000001E-3,3.5999999999999999E-3,1.1999999999999999E-3,-2.2000000000000001E-3,-5.8999999999999999E-3,-8.9999999999999993E-3,-1.06E-2,-1.0200000000000001E-2,-7.7999999999999996E-3,-4.0000000000000001E-3,5.0000000000000001E-4,5.1000000000000004E-3,9.1000000000000004E-3,1.2200000000000001E-2,1.41E-2,1.46E-2,1.37E-2,1.1599999999999999E-2,8.6999999999999994E-3,5.3E-3,1.9E-3,8.0000000000000004E-4,-4.0000000000000002E-4,-1.6000000000000001E-3,-2.7000000000000001E-3,-3.5000000000000001E-3,-4.0000000000000001E-3,-4.1999999999999997E-3,-3.8999999999999998E-3,-3.3E-3,-2.3E-3,-1.1000000000000001E-3,4.0000000000000002E-4,2.0999999999999999E-3,3.8999999999999998E-3,5.5999999999999999E-3,7.1000000000000004E-3,8.3000000000000001E-3,9.2999999999999992E-3,9.7999999999999997E-3,0.01]
[47,3.9800000000000002E-2,3.6200000000000003E-2,3.2599999999999997E-2,2.8799999999999999E-2,2.46E-2,2.0400000000000001E-2,1.6199999999999999E-2,1.2200000000000001E-2,8.3000000000000001E-3,4.7000000000000002E-3,1.5E-3,-1.1000000000000001E-3,-2.8999999999999998E-3,-3.7000000000000002E-3,-3.3999999999999998E-3,-2.2000000000000001E-3,1E-4,3.3E-3,7.1999999999999998E-3,1.1599999999999999E-2,1.6199999999999999E-2,2.0799999999999999E-2,2.4899999999999999E-2,2.8299999999999999E-2,3.0499999999999999E-2,3.15E-2,3.1399999999999997E-2,3.04E-2,2.8799999999999999E-2,2.69E-2,2.5000000000000001E-2,2.3099999999999999E-2,2.12E-2,1.9400000000000001E-2,1.78E-2,1.6500000000000001E-2,1.5299999999999999E-2,1.4200000000000001E-2,1.2999999999999999E-2,1.18E-2,1.0699999999999999E-2,9.7000000000000003E-3,8.8999999999999999E-3,8.3000000000000001E-3,7.4999999999999997E-3,6.1000000000000004E-3,3.5999999999999999E-3,0,-3.8999999999999998E-3,-7.4000000000000003E-3,-9.4999999999999998E-3,-9.7999999999999997E-3,-8.2000000000000007E-3,-5.1999999999999998E-3,-1.4E-3,2.5999999999999999E-3,6.3E-3,9.2999999999999992E-3,1.14E-2,1.23E-2,1.2E-2,1.0699999999999999E-2,8.6E-3,6.1000000000000004E-3,3.5999999999999999E-3,2.8999999999999998E-3,2E-3,8.9999999999999998E-4,-1E-4,-1.1000000000000001E-3,-1.8E-3,-2.2000000000000001E-3,-2.3E-3,-2E-3,-1.4E-3,-5.0000000000000001E-4,8.0000000000000004E-4,2.3E-3,3.8999999999999998E-3,5.5999999999999999E-3,7.0000000000000001E-3,8.3000000000000001E-3,9.1999999999999998E-3,9.7999999999999997E-3,0.01]
[48,3.7699999999999997E-2,3.4700000000000002E-2,3.1600000000000003E-2,2.8199999999999999E-2,2.4500000000000001E-2,2.0400000000000001E-2,1.6400000000000001E-2,1.24E-2,8.6999999999999994E-3,5.1000000000000004E-3,1.9E-3,-6.9999999999999999E-4,-2.3999999999999998E-3,-3.0999999999999999E-3,-2.8E-3,-1.5E-3,8.0000000000000004E-4,3.8999999999999998E-3,7.7000000000000002E-3,1.1900000000000001E-2,1.6299999999999999E-2,2.0500000000000001E-2,2.4299999999999999E-2,2.7300000000000001E-2,2.92E-2,2.98E-2,2.9499999999999998E-2,2.8500000000000001E-2,2.69E-2,2.5100000000000001E-2,2.3199999999999998E-2,2.1399999999999999E-2,1.9699999999999999E-2,1.7999999999999999E-2,1.67E-2,1.5699999999999999E-2,1.49E-2,1.43E-2,1.37E-2,1.29E-2,1.2200000000000001E-2,1.15E-2,1.09E-2,1.04E-2,9.7999999999999997E-3,8.3999999999999995E-3,6.0000000000000001E-3,2.5000000000000001E-3,-1.4E-3,-5.1000000000000004E-3,-7.6E-3,-8.6E-3,-7.7999999999999996E-3,-5.7000000000000002E-3,-2.7000000000000001E-3,5.9999999999999995E-4,3.8E-3,6.4999999999999997E-3,8.5000000000000006E-3,9.7000000000000003E-3,9.7999999999999997E-3,8.9999999999999993E-3,7.6E-3,6.0000000000000001E-3,4.4000000000000003E-3,4.1000000000000003E-3,3.5999999999999999E-3,2.8E-3,1.9E-3,1E-3,2.0000000000000001E-4,-4.0000000000000002E-4,-6.9999999999999999E-4,-6.9999999999999999E-4,-4.0000000000000002E-4,2.9999999999999997E-4,1.2999999999999999E-3,2.5999999999999999E-3,4.1000000000000003E-3,5.5999999999999999E-3,7.0000000000000001E-3,8.3000000000000001E-3,9.1999999999999998E-3,9.7999999999999997E-3,0.01]
[49,3.5499999999999997E-2,3.3099999999999997E-2,3.0599999999999999E-2,2.7699999999999999E-2,2.4400000000000002E-2,2.07E-2,1.6799999999999999E-2,1.29E-2,9.1999999999999998E-3,5.5999999999999999E-3,2.3999999999999998E-3,-1E-4,-1.9E-3,-2.5999999999999999E-3,-2.3E-3,-1E-3,1.2999999999999999E-3,4.3E-3,8.0000000000000002E-3,1.2E-2,1.6199999999999999E-2,2.0299999999999999E-2,2.3699999999999999E-2,2.64E-2,2.7900000000000001E-2,2.8299999999999999E-2,2.7799999999999998E-2,2.6700000000000002E-2,2.5100000000000001E-2,2.3300000000000001E-2,2.1399999999999999E-2,1.9699999999999999E-2,1.7999999999999999E-2,1.6500000000000001E-2,1.54E-2,1.47E-2,1.44E-2,1.4200000000000001E-2,1.4E-2,1.37E-2,1.3299999999999999E-2,1.29E-2,1.2500000000000001E-2,1.21E-2,1.1599999999999999E-2,1.04E-2,8.3000000000000001E-3,5.1000000000000004E-3,1.2999999999999999E-3,-2.3999999999999998E-3,-5.1000000000000004E-3,-6.4999999999999997E-3,-6.4999999999999997E-3,-5.3E-3,-3.2000000000000002E-3,-6.9999999999999999E-4,1.9E-3,4.1000000000000003E-3,5.7999999999999996E-3,6.8999999999999999E-3,7.1999999999999998E-3,6.7999999999999996E-3,6.0000000000000001E-3,5.1000000000000004E-3,4.3E-3,4.4000000000000003E-3,4.3E-3,3.8999999999999998E-3,3.3999999999999998E-3,2.5999999999999999E-3,1.9E-3,1.2999999999999999E-3,8.9999999999999998E-4,6.9999999999999999E-4,8.0000000000000004E-4,1.1999999999999999E-3,2E-3,3.0000000000000001E-3,4.3E-3,5.7000000000000002E-3,7.1000000000000004E-3,8.3000000000000001E-3,9.1999999999999998E-3,9.7999999999999997E-3,0.01]
[50,3.3300000000000003E-2,3.15E-2,2.9600000000000001E-2,2.7199999999999998E-2,2.4299999999999999E-2,2.0899999999999998E-2,1.72E-2,1.35E-2,9.9000000000000008E-3,6.4000000000000003E-3,3.2000000000000002E-3,5.9999999999999995E-4,-1.1999999999999999E-3,-2E-3,-1.8E-3,-5.0000000000000001E-4,1.6000000000000001E-3,4.4000000000000003E-3,8.0000000000000002E-3,1.2E-2,1.61E-2,1.9900000000000001E-2,2.3199999999999998E-2,2.5499999999999998E-2,2.6800000000000001E-2,2.69E-2,2.63E-2,2.5000000000000001E-2,2.3400000000000001E-2,2.1499999999999998E-2,1.9699999999999999E-2,1.78E-2,1.6199999999999999E-2,1.4800000000000001E-2,1.3899999999999999E-2,1.3599999999999999E-2,1.3599999999999999E-2,1.3899999999999999E-2,1.4200000000000001E-2,1.4200000000000001E-2,1.41E-2,1.38E-2,1.3599999999999999E-2,1.34E-2,1.2999999999999999E-2,1.21E-2,1.03E-2,7.4999999999999997E-3,4.1000000000000003E-3,5.9999999999999995E-4,-2.2000000000000001E-3,-3.8999999999999998E-3,-4.4000000000000003E-3,-3.8999999999999998E-3,-2.7000000000000001E-3,-1.1000000000000001E-3,5.9999999999999995E-4,2.2000000000000001E-3,3.3999999999999998E-3,4.1000000000000003E-3,4.4000000000000003E-3,4.1999999999999997E-3,3.7000000000000002E-3,3.3999999999999998E-3,3.3E-3,3.8999999999999998E-3,4.3E-3,4.4000000000000003E-3,4.1999999999999997E-3,3.8E-3,3.3E-3,2.8E-3,2.3999999999999998E-3,2.0999999999999999E-3,2E-3,2.0999999999999999E-3,2.7000000000000001E-3,3.5999999999999999E-3,4.7000000000000002E-3,5.8999999999999999E-3,7.1999999999999998E-3,8.3000000000000001E-3,9.1999999999999998E-3,9.7999999999999997E-3,0.01]
[51,3.1399999999999997E-2,3.0099999999999998E-2,2.86E-2,2.6700000000000002E-2,2.4199999999999999E-2,2.1100000000000001E-2,1.77E-2,1.4200000000000001E-2,1.0699999999999999E-2,7.3000000000000001E-3,4.1000000000000003E-3,1.5E-3,-4.0000000000000002E-4,-1.2999999999999999E-3,-1.2999999999999999E-3,-2.9999999999999997E-4,1.6000000000000001E-3,4.3E-3,7.7999999999999996E-3,1.17E-2,1.5800000000000002E-2,1.95E-2,2.2599999999999999E-2,2.4799999999999999E-2,2.58E-2,2.58E-2,2.5000000000000001E-2,2.35E-2,2.18E-2,1.9800000000000002E-2,1.7899999999999999E-2,1.6E-2,1.44E-2,1.32E-2,1.2500000000000001E-2,1.24E-2,1.2800000000000001E-2,1.34E-2,1.4E-2,1.44E-2,1.4500000000000001E-2,1.44E-2,1.43E-2,1.4200000000000001E-2,1.4E-2,1.34E-2,1.1900000000000001E-2,9.5999999999999992E-3,6.7000000000000002E-3,3.5999999999999999E-3,1E-3,-8.0000000000000004E-4,-1.6999999999999999E-3,-1.8E-3,-1.4E-3,-5.9999999999999995E-4,2.9999999999999997E-4,1E-3,1.4E-3,1.6999999999999999E-3,1.6000000000000001E-3,1.4E-3,1.1000000000000001E-3,1.1999999999999999E-3,1.6000000000000001E-3,2.5999999999999999E-3,3.3999999999999998E-3,4.1000000000000003E-3,4.4000000000000003E-3,4.4999999999999997E-3,4.3E-3,4.1000000000000003E-3,3.7000000000000002E-3,3.3999999999999998E-3,3.2000000000000002E-3,3.2000000000000002E-3,3.5000000000000001E-3,4.1000000000000003E-3,5.1000000000000004E-3,6.1000000000000004E-3,7.3000000000000001E-3,8.3000000000000001E-3,9.1999999999999998E-3,9.7999999999999997E-3,0.01]
[52,0.03,2.8899999999999999E-2,2.7699999999999999E-2,2.6100000000000002E-2,2.3900000000000001E-2,2.1100000000000001E-2,1.7999999999999999E-2,1.4800000000000001E-2,1.15E-2,8.3000000000000001E-3,5.1999999999999998E-3,2.5999999999999999E-3,5.0000000000000001E-4,-5.9999999999999995E-4,-8.0000000000000004E-4,-1E-4,1.5E-3,4.0000000000000001E-3,7.3000000000000001E-3,1.12E-2,1.52E-2,1.9E-2,2.1999999999999999E-2,2.41E-2,2.5100000000000001E-2,2.5000000000000001E-2,2.3900000000000001E-2,2.23E-2,2.0299999999999999E-2,1.8200000000000001E-2,1.61E-2,1.4200000000000001E-2,1.2699999999999999E-2,1.17E-2,1.12E-2,1.14E-2,1.2E-2,1.2800000000000001E-2,1.3599999999999999E-2,1.4200000000000001E-2,1.46E-2,1.47E-2,1.47E-2,1.47E-2,1.46E-2,1.4200000000000001E-2,1.3100000000000001E-2,1.1299999999999999E-2,8.8999999999999999E-3,6.4000000000000003E-3,4.1999999999999997E-3,2.5000000000000001E-3,1.5E-3,1E-3,8.0000000000000004E-4,8.0000000000000004E-4,8.0000000000000004E-4,5.9999999999999995E-4,2.0000000000000001E-4,-2.9999999999999997E-4,-8.0000000000000004E-4,-1.2999999999999999E-3,-1.6000000000000001E-3,-1.4E-3,-6.9999999999999999E-4,5.9999999999999995E-4,2E-3,3.0999999999999999E-3,4.0000000000000001E-3,4.5999999999999999E-3,5.0000000000000001E-3,5.0000000000000001E-3,4.8999999999999998E-3,4.7000000000000002E-3,4.4000000000000003E-3,4.1999999999999997E-3,4.3E-3,4.7999999999999996E-3,5.4999999999999997E-3,6.4000000000000003E-3,7.4000000000000003E-3,8.3999999999999995E-3,9.1999999999999998E-3,9.7999999999999997E-3,0.01]
[53,2.9100000000000001E-2,2.81E-2,2.7E-2,2.5499999999999998E-2,2.35E-2,2.0899999999999998E-2,1.8100000000000002E-2,1.52E-2,1.23E-2,9.2999999999999992E-3,6.4000000000000003E-3,3.7000000000000002E-3,1.6000000000000001E-3,2.0000000000000001E-4,-4.0000000000000002E-4,0,1.2999999999999999E-3,3.5000000000000001E-3,6.7000000000000002E-3,1.0500000000000001E-2,1.4500000000000001E-2,1.83E-2,2.1399999999999999E-2,2.3599999999999999E-2,2.4500000000000001E-2,2.4299999999999999E-2,2.3099999999999999E-2,2.1299999999999999E-2,1.9E-2,1.66E-2,1.44E-2,1.2500000000000001E-2,1.11E-2,1.03E-2,1.01E-2,1.04E-2,1.12E-2,1.21E-2,1.3100000000000001E-2,1.38E-2,1.43E-2,1.46E-2,1.47E-2,1.4800000000000001E-2,1.4800000000000001E-2,1.4500000000000001E-2,1.38E-2,1.2500000000000001E-2,1.0699999999999999E-2,8.8000000000000005E-3,7.1999999999999998E-3,5.8999999999999999E-3,5.0000000000000001E-3,4.4000000000000003E-3,3.7000000000000002E-3,3.0999999999999999E-3,2.2000000000000001E-3,1.1000000000000001E-3,-2.0000000000000001E-4,-1.6000000000000001E-3,-2.8E-3,-3.8E-3,-4.1999999999999997E-3,-4.1000000000000003E-3,-3.3E-3,-1.6999999999999999E-3,0,1.6000000000000001E-3,3.0999999999999999E-3,4.3E-3,5.1999999999999998E-3,5.7000000000000002E-3,5.8999999999999999E-3,5.7999999999999996E-3,5.4999999999999997E-3,5.1999999999999998E-3,5.1999999999999998E-3,5.4999999999999997E-3,6.0000000000000001E-3,6.7999999999999996E-3,7.6E-3,8.5000000000000006E-3,9.2999999999999992E-3,9.7999999999999997E-3,0.01]
[54,2.8799999999999999E-2,2.7699999999999999E-2,2.64E-2,2.4899999999999999E-2,2.2800000000000001E-2,2.0500000000000001E-2,1.7899999999999999E-2,1.54E-2,1.29E-2,1.0200000000000001E-2,7.4999999999999997E-3,4.8999999999999998E-3,2.5999999999999999E-3,1E-3,2.0000000000000001E-4,2.0000000000000001E-4,1.1000000000000001E-3,3.0999999999999999E-3,6.1000000000000004E-3,9.7000000000000003E-3,1.37E-2,1.7500000000000002E-2,2.0799999999999999E-2,2.3E-2,2.41E-2,2.3800000000000002E-2,2.2499999999999999E-2,2.0400000000000001E-2,1.78E-2,1.5100000000000001E-2,1.2800000000000001E-2,1.09E-2,9.7000000000000003E-3,9.1000000000000004E-3,8.9999999999999993E-3,9.4999999999999998E-3,1.04E-2,1.14E-2,1.24E-2,1.3299999999999999E-2,1.3899999999999999E-2,1.43E-2,1.4500000000000001E-2,1.47E-2,1.47E-2,1.46E-2,1.41E-2,1.32E-2,1.2E-2,1.0800000000000001E-2,9.7999999999999997E-3,9.1000000000000004E-3,8.5000000000000006E-3,7.9000000000000008E-3,7.1000000000000004E-3,5.8999999999999999E-3,4.3E-3,2.3999999999999998E-3,1E-4,-2.0999999999999999E-3,-4.1000000000000003E-3,-5.7000000000000002E-3,-6.4999999999999997E-3,-6.6E-3,-6.0000000000000001E-3,-4.3E-3,-2.3E-3,-2.0000000000000001E-4,1.8E-3,3.5999999999999999E-3,5.0000000000000001E-3,6.0000000000000001E-3,6.4999999999999997E-3,6.7000000000000002E-3,6.4999999999999997E-3,6.1999999999999998E-3,6.0000000000000001E-3,6.1999999999999998E-3,6.4999999999999997E-3,7.1000000000000004E-3,7.7999999999999996E-3,8.6E-3,9.2999999999999992E-3,9.7999999999999997E-3,0.01]
[55,2.9000000000000001E-2,2.76E-2,2.5999999999999999E-2,2.4199999999999999E-2,2.2100000000000002E-2,1.9800000000000002E-2,1.7500000000000002E-2,1.5299999999999999E-2,1.3100000000000001E-2,1.0800000000000001E-2,8.3999999999999995E-3,5.8999999999999999E-3,3.7000000000000002E-3,2E-3,8.9999999999999998E-4,5.0000000000000001E-4,1.1000000000000001E-3,2.8E-3,5.5999999999999999E-3,9.1000000000000004E-3,1.2999999999999999E-2,1.6799999999999999E-2,2.01E-2,2.2499999999999999E-2,2.3599999999999999E-2,2.3400000000000001E-2,2.1899999999999999E-2,1.9599999999999999E-2,1.67E-2,1.38E-2,1.1299999999999999E-2,9.4999999999999998E-3,8.3999999999999995E-3,8.0000000000000002E-3,8.2000000000000007E-3,8.8000000000000005E-3,9.7000000000000003E-3,1.0699999999999999E-2,1.17E-2,1.26E-2,1.3299999999999999E-2,1.38E-2,1.41E-2,1.43E-2,1.43E-2,1.43E-2,1.4E-2,1.35E-2,1.29E-2,1.24E-2,1.21E-2,1.2E-2,1.18E-2,1.15E-2,1.06E-2,9.1000000000000004E-3,7.0000000000000001E-3,4.3E-3,1.2999999999999999E-3,-1.8E-3,-4.5999999999999999E-3,-6.7999999999999996E-3,-8.3000000000000001E-3,-8.8000000000000005E-3,-8.5000000000000006E-3,-6.8999999999999999E-3,-4.7000000000000002E-3,-2.3E-3,2.0000000000000001E-4,2.5000000000000001E-3,4.4999999999999997E-3,6.0000000000000001E-3,7.0000000000000001E-3,7.4000000000000003E-3,7.3000000000000001E-3,7.0000000000000001E-3,6.7999999999999996E-3,6.7999999999999996E-3,7.1000000000000004E-3,7.4999999999999997E-3,8.0999999999999996E-3,8.6999999999999994E-3,9.4000000000000004E-3,9.7999999999999997E-3,0.01]
[56,2.9499999999999998E-2,2.76E-2,2.5700000000000001E-2,2.3599999999999999E-2,2.12E-2,1.89E-2,1.6799999999999999E-2,1.4800000000000001E-2,1.2999999999999999E-2,1.0999999999999999E-2,8.8999999999999999E-3,6.7000000000000002E-3,4.7000000000000002E-3,3.0000000000000001E-3,1.8E-3,1.1999999999999999E-3,1.5E-3,2.8999999999999998E-3,5.4000000000000003E-3,8.6E-3,1.23E-2,1.61E-2,1.9400000000000001E-2,2.18E-2,2.3E-2,2.2800000000000001E-2,2.1299999999999999E-2,1.8800000000000001E-2,1.5699999999999999E-2,1.26E-2,0.01,8.2000000000000007E-3,7.1999999999999998E-3,7.0000000000000001E-3,7.4000000000000003E-3,8.0999999999999996E-3,8.9999999999999993E-3,0.01,1.11E-2,1.2E-2,1.2699999999999999E-2,1.32E-2,1.35E-2,1.3599999999999999E-2,1.37E-2,1.37E-2,1.37E-2,1.35E-2,1.35E-2,1.3599999999999999E-2,1.3899999999999999E-2,1.44E-2,1.47E-2,1.47E-2,1.3899999999999999E-2,1.24E-2,0.01,6.7999999999999996E-3,3.2000000000000002E-3,-5.9999999999999995E-4,-4.1999999999999997E-3,-7.1999999999999998E-3,-9.1999999999999998E-3,-1.04E-2,-1.06E-2,-9.1999999999999998E-3,-7.0000000000000001E-3,-4.3E-3,-1.5E-3,1.2999999999999999E-3,3.7000000000000002E-3,5.7000000000000002E-3,7.1000000000000004E-3,7.9000000000000008E-3,8.0000000000000002E-3,7.7000000000000002E-3,7.4999999999999997E-3,7.4999999999999997E-3,7.6E-3,7.9000000000000008E-3,8.3000000000000001E-3,8.8999999999999999E-3,9.4000000000000004E-3,9.7999999999999997E-3,0.01]
[57,3.0099999999999998E-2,2.7799999999999998E-2,2.5499999999999998E-2,2.3E-2,2.0400000000000001E-2,1.7899999999999999E-2,1.5800000000000002E-2,1.41E-2,1.24E-2,1.0800000000000001E-2,9.1000000000000004E-3,7.3000000000000001E-3,5.4999999999999997E-3,4.1000000000000003E-3,2.8999999999999998E-3,2.3E-3,2.3999999999999998E-3,3.5000000000000001E-3,5.5999999999999999E-3,8.6E-3,1.2E-2,1.55E-2,1.8700000000000001E-2,2.1100000000000001E-2,2.2200000000000001E-2,2.1999999999999999E-2,2.0500000000000001E-2,1.7899999999999999E-2,1.4800000000000001E-2,1.1599999999999999E-2,8.8999999999999999E-3,7.1000000000000004E-3,6.1999999999999998E-3,6.1000000000000004E-3,6.6E-3,7.4999999999999997E-3,8.3999999999999995E-3,9.4999999999999998E-3,1.0500000000000001E-2,1.14E-2,1.2E-2,1.24E-2,1.2699999999999999E-2,1.2800000000000001E-2,1.29E-2,1.2999999999999999E-2,1.3100000000000001E-2,1.34E-2,1.37E-2,1.44E-2,1.5299999999999999E-2,1.6299999999999999E-2,1.7100000000000001E-2,1.7500000000000002E-2,1.7000000000000001E-2,1.55E-2,1.2999999999999999E-2,9.5999999999999992E-3,5.5999999999999999E-3,1.2999999999999999E-3,-3.0000000000000001E-3,-6.6E-3,-9.4000000000000004E-3,-1.12E-2,-1.2200000000000001E-2,-1.0999999999999999E-2,-8.8999999999999999E-3,-6.1999999999999998E-3,-3.0999999999999999E-3,0,2.8E-3,5.1999999999999998E-3,7.0000000000000001E-3,8.0999999999999996E-3,8.3999999999999995E-3,8.3000000000000001E-3,8.0999999999999996E-3,8.0000000000000002E-3,8.0999999999999996E-3,8.2000000000000007E-3,8.6E-3,8.9999999999999993E-3,9.4999999999999998E-3,9.7999999999999997E-3,0.01]
[58,3.0599999999999999E-2,2.8000000000000001E-2,2.52E-2,2.24E-2,1.9599999999999999E-2,1.7000000000000001E-2,1.4800000000000001E-2,1.2999999999999999E-2,1.1599999999999999E-2,1.03E-2,8.8999999999999999E-3,7.6E-3,6.3E-3,5.1999999999999998E-3,4.3E-3,3.7000000000000002E-3,3.7000000000000002E-3,4.5999999999999999E-3,6.4000000000000003E-3,8.8999999999999999E-3,1.1900000000000001E-2,1.5100000000000001E-2,1.7999999999999999E-2,2.0199999999999999E-2,2.1299999999999999E-2,2.1000000000000001E-2,1.95E-2,1.7000000000000001E-2,1.3899999999999999E-2,1.0699999999999999E-2,8.0000000000000002E-3,6.1999999999999998E-3,5.3E-3,5.3E-3,5.8999999999999999E-3,6.8999999999999999E-3,8.0000000000000002E-3,9.1000000000000004E-3,1.01E-2,1.09E-2,1.14E-2,1.17E-2,1.18E-2,1.1900000000000001E-2,1.2E-2,1.2200000000000001E-2,1.2500000000000001E-2,1.3100000000000001E-2,1.38E-2,1.49E-2,1.6299999999999999E-2,1.77E-2,1.89E-2,1.9699999999999999E-2,1.95E-2,1.8200000000000001E-2,1.5900000000000001E-2,1.2500000000000001E-2,8.3000000000000001E-3,3.7000000000000002E-3,-1E-3,-5.1999999999999998E-3,-8.6999999999999994E-3,-1.12E-2,-1.2999999999999999E-2,-1.2200000000000001E-2,-1.03E-2,-7.7000000000000002E-3,-4.5999999999999999E-3,-1.2999999999999999E-3,1.8E-3,4.4999999999999997E-3,6.6E-3,8.0000000000000002E-3,8.6E-3,8.6E-3,8.6E-3,8.5000000000000006E-3,8.5000000000000006E-3,8.6E-3,8.8000000000000005E-3,9.1999999999999998E-3,9.4999999999999998E-3,9.9000000000000008E-3,0.01]
[59,3.1E-2,2.8000000000000001E-2,2.4899999999999999E-2,2.18E-2,1.8800000000000001E-2,1.6E-2,1.37E-2,1.1900000000000001E-2,1.06E-2,9.4999999999999998E-3,8.5000000000000006E-3,7.6E-3,6.8999999999999999E-3,6.3E-3,5.7000000000000002E-3,5.4000000000000003E-3,5.4000000000000003E-3,6.1000000000000004E-3,7.6E-3,9.7000000000000003E-3,1.2200000000000001E-2,1.49E-2,1.7399999999999999E-2,1.9300000000000001E-2,2.0199999999999999E-2,1.9800000000000002E-2,1.84E-2,1.5900000000000001E-2,1.29E-2,9.7999999999999997E-3,7.1999999999999998E-3,5.4000000000000003E-3,4.4999999999999997E-3,4.4999999999999997E-3,5.1999999999999998E-3,6.3E-3,7.4999999999999997E-3,8.6999999999999994E-3,9.7999999999999997E-3,1.0500000000000001E-2,1.0800000000000001E-2,1.09E-2,1.0800000000000001E-2,1.0800000000000001E-2,1.09E-2,1.12E-2,1.18E-2,1.2699999999999999E-2,1.38E-2,1.52E-2,1.6899999999999998E-2,1.8599999999999998E-2,2.0199999999999999E-2,2.1299999999999999E-2,2.1399999999999999E-2,2.0500000000000001E-2,1.84E-2,1.52E-2,1.12E-2,6.4999999999999997E-3,1.6000000000000001E-3,-3.0999999999999999E-3,-7.1999999999999998E-3,-1.04E-2,-1.29E-2,-1.26E-2,-1.11E-2,-8.6999999999999994E-3,-5.7000000000000002E-3,-2.5000000000000001E-3,8.0000000000000004E-4,3.7000000000000002E-3,6.1000000000000004E-3,7.7000000000000002E-3,8.6E-3,8.8000000000000005E-3,8.8999999999999999E-3,8.8999999999999999E-3,8.8000000000000005E-3,8.8999999999999999E-3,9.1000000000000004E-3,9.2999999999999992E-3,9.5999999999999992E-3,9.9000000000000008E-3,0.01]
[60,3.09E-2,2.7699999999999999E-2,2.4500000000000001E-2,2.12E-2,1.7999999999999999E-2,1.5100000000000001E-2,1.2699999999999999E-2,1.09E-2,9.5999999999999992E-3,8.6E-3,8.0000000000000002E-3,7.6E-3,7.4000000000000003E-3,7.3000000000000001E-3,7.3000000000000001E-3,7.3000000000000001E-3,7.4000000000000003E-3,8.0000000000000002E-3,9.1000000000000004E-3,1.0800000000000001E-2,1.2800000000000001E-2,1.4999999999999999E-2,1.6899999999999998E-2,1.84E-2,1.9E-2,1.8499999999999999E-2,1.7100000000000001E-2,1.4800000000000001E-2,1.1900000000000001E-2,8.9999999999999993E-3,6.4999999999999997E-3,4.7000000000000002E-3,3.8E-3,3.8999999999999998E-3,4.5999999999999999E-3,5.7999999999999996E-3,7.1999999999999998E-3,8.5000000000000006E-3,9.4999999999999998E-3,1.01E-2,1.03E-2,1.01E-2,9.7999999999999997E-3,9.7000000000000003E-3,9.7999999999999997E-3,1.03E-2,1.11E-2,1.2200000000000001E-2,1.3599999999999999E-2,1.5299999999999999E-2,1.72E-2,1.9199999999999998E-2,2.1000000000000001E-2,2.24E-2,2.29E-2,2.23E-2,2.0500000000000001E-2,1.77E-2,1.3899999999999999E-2,9.2999999999999992E-3,4.4000000000000003E-3,-5.9999999999999995E-4,-5.1000000000000004E-3,-8.8999999999999999E-3,-1.2E-2,-1.21E-2,-1.0999999999999999E-2,-8.9999999999999993E-3,-6.4000000000000003E-3,-3.3E-3,-1E-4,2.8999999999999998E-3,5.4000000000000003E-3,7.3000000000000001E-3,8.3000000000000001E-3,8.8000000000000005E-3,8.9999999999999993E-3,9.1000000000000004E-3,9.1000000000000004E-3,9.1999999999999998E-3,9.2999999999999992E-3,9.4999999999999998E-3,9.7000000000000003E-3,9.9000000000000008E-3,0.01]
[61,3.0499999999999999E-2,2.7199999999999998E-2,2.3900000000000001E-2,2.0500000000000001E-2,1.72E-2,1.43E-2,1.18E-2,0.01,8.6999999999999994E-3,7.9000000000000008E-3,7.6E-3,7.6E-3,7.9000000000000008E-3,8.3000000000000001E-3,8.6999999999999994E-3,9.1000000000000004E-3,9.4999999999999998E-3,0.01,1.0999999999999999E-2,1.2200000000000001E-2,1.37E-2,1.52E-2,1.66E-2,1.7600000000000001E-2,1.78E-2,1.72E-2,1.5699999999999999E-2,1.35E-2,1.09E-2,8.2000000000000007E-3,5.7999999999999996E-3,4.1000000000000003E-3,3.2000000000000002E-3,3.3E-3,4.1000000000000003E-3,5.4000000000000003E-3,6.8999999999999999E-3,8.2000000000000007E-3,9.1999999999999998E-3,9.7000000000000003E-3,9.7000000000000003E-3,9.2999999999999992E-3,8.8999999999999999E-3,8.6E-3,8.6999999999999994E-3,9.2999999999999992E-3,1.03E-2,1.1599999999999999E-2,1.32E-2,1.52E-2,1.7299999999999999E-2,1.95E-2,2.1499999999999998E-2,2.3E-2,2.3800000000000002E-2,2.35E-2,2.2200000000000001E-2,1.9699999999999999E-2,1.6199999999999999E-2,1.2E-2,7.1000000000000004E-3,2.0999999999999999E-3,-2.5000000000000001E-3,-6.7000000000000002E-3,-1.0200000000000001E-2,-1.0800000000000001E-2,-1.0200000000000001E-2,-8.6999999999999994E-3,-6.4999999999999997E-3,-3.8E-3,-8.0000000000000004E-4,2.0999999999999999E-3,4.7000000000000002E-3,6.7000000000000002E-3,7.9000000000000008E-3,8.6E-3,8.9999999999999993E-3,9.1999999999999998E-3,9.2999999999999992E-3,9.4000000000000004E-3,9.4000000000000004E-3,9.5999999999999992E-3,9.7000000000000003E-3,9.9000000000000008E-3,0.01]
[62,2.9600000000000001E-2,2.64E-2,2.3099999999999999E-2,1.9699999999999999E-2,1.6500000000000001E-2,1.3599999999999999E-2,1.11E-2,9.2999999999999992E-3,8.0999999999999996E-3,7.4999999999999997E-3,7.3000000000000001E-3,7.6E-3,8.3000000000000001E-3,9.1999999999999998E-3,0.01,1.0800000000000001E-2,1.15E-2,1.21E-2,1.29E-2,1.37E-2,1.47E-2,1.5699999999999999E-2,1.6500000000000001E-2,1.7000000000000001E-2,1.6799999999999999E-2,1.5900000000000001E-2,1.43E-2,1.2200000000000001E-2,9.7000000000000003E-3,7.1999999999999998E-3,5.0000000000000001E-3,3.3999999999999998E-3,2.5999999999999999E-3,2.7000000000000001E-3,3.5999999999999999E-3,5.0000000000000001E-3,6.6E-3,8.0000000000000002E-3,8.9999999999999993E-3,9.4000000000000004E-3,9.1999999999999998E-3,8.6E-3,8.0000000000000002E-3,7.6E-3,7.7000000000000002E-3,8.3000000000000001E-3,9.4000000000000004E-3,1.0999999999999999E-2,1.2800000000000001E-2,1.49E-2,1.72E-2,1.95E-2,2.1600000000000001E-2,2.3300000000000001E-2,2.4299999999999999E-2,2.4299999999999999E-2,2.3199999999999998E-2,2.1100000000000001E-2,1.8100000000000002E-2,1.4200000000000001E-2,9.7000000000000003E-3,4.8999999999999998E-3,2.0000000000000001E-4,-4.0000000000000001E-3,-7.7999999999999996E-3,-8.6999999999999994E-3,-8.6999999999999994E-3,-7.7999999999999996E-3,-6.1000000000000004E-3,-3.8E-3,-1.1999999999999999E-3,1.4E-3,3.8999999999999998E-3,5.8999999999999999E-3,7.3000000000000001E-3,8.2000000000000007E-3,8.8000000000000005E-3,9.1999999999999998E-3,9.4000000000000004E-3,9.4999999999999998E-3,9.5999999999999992E-3,9.7000000000000003E-3,9.7999999999999997E-3,9.9000000000000008E-3,0.01]
[63,2.8500000000000001E-2,2.53E-2,2.2100000000000002E-2,1.89E-2,1.5900000000000001E-2,1.3100000000000001E-2,1.0800000000000001E-2,9.1000000000000004E-3,8.0000000000000002E-3,7.4000000000000003E-3,7.4000000000000003E-3,7.7999999999999996E-3,8.6999999999999994E-3,9.9000000000000008E-3,1.11E-2,1.23E-2,1.3299999999999999E-2,1.4E-2,1.47E-2,1.5299999999999999E-2,1.5800000000000002E-2,1.6299999999999999E-2,1.67E-2,1.66E-2,1.61E-2,1.49E-2,1.3100000000000001E-2,1.0999999999999999E-2,8.6E-3,6.1999999999999998E-3,4.1999999999999997E-3,2.8E-3,2.0999999999999999E-3,2.3E-3,3.2000000000000002E-3,4.7000000000000002E-3,6.3E-3,7.7000000000000002E-3,8.6999999999999994E-3,8.9999999999999993E-3,8.6999999999999994E-3,7.9000000000000008E-3,7.1000000000000004E-3,6.7000000000000002E-3,6.7000000000000002E-3,7.4000000000000003E-3,8.6E-3,1.0200000000000001E-2,1.2200000000000001E-2,1.4500000000000001E-2,1.6899999999999998E-2,1.9400000000000001E-2,2.1600000000000001E-2,2.3400000000000001E-2,2.4400000000000002E-2,2.46E-2,2.3800000000000002E-2,2.2100000000000002E-2,1.9400000000000001E-2,1.6E-2,1.18E-2,7.4000000000000003E-3,3.0000000000000001E-3,-1.1000000000000001E-3,-4.8999999999999998E-3,-6.1000000000000004E-3,-6.4999999999999997E-3,-6.1999999999999998E-3,-5.1000000000000004E-3,-3.3999999999999998E-3,-1.2999999999999999E-3,1E-3,3.2000000000000002E-3,5.1999999999999998E-3,6.7000000000000002E-3,7.7000000000000002E-3,8.5000000000000006E-3,9.1000000000000004E-3,9.4000000000000004E-3,9.5999999999999992E-3,9.7000000000000003E-3,9.7999999999999997E-3,9.9000000000000008E-3,9.9000000000000008E-3,0.01]
[64,2.7099999999999999E-2,2.41E-2,2.1100000000000001E-2,1.8200000000000001E-2,1.5299999999999999E-2,1.2699999999999999E-2,1.06E-2,9.1000000000000004E-3,8.0999999999999996E-3,7.6E-3,7.7000000000000002E-3,8.2000000000000007E-3,9.1999999999999998E-3,1.0500000000000001E-2,1.2E-2,1.35E-2,1.47E-2,1.5699999999999999E-2,1.6299999999999999E-2,1.67E-2,1.6899999999999998E-2,1.7000000000000001E-2,1.7000000000000001E-2,1.66E-2,1.5599999999999999E-2,1.41E-2,1.21E-2,9.9000000000000008E-3,7.4999999999999997E-3,5.3E-3,3.5000000000000001E-3,2.2000000000000001E-3,1.6999999999999999E-3,1.9E-3,2.8999999999999998E-3,4.4000000000000003E-3,6.0000000000000001E-3,7.4999999999999997E-3,8.3999999999999995E-3,8.6E-3,8.2000000000000007E-3,7.3000000000000001E-3,6.4000000000000003E-3,5.8999999999999999E-3,5.8999999999999999E-3,6.4999999999999997E-3,7.7000000000000002E-3,9.4000000000000004E-3,1.15E-2,1.3899999999999999E-2,1.6500000000000001E-2,1.9099999999999999E-2,2.1399999999999999E-2,2.3199999999999998E-2,2.4299999999999999E-2,2.46E-2,2.4E-2,2.2599999999999999E-2,2.0299999999999999E-2,1.72E-2,1.3599999999999999E-2,9.5999999999999992E-3,5.5999999999999999E-3,1.8E-3,-1.9E-3,-3.2000000000000002E-3,-4.0000000000000001E-3,-4.1999999999999997E-3,-3.7000000000000002E-3,-2.5999999999999999E-3,-1.1000000000000001E-3,6.9999999999999999E-4,2.7000000000000001E-3,4.4999999999999997E-3,6.0000000000000001E-3,7.1999999999999998E-3,8.0999999999999996E-3,8.8000000000000005E-3,9.2999999999999992E-3,9.5999999999999992E-3,9.7000000000000003E-3,9.7999999999999997E-3,9.9000000000000008E-3,0.01,0.01]
[65,2.5700000000000001E-2,2.29E-2,2.0199999999999999E-2,1.7500000000000002E-2,1.49E-2,1.26E-2,1.0699999999999999E-2,9.4000000000000004E-3,8.6E-3,8.2000000000000007E-3,8.2000000000000007E-3,8.6999999999999994E-3,9.7000000000000003E-3,1.11E-2,1.2699999999999999E-2,1.43E-2,1.5800000000000002E-2,1.6899999999999998E-2,1.7600000000000001E-2,1.7899999999999999E-2,1.7999999999999999E-2,1.7899999999999999E-2,1.7500000000000002E-2,1.6799999999999999E-2,1.55E-2,1.3599999999999999E-2,1.14E-2,8.9999999999999993E-3,6.6E-3,4.4000000000000003E-3,2.7000000000000001E-3,1.6999999999999999E-3,1.2999999999999999E-3,1.6000000000000001E-3,2.7000000000000001E-3,4.1999999999999997E-3,5.7999999999999996E-3,7.1999999999999998E-3,8.0999999999999996E-3,8.3000000000000001E-3,7.7000000000000002E-3,6.7999999999999996E-3,5.7999999999999996E-3,5.1999999999999998E-3,5.1000000000000004E-3,5.7000000000000002E-3,6.8999999999999999E-3,8.6E-3,1.0699999999999999E-2,1.3299999999999999E-2,1.6E-2,1.8700000000000001E-2,2.1100000000000001E-2,2.29E-2,2.4E-2,2.4400000000000002E-2,2.3900000000000001E-2,2.2700000000000001E-2,2.07E-2,1.7999999999999999E-2,1.4800000000000001E-2,1.14E-2,7.9000000000000008E-3,4.4999999999999997E-3,1.1000000000000001E-3,-2.0000000000000001E-4,-1.1999999999999999E-3,-1.8E-3,-1.9E-3,-1.5E-3,-5.9999999999999995E-4,8.0000000000000004E-4,2.3E-3,3.8999999999999998E-3,5.4000000000000003E-3,6.6E-3,7.7000000000000002E-3,8.5000000000000006E-3,9.1000000000000004E-3,9.4999999999999998E-3,9.7000000000000003E-3,9.7999999999999997E-3,9.9000000000000008E-3,0.01,0.01]
[66,2.4299999999999999E-2,2.18E-2,1.9400000000000001E-2,1.7000000000000001E-2,1.46E-2,1.26E-2,1.11E-2,0.01,9.2999999999999992E-3,8.8999999999999999E-3,8.8999999999999999E-3,9.4000000000000004E-3,1.03E-2,1.1599999999999999E-2,1.3100000000000001E-2,1.4800000000000001E-2,1.6400000000000001E-2,1.77E-2,1.8599999999999998E-2,1.89E-2,1.89E-2,1.8700000000000001E-2,1.8200000000000001E-2,1.72E-2,1.5699999999999999E-2,1.3599999999999999E-2,1.11E-2,8.3999999999999995E-3,5.8999999999999999E-3,3.7000000000000002E-3,2.0999999999999999E-3,1.1999999999999999E-3,8.9999999999999998E-4,1.4E-3,2.5000000000000001E-3,4.0000000000000001E-3,5.7000000000000002E-3,7.0000000000000001E-3,7.9000000000000008E-3,8.0000000000000002E-3,7.4000000000000003E-3,6.4000000000000003E-3,5.3E-3,4.5999999999999999E-3,4.4999999999999997E-3,4.8999999999999998E-3,6.0000000000000001E-3,7.7000000000000002E-3,9.9000000000000008E-3,1.2500000000000001E-2,1.54E-2,1.8100000000000002E-2,2.06E-2,2.24E-2,2.35E-2,2.3900000000000001E-2,2.3599999999999999E-2,2.2499999999999999E-2,2.07E-2,1.84E-2,1.5599999999999999E-2,1.2699999999999999E-2,9.7000000000000003E-3,6.7000000000000002E-3,3.8E-3,2.5999999999999999E-3,1.4E-3,5.0000000000000001E-4,0,-1E-4,2.9999999999999997E-4,1.1000000000000001E-3,2.2000000000000001E-3,3.5000000000000001E-3,4.7999999999999996E-3,6.1000000000000004E-3,7.1999999999999998E-3,8.0999999999999996E-3,8.8000000000000005E-3,9.2999999999999992E-3,9.7000000000000003E-3,9.7999999999999997E-3,9.9000000000000008E-3,0.01,0.01]
[67,2.3199999999999998E-2,2.1000000000000001E-2,1.8800000000000001E-2,1.66E-2,1.46E-2,1.2800000000000001E-2,1.15E-2,1.06E-2,0.01,9.7000000000000003E-3,9.7000000000000003E-3,1.01E-2,1.0800000000000001E-2,1.2E-2,1.34E-2,1.5100000000000001E-2,1.6799999999999999E-2,1.8200000000000001E-2,1.9099999999999999E-2,1.9599999999999999E-2,1.9699999999999999E-2,1.95E-2,1.9E-2,1.7899999999999999E-2,1.6199999999999999E-2,1.38E-2,1.11E-2,8.2000000000000007E-3,5.5999999999999999E-3,3.3E-3,1.6999999999999999E-3,8.0000000000000004E-4,5.9999999999999995E-4,1.1999999999999999E-3,2.3999999999999998E-3,3.8999999999999998E-3,5.5999999999999999E-3,6.8999999999999999E-3,7.7000000000000002E-3,7.7999999999999996E-3,7.1000000000000004E-3,6.1000000000000004E-3,5.0000000000000001E-3,4.1999999999999997E-3,3.8999999999999998E-3,4.1999999999999997E-3,5.1999999999999998E-3,6.7999999999999996E-3,9.1000000000000004E-3,1.17E-2,1.46E-2,1.7399999999999999E-2,1.9900000000000001E-2,2.18E-2,2.29E-2,2.3400000000000001E-2,2.3099999999999999E-2,2.2200000000000001E-2,2.06E-2,1.8499999999999999E-2,1.61E-2,1.3599999999999999E-2,1.0999999999999999E-2,8.5000000000000006E-3,5.8999999999999999E-3,4.8999999999999998E-3,3.8999999999999998E-3,2.8E-3,2E-3,1.5E-3,1.2999999999999999E-3,1.6999999999999999E-3,2.3999999999999998E-3,3.3E-3,4.4999999999999997E-3,5.5999999999999999E-3,6.7000000000000002E-3,7.7999999999999996E-3,8.6E-3,9.1999999999999998E-3,9.5999999999999992E-3,9.7999999999999997E-3,9.9000000000000008E-3,0.01,0.01]
[68,2.23E-2,2.0299999999999999E-2,1.84E-2,1.6500000000000001E-2,1.47E-2,1.32E-2,1.2E-2,1.12E-2,1.0699999999999999E-2,1.0500000000000001E-2,1.0500000000000001E-2,1.0699999999999999E-2,1.14E-2,1.23E-2,1.3599999999999999E-2,1.52E-2,1.6799999999999999E-2,1.8200000000000001E-2,1.9300000000000001E-2,0.02,2.0299999999999999E-2,2.0299999999999999E-2,1.9800000000000002E-2,1.8800000000000001E-2,1.6899999999999998E-2,1.44E-2,1.15E-2,8.3999999999999995E-3,5.5999999999999999E-3,3.2000000000000002E-3,1.5E-3,5.9999999999999995E-4,4.0000000000000002E-4,1.1000000000000001E-3,2.3E-3,3.8999999999999998E-3,5.4999999999999997E-3,6.8999999999999999E-3,7.6E-3,7.6E-3,7.0000000000000001E-3,5.8999999999999999E-3,4.7000000000000002E-3,3.8E-3,3.3999999999999998E-3,3.5999999999999999E-3,4.4999999999999997E-3,6.0000000000000001E-3,8.2000000000000007E-3,1.09E-2,1.38E-2,1.66E-2,1.9099999999999999E-2,2.1000000000000001E-2,2.2200000000000001E-2,2.2700000000000001E-2,2.2599999999999999E-2,2.1700000000000001E-2,2.0299999999999999E-2,1.8499999999999999E-2,1.6299999999999999E-2,1.4E-2,1.18E-2,9.5999999999999992E-3,7.4999999999999997E-3,6.7000000000000002E-3,5.7999999999999996E-3,4.7999999999999996E-3,3.8999999999999998E-3,3.0999999999999999E-3,2.5999999999999999E-3,2.5000000000000001E-3,2.7000000000000001E-3,3.3999999999999998E-3,4.3E-3,5.3E-3,6.4000000000000003E-3,7.4000000000000003E-3,8.3000000000000001E-3,8.9999999999999993E-3,9.4000000000000004E-3,9.7000000000000003E-3,9.9000000000000008E-3,0.01,0.01]
[69,2.1700000000000001E-2,0.02,1.83E-2,1.66E-2,1.4999999999999999E-2,1.3599999999999999E-2,1.2500000000000001E-2,1.18E-2,1.14E-2,1.12E-2,1.11E-2,1.1299999999999999E-2,1.18E-2,1.26E-2,1.37E-2,1.5100000000000001E-2,1.66E-2,1.8100000000000002E-2,1.9300000000000001E-2,2.0199999999999999E-2,2.0799999999999999E-2,2.1000000000000001E-2,2.07E-2,1.9699999999999999E-2,1.7899999999999999E-2,1.5299999999999999E-2,1.2200000000000001E-2,8.9999999999999993E-3,5.8999999999999999E-3,3.3E-3,1.5E-3,5.0000000000000001E-4,4.0000000000000002E-4,1E-3,2.2000000000000001E-3,3.8999999999999998E-3,5.4999999999999997E-3,6.8999999999999999E-3,7.6E-3,7.6E-3,6.8999999999999999E-3,5.7000000000000002E-3,4.4999999999999997E-3,3.5999999999999999E-3,3.0000000000000001E-3,3.0999999999999999E-3,3.8999999999999998E-3,5.3E-3,7.4000000000000003E-3,0.01,1.29E-2,1.5699999999999999E-2,1.8200000000000001E-2,2.0199999999999999E-2,2.1499999999999998E-2,2.2100000000000002E-2,2.1999999999999999E-2,2.12E-2,0.02,1.8200000000000001E-2,1.6299999999999999E-2,1.4200000000000001E-2,1.2200000000000001E-2,1.03E-2,8.3999999999999995E-3,8.0000000000000002E-3,7.3000000000000001E-3,6.4999999999999997E-3,5.4999999999999997E-3,4.5999999999999999E-3,3.8999999999999998E-3,3.3999999999999998E-3,3.3999999999999998E-3,3.7000000000000002E-3,4.3E-3,5.1000000000000004E-3,6.1000000000000004E-3,7.1000000000000004E-3,8.0000000000000002E-3,8.8000000000000005E-3,9.2999999999999992E-3,9.7000000000000003E-3,9.9000000000000008E-3,0.01,0.01]
[70,2.1299999999999999E-2,1.9800000000000002E-2,1.83E-2,1.6799999999999999E-2,1.5299999999999999E-2,1.4E-2,1.2999999999999999E-2,1.23E-2,1.1900000000000001E-2,1.17E-2,1.1599999999999999E-2,1.18E-2,1.2200000000000001E-2,1.2800000000000001E-2,1.37E-2,1.49E-2,1.6299999999999999E-2,1.77E-2,1.9099999999999999E-2,2.0299999999999999E-2,2.12E-2,2.1700000000000001E-2,2.1600000000000001E-2,2.0799999999999999E-2,1.9E-2,1.6400000000000001E-2,1.32E-2,9.7999999999999997E-3,6.6E-3,3.8E-3,1.8E-3,6.9999999999999999E-4,4.0000000000000002E-4,1E-3,2.2000000000000001E-3,3.8999999999999998E-3,5.4999999999999997E-3,6.8999999999999999E-3,7.6E-3,7.6E-3,6.8999999999999999E-3,5.7000000000000002E-3,4.4000000000000003E-3,3.3999999999999998E-3,2.7000000000000001E-3,2.7000000000000001E-3,3.3E-3,4.5999999999999999E-3,6.6E-3,9.1000000000000004E-3,1.2E-2,1.4800000000000001E-2,1.7299999999999999E-2,1.9300000000000001E-2,2.07E-2,2.1399999999999999E-2,2.1399999999999999E-2,2.07E-2,1.9599999999999999E-2,1.7899999999999999E-2,1.6E-2,1.41E-2,1.2200000000000001E-2,1.04E-2,8.8999999999999999E-3,8.6999999999999994E-3,8.3000000000000001E-3,7.6E-3,6.7999999999999996E-3,6.0000000000000001E-3,5.1000000000000004E-3,4.4999999999999997E-3,4.1999999999999997E-3,4.1999999999999997E-3,4.4999999999999997E-3,5.1000000000000004E-3,6.0000000000000001E-3,6.8999999999999999E-3,7.7999999999999996E-3,8.6E-3,9.1999999999999998E-3,9.5999999999999992E-3,9.9000000000000008E-3,0.01,0.01]
[71,2.1100000000000001E-2,1.9699999999999999E-2,1.83E-2,1.6899999999999998E-2,1.5599999999999999E-2,1.44E-2,1.34E-2,1.2699999999999999E-2,1.23E-2,1.21E-2,1.2E-2,1.21E-2,1.24E-2,1.29E-2,1.37E-2,1.47E-2,1.5900000000000001E-2,1.7399999999999999E-2,1.89E-2,2.0299999999999999E-2,2.1399999999999999E-2,2.2200000000000001E-2,2.24E-2,2.18E-2,2.0199999999999999E-2,1.7600000000000001E-2,1.4500000000000001E-2,1.0999999999999999E-2,7.4999999999999997E-3,4.5999999999999999E-3,2.3999999999999998E-3,1.1000000000000001E-3,5.9999999999999995E-4,1.1000000000000001E-3,2.3E-3,3.8999999999999998E-3,5.5999999999999999E-3,7.0000000000000001E-3,7.7000000000000002E-3,7.7000000000000002E-3,6.8999999999999999E-3,5.7000000000000002E-3,4.4000000000000003E-3,3.2000000000000002E-3,2.5000000000000001E-3,2.3E-3,2.8E-3,4.0000000000000001E-3,5.8999999999999999E-3,8.3000000000000001E-3,1.11E-2,1.38E-2,1.6400000000000001E-2,1.8499999999999999E-2,1.9900000000000001E-2,2.07E-2,2.0799999999999999E-2,2.0199999999999999E-2,1.9099999999999999E-2,1.7500000000000002E-2,1.5699999999999999E-2,1.38E-2,1.1900000000000001E-2,1.03E-2,8.8999999999999999E-3,8.8999999999999999E-3,8.6999999999999994E-3,8.3999999999999995E-3,7.7999999999999996E-3,7.1000000000000004E-3,6.3E-3,5.5999999999999999E-3,5.1000000000000004E-3,4.8999999999999998E-3,4.8999999999999998E-3,5.3E-3,6.0000000000000001E-3,6.7999999999999996E-3,7.6E-3,8.3999999999999995E-3,8.9999999999999993E-3,9.4999999999999998E-3,9.7999999999999997E-3,0.01,0.01]
[72,2.0899999999999998E-2,1.9599999999999999E-2,1.83E-2,1.7000000000000001E-2,1.5699999999999999E-2,1.46E-2,1.3599999999999999E-2,1.29E-2,1.2500000000000001E-2,1.2200000000000001E-2,1.21E-2,1.2200000000000001E-2,1.24E-2,1.29E-2,1.35E-2,1.44E-2,1.5599999999999999E-2,1.7100000000000001E-2,1.8700000000000001E-2,2.0199999999999999E-2,2.1700000000000001E-2,2.2700000000000001E-2,2.3199999999999998E-2,2.2700000000000001E-2,2.1299999999999999E-2,1.89E-2,1.5800000000000002E-2,1.2200000000000001E-2,8.6999999999999994E-3,5.5999999999999999E-3,3.2000000000000002E-3,1.6000000000000001E-3,1E-3,1.2999999999999999E-3,2.3999999999999998E-3,4.0000000000000001E-3,5.7000000000000002E-3,7.0000000000000001E-3,7.7999999999999996E-3,7.7000000000000002E-3,6.8999999999999999E-3,5.7000000000000002E-3,4.3E-3,3.0999999999999999E-3,2.3E-3,2E-3,2.3999999999999998E-3,3.3999999999999998E-3,5.1999999999999998E-3,7.4999999999999997E-3,1.0200000000000001E-2,1.2999999999999999E-2,1.55E-2,1.77E-2,1.9199999999999998E-2,0.02,2.0199999999999999E-2,1.9599999999999999E-2,1.8499999999999999E-2,1.7000000000000001E-2,1.52E-2,1.3299999999999999E-2,1.15E-2,9.9000000000000008E-3,8.6E-3,8.8000000000000005E-3,8.8000000000000005E-3,8.6999999999999994E-3,8.3999999999999995E-3,7.9000000000000008E-3,7.3000000000000001E-3,6.7000000000000002E-3,6.1000000000000004E-3,5.7000000000000002E-3,5.4999999999999997E-3,5.7000000000000002E-3,6.1000000000000004E-3,6.7999999999999996E-3,7.4999999999999997E-3,8.3000000000000001E-3,8.8999999999999999E-3,9.4000000000000004E-3,9.7999999999999997E-3,0.01,0.01]
[73,2.07E-2,1.95E-2,1.8200000000000001E-2,1.7000000000000001E-2,1.5699999999999999E-2,1.46E-2,1.37E-2,1.2999999999999999E-2,1.26E-2,1.23E-2,1.21E-2,1.21E-2,1.23E-2,1.2699999999999999E-2,1.3299999999999999E-2,1.4200000000000001E-2,1.54E-2,1.6899999999999998E-2,1.8499999999999999E-2,2.0199999999999999E-2,2.18E-2,2.3099999999999999E-2,2.3800000000000002E-2,2.3599999999999999E-2,2.24E-2,2.0199999999999999E-2,1.7100000000000001E-2,1.3599999999999999E-2,0.01,6.7000000000000002E-3,4.1000000000000003E-3,2.3E-3,1.5E-3,1.6999999999999999E-3,2.7000000000000001E-3,4.1000000000000003E-3,5.7000000000000002E-3,7.1000000000000004E-3,7.7999999999999996E-3,7.7000000000000002E-3,7.0000000000000001E-3,5.7000000000000002E-3,4.3E-3,3.0000000000000001E-3,2.0999999999999999E-3,1.6999999999999999E-3,2E-3,2.8999999999999998E-3,4.5999999999999999E-3,6.7999999999999996E-3,9.4000000000000004E-3,1.2200000000000001E-2,1.4800000000000001E-2,1.6899999999999998E-2,1.8499999999999999E-2,1.9400000000000001E-2,1.95E-2,1.9E-2,1.7899999999999999E-2,1.6400000000000001E-2,1.46E-2,1.2800000000000001E-2,1.0999999999999999E-2,9.4000000000000004E-3,8.0999999999999996E-3,8.3999999999999995E-3,8.6E-3,8.6999999999999994E-3,8.6999999999999994E-3,8.3999999999999995E-3,8.0000000000000002E-3,7.4999999999999997E-3,7.0000000000000001E-3,6.6E-3,6.3E-3,6.1999999999999998E-3,6.4000000000000003E-3,6.8999999999999999E-3,7.4999999999999997E-3,8.2000000000000007E-3,8.8000000000000005E-3,9.4000000000000004E-3,9.7000000000000003E-3,9.9000000000000008E-3,0.01]
[74,2.0400000000000001E-2,1.9199999999999998E-2,1.7899999999999999E-2,1.67E-2,1.55E-2,1.44E-2,1.35E-2,1.29E-2,1.24E-2,1.21E-2,1.2E-2,1.1900000000000001E-2,1.21E-2,1.2500000000000001E-2,1.3100000000000001E-2,1.4E-2,1.5299999999999999E-2,1.6799999999999999E-2,1.8499999999999999E-2,2.0299999999999999E-2,2.1999999999999999E-2,2.3400000000000001E-2,2.4400000000000002E-2,2.4400000000000002E-2,2.3400000000000001E-2,2.1399999999999999E-2,1.84E-2,1.4999999999999999E-2,1.1299999999999999E-2,7.9000000000000008E-3,5.1999999999999998E-3,3.2000000000000002E-3,2.2000000000000001E-3,2.2000000000000001E-3,3.0000000000000001E-3,4.3E-3,5.7999999999999996E-3,7.1000000000000004E-3,7.7999999999999996E-3,7.7000000000000002E-3,6.8999999999999999E-3,5.5999999999999999E-3,4.1999999999999997E-3,2.8E-3,1.9E-3,1.5E-3,1.6000000000000001E-3,2.5000000000000001E-3,4.0000000000000001E-3,6.1999999999999998E-3,8.8000000000000005E-3,1.15E-2,1.41E-2,1.6299999999999999E-2,1.7899999999999999E-2,1.8800000000000001E-2,1.89E-2,1.84E-2,1.7299999999999999E-2,1.5800000000000002E-2,1.4E-2,1.2200000000000001E-2,1.04E-2,8.8999999999999999E-3,7.4999999999999997E-3,7.7999999999999996E-3,8.2000000000000007E-3,8.5000000000000006E-3,8.6E-3,8.6999999999999994E-3,8.5000000000000006E-3,8.2000000000000007E-3,7.7999999999999996E-3,7.4000000000000003E-3,7.0000000000000001E-3,6.7999999999999996E-3,6.8999999999999999E-3,7.1000000000000004E-3,7.6E-3,8.2000000000000007E-3,8.8000000000000005E-3,9.2999999999999992E-3,9.7000000000000003E-3,9.9000000000000008E-3,0.01]
[75,1.9900000000000001E-2,1.8599999999999998E-2,1.7399999999999999E-2,1.6199999999999999E-2,1.4999999999999999E-2,1.4E-2,1.3100000000000001E-2,1.2500000000000001E-2,1.21E-2,1.18E-2,1.1599999999999999E-2,1.1599999999999999E-2,1.18E-2,1.23E-2,1.2999999999999999E-2,1.3899999999999999E-2,1.52E-2,1.67E-2,1.8499999999999999E-2,2.0400000000000001E-2,2.2200000000000001E-2,2.3699999999999999E-2,2.4799999999999999E-2,2.5100000000000001E-2,2.4299999999999999E-2,2.24E-2,1.9699999999999999E-2,1.6299999999999999E-2,1.26E-2,9.1999999999999998E-3,6.3E-3,4.1999999999999997E-3,3.0000000000000001E-3,2.7000000000000001E-3,3.3E-3,4.4999999999999997E-3,5.8999999999999999E-3,7.1000000000000004E-3,7.7000000000000002E-3,7.7000000000000002E-3,6.8999999999999999E-3,5.4999999999999997E-3,4.0000000000000001E-3,2.7000000000000001E-3,1.6999999999999999E-3,1.1999999999999999E-3,1.2999999999999999E-3,2E-3,3.5000000000000001E-3,5.5999999999999999E-3,8.2000000000000007E-3,1.0999999999999999E-2,1.3599999999999999E-2,1.5800000000000002E-2,1.7399999999999999E-2,1.8200000000000001E-2,1.83E-2,1.78E-2,1.67E-2,1.5100000000000001E-2,1.3299999999999999E-2,1.15E-2,9.7999999999999997E-3,8.2000000000000007E-3,6.7999999999999996E-3,7.1999999999999998E-3,7.6E-3,8.0999999999999996E-3,8.3999999999999995E-3,8.6999999999999994E-3,8.8000000000000005E-3,8.6999999999999994E-3,8.5000000000000006E-3,8.0999999999999996E-3,7.7999999999999996E-3,7.4999999999999997E-3,7.4000000000000003E-3,7.4999999999999997E-3,7.7999999999999996E-3,8.3000000000000001E-3,8.8000000000000005E-3,9.2999999999999992E-3,9.7000000000000003E-3,9.9000000000000008E-3,0.01]
[76,1.9099999999999999E-2,1.78E-2,1.66E-2,1.54E-2,1.43E-2,1.3299999999999999E-2,1.2500000000000001E-2,1.1900000000000001E-2,1.1599999999999999E-2,1.1299999999999999E-2,1.12E-2,1.1299999999999999E-2,1.15E-2,1.2E-2,1.2800000000000001E-2,1.38E-2,1.52E-2,1.6799999999999999E-2,1.8599999999999998E-2,2.0500000000000001E-2,2.23E-2,2.4E-2,2.52E-2,2.5600000000000001E-2,2.5000000000000001E-2,2.3300000000000001E-2,2.07E-2,1.7399999999999999E-2,1.3899999999999999E-2,1.04E-2,7.4999999999999997E-3,5.1999999999999998E-3,3.8E-3,3.3999999999999998E-3,3.8E-3,4.7999999999999996E-3,6.0000000000000001E-3,7.1000000000000004E-3,7.7000000000000002E-3,7.4999999999999997E-3,6.7000000000000002E-3,5.4000000000000003E-3,3.8E-3,2.3999999999999998E-3,1.4E-3,8.0000000000000004E-4,8.9999999999999998E-4,1.6000000000000001E-3,3.0000000000000001E-3,5.1000000000000004E-3,7.7000000000000002E-3,1.0500000000000001E-2,1.32E-2,1.54E-2,1.6899999999999998E-2,1.77E-2,1.78E-2,1.72E-2,1.6E-2,1.44E-2,1.2699999999999999E-2,1.0800000000000001E-2,9.1000000000000004E-3,7.4999999999999997E-3,6.1000000000000004E-3,6.4999999999999997E-3,7.0000000000000001E-3,7.4999999999999997E-3,8.0000000000000002E-3,8.5000000000000006E-3,8.8000000000000005E-3,8.8999999999999999E-3,8.8999999999999999E-3,8.6999999999999994E-3,8.3999999999999995E-3,8.0999999999999996E-3,7.9000000000000008E-3,7.9000000000000008E-3,8.0999999999999996E-3,8.3999999999999995E-3,8.8999999999999999E-3,9.2999999999999992E-3,9.7000000000000003E-3,9.9000000000000008E-3,0.01]
[77,1.7999999999999999E-2,1.6799999999999999E-2,1.5599999999999999E-2,1.44E-2,1.3299999999999999E-2,1.24E-2,1.17E-2,1.12E-2,1.09E-2,1.0699999999999999E-2,1.0699999999999999E-2,1.0800000000000001E-2,1.12E-2,1.18E-2,1.2699999999999999E-2,1.38E-2,1.52E-2,1.6899999999999998E-2,1.8700000000000001E-2,2.07E-2,2.2499999999999999E-2,2.4199999999999999E-2,2.5499999999999998E-2,2.5999999999999999E-2,2.5499999999999998E-2,2.4E-2,2.1600000000000001E-2,1.8499999999999999E-2,1.4999999999999999E-2,1.1599999999999999E-2,8.6E-3,6.3E-3,4.7000000000000002E-3,4.1000000000000003E-3,4.3E-3,5.1000000000000004E-3,6.1000000000000004E-3,7.1000000000000004E-3,7.6E-3,7.4000000000000003E-3,6.4999999999999997E-3,5.1000000000000004E-3,3.5999999999999999E-3,2.0999999999999999E-3,1E-3,4.0000000000000002E-4,4.0000000000000002E-4,1.1000000000000001E-3,2.5000000000000001E-3,4.5999999999999999E-3,7.3000000000000001E-3,1.01E-2,1.2800000000000001E-2,1.4999999999999999E-2,1.66E-2,1.7299999999999999E-2,1.7299999999999999E-2,1.66E-2,1.54E-2,1.38E-2,1.2E-2,1.0200000000000001E-2,8.3999999999999995E-3,6.7999999999999996E-3,5.3E-3,5.7999999999999996E-3,6.3E-3,6.8999999999999999E-3,7.6E-3,8.2000000000000007E-3,8.6E-3,8.9999999999999993E-3,9.1000000000000004E-3,9.1000000000000004E-3,8.8999999999999999E-3,8.6E-3,8.3999999999999995E-3,8.3000000000000001E-3,8.3999999999999995E-3,8.6E-3,8.8999999999999999E-3,9.2999999999999992E-3,9.7000000000000003E-3,9.9000000000000008E-3,0.01]
[78,1.67E-2,1.55E-2,1.43E-2,1.32E-2,1.2200000000000001E-2,1.1299999999999999E-2,1.06E-2,1.0200000000000001E-2,0.01,9.9000000000000008E-3,1.01E-2,1.04E-2,1.09E-2,1.17E-2,1.26E-2,1.3899999999999999E-2,1.5299999999999999E-2,1.7000000000000001E-2,1.89E-2,2.0799999999999999E-2,2.2700000000000001E-2,2.4400000000000002E-2,2.5700000000000001E-2,2.6200000000000001E-2,2.5899999999999999E-2,2.4500000000000001E-2,2.23E-2,1.9300000000000001E-2,1.6E-2,1.26E-2,9.7000000000000003E-3,7.3000000000000001E-3,5.5999999999999999E-3,4.7999999999999996E-3,4.7999999999999996E-3,5.4000000000000003E-3,6.3E-3,7.1000000000000004E-3,7.4999999999999997E-3,7.1999999999999998E-3,6.3E-3,4.8999999999999998E-3,3.2000000000000002E-3,1.6999999999999999E-3,5.0000000000000001E-4,-1E-4,-1E-4,5.9999999999999995E-4,2E-3,4.1999999999999997E-3,6.8999999999999999E-3,9.7999999999999997E-3,1.2500000000000001E-2,1.4800000000000001E-2,1.6299999999999999E-2,1.7000000000000001E-2,1.6899999999999998E-2,1.6199999999999999E-2,1.49E-2,1.32E-2,1.14E-2,9.4999999999999998E-3,7.7999999999999996E-3,6.1000000000000004E-3,4.5999999999999999E-3,5.0000000000000001E-3,5.5999999999999999E-3,6.3E-3,7.1000000000000004E-3,7.7999999999999996E-3,8.3999999999999995E-3,8.8999999999999999E-3,9.1999999999999998E-3,9.2999999999999992E-3,9.2999999999999992E-3,8.9999999999999993E-3,8.8999999999999999E-3,8.6999999999999994E-3,8.6999999999999994E-3,8.8000000000000005E-3,9.1000000000000004E-3,9.4000000000000004E-3,9.7000000000000003E-3,9.9000000000000008E-3,0.01]
[79,1.5100000000000001E-2,1.4E-2,1.29E-2,1.18E-2,1.0800000000000001E-2,0.01,9.4000000000000004E-3,8.9999999999999993E-3,8.9999999999999993E-3,9.1000000000000004E-3,9.4000000000000004E-3,9.9000000000000008E-3,1.06E-2,1.15E-2,1.26E-2,1.3899999999999999E-2,1.55E-2,1.72E-2,1.9099999999999999E-2,2.1000000000000001E-2,2.29E-2,2.4500000000000001E-2,2.58E-2,2.64E-2,2.6100000000000002E-2,2.4799999999999999E-2,2.2700000000000001E-2,1.9900000000000001E-2,1.67E-2,1.35E-2,1.06E-2,8.2000000000000007E-3,6.4999999999999997E-3,5.4999999999999997E-3,5.4000000000000003E-3,5.7999999999999996E-3,6.4000000000000003E-3,7.1000000000000004E-3,7.3000000000000001E-3,7.0000000000000001E-3,6.0000000000000001E-3,4.4999999999999997E-3,2.8E-3,1.1999999999999999E-3,0,-6.9999999999999999E-4,-6.9999999999999999E-4,0,1.5E-3,3.8E-3,6.4999999999999997E-3,9.4000000000000004E-3,1.2200000000000001E-2,1.4500000000000001E-2,1.6E-2,1.67E-2,1.66E-2,1.5800000000000002E-2,1.44E-2,1.2699999999999999E-2,1.0800000000000001E-2,8.8999999999999999E-3,7.1000000000000004E-3,5.4999999999999997E-3,3.8999999999999998E-3,4.3E-3,5.0000000000000001E-3,5.7000000000000002E-3,6.4999999999999997E-3,7.3000000000000001E-3,8.0999999999999996E-3,8.6999999999999994E-3,9.1999999999999998E-3,9.4000000000000004E-3,9.4999999999999998E-3,9.2999999999999992E-3,9.1999999999999998E-3,9.1000000000000004E-3,8.9999999999999993E-3,9.1000000000000004E-3,9.1999999999999998E-3,9.4999999999999998E-3,9.7000000000000003E-3,9.9000000000000008E-3,0.01]
[80,1.3299999999999999E-2,1.23E-2,1.12E-2,1.0200000000000001E-2,9.2999999999999992E-3,8.6E-3,8.0000000000000002E-3,7.7999999999999996E-3,7.7999999999999996E-3,8.0999999999999996E-3,8.6999999999999994E-3,9.4000000000000004E-3,1.03E-2,1.1299999999999999E-2,1.26E-2,1.4E-2,1.5599999999999999E-2,1.7399999999999999E-2,1.9300000000000001E-2,2.12E-2,2.3E-2,2.46E-2,2.58E-2,2.64E-2,2.6100000000000002E-2,2.5000000000000001E-2,2.3E-2,2.0299999999999999E-2,1.7299999999999999E-2,1.4200000000000001E-2,1.14E-2,8.9999999999999993E-3,7.3000000000000001E-3,6.1999999999999998E-3,5.8999999999999999E-3,6.1000000000000004E-3,6.6E-3,7.0000000000000001E-3,7.1000000000000004E-3,6.7000000000000002E-3,5.5999999999999999E-3,4.1000000000000003E-3,2.3E-3,6.9999999999999999E-4,-5.0000000000000001E-4,-1.2999999999999999E-3,-1.2999999999999999E-3,-5.9999999999999995E-4,1E-3,3.3E-3,6.1000000000000004E-3,9.1000000000000004E-3,1.1900000000000001E-2,1.4200000000000001E-2,1.5699999999999999E-2,1.6400000000000001E-2,1.6299999999999999E-2,1.54E-2,1.4E-2,1.2200000000000001E-2,1.03E-2,8.3000000000000001E-3,6.4999999999999997E-3,4.8999999999999998E-3,3.3E-3,3.7000000000000002E-3,4.3E-3,5.1000000000000004E-3,6.0000000000000001E-3,6.8999999999999999E-3,7.7000000000000002E-3,8.3999999999999995E-3,8.9999999999999993E-3,9.4000000000000004E-3,9.4999999999999998E-3,9.4999999999999998E-3,9.4000000000000004E-3,9.2999999999999992E-3,9.2999999999999992E-3,9.2999999999999992E-3,9.4000000000000004E-3,9.4999999999999998E-3,9.7999999999999997E-3,9.9000000000000008E-3,0.01]
[81,1.14E-2,1.04E-2,9.4999999999999998E-3,8.6E-3,7.7000000000000002E-3,7.0000000000000001E-3,6.6E-3,6.4999999999999997E-3,6.7000000000000002E-3,7.1000000000000004E-3,7.9000000000000008E-3,8.8000000000000005E-3,9.9000000000000008E-3,1.12E-2,1.26E-2,1.41E-2,1.5800000000000002E-2,1.7600000000000001E-2,1.95E-2,2.1399999999999999E-2,2.3099999999999999E-2,2.47E-2,2.58E-2,2.63E-2,2.5999999999999999E-2,2.4899999999999999E-2,2.3099999999999999E-2,2.06E-2,1.77E-2,1.4800000000000001E-2,1.21E-2,9.7000000000000003E-3,7.9000000000000008E-3,6.7999999999999996E-3,6.4000000000000003E-3,6.4000000000000003E-3,6.7000000000000002E-3,7.0000000000000001E-3,7.0000000000000001E-3,6.4000000000000003E-3,5.1999999999999998E-3,3.5999999999999999E-3,1.8E-3,1E-4,-1.1999999999999999E-3,-1.9E-3,-2E-3,-1.1999999999999999E-3,4.0000000000000002E-4,2.8E-3,5.5999999999999999E-3,8.6999999999999994E-3,1.15E-2,1.38E-2,1.54E-2,1.61E-2,1.6E-2,1.5100000000000001E-2,1.3599999999999999E-2,1.18E-2,9.7999999999999997E-3,7.9000000000000008E-3,6.0000000000000001E-3,4.4000000000000003E-3,2.8E-3,3.2000000000000002E-3,3.8E-3,4.4999999999999997E-3,5.4000000000000003E-3,6.4000000000000003E-3,7.3000000000000001E-3,8.0999999999999996E-3,8.8000000000000005E-3,9.2999999999999992E-3,9.4999999999999998E-3,9.4999999999999998E-3,9.4999999999999998E-3,9.4999999999999998E-3,9.4000000000000004E-3,9.4999999999999998E-3,9.4999999999999998E-3,9.5999999999999992E-3,9.7999999999999997E-3,9.9000000000000008E-3,0.01]
[82,9.2999999999999992E-3,8.5000000000000006E-3,7.6E-3,6.7999999999999996E-3,6.1000000000000004E-3,5.4999999999999997E-3,5.1999999999999998E-3,5.1999999999999998E-3,5.4999999999999997E-3,6.1000000000000004E-3,7.0000000000000001E-3,8.2000000000000007E-3,9.4999999999999998E-3,1.09E-2,1.2500000000000001E-2,1.4200000000000001E-2,1.6E-2,1.78E-2,1.9699999999999999E-2,2.1600000000000001E-2,2.3199999999999998E-2,2.46E-2,2.5600000000000001E-2,2.6100000000000002E-2,2.58E-2,2.47E-2,2.29E-2,2.06E-2,1.7899999999999999E-2,1.5100000000000001E-2,1.2500000000000001E-2,1.03E-2,8.5000000000000006E-3,7.3000000000000001E-3,6.7999999999999996E-3,6.7000000000000002E-3,6.7999999999999996E-3,6.8999999999999999E-3,6.7000000000000002E-3,6.0000000000000001E-3,4.7999999999999996E-3,3.0999999999999999E-3,1.1999999999999999E-3,-5.0000000000000001E-4,-1.8E-3,-2.5999999999999999E-3,-2.5999999999999999E-3,-1.8E-3,-2.0000000000000001E-4,2.2000000000000001E-3,5.1000000000000004E-3,8.2000000000000007E-3,1.11E-2,1.35E-2,1.4999999999999999E-2,1.5800000000000002E-2,1.5699999999999999E-2,1.4800000000000001E-2,1.3299999999999999E-2,1.15E-2,9.4999999999999998E-3,7.4999999999999997E-3,5.7000000000000002E-3,4.0000000000000001E-3,2.3999999999999998E-3,2.7000000000000001E-3,3.3E-3,4.1000000000000003E-3,5.0000000000000001E-3,5.8999999999999999E-3,6.8999999999999999E-3,7.7999999999999996E-3,8.6E-3,9.1000000000000004E-3,9.4000000000000004E-3,9.4999999999999998E-3,9.5999999999999992E-3,9.5999999999999992E-3,9.4999999999999998E-3,9.5999999999999992E-3,9.5999999999999992E-3,9.7000000000000003E-3,9.7999999999999997E-3,9.9000000000000008E-3,0.01]
[83,7.1999999999999998E-3,6.4999999999999997E-3,5.7999999999999996E-3,5.0000000000000001E-3,4.4000000000000003E-3,4.0000000000000001E-3,3.8E-3,3.8999999999999998E-3,4.3E-3,5.1000000000000004E-3,6.1999999999999998E-3,7.4999999999999997E-3,8.9999999999999993E-3,1.0699999999999999E-2,1.2500000000000001E-2,1.43E-2,1.6199999999999999E-2,1.8100000000000002E-2,1.9900000000000001E-2,2.1700000000000001E-2,2.3199999999999998E-2,2.4500000000000001E-2,2.5399999999999999E-2,2.5700000000000001E-2,2.5399999999999999E-2,2.4400000000000002E-2,2.2700000000000001E-2,2.0500000000000001E-2,1.7899999999999999E-2,1.5299999999999999E-2,1.29E-2,1.0699999999999999E-2,8.8999999999999999E-3,7.7999999999999996E-3,7.1000000000000004E-3,6.7999999999999996E-3,6.7999999999999996E-3,6.7999999999999996E-3,6.4999999999999997E-3,5.7000000000000002E-3,4.3E-3,2.5999999999999999E-3,5.9999999999999995E-4,-1.1000000000000001E-3,-2.5000000000000001E-3,-3.3E-3,-3.3E-3,-2.5000000000000001E-3,-8.0000000000000004E-4,1.6000000000000001E-3,4.4999999999999997E-3,7.6E-3,1.06E-2,1.2999999999999999E-2,1.46E-2,1.54E-2,1.5299999999999999E-2,1.4500000000000001E-2,1.3100000000000001E-2,1.12E-2,9.1999999999999998E-3,7.3000000000000001E-3,5.4000000000000003E-3,3.7000000000000002E-3,2.0999999999999999E-3,2.3999999999999998E-3,2.8999999999999998E-3,3.5999999999999999E-3,4.4999999999999997E-3,5.4999999999999997E-3,6.4999999999999997E-3,7.4999999999999997E-3,8.3000000000000001E-3,8.8999999999999999E-3,9.1999999999999998E-3,9.4000000000000004E-3,9.4999999999999998E-3,9.5999999999999992E-3,9.5999999999999992E-3,9.5999999999999992E-3,9.7000000000000003E-3,9.7000000000000003E-3,9.9000000000000008E-3,0.01,0.01]
[84,5.1000000000000004E-3,4.4999999999999997E-3,3.8E-3,3.3E-3,2.8E-3,2.5000000000000001E-3,2.3999999999999998E-3,2.7000000000000001E-3,3.2000000000000002E-3,4.1999999999999997E-3,5.4000000000000003E-3,6.8999999999999999E-3,8.6E-3,1.04E-2,1.24E-2,1.44E-2,1.6400000000000001E-2,1.83E-2,2.01E-2,2.18E-2,2.3199999999999998E-2,2.4400000000000002E-2,2.5100000000000001E-2,2.53E-2,2.5000000000000001E-2,2.3900000000000001E-2,2.23E-2,2.0199999999999999E-2,1.78E-2,1.5299999999999999E-2,1.2999999999999999E-2,1.09E-2,9.1999999999999998E-3,8.0000000000000002E-3,7.3000000000000001E-3,6.8999999999999999E-3,6.7999999999999996E-3,6.6E-3,6.1000000000000004E-3,5.1999999999999998E-3,3.8E-3,2E-3,0,-1.8E-3,-3.0999999999999999E-3,-3.8999999999999998E-3,-4.0000000000000001E-3,-3.2000000000000002E-3,-1.5E-3,1E-3,3.8999999999999998E-3,7.0000000000000001E-3,0.01,1.24E-2,1.41E-2,1.4999999999999999E-2,1.4999999999999999E-2,1.4200000000000001E-2,1.2800000000000001E-2,1.0999999999999999E-2,9.1000000000000004E-3,7.1000000000000004E-3,5.1999999999999998E-3,3.5000000000000001E-3,1.9E-3,2.0999999999999999E-3,2.5999999999999999E-3,3.3E-3,4.1999999999999997E-3,5.1999999999999998E-3,6.1000000000000004E-3,7.1000000000000004E-3,8.0000000000000002E-3,8.6E-3,8.9999999999999993E-3,9.2999999999999992E-3,9.4000000000000004E-3,9.4999999999999998E-3,9.5999999999999992E-3,9.5999999999999992E-3,9.7000000000000003E-3,9.7000000000000003E-3,9.7999999999999997E-3,0.01,0.01]
[85,2.8999999999999998E-3,2.3999999999999998E-3,2E-3,1.5E-3,1.1999999999999999E-3,1E-3,1.1000000000000001E-3,1.5E-3,2.2000000000000001E-3,3.3E-3,4.5999999999999999E-3,6.3E-3,8.0999999999999996E-3,1.0200000000000001E-2,1.23E-2,1.44E-2,1.6500000000000001E-2,1.8499999999999999E-2,2.0299999999999999E-2,2.18E-2,2.3099999999999999E-2,2.41E-2,2.47E-2,2.4799999999999999E-2,2.4400000000000002E-2,2.3400000000000001E-2,2.18E-2,1.9800000000000002E-2,1.7500000000000002E-2,1.52E-2,1.2999999999999999E-2,1.0999999999999999E-2,9.4000000000000004E-3,8.2000000000000007E-3,7.4000000000000003E-3,7.0000000000000001E-3,6.7000000000000002E-3,6.3E-3,5.7000000000000002E-3,4.7000000000000002E-3,3.2000000000000002E-3,1.4E-3,-5.9999999999999995E-4,-2.3999999999999998E-3,-3.8E-3,-4.5999999999999999E-3,-4.5999999999999999E-3,-3.8E-3,-2.0999999999999999E-3,2.9999999999999997E-4,3.2000000000000002E-3,6.3E-3,9.2999999999999992E-3,1.17E-2,1.35E-2,1.44E-2,1.4500000000000001E-2,1.3899999999999999E-2,1.26E-2,1.0800000000000001E-2,8.8999999999999999E-3,7.0000000000000001E-3,5.1999999999999998E-3,3.3999999999999998E-3,1.8E-3,1.9E-3,2.3999999999999998E-3,3.0999999999999999E-3,3.8999999999999998E-3,4.7999999999999996E-3,5.7999999999999996E-3,6.7999999999999996E-3,7.6E-3,8.3000000000000001E-3,8.8000000000000005E-3,9.1000000000000004E-3,9.2999999999999992E-3,9.4000000000000004E-3,9.4999999999999998E-3,9.5999999999999992E-3,9.5999999999999992E-3,9.7000000000000003E-3,9.7999999999999997E-3,9.9000000000000008E-3,0.01]
[86,6.9999999999999999E-4,4.0000000000000002E-4,1E-4,-2.0000000000000001E-4,-2.9999999999999997E-4,-2.9999999999999997E-4,-1E-4,5.0000000000000001E-4,1.2999999999999999E-3,2.5000000000000001E-3,4.0000000000000001E-3,5.7000000000000002E-3,7.7000000000000002E-3,9.9000000000000008E-3,1.2200000000000001E-2,1.44E-2,1.66E-2,1.8599999999999998E-2,2.0299999999999999E-2,2.18E-2,2.3E-2,2.3800000000000002E-2,2.4299999999999999E-2,2.4299999999999999E-2,2.3699999999999999E-2,2.2700000000000001E-2,2.12E-2,1.9300000000000001E-2,1.7100000000000001E-2,1.4999999999999999E-2,1.29E-2,1.0999999999999999E-2,9.4000000000000004E-3,8.2000000000000007E-3,7.4000000000000003E-3,6.7999999999999996E-3,6.4000000000000003E-3,6.0000000000000001E-3,5.3E-3,4.1000000000000003E-3,2.5999999999999999E-3,6.9999999999999999E-4,-1.1999999999999999E-3,-3.0000000000000001E-3,-4.4000000000000003E-3,-5.1999999999999998E-3,-5.1999999999999998E-3,-4.4000000000000003E-3,-2.8E-3,-4.0000000000000002E-4,2.5000000000000001E-3,5.5999999999999999E-3,8.5000000000000006E-3,1.0999999999999999E-2,1.2800000000000001E-2,1.38E-2,1.4E-2,1.35E-2,1.23E-2,1.0699999999999999E-2,8.8000000000000005E-3,7.0000000000000001E-3,5.1999999999999998E-3,3.3999999999999998E-3,1.6999999999999999E-3,1.9E-3,2.3E-3,2.8999999999999998E-3,3.5999999999999999E-3,4.4999999999999997E-3,5.4999999999999997E-3,6.4000000000000003E-3,7.3000000000000001E-3,8.0000000000000002E-3,8.5000000000000006E-3,8.8000000000000005E-3,8.9999999999999993E-3,9.1999999999999998E-3,9.4000000000000004E-3,9.4999999999999998E-3,9.4999999999999998E-3,9.5999999999999992E-3,9.7000000000000003E-3,9.7999999999999997E-3,9.9000000000000008E-3]
[87,-1.4E-3,-1.5E-3,-1.6999999999999999E-3,-1.6999999999999999E-3,-1.6999999999999999E-3,-1.5E-3,-1.1000000000000001E-3,-4.0000000000000002E-4,5.9999999999999995E-4,1.8E-3,3.3999999999999998E-3,5.3E-3,7.4000000000000003E-3,9.7000000000000003E-3,1.21E-2,1.44E-2,1.66E-2,1.8599999999999998E-2,2.0299999999999999E-2,2.1700000000000001E-2,2.2700000000000001E-2,2.3400000000000001E-2,2.3699999999999999E-2,2.3599999999999999E-2,2.3E-2,2.1899999999999999E-2,2.0400000000000001E-2,1.8599999999999998E-2,1.66E-2,1.46E-2,1.26E-2,1.0800000000000001E-2,9.2999999999999992E-3,8.0999999999999996E-3,7.3000000000000001E-3,6.6E-3,6.1000000000000004E-3,5.4999999999999997E-3,4.7000000000000002E-3,3.5000000000000001E-3,2E-3,1E-4,-1.9E-3,-3.5999999999999999E-3,-5.0000000000000001E-3,-5.7000000000000002E-3,-5.7000000000000002E-3,-5.0000000000000001E-3,-3.3999999999999998E-3,-1.1000000000000001E-3,1.6999999999999999E-3,4.7999999999999996E-3,7.7000000000000002E-3,1.0200000000000001E-2,1.2E-2,1.3100000000000001E-2,1.34E-2,1.2999999999999999E-2,1.2E-2,1.0500000000000001E-2,8.8000000000000005E-3,7.0000000000000001E-3,5.1999999999999998E-3,3.3999999999999998E-3,1.6999999999999999E-3,1.8E-3,2.2000000000000001E-3,2.8E-3,3.5000000000000001E-3,4.3E-3,5.1999999999999998E-3,6.1000000000000004E-3,6.8999999999999999E-3,7.6E-3,8.0999999999999996E-3,8.5000000000000006E-3,8.8000000000000005E-3,8.9999999999999993E-3,9.1999999999999998E-3,9.2999999999999992E-3,9.4000000000000004E-3,9.4999999999999998E-3,9.4999999999999998E-3,9.5999999999999992E-3,9.7000000000000003E-3]
[88,-3.5000000000000001E-3,-3.5000000000000001E-3,-3.3999999999999998E-3,-3.2000000000000002E-3,-3.0000000000000001E-3,-2.5999999999999999E-3,-2E-3,-1.1999999999999999E-3,-1E-4,1.2999999999999999E-3,3.0000000000000001E-3,5.0000000000000001E-3,7.1999999999999998E-3,9.4999999999999998E-3,1.2E-2,1.43E-2,1.66E-2,1.8499999999999999E-2,2.0199999999999999E-2,2.1499999999999998E-2,2.24E-2,2.3E-2,2.3099999999999999E-2,2.29E-2,2.2200000000000001E-2,2.1100000000000001E-2,1.9699999999999999E-2,1.7899999999999999E-2,1.6E-2,1.41E-2,1.23E-2,1.06E-2,9.1000000000000004E-3,7.9000000000000008E-3,7.0000000000000001E-3,6.3E-3,5.7000000000000002E-3,5.0000000000000001E-3,4.1000000000000003E-3,2.8999999999999998E-3,1.2999999999999999E-3,-5.9999999999999995E-4,-2.5000000000000001E-3,-4.1999999999999997E-3,-5.4999999999999997E-3,-6.1999999999999998E-3,-6.1999999999999998E-3,-5.4999999999999997E-3,-4.0000000000000001E-3,-1.6999999999999999E-3,1E-3,3.8999999999999998E-3,6.7999999999999996E-3,9.2999999999999992E-3,1.12E-2,1.23E-2,1.2800000000000001E-2,1.2500000000000001E-2,1.1599999999999999E-2,1.03E-2,8.6999999999999994E-3,6.8999999999999999E-3,5.1999999999999998E-3,3.5000000000000001E-3,1.8E-3,1.9E-3,2.2000000000000001E-3,2.7000000000000001E-3,3.3E-3,4.1000000000000003E-3,4.8999999999999998E-3,5.7999999999999996E-3,6.6E-3,7.1999999999999998E-3,7.7000000000000002E-3,8.0999999999999996E-3,8.5000000000000006E-3,8.8000000000000005E-3,8.9999999999999993E-3,9.1000000000000004E-3,9.1999999999999998E-3,9.2999999999999992E-3,9.4000000000000004E-3,9.4999999999999998E-3,9.5999999999999992E-3]
[89,-5.5999999999999999E-3,-5.3E-3,-5.0000000000000001E-3,-4.5999999999999999E-3,-4.1000000000000003E-3,-3.5000000000000001E-3,-2.8E-3,-1.8E-3,-5.0000000000000001E-4,1E-3,2.8E-3,4.7999999999999996E-3,7.0000000000000001E-3,9.4000000000000004E-3,1.1900000000000001E-2,1.43E-2,1.6500000000000001E-2,1.84E-2,0.02,2.12E-2,2.1999999999999999E-2,2.24E-2,2.24E-2,2.2100000000000002E-2,2.1299999999999999E-2,2.0199999999999999E-2,1.8800000000000001E-2,1.72E-2,1.54E-2,1.3599999999999999E-2,1.18E-2,1.0200000000000001E-2,8.8000000000000005E-3,7.6E-3,6.6E-3,5.7999999999999996E-3,5.1000000000000004E-3,4.4000000000000003E-3,3.3999999999999998E-3,2.2000000000000001E-3,5.9999999999999995E-4,-1.1999999999999999E-3,-3.0999999999999999E-3,-4.7000000000000002E-3,-5.8999999999999999E-3,-6.6E-3,-6.7000000000000002E-3,-6.0000000000000001E-3,-4.4999999999999997E-3,-2.3E-3,2.9999999999999997E-4,3.0999999999999999E-3,5.8999999999999999E-3,8.3000000000000001E-3,1.0200000000000001E-2,1.15E-2,1.2E-2,1.1900000000000001E-2,1.12E-2,0.01,8.5000000000000006E-3,6.8999999999999999E-3,5.3E-3,3.5999999999999999E-3,1.9E-3,2E-3,2.2000000000000001E-3,2.7000000000000001E-3,3.3E-3,4.0000000000000001E-3,4.7000000000000002E-3,5.4999999999999997E-3,6.3E-3,6.8999999999999999E-3,7.4000000000000003E-3,7.7999999999999996E-3,8.0999999999999996E-3,8.5000000000000006E-3,8.8000000000000005E-3,8.8999999999999999E-3,9.1000000000000004E-3,9.1999999999999998E-3,9.1999999999999998E-3,9.2999999999999992E-3,9.4000000000000004E-3]
[90,-7.6E-3,-7.0000000000000001E-3,-6.4000000000000003E-3,-5.7999999999999996E-3,-5.1000000000000004E-3,-4.3E-3,-3.3999999999999998E-3,-2.2000000000000001E-3,-8.0000000000000004E-4,8.0000000000000004E-4,2.7000000000000001E-3,4.7999999999999996E-3,7.0000000000000001E-3,9.4000000000000004E-3,1.18E-2,1.4200000000000001E-2,1.6299999999999999E-2,1.8100000000000002E-2,1.9599999999999999E-2,2.07E-2,2.1399999999999999E-2,2.1700000000000001E-2,2.1700000000000001E-2,2.12E-2,2.0400000000000001E-2,1.9300000000000001E-2,1.7899999999999999E-2,1.6299999999999999E-2,1.46E-2,1.29E-2,1.1299999999999999E-2,9.7000000000000003E-3,8.3000000000000001E-3,7.1000000000000004E-3,6.1000000000000004E-3,5.3E-3,4.4999999999999997E-3,3.7000000000000002E-3,2.7000000000000001E-3,1.4E-3,-1E-4,-1.9E-3,-3.5999999999999999E-3,-5.1999999999999998E-3,-6.4000000000000003E-3,-7.0000000000000001E-3,-7.0000000000000001E-3,-6.4000000000000003E-3,-5.0000000000000001E-3,-2.8999999999999998E-3,-4.0000000000000002E-4,2.3E-3,5.0000000000000001E-3,7.4000000000000003E-3,9.2999999999999992E-3,1.06E-2,1.12E-2,1.12E-2,1.0699999999999999E-2,9.7000000000000003E-3,8.3999999999999995E-3,6.8999999999999999E-3,5.3E-3,3.7000000000000002E-3,2E-3,2.0999999999999999E-3,2.3E-3,2.7000000000000001E-3,3.3E-3,3.8999999999999998E-3,4.5999999999999999E-3,5.3E-3,6.0000000000000001E-3,6.6E-3,7.0000000000000001E-3,7.4000000000000003E-3,7.7999999999999996E-3,8.0999999999999996E-3,8.3999999999999995E-3,8.6999999999999994E-3,8.8999999999999999E-3,8.9999999999999993E-3,9.1000000000000004E-3,9.1999999999999998E-3,9.2999999999999992E-3]
[91,-9.4999999999999998E-3,-8.6E-3,-7.7999999999999996E-3,-6.8999999999999999E-3,-6.0000000000000001E-3,-4.8999999999999998E-3,-3.8E-3,-2.3999999999999998E-3,-8.9999999999999998E-4,8.0000000000000004E-4,2.7000000000000001E-3,4.7999999999999996E-3,7.1000000000000004E-3,9.4999999999999998E-3,1.18E-2,1.4E-2,1.61E-2,1.78E-2,1.9199999999999998E-2,2.0199999999999999E-2,2.0799999999999999E-2,2.1000000000000001E-2,2.0799999999999999E-2,2.0299999999999999E-2,1.9400000000000001E-2,1.83E-2,1.6899999999999998E-2,1.54E-2,1.38E-2,1.2200000000000001E-2,1.06E-2,9.1000000000000004E-3,7.7999999999999996E-3,6.6E-3,5.4999999999999997E-3,4.5999999999999999E-3,3.8E-3,2.8999999999999998E-3,1.8E-3,5.9999999999999995E-4,-8.9999999999999998E-4,-2.5000000000000001E-3,-4.1999999999999997E-3,-5.5999999999999999E-3,-6.7000000000000002E-3,-7.3000000000000001E-3,-7.3000000000000001E-3,-6.7000000000000002E-3,-5.4000000000000003E-3,-3.3999999999999998E-3,-1.1000000000000001E-3,1.5E-3,4.0000000000000001E-3,6.4000000000000003E-3,8.2000000000000007E-3,9.5999999999999992E-3,1.04E-2,1.0500000000000001E-2,1.01E-2,9.2999999999999992E-3,8.0999999999999996E-3,6.7999999999999996E-3,5.3E-3,3.8E-3,2.2000000000000001E-3,2.2000000000000001E-3,2.3999999999999998E-3,2.8E-3,3.3E-3,3.8999999999999998E-3,4.4999999999999997E-3,5.1000000000000004E-3,5.7999999999999996E-3,6.3E-3,6.7000000000000002E-3,7.1000000000000004E-3,7.4000000000000003E-3,7.7999999999999996E-3,8.0999999999999996E-3,8.3999999999999995E-3,8.6999999999999994E-3,8.8000000000000005E-3,8.8999999999999999E-3,8.9999999999999993E-3,9.1000000000000004E-3]
[92,-1.1299999999999999E-2,-1.0200000000000001E-2,-8.9999999999999993E-3,-7.9000000000000008E-3,-6.7000000000000002E-3,-5.4000000000000003E-3,-4.0000000000000001E-3,-2.5000000000000001E-3,-8.0000000000000004E-4,1E-3,3.0000000000000001E-3,5.1000000000000004E-3,7.3000000000000001E-3,9.5999999999999992E-3,1.18E-2,1.3899999999999999E-2,1.5800000000000002E-2,1.7399999999999999E-2,1.8700000000000001E-2,1.95E-2,0.02,2.01E-2,1.9900000000000001E-2,1.9300000000000001E-2,1.84E-2,1.7299999999999999E-2,1.5900000000000001E-2,1.4500000000000001E-2,1.2999999999999999E-2,1.14E-2,9.9000000000000008E-3,8.3999999999999995E-3,7.1000000000000004E-3,5.8999999999999999E-3,4.7999999999999996E-3,3.8999999999999998E-3,3.0000000000000001E-3,2E-3,1E-3,-2.0000000000000001E-4,-1.6999999999999999E-3,-3.2000000000000002E-3,-4.7000000000000002E-3,-6.0000000000000001E-3,-7.0000000000000001E-3,-7.6E-3,-7.6E-3,-6.8999999999999999E-3,-5.7000000000000002E-3,-3.8999999999999998E-3,-1.6999999999999999E-3,6.9999999999999999E-4,3.0999999999999999E-3,5.3E-3,7.1999999999999998E-3,8.6E-3,9.4000000000000004E-3,9.7000000000000003E-3,9.4999999999999998E-3,8.8000000000000005E-3,7.9000000000000008E-3,6.7000000000000002E-3,5.3E-3,3.8999999999999998E-3,2.5000000000000001E-3,2.3999999999999998E-3,2.5999999999999999E-3,2.8999999999999998E-3,3.3E-3,3.8999999999999998E-3,4.4000000000000003E-3,5.0000000000000001E-3,5.5999999999999999E-3,6.1000000000000004E-3,6.4999999999999997E-3,6.7999999999999996E-3,7.1000000000000004E-3,7.4999999999999997E-3,7.7999999999999996E-3,8.0999999999999996E-3,8.3999999999999995E-3,8.6999999999999994E-3,8.8000000000000005E-3,8.8999999999999999E-3,8.9999999999999993E-3]
[93,-1.2999999999999999E-2,-1.15E-2,-1.01E-2,-8.6999999999999994E-3,-7.1999999999999998E-3,-5.7000000000000002E-3,-4.1000000000000003E-3,-2.3999999999999998E-3,-5.9999999999999995E-4,1.2999999999999999E-3,3.3E-3,5.4000000000000003E-3,7.6E-3,9.7000000000000003E-3,1.18E-2,1.38E-2,1.55E-2,1.6899999999999998E-2,1.7999999999999999E-2,1.8800000000000001E-2,1.9099999999999999E-2,1.9099999999999999E-2,1.8800000000000001E-2,1.8200000000000001E-2,1.7299999999999999E-2,1.6199999999999999E-2,1.49E-2,1.35E-2,1.2E-2,1.06E-2,9.1000000000000004E-3,7.7000000000000002E-3,6.3E-3,5.1000000000000004E-3,4.0000000000000001E-3,3.0000000000000001E-3,2.0999999999999999E-3,1.1000000000000001E-3,1E-4,-1.1000000000000001E-3,-2.3999999999999998E-3,-3.8E-3,-5.1999999999999998E-3,-6.4000000000000003E-3,-7.3000000000000001E-3,-7.7000000000000002E-3,-7.7000000000000002E-3,-7.1000000000000004E-3,-5.8999999999999999E-3,-4.3E-3,-2.3E-3,0,2.2000000000000001E-3,4.3E-3,6.1000000000000004E-3,7.4999999999999997E-3,8.3999999999999995E-3,8.8999999999999999E-3,8.8000000000000005E-3,8.3000000000000001E-3,7.4999999999999997E-3,6.4999999999999997E-3,5.3E-3,4.1000000000000003E-3,2.8E-3,2.7000000000000001E-3,2.8E-3,3.0999999999999999E-3,3.3999999999999998E-3,3.8999999999999998E-3,4.4000000000000003E-3,4.8999999999999998E-3,5.4000000000000003E-3,5.8999999999999999E-3,6.1999999999999998E-3,6.4999999999999997E-3,6.7999999999999996E-3,7.1999999999999998E-3,7.4999999999999997E-3,7.7999999999999996E-3,8.0999999999999996E-3,8.3999999999999995E-3,8.6E-3,8.6999999999999994E-3,8.8000000000000005E-3]
[94,-1.4500000000000001E-2,-1.2800000000000001E-2,-1.11E-2,-9.2999999999999992E-3,-7.6E-3,-5.7999999999999996E-3,-4.0000000000000001E-3,-2.0999999999999999E-3,-1E-4,1.8E-3,3.8999999999999998E-3,5.8999999999999999E-3,8.0000000000000002E-3,0.01,1.1900000000000001E-2,1.3599999999999999E-2,1.5100000000000001E-2,1.6400000000000001E-2,1.7299999999999999E-2,1.7899999999999999E-2,1.8100000000000002E-2,1.8100000000000002E-2,1.77E-2,1.7000000000000001E-2,1.61E-2,1.4999999999999999E-2,1.38E-2,1.2500000000000001E-2,1.11E-2,9.5999999999999992E-3,8.2000000000000007E-3,6.7999999999999996E-3,5.4999999999999997E-3,4.3E-3,3.0999999999999999E-3,2.0999999999999999E-3,1.1000000000000001E-3,1E-4,-8.9999999999999998E-4,-2E-3,-3.2000000000000002E-3,-4.4999999999999997E-3,-5.7000000000000002E-3,-6.7000000000000002E-3,-7.4000000000000003E-3,-7.7999999999999996E-3,-7.7999999999999996E-3,-7.1999999999999998E-3,-6.1000000000000004E-3,-4.5999999999999999E-3,-2.8E-3,-6.9999999999999999E-4,1.4E-3,3.3E-3,5.0000000000000001E-3,6.4000000000000003E-3,7.4000000000000003E-3,7.9000000000000008E-3,8.0000000000000002E-3,7.7000000000000002E-3,7.1000000000000004E-3,6.3E-3,5.3E-3,4.3E-3,3.2000000000000002E-3,3.0000000000000001E-3,3.0999999999999999E-3,3.3E-3,3.5999999999999999E-3,3.8999999999999998E-3,4.4000000000000003E-3,4.7999999999999996E-3,5.3E-3,5.7000000000000002E-3,6.0000000000000001E-3,6.1999999999999998E-3,6.4999999999999997E-3,6.8999999999999999E-3,7.1999999999999998E-3,7.4999999999999997E-3,7.7999999999999996E-3,8.0999999999999996E-3,8.3000000000000001E-3,8.6E-3,8.6999999999999994E-3]
[95,-1.6E-2,-1.3899999999999999E-2,-1.1900000000000001E-2,-9.7999999999999997E-3,-7.7999999999999996E-3,-5.7000000000000002E-3,-3.7000000000000002E-3,-1.6000000000000001E-3,5.0000000000000001E-4,2.5000000000000001E-3,4.5999999999999999E-3,6.6E-3,8.5000000000000006E-3,1.03E-2,1.2E-2,1.35E-2,1.47E-2,1.5699999999999999E-2,1.6500000000000001E-2,1.6899999999999998E-2,1.7000000000000001E-2,1.6899999999999998E-2,1.6500000000000001E-2,1.5800000000000002E-2,1.49E-2,1.3899999999999999E-2,1.2699999999999999E-2,1.14E-2,0.01,8.6999999999999994E-3,7.3000000000000001E-3,5.8999999999999999E-3,4.5999999999999999E-3,3.3E-3,2.2000000000000001E-3,1.1000000000000001E-3,1E-4,-8.9999999999999998E-4,-1.9E-3,-3.0000000000000001E-3,-4.0000000000000001E-3,-5.1000000000000004E-3,-6.1000000000000004E-3,-7.0000000000000001E-3,-7.6E-3,-7.7999999999999996E-3,-7.7000000000000002E-3,-7.1999999999999998E-3,-6.1999999999999998E-3,-4.8999999999999998E-3,-3.2000000000000002E-3,-1.4E-3,5.0000000000000001E-4,2.3E-3,3.8999999999999998E-3,5.3E-3,6.3E-3,6.8999999999999999E-3,7.1999999999999998E-3,7.1000000000000004E-3,6.7000000000000002E-3,6.1000000000000004E-3,5.3E-3,4.4999999999999997E-3,3.5999999999999999E-3,3.3999999999999998E-3,3.3999999999999998E-3,3.5000000000000001E-3,3.7000000000000002E-3,4.0000000000000001E-3,4.4000000000000003E-3,4.7999999999999996E-3,5.1999999999999998E-3,5.4999999999999997E-3,5.7999999999999996E-3,6.0000000000000001E-3,6.3E-3,6.6E-3,6.8999999999999999E-3,7.1999999999999998E-3,7.4999999999999997E-3,7.7999999999999996E-3,8.0000000000000002E-3,8.3000000000000001E-3,8.5000000000000006E-3]
[96,-1.52E-2,-1.32E-2,-1.1299999999999999E-2,-9.2999999999999992E-3,-7.4000000000000003E-3,-5.4000000000000003E-3,-3.5000000000000001E-3,-1.5E-3,5.0000000000000001E-4,2.3999999999999998E-3,4.3E-3,6.1999999999999998E-3,8.0999999999999996E-3,9.7999999999999997E-3,1.14E-2,1.2800000000000001E-2,1.4E-2,1.49E-2,1.5599999999999999E-2,1.61E-2,1.6199999999999999E-2,1.61E-2,1.5599999999999999E-2,1.4999999999999999E-2,1.4200000000000001E-2,1.32E-2,1.2E-2,1.0800000000000001E-2,9.4999999999999998E-3,8.2000000000000007E-3,6.8999999999999999E-3,5.5999999999999999E-3,4.3E-3,3.2000000000000002E-3,2.0999999999999999E-3,1E-3,1E-4,-8.9999999999999998E-4,-1.8E-3,-2.8E-3,-3.8E-3,-4.7999999999999996E-3,-5.7999999999999996E-3,-6.6E-3,-7.1999999999999998E-3,-7.4999999999999997E-3,-7.3000000000000001E-3,-6.7999999999999996E-3,-5.8999999999999999E-3,-4.5999999999999999E-3,-3.0999999999999999E-3,-1.2999999999999999E-3,5.0000000000000001E-4,2.2000000000000001E-3,3.8E-3,5.0000000000000001E-3,6.0000000000000001E-3,6.6E-3,6.7999999999999996E-3,6.7000000000000002E-3,6.4000000000000003E-3,5.7999999999999996E-3,5.1000000000000004E-3,4.3E-3,3.3999999999999998E-3,3.3E-3,3.2000000000000002E-3,3.3999999999999998E-3,3.5999999999999999E-3,3.8E-3,4.1999999999999997E-3,4.4999999999999997E-3,4.8999999999999998E-3,5.1999999999999998E-3,5.4999999999999997E-3,5.7000000000000002E-3,6.0000000000000001E-3,6.1999999999999998E-3,6.4999999999999997E-3,6.7999999999999996E-3,7.1000000000000004E-3,7.4000000000000003E-3,7.6E-3,7.9000000000000008E-3,8.0999999999999996E-3]
[97,-1.44E-2,-1.2500000000000001E-2,-1.0699999999999999E-2,-8.8999999999999999E-3,-7.0000000000000001E-3,-5.1999999999999998E-3,-3.3E-3,-1.4E-3,4.0000000000000002E-4,2.3E-3,4.1000000000000003E-3,5.8999999999999999E-3,7.6E-3,9.2999999999999992E-3,1.0800000000000001E-2,1.21E-2,1.3299999999999999E-2,1.4200000000000001E-2,1.4800000000000001E-2,1.52E-2,1.5299999999999999E-2,1.52E-2,1.4800000000000001E-2,1.4200000000000001E-2,1.34E-2,1.2500000000000001E-2,1.14E-2,1.0200000000000001E-2,8.9999999999999993E-3,7.7999999999999996E-3,6.4999999999999997E-3,5.3E-3,4.1000000000000003E-3,3.0000000000000001E-3,1.9E-3,1E-3,1E-4,-8.0000000000000004E-4,-1.6999999999999999E-3,-2.7000000000000001E-3,-3.5999999999999999E-3,-4.5999999999999999E-3,-5.4999999999999997E-3,-6.3E-3,-6.7999999999999996E-3,-7.1000000000000004E-3,-7.0000000000000001E-3,-6.4999999999999997E-3,-5.5999999999999999E-3,-4.4000000000000003E-3,-2.8999999999999998E-3,-1.1999999999999999E-3,5.0000000000000001E-4,2.0999999999999999E-3,3.5999999999999999E-3,4.7999999999999996E-3,5.7000000000000002E-3,6.1999999999999998E-3,6.4999999999999997E-3,6.4000000000000003E-3,6.0000000000000001E-3,5.4999999999999997E-3,4.7999999999999996E-3,4.0000000000000001E-3,3.2000000000000002E-3,3.0999999999999999E-3,3.0999999999999999E-3,3.2000000000000002E-3,3.3999999999999998E-3,3.5999999999999999E-3,4.0000000000000001E-3,4.3E-3,4.5999999999999999E-3,4.8999999999999998E-3,5.1999999999999998E-3,5.4000000000000003E-3,5.5999999999999999E-3,5.8999999999999999E-3,6.1999999999999998E-3,6.4999999999999997E-3,6.7000000000000002E-3,7.0000000000000001E-3,7.1999999999999998E-3,7.4999999999999997E-3,7.7000000000000002E-3]
[98,-1.3599999999999999E-2,-1.18E-2,-1.01E-2,-8.3999999999999995E-3,-6.6E-3,-4.8999999999999998E-3,-3.0999999999999999E-3,-1.4E-3,4.0000000000000002E-4,2.2000000000000001E-3,3.8999999999999998E-3,5.5999999999999999E-3,7.1999999999999998E-3,8.8000000000000005E-3,1.0200000000000001E-2,1.14E-2,1.2500000000000001E-2,1.34E-2,1.4E-2,1.44E-2,1.4500000000000001E-2,1.44E-2,1.4E-2,1.34E-2,1.2699999999999999E-2,1.18E-2,1.0800000000000001E-2,9.7000000000000003E-3,8.5000000000000006E-3,7.4000000000000003E-3,6.1999999999999998E-3,5.0000000000000001E-3,3.8999999999999998E-3,2.8E-3,1.8E-3,8.9999999999999998E-4,1E-4,-8.0000000000000004E-4,-1.6000000000000001E-3,-2.5000000000000001E-3,-3.3999999999999998E-3,-4.3E-3,-5.1999999999999998E-3,-5.8999999999999999E-3,-6.4000000000000003E-3,-6.7000000000000002E-3,-6.6E-3,-6.1000000000000004E-3,-5.3E-3,-4.1000000000000003E-3,-2.7000000000000001E-3,-1.1999999999999999E-3,4.0000000000000002E-4,2E-3,3.3999999999999998E-3,4.4999999999999997E-3,5.4000000000000003E-3,5.8999999999999999E-3,6.1000000000000004E-3,6.0000000000000001E-3,5.7000000000000002E-3,5.1999999999999998E-3,4.4999999999999997E-3,3.8E-3,3.0000000000000001E-3,2.8999999999999998E-3,2.8999999999999998E-3,3.0000000000000001E-3,3.2000000000000002E-3,3.3999999999999998E-3,3.7000000000000002E-3,4.1000000000000003E-3,4.4000000000000003E-3,4.7000000000000002E-3,4.8999999999999998E-3,5.1000000000000004E-3,5.3E-3,5.5999999999999999E-3,5.8999999999999999E-3,6.1000000000000004E-3,6.4000000000000003E-3,6.6E-3,6.7999999999999996E-3,7.0000000000000001E-3,7.1999999999999998E-3]
[99,-1.2800000000000001E-2,-1.12E-2,-9.4999999999999998E-3,-7.9000000000000008E-3,-6.1999999999999998E-3,-4.5999999999999999E-3,-2.8999999999999998E-3,-1.2999999999999999E-3,4.0000000000000002E-4,2E-3,3.7000000000000002E-3,5.3E-3,6.7999999999999996E-3,8.2000000000000007E-3,9.5999999999999992E-3,1.0800000000000001E-2,1.18E-2,1.26E-2,1.32E-2,1.35E-2,1.3599999999999999E-2,1.35E-2,1.32E-2,1.26E-2,1.1900000000000001E-2,1.11E-2,1.01E-2,9.1000000000000004E-3,8.0000000000000002E-3,6.8999999999999999E-3,5.7999999999999996E-3,4.7000000000000002E-3,3.7000000000000002E-3,2.7000000000000001E-3,1.6999999999999999E-3,8.9999999999999998E-4,1E-4,-6.9999999999999999E-4,-1.5E-3,-2.3999999999999998E-3,-3.2000000000000002E-3,-4.1000000000000003E-3,-4.8999999999999998E-3,-5.5999999999999999E-3,-6.1000000000000004E-3,-6.3E-3,-6.1999999999999998E-3,-5.7999999999999996E-3,-5.0000000000000001E-3,-3.8999999999999998E-3,-2.5999999999999999E-3,-1.1000000000000001E-3,4.0000000000000002E-4,1.9E-3,3.2000000000000002E-3,4.1999999999999997E-3,5.0000000000000001E-3,5.4999999999999997E-3,5.7000000000000002E-3,5.7000000000000002E-3,5.4000000000000003E-3,4.8999999999999998E-3,4.3E-3,3.5999999999999999E-3,2.8999999999999998E-3,2.7000000000000001E-3,2.7000000000000001E-3,2.8E-3,3.0000000000000001E-3,3.2000000000000002E-3,3.5000000000000001E-3,3.8E-3,4.1000000000000003E-3,4.4000000000000003E-3,4.5999999999999999E-3,4.7999999999999996E-3,5.0000000000000001E-3,5.3E-3,5.4999999999999997E-3,5.7999999999999996E-3,6.0000000000000001E-3,6.1999999999999998E-3,6.4000000000000003E-3,6.6E-3,6.7999999999999996E-3]
[100,-1.2E-2,-1.0500000000000001E-2,-8.8999999999999999E-3,-7.4000000000000003E-3,-5.7999999999999996E-3,-4.3E-3,-2.7000000000000001E-3,-1.1999999999999999E-3,4.0000000000000002E-4,1.9E-3,3.3999999999999998E-3,4.8999999999999998E-3,6.4000000000000003E-3,7.7000000000000002E-3,8.9999999999999993E-3,1.01E-2,1.0999999999999999E-2,1.18E-2,1.24E-2,1.2699999999999999E-2,1.2800000000000001E-2,1.2699999999999999E-2,1.24E-2,1.1900000000000001E-2,1.12E-2,1.04E-2,9.4999999999999998E-3,8.5000000000000006E-3,7.4999999999999997E-3,6.4999999999999997E-3,5.4000000000000003E-3,4.4000000000000003E-3,3.3999999999999998E-3,2.5000000000000001E-3,1.6000000000000001E-3,8.0000000000000004E-4,1E-4,-6.9999999999999999E-4,-1.4E-3,-2.2000000000000001E-3,-3.0000000000000001E-3,-3.8E-3,-4.5999999999999999E-3,-5.1999999999999998E-3,-5.7000000000000002E-3,-5.8999999999999999E-3,-5.7999999999999996E-3,-5.4000000000000003E-3,-4.7000000000000002E-3,-3.7000000000000002E-3,-2.3999999999999998E-3,-1E-3,4.0000000000000002E-4,1.6999999999999999E-3,3.0000000000000001E-3,4.0000000000000001E-3,4.7000000000000002E-3,5.1999999999999998E-3,5.4000000000000003E-3,5.3E-3,5.0000000000000001E-3,4.5999999999999999E-3,4.0000000000000001E-3,3.3999999999999998E-3,2.7000000000000001E-3,2.5999999999999999E-3,2.5999999999999999E-3,2.5999999999999999E-3,2.8E-3,3.0000000000000001E-3,3.3E-3,3.5999999999999999E-3,3.8999999999999998E-3,4.1000000000000003E-3,4.3E-3,4.4999999999999997E-3,4.7000000000000002E-3,4.8999999999999998E-3,5.1999999999999998E-3,5.4000000000000003E-3,5.5999999999999999E-3,5.7999999999999996E-3,6.0000000000000001E-3,6.1999999999999998E-3,6.4000000000000003E-3]
[101,-1.12E-2,-9.7999999999999997E-3,-8.3000000000000001E-3,-6.8999999999999999E-3,-5.4999999999999997E-3,-4.0000000000000001E-3,-2.5999999999999999E-3,-1.1000000000000001E-3,2.9999999999999997E-4,1.8E-3,3.2000000000000002E-3,4.5999999999999999E-3,5.8999999999999999E-3,7.1999999999999998E-3,8.3999999999999995E-3,9.4000000000000004E-3,1.03E-2,1.0999999999999999E-2,1.15E-2,1.18E-2,1.1900000000000001E-2,1.18E-2,1.15E-2,1.11E-2,1.04E-2,9.7000000000000003E-3,8.8999999999999999E-3,8.0000000000000002E-3,7.0000000000000001E-3,6.1000000000000004E-3,5.1000000000000004E-3,4.1000000000000003E-3,3.2000000000000002E-3,2.3E-3,1.5E-3,8.0000000000000004E-4,0,-5.9999999999999995E-4,-1.2999999999999999E-3,-2.0999999999999999E-3,-2.8E-3,-3.5999999999999999E-3,-4.3E-3,-4.8999999999999998E-3,-5.3E-3,-5.4999999999999997E-3,-5.4000000000000003E-3,-5.0000000000000001E-3,-4.4000000000000003E-3,-3.3999999999999998E-3,-2.3E-3,-1E-3,4.0000000000000002E-4,1.6000000000000001E-3,2.8E-3,3.7000000000000002E-3,4.4000000000000003E-3,4.8999999999999998E-3,5.0000000000000001E-3,5.0000000000000001E-3,4.7000000000000002E-3,4.3E-3,3.7000000000000002E-3,3.0999999999999999E-3,2.5000000000000001E-3,2.3999999999999998E-3,2.3999999999999998E-3,2.5000000000000001E-3,2.5999999999999999E-3,2.8E-3,3.0999999999999999E-3,3.3E-3,3.5999999999999999E-3,3.8E-3,4.0000000000000001E-3,4.1999999999999997E-3,4.4000000000000003E-3,4.5999999999999999E-3,4.7999999999999996E-3,5.0000000000000001E-3,5.1999999999999998E-3,5.4000000000000003E-3,5.5999999999999999E-3,5.7999999999999996E-3,6.0000000000000001E-3]
[102,-1.04E-2,-9.1000000000000004E-3,-7.7000000000000002E-3,-6.4000000000000003E-3,-5.1000000000000004E-3,-3.7000000000000002E-3,-2.3999999999999998E-3,-1E-3,2.9999999999999997E-4,1.6999999999999999E-3,3.0000000000000001E-3,4.3E-3,5.4999999999999997E-3,6.7000000000000002E-3,7.7999999999999996E-3,8.6999999999999994E-3,9.5999999999999992E-3,1.0200000000000001E-2,1.0699999999999999E-2,1.0999999999999999E-2,1.11E-2,1.0999999999999999E-2,1.0699999999999999E-2,1.03E-2,9.7000000000000003E-3,8.9999999999999993E-3,8.2000000000000007E-3,7.4000000000000003E-3,6.4999999999999997E-3,5.5999999999999999E-3,4.7000000000000002E-3,3.8E-3,3.0000000000000001E-3,2.2000000000000001E-3,1.4E-3,6.9999999999999999E-4,0,-5.9999999999999995E-4,-1.1999999999999999E-3,-1.9E-3,-2.5999999999999999E-3,-3.3E-3,-4.0000000000000001E-3,-4.4999999999999997E-3,-4.8999999999999998E-3,-5.1000000000000004E-3,-5.0000000000000001E-3,-4.7000000000000002E-3,-4.0000000000000001E-3,-3.2000000000000002E-3,-2.0999999999999999E-3,-8.9999999999999998E-4,2.9999999999999997E-4,1.5E-3,2.5999999999999999E-3,3.3999999999999998E-3,4.1000000000000003E-3,4.4999999999999997E-3,4.7000000000000002E-3,4.5999999999999999E-3,4.4000000000000003E-3,4.0000000000000001E-3,3.5000000000000001E-3,2.8999999999999998E-3,2.3E-3,2.2000000000000001E-3,2.2000000000000001E-3,2.3E-3,2.3999999999999998E-3,2.5999999999999999E-3,2.8999999999999998E-3,3.0999999999999999E-3,3.3999999999999998E-3,3.5999999999999999E-3,3.7000000000000002E-3,3.8999999999999998E-3,4.1000000000000003E-3,4.3E-3,4.4999999999999997E-3,4.7000000000000002E-3,4.8999999999999998E-3,5.1000000000000004E-3,5.1999999999999998E-3,5.4000000000000003E-3,5.4999999999999997E-3]
[103,-9.5999999999999992E-3,-8.3999999999999995E-3,-7.1000000000000004E-3,-5.8999999999999999E-3,-4.7000000000000002E-3,-3.3999999999999998E-3,-2.2000000000000001E-3,-1E-3,2.9999999999999997E-4,1.5E-3,2.7000000000000001E-3,3.8999999999999998E-3,5.1000000000000004E-3,6.1999999999999998E-3,7.1999999999999998E-3,8.0999999999999996E-3,8.8000000000000005E-3,9.4000000000000004E-3,9.9000000000000008E-3,1.01E-2,1.0200000000000001E-2,1.01E-2,9.9000000000000008E-3,9.4999999999999998E-3,8.9999999999999993E-3,8.3000000000000001E-3,7.6E-3,6.7999999999999996E-3,6.0000000000000001E-3,5.1999999999999998E-3,4.4000000000000003E-3,3.5000000000000001E-3,2.7000000000000001E-3,2E-3,1.2999999999999999E-3,6.9999999999999999E-4,0,-5.9999999999999995E-4,-1.1999999999999999E-3,-1.8E-3,-2.3999999999999998E-3,-3.0999999999999999E-3,-3.7000000000000002E-3,-4.1999999999999997E-3,-4.4999999999999997E-3,-4.7000000000000002E-3,-4.5999999999999999E-3,-4.3E-3,-3.7000000000000002E-3,-2.8999999999999998E-3,-1.9E-3,-8.0000000000000004E-4,2.9999999999999997E-4,1.4E-3,2.3999999999999998E-3,3.2000000000000002E-3,3.8E-3,4.1999999999999997E-3,4.3E-3,4.3E-3,4.0000000000000001E-3,3.7000000000000002E-3,3.2000000000000002E-3,2.7000000000000001E-3,2.0999999999999999E-3,2.0999999999999999E-3,2E-3,2.0999999999999999E-3,2.2000000000000001E-3,2.3999999999999998E-3,2.5999999999999999E-3,2.8999999999999998E-3,3.0999999999999999E-3,3.3E-3,3.5000000000000001E-3,3.5999999999999999E-3,3.8E-3,3.8999999999999998E-3,4.1000000000000003E-3,4.3E-3,4.4999999999999997E-3,4.7000000000000002E-3,4.7999999999999996E-3,5.0000000000000001E-3,5.1000000000000004E-3]
[104,-8.8000000000000005E-3,-7.7000000000000002E-3,-6.4999999999999997E-3,-5.4000000000000003E-3,-4.3E-3,-3.2000000000000002E-3,-2E-3,-8.9999999999999998E-4,2.9999999999999997E-4,1.4E-3,2.5000000000000001E-3,3.5999999999999999E-3,4.7000000000000002E-3,5.7000000000000002E-3,6.6E-3,7.4000000000000003E-3,8.0999999999999996E-3,8.6999999999999994E-3,9.1000000000000004E-3,9.2999999999999992E-3,9.4000000000000004E-3,9.2999999999999992E-3,9.1000000000000004E-3,8.6999999999999994E-3,8.2000000000000007E-3,7.6E-3,7.0000000000000001E-3,6.3E-3,5.4999999999999997E-3,4.7999999999999996E-3,4.0000000000000001E-3,3.2000000000000002E-3,2.5000000000000001E-3,1.8E-3,1.1999999999999999E-3,5.9999999999999995E-4,0,-5.0000000000000001E-4,-1.1000000000000001E-3,-1.6000000000000001E-3,-2.2000000000000001E-3,-2.8E-3,-3.3999999999999998E-3,-3.8E-3,-4.1999999999999997E-3,-4.3E-3,-4.3E-3,-4.0000000000000001E-3,-3.3999999999999998E-3,-2.7000000000000001E-3,-1.8E-3,-8.0000000000000004E-4,2.9999999999999997E-4,1.2999999999999999E-3,2.2000000000000001E-3,2.8999999999999998E-3,3.5000000000000001E-3,3.8E-3,4.0000000000000001E-3,3.8999999999999998E-3,3.7000000000000002E-3,3.3999999999999998E-3,2.8999999999999998E-3,2.5000000000000001E-3,2E-3,1.9E-3,1.9E-3,1.9E-3,2.0999999999999999E-3,2.2000000000000001E-3,2.3999999999999998E-3,2.5999999999999999E-3,2.8E-3,3.0000000000000001E-3,3.2000000000000002E-3,3.3E-3,3.3999999999999998E-3,3.5999999999999999E-3,3.8E-3,4.0000000000000001E-3,4.1000000000000003E-3,4.3E-3,4.4000000000000003E-3,4.5999999999999999E-3,4.7000000000000002E-3]
[105,-8.0000000000000002E-3,-7.0000000000000001E-3,-5.8999999999999999E-3,-4.8999999999999998E-3,-3.8999999999999998E-3,-2.8999999999999998E-3,-1.8E-3,-8.0000000000000004E-4,2.0000000000000001E-4,1.2999999999999999E-3,2.3E-3,3.3E-3,4.1999999999999997E-3,5.1000000000000004E-3,6.0000000000000001E-3,6.7000000000000002E-3,7.4000000000000003E-3,7.9000000000000008E-3,8.2000000000000007E-3,8.5000000000000006E-3,8.5000000000000006E-3,8.3999999999999995E-3,8.2000000000000007E-3,7.9000000000000008E-3,7.4999999999999997E-3,6.8999999999999999E-3,6.3E-3,5.7000000000000002E-3,5.0000000000000001E-3,4.3E-3,3.5999999999999999E-3,2.8999999999999998E-3,2.3E-3,1.6999999999999999E-3,1.1000000000000001E-3,5.0000000000000001E-4,0,-5.0000000000000001E-4,-1E-3,-1.5E-3,-2E-3,-2.5999999999999999E-3,-3.0999999999999999E-3,-3.5000000000000001E-3,-3.8E-3,-3.8999999999999998E-3,-3.8999999999999998E-3,-3.5999999999999999E-3,-3.0999999999999999E-3,-2.3999999999999998E-3,-1.6000000000000001E-3,-6.9999999999999999E-4,2.9999999999999997E-4,1.1999999999999999E-3,2E-3,2.5999999999999999E-3,3.0999999999999999E-3,3.5000000000000001E-3,3.5999999999999999E-3,3.5000000000000001E-3,3.3999999999999998E-3,3.0999999999999999E-3,2.7000000000000001E-3,2.2000000000000001E-3,1.8E-3,1.6999999999999999E-3,1.6999999999999999E-3,1.8E-3,1.9E-3,2E-3,2.2000000000000001E-3,2.3999999999999998E-3,2.5999999999999999E-3,2.7000000000000001E-3,2.8999999999999998E-3,3.0000000000000001E-3,3.0999999999999999E-3,3.3E-3,3.3999999999999998E-3,3.5999999999999999E-3,3.7000000000000002E-3,3.8999999999999998E-3,4.0000000000000001E-3,4.1000000000000003E-3,4.3E-3]
[106,-7.1999999999999998E-3,-6.3E-3,-5.4000000000000003E-3,-4.4000000000000003E-3,-3.5000000000000001E-3,-2.5999999999999999E-3,-1.6000000000000001E-3,-6.9999999999999999E-4,2.0000000000000001E-4,1.1000000000000001E-3,2.0999999999999999E-3,3.0000000000000001E-3,3.8E-3,4.5999999999999999E-3,5.4000000000000003E-3,6.1000000000000004E-3,6.6E-3,7.1000000000000004E-3,7.4000000000000003E-3,7.6E-3,7.7000000000000002E-3,7.6E-3,7.4000000000000003E-3,7.1000000000000004E-3,6.7000000000000002E-3,6.1999999999999998E-3,5.7000000000000002E-3,5.1000000000000004E-3,4.4999999999999997E-3,3.8999999999999998E-3,3.3E-3,2.7000000000000001E-3,2.0999999999999999E-3,1.5E-3,1E-3,5.0000000000000001E-4,0,-4.0000000000000002E-4,-8.9999999999999998E-4,-1.2999999999999999E-3,-1.8E-3,-2.3E-3,-2.8E-3,-3.0999999999999999E-3,-3.3999999999999998E-3,-3.5000000000000001E-3,-3.5000000000000001E-3,-3.2000000000000002E-3,-2.8E-3,-2.2000000000000001E-3,-1.4E-3,-5.9999999999999995E-4,2.0000000000000001E-4,1E-3,1.8E-3,2.3999999999999998E-3,2.8E-3,3.0999999999999999E-3,3.2000000000000002E-3,3.2000000000000002E-3,3.0000000000000001E-3,2.7000000000000001E-3,2.3999999999999998E-3,2E-3,1.6000000000000001E-3,1.5E-3,1.5E-3,1.6000000000000001E-3,1.6999999999999999E-3,1.8E-3,2E-3,2.2000000000000001E-3,2.3E-3,2.5000000000000001E-3,2.5999999999999999E-3,2.7000000000000001E-3,2.8E-3,3.0000000000000001E-3,3.0999999999999999E-3,3.2000000000000002E-3,3.3999999999999998E-3,3.5000000000000001E-3,3.5999999999999999E-3,3.7000000000000002E-3,3.8E-3]
[107,-6.4000000000000003E-3,-5.5999999999999999E-3,-4.7999999999999996E-3,-3.8999999999999998E-3,-3.0999999999999999E-3,-2.3E-3,-1.5E-3,-5.9999999999999995E-4,2.0000000000000001E-4,1E-3,1.8E-3,2.5999999999999999E-3,3.3999999999999998E-3,4.1000000000000003E-3,4.7999999999999996E-3,5.4000000000000003E-3,5.8999999999999999E-3,6.3E-3,6.6E-3,6.7999999999999996E-3,6.7999999999999996E-3,6.7999999999999996E-3,6.6E-3,6.3E-3,6.0000000000000001E-3,5.4999999999999997E-3,5.1000000000000004E-3,4.5999999999999999E-3,4.0000000000000001E-3,3.5000000000000001E-3,2.8999999999999998E-3,2.3999999999999998E-3,1.8E-3,1.2999999999999999E-3,8.9999999999999998E-4,4.0000000000000002E-4,0,-4.0000000000000002E-4,-8.0000000000000004E-4,-1.1999999999999999E-3,-1.6000000000000001E-3,-2E-3,-2.3999999999999998E-3,-2.8E-3,-3.0000000000000001E-3,-3.0999999999999999E-3,-3.0999999999999999E-3,-2.8999999999999998E-3,-2.5000000000000001E-3,-1.9E-3,-1.2999999999999999E-3,-5.9999999999999995E-4,2.0000000000000001E-4,8.9999999999999998E-4,1.6000000000000001E-3,2.0999999999999999E-3,2.5000000000000001E-3,2.8E-3,2.8999999999999998E-3,2.8E-3,2.7000000000000001E-3,2.3999999999999998E-3,2.0999999999999999E-3,1.8E-3,1.4E-3,1.4E-3,1.4E-3,1.4E-3,1.5E-3,1.6000000000000001E-3,1.8E-3,1.9E-3,2.0999999999999999E-3,2.2000000000000001E-3,2.3E-3,2.3999999999999998E-3,2.5000000000000001E-3,2.5999999999999999E-3,2.8E-3,2.8999999999999998E-3,3.0000000000000001E-3,3.0999999999999999E-3,3.2000000000000002E-3,3.3E-3,3.3999999999999998E-3]
[108,-5.5999999999999999E-3,-4.8999999999999998E-3,-4.1999999999999997E-3,-3.3999999999999998E-3,-2.7000000000000001E-3,-2E-3,-1.2999999999999999E-3,-5.9999999999999995E-4,2.0000000000000001E-4,8.9999999999999998E-4,1.6000000000000001E-3,2.3E-3,3.0000000000000001E-3,3.5999999999999999E-3,4.1999999999999997E-3,4.7000000000000002E-3,5.1999999999999998E-3,5.4999999999999997E-3,5.7999999999999996E-3,5.8999999999999999E-3,6.0000000000000001E-3,5.8999999999999999E-3,5.7999999999999996E-3,5.4999999999999997E-3,5.1999999999999998E-3,4.8999999999999998E-3,4.4000000000000003E-3,4.0000000000000001E-3,3.5000000000000001E-3,3.0000000000000001E-3,2.5000000000000001E-3,2.0999999999999999E-3,1.6000000000000001E-3,1.1999999999999999E-3,8.0000000000000004E-4,4.0000000000000002E-4,0,-2.9999999999999997E-4,-6.9999999999999999E-4,-1E-3,-1.4E-3,-1.8E-3,-2.0999999999999999E-3,-2.3999999999999998E-3,-2.7000000000000001E-3,-2.7000000000000001E-3,-2.7000000000000001E-3,-2.5000000000000001E-3,-2.2000000000000001E-3,-1.6999999999999999E-3,-1.1000000000000001E-3,-5.0000000000000001E-4,2.0000000000000001E-4,8.0000000000000004E-4,1.4E-3,1.9E-3,2.2000000000000001E-3,2.3999999999999998E-3,2.5000000000000001E-3,2.5000000000000001E-3,2.3E-3,2.0999999999999999E-3,1.9E-3,1.6000000000000001E-3,1.2999999999999999E-3,1.1999999999999999E-3,1.1999999999999999E-3,1.1999999999999999E-3,1.2999999999999999E-3,1.4E-3,1.5E-3,1.6999999999999999E-3,1.8E-3,1.9E-3,2E-3,2.0999999999999999E-3,2.2000000000000001E-3,2.3E-3,2.3999999999999998E-3,2.5000000000000001E-3,2.5999999999999999E-3,2.7000000000000001E-3,2.8E-3,2.8999999999999998E-3,3.0000000000000001E-3]
[109,-4.7999999999999996E-3,-4.1999999999999997E-3,-3.5999999999999999E-3,-3.0000000000000001E-3,-2.3E-3,-1.6999999999999999E-3,-1.1000000000000001E-3,-5.0000000000000001E-4,1E-4,8.0000000000000004E-4,1.4E-3,2E-3,2.5000000000000001E-3,3.0999999999999999E-3,3.5999999999999999E-3,4.0000000000000001E-3,4.4000000000000003E-3,4.7000000000000002E-3,4.8999999999999998E-3,5.1000000000000004E-3,5.1000000000000004E-3,5.1000000000000004E-3,4.8999999999999998E-3,4.7000000000000002E-3,4.4999999999999997E-3,4.1999999999999997E-3,3.8E-3,3.3999999999999998E-3,3.0000000000000001E-3,2.5999999999999999E-3,2.2000000000000001E-3,1.8E-3,1.4E-3,1E-3,5.9999999999999995E-4,2.9999999999999997E-4,0,-2.9999999999999997E-4,-5.9999999999999995E-4,-8.9999999999999998E-4,-1.1999999999999999E-3,-1.5E-3,-1.8E-3,-2.0999999999999999E-3,-2.3E-3,-2.3999999999999998E-3,-2.3E-3,-2.2000000000000001E-3,-1.9E-3,-1.5E-3,-1E-3,-4.0000000000000002E-4,2.0000000000000001E-4,6.9999999999999999E-4,1.1999999999999999E-3,1.6000000000000001E-3,1.9E-3,2.0999999999999999E-3,2.2000000000000001E-3,2.0999999999999999E-3,2E-3,1.8E-3,1.6000000000000001E-3,1.2999999999999999E-3,1.1000000000000001E-3,1E-3,1E-3,1.1000000000000001E-3,1.1000000000000001E-3,1.1999999999999999E-3,1.2999999999999999E-3,1.4E-3,1.5E-3,1.6000000000000001E-3,1.6999999999999999E-3,1.8E-3,1.9E-3,2E-3,2.0999999999999999E-3,2.2000000000000001E-3,2.2000000000000001E-3,2.3E-3,2.3999999999999998E-3,2.5000000000000001E-3,2.5999999999999999E-3]
[110,-4.0000000000000001E-3,-3.5000000000000001E-3,-3.0000000000000001E-3,-2.5000000000000001E-3,-1.9E-3,-1.4E-3,-8.9999999999999998E-4,-4.0000000000000002E-4,1E-4,5.9999999999999995E-4,1.1000000000000001E-3,1.6000000000000001E-3,2.0999999999999999E-3,2.5999999999999999E-3,3.0000000000000001E-3,3.3999999999999998E-3,3.7000000000000002E-3,3.8999999999999998E-3,4.1000000000000003E-3,4.1999999999999997E-3,4.3E-3,4.1999999999999997E-3,4.1000000000000003E-3,4.0000000000000001E-3,3.7000000000000002E-3,3.5000000000000001E-3,3.2000000000000002E-3,2.8E-3,2.5000000000000001E-3,2.2000000000000001E-3,1.8E-3,1.5E-3,1.1000000000000001E-3,8.0000000000000004E-4,5.0000000000000001E-4,2.9999999999999997E-4,0,-2.0000000000000001E-4,-5.0000000000000001E-4,-6.9999999999999999E-4,-1E-3,-1.2999999999999999E-3,-1.5E-3,-1.6999999999999999E-3,-1.9E-3,-2E-3,-1.9E-3,-1.8E-3,-1.6000000000000001E-3,-1.1999999999999999E-3,-8.0000000000000004E-4,-2.9999999999999997E-4,1E-4,5.9999999999999995E-4,1E-3,1.2999999999999999E-3,1.6000000000000001E-3,1.6999999999999999E-3,1.8E-3,1.8E-3,1.6999999999999999E-3,1.5E-3,1.2999999999999999E-3,1.1000000000000001E-3,8.9999999999999998E-4,8.9999999999999998E-4,8.9999999999999998E-4,8.9999999999999998E-4,8.9999999999999998E-4,1E-3,1.1000000000000001E-3,1.1999999999999999E-3,1.2999999999999999E-3,1.4E-3,1.4E-3,1.5E-3,1.6000000000000001E-3,1.6000000000000001E-3,1.6999999999999999E-3,1.8E-3,1.9E-3,1.9E-3,2E-3,2.0999999999999999E-3,2.0999999999999999E-3]
[111,-3.2000000000000002E-3,-2.8E-3,-2.3999999999999998E-3,-2E-3,-1.6000000000000001E-3,-1.1000000000000001E-3,-6.9999999999999999E-4,-2.9999999999999997E-4,1E-4,5.0000000000000001E-4,8.9999999999999998E-4,1.2999999999999999E-3,1.6999999999999999E-3,2.0999999999999999E-3,2.3999999999999998E-3,2.7000000000000001E-3,2.8999999999999998E-3,3.0999999999999999E-3,3.3E-3,3.3999999999999998E-3,3.3999999999999998E-3,3.3999999999999998E-3,3.3E-3,3.2000000000000002E-3,3.0000000000000001E-3,2.8E-3,2.5000000000000001E-3,2.3E-3,2E-3,1.6999999999999999E-3,1.5E-3,1.1999999999999999E-3,8.9999999999999998E-4,6.9999999999999999E-4,4.0000000000000002E-4,2.0000000000000001E-4,0,-2.0000000000000001E-4,-4.0000000000000002E-4,-5.9999999999999995E-4,-8.0000000000000004E-4,-1E-3,-1.1999999999999999E-3,-1.4E-3,-1.5E-3,-1.6000000000000001E-3,-1.5E-3,-1.4E-3,-1.1999999999999999E-3,-1E-3,-5.9999999999999995E-4,-2.9999999999999997E-4,1E-4,5.0000000000000001E-4,8.0000000000000004E-4,1.1000000000000001E-3,1.2999999999999999E-3,1.4E-3,1.4E-3,1.4E-3,1.2999999999999999E-3,1.1999999999999999E-3,1.1000000000000001E-3,8.9999999999999998E-4,6.9999999999999999E-4,6.9999999999999999E-4,6.9999999999999999E-4,6.9999999999999999E-4,6.9999999999999999E-4,8.0000000000000004E-4,8.9999999999999998E-4,1E-3,1E-3,1.1000000000000001E-3,1.1999999999999999E-3,1.1999999999999999E-3,1.2999999999999999E-3,1.2999999999999999E-3,1.4E-3,1.4E-3,1.5E-3,1.6000000000000001E-3,1.6000000000000001E-3,1.6999999999999999E-3,1.6999999999999999E-3]
[112,-2.3999999999999998E-3,-2.0999999999999999E-3,-1.8E-3,-1.5E-3,-1.1999999999999999E-3,-8.9999999999999998E-4,-5.0000000000000001E-4,-2.0000000000000001E-4,1E-4,4.0000000000000002E-4,6.9999999999999999E-4,1E-3,1.2999999999999999E-3,1.5E-3,1.8E-3,2E-3,2.2000000000000001E-3,2.3999999999999998E-3,2.5000000000000001E-3,2.5000000000000001E-3,2.5999999999999999E-3,2.5000000000000001E-3,2.5000000000000001E-3,2.3999999999999998E-3,2.2000000000000001E-3,2.0999999999999999E-3,1.9E-3,1.6999999999999999E-3,1.5E-3,1.2999999999999999E-3,1.1000000000000001E-3,8.9999999999999998E-4,6.9999999999999999E-4,5.0000000000000001E-4,2.9999999999999997E-4,2.0000000000000001E-4,0,-1E-4,-2.9999999999999997E-4,-4.0000000000000002E-4,-5.9999999999999995E-4,-8.0000000000000004E-4,-8.9999999999999998E-4,-1E-3,-1.1000000000000001E-3,-1.1999999999999999E-3,-1.1999999999999999E-3,-1.1000000000000001E-3,-8.9999999999999998E-4,-6.9999999999999999E-4,-5.0000000000000001E-4,-2.0000000000000001E-4,1E-4,2.9999999999999997E-4,5.9999999999999995E-4,8.0000000000000004E-4,8.9999999999999998E-4,1E-3,1.1000000000000001E-3,1.1000000000000001E-3,1E-3,8.9999999999999998E-4,8.0000000000000004E-4,6.9999999999999999E-4,5.0000000000000001E-4,5.0000000000000001E-4,5.0000000000000001E-4,5.0000000000000001E-4,5.9999999999999995E-4,5.9999999999999995E-4,6.9999999999999999E-4,6.9999999999999999E-4,8.0000000000000004E-4,8.0000000000000004E-4,8.9999999999999998E-4,8.9999999999999998E-4,8.9999999999999998E-4,1E-3,1E-3,1.1000000000000001E-3,1.1000000000000001E-3,1.1999999999999999E-3,1.1999999999999999E-3,1.1999999999999999E-3,1.2999999999999999E-3]
[113,-1.6000000000000001E-3,-1.4E-3,-1.1999999999999999E-3,-1E-3,-8.0000000000000004E-4,-5.9999999999999995E-4,-4.0000000000000002E-4,-2.0000000000000001E-4,0,2.9999999999999997E-4,5.0000000000000001E-4,6.9999999999999999E-4,8.0000000000000004E-4,1E-3,1.1999999999999999E-3,1.2999999999999999E-3,1.5E-3,1.6000000000000001E-3,1.6000000000000001E-3,1.6999999999999999E-3,1.6999999999999999E-3,1.6999999999999999E-3,1.6000000000000001E-3,1.6000000000000001E-3,1.5E-3,1.4E-3,1.2999999999999999E-3,1.1000000000000001E-3,1E-3,8.9999999999999998E-4,6.9999999999999999E-4,5.9999999999999995E-4,5.0000000000000001E-4,2.9999999999999997E-4,2.0000000000000001E-4,1E-4,0,-1E-4,-2.0000000000000001E-4,-2.9999999999999997E-4,-4.0000000000000002E-4,-5.0000000000000001E-4,-5.9999999999999995E-4,-6.9999999999999999E-4,-8.0000000000000004E-4,-8.0000000000000004E-4,-8.0000000000000004E-4,-6.9999999999999999E-4,-5.9999999999999995E-4,-5.0000000000000001E-4,-2.9999999999999997E-4,-1E-4,1E-4,2.0000000000000001E-4,4.0000000000000002E-4,5.0000000000000001E-4,5.9999999999999995E-4,6.9999999999999999E-4,6.9999999999999999E-4,6.9999999999999999E-4,6.9999999999999999E-4,5.9999999999999995E-4,5.0000000000000001E-4,4.0000000000000002E-4,4.0000000000000002E-4,2.9999999999999997E-4,2.9999999999999997E-4,4.0000000000000002E-4,4.0000000000000002E-4,4.0000000000000002E-4,4.0000000000000002E-4,5.0000000000000001E-4,5.0000000000000001E-4,5.0000000000000001E-4,5.9999999999999995E-4,5.9999999999999995E-4,5.9999999999999995E-4,6.9999999999999999E-4,6.9999999999999999E-4,6.9999999999999999E-4,6.9999999999999999E-4,8.0000000000000004E-4,8.0000000000000004E-4,8.0000000000000004E-4,8.9999999999999998E-4]
[114,-8.0000000000000004E-4,-6.9999999999999999E-4,-5.9999999999999995E-4,-5.0000000000000001E-4,-4.0000000000000002E-4,-2.9999999999999997E-4,-2.0000000000000001E-4,-1E-4,0,1E-4,2.0000000000000001E-4,2.9999999999999997E-4,4.0000000000000002E-4,5.0000000000000001E-4,5.9999999999999995E-4,6.9999999999999999E-4,6.9999999999999999E-4,8.0000000000000004E-4,8.0000000000000004E-4,8.0000000000000004E-4,8.9999999999999998E-4,8.0000000000000004E-4,8.0000000000000004E-4,8.0000000000000004E-4,6.9999999999999999E-4,6.9999999999999999E-4,5.9999999999999995E-4,5.9999999999999995E-4,5.0000000000000001E-4,4.0000000000000002E-4,4.0000000000000002E-4,2.9999999999999997E-4,2.0000000000000001E-4,2.0000000000000001E-4,1E-4,1E-4,0,0,-1E-4,-1E-4,-2.0000000000000001E-4,-2.9999999999999997E-4,-2.9999999999999997E-4,-2.9999999999999997E-4,-4.0000000000000002E-4,-4.0000000000000002E-4,-4.0000000000000002E-4,-4.0000000000000002E-4,-2.9999999999999997E-4,-2.0000000000000001E-4,-2.0000000000000001E-4,-1E-4,0,1E-4,2.0000000000000001E-4,2.9999999999999997E-4,2.9999999999999997E-4,2.9999999999999997E-4,4.0000000000000002E-4,4.0000000000000002E-4,2.9999999999999997E-4,2.9999999999999997E-4,2.9999999999999997E-4,2.0000000000000001E-4,2.0000000000000001E-4,2.0000000000000001E-4,2.0000000000000001E-4,2.0000000000000001E-4,2.0000000000000001E-4,2.0000000000000001E-4,2.0000000000000001E-4,2.0000000000000001E-4,2.9999999999999997E-4,2.9999999999999997E-4,2.9999999999999997E-4,2.9999999999999997E-4,2.9999999999999997E-4,2.9999999999999997E-4,2.9999999999999997E-4,4.0000000000000002E-4,4.0000000000000002E-4,4.0000000000000002E-4,4.0000000000000002E-4,4.0000000000000002E-4,4.0000000000000002E-4]
[115,0,0,0,0,0,0,0,0,0,0,0,0,0,0,0,0,0,0,0,0,0,0,0,0,0,0,0,0,0,0,0,0,0,0,0,0,0,0,0,0,0,0,0,0,0,0,0,0,0,0,0,0,0,0,0,0,0,0,0,0,0,0,0,0,0,0,0,0,0,0,0,0,0,0,0,0,0,0,0,0,0,0,0,0,0]
[116,0,0,0,0,0,0,0,0,0,0,0,0,0,0,0,0,0,0,0,0,0,0,0,0,0,0,0,0,0,0,0,0,0,0,0,0,0,0,0,0,0,0,0,0,0,0,0,0,0,0,0,0,0,0,0,0,0,0,0,0,0,0,0,0,0,0,0,0,0,0,0,0,0,0,0,0,0,0,0,0,0,0,0,0,0]
[117,0,0,0,0,0,0,0,0,0,0,0,0,0,0,0,0,0,0,0,0,0,0,0,0,0,0,0,0,0,0,0,0,0,0,0,0,0,0,0,0,0,0,0,0,0,0,0,0,0,0,0,0,0,0,0,0,0,0,0,0,0,0,0,0,0,0,0,0,0,0,0,0,0,0,0,0,0,0,0,0,0,0,0,0,0]
[118,0,0,0,0,0,0,0,0,0,0,0,0,0,0,0,0,0,0,0,0,0,0,0,0,0,0,0,0,0,0,0,0,0,0,0,0,0,0,0,0,0,0,0,0,0,0,0,0,0,0,0,0,0,0,0,0,0,0,0,0,0,0,0,0,0,0,0,0,0,0,0,0,0,0,0,0,0,0,0,0,0,0,0,0,0]
[119,0,0,0,0,0,0,0,0,0,0,0,0,0,0,0,0,0,0,0,0,0,0,0,0,0,0,0,0,0,0,0,0,0,0,0,0,0,0,0,0,0,0,0,0,0,0,0,0,0,0,0,0,0,0,0,0,0,0,0,0,0,0,0,0,0,0,0,0,0,0,0,0,0,0,0,0,0,0,0,0,0,0,0,0,0]
[120,0,0,0,0,0,0,0,0,0,0,0,0,0,0,0,0,0,0,0,0,0,0,0,0,0,0,0,0,0,0,0,0,0,0,0,0,0,0,0,0,0,0,0,0,0,0,0,0,0,0,0,0,0,0,0,0,0,0,0,0,0,0,0,0,0,0,0,0,0,0,0,0,0,0,0,0,0,0,0,0,0,0,0,0,0]

{"sheet":"Male - Rev","index":3,"n_rows":63,"n_cols":87,"rows_kept":63,"cut":false,"hidden":true,"merged":[]}
[null,"MP-2019 - Male"]
[null,null,1951,null,null,null,null,null,null,null,null,1960,null,null,null,null,null,null,null,null,null,1970,null,null,null,null,null,null,null,null,null,1980,null,null,null,null,null,null,null,null,null,1990,null,null,null,null,null,null,null,null,null,2000,null,null,null,null,null,null,null,null,null,2010,null,null,null,null,null,null,null,null,null,2020,null,null,null,null,null,null,null,null,null,2030]
[95,95,{"$f":"MIN(OFFSET(Male!B$18,'Male - Rev'!$A3-35,0),0.03999)","v":-1.9199999999999998E-2},{"$f":"MIN(OFFSET(Male!C$18,'Male - Rev'!$A3-35,0),0.03999)","v":-1.78E-2},{"$f":"MIN(OFFSET(Male!D$18,'Male - Rev'!$A3-35,0),0.03999)","v":-1.6400000000000001E-2},{"$f":"MIN(OFFSET(Male!E$18,'Male - Rev'!$A3-35,0),0.03999)","v":-1.4999999999999999E-2},{"$f":"MIN(OFFSET(Male!F$18,'Male - Rev'!$A3-35,0),0.03999)","v":-1.35E-2},{"$f":"MIN(OFFSET(Male!G$18,'Male - Rev'!$A3-35,0),0.03999)","v":-1.21E-2},{"$f":"MIN(OFFSET(Male!H$18,'Male - Rev'!$A3-35,0),0.03999)","v":-1.0500000000000001E-2},{"$f":"MIN(OFFSET(Male!I$18,'Male - Rev'!$A3-35,0),0.03999)","v":-8.9999999999999993E-3},{"$f":"MIN(OFFSET(Male!J$18,'Male - Rev'!$A3-35,0),0.03999)","v":-7.3000000000000001E-3},{"$f":"MIN(OFFSET(Male!K$18,'Male - Rev'!$A3-35,0),0.03999)","v":-5.5999999999999999E-3},{"$f":"MIN(OFFSET(Male!L$18,'Male - Rev'!$A3-35,0),0.03999)","v":-3.8E-3},{"$f":"MIN(OFFSET(Male!M$18,'Male - Rev'!$A3-35,0),0.03999)","v":-2E-3},{"$f":"MIN(OFFSET(Male!N$18,'Male - Rev'!$A3-35,0),0.03999)","v":-1E-4},{"$f":"MIN(OFFSET(Male!O$18,'Male - Rev'!$A3-35,0),0.03999)","v":1.6999999999999999E-3},{"$f":"MIN(OFFSET(Male!P$18,'Male - Rev'!$A3-35,0),0.03999)","v":3.5999999999999999E-3},{"$f":"MIN(OFFSET(Male!Q$18,'Male - Rev'!$A3-35,0),0.03999)","v":5.4000000000000003E-3},{"$f":"MIN(OFFSET(Male!R$18,'Male - Rev'!$A3-35,0),0.03999)","v":7.0000000000000001E-3},{"$f":"MIN(OFFSET(Male!S$18,'Male - Rev'!$A3-35,0),0.03999)","v":8.6E-3},{"$f":"MIN(OFFSET(Male!T$18,'Male - Rev'!$A3-35,0),0.03999)","v":0.01},{"$f":"MIN(OFFSET(Male!U$18,'Male - Rev'!$A3-35,0),0.03999)","v":1.11E-2},{"$f":"MIN(OFFSET(Male!V$18,'Male - Rev'!$A3-35,0),0.03999)","v":1.2E-2},{"$f":"MIN(OFFSET(Male!W$18,'Male - Rev'!$A3-35,0),0.03999)","v":1.2699999999999999E-2},{"$f":"MIN(OFFSET(Male!X$18,'Male - Rev'!$A3-35,0),0.03999)","v":1.3100000000000001E-2},{"$f":"MIN(OFFSET(Male!Y$18,'Male - Rev'!$A3-35,0),0.03999)","v":1.32E-2},{"$f":"MIN(OFFSET(Male!Z$18,'Male - Rev'!$A3-35,0),0.03999)","v":1.3100000000000001E-2},{"$f":"MIN(OFFSET(Male!AA$18,'Male - Rev'!$A3-35,0),0.03999)","v":1.26E-2},{"$f":"MIN(OFFSET(Male!AB$18,'Male - Rev'!$A3-35,0),0.03999)","v":1.1900000000000001E-2},{"$f":"MIN(OFFSET(Male!AC$18,'Male - Rev'!$A3-35,0),0.03999)","v":1.09E-2},{"$f":"MIN(OFFSET(Male!AD$18,'Male - Rev'!$A3-35,0),0.03999)","v":9.7000000000000003E-3},{"$f":"MIN(OFFSET(Male!AE$18,'Male - Rev'!$A3-35,0),0.03999)","v":8.3000000000000001E-3},{"$f":"MIN(OFFSET(Male!AF$18,'Male - Rev'!$A3-35,0),0.03999)","v":6.7000000000000002E-3},{"$f":"MIN(OFFSET(Male!AG$18,'Male - Rev'!$A3-35,0),0.03999)","v":4.8999999999999998E-3},{"$f":"MIN(OFFSET(Male!AH$18,'Male - Rev'!$A3-35,0),0.03999)","v":3.0999999999999999E-3},{"$f":"MIN(OFFSET(Male!AI$18,'Male - Rev'!$A3-35,0),0.03999)","v":1.2999999999999999E-3},{"$f":"MIN(OFFSET(Male!AJ$18,'Male - Rev'!$A3-35,0),0.03999)","v":-5.0000000000000001E-4},{"$f":"MIN(OFFSET(Male!AK$18,'Male - Rev'!$A3-35,0),0.03999)","v":-2.3E-3},{"$f":"MIN(OFFSET(Male!AL$18,'Male - Rev'!$A3-35,0),0.03999)","v":-3.8999999999999998E-3},{"$f":"MIN(OFFSET(Male!AM$18,'Male - Rev'!$A3-35,0),0.03999)","v":-5.4000000000000003E-3},{"$f":"MIN(OFFSET(Male!AN$18,'Male - Rev'!$A3-35,0),0.03999)","v":-6.7000000000000002E-3},{"$f":"MIN(OFFSET(Male!AO$18,'Male - Rev'!$A3-35,0),0.03999)","v":-7.7999999999999996E-3},{"$f":"MIN(OFFSET(Male!AP$18,'Male - Rev'!$A3-35,0),0.03999)","v":-8.6E-3},{"$f":"MIN(OFFSET(Male!AQ$18,'Male - Rev'!$A3-35,0),0.03999)","v":-9.1999999999999998E-3},{"$f":"MIN(OFFSET(Male!AR$18,'Male - Rev'!$A3-35,0),0.03999)","v":-9.4000000000000004E-3},{"$f":"MIN(OFFSET(Male!AS$18,'Male - Rev'!$A3-35,0),0.03999)","v":-9.4000000000000004E-3},{"$f":"MIN(OFFSET(Male!AT$18,'Male - Rev'!$A3-35,0),0.03999)","v":-9.1000000000000004E-3},{"$f":"MIN(OFFSET(Male!AU$18,'Male - Rev'!$A3-35,0),0.03999)","v":-8.5000000000000006E-3},{"$f":"MIN(OFFSET(Male!AV$18,'Male - Rev'!$A3-35,0),0.03999)","v":-7.7000000000000002E-3},{"$f":"MIN(OFFSET(Male!AW$18,'Male - Rev'!$A3-35,0),0.03999)","v":-6.6E-3},{"$f":"MIN(OFFSET(Male!AX$18,'Male - Rev'!$A3-35,0),0.03999)","v":-5.3E-3},{"$f":"MIN(OFFSET(Male!AY$18,'Male - Rev'!$A3-35,0),0.03999)","v":-3.8E-3},{"$f":"MIN(OFFSET(Male!AZ$18,'Male - Rev'!$A3-35,0),0.03999)","v":-2.2000000000000001E-3},{"$f":"MIN(OFFSET(Male!BA$18,'Male - Rev'!$A3-35,0),0.03999)","v":-5.9999999999999995E-4},{"$f":"MIN(OFFSET(Male!BB$18,'Male - Rev'!$A3-35,0),0.03999)","v":8.9999999999999998E-4},{"$f":"MIN(OFFSET(Male!BC$18,'Male - Rev'!$A3-35,0),0.03999)","v":2.3999999999999998E-3},{"$f":"MIN(OFFSET(Male!BD$18,'Male - Rev'!$A3-35,0),0.03999)","v":3.8E-3},{"$f":"MIN(OFFSET(Male!BE$18,'Male - Rev'!$A3-35,0),0.03999)","v":4.8999999999999998E-3},{"$f":"MIN(OFFSET(Male!BF$18,'Male - Rev'!$A3-35,0),0.03999)","v":5.8999999999999999E-3},{"$f":"MIN(OFFSET(Male!BG$18,'Male - Rev'!$A3-35,0),0.03999)","v":6.6E-3},{"$f":"MIN(OFFSET(Male!BH$18,'Male - Rev'!$A3-35,0),0.03999)","v":7.0000000000000001E-3},{"$f":"MIN(OFFSET(Male!BI$18,'Male - Rev'!$A3-35,0),0.03999)","v":7.3000000000000001E-3},{"$f":"MIN(OFFSET(Male!BJ$18,'Male - Rev'!$A3-35,0),0.03999)","v":7.3000000000000001E-3},{"$f":"MIN(OFFSET(Male!BK$18,'Male - Rev'!$A3-35,0),0.03999)","v":7.1999999999999998E-3},{"$f":"MIN(OFFSET(Male!BL$18,'Male - Rev'!$A3-35,0),0.03999)","v":7.0000000000000001E-3},{"$f":"MIN(OFFSET(Male!BM$18,'Male - Rev'!$A3-35,0),0.03999)","v":6.7000000000000002E-3},{"$f":"MIN(OFFSET(Male!BN$18,'Male - Rev'!$A3-35,0),0.03999)","v":6.3E-3},{"$f":"MIN(OFFSET(Male!BO$18,'Male - Rev'!$A3-35,0),0.03999)","v":5.8999999999999999E-3},{"$f":"MIN(OFFSET(Male!BP$18,'Male - Rev'!$A3-35,0),0.03999)","v":5.7000000000000002E-3},{"$f":"MIN(OFFSET(Male!BQ$18,'Male - Rev'!$A3-35,0),0.03999)","v":5.4999999999999997E-3},{"$f":"MIN(OFFSET(Male!BR$18,'Male - Rev'!$A3-35,0),0.03999)","v":5.4999999999999997E-3},{"$f":"MIN(OFFSET(Male!BS$18,'Male - Rev'!$A3-35,0),0.03999)","v":5.5999999999999999E-3},{"$f":"MIN(OFFSET(Male!BT$18,'Male - Rev'!$A3-35,0),0.03999)","v":5.7000000000000002E-3},{"$f":"MIN(OFFSET(Male!BU$18,'Male - Rev'!$A3-35,0),0.03999)","v":5.7999999999999996E-3},{"$f":"MIN(OFFSET(Male!BV$18,'Male - Rev'!$A3-35,0),0.03999)","v":6.0000000000000001E-3},{"$f":"MIN(OFFSET(Male!BW$18,'Male - Rev'!$A3-35,0),0.03999)","v":6.1999999999999998E-3},{"$f":"MIN(OFFSET(Male!BX$18,'Male - Rev'!$A3-35,0),0.03999)","v":6.4000000000000003E-3},{"$f":"MIN(OFFSET(Male!BY$18,'Male - Rev'!$A3-35,0),0.03999)","v":6.6E-3},{"$f":"MIN(OFFSET(Male!BZ$18,'Male - Rev'!$A3-35,0),0.03999)","v":6.7000000000000002E-3},{"$f":"MIN(OFFSET(Male!CA$18,'Male - Rev'!$A3-35,0),0.03999)","v":6.8999999999999999E-3},{"$f":"MIN(OFFSET(Male!CB$18,'Male - Rev'!$A3-35,0),0.03999)","v":7.1999999999999998E-3},{"$f":"MIN(OFFSET(Male!CC$18,'Male - Rev'!$A3-35,0),0.03999)","v":7.4000000000000003E-3},{"$f":"MIN(OFFSET(Male!CD$18,'Male - Rev'!$A3-35,0),0.03999)","v":7.6E-3},{"$f":"MIN(OFFSET(Male!CE$18,'Male - Rev'!$A3-35,0),0.03999)","v":7.7999999999999996E-3},{"$f":"MIN(OFFSET(Male!CF$18,'Male - Rev'!$A3-35,0),0.03999)","v":8.0999999999999996E-3},{"$f":"MIN(OFFSET(Male!CG$18,'Male - Rev'!$A3-35,0),0.03999)","v":8.3000000000000001E-3},{"$f":"MIN(OFFSET(Male!CH$18,'Male - Rev'!$A3-35,0),0.03999)","v":8.5000000000000006E-3}]
[{"$f":"A3-1","v":94},{"$f":"B3-1","v":94},{"$f":"MIN(OFFSET(Male!B$18,'Male - Rev'!$A4-35,0),0.03999)","v":-1.5900000000000001E-2},{"$f":"MIN(OFFSET(Male!C$18,'Male - Rev'!$A4-35,0),0.03999)","v":-1.4999999999999999E-2},{"$f":"MIN(OFFSET(Male!D$18,'Male - Rev'!$A4-35,0),0.03999)","v":-1.4E-2},{"$f":"MIN(OFFSET(Male!E$18,'Male - Rev'!$A4-35,0),0.03999)","v":-1.3100000000000001E-2},{"$f":"MIN(OFFSET(Male!F$18,'Male - Rev'!$A4-35,0),0.03999)","v":-1.21E-2},{"$f":"MIN(OFFSET(Male!G$18,'Male - Rev'!$A4-35,0),0.03999)","v":-1.0999999999999999E-2},{"$f":"MIN(OFFSET(Male!H$18,'Male - Rev'!$A4-35,0),0.03999)","v":-9.7999999999999997E-3},{"$f":"MIN(OFFSET(Male!I$18,'Male - Rev'!$A4-35,0),0.03999)","v":-8.6E-3},{"$f":"MIN(OFFSET(Male!J$18,'Male - Rev'!$A4-35,0),0.03999)","v":-7.1999999999999998E-3},{"$f":"MIN(OFFSET(Male!K$18,'Male - Rev'!$A4-35,0),0.03999)","v":-5.5999999999999999E-3},{"$f":"MIN(OFFSET(Male!L$18,'Male - Rev'!$A4-35,0),0.03999)","v":-4.0000000000000001E-3},{"$f":"MIN(OFFSET(Male!M$18,'Male - Rev'!$A4-35,0),0.03999)","v":-2.2000000000000001E-3},{"$f":"MIN(OFFSET(Male!N$18,'Male - Rev'!$A4-35,0),0.03999)","v":-4.0000000000000002E-4},{"$f":"MIN(OFFSET(Male!O$18,'Male - Rev'!$A4-35,0),0.03999)","v":1.5E-3},{"$f":"MIN(OFFSET(Male!P$18,'Male - Rev'!$A4-35,0),0.03999)","v":3.3999999999999998E-3},{"$f":"MIN(OFFSET(Male!Q$18,'Male - Rev'!$A4-35,0),0.03999)","v":5.3E-3},{"$f":"MIN(OFFSET(Male!R$18,'Male - Rev'!$A4-35,0),0.03999)","v":7.0000000000000001E-3},{"$f":"MIN(OFFSET(Male!S$18,'Male - Rev'!$A4-35,0),0.03999)","v":8.6999999999999994E-3},{"$f":"MIN(OFFSET(Male!T$18,'Male - Rev'!$A4-35,0),0.03999)","v":1.01E-2},{"$f":"MIN(OFFSET(Male!U$18,'Male - Rev'!$A4-35,0),0.03999)","v":1.1299999999999999E-2},{"$f":"MIN(OFFSET(Male!V$18,'Male - Rev'!$A4-35,0),0.03999)","v":1.2200000000000001E-2},{"$f":"MIN(OFFSET(Male!W$18,'Male - Rev'!$A4-35,0),0.03999)","v":1.29E-2},{"$f":"MIN(OFFSET(Male!X$18,'Male - Rev'!$A4-35,0),0.03999)","v":1.3299999999999999E-2},{"$f":"MIN(OFFSET(Male!Y$18,'Male - Rev'!$A4-35,0),0.03999)","v":1.34E-2},{"$f":"MIN(OFFSET(Male!Z$18,'Male - Rev'!$A4-35,0),0.03999)","v":1.3299999999999999E-2},{"$f":"MIN(OFFSET(Male!AA$18,'Male - Rev'!$A4-35,0),0.03999)","v":1.2800000000000001E-2},{"$f":"MIN(OFFSET(Male!AB$18,'Male - Rev'!$A4-35,0),0.03999)","v":1.21E-2},{"$f":"MIN(OFFSET(Male!AC$18,'Male - Rev'!$A4-35,0),0.03999)","v":1.11E-2},{"$f":"MIN(OFFSET(Male!AD$18,'Male - Rev'!$A4-35,0),0.03999)","v":9.7999999999999997E-3},{"$f":"MIN(OFFSET(Male!AE$18,'Male - Rev'!$A4-35,0),0.03999)","v":8.3999999999999995E-3},{"$f":"MIN(OFFSET(Male!AF$18,'Male - Rev'!$A4-35,0),0.03999)","v":6.7999999999999996E-3},{"$f":"MIN(OFFSET(Male!AG$18,'Male - Rev'!$A4-35,0),0.03999)","v":5.1000000000000004E-3},{"$f":"MIN(OFFSET(Male!AH$18,'Male - Rev'!$A4-35,0),0.03999)","v":3.3E-3},{"$f":"MIN(OFFSET(Male!AI$18,'Male - Rev'!$A4-35,0),0.03999)","v":1.5E-3},{"$f":"MIN(OFFSET(Male!AJ$18,'Male - Rev'!$A4-35,0),0.03999)","v":-2.9999999999999997E-4},{"$f":"MIN(OFFSET(Male!AK$18,'Male - Rev'!$A4-35,0),0.03999)","v":-2E-3},{"$f":"MIN(OFFSET(Male!AL$18,'Male - Rev'!$A4-35,0),0.03999)","v":-3.5999999999999999E-3},{"$f":"MIN(OFFSET(Male!AM$18,'Male - Rev'!$A4-35,0),0.03999)","v":-5.0000000000000001E-3},{"$f":"MIN(OFFSET(Male!AN$18,'Male - Rev'!$A4-35,0),0.03999)","v":-6.1999999999999998E-3},{"$f":"MIN(OFFSET(Male!AO$18,'Male - Rev'!$A4-35,0),0.03999)","v":-7.1999999999999998E-3},{"$f":"MIN(OFFSET(Male!AP$18,'Male - Rev'!$A4-35,0),0.03999)","v":-7.9000000000000008E-3},{"$f":"MIN(OFFSET(Male!AQ$18,'Male - Rev'!$A4-35,0),0.03999)","v":-8.3999999999999995E-3},{"$f":"MIN(OFFSET(Male!AR$18,'Male - Rev'!$A4-35,0),0.03999)","v":-8.5000000000000006E-3},{"$f":"MIN(OFFSET(Male!AS$18,'Male - Rev'!$A4-35,0),0.03999)","v":-8.3999999999999995E-3},{"$f":"MIN(OFFSET(Male!AT$18,'Male - Rev'!$A4-35,0),0.03999)","v":-8.0000000000000002E-3},{"$f":"MIN(OFFSET(Male!AU$18,'Male - Rev'!$A4-35,0),0.03999)","v":-7.3000000000000001E-3},{"$f":"MIN(OFFSET(Male!AV$18,'Male - Rev'!$A4-35,0),0.03999)","v":-6.3E-3},{"$f":"MIN(OFFSET(Male!AW$18,'Male - Rev'!$A4-35,0),0.03999)","v":-5.0000000000000001E-3},{"$f":"MIN(OFFSET(Male!AX$18,'Male - Rev'!$A4-35,0),0.03999)","v":-3.5999999999999999E-3},{"$f":"MIN(OFFSET(Male!AY$18,'Male - Rev'!$A4-35,0),0.03999)","v":-2E-3},{"$f":"MIN(OFFSET(Male!AZ$18,'Male - Rev'!$A4-35,0),0.03999)","v":-4.0000000000000002E-4},{"$f":"MIN(OFFSET(Male!BA$18,'Male - Rev'!$A4-35,0),0.03999)","v":1.2999999999999999E-3},{"$f":"MIN(OFFSET(Male!BB$18,'Male - Rev'!$A4-35,0),0.03999)","v":2.8999999999999998E-3},{"$f":"MIN(OFFSET(Male!BC$18,'Male - Rev'!$A4-35,0),0.03999)","v":4.4000000000000003E-3},{"$f":"MIN(OFFSET(Male!BD$18,'Male - Rev'!$A4-35,0),0.03999)","v":5.5999999999999999E-3},{"$f":"MIN(OFFSET(Male!BE$18,'Male - Rev'!$A4-35,0),0.03999)","v":6.7000000000000002E-3},{"$f":"MIN(OFFSET(Male!BF$18,'Male - Rev'!$A4-35,0),0.03999)","v":7.4000000000000003E-3},{"$f":"MIN(OFFSET(Male!BG$18,'Male - Rev'!$A4-35,0),0.03999)","v":7.9000000000000008E-3},{"$f":"MIN(OFFSET(Male!BH$18,'Male - Rev'!$A4-35,0),0.03999)","v":8.0999999999999996E-3},{"$f":"MIN(OFFSET(Male!BI$18,'Male - Rev'!$A4-35,0),0.03999)","v":8.0000000000000002E-3},{"$f":"MIN(OFFSET(Male!BJ$18,'Male - Rev'!$A4-35,0),0.03999)","v":7.7999999999999996E-3},{"$f":"MIN(OFFSET(Male!BK$18,'Male - Rev'!$A4-35,0),0.03999)","v":7.4000000000000003E-3},{"$f":"MIN(OFFSET(Male!BL$18,'Male - Rev'!$A4-35,0),0.03999)","v":6.7999999999999996E-3},{"$f":"MIN(OFFSET(Male!BM$18,'Male - Rev'!$A4-35,0),0.03999)","v":6.1999999999999998E-3},{"$f":"MIN(OFFSET(Male!BN$18,'Male - Rev'!$A4-35,0),0.03999)","v":5.5999999999999999E-3},{"$f":"MIN(OFFSET(Male!BO$18,'Male - Rev'!$A4-35,0),0.03999)","v":5.3E-3},{"$f":"MIN(OFFSET(Male!BP$18,'Male - Rev'!$A4-35,0),0.03999)","v":5.1999999999999998E-3},{"$f":"MIN(OFFSET(Male!BQ$18,'Male - Rev'!$A4-35,0),0.03999)","v":5.1000000000000004E-3},{"$f":"MIN(OFFSET(Male!BR$18,'Male - Rev'!$A4-35,0),0.03999)","v":5.1999999999999998E-3},{"$f":"MIN(OFFSET(Male!BS$18,'Male - Rev'!$A4-35,0),0.03999)","v":5.4000000000000003E-3},{"$f":"MIN(OFFSET(Male!BT$18,'Male - Rev'!$A4-35,0),0.03999)","v":5.5999999999999999E-3},{"$f":"MIN(OFFSET(Male!BU$18,'Male - Rev'!$A4-35,0),0.03999)","v":5.8999999999999999E-3},{"$f":"MIN(OFFSET(Male!BV$18,'Male - Rev'!$A4-35,0),0.03999)","v":6.1999999999999998E-3},{"$f":"MIN(OFFSET(Male!BW$18,'Male - Rev'!$A4-35,0),0.03999)","v":6.4000000000000003E-3},{"$f":"MIN(OFFSET(Male!BX$18,'Male - Rev'!$A4-35,0),0.03999)","v":6.6E-3},{"$f":"MIN(OFFSET(Male!BY$18,'Male - Rev'!$A4-35,0),0.03999)","v":6.7999999999999996E-3},{"$f":"MIN(OFFSET(Male!BZ$18,'Male - Rev'!$A4-35,0),0.03999)","v":7.0000000000000001E-3},{"$f":"MIN(OFFSET(Male!CA$18,'Male - Rev'!$A4-35,0),0.03999)","v":7.1999999999999998E-3},{"$f":"MIN(OFFSET(Male!CB$18,'Male - Rev'!$A4-35,0),0.03999)","v":7.4000000000000003E-3},{"$f":"MIN(OFFSET(Male!CC$18,'Male - Rev'!$A4-35,0),0.03999)","v":7.7000000000000002E-3},{"$f":"MIN(OFFSET(Male!CD$18,'Male - Rev'!$A4-35,0),0.03999)","v":7.9000000000000008E-3},{"$f":"MIN(OFFSET(Male!CE$18,'Male - Rev'!$A4-35,0),0.03999)","v":8.0999999999999996E-3},{"$f":"MIN(OFFSET(Male!CF$18,'Male - Rev'!$A4-35,0),0.03999)","v":8.3000000000000001E-3},{"$f":"MIN(OFFSET(Male!CG$18,'Male - Rev'!$A4-35,0),0.03999)","v":8.6E-3},{"$f":"MIN(OFFSET(Male!CH$18,'Male - Rev'!$A4-35,0),0.03999)","v":8.6999999999999994E-3}]
[{"$f":"A4-1","v":93},93,{"$f":"MIN(OFFSET(Male!B$18,'Male - Rev'!$A5-35,0),0.03999)","v":-1.2800000000000001E-2},{"$f":"MIN(OFFSET(Male!C$18,'Male - Rev'!$A5-35,0),0.03999)","v":-1.23E-2},{"$f":"MIN(OFFSET(Male!D$18,'Male - Rev'!$A5-35,0),0.03999)","v":-1.18E-2},{"$f":"MIN(OFFSET(Male!E$18,'Male - Rev'!$A5-35,0),0.03999)","v":-1.12E-2},{"$f":"MIN(OFFSET(Male!F$18,'Male - Rev'!$A5-35,0),0.03999)","v":-1.06E-2},{"$f":"MIN(OFFSET(Male!G$18,'Male - Rev'!$A5-35,0),0.03999)","v":-9.9000000000000008E-3},{"$f":"MIN(OFFSET(Male!H$18,'Male - Rev'!$A5-35,0),0.03999)","v":-9.1000000000000004E-3},{"$f":"MIN(OFFSET(Male!I$18,'Male - Rev'!$A5-35,0),0.03999)","v":-8.0999999999999996E-3},{"$f":"MIN(OFFSET(Male!J$18,'Male - Rev'!$A5-35,0),0.03999)","v":-6.8999999999999999E-3},{"$f":"MIN(OFFSET(Male!K$18,'Male - Rev'!$A5-35,0),0.03999)","v":-5.5999999999999999E-3},{"$f":"MIN(OFFSET(Male!L$18,'Male - Rev'!$A5-35,0),0.03999)","v":-4.1000000000000003E-3},{"$f":"MIN(OFFSET(Male!M$18,'Male - Rev'!$A5-35,0),0.03999)","v":-2.3999999999999998E-3},{"$f":"MIN(OFFSET(Male!N$18,'Male - Rev'!$A5-35,0),0.03999)","v":-5.9999999999999995E-4},{"$f":"MIN(OFFSET(Male!O$18,'Male - Rev'!$A5-35,0),0.03999)","v":1.2999999999999999E-3},{"$f":"MIN(OFFSET(Male!P$18,'Male - Rev'!$A5-35,0),0.03999)","v":3.3E-3},{"$f":"MIN(OFFSET(Male!Q$18,'Male - Rev'!$A5-35,0),0.03999)","v":5.1999999999999998E-3},{"$f":"MIN(OFFSET(Male!R$18,'Male - Rev'!$A5-35,0),0.03999)","v":7.0000000000000001E-3},{"$f":"MIN(OFFSET(Male!S$18,'Male - Rev'!$A5-35,0),0.03999)","v":8.6999999999999994E-3},{"$f":"MIN(OFFSET(Male!T$18,'Male - Rev'!$A5-35,0),0.03999)","v":1.01E-2},{"$f":"MIN(OFFSET(Male!U$18,'Male - Rev'!$A5-35,0),0.03999)","v":1.14E-2},{"$f":"MIN(OFFSET(Male!V$18,'Male - Rev'!$A5-35,0),0.03999)","v":1.24E-2},{"$f":"MIN(OFFSET(Male!W$18,'Male - Rev'!$A5-35,0),0.03999)","v":1.3100000000000001E-2},{"$f":"MIN(OFFSET(Male!X$18,'Male - Rev'!$A5-35,0),0.03999)","v":1.35E-2},{"$f":"MIN(OFFSET(Male!Y$18,'Male - Rev'!$A5-35,0),0.03999)","v":1.3599999999999999E-2},{"$f":"MIN(OFFSET(Male!Z$18,'Male - Rev'!$A5-35,0),0.03999)","v":1.34E-2},{"$f":"MIN(OFFSET(Male!AA$18,'Male - Rev'!$A5-35,0),0.03999)","v":1.2999999999999999E-2},{"$f":"MIN(OFFSET(Male!AB$18,'Male - Rev'!$A5-35,0),0.03999)","v":1.2200000000000001E-2},{"$f":"MIN(OFFSET(Male!AC$18,'Male - Rev'!$A5-35,0),0.03999)","v":1.12E-2},{"$f":"MIN(OFFSET(Male!AD$18,'Male - Rev'!$A5-35,0),0.03999)","v":0.01},{"$f":"MIN(OFFSET(Male!AE$18,'Male - Rev'!$A5-35,0),0.03999)","v":8.5000000000000006E-3},{"$f":"MIN(OFFSET(Male!AF$18,'Male - Rev'!$A5-35,0),0.03999)","v":6.8999999999999999E-3},{"$f":"MIN(OFFSET(Male!AG$18,'Male - Rev'!$A5-35,0),0.03999)","v":5.1999999999999998E-3},{"$f":"MIN(OFFSET(Male!AH$18,'Male - Rev'!$A5-35,0),0.03999)","v":3.3999999999999998E-3},{"$f":"MIN(OFFSET(Male!AI$18,'Male - Rev'!$A5-35,0),0.03999)","v":1.6999999999999999E-3},{"$f":"MIN(OFFSET(Male!AJ$18,'Male - Rev'!$A5-35,0),0.03999)","v":-1E-4},{"$f":"MIN(OFFSET(Male!AK$18,'Male - Rev'!$A5-35,0),0.03999)","v":-1.6999999999999999E-3},{"$f":"MIN(OFFSET(Male!AL$18,'Male - Rev'!$A5-35,0),0.03999)","v":-3.2000000000000002E-3},{"$f":"MIN(OFFSET(Male!AM$18,'Male - Rev'!$A5-35,0),0.03999)","v":-4.4999999999999997E-3},{"$f":"MIN(OFFSET(Male!AN$18,'Male - Rev'!$A5-35,0),0.03999)","v":-5.5999999999999999E-3},{"$f":"MIN(OFFSET(Male!AO$18,'Male - Rev'!$A5-35,0),0.03999)","v":-6.4999999999999997E-3},{"$f":"MIN(OFFSET(Male!AP$18,'Male - Rev'!$A5-35,0),0.03999)","v":-7.1000000000000004E-3},{"$f":"MIN(OFFSET(Male!AQ$18,'Male - Rev'!$A5-35,0),0.03999)","v":-7.4999999999999997E-3},{"$f":"MIN(OFFSET(Male!AR$18,'Male - Rev'!$A5-35,0),0.03999)","v":-7.6E-3},{"$f":"MIN(OFFSET(Male!AS$18,'Male - Rev'!$A5-35,0),0.03999)","v":-7.3000000000000001E-3},{"$f":"MIN(OFFSET(Male!AT$18,'Male - Rev'!$A5-35,0),0.03999)","v":-6.7999999999999996E-3},{"$f":"MIN(OFFSET(Male!AU$18,'Male - Rev'!$A5-35,0),0.03999)","v":-6.0000000000000001E-3},{"$f":"MIN(OFFSET(Male!AV$18,'Male - Rev'!$A5-35,0),0.03999)","v":-4.8999999999999998E-3},{"$f":"MIN(OFFSET(Male!AW$18,'Male - Rev'!$A5-35,0),0.03999)","v":-3.5000000000000001E-3},{"$f":"MIN(OFFSET(Male!AX$18,'Male - Rev'!$A5-35,0),0.03999)","v":-2E-3},{"$f":"MIN(OFFSET(Male!AY$18,'Male - Rev'!$A5-35,0),0.03999)","v":-2.9999999999999997E-4},{"$f":"MIN(OFFSET(Male!AZ$18,'Male - Rev'!$A5-35,0),0.03999)","v":1.4E-3},{"$f":"MIN(OFFSET(Male!BA$18,'Male - Rev'!$A5-35,0),0.03999)","v":3.2000000000000002E-3},{"$f":"MIN(OFFSET(Male!BB$18,'Male - Rev'!$A5-35,0),0.03999)","v":4.7999999999999996E-3},{"$f":"MIN(OFFSET(Male!BC$18,'Male - Rev'!$A5-35,0),0.03999)","v":6.1999999999999998E-3},{"$f":"MIN(OFFSET(Male!BD$18,'Male - Rev'!$A5-35,0),0.03999)","v":7.4000000000000003E-3},{"$f":"MIN(OFFSET(Male!BE$18,'Male - Rev'!$A5-35,0),0.03999)","v":8.3000000000000001E-3},{"$f":"MIN(OFFSET(Male!BF$18,'Male - Rev'!$A5-35,0),0.03999)","v":8.8999999999999999E-3},{"$f":"MIN(OFFSET(Male!BG$18,'Male - Rev'!$A5-35,0),0.03999)","v":9.1999999999999998E-3},{"$f":"MIN(OFFSET(Male!BH$18,'Male - Rev'!$A5-35,0),0.03999)","v":9.1000000000000004E-3},{"$f":"MIN(OFFSET(Male!BI$18,'Male - Rev'!$A5-35,0),0.03999)","v":8.8000000000000005E-3},{"$f":"MIN(OFFSET(Male!BJ$18,'Male - Rev'!$A5-35,0),0.03999)","v":8.2000000000000007E-3},{"$f":"MIN(OFFSET(Male!BK$18,'Male - Rev'!$A5-35,0),0.03999)","v":7.6E-3},{"$f":"MIN(OFFSET(Male!BL$18,'Male - Rev'!$A5-35,0),0.03999)","v":6.7999999999999996E-3},{"$f":"MIN(OFFSET(Male!BM$18,'Male - Rev'!$A5-35,0),0.03999)","v":5.8999999999999999E-3},{"$f":"MIN(OFFSET(Male!BN$18,'Male - Rev'!$A5-35,0),0.03999)","v":5.0000000000000001E-3},{"$f":"MIN(OFFSET(Male!BO$18,'Male - Rev'!$A5-35,0),0.03999)","v":4.7999999999999996E-3},{"$f":"MIN(OFFSET(Male!BP$18,'Male - Rev'!$A5-35,0),0.03999)","v":4.7000000000000002E-3},{"$f":"MIN(OFFSET(Male!BQ$18,'Male - Rev'!$A5-35,0),0.03999)","v":4.7999999999999996E-3},{"$f":"MIN(OFFSET(Male!BR$18,'Male - Rev'!$A5-35,0),0.03999)","v":5.0000000000000001E-3},{"$f":"MIN(OFFSET(Male!BS$18,'Male - Rev'!$A5-35,0),0.03999)","v":5.3E-3},{"$f":"MIN(OFFSET(Male!BT$18,'Male - Rev'!$A5-35,0),0.03999)","v":5.7000000000000002E-3},{"$f":"MIN(OFFSET(Male!BU$18,'Male - Rev'!$A5-35,0),0.03999)","v":6.0000000000000001E-3},{"$f":"MIN(OFFSET(Male!BV$18,'Male - Rev'!$A5-35,0),0.03999)","v":6.4000000000000003E-3},{"$f":"MIN(OFFSET(Male!BW$18,'Male - Rev'!$A5-35,0),0.03999)","v":6.6E-3},{"$f":"MIN(OFFSET(Male!BX$18,'Male - Rev'!$A5-35,0),0.03999)","v":6.8999999999999999E-3},{"$f":"MIN(OFFSET(Male!BY$18,'Male - Rev'!$A5-35,0),0.03999)","v":7.1000000000000004E-3},{"$f":"MIN(OFFSET(Male!BZ$18,'Male - Rev'!$A5-35,0),0.03999)","v":7.3000000000000001E-3},{"$f":"MIN(OFFSET(Male!CA$18,'Male - Rev'!$A5-35,0),0.03999)","v":7.4999999999999997E-3},{"$f":"MIN(OFFSET(Male!CB$18,'Male - Rev'!$A5-35,0),0.03999)","v":7.7000000000000002E-3},{"$f":"MIN(OFFSET(Male!CC$18,'Male - Rev'!$A5-35,0),0.03999)","v":7.9000000000000008E-3},{"$f":"MIN(OFFSET(Male!CD$18,'Male - Rev'!$A5-35,0),0.03999)","v":8.2000000000000007E-3},{"$f":"MIN(OFFSET(Male!CE$18,'Male - Rev'!$A5-35,0),0.03999)","v":8.3999999999999995E-3},{"$f":"MIN(OFFSET(Male!CF$18,'Male - Rev'!$A5-35,0),0.03999)","v":8.6E-3},{"$f":"MIN(OFFSET(Male!CG$18,'Male - Rev'!$A5-35,0),0.03999)","v":8.6999999999999994E-3},{"$f":"MIN(OFFSET(Male!CH$18,'Male - Rev'!$A5-35,0),0.03999)","v":8.8000000000000005E-3}]
[92,92,{"$f":"MIN(OFFSET(Male!B$18,'Male - Rev'!$A6-35,0),0.03999)","v":-0.01},{"$f":"MIN(OFFSET(Male!C$18,'Male - Rev'!$A6-35,0),0.03999)","v":-9.7999999999999997E-3},{"$f":"MIN(OFFSET(Male!D$18,'Male - Rev'!$A6-35,0),0.03999)","v":-9.7000000000000003E-3},{"$f":"MIN(OFFSET(Male!E$18,'Male - Rev'!$A6-35,0),0.03999)","v":-9.4999999999999998E-3},{"$f":"MIN(OFFSET(Male!F$18,'Male - Rev'!$A6-35,0),0.03999)","v":-9.1999999999999998E-3},{"$f":"MIN(OFFSET(Male!G$18,'Male - Rev'!$A6-35,0),0.03999)","v":-8.8000000000000005E-3},{"$f":"MIN(OFFSET(Male!H$18,'Male - Rev'!$A6-35,0),0.03999)","v":-8.3000000000000001E-3},{"$f":"MIN(OFFSET(Male!I$18,'Male - Rev'!$A6-35,0),0.03999)","v":-7.6E-3},{"$f":"MIN(OFFSET(Male!J$18,'Male - Rev'!$A6-35,0),0.03999)","v":-6.6E-3},{"$f":"MIN(OFFSET(Male!K$18,'Male - Rev'!$A6-35,0),0.03999)","v":-5.4999999999999997E-3},{"$f":"MIN(OFFSET(Male!L$18,'Male - Rev'!$A6-35,0),0.03999)","v":-4.1000000000000003E-3},{"$f":"MIN(OFFSET(Male!M$18,'Male - Rev'!$A6-35,0),0.03999)","v":-2.5000000000000001E-3},{"$f":"MIN(OFFSET(Male!N$18,'Male - Rev'!$A6-35,0),0.03999)","v":-6.9999999999999999E-4},{"$f":"MIN(OFFSET(Male!O$18,'Male - Rev'!$A6-35,0),0.03999)","v":1.1999999999999999E-3},{"$f":"MIN(OFFSET(Male!P$18,'Male - Rev'!$A6-35,0),0.03999)","v":3.0999999999999999E-3},{"$f":"MIN(OFFSET(Male!Q$18,'Male - Rev'!$A6-35,0),0.03999)","v":5.0000000000000001E-3},{"$f":"MIN(OFFSET(Male!R$18,'Male - Rev'!$A6-35,0),0.03999)","v":6.8999999999999999E-3},{"$f":"MIN(OFFSET(Male!S$18,'Male - Rev'!$A6-35,0),0.03999)","v":8.6E-3},{"$f":"MIN(OFFSET(Male!T$18,'Male - Rev'!$A6-35,0),0.03999)","v":1.01E-2},{"$f":"MIN(OFFSET(Male!U$18,'Male - Rev'!$A6-35,0),0.03999)","v":1.14E-2},{"$f":"MIN(OFFSET(Male!V$18,'Male - Rev'!$A6-35,0),0.03999)","v":1.2500000000000001E-2},{"$f":"MIN(OFFSET(Male!W$18,'Male - Rev'!$A6-35,0),0.03999)","v":1.32E-2},{"$f":"MIN(OFFSET(Male!X$18,'Male - Rev'!$A6-35,0),0.03999)","v":1.3599999999999999E-2},{"$f":"MIN(OFFSET(Male!Y$18,'Male - Rev'!$A6-35,0),0.03999)","v":1.38E-2},{"$f":"MIN(OFFSET(Male!Z$18,'Male - Rev'!$A6-35,0),0.03999)","v":1.3599999999999999E-2},{"$f":"MIN(OFFSET(Male!AA$18,'Male - Rev'!$A6-35,0),0.03999)","v":1.3100000000000001E-2},{"$f":"MIN(OFFSET(Male!AB$18,'Male - Rev'!$A6-35,0),0.03999)","v":1.23E-2},{"$f":"MIN(OFFSET(Male!AC$18,'Male - Rev'!$A6-35,0),0.03999)","v":1.1299999999999999E-2},{"$f":"MIN(OFFSET(Male!AD$18,'Male - Rev'!$A6-35,0),0.03999)","v":1.01E-2},{"$f":"MIN(OFFSET(Male!AE$18,'Male - Rev'!$A6-35,0),0.03999)","v":8.6E-3},{"$f":"MIN(OFFSET(Male!AF$18,'Male - Rev'!$A6-35,0),0.03999)","v":7.0000000000000001E-3},{"$f":"MIN(OFFSET(Male!AG$18,'Male - Rev'!$A6-35,0),0.03999)","v":5.3E-3},{"$f":"MIN(OFFSET(Male!AH$18,'Male - Rev'!$A6-35,0),0.03999)","v":3.5999999999999999E-3},{"$f":"MIN(OFFSET(Male!AI$18,'Male - Rev'!$A6-35,0),0.03999)","v":1.8E-3},{"$f":"MIN(OFFSET(Male!AJ$18,'Male - Rev'!$A6-35,0),0.03999)","v":2.0000000000000001E-4},{"$f":"MIN(OFFSET(Male!AK$18,'Male - Rev'!$A6-35,0),0.03999)","v":-1.2999999999999999E-3},{"$f":"MIN(OFFSET(Male!AL$18,'Male - Rev'!$A6-35,0),0.03999)","v":-2.7000000000000001E-3},{"$f":"MIN(OFFSET(Male!AM$18,'Male - Rev'!$A6-35,0),0.03999)","v":-3.8999999999999998E-3},{"$f":"MIN(OFFSET(Male!AN$18,'Male - Rev'!$A6-35,0),0.03999)","v":-4.8999999999999998E-3},{"$f":"MIN(OFFSET(Male!AO$18,'Male - Rev'!$A6-35,0),0.03999)","v":-5.7000000000000002E-3},{"$f":"MIN(OFFSET(Male!AP$18,'Male - Rev'!$A6-35,0),0.03999)","v":-6.1999999999999998E-3},{"$f":"MIN(OFFSET(Male!AQ$18,'Male - Rev'!$A6-35,0),0.03999)","v":-6.4999999999999997E-3},{"$f":"MIN(OFFSET(Male!AR$18,'Male - Rev'!$A6-35,0),0.03999)","v":-6.4999999999999997E-3},{"$f":"MIN(OFFSET(Male!AS$18,'Male - Rev'!$A6-35,0),0.03999)","v":-6.1999999999999998E-3},{"$f":"MIN(OFFSET(Male!AT$18,'Male - Rev'!$A6-35,0),0.03999)","v":-5.5999999999999999E-3},{"$f":"MIN(OFFSET(Male!AU$18,'Male - Rev'!$A6-35,0),0.03999)","v":-4.7000000000000002E-3},{"$f":"MIN(OFFSET(Male!AV$18,'Male - Rev'!$A6-35,0),0.03999)","v":-3.5000000000000001E-3},{"$f":"MIN(OFFSET(Male!AW$18,'Male - Rev'!$A6-35,0),0.03999)","v":-2E-3},{"$f":"MIN(OFFSET(Male!AX$18,'Male - Rev'!$A6-35,0),0.03999)","v":-4.0000000000000002E-4},{"$f":"MIN(OFFSET(Male!AY$18,'Male - Rev'!$A6-35,0),0.03999)","v":1.2999999999999999E-3},{"$f":"MIN(OFFSET(Male!AZ$18,'Male - Rev'!$A6-35,0),0.03999)","v":3.2000000000000002E-3},{"$f":"MIN(OFFSET(Male!BA$18,'Male - Rev'!$A6-35,0),0.03999)","v":4.8999999999999998E-3},{"$f":"MIN(OFFSET(Male!BB$18,'Male - Rev'!$A6-35,0),0.03999)","v":6.6E-3},{"$f":"MIN(OFFSET(Male!BC$18,'Male - Rev'!$A6-35,0),0.03999)","v":8.0000000000000002E-3},{"$f":"MIN(OFFSET(Male!BD$18,'Male - Rev'!$A6-35,0),0.03999)","v":9.1000000000000004E-3},{"$f":"MIN(OFFSET(Male!BE$18,'Male - Rev'!$A6-35,0),0.03999)","v":9.9000000000000008E-3},{"$f":"MIN(OFFSET(Male!BF$18,'Male - Rev'!$A6-35,0),0.03999)","v":1.03E-2},{"$f":"MIN(OFFSET(Male!BG$18,'Male - Rev'!$A6-35,0),0.03999)","v":1.03E-2},{"$f":"MIN(OFFSET(Male!BH$18,'Male - Rev'!$A6-35,0),0.03999)","v":1.01E-2},{"$f":"MIN(OFFSET(Male!BI$18,'Male - Rev'!$A6-35,0),0.03999)","v":9.4999999999999998E-3},{"$f":"MIN(OFFSET(Male!BJ$18,'Male - Rev'!$A6-35,0),0.03999)","v":8.6999999999999994E-3},{"$f":"MIN(OFFSET(Male!BK$18,'Male - Rev'!$A6-35,0),0.03999)","v":7.7999999999999996E-3},{"$f":"MIN(OFFSET(Male!BL$18,'Male - Rev'!$A6-35,0),0.03999)","v":6.7000000000000002E-3},{"$f":"MIN(OFFSET(Male!BM$18,'Male - Rev'!$A6-35,0),0.03999)","v":5.5999999999999999E-3},{"$f":"MIN(OFFSET(Male!BN$18,'Male - Rev'!$A6-35,0),0.03999)","v":4.4999999999999997E-3},{"$f":"MIN(OFFSET(Male!BO$18,'Male - Rev'!$A6-35,0),0.03999)","v":4.4000000000000003E-3},{"$f":"MIN(OFFSET(Male!BP$18,'Male - Rev'!$A6-35,0),0.03999)","v":4.4999999999999997E-3},{"$f":"MIN(OFFSET(Male!BQ$18,'Male - Rev'!$A6-35,0),0.03999)","v":4.5999999999999999E-3},{"$f":"MIN(OFFSET(Male!BR$18,'Male - Rev'!$A6-35,0),0.03999)","v":4.8999999999999998E-3},{"$f":"MIN(OFFSET(Male!BS$18,'Male - Rev'!$A6-35,0),0.03999)","v":5.3E-3},{"$f":"MIN(OFFSET(Male!BT$18,'Male - Rev'!$A6-35,0),0.03999)","v":5.7000000000000002E-3},{"$f":"MIN(OFFSET(Male!BU$18,'Male - Rev'!$A6-35,0),0.03999)","v":6.1999999999999998E-3},{"$f":"MIN(OFFSET(Male!BV$18,'Male - Rev'!$A6-35,0),0.03999)","v":6.4999999999999997E-3},{"$f":"MIN(OFFSET(Male!BW$18,'Male - Rev'!$A6-35,0),0.03999)","v":6.8999999999999999E-3},{"$f":"MIN(OFFSET(Male!BX$18,'Male - Rev'!$A6-35,0),0.03999)","v":7.1000000000000004E-3},{"$f":"MIN(OFFSET(Male!BY$18,'Male - Rev'!$A6-35,0),0.03999)","v":7.3000000000000001E-3},{"$f":"MIN(OFFSET(Male!BZ$18,'Male - Rev'!$A6-35,0),0.03999)","v":7.4999999999999997E-3},{"$f":"MIN(OFFSET(Male!CA$18,'Male - Rev'!$A6-35,0),0.03999)","v":7.7999999999999996E-3},{"$f":"MIN(OFFSET(Male!CB$18,'Male - Rev'!$A6-35,0),0.03999)","v":8.0000000000000002E-3},{"$f":"MIN(OFFSET(Male!CC$18,'Male - Rev'!$A6-35,0),0.03999)","v":8.2000000000000007E-3},{"$f":"MIN(OFFSET(Male!CD$18,'Male - Rev'!$A6-35,0),0.03999)","v":8.3999999999999995E-3},{"$f":"MIN(OFFSET(Male!CE$18,'Male - Rev'!$A6-35,0),0.03999)","v":8.6999999999999994E-3},{"$f":"MIN(OFFSET(Male!CF$18,'Male - Rev'!$A6-35,0),0.03999)","v":8.8000000000000005E-3},{"$f":"MIN(OFFSET(Male!CG$18,'Male - Rev'!$A6-35,0),0.03999)","v":8.8999999999999999E-3},{"$f":"MIN(OFFSET(Male!CH$18,'Male - Rev'!$A6-35,0),0.03999)","v":8.9999999999999993E-3}]
[91,91,{"$f":"MIN(OFFSET(Male!B$18,'Male - Rev'!$A7-35,0),0.03999)","v":-7.3000000000000001E-3},{"$f":"MIN(OFFSET(Male!C$18,'Male - Rev'!$A7-35,0),0.03999)","v":-7.4999999999999997E-3},{"$f":"MIN(OFFSET(Male!D$18,'Male - Rev'!$A7-35,0),0.03999)","v":-7.7000000000000002E-3},{"$f":"MIN(OFFSET(Male!E$18,'Male - Rev'!$A7-35,0),0.03999)","v":-7.7999999999999996E-3},{"$f":"MIN(OFFSET(Male!F$18,'Male - Rev'!$A7-35,0),0.03999)","v":-7.9000000000000008E-3},{"$f":"MIN(OFFSET(Male!G$18,'Male - Rev'!$A7-35,0),0.03999)","v":-7.7999999999999996E-3},{"$f":"MIN(OFFSET(Male!H$18,'Male - Rev'!$A7-35,0),0.03999)","v":-7.4999999999999997E-3},{"$f":"MIN(OFFSET(Male!I$18,'Male - Rev'!$A7-35,0),0.03999)","v":-7.0000000000000001E-3},{"$f":"MIN(OFFSET(Male!J$18,'Male - Rev'!$A7-35,0),0.03999)","v":-6.3E-3},{"$f":"MIN(OFFSET(Male!K$18,'Male - Rev'!$A7-35,0),0.03999)","v":-5.3E-3},{"$f":"MIN(OFFSET(Male!L$18,'Male - Rev'!$A7-35,0),0.03999)","v":-4.0000000000000001E-3},{"$f":"MIN(OFFSET(Male!M$18,'Male - Rev'!$A7-35,0),0.03999)","v":-2.5000000000000001E-3},{"$f":"MIN(OFFSET(Male!N$18,'Male - Rev'!$A7-35,0),0.03999)","v":-8.0000000000000004E-4},{"$f":"MIN(OFFSET(Male!O$18,'Male - Rev'!$A7-35,0),0.03999)","v":1E-3},{"$f":"MIN(OFFSET(Male!P$18,'Male - Rev'!$A7-35,0),0.03999)","v":2.8999999999999998E-3},{"$f":"MIN(OFFSET(Male!Q$18,'Male - Rev'!$A7-35,0),0.03999)","v":4.8999999999999998E-3},{"$f":"MIN(OFFSET(Male!R$18,'Male - Rev'!$A7-35,0),0.03999)","v":6.7999999999999996E-3},{"$f":"MIN(OFFSET(Male!S$18,'Male - Rev'!$A7-35,0),0.03999)","v":8.5000000000000006E-3},{"$f":"MIN(OFFSET(Male!T$18,'Male - Rev'!$A7-35,0),0.03999)","v":1.01E-2},{"$f":"MIN(OFFSET(Male!U$18,'Male - Rev'!$A7-35,0),0.03999)","v":1.14E-2},{"$f":"MIN(OFFSET(Male!V$18,'Male - Rev'!$A7-35,0),0.03999)","v":1.2500000000000001E-2},{"$f":"MIN(OFFSET(Male!W$18,'Male - Rev'!$A7-35,0),0.03999)","v":1.32E-2},{"$f":"MIN(OFFSET(Male!X$18,'Male - Rev'!$A7-35,0),0.03999)","v":1.37E-2},{"$f":"MIN(OFFSET(Male!Y$18,'Male - Rev'!$A7-35,0),0.03999)","v":1.3899999999999999E-2},{"$f":"MIN(OFFSET(Male!Z$18,'Male - Rev'!$A7-35,0),0.03999)","v":1.37E-2},{"$f":"MIN(OFFSET(Male!AA$18,'Male - Rev'!$A7-35,0),0.03999)","v":1.32E-2},{"$f":"MIN(OFFSET(Male!AB$18,'Male - Rev'!$A7-35,0),0.03999)","v":1.24E-2},{"$f":"MIN(OFFSET(Male!AC$18,'Male - Rev'!$A7-35,0),0.03999)","v":1.14E-2},{"$f":"MIN(OFFSET(Male!AD$18,'Male - Rev'!$A7-35,0),0.03999)","v":1.01E-2},{"$f":"MIN(OFFSET(Male!AE$18,'Male - Rev'!$A7-35,0),0.03999)","v":8.6999999999999994E-3},{"$f":"MIN(OFFSET(Male!AF$18,'Male - Rev'!$A7-35,0),0.03999)","v":7.1000000000000004E-3},{"$f":"MIN(OFFSET(Male!AG$18,'Male - Rev'!$A7-35,0),0.03999)","v":5.4000000000000003E-3},{"$f":"MIN(OFFSET(Male!AH$18,'Male - Rev'!$A7-35,0),0.03999)","v":3.7000000000000002E-3},{"$f":"MIN(OFFSET(Male!AI$18,'Male - Rev'!$A7-35,0),0.03999)","v":2E-3},{"$f":"MIN(OFFSET(Male!AJ$18,'Male - Rev'!$A7-35,0),0.03999)","v":5.0000000000000001E-4},{"$f":"MIN(OFFSET(Male!AK$18,'Male - Rev'!$A7-35,0),0.03999)","v":-8.9999999999999998E-4},{"$f":"MIN(OFFSET(Male!AL$18,'Male - Rev'!$A7-35,0),0.03999)","v":-2.2000000000000001E-3},{"$f":"MIN(OFFSET(Male!AM$18,'Male - Rev'!$A7-35,0),0.03999)","v":-3.2000000000000002E-3},{"$f":"MIN(OFFSET(Male!AN$18,'Male - Rev'!$A7-35,0),0.03999)","v":-4.1000000000000003E-3},{"$f":"MIN(OFFSET(Male!AO$18,'Male - Rev'!$A7-35,0),0.03999)","v":-4.7000000000000002E-3},{"$f":"MIN(OFFSET(Male!AP$18,'Male - Rev'!$A7-35,0),0.03999)","v":-5.1999999999999998E-3},{"$f":"MIN(OFFSET(Male!AQ$18,'Male - Rev'!$A7-35,0),0.03999)","v":-5.4000000000000003E-3},{"$f":"MIN(OFFSET(Male!AR$18,'Male - Rev'!$A7-35,0),0.03999)","v":-5.3E-3},{"$f":"MIN(OFFSET(Male!AS$18,'Male - Rev'!$A7-35,0),0.03999)","v":-5.0000000000000001E-3},{"$f":"MIN(OFFSET(Male!AT$18,'Male - Rev'!$A7-35,0),0.03999)","v":-4.3E-3},{"$f":"MIN(OFFSET(Male!AU$18,'Male - Rev'!$A7-35,0),0.03999)","v":-3.3E-3},{"$f":"MIN(OFFSET(Male!AV$18,'Male - Rev'!$A7-35,0),0.03999)","v":-2.0999999999999999E-3},{"$f":"MIN(OFFSET(Male!AW$18,'Male - Rev'!$A7-35,0),0.03999)","v":-5.9999999999999995E-4},{"$f":"MIN(OFFSET(Male!AX$18,'Male - Rev'!$A7-35,0),0.03999)","v":1.1000000000000001E-3},{"$f":"MIN(OFFSET(Male!AY$18,'Male - Rev'!$A7-35,0),0.03999)","v":3.0000000000000001E-3},{"$f":"MIN(OFFSET(Male!AZ$18,'Male - Rev'!$A7-35,0),0.03999)","v":4.7999999999999996E-3},{"$f":"MIN(OFFSET(Male!BA$18,'Male - Rev'!$A7-35,0),0.03999)","v":6.6E-3},{"$f":"MIN(OFFSET(Male!BB$18,'Male - Rev'!$A7-35,0),0.03999)","v":8.3000000000000001E-3},{"$f":"MIN(OFFSET(Male!BC$18,'Male - Rev'!$A7-35,0),0.03999)","v":9.7000000000000003E-3},{"$f":"MIN(OFFSET(Male!BD$18,'Male - Rev'!$A7-35,0),0.03999)","v":1.0699999999999999E-2},{"$f":"MIN(OFFSET(Male!BE$18,'Male - Rev'!$A7-35,0),0.03999)","v":1.14E-2},{"$f":"MIN(OFFSET(Male!BF$18,'Male - Rev'!$A7-35,0),0.03999)","v":1.1599999999999999E-2},{"$f":"MIN(OFFSET(Male!BG$18,'Male - Rev'!$A7-35,0),0.03999)","v":1.15E-2},{"$f":"MIN(OFFSET(Male!BH$18,'Male - Rev'!$A7-35,0),0.03999)","v":1.0999999999999999E-2},{"$f":"MIN(OFFSET(Male!BI$18,'Male - Rev'!$A7-35,0),0.03999)","v":1.0200000000000001E-2},{"$f":"MIN(OFFSET(Male!BJ$18,'Male - Rev'!$A7-35,0),0.03999)","v":9.1999999999999998E-3},{"$f":"MIN(OFFSET(Male!BK$18,'Male - Rev'!$A7-35,0),0.03999)","v":8.0000000000000002E-3},{"$f":"MIN(OFFSET(Male!BL$18,'Male - Rev'!$A7-35,0),0.03999)","v":6.7999999999999996E-3},{"$f":"MIN(OFFSET(Male!BM$18,'Male - Rev'!$A7-35,0),0.03999)","v":5.4999999999999997E-3},{"$f":"MIN(OFFSET(Male!BN$18,'Male - Rev'!$A7-35,0),0.03999)","v":4.1999999999999997E-3},{"$f":"MIN(OFFSET(Male!BO$18,'Male - Rev'!$A7-35,0),0.03999)","v":4.1999999999999997E-3},{"$f":"MIN(OFFSET(Male!BP$18,'Male - Rev'!$A7-35,0),0.03999)","v":4.3E-3},{"$f":"MIN(OFFSET(Male!BQ$18,'Male - Rev'!$A7-35,0),0.03999)","v":4.5999999999999999E-3},{"$f":"MIN(OFFSET(Male!BR$18,'Male - Rev'!$A7-35,0),0.03999)","v":4.8999999999999998E-3},{"$f":"MIN(OFFSET(Male!BS$18,'Male - Rev'!$A7-35,0),0.03999)","v":5.4000000000000003E-3},{"$f":"MIN(OFFSET(Male!BT$18,'Male - Rev'!$A7-35,0),0.03999)","v":5.7999999999999996E-3},{"$f":"MIN(OFFSET(Male!BU$18,'Male - Rev'!$A7-35,0),0.03999)","v":6.3E-3},{"$f":"MIN(OFFSET(Male!BV$18,'Male - Rev'!$A7-35,0),0.03999)","v":6.7000000000000002E-3},{"$f":"MIN(OFFSET(Male!BW$18,'Male - Rev'!$A7-35,0),0.03999)","v":7.1000000000000004E-3},{"$f":"MIN(OFFSET(Male!BX$18,'Male - Rev'!$A7-35,0),0.03999)","v":7.4000000000000003E-3},{"$f":"MIN(OFFSET(Male!BY$18,'Male - Rev'!$A7-35,0),0.03999)","v":7.6E-3},{"$f":"MIN(OFFSET(Male!BZ$18,'Male - Rev'!$A7-35,0),0.03999)","v":7.7999999999999996E-3},{"$f":"MIN(OFFSET(Male!CA$18,'Male - Rev'!$A7-35,0),0.03999)","v":8.0000000000000002E-3},{"$f":"MIN(OFFSET(Male!CB$18,'Male - Rev'!$A7-35,0),0.03999)","v":8.3000000000000001E-3},{"$f":"MIN(OFFSET(Male!CC$18,'Male - Rev'!$A7-35,0),0.03999)","v":8.5000000000000006E-3},{"$f":"MIN(OFFSET(Male!CD$18,'Male - Rev'!$A7-35,0),0.03999)","v":8.6999999999999994E-3},{"$f":"MIN(OFFSET(Male!CE$18,'Male - Rev'!$A7-35,0),0.03999)","v":8.8000000000000005E-3},{"$f":"MIN(OFFSET(Male!CF$18,'Male - Rev'!$A7-35,0),0.03999)","v":8.8999999999999999E-3},{"$f":"MIN(OFFSET(Male!CG$18,'Male - Rev'!$A7-35,0),0.03999)","v":8.9999999999999993E-3},{"$f":"MIN(OFFSET(Male!CH$18,'Male - Rev'!$A7-35,0),0.03999)","v":9.1000000000000004E-3}]
[90,90,{"$f":"MIN(OFFSET(Male!B$18,'Male - Rev'!$A8-35,0),0.03999)","v":-4.8999999999999998E-3},{"$f":"MIN(OFFSET(Male!C$18,'Male - Rev'!$A8-35,0),0.03999)","v":-5.4000000000000003E-3},{"$f":"MIN(OFFSET(Male!D$18,'Male - Rev'!$A8-35,0),0.03999)","v":-5.7999999999999996E-3},{"$f":"MIN(OFFSET(Male!E$18,'Male - Rev'!$A8-35,0),0.03999)","v":-6.1999999999999998E-3},{"$f":"MIN(OFFSET(Male!F$18,'Male - Rev'!$A8-35,0),0.03999)","v":-6.6E-3},{"$f":"MIN(OFFSET(Male!G$18,'Male - Rev'!$A8-35,0),0.03999)","v":-6.7000000000000002E-3},{"$f":"MIN(OFFSET(Male!H$18,'Male - Rev'!$A8-35,0),0.03999)","v":-6.7000000000000002E-3},{"$f":"MIN(OFFSET(Male!I$18,'Male - Rev'!$A8-35,0),0.03999)","v":-6.4000000000000003E-3},{"$f":"MIN(OFFSET(Male!J$18,'Male - Rev'!$A8-35,0),0.03999)","v":-5.8999999999999999E-3},{"$f":"MIN(OFFSET(Male!K$18,'Male - Rev'!$A8-35,0),0.03999)","v":-5.0000000000000001E-3},{"$f":"MIN(OFFSET(Male!L$18,'Male - Rev'!$A8-35,0),0.03999)","v":-3.8999999999999998E-3},{"$f":"MIN(OFFSET(Male!M$18,'Male - Rev'!$A8-35,0),0.03999)","v":-2.5000000000000001E-3},{"$f":"MIN(OFFSET(Male!N$18,'Male - Rev'!$A8-35,0),0.03999)","v":-8.9999999999999998E-4},{"$f":"MIN(OFFSET(Male!O$18,'Male - Rev'!$A8-35,0),0.03999)","v":8.9999999999999998E-4},{"$f":"MIN(OFFSET(Male!P$18,'Male - Rev'!$A8-35,0),0.03999)","v":2.8E-3},{"$f":"MIN(OFFSET(Male!Q$18,'Male - Rev'!$A8-35,0),0.03999)","v":4.7000000000000002E-3},{"$f":"MIN(OFFSET(Male!R$18,'Male - Rev'!$A8-35,0),0.03999)","v":6.6E-3},{"$f":"MIN(OFFSET(Male!S$18,'Male - Rev'!$A8-35,0),0.03999)","v":8.3999999999999995E-3},{"$f":"MIN(OFFSET(Male!T$18,'Male - Rev'!$A8-35,0),0.03999)","v":0.01},{"$f":"MIN(OFFSET(Male!U$18,'Male - Rev'!$A8-35,0),0.03999)","v":1.1299999999999999E-2},{"$f":"MIN(OFFSET(Male!V$18,'Male - Rev'!$A8-35,0),0.03999)","v":1.24E-2},{"$f":"MIN(OFFSET(Male!W$18,'Male - Rev'!$A8-35,0),0.03999)","v":1.32E-2},{"$f":"MIN(OFFSET(Male!X$18,'Male - Rev'!$A8-35,0),0.03999)","v":1.38E-2},{"$f":"MIN(OFFSET(Male!Y$18,'Male - Rev'!$A8-35,0),0.03999)","v":1.3899999999999999E-2},{"$f":"MIN(OFFSET(Male!Z$18,'Male - Rev'!$A8-35,0),0.03999)","v":1.38E-2},{"$f":"MIN(OFFSET(Male!AA$18,'Male - Rev'!$A8-35,0),0.03999)","v":1.3299999999999999E-2},{"$f":"MIN(OFFSET(Male!AB$18,'Male - Rev'!$A8-35,0),0.03999)","v":1.2500000000000001E-2},{"$f":"MIN(OFFSET(Male!AC$18,'Male - Rev'!$A8-35,0),0.03999)","v":1.14E-2},{"$f":"MIN(OFFSET(Male!AD$18,'Male - Rev'!$A8-35,0),0.03999)","v":1.0200000000000001E-2},{"$f":"MIN(OFFSET(Male!AE$18,'Male - Rev'!$A8-35,0),0.03999)","v":8.6999999999999994E-3},{"$f":"MIN(OFFSET(Male!AF$18,'Male - Rev'!$A8-35,0),0.03999)","v":7.1000000000000004E-3},{"$f":"MIN(OFFSET(Male!AG$18,'Male - Rev'!$A8-35,0),0.03999)","v":5.4000000000000003E-3},{"$f":"MIN(OFFSET(Male!AH$18,'Male - Rev'!$A8-35,0),0.03999)","v":3.8E-3},{"$f":"MIN(OFFSET(Male!AI$18,'Male - Rev'!$A8-35,0),0.03999)","v":2.3E-3},{"$f":"MIN(OFFSET(Male!AJ$18,'Male - Rev'!$A8-35,0),0.03999)","v":8.0000000000000004E-4},{"$f":"MIN(OFFSET(Male!AK$18,'Male - Rev'!$A8-35,0),0.03999)","v":-4.0000000000000002E-4},{"$f":"MIN(OFFSET(Male!AL$18,'Male - Rev'!$A8-35,0),0.03999)","v":-1.5E-3},{"$f":"MIN(OFFSET(Male!AM$18,'Male - Rev'!$A8-35,0),0.03999)","v":-2.3999999999999998E-3},{"$f":"MIN(OFFSET(Male!AN$18,'Male - Rev'!$A8-35,0),0.03999)","v":-3.2000000000000002E-3},{"$f":"MIN(OFFSET(Male!AO$18,'Male - Rev'!$A8-35,0),0.03999)","v":-3.7000000000000002E-3},{"$f":"MIN(OFFSET(Male!AP$18,'Male - Rev'!$A8-35,0),0.03999)","v":-4.0000000000000001E-3},{"$f":"MIN(OFFSET(Male!AQ$18,'Male - Rev'!$A8-35,0),0.03999)","v":-4.1999999999999997E-3},{"$f":"MIN(OFFSET(Male!AR$18,'Male - Rev'!$A8-35,0),0.03999)","v":-4.1000000000000003E-3},{"$f":"MIN(OFFSET(Male!AS$18,'Male - Rev'!$A8-35,0),0.03999)","v":-3.7000000000000002E-3},{"$f":"MIN(OFFSET(Male!AT$18,'Male - Rev'!$A8-35,0),0.03999)","v":-3.0000000000000001E-3},{"$f":"MIN(OFFSET(Male!AU$18,'Male - Rev'!$A8-35,0),0.03999)","v":-2E-3},{"$f":"MIN(OFFSET(Male!AV$18,'Male - Rev'!$A8-35,0),0.03999)","v":-6.9999999999999999E-4},{"$f":"MIN(OFFSET(Male!AW$18,'Male - Rev'!$A8-35,0),0.03999)","v":8.9999999999999998E-4},{"$f":"MIN(OFFSET(Male!AX$18,'Male - Rev'!$A8-35,0),0.03999)","v":2.5999999999999999E-3},{"$f":"MIN(OFFSET(Male!AY$18,'Male - Rev'!$A8-35,0),0.03999)","v":4.4999999999999997E-3},{"$f":"MIN(OFFSET(Male!AZ$18,'Male - Rev'!$A8-35,0),0.03999)","v":6.4000000000000003E-3},{"$f":"MIN(OFFSET(Male!BA$18,'Male - Rev'!$A8-35,0),0.03999)","v":8.3000000000000001E-3},{"$f":"MIN(OFFSET(Male!BB$18,'Male - Rev'!$A8-35,0),0.03999)","v":9.9000000000000008E-3},{"$f":"MIN(OFFSET(Male!BC$18,'Male - Rev'!$A8-35,0),0.03999)","v":1.1299999999999999E-2},{"$f":"MIN(OFFSET(Male!BD$18,'Male - Rev'!$A8-35,0),0.03999)","v":1.2200000000000001E-2},{"$f":"MIN(OFFSET(Male!BE$18,'Male - Rev'!$A8-35,0),0.03999)","v":1.2800000000000001E-2},{"$f":"MIN(OFFSET(Male!BF$18,'Male - Rev'!$A8-35,0),0.03999)","v":1.29E-2},{"$f":"MIN(OFFSET(Male!BG$18,'Male - Rev'!$A8-35,0),0.03999)","v":1.2500000000000001E-2},{"$f":"MIN(OFFSET(Male!BH$18,'Male - Rev'!$A8-35,0),0.03999)","v":1.1900000000000001E-2},{"$f":"MIN(OFFSET(Male!BI$18,'Male - Rev'!$A8-35,0),0.03999)","v":1.09E-2},{"$f":"MIN(OFFSET(Male!BJ$18,'Male - Rev'!$A8-35,0),0.03999)","v":9.7000000000000003E-3},{"$f":"MIN(OFFSET(Male!BK$18,'Male - Rev'!$A8-35,0),0.03999)","v":8.3000000000000001E-3},{"$f":"MIN(OFFSET(Male!BL$18,'Male - Rev'!$A8-35,0),0.03999)","v":6.8999999999999999E-3},{"$f":"MIN(OFFSET(Male!BM$18,'Male - Rev'!$A8-35,0),0.03999)","v":5.4999999999999997E-3},{"$f":"MIN(OFFSET(Male!BN$18,'Male - Rev'!$A8-35,0),0.03999)","v":4.0000000000000001E-3},{"$f":"MIN(OFFSET(Male!BO$18,'Male - Rev'!$A8-35,0),0.03999)","v":4.0000000000000001E-3},{"$f":"MIN(OFFSET(Male!BP$18,'Male - Rev'!$A8-35,0),0.03999)","v":4.1999999999999997E-3},{"$f":"MIN(OFFSET(Male!BQ$18,'Male - Rev'!$A8-35,0),0.03999)","v":4.4999999999999997E-3},{"$f":"MIN(OFFSET(Male!BR$18,'Male - Rev'!$A8-35,0),0.03999)","v":5.0000000000000001E-3},{"$f":"MIN(OFFSET(Male!BS$18,'Male - Rev'!$A8-35,0),0.03999)","v":5.4999999999999997E-3},{"$f":"MIN(OFFSET(Male!BT$18,'Male - Rev'!$A8-35,0),0.03999)","v":6.0000000000000001E-3},{"$f":"MIN(OFFSET(Male!BU$18,'Male - Rev'!$A8-35,0),0.03999)","v":6.4999999999999997E-3},{"$f":"MIN(OFFSET(Male!BV$18,'Male - Rev'!$A8-35,0),0.03999)","v":7.0000000000000001E-3},{"$f":"MIN(OFFSET(Male!BW$18,'Male - Rev'!$A8-35,0),0.03999)","v":7.3000000000000001E-3},{"$f":"MIN(OFFSET(Male!BX$18,'Male - Rev'!$A8-35,0),0.03999)","v":7.6E-3},{"$f":"MIN(OFFSET(Male!BY$18,'Male - Rev'!$A8-35,0),0.03999)","v":7.7999999999999996E-3},{"$f":"MIN(OFFSET(Male!BZ$18,'Male - Rev'!$A8-35,0),0.03999)","v":8.0999999999999996E-3},{"$f":"MIN(OFFSET(Male!CA$18,'Male - Rev'!$A8-35,0),0.03999)","v":8.3000000000000001E-3},{"$f":"MIN(OFFSET(Male!CB$18,'Male - Rev'!$A8-35,0),0.03999)","v":8.5000000000000006E-3},{"$f":"MIN(OFFSET(Male!CC$18,'Male - Rev'!$A8-35,0),0.03999)","v":8.8000000000000005E-3},{"$f":"MIN(OFFSET(Male!CD$18,'Male - Rev'!$A8-35,0),0.03999)","v":8.8999999999999999E-3},{"$f":"MIN(OFFSET(Male!CE$18,'Male - Rev'!$A8-35,0),0.03999)","v":8.9999999999999993E-3},{"$f":"MIN(OFFSET(Male!CF$18,'Male - Rev'!$A8-35,0),0.03999)","v":9.1000000000000004E-3},{"$f":"MIN(OFFSET(Male!CG$18,'Male - Rev'!$A8-35,0),0.03999)","v":9.1999999999999998E-3},{"$f":"MIN(OFFSET(Male!CH$18,'Male - Rev'!$A8-35,0),0.03999)","v":9.2999999999999992E-3}]
[89,89,{"$f":"MIN(OFFSET(Male!B$18,'Male - Rev'!$A9-35,0),0.03999)","v":-2.7000000000000001E-3},{"$f":"MIN(OFFSET(Male!C$18,'Male - Rev'!$A9-35,0),0.03999)","v":-3.3999999999999998E-3},{"$f":"MIN(OFFSET(Male!D$18,'Male - Rev'!$A9-35,0),0.03999)","v":-4.1000000000000003E-3},{"$f":"MIN(OFFSET(Male!E$18,'Male - Rev'!$A9-35,0),0.03999)","v":-4.7000000000000002E-3},{"$f":"MIN(OFFSET(Male!F$18,'Male - Rev'!$A9-35,0),0.03999)","v":-5.3E-3},{"$f":"MIN(OFFSET(Male!G$18,'Male - Rev'!$A9-35,0),0.03999)","v":-5.7000000000000002E-3},{"$f":"MIN(OFFSET(Male!H$18,'Male - Rev'!$A9-35,0),0.03999)","v":-5.7999999999999996E-3},{"$f":"MIN(OFFSET(Male!I$18,'Male - Rev'!$A9-35,0),0.03999)","v":-5.7999999999999996E-3},{"$f":"MIN(OFFSET(Male!J$18,'Male - Rev'!$A9-35,0),0.03999)","v":-5.4000000000000003E-3},{"$f":"MIN(OFFSET(Male!K$18,'Male - Rev'!$A9-35,0),0.03999)","v":-4.7000000000000002E-3},{"$f":"MIN(OFFSET(Male!L$18,'Male - Rev'!$A9-35,0),0.03999)","v":-3.8E-3},{"$f":"MIN(OFFSET(Male!M$18,'Male - Rev'!$A9-35,0),0.03999)","v":-2.5000000000000001E-3},{"$f":"MIN(OFFSET(Male!N$18,'Male - Rev'!$A9-35,0),0.03999)","v":-1E-3},{"$f":"MIN(OFFSET(Male!O$18,'Male - Rev'!$A9-35,0),0.03999)","v":8.0000000000000004E-4},{"$f":"MIN(OFFSET(Male!P$18,'Male - Rev'!$A9-35,0),0.03999)","v":2.5999999999999999E-3},{"$f":"MIN(OFFSET(Male!Q$18,'Male - Rev'!$A9-35,0),0.03999)","v":4.4999999999999997E-3},{"$f":"MIN(OFFSET(Male!R$18,'Male - Rev'!$A9-35,0),0.03999)","v":6.4000000000000003E-3},{"$f":"MIN(OFFSET(Male!S$18,'Male - Rev'!$A9-35,0),0.03999)","v":8.0999999999999996E-3},{"$f":"MIN(OFFSET(Male!T$18,'Male - Rev'!$A9-35,0),0.03999)","v":9.7999999999999997E-3},{"$f":"MIN(OFFSET(Male!U$18,'Male - Rev'!$A9-35,0),0.03999)","v":1.12E-2},{"$f":"MIN(OFFSET(Male!V$18,'Male - Rev'!$A9-35,0),0.03999)","v":1.23E-2},{"$f":"MIN(OFFSET(Male!W$18,'Male - Rev'!$A9-35,0),0.03999)","v":1.32E-2},{"$f":"MIN(OFFSET(Male!X$18,'Male - Rev'!$A9-35,0),0.03999)","v":1.38E-2},{"$f":"MIN(OFFSET(Male!Y$18,'Male - Rev'!$A9-35,0),0.03999)","v":1.4E-2},{"$f":"MIN(OFFSET(Male!Z$18,'Male - Rev'!$A9-35,0),0.03999)","v":1.3899999999999999E-2},{"$f":"MIN(OFFSET(Male!AA$18,'Male - Rev'!$A9-35,0),0.03999)","v":1.34E-2},{"$f":"MIN(OFFSET(Male!AB$18,'Male - Rev'!$A9-35,0),0.03999)","v":1.26E-2},{"$f":"MIN(OFFSET(Male!AC$18,'Male - Rev'!$A9-35,0),0.03999)","v":1.15E-2},{"$f":"MIN(OFFSET(Male!AD$18,'Male - Rev'!$A9-35,0),0.03999)","v":1.0200000000000001E-2},{"$f":"MIN(OFFSET(Male!AE$18,'Male - Rev'!$A9-35,0),0.03999)","v":8.6999999999999994E-3},{"$f":"MIN(OFFSET(Male!AF$18,'Male - Rev'!$A9-35,0),0.03999)","v":7.1000000000000004E-3},{"$f":"MIN(OFFSET(Male!AG$18,'Male - Rev'!$A9-35,0),0.03999)","v":5.4999999999999997E-3},{"$f":"MIN(OFFSET(Male!AH$18,'Male - Rev'!$A9-35,0),0.03999)","v":3.8999999999999998E-3},{"$f":"MIN(OFFSET(Male!AI$18,'Male - Rev'!$A9-35,0),0.03999)","v":2.5000000000000001E-3},{"$f":"MIN(OFFSET(Male!AJ$18,'Male - Rev'!$A9-35,0),0.03999)","v":1.1999999999999999E-3},{"$f":"MIN(OFFSET(Male!AK$18,'Male - Rev'!$A9-35,0),0.03999)","v":1E-4},{"$f":"MIN(OFFSET(Male!AL$18,'Male - Rev'!$A9-35,0),0.03999)","v":-8.0000000000000004E-4},{"$f":"MIN(OFFSET(Male!AM$18,'Male - Rev'!$A9-35,0),0.03999)","v":-1.6000000000000001E-3},{"$f":"MIN(OFFSET(Male!AN$18,'Male - Rev'!$A9-35,0),0.03999)","v":-2.0999999999999999E-3},{"$f":"MIN(OFFSET(Male!AO$18,'Male - Rev'!$A9-35,0),0.03999)","v":-2.5000000000000001E-3},{"$f":"MIN(OFFSET(Male!AP$18,'Male - Rev'!$A9-35,0),0.03999)","v":-2.8E-3},{"$f":"MIN(OFFSET(Male!AQ$18,'Male - Rev'!$A9-35,0),0.03999)","v":-2.8999999999999998E-3},{"$f":"MIN(OFFSET(Male!AR$18,'Male - Rev'!$A9-35,0),0.03999)","v":-2.8E-3},{"$f":"MIN(OFFSET(Male!AS$18,'Male - Rev'!$A9-35,0),0.03999)","v":-2.3E-3},{"$f":"MIN(OFFSET(Male!AT$18,'Male - Rev'!$A9-35,0),0.03999)","v":-1.6000000000000001E-3},{"$f":"MIN(OFFSET(Male!AU$18,'Male - Rev'!$A9-35,0),0.03999)","v":-5.9999999999999995E-4},{"$f":"MIN(OFFSET(Male!AV$18,'Male - Rev'!$A9-35,0),0.03999)","v":6.9999999999999999E-4},{"$f":"MIN(OFFSET(Male!AW$18,'Male - Rev'!$A9-35,0),0.03999)","v":2.3E-3},{"$f":"MIN(OFFSET(Male!AX$18,'Male - Rev'!$A9-35,0),0.03999)","v":4.1000000000000003E-3},{"$f":"MIN(OFFSET(Male!AY$18,'Male - Rev'!$A9-35,0),0.03999)","v":6.0000000000000001E-3},{"$f":"MIN(OFFSET(Male!AZ$18,'Male - Rev'!$A9-35,0),0.03999)","v":7.9000000000000008E-3},{"$f":"MIN(OFFSET(Male!BA$18,'Male - Rev'!$A9-35,0),0.03999)","v":9.7999999999999997E-3},{"$f":"MIN(OFFSET(Male!BB$18,'Male - Rev'!$A9-35,0),0.03999)","v":1.14E-2},{"$f":"MIN(OFFSET(Male!BC$18,'Male - Rev'!$A9-35,0),0.03999)","v":1.2800000000000001E-2},{"$f":"MIN(OFFSET(Male!BD$18,'Male - Rev'!$A9-35,0),0.03999)","v":1.3599999999999999E-2},{"$f":"MIN(OFFSET(Male!BE$18,'Male - Rev'!$A9-35,0),0.03999)","v":1.41E-2},{"$f":"MIN(OFFSET(Male!BF$18,'Male - Rev'!$A9-35,0),0.03999)","v":1.4E-2},{"$f":"MIN(OFFSET(Male!BG$18,'Male - Rev'!$A9-35,0),0.03999)","v":1.35E-2},{"$f":"MIN(OFFSET(Male!BH$18,'Male - Rev'!$A9-35,0),0.03999)","v":1.2699999999999999E-2},{"$f":"MIN(OFFSET(Male!BI$18,'Male - Rev'!$A9-35,0),0.03999)","v":1.15E-2},{"$f":"MIN(OFFSET(Male!BJ$18,'Male - Rev'!$A9-35,0),0.03999)","v":1.0200000000000001E-2},{"$f":"MIN(OFFSET(Male!BK$18,'Male - Rev'!$A9-35,0),0.03999)","v":8.6999999999999994E-3},{"$f":"MIN(OFFSET(Male!BL$18,'Male - Rev'!$A9-35,0),0.03999)","v":7.1000000000000004E-3},{"$f":"MIN(OFFSET(Male!BM$18,'Male - Rev'!$A9-35,0),0.03999)","v":5.4999999999999997E-3},{"$f":"MIN(OFFSET(Male!BN$18,'Male - Rev'!$A9-35,0),0.03999)","v":3.8999999999999998E-3},{"$f":"MIN(OFFSET(Male!BO$18,'Male - Rev'!$A9-35,0),0.03999)","v":4.0000000000000001E-3},{"$f":"MIN(OFFSET(Male!BP$18,'Male - Rev'!$A9-35,0),0.03999)","v":4.1999999999999997E-3},{"$f":"MIN(OFFSET(Male!BQ$18,'Male - Rev'!$A9-35,0),0.03999)","v":4.5999999999999999E-3},{"$f":"MIN(OFFSET(Male!BR$18,'Male - Rev'!$A9-35,0),0.03999)","v":5.1000000000000004E-3},{"$f":"MIN(OFFSET(Male!BS$18,'Male - Rev'!$A9-35,0),0.03999)","v":5.5999999999999999E-3},{"$f":"MIN(OFFSET(Male!BT$18,'Male - Rev'!$A9-35,0),0.03999)","v":6.1999999999999998E-3},{"$f":"MIN(OFFSET(Male!BU$18,'Male - Rev'!$A9-35,0),0.03999)","v":6.7000000000000002E-3},{"$f":"MIN(OFFSET(Male!BV$18,'Male - Rev'!$A9-35,0),0.03999)","v":7.1999999999999998E-3},{"$f":"MIN(OFFSET(Male!BW$18,'Male - Rev'!$A9-35,0),0.03999)","v":7.6E-3},{"$f":"MIN(OFFSET(Male!BX$18,'Male - Rev'!$A9-35,0),0.03999)","v":7.9000000000000008E-3},{"$f":"MIN(OFFSET(Male!BY$18,'Male - Rev'!$A9-35,0),0.03999)","v":8.0999999999999996E-3},{"$f":"MIN(OFFSET(Male!BZ$18,'Male - Rev'!$A9-35,0),0.03999)","v":8.3000000000000001E-3},{"$f":"MIN(OFFSET(Male!CA$18,'Male - Rev'!$A9-35,0),0.03999)","v":8.6E-3},{"$f":"MIN(OFFSET(Male!CB$18,'Male - Rev'!$A9-35,0),0.03999)","v":8.8000000000000005E-3},{"$f":"MIN(OFFSET(Male!CC$18,'Male - Rev'!$A9-35,0),0.03999)","v":8.8999999999999999E-3},{"$f":"MIN(OFFSET(Male!CD$18,'Male - Rev'!$A9-35,0),0.03999)","v":8.9999999999999993E-3},{"$f":"MIN(OFFSET(Male!CE$18,'Male - Rev'!$A9-35,0),0.03999)","v":9.1000000000000004E-3},{"$f":"MIN(OFFSET(Male!CF$18,'Male - Rev'!$A9-35,0),0.03999)","v":9.1999999999999998E-3},{"$f":"MIN(OFFSET(Male!CG$18,'Male - Rev'!$A9-35,0),0.03999)","v":9.2999999999999992E-3},{"$f":"MIN(OFFSET(Male!CH$18,'Male - Rev'!$A9-35,0),0.03999)","v":9.4000000000000004E-3}]
[88,88,{"$f":"MIN(OFFSET(Male!B$18,'Male - Rev'!$A10-35,0),0.03999)","v":-6.9999999999999999E-4},{"$f":"MIN(OFFSET(Male!C$18,'Male - Rev'!$A10-35,0),0.03999)","v":-1.6000000000000001E-3},{"$f":"MIN(OFFSET(Male!D$18,'Male - Rev'!$A10-35,0),0.03999)","v":-2.5000000000000001E-3},{"$f":"MIN(OFFSET(Male!E$18,'Male - Rev'!$A10-35,0),0.03999)","v":-3.3E-3},{"$f":"MIN(OFFSET(Male!F$18,'Male - Rev'!$A10-35,0),0.03999)","v":-4.1000000000000003E-3},{"$f":"MIN(OFFSET(Male!G$18,'Male - Rev'!$A10-35,0),0.03999)","v":-4.5999999999999999E-3},{"$f":"MIN(OFFSET(Male!H$18,'Male - Rev'!$A10-35,0),0.03999)","v":-5.0000000000000001E-3},{"$f":"MIN(OFFSET(Male!I$18,'Male - Rev'!$A10-35,0),0.03999)","v":-5.1000000000000004E-3},{"$f":"MIN(OFFSET(Male!J$18,'Male - Rev'!$A10-35,0),0.03999)","v":-4.8999999999999998E-3},{"$f":"MIN(OFFSET(Male!K$18,'Male - Rev'!$A10-35,0),0.03999)","v":-4.4000000000000003E-3},{"$f":"MIN(OFFSET(Male!L$18,'Male - Rev'!$A10-35,0),0.03999)","v":-3.5000000000000001E-3},{"$f":"MIN(OFFSET(Male!M$18,'Male - Rev'!$A10-35,0),0.03999)","v":-2.3999999999999998E-3},{"$f":"MIN(OFFSET(Male!N$18,'Male - Rev'!$A10-35,0),0.03999)","v":-1E-3},{"$f":"MIN(OFFSET(Male!O$18,'Male - Rev'!$A10-35,0),0.03999)","v":5.9999999999999995E-4},{"$f":"MIN(OFFSET(Male!P$18,'Male - Rev'!$A10-35,0),0.03999)","v":2.3999999999999998E-3},{"$f":"MIN(OFFSET(Male!Q$18,'Male - Rev'!$A10-35,0),0.03999)","v":4.1999999999999997E-3},{"$f":"MIN(OFFSET(Male!R$18,'Male - Rev'!$A10-35,0),0.03999)","v":6.1000000000000004E-3},{"$f":"MIN(OFFSET(Male!S$18,'Male - Rev'!$A10-35,0),0.03999)","v":7.9000000000000008E-3},{"$f":"MIN(OFFSET(Male!T$18,'Male - Rev'!$A10-35,0),0.03999)","v":9.4999999999999998E-3},{"$f":"MIN(OFFSET(Male!U$18,'Male - Rev'!$A10-35,0),0.03999)","v":1.09E-2},{"$f":"MIN(OFFSET(Male!V$18,'Male - Rev'!$A10-35,0),0.03999)","v":1.2200000000000001E-2},{"$f":"MIN(OFFSET(Male!W$18,'Male - Rev'!$A10-35,0),0.03999)","v":1.3100000000000001E-2},{"$f":"MIN(OFFSET(Male!X$18,'Male - Rev'!$A10-35,0),0.03999)","v":1.37E-2},{"$f":"MIN(OFFSET(Male!Y$18,'Male - Rev'!$A10-35,0),0.03999)","v":1.4E-2},{"$f":"MIN(OFFSET(Male!Z$18,'Male - Rev'!$A10-35,0),0.03999)","v":1.3899999999999999E-2},{"$f":"MIN(OFFSET(Male!AA$18,'Male - Rev'!$A10-35,0),0.03999)","v":1.34E-2},{"$f":"MIN(OFFSET(Male!AB$18,'Male - Rev'!$A10-35,0),0.03999)","v":1.26E-2},{"$f":"MIN(OFFSET(Male!AC$18,'Male - Rev'!$A10-35,0),0.03999)","v":1.15E-2},{"$f":"MIN(OFFSET(Male!AD$18,'Male - Rev'!$A10-35,0),0.03999)","v":1.01E-2},{"$f":"MIN(OFFSET(Male!AE$18,'Male - Rev'!$A10-35,0),0.03999)","v":8.6E-3},{"$f":"MIN(OFFSET(Male!AF$18,'Male - Rev'!$A10-35,0),0.03999)","v":7.1000000000000004E-3},{"$f":"MIN(OFFSET(Male!AG$18,'Male - Rev'!$A10-35,0),0.03999)","v":5.4999999999999997E-3},{"$f":"MIN(OFFSET(Male!AH$18,'Male - Rev'!$A10-35,0),0.03999)","v":4.0000000000000001E-3},{"$f":"MIN(OFFSET(Male!AI$18,'Male - Rev'!$A10-35,0),0.03999)","v":2.7000000000000001E-3},{"$f":"MIN(OFFSET(Male!AJ$18,'Male - Rev'!$A10-35,0),0.03999)","v":1.6000000000000001E-3},{"$f":"MIN(OFFSET(Male!AK$18,'Male - Rev'!$A10-35,0),0.03999)","v":6.9999999999999999E-4},{"$f":"MIN(OFFSET(Male!AL$18,'Male - Rev'!$A10-35,0),0.03999)","v":-1E-4},{"$f":"MIN(OFFSET(Male!AM$18,'Male - Rev'!$A10-35,0),0.03999)","v":-5.9999999999999995E-4},{"$f":"MIN(OFFSET(Male!AN$18,'Male - Rev'!$A10-35,0),0.03999)","v":-1E-3},{"$f":"MIN(OFFSET(Male!AO$18,'Male - Rev'!$A10-35,0),0.03999)","v":-1.2999999999999999E-3},{"$f":"MIN(OFFSET(Male!AP$18,'Male - Rev'!$A10-35,0),0.03999)","v":-1.5E-3},{"$f":"MIN(OFFSET(Male!AQ$18,'Male - Rev'!$A10-35,0),0.03999)","v":-1.5E-3},{"$f":"MIN(OFFSET(Male!AR$18,'Male - Rev'!$A10-35,0),0.03999)","v":-1.4E-3},{"$f":"MIN(OFFSET(Male!AS$18,'Male - Rev'!$A10-35,0),0.03999)","v":-8.9999999999999998E-4},{"$f":"MIN(OFFSET(Male!AT$18,'Male - Rev'!$A10-35,0),0.03999)","v":-2.0000000000000001E-4},{"$f":"MIN(OFFSET(Male!AU$18,'Male - Rev'!$A10-35,0),0.03999)","v":8.0000000000000004E-4},{"$f":"MIN(OFFSET(Male!AV$18,'Male - Rev'!$A10-35,0),0.03999)","v":2.0999999999999999E-3},{"$f":"MIN(OFFSET(Male!AW$18,'Male - Rev'!$A10-35,0),0.03999)","v":3.5999999999999999E-3},{"$f":"MIN(OFFSET(Male!AX$18,'Male - Rev'!$A10-35,0),0.03999)","v":5.4999999999999997E-3},{"$f":"MIN(OFFSET(Male!AY$18,'Male - Rev'!$A10-35,0),0.03999)","v":7.4000000000000003E-3},{"$f":"MIN(OFFSET(Male!AZ$18,'Male - Rev'!$A10-35,0),0.03999)","v":9.4000000000000004E-3},{"$f":"MIN(OFFSET(Male!BA$18,'Male - Rev'!$A10-35,0),0.03999)","v":1.12E-2},{"$f":"MIN(OFFSET(Male!BB$18,'Male - Rev'!$A10-35,0),0.03999)","v":1.29E-2},{"$f":"MIN(OFFSET(Male!BC$18,'Male - Rev'!$A10-35,0),0.03999)","v":1.41E-2},{"$f":"MIN(OFFSET(Male!BD$18,'Male - Rev'!$A10-35,0),0.03999)","v":1.4999999999999999E-2},{"$f":"MIN(OFFSET(Male!BE$18,'Male - Rev'!$A10-35,0),0.03999)","v":1.5299999999999999E-2},{"$f":"MIN(OFFSET(Male!BF$18,'Male - Rev'!$A10-35,0),0.03999)","v":1.5100000000000001E-2},{"$f":"MIN(OFFSET(Male!BG$18,'Male - Rev'!$A10-35,0),0.03999)","v":1.4500000000000001E-2},{"$f":"MIN(OFFSET(Male!BH$18,'Male - Rev'!$A10-35,0),0.03999)","v":1.35E-2},{"$f":"MIN(OFFSET(Male!BI$18,'Male - Rev'!$A10-35,0),0.03999)","v":1.2200000000000001E-2},{"$f":"MIN(OFFSET(Male!BJ$18,'Male - Rev'!$A10-35,0),0.03999)","v":1.0699999999999999E-2},{"$f":"MIN(OFFSET(Male!BK$18,'Male - Rev'!$A10-35,0),0.03999)","v":8.9999999999999993E-3},{"$f":"MIN(OFFSET(Male!BL$18,'Male - Rev'!$A10-35,0),0.03999)","v":7.3000000000000001E-3},{"$f":"MIN(OFFSET(Male!BM$18,'Male - Rev'!$A10-35,0),0.03999)","v":5.5999999999999999E-3},{"$f":"MIN(OFFSET(Male!BN$18,'Male - Rev'!$A10-35,0),0.03999)","v":3.8999999999999998E-3},{"$f":"MIN(OFFSET(Male!BO$18,'Male - Rev'!$A10-35,0),0.03999)","v":4.0000000000000001E-3},{"$f":"MIN(OFFSET(Male!BP$18,'Male - Rev'!$A10-35,0),0.03999)","v":4.3E-3},{"$f":"MIN(OFFSET(Male!BQ$18,'Male - Rev'!$A10-35,0),0.03999)","v":4.7000000000000002E-3},{"$f":"MIN(OFFSET(Male!BR$18,'Male - Rev'!$A10-35,0),0.03999)","v":5.1999999999999998E-3},{"$f":"MIN(OFFSET(Male!BS$18,'Male - Rev'!$A10-35,0),0.03999)","v":5.7999999999999996E-3},{"$f":"MIN(OFFSET(Male!BT$18,'Male - Rev'!$A10-35,0),0.03999)","v":6.4000000000000003E-3},{"$f":"MIN(OFFSET(Male!BU$18,'Male - Rev'!$A10-35,0),0.03999)","v":6.8999999999999999E-3},{"$f":"MIN(OFFSET(Male!BV$18,'Male - Rev'!$A10-35,0),0.03999)","v":7.4000000000000003E-3},{"$f":"MIN(OFFSET(Male!BW$18,'Male - Rev'!$A10-35,0),0.03999)","v":7.7999999999999996E-3},{"$f":"MIN(OFFSET(Male!BX$18,'Male - Rev'!$A10-35,0),0.03999)","v":8.0999999999999996E-3},{"$f":"MIN(OFFSET(Male!BY$18,'Male - Rev'!$A10-35,0),0.03999)","v":8.3999999999999995E-3},{"$f":"MIN(OFFSET(Male!BZ$18,'Male - Rev'!$A10-35,0),0.03999)","v":8.6E-3},{"$f":"MIN(OFFSET(Male!CA$18,'Male - Rev'!$A10-35,0),0.03999)","v":8.8000000000000005E-3},{"$f":"MIN(OFFSET(Male!CB$18,'Male - Rev'!$A10-35,0),0.03999)","v":8.8999999999999999E-3},{"$f":"MIN(OFFSET(Male!CC$18,'Male - Rev'!$A10-35,0),0.03999)","v":8.9999999999999993E-3},{"$f":"MIN(OFFSET(Male!CD$18,'Male - Rev'!$A10-35,0),0.03999)","v":9.1000000000000004E-3},{"$f":"MIN(OFFSET(Male!CE$18,'Male - Rev'!$A10-35,0),0.03999)","v":9.1999999999999998E-3},{"$f":"MIN(OFFSET(Male!CF$18,'Male - Rev'!$A10-35,0),0.03999)","v":9.2999999999999992E-3},{"$f":"MIN(OFFSET(Male!CG$18,'Male - Rev'!$A10-35,0),0.03999)","v":9.4999999999999998E-3},{"$f":"MIN(OFFSET(Male!CH$18,'Male - Rev'!$A10-35,0),0.03999)","v":9.5999999999999992E-3}]
[87,87,{"$f":"MIN(OFFSET(Male!B$18,'Male - Rev'!$A11-35,0),0.03999)","v":1E-3},{"$f":"MIN(OFFSET(Male!C$18,'Male - Rev'!$A11-35,0),0.03999)","v":0},{"$f":"MIN(OFFSET(Male!D$18,'Male - Rev'!$A11-35,0),0.03999)","v":-1E-3},{"$f":"MIN(OFFSET(Male!E$18,'Male - Rev'!$A11-35,0),0.03999)","v":-2E-3},{"$f":"MIN(OFFSET(Male!F$18,'Male - Rev'!$A11-35,0),0.03999)","v":-2.8999999999999998E-3},{"$f":"MIN(OFFSET(Male!G$18,'Male - Rev'!$A11-35,0),0.03999)","v":-3.5999999999999999E-3},{"$f":"MIN(OFFSET(Male!H$18,'Male - Rev'!$A11-35,0),0.03999)","v":-4.1000000000000003E-3},{"$f":"MIN(OFFSET(Male!I$18,'Male - Rev'!$A11-35,0),0.03999)","v":-4.3E-3},{"$f":"MIN(OFFSET(Male!J$18,'Male - Rev'!$A11-35,0),0.03999)","v":-4.3E-3},{"$f":"MIN(OFFSET(Male!K$18,'Male - Rev'!$A11-35,0),0.03999)","v":-3.8999999999999998E-3},{"$f":"MIN(OFFSET(Male!L$18,'Male - Rev'!$A11-35,0),0.03999)","v":-3.3E-3},{"$f":"MIN(OFFSET(Male!M$18,'Male - Rev'!$A11-35,0),0.03999)","v":-2.3E-3},{"$f":"MIN(OFFSET(Male!N$18,'Male - Rev'!$A11-35,0),0.03999)","v":-1E-3},{"$f":"MIN(OFFSET(Male!O$18,'Male - Rev'!$A11-35,0),0.03999)","v":5.0000000000000001E-4},{"$f":"MIN(OFFSET(Male!P$18,'Male - Rev'!$A11-35,0),0.03999)","v":2.2000000000000001E-3},{"$f":"MIN(OFFSET(Male!Q$18,'Male - Rev'!$A11-35,0),0.03999)","v":4.0000000000000001E-3},{"$f":"MIN(OFFSET(Male!R$18,'Male - Rev'!$A11-35,0),0.03999)","v":5.7000000000000002E-3},{"$f":"MIN(OFFSET(Male!S$18,'Male - Rev'!$A11-35,0),0.03999)","v":7.4999999999999997E-3},{"$f":"MIN(OFFSET(Male!T$18,'Male - Rev'!$A11-35,0),0.03999)","v":9.1999999999999998E-3},{"$f":"MIN(OFFSET(Male!U$18,'Male - Rev'!$A11-35,0),0.03999)","v":1.0699999999999999E-2},{"$f":"MIN(OFFSET(Male!V$18,'Male - Rev'!$A11-35,0),0.03999)","v":1.2E-2},{"$f":"MIN(OFFSET(Male!W$18,'Male - Rev'!$A11-35,0),0.03999)","v":1.2999999999999999E-2},{"$f":"MIN(OFFSET(Male!X$18,'Male - Rev'!$A11-35,0),0.03999)","v":1.37E-2},{"$f":"MIN(OFFSET(Male!Y$18,'Male - Rev'!$A11-35,0),0.03999)","v":1.4E-2},{"$f":"MIN(OFFSET(Male!Z$18,'Male - Rev'!$A11-35,0),0.03999)","v":1.4E-2},{"$f":"MIN(OFFSET(Male!AA$18,'Male - Rev'!$A11-35,0),0.03999)","v":1.35E-2},{"$f":"MIN(OFFSET(Male!AB$18,'Male - Rev'!$A11-35,0),0.03999)","v":1.26E-2},{"$f":"MIN(OFFSET(Male!AC$18,'Male - Rev'!$A11-35,0),0.03999)","v":1.15E-2},{"$f":"MIN(OFFSET(Male!AD$18,'Male - Rev'!$A11-35,0),0.03999)","v":1.01E-2},{"$f":"MIN(OFFSET(Male!AE$18,'Male - Rev'!$A11-35,0),0.03999)","v":8.6E-3},{"$f":"MIN(OFFSET(Male!AF$18,'Male - Rev'!$A11-35,0),0.03999)","v":7.0000000000000001E-3},{"$f":"MIN(OFFSET(Male!AG$18,'Male - Rev'!$A11-35,0),0.03999)","v":5.4999999999999997E-3},{"$f":"MIN(OFFSET(Male!AH$18,'Male - Rev'!$A11-35,0),0.03999)","v":4.1000000000000003E-3},{"$f":"MIN(OFFSET(Male!AI$18,'Male - Rev'!$A11-35,0),0.03999)","v":2.8999999999999998E-3},{"$f":"MIN(OFFSET(Male!AJ$18,'Male - Rev'!$A11-35,0),0.03999)","v":2E-3},{"$f":"MIN(OFFSET(Male!AK$18,'Male - Rev'!$A11-35,0),0.03999)","v":1.2999999999999999E-3},{"$f":"MIN(OFFSET(Male!AL$18,'Male - Rev'!$A11-35,0),0.03999)","v":8.0000000000000004E-4},{"$f":"MIN(OFFSET(Male!AM$18,'Male - Rev'!$A11-35,0),0.03999)","v":4.0000000000000002E-4},{"$f":"MIN(OFFSET(Male!AN$18,'Male - Rev'!$A11-35,0),0.03999)","v":2.0000000000000001E-4},{"$f":"MIN(OFFSET(Male!AO$18,'Male - Rev'!$A11-35,0),0.03999)","v":0},{"$f":"MIN(OFFSET(Male!AP$18,'Male - Rev'!$A11-35,0),0.03999)","v":-1E-4},{"$f":"MIN(OFFSET(Male!AQ$18,'Male - Rev'!$A11-35,0),0.03999)","v":-1E-4},{"$f":"MIN(OFFSET(Male!AR$18,'Male - Rev'!$A11-35,0),0.03999)","v":1E-4},{"$f":"MIN(OFFSET(Male!AS$18,'Male - Rev'!$A11-35,0),0.03999)","v":5.0000000000000001E-4},{"$f":"MIN(OFFSET(Male!AT$18,'Male - Rev'!$A11-35,0),0.03999)","v":1.1999999999999999E-3},{"$f":"MIN(OFFSET(Male!AU$18,'Male - Rev'!$A11-35,0),0.03999)","v":2.0999999999999999E-3},{"$f":"MIN(OFFSET(Male!AV$18,'Male - Rev'!$A11-35,0),0.03999)","v":3.3999999999999998E-3},{"$f":"MIN(OFFSET(Male!AW$18,'Male - Rev'!$A11-35,0),0.03999)","v":5.0000000000000001E-3},{"$f":"MIN(OFFSET(Male!AX$18,'Male - Rev'!$A11-35,0),0.03999)","v":6.7999999999999996E-3},{"$f":"MIN(OFFSET(Male!AY$18,'Male - Rev'!$A11-35,0),0.03999)","v":8.6999999999999994E-3},{"$f":"MIN(OFFSET(Male!AZ$18,'Male - Rev'!$A11-35,0),0.03999)","v":1.0699999999999999E-2},{"$f":"MIN(OFFSET(Male!BA$18,'Male - Rev'!$A11-35,0),0.03999)","v":1.26E-2},{"$f":"MIN(OFFSET(Male!BB$18,'Male - Rev'!$A11-35,0),0.03999)","v":1.4200000000000001E-2},{"$f":"MIN(OFFSET(Male!BC$18,'Male - Rev'!$A11-35,0),0.03999)","v":1.54E-2},{"$f":"MIN(OFFSET(Male!BD$18,'Male - Rev'!$A11-35,0),0.03999)","v":1.6199999999999999E-2},{"$f":"MIN(OFFSET(Male!BE$18,'Male - Rev'!$A11-35,0),0.03999)","v":1.6400000000000001E-2},{"$f":"MIN(OFFSET(Male!BF$18,'Male - Rev'!$A11-35,0),0.03999)","v":1.61E-2},{"$f":"MIN(OFFSET(Male!BG$18,'Male - Rev'!$A11-35,0),0.03999)","v":1.54E-2},{"$f":"MIN(OFFSET(Male!BH$18,'Male - Rev'!$A11-35,0),0.03999)","v":1.4200000000000001E-2},{"$f":"MIN(OFFSET(Male!BI$18,'Male - Rev'!$A11-35,0),0.03999)","v":1.2800000000000001E-2},{"$f":"MIN(OFFSET(Male!BJ$18,'Male - Rev'!$A11-35,0),0.03999)","v":1.12E-2},{"$f":"MIN(OFFSET(Male!BK$18,'Male - Rev'!$A11-35,0),0.03999)","v":9.4000000000000004E-3},{"$f":"MIN(OFFSET(Male!BL$18,'Male - Rev'!$A11-35,0),0.03999)","v":7.6E-3},{"$f":"MIN(OFFSET(Male!BM$18,'Male - Rev'!$A11-35,0),0.03999)","v":5.7999999999999996E-3},{"$f":"MIN(OFFSET(Male!BN$18,'Male - Rev'!$A11-35,0),0.03999)","v":4.0000000000000001E-3},{"$f":"MIN(OFFSET(Male!BO$18,'Male - Rev'!$A11-35,0),0.03999)","v":4.1000000000000003E-3},{"$f":"MIN(OFFSET(Male!BP$18,'Male - Rev'!$A11-35,0),0.03999)","v":4.4999999999999997E-3},{"$f":"MIN(OFFSET(Male!BQ$18,'Male - Rev'!$A11-35,0),0.03999)","v":4.8999999999999998E-3},{"$f":"MIN(OFFSET(Male!BR$18,'Male - Rev'!$A11-35,0),0.03999)","v":5.4000000000000003E-3},{"$f":"MIN(OFFSET(Male!BS$18,'Male - Rev'!$A11-35,0),0.03999)","v":6.0000000000000001E-3},{"$f":"MIN(OFFSET(Male!BT$18,'Male - Rev'!$A11-35,0),0.03999)","v":6.6E-3},{"$f":"MIN(OFFSET(Male!BU$18,'Male - Rev'!$A11-35,0),0.03999)","v":7.1000000000000004E-3},{"$f":"MIN(OFFSET(Male!BV$18,'Male - Rev'!$A11-35,0),0.03999)","v":7.7000000000000002E-3},{"$f":"MIN(OFFSET(Male!BW$18,'Male - Rev'!$A11-35,0),0.03999)","v":8.0999999999999996E-3},{"$f":"MIN(OFFSET(Male!BX$18,'Male - Rev'!$A11-35,0),0.03999)","v":8.3999999999999995E-3},{"$f":"MIN(OFFSET(Male!BY$18,'Male - Rev'!$A11-35,0),0.03999)","v":8.6E-3},{"$f":"MIN(OFFSET(Male!BZ$18,'Male - Rev'!$A11-35,0),0.03999)","v":8.8000000000000005E-3},{"$f":"MIN(OFFSET(Male!CA$18,'Male - Rev'!$A11-35,0),0.03999)","v":8.9999999999999993E-3},{"$f":"MIN(OFFSET(Male!CB$18,'Male - Rev'!$A11-35,0),0.03999)","v":9.1000000000000004E-3},{"$f":"MIN(OFFSET(Male!CC$18,'Male - Rev'!$A11-35,0),0.03999)","v":9.1000000000000004E-3},{"$f":"MIN(OFFSET(Male!CD$18,'Male - Rev'!$A11-35,0),0.03999)","v":9.1999999999999998E-3},{"$f":"MIN(OFFSET(Male!CE$18,'Male - Rev'!$A11-35,0),0.03999)","v":9.2999999999999992E-3},{"$f":"MIN(OFFSET(Male!CF$18,'Male - Rev'!$A11-35,0),0.03999)","v":9.4999999999999998E-3},{"$f":"MIN(OFFSET(Male!CG$18,'Male - Rev'!$A11-35,0),0.03999)","v":9.5999999999999992E-3},{"$f":"MIN(OFFSET(Male!CH$18,'Male - Rev'!$A11-35,0),0.03999)","v":9.7000000000000003E-3}]
[86,86,{"$f":"MIN(OFFSET(Male!B$18,'Male - Rev'!$A12-35,0),0.03999)","v":2.5000000000000001E-3},{"$f":"MIN(OFFSET(Male!C$18,'Male - Rev'!$A12-35,0),0.03999)","v":1.4E-3},{"$f":"MIN(OFFSET(Male!D$18,'Male - Rev'!$A12-35,0),0.03999)","v":2.9999999999999997E-4},{"$f":"MIN(OFFSET(Male!E$18,'Male - Rev'!$A12-35,0),0.03999)","v":-8.0000000000000004E-4},{"$f":"MIN(OFFSET(Male!F$18,'Male - Rev'!$A12-35,0),0.03999)","v":-1.8E-3},{"$f":"MIN(OFFSET(Male!G$18,'Male - Rev'!$A12-35,0),0.03999)","v":-2.5999999999999999E-3},{"$f":"MIN(OFFSET(Male!H$18,'Male - Rev'!$A12-35,0),0.03999)","v":-3.2000000000000002E-3},{"$f":"MIN(OFFSET(Male!I$18,'Male - Rev'!$A12-35,0),0.03999)","v":-3.5999999999999999E-3},{"$f":"MIN(OFFSET(Male!J$18,'Male - Rev'!$A12-35,0),0.03999)","v":-3.7000000000000002E-3},{"$f":"MIN(OFFSET(Male!K$18,'Male - Rev'!$A12-35,0),0.03999)","v":-3.5000000000000001E-3},{"$f":"MIN(OFFSET(Male!L$18,'Male - Rev'!$A12-35,0),0.03999)","v":-3.0000000000000001E-3},{"$f":"MIN(OFFSET(Male!M$18,'Male - Rev'!$A12-35,0),0.03999)","v":-2.0999999999999999E-3},{"$f":"MIN(OFFSET(Male!N$18,'Male - Rev'!$A12-35,0),0.03999)","v":-1E-3},{"$f":"MIN(OFFSET(Male!O$18,'Male - Rev'!$A12-35,0),0.03999)","v":4.0000000000000002E-4},{"$f":"MIN(OFFSET(Male!P$18,'Male - Rev'!$A12-35,0),0.03999)","v":1.9E-3},{"$f":"MIN(OFFSET(Male!Q$18,'Male - Rev'!$A12-35,0),0.03999)","v":3.5999999999999999E-3},{"$f":"MIN(OFFSET(Male!R$18,'Male - Rev'!$A12-35,0),0.03999)","v":5.4000000000000003E-3},{"$f":"MIN(OFFSET(Male!S$18,'Male - Rev'!$A12-35,0),0.03999)","v":7.1000000000000004E-3},{"$f":"MIN(OFFSET(Male!T$18,'Male - Rev'!$A12-35,0),0.03999)","v":8.8000000000000005E-3},{"$f":"MIN(OFFSET(Male!U$18,'Male - Rev'!$A12-35,0),0.03999)","v":1.03E-2},{"$f":"MIN(OFFSET(Male!V$18,'Male - Rev'!$A12-35,0),0.03999)","v":1.17E-2},{"$f":"MIN(OFFSET(Male!W$18,'Male - Rev'!$A12-35,0),0.03999)","v":1.2800000000000001E-2},{"$f":"MIN(OFFSET(Male!X$18,'Male - Rev'!$A12-35,0),0.03999)","v":1.3599999999999999E-2},{"$f":"MIN(OFFSET(Male!Y$18,'Male - Rev'!$A12-35,0),0.03999)","v":1.4E-2},{"$f":"MIN(OFFSET(Male!Z$18,'Male - Rev'!$A12-35,0),0.03999)","v":1.4E-2},{"$f":"MIN(OFFSET(Male!AA$18,'Male - Rev'!$A12-35,0),0.03999)","v":1.35E-2},{"$f":"MIN(OFFSET(Male!AB$18,'Male - Rev'!$A12-35,0),0.03999)","v":1.26E-2},{"$f":"MIN(OFFSET(Male!AC$18,'Male - Rev'!$A12-35,0),0.03999)","v":1.14E-2},{"$f":"MIN(OFFSET(Male!AD$18,'Male - Rev'!$A12-35,0),0.03999)","v":0.01},{"$f":"MIN(OFFSET(Male!AE$18,'Male - Rev'!$A12-35,0),0.03999)","v":8.5000000000000006E-3},{"$f":"MIN(OFFSET(Male!AF$18,'Male - Rev'!$A12-35,0),0.03999)","v":6.8999999999999999E-3},{"$f":"MIN(OFFSET(Male!AG$18,'Male - Rev'!$A12-35,0),0.03999)","v":5.4999999999999997E-3},{"$f":"MIN(OFFSET(Male!AH$18,'Male - Rev'!$A12-35,0),0.03999)","v":4.1999999999999997E-3},{"$f":"MIN(OFFSET(Male!AI$18,'Male - Rev'!$A12-35,0),0.03999)","v":3.2000000000000002E-3},{"$f":"MIN(OFFSET(Male!AJ$18,'Male - Rev'!$A12-35,0),0.03999)","v":2.3999999999999998E-3},{"$f":"MIN(OFFSET(Male!AK$18,'Male - Rev'!$A12-35,0),0.03999)","v":2E-3},{"$f":"MIN(OFFSET(Male!AL$18,'Male - Rev'!$A12-35,0),0.03999)","v":1.6999999999999999E-3},{"$f":"MIN(OFFSET(Male!AM$18,'Male - Rev'!$A12-35,0),0.03999)","v":1.6000000000000001E-3},{"$f":"MIN(OFFSET(Male!AN$18,'Male - Rev'!$A12-35,0),0.03999)","v":1.5E-3},{"$f":"MIN(OFFSET(Male!AO$18,'Male - Rev'!$A12-35,0),0.03999)","v":1.5E-3},{"$f":"MIN(OFFSET(Male!AP$18,'Male - Rev'!$A12-35,0),0.03999)","v":1.4E-3},{"$f":"MIN(OFFSET(Male!AQ$18,'Male - Rev'!$A12-35,0),0.03999)","v":1.5E-3},{"$f":"MIN(OFFSET(Male!AR$18,'Male - Rev'!$A12-35,0),0.03999)","v":1.6000000000000001E-3},{"$f":"MIN(OFFSET(Male!AS$18,'Male - Rev'!$A12-35,0),0.03999)","v":2E-3},{"$f":"MIN(OFFSET(Male!AT$18,'Male - Rev'!$A12-35,0),0.03999)","v":2.5999999999999999E-3},{"$f":"MIN(OFFSET(Male!AU$18,'Male - Rev'!$A12-35,0),0.03999)","v":3.5000000000000001E-3},{"$f":"MIN(OFFSET(Male!AV$18,'Male - Rev'!$A12-35,0),0.03999)","v":4.7000000000000002E-3},{"$f":"MIN(OFFSET(Male!AW$18,'Male - Rev'!$A12-35,0),0.03999)","v":6.3E-3},{"$f":"MIN(OFFSET(Male!AX$18,'Male - Rev'!$A12-35,0),0.03999)","v":8.0000000000000002E-3},{"$f":"MIN(OFFSET(Male!AY$18,'Male - Rev'!$A12-35,0),0.03999)","v":0.01},{"$f":"MIN(OFFSET(Male!AZ$18,'Male - Rev'!$A12-35,0),0.03999)","v":1.2E-2},{"$f":"MIN(OFFSET(Male!BA$18,'Male - Rev'!$A12-35,0),0.03999)","v":1.38E-2},{"$f":"MIN(OFFSET(Male!BB$18,'Male - Rev'!$A12-35,0),0.03999)","v":1.54E-2},{"$f":"MIN(OFFSET(Male!BC$18,'Male - Rev'!$A12-35,0),0.03999)","v":1.66E-2},{"$f":"MIN(OFFSET(Male!BD$18,'Male - Rev'!$A12-35,0),0.03999)","v":1.7299999999999999E-2},{"$f":"MIN(OFFSET(Male!BE$18,'Male - Rev'!$A12-35,0),0.03999)","v":1.7500000000000002E-2},{"$f":"MIN(OFFSET(Male!BF$18,'Male - Rev'!$A12-35,0),0.03999)","v":1.7100000000000001E-2},{"$f":"MIN(OFFSET(Male!BG$18,'Male - Rev'!$A12-35,0),0.03999)","v":1.6199999999999999E-2},{"$f":"MIN(OFFSET(Male!BH$18,'Male - Rev'!$A12-35,0),0.03999)","v":1.4999999999999999E-2},{"$f":"MIN(OFFSET(Male!BI$18,'Male - Rev'!$A12-35,0),0.03999)","v":1.34E-2},{"$f":"MIN(OFFSET(Male!BJ$18,'Male - Rev'!$A12-35,0),0.03999)","v":1.17E-2},{"$f":"MIN(OFFSET(Male!BK$18,'Male - Rev'!$A12-35,0),0.03999)","v":9.7999999999999997E-3},{"$f":"MIN(OFFSET(Male!BL$18,'Male - Rev'!$A12-35,0),0.03999)","v":7.9000000000000008E-3},{"$f":"MIN(OFFSET(Male!BM$18,'Male - Rev'!$A12-35,0),0.03999)","v":6.0000000000000001E-3},{"$f":"MIN(OFFSET(Male!BN$18,'Male - Rev'!$A12-35,0),0.03999)","v":4.1000000000000003E-3},{"$f":"MIN(OFFSET(Male!BO$18,'Male - Rev'!$A12-35,0),0.03999)","v":4.3E-3},{"$f":"MIN(OFFSET(Male!BP$18,'Male - Rev'!$A12-35,0),0.03999)","v":4.5999999999999999E-3},{"$f":"MIN(OFFSET(Male!BQ$18,'Male - Rev'!$A12-35,0),0.03999)","v":5.1000000000000004E-3},{"$f":"MIN(OFFSET(Male!BR$18,'Male - Rev'!$A12-35,0),0.03999)","v":5.5999999999999999E-3},{"$f":"MIN(OFFSET(Male!BS$18,'Male - Rev'!$A12-35,0),0.03999)","v":6.1999999999999998E-3},{"$f":"MIN(OFFSET(Male!BT$18,'Male - Rev'!$A12-35,0),0.03999)","v":6.7999999999999996E-3},{"$f":"MIN(OFFSET(Male!BU$18,'Male - Rev'!$A12-35,0),0.03999)","v":7.4000000000000003E-3},{"$f":"MIN(OFFSET(Male!BV$18,'Male - Rev'!$A12-35,0),0.03999)","v":7.9000000000000008E-3},{"$f":"MIN(OFFSET(Male!BW$18,'Male - Rev'!$A12-35,0),0.03999)","v":8.3000000000000001E-3},{"$f":"MIN(OFFSET(Male!BX$18,'Male - Rev'!$A12-35,0),0.03999)","v":8.6E-3},{"$f":"MIN(OFFSET(Male!BY$18,'Male - Rev'!$A12-35,0),0.03999)","v":8.8999999999999999E-3},{"$f":"MIN(OFFSET(Male!BZ$18,'Male - Rev'!$A12-35,0),0.03999)","v":8.9999999999999993E-3},{"$f":"MIN(OFFSET(Male!CA$18,'Male - Rev'!$A12-35,0),0.03999)","v":9.1000000000000004E-3},{"$f":"MIN(OFFSET(Male!CB$18,'Male - Rev'!$A12-35,0),0.03999)","v":9.1000000000000004E-3},{"$f":"MIN(OFFSET(Male!CC$18,'Male - Rev'!$A12-35,0),0.03999)","v":9.1999999999999998E-3},{"$f":"MIN(OFFSET(Male!CD$18,'Male - Rev'!$A12-35,0),0.03999)","v":9.2999999999999992E-3},{"$f":"MIN(OFFSET(Male!CE$18,'Male - Rev'!$A12-35,0),0.03999)","v":9.4000000000000004E-3},{"$f":"MIN(OFFSET(Male!CF$18,'Male - Rev'!$A12-35,0),0.03999)","v":9.5999999999999992E-3},{"$f":"MIN(OFFSET(Male!CG$18,'Male - Rev'!$A12-35,0),0.03999)","v":9.7000000000000003E-3},{"$f":"MIN(OFFSET(Male!CH$18,'Male - Rev'!$A12-35,0),0.03999)","v":9.9000000000000008E-3}]
[85,85,{"$f":"MIN(OFFSET(Male!B$18,'Male - Rev'!$A13-35,0),0.03999)","v":3.8E-3},{"$f":"MIN(OFFSET(Male!C$18,'Male - Rev'!$A13-35,0),0.03999)","v":2.5999999999999999E-3},{"$f":"MIN(OFFSET(Male!D$18,'Male - Rev'!$A13-35,0),0.03999)","v":1.5E-3},{"$f":"MIN(OFFSET(Male!E$18,'Male - Rev'!$A13-35,0),0.03999)","v":4.0000000000000002E-4},{"$f":"MIN(OFFSET(Male!F$18,'Male - Rev'!$A13-35,0),0.03999)","v":-6.9999999999999999E-4},{"$f":"MIN(OFFSET(Male!G$18,'Male - Rev'!$A13-35,0),0.03999)","v":-1.6000000000000001E-3},{"$f":"MIN(OFFSET(Male!H$18,'Male - Rev'!$A13-35,0),0.03999)","v":-2.3E-3},{"$f":"MIN(OFFSET(Male!I$18,'Male - Rev'!$A13-35,0),0.03999)","v":-2.8E-3},{"$f":"MIN(OFFSET(Male!J$18,'Male - Rev'!$A13-35,0),0.03999)","v":-3.0999999999999999E-3},{"$f":"MIN(OFFSET(Male!K$18,'Male - Rev'!$A13-35,0),0.03999)","v":-3.0000000000000001E-3},{"$f":"MIN(OFFSET(Male!L$18,'Male - Rev'!$A13-35,0),0.03999)","v":-2.5999999999999999E-3},{"$f":"MIN(OFFSET(Male!M$18,'Male - Rev'!$A13-35,0),0.03999)","v":-2E-3},{"$f":"MIN(OFFSET(Male!N$18,'Male - Rev'!$A13-35,0),0.03999)","v":-1E-3},{"$f":"MIN(OFFSET(Male!O$18,'Male - Rev'!$A13-35,0),0.03999)","v":2.0000000000000001E-4},{"$f":"MIN(OFFSET(Male!P$18,'Male - Rev'!$A13-35,0),0.03999)","v":1.6999999999999999E-3},{"$f":"MIN(OFFSET(Male!Q$18,'Male - Rev'!$A13-35,0),0.03999)","v":3.2000000000000002E-3},{"$f":"MIN(OFFSET(Male!R$18,'Male - Rev'!$A13-35,0),0.03999)","v":4.8999999999999998E-3},{"$f":"MIN(OFFSET(Male!S$18,'Male - Rev'!$A13-35,0),0.03999)","v":6.7000000000000002E-3},{"$f":"MIN(OFFSET(Male!T$18,'Male - Rev'!$A13-35,0),0.03999)","v":8.3999999999999995E-3},{"$f":"MIN(OFFSET(Male!U$18,'Male - Rev'!$A13-35,0),0.03999)","v":0.01},{"$f":"MIN(OFFSET(Male!V$18,'Male - Rev'!$A13-35,0),0.03999)","v":1.14E-2},{"$f":"MIN(OFFSET(Male!W$18,'Male - Rev'!$A13-35,0),0.03999)","v":1.26E-2},{"$f":"MIN(OFFSET(Male!X$18,'Male - Rev'!$A13-35,0),0.03999)","v":1.35E-2},{"$f":"MIN(OFFSET(Male!Y$18,'Male - Rev'!$A13-35,0),0.03999)","v":1.4E-2},{"$f":"MIN(OFFSET(Male!Z$18,'Male - Rev'!$A13-35,0),0.03999)","v":1.4E-2},{"$f":"MIN(OFFSET(Male!AA$18,'Male - Rev'!$A13-35,0),0.03999)","v":1.35E-2},{"$f":"MIN(OFFSET(Male!AB$18,'Male - Rev'!$A13-35,0),0.03999)","v":1.26E-2},{"$f":"MIN(OFFSET(Male!AC$18,'Male - Rev'!$A13-35,0),0.03999)","v":1.14E-2},{"$f":"MIN(OFFSET(Male!AD$18,'Male - Rev'!$A13-35,0),0.03999)","v":9.9000000000000008E-3},{"$f":"MIN(OFFSET(Male!AE$18,'Male - Rev'!$A13-35,0),0.03999)","v":8.3999999999999995E-3},{"$f":"MIN(OFFSET(Male!AF$18,'Male - Rev'!$A13-35,0),0.03999)","v":6.8999999999999999E-3},{"$f":"MIN(OFFSET(Male!AG$18,'Male - Rev'!$A13-35,0),0.03999)","v":5.4999999999999997E-3},{"$f":"MIN(OFFSET(Male!AH$18,'Male - Rev'!$A13-35,0),0.03999)","v":4.3E-3},{"$f":"MIN(OFFSET(Male!AI$18,'Male - Rev'!$A13-35,0),0.03999)","v":3.5000000000000001E-3},{"$f":"MIN(OFFSET(Male!AJ$18,'Male - Rev'!$A13-35,0),0.03999)","v":2.8999999999999998E-3},{"$f":"MIN(OFFSET(Male!AK$18,'Male - Rev'!$A13-35,0),0.03999)","v":2.7000000000000001E-3},{"$f":"MIN(OFFSET(Male!AL$18,'Male - Rev'!$A13-35,0),0.03999)","v":2.5999999999999999E-3},{"$f":"MIN(OFFSET(Male!AM$18,'Male - Rev'!$A13-35,0),0.03999)","v":2.7000000000000001E-3},{"$f":"MIN(OFFSET(Male!AN$18,'Male - Rev'!$A13-35,0),0.03999)","v":2.8999999999999998E-3},{"$f":"MIN(OFFSET(Male!AO$18,'Male - Rev'!$A13-35,0),0.03999)","v":3.0000000000000001E-3},{"$f":"MIN(OFFSET(Male!AP$18,'Male - Rev'!$A13-35,0),0.03999)","v":3.0000000000000001E-3},{"$f":"MIN(OFFSET(Male!AQ$18,'Male - Rev'!$A13-35,0),0.03999)","v":3.0000000000000001E-3},{"$f":"MIN(OFFSET(Male!AR$18,'Male - Rev'!$A13-35,0),0.03999)","v":3.0999999999999999E-3},{"$f":"MIN(OFFSET(Male!AS$18,'Male - Rev'!$A13-35,0),0.03999)","v":3.3999999999999998E-3},{"$f":"MIN(OFFSET(Male!AT$18,'Male - Rev'!$A13-35,0),0.03999)","v":4.0000000000000001E-3},{"$f":"MIN(OFFSET(Male!AU$18,'Male - Rev'!$A13-35,0),0.03999)","v":4.7999999999999996E-3},{"$f":"MIN(OFFSET(Male!AV$18,'Male - Rev'!$A13-35,0),0.03999)","v":6.0000000000000001E-3},{"$f":"MIN(OFFSET(Male!AW$18,'Male - Rev'!$A13-35,0),0.03999)","v":7.4999999999999997E-3},{"$f":"MIN(OFFSET(Male!AX$18,'Male - Rev'!$A13-35,0),0.03999)","v":9.1999999999999998E-3},{"$f":"MIN(OFFSET(Male!AY$18,'Male - Rev'!$A13-35,0),0.03999)","v":1.12E-2},{"$f":"MIN(OFFSET(Male!AZ$18,'Male - Rev'!$A13-35,0),0.03999)","v":1.3100000000000001E-2},{"$f":"MIN(OFFSET(Male!BA$18,'Male - Rev'!$A13-35,0),0.03999)","v":1.4999999999999999E-2},{"$f":"MIN(OFFSET(Male!BB$18,'Male - Rev'!$A13-35,0),0.03999)","v":1.66E-2},{"$f":"MIN(OFFSET(Male!BC$18,'Male - Rev'!$A13-35,0),0.03999)","v":1.77E-2},{"$f":"MIN(OFFSET(Male!BD$18,'Male - Rev'!$A13-35,0),0.03999)","v":1.83E-2},{"$f":"MIN(OFFSET(Male!BE$18,'Male - Rev'!$A13-35,0),0.03999)","v":1.84E-2},{"$f":"MIN(OFFSET(Male!BF$18,'Male - Rev'!$A13-35,0),0.03999)","v":1.7999999999999999E-2},{"$f":"MIN(OFFSET(Male!BG$18,'Male - Rev'!$A13-35,0),0.03999)","v":1.7000000000000001E-2},{"$f":"MIN(OFFSET(Male!BH$18,'Male - Rev'!$A13-35,0),0.03999)","v":1.5699999999999999E-2},{"$f":"MIN(OFFSET(Male!BI$18,'Male - Rev'!$A13-35,0),0.03999)","v":1.4E-2},{"$f":"MIN(OFFSET(Male!BJ$18,'Male - Rev'!$A13-35,0),0.03999)","v":1.2200000000000001E-2},{"$f":"MIN(OFFSET(Male!BK$18,'Male - Rev'!$A13-35,0),0.03999)","v":1.0200000000000001E-2},{"$f":"MIN(OFFSET(Male!BL$18,'Male - Rev'!$A13-35,0),0.03999)","v":8.3000000000000001E-3},{"$f":"MIN(OFFSET(Male!BM$18,'Male - Rev'!$A13-35,0),0.03999)","v":6.3E-3},{"$f":"MIN(OFFSET(Male!BN$18,'Male - Rev'!$A13-35,0),0.03999)","v":4.3E-3},{"$f":"MIN(OFFSET(Male!BO$18,'Male - Rev'!$A13-35,0),0.03999)","v":4.4999999999999997E-3},{"$f":"MIN(OFFSET(Male!BP$18,'Male - Rev'!$A13-35,0),0.03999)","v":4.8999999999999998E-3},{"$f":"MIN(OFFSET(Male!BQ$18,'Male - Rev'!$A13-35,0),0.03999)","v":5.3E-3},{"$f":"MIN(OFFSET(Male!BR$18,'Male - Rev'!$A13-35,0),0.03999)","v":5.8999999999999999E-3},{"$f":"MIN(OFFSET(Male!BS$18,'Male - Rev'!$A13-35,0),0.03999)","v":6.4000000000000003E-3},{"$f":"MIN(OFFSET(Male!BT$18,'Male - Rev'!$A13-35,0),0.03999)","v":7.1000000000000004E-3},{"$f":"MIN(OFFSET(Male!BU$18,'Male - Rev'!$A13-35,0),0.03999)","v":7.6E-3},{"$f":"MIN(OFFSET(Male!BV$18,'Male - Rev'!$A13-35,0),0.03999)","v":8.2000000000000007E-3},{"$f":"MIN(OFFSET(Male!BW$18,'Male - Rev'!$A13-35,0),0.03999)","v":8.6E-3},{"$f":"MIN(OFFSET(Male!BX$18,'Male - Rev'!$A13-35,0),0.03999)","v":8.8999999999999999E-3},{"$f":"MIN(OFFSET(Male!BY$18,'Male - Rev'!$A13-35,0),0.03999)","v":8.9999999999999993E-3},{"$f":"MIN(OFFSET(Male!BZ$18,'Male - Rev'!$A13-35,0),0.03999)","v":9.1000000000000004E-3},{"$f":"MIN(OFFSET(Male!CA$18,'Male - Rev'!$A13-35,0),0.03999)","v":9.1000000000000004E-3},{"$f":"MIN(OFFSET(Male!CB$18,'Male - Rev'!$A13-35,0),0.03999)","v":9.1999999999999998E-3},{"$f":"MIN(OFFSET(Male!CC$18,'Male - Rev'!$A13-35,0),0.03999)","v":9.2999999999999992E-3},{"$f":"MIN(OFFSET(Male!CD$18,'Male - Rev'!$A13-35,0),0.03999)","v":9.4000000000000004E-3},{"$f":"MIN(OFFSET(Male!CE$18,'Male - Rev'!$A13-35,0),0.03999)","v":9.4999999999999998E-3},{"$f":"MIN(OFFSET(Male!CF$18,'Male - Rev'!$A13-35,0),0.03999)","v":9.7000000000000003E-3},{"$f":"MIN(OFFSET(Male!CG$18,'Male - Rev'!$A13-35,0),0.03999)","v":9.9000000000000008E-3},{"$f":"MIN(OFFSET(Male!CH$18,'Male - Rev'!$A13-35,0),0.03999)","v":0.01}]
[84,84,{"$f":"MIN(OFFSET(Male!B$18,'Male - Rev'!$A14-35,0),0.03999)","v":4.8999999999999998E-3},{"$f":"MIN(OFFSET(Male!C$18,'Male - Rev'!$A14-35,0),0.03999)","v":3.8E-3},{"$f":"MIN(OFFSET(Male!D$18,'Male - Rev'!$A14-35,0),0.03999)","v":2.5999999999999999E-3},{"$f":"MIN(OFFSET(Male!E$18,'Male - Rev'!$A14-35,0),0.03999)","v":1.4E-3},{"$f":"MIN(OFFSET(Male!F$18,'Male - Rev'!$A14-35,0),0.03999)","v":2.9999999999999997E-4},{"$f":"MIN(OFFSET(Male!G$18,'Male - Rev'!$A14-35,0),0.03999)","v":-6.9999999999999999E-4},{"$f":"MIN(OFFSET(Male!H$18,'Male - Rev'!$A14-35,0),0.03999)","v":-1.5E-3},{"$f":"MIN(OFFSET(Male!I$18,'Male - Rev'!$A14-35,0),0.03999)","v":-2.0999999999999999E-3},{"$f":"MIN(OFFSET(Male!J$18,'Male - Rev'!$A14-35,0),0.03999)","v":-2.5000000000000001E-3},{"$f":"MIN(OFFSET(Male!K$18,'Male - Rev'!$A14-35,0),0.03999)","v":-2.5000000000000001E-3},{"$f":"MIN(OFFSET(Male!L$18,'Male - Rev'!$A14-35,0),0.03999)","v":-2.3E-3},{"$f":"MIN(OFFSET(Male!M$18,'Male - Rev'!$A14-35,0),0.03999)","v":-1.8E-3},{"$f":"MIN(OFFSET(Male!N$18,'Male - Rev'!$A14-35,0),0.03999)","v":-1E-3},{"$f":"MIN(OFFSET(Male!O$18,'Male - Rev'!$A14-35,0),0.03999)","v":1E-4},{"$f":"MIN(OFFSET(Male!P$18,'Male - Rev'!$A14-35,0),0.03999)","v":1.4E-3},{"$f":"MIN(OFFSET(Male!Q$18,'Male - Rev'!$A14-35,0),0.03999)","v":2.8E-3},{"$f":"MIN(OFFSET(Male!R$18,'Male - Rev'!$A14-35,0),0.03999)","v":4.4000000000000003E-3},{"$f":"MIN(OFFSET(Male!S$18,'Male - Rev'!$A14-35,0),0.03999)","v":6.1999999999999998E-3},{"$f":"MIN(OFFSET(Male!T$18,'Male - Rev'!$A14-35,0),0.03999)","v":7.9000000000000008E-3},{"$f":"MIN(OFFSET(Male!U$18,'Male - Rev'!$A14-35,0),0.03999)","v":9.5999999999999992E-3},{"$f":"MIN(OFFSET(Male!V$18,'Male - Rev'!$A14-35,0),0.03999)","v":1.11E-2},{"$f":"MIN(OFFSET(Male!W$18,'Male - Rev'!$A14-35,0),0.03999)","v":1.24E-2},{"$f":"MIN(OFFSET(Male!X$18,'Male - Rev'!$A14-35,0),0.03999)","v":1.34E-2},{"$f":"MIN(OFFSET(Male!Y$18,'Male - Rev'!$A14-35,0),0.03999)","v":1.4E-2},{"$f":"MIN(OFFSET(Male!Z$18,'Male - Rev'!$A14-35,0),0.03999)","v":1.4E-2},{"$f":"MIN(OFFSET(Male!AA$18,'Male - Rev'!$A14-35,0),0.03999)","v":1.35E-2},{"$f":"MIN(OFFSET(Male!AB$18,'Male - Rev'!$A14-35,0),0.03999)","v":1.26E-2},{"$f":"MIN(OFFSET(Male!AC$18,'Male - Rev'!$A14-35,0),0.03999)","v":1.14E-2},{"$f":"MIN(OFFSET(Male!AD$18,'Male - Rev'!$A14-35,0),0.03999)","v":9.9000000000000008E-3},{"$f":"MIN(OFFSET(Male!AE$18,'Male - Rev'!$A14-35,0),0.03999)","v":8.3000000000000001E-3},{"$f":"MIN(OFFSET(Male!AF$18,'Male - Rev'!$A14-35,0),0.03999)","v":6.7999999999999996E-3},{"$f":"MIN(OFFSET(Male!AG$18,'Male - Rev'!$A14-35,0),0.03999)","v":5.4999999999999997E-3},{"$f":"MIN(OFFSET(Male!AH$18,'Male - Rev'!$A14-35,0),0.03999)","v":4.4999999999999997E-3},{"$f":"MIN(OFFSET(Male!AI$18,'Male - Rev'!$A14-35,0),0.03999)","v":3.8E-3},{"$f":"MIN(OFFSET(Male!AJ$18,'Male - Rev'!$A14-35,0),0.03999)","v":3.5000000000000001E-3},{"$f":"MIN(OFFSET(Male!AK$18,'Male - Rev'!$A14-35,0),0.03999)","v":3.5000000000000001E-3},{"$f":"MIN(OFFSET(Male!AL$18,'Male - Rev'!$A14-35,0),0.03999)","v":3.7000000000000002E-3},{"$f":"MIN(OFFSET(Male!AM$18,'Male - Rev'!$A14-35,0),0.03999)","v":4.0000000000000001E-3},{"$f":"MIN(OFFSET(Male!AN$18,'Male - Rev'!$A14-35,0),0.03999)","v":4.3E-3},{"$f":"MIN(OFFSET(Male!AO$18,'Male - Rev'!$A14-35,0),0.03999)","v":4.4999999999999997E-3},{"$f":"MIN(OFFSET(Male!AP$18,'Male - Rev'!$A14-35,0),0.03999)","v":4.5999999999999999E-3},{"$f":"MIN(OFFSET(Male!AQ$18,'Male - Rev'!$A14-35,0),0.03999)","v":4.5999999999999999E-3},{"$f":"MIN(OFFSET(Male!AR$18,'Male - Rev'!$A14-35,0),0.03999)","v":4.7000000000000002E-3},{"$f":"MIN(OFFSET(Male!AS$18,'Male - Rev'!$A14-35,0),0.03999)","v":4.8999999999999998E-3},{"$f":"MIN(OFFSET(Male!AT$18,'Male - Rev'!$A14-35,0),0.03999)","v":5.3E-3},{"$f":"MIN(OFFSET(Male!AU$18,'Male - Rev'!$A14-35,0),0.03999)","v":6.1000000000000004E-3},{"$f":"MIN(OFFSET(Male!AV$18,'Male - Rev'!$A14-35,0),0.03999)","v":7.1999999999999998E-3},{"$f":"MIN(OFFSET(Male!AW$18,'Male - Rev'!$A14-35,0),0.03999)","v":8.6E-3},{"$f":"MIN(OFFSET(Male!AX$18,'Male - Rev'!$A14-35,0),0.03999)","v":1.03E-2},{"$f":"MIN(OFFSET(Male!AY$18,'Male - Rev'!$A14-35,0),0.03999)","v":1.2200000000000001E-2},{"$f":"MIN(OFFSET(Male!AZ$18,'Male - Rev'!$A14-35,0),0.03999)","v":1.4200000000000001E-2},{"$f":"MIN(OFFSET(Male!BA$18,'Male - Rev'!$A14-35,0),0.03999)","v":1.6E-2},{"$f":"MIN(OFFSET(Male!BB$18,'Male - Rev'!$A14-35,0),0.03999)","v":1.7600000000000001E-2},{"$f":"MIN(OFFSET(Male!BC$18,'Male - Rev'!$A14-35,0),0.03999)","v":1.8700000000000001E-2},{"$f":"MIN(OFFSET(Male!BD$18,'Male - Rev'!$A14-35,0),0.03999)","v":1.9300000000000001E-2},{"$f":"MIN(OFFSET(Male!BE$18,'Male - Rev'!$A14-35,0),0.03999)","v":1.9300000000000001E-2},{"$f":"MIN(OFFSET(Male!BF$18,'Male - Rev'!$A14-35,0),0.03999)","v":1.8800000000000001E-2},{"$f":"MIN(OFFSET(Male!BG$18,'Male - Rev'!$A14-35,0),0.03999)","v":1.78E-2},{"$f":"MIN(OFFSET(Male!BH$18,'Male - Rev'!$A14-35,0),0.03999)","v":1.6400000000000001E-2},{"$f":"MIN(OFFSET(Male!BI$18,'Male - Rev'!$A14-35,0),0.03999)","v":1.46E-2},{"$f":"MIN(OFFSET(Male!BJ$18,'Male - Rev'!$A14-35,0),0.03999)","v":1.2699999999999999E-2},{"$f":"MIN(OFFSET(Male!BK$18,'Male - Rev'!$A14-35,0),0.03999)","v":1.0699999999999999E-2},{"$f":"MIN(OFFSET(Male!BL$18,'Male - Rev'!$A14-35,0),0.03999)","v":8.6E-3},{"$f":"MIN(OFFSET(Male!BM$18,'Male - Rev'!$A14-35,0),0.03999)","v":6.6E-3},{"$f":"MIN(OFFSET(Male!BN$18,'Male - Rev'!$A14-35,0),0.03999)","v":4.5999999999999999E-3},{"$f":"MIN(OFFSET(Male!BO$18,'Male - Rev'!$A14-35,0),0.03999)","v":4.7999999999999996E-3},{"$f":"MIN(OFFSET(Male!BP$18,'Male - Rev'!$A14-35,0),0.03999)","v":5.1000000000000004E-3},{"$f":"MIN(OFFSET(Male!BQ$18,'Male - Rev'!$A14-35,0),0.03999)","v":5.4999999999999997E-3},{"$f":"MIN(OFFSET(Male!BR$18,'Male - Rev'!$A14-35,0),0.03999)","v":6.1000000000000004E-3},{"$f":"MIN(OFFSET(Male!BS$18,'Male - Rev'!$A14-35,0),0.03999)","v":6.7000000000000002E-3},{"$f":"MIN(OFFSET(Male!BT$18,'Male - Rev'!$A14-35,0),0.03999)","v":7.3000000000000001E-3},{"$f":"MIN(OFFSET(Male!BU$18,'Male - Rev'!$A14-35,0),0.03999)","v":7.7999999999999996E-3},{"$f":"MIN(OFFSET(Male!BV$18,'Male - Rev'!$A14-35,0),0.03999)","v":8.3000000000000001E-3},{"$f":"MIN(OFFSET(Male!BW$18,'Male - Rev'!$A14-35,0),0.03999)","v":8.6999999999999994E-3},{"$f":"MIN(OFFSET(Male!BX$18,'Male - Rev'!$A14-35,0),0.03999)","v":8.8999999999999999E-3},{"$f":"MIN(OFFSET(Male!BY$18,'Male - Rev'!$A14-35,0),0.03999)","v":8.9999999999999993E-3},{"$f":"MIN(OFFSET(Male!BZ$18,'Male - Rev'!$A14-35,0),0.03999)","v":9.1000000000000004E-3},{"$f":"MIN(OFFSET(Male!CA$18,'Male - Rev'!$A14-35,0),0.03999)","v":9.1000000000000004E-3},{"$f":"MIN(OFFSET(Male!CB$18,'Male - Rev'!$A14-35,0),0.03999)","v":9.1000000000000004E-3},{"$f":"MIN(OFFSET(Male!CC$18,'Male - Rev'!$A14-35,0),0.03999)","v":9.1999999999999998E-3},{"$f":"MIN(OFFSET(Male!CD$18,'Male - Rev'!$A14-35,0),0.03999)","v":9.4000000000000004E-3},{"$f":"MIN(OFFSET(Male!CE$18,'Male - Rev'!$A14-35,0),0.03999)","v":9.4999999999999998E-3},{"$f":"MIN(OFFSET(Male!CF$18,'Male - Rev'!$A14-35,0),0.03999)","v":9.7999999999999997E-3},{"$f":"MIN(OFFSET(Male!CG$18,'Male - Rev'!$A14-35,0),0.03999)","v":9.9000000000000008E-3},{"$f":"MIN(OFFSET(Male!CH$18,'Male - Rev'!$A14-35,0),0.03999)","v":0.01}]
[83,83,{"$f":"MIN(OFFSET(Male!B$18,'Male - Rev'!$A15-35,0),0.03999)","v":5.8999999999999999E-3},{"$f":"MIN(OFFSET(Male!C$18,'Male - Rev'!$A15-35,0),0.03999)","v":4.7000000000000002E-3},{"$f":"MIN(OFFSET(Male!D$18,'Male - Rev'!$A15-35,0),0.03999)","v":3.5999999999999999E-3},{"$f":"MIN(OFFSET(Male!E$18,'Male - Rev'!$A15-35,0),0.03999)","v":2.3999999999999998E-3},{"$f":"MIN(OFFSET(Male!F$18,'Male - Rev'!$A15-35,0),0.03999)","v":1.2999999999999999E-3},{"$f":"MIN(OFFSET(Male!G$18,'Male - Rev'!$A15-35,0),0.03999)","v":2.0000000000000001E-4},{"$f":"MIN(OFFSET(Male!H$18,'Male - Rev'!$A15-35,0),0.03999)","v":-6.9999999999999999E-4},{"$f":"MIN(OFFSET(Male!I$18,'Male - Rev'!$A15-35,0),0.03999)","v":-1.4E-3},{"$f":"MIN(OFFSET(Male!J$18,'Male - Rev'!$A15-35,0),0.03999)","v":-1.9E-3},{"$f":"MIN(OFFSET(Male!K$18,'Male - Rev'!$A15-35,0),0.03999)","v":-2.0999999999999999E-3},{"$f":"MIN(OFFSET(Male!L$18,'Male - Rev'!$A15-35,0),0.03999)","v":-2.0999999999999999E-3},{"$f":"MIN(OFFSET(Male!M$18,'Male - Rev'!$A15-35,0),0.03999)","v":-1.6999999999999999E-3},{"$f":"MIN(OFFSET(Male!N$18,'Male - Rev'!$A15-35,0),0.03999)","v":-1.1000000000000001E-3},{"$f":"MIN(OFFSET(Male!O$18,'Male - Rev'!$A15-35,0),0.03999)","v":-2.0000000000000001E-4},{"$f":"MIN(OFFSET(Male!P$18,'Male - Rev'!$A15-35,0),0.03999)","v":1E-3},{"$f":"MIN(OFFSET(Male!Q$18,'Male - Rev'!$A15-35,0),0.03999)","v":2.3999999999999998E-3},{"$f":"MIN(OFFSET(Male!R$18,'Male - Rev'!$A15-35,0),0.03999)","v":3.8999999999999998E-3},{"$f":"MIN(OFFSET(Male!S$18,'Male - Rev'!$A15-35,0),0.03999)","v":5.5999999999999999E-3},{"$f":"MIN(OFFSET(Male!T$18,'Male - Rev'!$A15-35,0),0.03999)","v":7.4000000000000003E-3},{"$f":"MIN(OFFSET(Male!U$18,'Male - Rev'!$A15-35,0),0.03999)","v":9.1999999999999998E-3},{"$f":"MIN(OFFSET(Male!V$18,'Male - Rev'!$A15-35,0),0.03999)","v":1.0800000000000001E-2},{"$f":"MIN(OFFSET(Male!W$18,'Male - Rev'!$A15-35,0),0.03999)","v":1.2200000000000001E-2},{"$f":"MIN(OFFSET(Male!X$18,'Male - Rev'!$A15-35,0),0.03999)","v":1.3299999999999999E-2},{"$f":"MIN(OFFSET(Male!Y$18,'Male - Rev'!$A15-35,0),0.03999)","v":1.3899999999999999E-2},{"$f":"MIN(OFFSET(Male!Z$18,'Male - Rev'!$A15-35,0),0.03999)","v":1.4E-2},{"$f":"MIN(OFFSET(Male!AA$18,'Male - Rev'!$A15-35,0),0.03999)","v":1.35E-2},{"$f":"MIN(OFFSET(Male!AB$18,'Male - Rev'!$A15-35,0),0.03999)","v":1.26E-2},{"$f":"MIN(OFFSET(Male!AC$18,'Male - Rev'!$A15-35,0),0.03999)","v":1.1299999999999999E-2},{"$f":"MIN(OFFSET(Male!AD$18,'Male - Rev'!$A15-35,0),0.03999)","v":9.7999999999999997E-3},{"$f":"MIN(OFFSET(Male!AE$18,'Male - Rev'!$A15-35,0),0.03999)","v":8.2000000000000007E-3},{"$f":"MIN(OFFSET(Male!AF$18,'Male - Rev'!$A15-35,0),0.03999)","v":6.7999999999999996E-3},{"$f":"MIN(OFFSET(Male!AG$18,'Male - Rev'!$A15-35,0),0.03999)","v":5.4999999999999997E-3},{"$f":"MIN(OFFSET(Male!AH$18,'Male - Rev'!$A15-35,0),0.03999)","v":4.5999999999999999E-3},{"$f":"MIN(OFFSET(Male!AI$18,'Male - Rev'!$A15-35,0),0.03999)","v":4.1000000000000003E-3},{"$f":"MIN(OFFSET(Male!AJ$18,'Male - Rev'!$A15-35,0),0.03999)","v":4.1000000000000003E-3},{"$f":"MIN(OFFSET(Male!AK$18,'Male - Rev'!$A15-35,0),0.03999)","v":4.3E-3},{"$f":"MIN(OFFSET(Male!AL$18,'Male - Rev'!$A15-35,0),0.03999)","v":4.7999999999999996E-3},{"$f":"MIN(OFFSET(Male!AM$18,'Male - Rev'!$A15-35,0),0.03999)","v":5.3E-3},{"$f":"MIN(OFFSET(Male!AN$18,'Male - Rev'!$A15-35,0),0.03999)","v":5.7999999999999996E-3},{"$f":"MIN(OFFSET(Male!AO$18,'Male - Rev'!$A15-35,0),0.03999)","v":6.1000000000000004E-3},{"$f":"MIN(OFFSET(Male!AP$18,'Male - Rev'!$A15-35,0),0.03999)","v":6.1999999999999998E-3},{"$f":"MIN(OFFSET(Male!AQ$18,'Male - Rev'!$A15-35,0),0.03999)","v":6.1999999999999998E-3},{"$f":"MIN(OFFSET(Male!AR$18,'Male - Rev'!$A15-35,0),0.03999)","v":6.1999999999999998E-3},{"$f":"MIN(OFFSET(Male!AS$18,'Male - Rev'!$A15-35,0),0.03999)","v":6.3E-3},{"$f":"MIN(OFFSET(Male!AT$18,'Male - Rev'!$A15-35,0),0.03999)","v":6.7000000000000002E-3},{"$f":"MIN(OFFSET(Male!AU$18,'Male - Rev'!$A15-35,0),0.03999)","v":7.3000000000000001E-3},{"$f":"MIN(OFFSET(Male!AV$18,'Male - Rev'!$A15-35,0),0.03999)","v":8.3000000000000001E-3},{"$f":"MIN(OFFSET(Male!AW$18,'Male - Rev'!$A15-35,0),0.03999)","v":9.5999999999999992E-3},{"$f":"MIN(OFFSET(Male!AX$18,'Male - Rev'!$A15-35,0),0.03999)","v":1.1299999999999999E-2},{"$f":"MIN(OFFSET(Male!AY$18,'Male - Rev'!$A15-35,0),0.03999)","v":1.32E-2},{"$f":"MIN(OFFSET(Male!AZ$18,'Male - Rev'!$A15-35,0),0.03999)","v":1.5100000000000001E-2},{"$f":"MIN(OFFSET(Male!BA$18,'Male - Rev'!$A15-35,0),0.03999)","v":1.6899999999999998E-2},{"$f":"MIN(OFFSET(Male!BB$18,'Male - Rev'!$A15-35,0),0.03999)","v":1.8499999999999999E-2},{"$f":"MIN(OFFSET(Male!BC$18,'Male - Rev'!$A15-35,0),0.03999)","v":1.9599999999999999E-2},{"$f":"MIN(OFFSET(Male!BD$18,'Male - Rev'!$A15-35,0),0.03999)","v":2.0199999999999999E-2},{"$f":"MIN(OFFSET(Male!BE$18,'Male - Rev'!$A15-35,0),0.03999)","v":2.0199999999999999E-2},{"$f":"MIN(OFFSET(Male!BF$18,'Male - Rev'!$A15-35,0),0.03999)","v":1.9599999999999999E-2},{"$f":"MIN(OFFSET(Male!BG$18,'Male - Rev'!$A15-35,0),0.03999)","v":1.8599999999999998E-2},{"$f":"MIN(OFFSET(Male!BH$18,'Male - Rev'!$A15-35,0),0.03999)","v":1.7100000000000001E-2},{"$f":"MIN(OFFSET(Male!BI$18,'Male - Rev'!$A15-35,0),0.03999)","v":1.52E-2},{"$f":"MIN(OFFSET(Male!BJ$18,'Male - Rev'!$A15-35,0),0.03999)","v":1.32E-2},{"$f":"MIN(OFFSET(Male!BK$18,'Male - Rev'!$A15-35,0),0.03999)","v":1.11E-2},{"$f":"MIN(OFFSET(Male!BL$18,'Male - Rev'!$A15-35,0),0.03999)","v":8.9999999999999993E-3},{"$f":"MIN(OFFSET(Male!BM$18,'Male - Rev'!$A15-35,0),0.03999)","v":6.8999999999999999E-3},{"$f":"MIN(OFFSET(Male!BN$18,'Male - Rev'!$A15-35,0),0.03999)","v":4.7999999999999996E-3},{"$f":"MIN(OFFSET(Male!BO$18,'Male - Rev'!$A15-35,0),0.03999)","v":5.0000000000000001E-3},{"$f":"MIN(OFFSET(Male!BP$18,'Male - Rev'!$A15-35,0),0.03999)","v":5.3E-3},{"$f":"MIN(OFFSET(Male!BQ$18,'Male - Rev'!$A15-35,0),0.03999)","v":5.7999999999999996E-3},{"$f":"MIN(OFFSET(Male!BR$18,'Male - Rev'!$A15-35,0),0.03999)","v":6.3E-3},{"$f":"MIN(OFFSET(Male!BS$18,'Male - Rev'!$A15-35,0),0.03999)","v":6.8999999999999999E-3},{"$f":"MIN(OFFSET(Male!BT$18,'Male - Rev'!$A15-35,0),0.03999)","v":7.4999999999999997E-3},{"$f":"MIN(OFFSET(Male!BU$18,'Male - Rev'!$A15-35,0),0.03999)","v":8.0000000000000002E-3},{"$f":"MIN(OFFSET(Male!BV$18,'Male - Rev'!$A15-35,0),0.03999)","v":8.5000000000000006E-3},{"$f":"MIN(OFFSET(Male!BW$18,'Male - Rev'!$A15-35,0),0.03999)","v":8.8000000000000005E-3},{"$f":"MIN(OFFSET(Male!BX$18,'Male - Rev'!$A15-35,0),0.03999)","v":8.8999999999999999E-3},{"$f":"MIN(OFFSET(Male!BY$18,'Male - Rev'!$A15-35,0),0.03999)","v":8.9999999999999993E-3},{"$f":"MIN(OFFSET(Male!BZ$18,'Male - Rev'!$A15-35,0),0.03999)","v":8.9999999999999993E-3},{"$f":"MIN(OFFSET(Male!CA$18,'Male - Rev'!$A15-35,0),0.03999)","v":8.9999999999999993E-3},{"$f":"MIN(OFFSET(Male!CB$18,'Male - Rev'!$A15-35,0),0.03999)","v":8.9999999999999993E-3},{"$f":"MIN(OFFSET(Male!CC$18,'Male - Rev'!$A15-35,0),0.03999)","v":9.1999999999999998E-3},{"$f":"MIN(OFFSET(Male!CD$18,'Male - Rev'!$A15-35,0),0.03999)","v":9.2999999999999992E-3},{"$f":"MIN(OFFSET(Male!CE$18,'Male - Rev'!$A15-35,0),0.03999)","v":9.5999999999999992E-3},{"$f":"MIN(OFFSET(Male!CF$18,'Male - Rev'!$A15-35,0),0.03999)","v":9.7999999999999997E-3},{"$f":"MIN(OFFSET(Male!CG$18,'Male - Rev'!$A15-35,0),0.03999)","v":9.9000000000000008E-3},{"$f":"MIN(OFFSET(Male!CH$18,'Male - Rev'!$A15-35,0),0.03999)","v":0.01}]
[82,82,{"$f":"MIN(OFFSET(Male!B$18,'Male - Rev'!$A16-35,0),0.03999)","v":6.7999999999999996E-3},{"$f":"MIN(OFFSET(Male!C$18,'Male - Rev'!$A16-35,0),0.03999)","v":5.5999999999999999E-3},{"$f":"MIN(OFFSET(Male!D$18,'Male - Rev'!$A16-35,0),0.03999)","v":4.4999999999999997E-3},{"$f":"MIN(OFFSET(Male!E$18,'Male - Rev'!$A16-35,0),0.03999)","v":3.3E-3},{"$f":"MIN(OFFSET(Male!F$18,'Male - Rev'!$A16-35,0),0.03999)","v":2.0999999999999999E-3},{"$f":"MIN(OFFSET(Male!G$18,'Male - Rev'!$A16-35,0),0.03999)","v":1E-3},{"$f":"MIN(OFFSET(Male!H$18,'Male - Rev'!$A16-35,0),0.03999)","v":0},{"$f":"MIN(OFFSET(Male!I$18,'Male - Rev'!$A16-35,0),0.03999)","v":-8.0000000000000004E-4},{"$f":"MIN(OFFSET(Male!J$18,'Male - Rev'!$A16-35,0),0.03999)","v":-1.4E-3},{"$f":"MIN(OFFSET(Male!K$18,'Male - Rev'!$A16-35,0),0.03999)","v":-1.8E-3},{"$f":"MIN(OFFSET(Male!L$18,'Male - Rev'!$A16-35,0),0.03999)","v":-1.9E-3},{"$f":"MIN(OFFSET(Male!M$18,'Male - Rev'!$A16-35,0),0.03999)","v":-1.6999999999999999E-3},{"$f":"MIN(OFFSET(Male!N$18,'Male - Rev'!$A16-35,0),0.03999)","v":-1.1999999999999999E-3},{"$f":"MIN(OFFSET(Male!O$18,'Male - Rev'!$A16-35,0),0.03999)","v":-4.0000000000000002E-4},{"$f":"MIN(OFFSET(Male!P$18,'Male - Rev'!$A16-35,0),0.03999)","v":5.9999999999999995E-4},{"$f":"MIN(OFFSET(Male!Q$18,'Male - Rev'!$A16-35,0),0.03999)","v":1.9E-3},{"$f":"MIN(OFFSET(Male!R$18,'Male - Rev'!$A16-35,0),0.03999)","v":3.3999999999999998E-3},{"$f":"MIN(OFFSET(Male!S$18,'Male - Rev'!$A16-35,0),0.03999)","v":5.1000000000000004E-3},{"$f":"MIN(OFFSET(Male!T$18,'Male - Rev'!$A16-35,0),0.03999)","v":6.8999999999999999E-3},{"$f":"MIN(OFFSET(Male!U$18,'Male - Rev'!$A16-35,0),0.03999)","v":8.8000000000000005E-3},{"$f":"MIN(OFFSET(Male!V$18,'Male - Rev'!$A16-35,0),0.03999)","v":1.0500000000000001E-2},{"$f":"MIN(OFFSET(Male!W$18,'Male - Rev'!$A16-35,0),0.03999)","v":1.2E-2},{"$f":"MIN(OFFSET(Male!X$18,'Male - Rev'!$A16-35,0),0.03999)","v":1.32E-2},{"$f":"MIN(OFFSET(Male!Y$18,'Male - Rev'!$A16-35,0),0.03999)","v":1.3899999999999999E-2},{"$f":"MIN(OFFSET(Male!Z$18,'Male - Rev'!$A16-35,0),0.03999)","v":1.4E-2},{"$f":"MIN(OFFSET(Male!AA$18,'Male - Rev'!$A16-35,0),0.03999)","v":1.35E-2},{"$f":"MIN(OFFSET(Male!AB$18,'Male - Rev'!$A16-35,0),0.03999)","v":1.26E-2},{"$f":"MIN(OFFSET(Male!AC$18,'Male - Rev'!$A16-35,0),0.03999)","v":1.1299999999999999E-2},{"$f":"MIN(OFFSET(Male!AD$18,'Male - Rev'!$A16-35,0),0.03999)","v":9.7000000000000003E-3},{"$f":"MIN(OFFSET(Male!AE$18,'Male - Rev'!$A16-35,0),0.03999)","v":8.2000000000000007E-3},{"$f":"MIN(OFFSET(Male!AF$18,'Male - Rev'!$A16-35,0),0.03999)","v":6.7000000000000002E-3},{"$f":"MIN(OFFSET(Male!AG$18,'Male - Rev'!$A16-35,0),0.03999)","v":5.5999999999999999E-3},{"$f":"MIN(OFFSET(Male!AH$18,'Male - Rev'!$A16-35,0),0.03999)","v":4.8999999999999998E-3},{"$f":"MIN(OFFSET(Male!AI$18,'Male - Rev'!$A16-35,0),0.03999)","v":4.5999999999999999E-3},{"$f":"MIN(OFFSET(Male!AJ$18,'Male - Rev'!$A16-35,0),0.03999)","v":4.7000000000000002E-3},{"$f":"MIN(OFFSET(Male!AK$18,'Male - Rev'!$A16-35,0),0.03999)","v":5.1999999999999998E-3},{"$f":"MIN(OFFSET(Male!AL$18,'Male - Rev'!$A16-35,0),0.03999)","v":5.8999999999999999E-3},{"$f":"MIN(OFFSET(Male!AM$18,'Male - Rev'!$A16-35,0),0.03999)","v":6.6E-3},{"$f":"MIN(OFFSET(Male!AN$18,'Male - Rev'!$A16-35,0),0.03999)","v":7.1999999999999998E-3},{"$f":"MIN(OFFSET(Male!AO$18,'Male - Rev'!$A16-35,0),0.03999)","v":7.6E-3},{"$f":"MIN(OFFSET(Male!AP$18,'Male - Rev'!$A16-35,0),0.03999)","v":7.7999999999999996E-3},{"$f":"MIN(OFFSET(Male!AQ$18,'Male - Rev'!$A16-35,0),0.03999)","v":7.7999999999999996E-3},{"$f":"MIN(OFFSET(Male!AR$18,'Male - Rev'!$A16-35,0),0.03999)","v":7.7000000000000002E-3},{"$f":"MIN(OFFSET(Male!AS$18,'Male - Rev'!$A16-35,0),0.03999)","v":7.7000000000000002E-3},{"$f":"MIN(OFFSET(Male!AT$18,'Male - Rev'!$A16-35,0),0.03999)","v":7.9000000000000008E-3},{"$f":"MIN(OFFSET(Male!AU$18,'Male - Rev'!$A16-35,0),0.03999)","v":8.3999999999999995E-3},{"$f":"MIN(OFFSET(Male!AV$18,'Male - Rev'!$A16-35,0),0.03999)","v":9.2999999999999992E-3},{"$f":"MIN(OFFSET(Male!AW$18,'Male - Rev'!$A16-35,0),0.03999)","v":1.0500000000000001E-2},{"$f":"MIN(OFFSET(Male!AX$18,'Male - Rev'!$A16-35,0),0.03999)","v":1.2200000000000001E-2},{"$f":"MIN(OFFSET(Male!AY$18,'Male - Rev'!$A16-35,0),0.03999)","v":1.4E-2},{"$f":"MIN(OFFSET(Male!AZ$18,'Male - Rev'!$A16-35,0),0.03999)","v":1.5900000000000001E-2},{"$f":"MIN(OFFSET(Male!BA$18,'Male - Rev'!$A16-35,0),0.03999)","v":1.78E-2},{"$f":"MIN(OFFSET(Male!BB$18,'Male - Rev'!$A16-35,0),0.03999)","v":1.9300000000000001E-2},{"$f":"MIN(OFFSET(Male!BC$18,'Male - Rev'!$A16-35,0),0.03999)","v":2.0400000000000001E-2},{"$f":"MIN(OFFSET(Male!BD$18,'Male - Rev'!$A16-35,0),0.03999)","v":2.1000000000000001E-2},{"$f":"MIN(OFFSET(Male!BE$18,'Male - Rev'!$A16-35,0),0.03999)","v":2.1000000000000001E-2},{"$f":"MIN(OFFSET(Male!BF$18,'Male - Rev'!$A16-35,0),0.03999)","v":2.0400000000000001E-2},{"$f":"MIN(OFFSET(Male!BG$18,'Male - Rev'!$A16-35,0),0.03999)","v":1.9300000000000001E-2},{"$f":"MIN(OFFSET(Male!BH$18,'Male - Rev'!$A16-35,0),0.03999)","v":1.77E-2},{"$f":"MIN(OFFSET(Male!BI$18,'Male - Rev'!$A16-35,0),0.03999)","v":1.5800000000000002E-2},{"$f":"MIN(OFFSET(Male!BJ$18,'Male - Rev'!$A16-35,0),0.03999)","v":1.37E-2},{"$f":"MIN(OFFSET(Male!BK$18,'Male - Rev'!$A16-35,0),0.03999)","v":1.15E-2},{"$f":"MIN(OFFSET(Male!BL$18,'Male - Rev'!$A16-35,0),0.03999)","v":9.2999999999999992E-3},{"$f":"MIN(OFFSET(Male!BM$18,'Male - Rev'!$A16-35,0),0.03999)","v":7.1999999999999998E-3},{"$f":"MIN(OFFSET(Male!BN$18,'Male - Rev'!$A16-35,0),0.03999)","v":5.1000000000000004E-3},{"$f":"MIN(OFFSET(Male!BO$18,'Male - Rev'!$A16-35,0),0.03999)","v":5.3E-3},{"$f":"MIN(OFFSET(Male!BP$18,'Male - Rev'!$A16-35,0),0.03999)","v":5.5999999999999999E-3},{"$f":"MIN(OFFSET(Male!BQ$18,'Male - Rev'!$A16-35,0),0.03999)","v":6.0000000000000001E-3},{"$f":"MIN(OFFSET(Male!BR$18,'Male - Rev'!$A16-35,0),0.03999)","v":6.6E-3},{"$f":"MIN(OFFSET(Male!BS$18,'Male - Rev'!$A16-35,0),0.03999)","v":7.1000000000000004E-3},{"$f":"MIN(OFFSET(Male!BT$18,'Male - Rev'!$A16-35,0),0.03999)","v":7.7000000000000002E-3},{"$f":"MIN(OFFSET(Male!BU$18,'Male - Rev'!$A16-35,0),0.03999)","v":8.2000000000000007E-3},{"$f":"MIN(OFFSET(Male!BV$18,'Male - Rev'!$A16-35,0),0.03999)","v":8.6E-3},{"$f":"MIN(OFFSET(Male!BW$18,'Male - Rev'!$A16-35,0),0.03999)","v":8.8000000000000005E-3},{"$f":"MIN(OFFSET(Male!BX$18,'Male - Rev'!$A16-35,0),0.03999)","v":8.8999999999999999E-3},{"$f":"MIN(OFFSET(Male!BY$18,'Male - Rev'!$A16-35,0),0.03999)","v":8.8999999999999999E-3},{"$f":"MIN(OFFSET(Male!BZ$18,'Male - Rev'!$A16-35,0),0.03999)","v":8.8000000000000005E-3},{"$f":"MIN(OFFSET(Male!CA$18,'Male - Rev'!$A16-35,0),0.03999)","v":8.8999999999999999E-3},{"$f":"MIN(OFFSET(Male!CB$18,'Male - Rev'!$A16-35,0),0.03999)","v":8.8999999999999999E-3},{"$f":"MIN(OFFSET(Male!CC$18,'Male - Rev'!$A16-35,0),0.03999)","v":9.1000000000000004E-3},{"$f":"MIN(OFFSET(Male!CD$18,'Male - Rev'!$A16-35,0),0.03999)","v":9.2999999999999992E-3},{"$f":"MIN(OFFSET(Male!CE$18,'Male - Rev'!$A16-35,0),0.03999)","v":9.5999999999999992E-3},{"$f":"MIN(OFFSET(Male!CF$18,'Male - Rev'!$A16-35,0),0.03999)","v":9.7999999999999997E-3},{"$f":"MIN(OFFSET(Male!CG$18,'Male - Rev'!$A16-35,0),0.03999)","v":9.9000000000000008E-3},{"$f":"MIN(OFFSET(Male!CH$18,'Male - Rev'!$A16-35,0),0.03999)","v":0.01}]
[81,81,{"$f":"MIN(OFFSET(Male!B$18,'Male - Rev'!$A17-35,0),0.03999)","v":7.7000000000000002E-3},{"$f":"MIN(OFFSET(Male!C$18,'Male - Rev'!$A17-35,0),0.03999)","v":6.4999999999999997E-3},{"$f":"MIN(OFFSET(Male!D$18,'Male - Rev'!$A17-35,0),0.03999)","v":5.3E-3},{"$f":"MIN(OFFSET(Male!E$18,'Male - Rev'!$A17-35,0),0.03999)","v":4.0000000000000001E-3},{"$f":"MIN(OFFSET(Male!F$18,'Male - Rev'!$A17-35,0),0.03999)","v":2.8E-3},{"$f":"MIN(OFFSET(Male!G$18,'Male - Rev'!$A17-35,0),0.03999)","v":1.6999999999999999E-3},{"$f":"MIN(OFFSET(Male!H$18,'Male - Rev'!$A17-35,0),0.03999)","v":5.9999999999999995E-4},{"$f":"MIN(OFFSET(Male!I$18,'Male - Rev'!$A17-35,0),0.03999)","v":-2.9999999999999997E-4},{"$f":"MIN(OFFSET(Male!J$18,'Male - Rev'!$A17-35,0),0.03999)","v":-1E-3},{"$f":"MIN(OFFSET(Male!K$18,'Male - Rev'!$A17-35,0),0.03999)","v":-1.5E-3},{"$f":"MIN(OFFSET(Male!L$18,'Male - Rev'!$A17-35,0),0.03999)","v":-1.6999999999999999E-3},{"$f":"MIN(OFFSET(Male!M$18,'Male - Rev'!$A17-35,0),0.03999)","v":-1.6999999999999999E-3},{"$f":"MIN(OFFSET(Male!N$18,'Male - Rev'!$A17-35,0),0.03999)","v":-1.4E-3},{"$f":"MIN(OFFSET(Male!O$18,'Male - Rev'!$A17-35,0),0.03999)","v":-8.0000000000000004E-4},{"$f":"MIN(OFFSET(Male!P$18,'Male - Rev'!$A17-35,0),0.03999)","v":2.0000000000000001E-4},{"$f":"MIN(OFFSET(Male!Q$18,'Male - Rev'!$A17-35,0),0.03999)","v":1.4E-3},{"$f":"MIN(OFFSET(Male!R$18,'Male - Rev'!$A17-35,0),0.03999)","v":2.8999999999999998E-3},{"$f":"MIN(OFFSET(Male!S$18,'Male - Rev'!$A17-35,0),0.03999)","v":4.5999999999999999E-3},{"$f":"MIN(OFFSET(Male!T$18,'Male - Rev'!$A17-35,0),0.03999)","v":6.4999999999999997E-3},{"$f":"MIN(OFFSET(Male!U$18,'Male - Rev'!$A17-35,0),0.03999)","v":8.3999999999999995E-3},{"$f":"MIN(OFFSET(Male!V$18,'Male - Rev'!$A17-35,0),0.03999)","v":1.0200000000000001E-2},{"$f":"MIN(OFFSET(Male!W$18,'Male - Rev'!$A17-35,0),0.03999)","v":1.18E-2},{"$f":"MIN(OFFSET(Male!X$18,'Male - Rev'!$A17-35,0),0.03999)","v":1.3100000000000001E-2},{"$f":"MIN(OFFSET(Male!Y$18,'Male - Rev'!$A17-35,0),0.03999)","v":1.38E-2},{"$f":"MIN(OFFSET(Male!Z$18,'Male - Rev'!$A17-35,0),0.03999)","v":1.4E-2},{"$f":"MIN(OFFSET(Male!AA$18,'Male - Rev'!$A17-35,0),0.03999)","v":1.35E-2},{"$f":"MIN(OFFSET(Male!AB$18,'Male - Rev'!$A17-35,0),0.03999)","v":1.26E-2},{"$f":"MIN(OFFSET(Male!AC$18,'Male - Rev'!$A17-35,0),0.03999)","v":1.12E-2},{"$f":"MIN(OFFSET(Male!AD$18,'Male - Rev'!$A17-35,0),0.03999)","v":9.7000000000000003E-3},{"$f":"MIN(OFFSET(Male!AE$18,'Male - Rev'!$A17-35,0),0.03999)","v":8.0999999999999996E-3},{"$f":"MIN(OFFSET(Male!AF$18,'Male - Rev'!$A17-35,0),0.03999)","v":6.7999999999999996E-3},{"$f":"MIN(OFFSET(Male!AG$18,'Male - Rev'!$A17-35,0),0.03999)","v":5.7000000000000002E-3},{"$f":"MIN(OFFSET(Male!AH$18,'Male - Rev'!$A17-35,0),0.03999)","v":5.1000000000000004E-3},{"$f":"MIN(OFFSET(Male!AI$18,'Male - Rev'!$A17-35,0),0.03999)","v":5.0000000000000001E-3},{"$f":"MIN(OFFSET(Male!AJ$18,'Male - Rev'!$A17-35,0),0.03999)","v":5.4000000000000003E-3},{"$f":"MIN(OFFSET(Male!AK$18,'Male - Rev'!$A17-35,0),0.03999)","v":6.1000000000000004E-3},{"$f":"MIN(OFFSET(Male!AL$18,'Male - Rev'!$A17-35,0),0.03999)","v":7.1000000000000004E-3},{"$f":"MIN(OFFSET(Male!AM$18,'Male - Rev'!$A17-35,0),0.03999)","v":8.0000000000000002E-3},{"$f":"MIN(OFFSET(Male!AN$18,'Male - Rev'!$A17-35,0),0.03999)","v":8.6999999999999994E-3},{"$f":"MIN(OFFSET(Male!AO$18,'Male - Rev'!$A17-35,0),0.03999)","v":9.1999999999999998E-3},{"$f":"MIN(OFFSET(Male!AP$18,'Male - Rev'!$A17-35,0),0.03999)","v":9.2999999999999992E-3},{"$f":"MIN(OFFSET(Male!AQ$18,'Male - Rev'!$A17-35,0),0.03999)","v":9.1999999999999998E-3},{"$f":"MIN(OFFSET(Male!AR$18,'Male - Rev'!$A17-35,0),0.03999)","v":8.9999999999999993E-3},{"$f":"MIN(OFFSET(Male!AS$18,'Male - Rev'!$A17-35,0),0.03999)","v":8.8999999999999999E-3},{"$f":"MIN(OFFSET(Male!AT$18,'Male - Rev'!$A17-35,0),0.03999)","v":8.9999999999999993E-3},{"$f":"MIN(OFFSET(Male!AU$18,'Male - Rev'!$A17-35,0),0.03999)","v":9.4000000000000004E-3},{"$f":"MIN(OFFSET(Male!AV$18,'Male - Rev'!$A17-35,0),0.03999)","v":1.0200000000000001E-2},{"$f":"MIN(OFFSET(Male!AW$18,'Male - Rev'!$A17-35,0),0.03999)","v":1.14E-2},{"$f":"MIN(OFFSET(Male!AX$18,'Male - Rev'!$A17-35,0),0.03999)","v":1.29E-2},{"$f":"MIN(OFFSET(Male!AY$18,'Male - Rev'!$A17-35,0),0.03999)","v":1.47E-2},{"$f":"MIN(OFFSET(Male!AZ$18,'Male - Rev'!$A17-35,0),0.03999)","v":1.66E-2},{"$f":"MIN(OFFSET(Male!BA$18,'Male - Rev'!$A17-35,0),0.03999)","v":1.8499999999999999E-2},{"$f":"MIN(OFFSET(Male!BB$18,'Male - Rev'!$A17-35,0),0.03999)","v":2.01E-2},{"$f":"MIN(OFFSET(Male!BC$18,'Male - Rev'!$A17-35,0),0.03999)","v":2.12E-2},{"$f":"MIN(OFFSET(Male!BD$18,'Male - Rev'!$A17-35,0),0.03999)","v":2.18E-2},{"$f":"MIN(OFFSET(Male!BE$18,'Male - Rev'!$A17-35,0),0.03999)","v":2.18E-2},{"$f":"MIN(OFFSET(Male!BF$18,'Male - Rev'!$A17-35,0),0.03999)","v":2.12E-2},{"$f":"MIN(OFFSET(Male!BG$18,'Male - Rev'!$A17-35,0),0.03999)","v":0.02},{"$f":"MIN(OFFSET(Male!BH$18,'Male - Rev'!$A17-35,0),0.03999)","v":1.84E-2},{"$f":"MIN(OFFSET(Male!BI$18,'Male - Rev'!$A17-35,0),0.03999)","v":1.6400000000000001E-2},{"$f":"MIN(OFFSET(Male!BJ$18,'Male - Rev'!$A17-35,0),0.03999)","v":1.4200000000000001E-2},{"$f":"MIN(OFFSET(Male!BK$18,'Male - Rev'!$A17-35,0),0.03999)","v":1.1900000000000001E-2},{"$f":"MIN(OFFSET(Male!BL$18,'Male - Rev'!$A17-35,0),0.03999)","v":9.7000000000000003E-3},{"$f":"MIN(OFFSET(Male!BM$18,'Male - Rev'!$A17-35,0),0.03999)","v":7.4999999999999997E-3},{"$f":"MIN(OFFSET(Male!BN$18,'Male - Rev'!$A17-35,0),0.03999)","v":5.3E-3},{"$f":"MIN(OFFSET(Male!BO$18,'Male - Rev'!$A17-35,0),0.03999)","v":5.4999999999999997E-3},{"$f":"MIN(OFFSET(Male!BP$18,'Male - Rev'!$A17-35,0),0.03999)","v":5.8999999999999999E-3},{"$f":"MIN(OFFSET(Male!BQ$18,'Male - Rev'!$A17-35,0),0.03999)","v":6.3E-3},{"$f":"MIN(OFFSET(Male!BR$18,'Male - Rev'!$A17-35,0),0.03999)","v":6.7999999999999996E-3},{"$f":"MIN(OFFSET(Male!BS$18,'Male - Rev'!$A17-35,0),0.03999)","v":7.3000000000000001E-3},{"$f":"MIN(OFFSET(Male!BT$18,'Male - Rev'!$A17-35,0),0.03999)","v":7.7999999999999996E-3},{"$f":"MIN(OFFSET(Male!BU$18,'Male - Rev'!$A17-35,0),0.03999)","v":8.3000000000000001E-3},{"$f":"MIN(OFFSET(Male!BV$18,'Male - Rev'!$A17-35,0),0.03999)","v":8.6E-3},{"$f":"MIN(OFFSET(Male!BW$18,'Male - Rev'!$A17-35,0),0.03999)","v":8.6999999999999994E-3},{"$f":"MIN(OFFSET(Male!BX$18,'Male - Rev'!$A17-35,0),0.03999)","v":8.6999999999999994E-3},{"$f":"MIN(OFFSET(Male!BY$18,'Male - Rev'!$A17-35,0),0.03999)","v":8.6999999999999994E-3},{"$f":"MIN(OFFSET(Male!BZ$18,'Male - Rev'!$A17-35,0),0.03999)","v":8.6E-3},{"$f":"MIN(OFFSET(Male!CA$18,'Male - Rev'!$A17-35,0),0.03999)","v":8.6999999999999994E-3},{"$f":"MIN(OFFSET(Male!CB$18,'Male - Rev'!$A17-35,0),0.03999)","v":8.8000000000000005E-3},{"$f":"MIN(OFFSET(Male!CC$18,'Male - Rev'!$A17-35,0),0.03999)","v":8.9999999999999993E-3},{"$f":"MIN(OFFSET(Male!CD$18,'Male - Rev'!$A17-35,0),0.03999)","v":9.1999999999999998E-3},{"$f":"MIN(OFFSET(Male!CE$18,'Male - Rev'!$A17-35,0),0.03999)","v":9.4999999999999998E-3},{"$f":"MIN(OFFSET(Male!CF$18,'Male - Rev'!$A17-35,0),0.03999)","v":9.7999999999999997E-3},{"$f":"MIN(OFFSET(Male!CG$18,'Male - Rev'!$A17-35,0),0.03999)","v":9.9000000000000008E-3},{"$f":"MIN(OFFSET(Male!CH$18,'Male - Rev'!$A17-35,0),0.03999)","v":0.01}]
[80,80,{"$f":"MIN(OFFSET(Male!B$18,'Male - Rev'!$A18-35,0),0.03999)","v":8.3999999999999995E-3},{"$f":"MIN(OFFSET(Male!C$18,'Male - Rev'!$A18-35,0),0.03999)","v":7.1999999999999998E-3},{"$f":"MIN(OFFSET(Male!D$18,'Male - Rev'!$A18-35,0),0.03999)","v":5.8999999999999999E-3},{"$f":"MIN(OFFSET(Male!E$18,'Male - Rev'!$A18-35,0),0.03999)","v":4.7000000000000002E-3},{"$f":"MIN(OFFSET(Male!F$18,'Male - Rev'!$A18-35,0),0.03999)","v":3.3999999999999998E-3},{"$f":"MIN(OFFSET(Male!G$18,'Male - Rev'!$A18-35,0),0.03999)","v":2.2000000000000001E-3},{"$f":"MIN(OFFSET(Male!H$18,'Male - Rev'!$A18-35,0),0.03999)","v":1.1000000000000001E-3},{"$f":"MIN(OFFSET(Male!I$18,'Male - Rev'!$A18-35,0),0.03999)","v":1E-4},{"$f":"MIN(OFFSET(Male!J$18,'Male - Rev'!$A18-35,0),0.03999)","v":-6.9999999999999999E-4},{"$f":"MIN(OFFSET(Male!K$18,'Male - Rev'!$A18-35,0),0.03999)","v":-1.2999999999999999E-3},{"$f":"MIN(OFFSET(Male!L$18,'Male - Rev'!$A18-35,0),0.03999)","v":-1.6999999999999999E-3},{"$f":"MIN(OFFSET(Male!M$18,'Male - Rev'!$A18-35,0),0.03999)","v":-1.8E-3},{"$f":"MIN(OFFSET(Male!N$18,'Male - Rev'!$A18-35,0),0.03999)","v":-1.6000000000000001E-3},{"$f":"MIN(OFFSET(Male!O$18,'Male - Rev'!$A18-35,0),0.03999)","v":-1.1000000000000001E-3},{"$f":"MIN(OFFSET(Male!P$18,'Male - Rev'!$A18-35,0),0.03999)","v":-2.9999999999999997E-4},{"$f":"MIN(OFFSET(Male!Q$18,'Male - Rev'!$A18-35,0),0.03999)","v":8.9999999999999998E-4},{"$f":"MIN(OFFSET(Male!R$18,'Male - Rev'!$A18-35,0),0.03999)","v":2.3999999999999998E-3},{"$f":"MIN(OFFSET(Male!S$18,'Male - Rev'!$A18-35,0),0.03999)","v":4.1000000000000003E-3},{"$f":"MIN(OFFSET(Male!T$18,'Male - Rev'!$A18-35,0),0.03999)","v":6.1000000000000004E-3},{"$f":"MIN(OFFSET(Male!U$18,'Male - Rev'!$A18-35,0),0.03999)","v":8.0000000000000002E-3},{"$f":"MIN(OFFSET(Male!V$18,'Male - Rev'!$A18-35,0),0.03999)","v":9.9000000000000008E-3},{"$f":"MIN(OFFSET(Male!W$18,'Male - Rev'!$A18-35,0),0.03999)","v":1.1599999999999999E-2},{"$f":"MIN(OFFSET(Male!X$18,'Male - Rev'!$A18-35,0),0.03999)","v":1.29E-2},{"$f":"MIN(OFFSET(Male!Y$18,'Male - Rev'!$A18-35,0),0.03999)","v":1.38E-2},{"$f":"MIN(OFFSET(Male!Z$18,'Male - Rev'!$A18-35,0),0.03999)","v":1.4E-2},{"$f":"MIN(OFFSET(Male!AA$18,'Male - Rev'!$A18-35,0),0.03999)","v":1.35E-2},{"$f":"MIN(OFFSET(Male!AB$18,'Male - Rev'!$A18-35,0),0.03999)","v":1.26E-2},{"$f":"MIN(OFFSET(Male!AC$18,'Male - Rev'!$A18-35,0),0.03999)","v":1.12E-2},{"$f":"MIN(OFFSET(Male!AD$18,'Male - Rev'!$A18-35,0),0.03999)","v":9.7000000000000003E-3},{"$f":"MIN(OFFSET(Male!AE$18,'Male - Rev'!$A18-35,0),0.03999)","v":8.2000000000000007E-3},{"$f":"MIN(OFFSET(Male!AF$18,'Male - Rev'!$A18-35,0),0.03999)","v":6.8999999999999999E-3},{"$f":"MIN(OFFSET(Male!AG$18,'Male - Rev'!$A18-35,0),0.03999)","v":5.8999999999999999E-3},{"$f":"MIN(OFFSET(Male!AH$18,'Male - Rev'!$A18-35,0),0.03999)","v":5.4999999999999997E-3},{"$f":"MIN(OFFSET(Male!AI$18,'Male - Rev'!$A18-35,0),0.03999)","v":5.5999999999999999E-3},{"$f":"MIN(OFFSET(Male!AJ$18,'Male - Rev'!$A18-35,0),0.03999)","v":6.1999999999999998E-3},{"$f":"MIN(OFFSET(Male!AK$18,'Male - Rev'!$A18-35,0),0.03999)","v":7.1000000000000004E-3},{"$f":"MIN(OFFSET(Male!AL$18,'Male - Rev'!$A18-35,0),0.03999)","v":8.2000000000000007E-3},{"$f":"MIN(OFFSET(Male!AM$18,'Male - Rev'!$A18-35,0),0.03999)","v":9.2999999999999992E-3},{"$f":"MIN(OFFSET(Male!AN$18,'Male - Rev'!$A18-35,0),0.03999)","v":1.0200000000000001E-2},{"$f":"MIN(OFFSET(Male!AO$18,'Male - Rev'!$A18-35,0),0.03999)","v":1.0699999999999999E-2},{"$f":"MIN(OFFSET(Male!AP$18,'Male - Rev'!$A18-35,0),0.03999)","v":1.0800000000000001E-2},{"$f":"MIN(OFFSET(Male!AQ$18,'Male - Rev'!$A18-35,0),0.03999)","v":1.06E-2},{"$f":"MIN(OFFSET(Male!AR$18,'Male - Rev'!$A18-35,0),0.03999)","v":1.03E-2},{"$f":"MIN(OFFSET(Male!AS$18,'Male - Rev'!$A18-35,0),0.03999)","v":1.01E-2},{"$f":"MIN(OFFSET(Male!AT$18,'Male - Rev'!$A18-35,0),0.03999)","v":0.01},{"$f":"MIN(OFFSET(Male!AU$18,'Male - Rev'!$A18-35,0),0.03999)","v":1.03E-2},{"$f":"MIN(OFFSET(Male!AV$18,'Male - Rev'!$A18-35,0),0.03999)","v":1.0999999999999999E-2},{"$f":"MIN(OFFSET(Male!AW$18,'Male - Rev'!$A18-35,0),0.03999)","v":1.21E-2},{"$f":"MIN(OFFSET(Male!AX$18,'Male - Rev'!$A18-35,0),0.03999)","v":1.3599999999999999E-2},{"$f":"MIN(OFFSET(Male!AY$18,'Male - Rev'!$A18-35,0),0.03999)","v":1.54E-2},{"$f":"MIN(OFFSET(Male!AZ$18,'Male - Rev'!$A18-35,0),0.03999)","v":1.7299999999999999E-2},{"$f":"MIN(OFFSET(Male!BA$18,'Male - Rev'!$A18-35,0),0.03999)","v":1.9199999999999998E-2},{"$f":"MIN(OFFSET(Male!BB$18,'Male - Rev'!$A18-35,0),0.03999)","v":2.0799999999999999E-2},{"$f":"MIN(OFFSET(Male!BC$18,'Male - Rev'!$A18-35,0),0.03999)","v":2.1999999999999999E-2},{"$f":"MIN(OFFSET(Male!BD$18,'Male - Rev'!$A18-35,0),0.03999)","v":2.2599999999999999E-2},{"$f":"MIN(OFFSET(Male!BE$18,'Male - Rev'!$A18-35,0),0.03999)","v":2.2599999999999999E-2},{"$f":"MIN(OFFSET(Male!BF$18,'Male - Rev'!$A18-35,0),0.03999)","v":2.1999999999999999E-2},{"$f":"MIN(OFFSET(Male!BG$18,'Male - Rev'!$A18-35,0),0.03999)","v":2.07E-2},{"$f":"MIN(OFFSET(Male!BH$18,'Male - Rev'!$A18-35,0),0.03999)","v":1.9E-2},{"$f":"MIN(OFFSET(Male!BI$18,'Male - Rev'!$A18-35,0),0.03999)","v":1.6899999999999998E-2},{"$f":"MIN(OFFSET(Male!BJ$18,'Male - Rev'!$A18-35,0),0.03999)","v":1.46E-2},{"$f":"MIN(OFFSET(Male!BK$18,'Male - Rev'!$A18-35,0),0.03999)","v":1.23E-2},{"$f":"MIN(OFFSET(Male!BL$18,'Male - Rev'!$A18-35,0),0.03999)","v":0.01},{"$f":"MIN(OFFSET(Male!BM$18,'Male - Rev'!$A18-35,0),0.03999)","v":7.7999999999999996E-3},{"$f":"MIN(OFFSET(Male!BN$18,'Male - Rev'!$A18-35,0),0.03999)","v":5.5999999999999999E-3},{"$f":"MIN(OFFSET(Male!BO$18,'Male - Rev'!$A18-35,0),0.03999)","v":5.7999999999999996E-3},{"$f":"MIN(OFFSET(Male!BP$18,'Male - Rev'!$A18-35,0),0.03999)","v":6.1999999999999998E-3},{"$f":"MIN(OFFSET(Male!BQ$18,'Male - Rev'!$A18-35,0),0.03999)","v":6.6E-3},{"$f":"MIN(OFFSET(Male!BR$18,'Male - Rev'!$A18-35,0),0.03999)","v":7.1000000000000004E-3},{"$f":"MIN(OFFSET(Male!BS$18,'Male - Rev'!$A18-35,0),0.03999)","v":7.4999999999999997E-3},{"$f":"MIN(OFFSET(Male!BT$18,'Male - Rev'!$A18-35,0),0.03999)","v":7.9000000000000008E-3},{"$f":"MIN(OFFSET(Male!BU$18,'Male - Rev'!$A18-35,0),0.03999)","v":8.3000000000000001E-3},{"$f":"MIN(OFFSET(Male!BV$18,'Male - Rev'!$A18-35,0),0.03999)","v":8.5000000000000006E-3},{"$f":"MIN(OFFSET(Male!BW$18,'Male - Rev'!$A18-35,0),0.03999)","v":8.6E-3},{"$f":"MIN(OFFSET(Male!BX$18,'Male - Rev'!$A18-35,0),0.03999)","v":8.5000000000000006E-3},{"$f":"MIN(OFFSET(Male!BY$18,'Male - Rev'!$A18-35,0),0.03999)","v":8.3999999999999995E-3},{"$f":"MIN(OFFSET(Male!BZ$18,'Male - Rev'!$A18-35,0),0.03999)","v":8.3999999999999995E-3},{"$f":"MIN(OFFSET(Male!CA$18,'Male - Rev'!$A18-35,0),0.03999)","v":8.3999999999999995E-3},{"$f":"MIN(OFFSET(Male!CB$18,'Male - Rev'!$A18-35,0),0.03999)","v":8.6E-3},{"$f":"MIN(OFFSET(Male!CC$18,'Male - Rev'!$A18-35,0),0.03999)","v":8.8999999999999999E-3},{"$f":"MIN(OFFSET(Male!CD$18,'Male - Rev'!$A18-35,0),0.03999)","v":9.1000000000000004E-3},{"$f":"MIN(OFFSET(Male!CE$18,'Male - Rev'!$A18-35,0),0.03999)","v":9.4999999999999998E-3},{"$f":"MIN(OFFSET(Male!CF$18,'Male - Rev'!$A18-35,0),0.03999)","v":9.7000000000000003E-3},{"$f":"MIN(OFFSET(Male!CG$18,'Male - Rev'!$A18-35,0),0.03999)","v":9.9000000000000008E-3},{"$f":"MIN(OFFSET(Male!CH$18,'Male - Rev'!$A18-35,0),0.03999)","v":0.01}]
[79,79,{"$f":"MIN(OFFSET(Male!B$18,'Male - Rev'!$A19-35,0),0.03999)","v":9.1000000000000004E-3},{"$f":"MIN(OFFSET(Male!C$18,'Male - Rev'!$A19-35,0),0.03999)","v":7.7999999999999996E-3},{"$f":"MIN(OFFSET(Male!D$18,'Male - Rev'!$A19-35,0),0.03999)","v":6.4999999999999997E-3},{"$f":"MIN(OFFSET(Male!E$18,'Male - Rev'!$A19-35,0),0.03999)","v":5.1999999999999998E-3},{"$f":"MIN(OFFSET(Male!F$18,'Male - Rev'!$A19-35,0),0.03999)","v":3.8E-3},{"$f":"MIN(OFFSET(Male!G$18,'Male - Rev'!$A19-35,0),0.03999)","v":2.5999999999999999E-3},{"$f":"MIN(OFFSET(Male!H$18,'Male - Rev'!$A19-35,0),0.03999)","v":1.4E-3},{"$f":"MIN(OFFSET(Male!I$18,'Male - Rev'!$A19-35,0),0.03999)","v":4.0000000000000002E-4},{"$f":"MIN(OFFSET(Male!J$18,'Male - Rev'!$A19-35,0),0.03999)","v":-5.0000000000000001E-4},{"$f":"MIN(OFFSET(Male!K$18,'Male - Rev'!$A19-35,0),0.03999)","v":-1.1999999999999999E-3},{"$f":"MIN(OFFSET(Male!L$18,'Male - Rev'!$A19-35,0),0.03999)","v":-1.6999999999999999E-3},{"$f":"MIN(OFFSET(Male!M$18,'Male - Rev'!$A19-35,0),0.03999)","v":-2E-3},{"$f":"MIN(OFFSET(Male!N$18,'Male - Rev'!$A19-35,0),0.03999)","v":-1.9E-3},{"$f":"MIN(OFFSET(Male!O$18,'Male - Rev'!$A19-35,0),0.03999)","v":-1.5E-3},{"$f":"MIN(OFFSET(Male!P$18,'Male - Rev'!$A19-35,0),0.03999)","v":-6.9999999999999999E-4},{"$f":"MIN(OFFSET(Male!Q$18,'Male - Rev'!$A19-35,0),0.03999)","v":5.0000000000000001E-4},{"$f":"MIN(OFFSET(Male!R$18,'Male - Rev'!$A19-35,0),0.03999)","v":2E-3},{"$f":"MIN(OFFSET(Male!S$18,'Male - Rev'!$A19-35,0),0.03999)","v":3.7000000000000002E-3},{"$f":"MIN(OFFSET(Male!T$18,'Male - Rev'!$A19-35,0),0.03999)","v":5.7000000000000002E-3},{"$f":"MIN(OFFSET(Male!U$18,'Male - Rev'!$A19-35,0),0.03999)","v":7.7000000000000002E-3},{"$f":"MIN(OFFSET(Male!V$18,'Male - Rev'!$A19-35,0),0.03999)","v":9.7000000000000003E-3},{"$f":"MIN(OFFSET(Male!W$18,'Male - Rev'!$A19-35,0),0.03999)","v":1.14E-2},{"$f":"MIN(OFFSET(Male!X$18,'Male - Rev'!$A19-35,0),0.03999)","v":1.2800000000000001E-2},{"$f":"MIN(OFFSET(Male!Y$18,'Male - Rev'!$A19-35,0),0.03999)","v":1.37E-2},{"$f":"MIN(OFFSET(Male!Z$18,'Male - Rev'!$A19-35,0),0.03999)","v":1.4E-2},{"$f":"MIN(OFFSET(Male!AA$18,'Male - Rev'!$A19-35,0),0.03999)","v":1.3599999999999999E-2},{"$f":"MIN(OFFSET(Male!AB$18,'Male - Rev'!$A19-35,0),0.03999)","v":1.26E-2},{"$f":"MIN(OFFSET(Male!AC$18,'Male - Rev'!$A19-35,0),0.03999)","v":1.1299999999999999E-2},{"$f":"MIN(OFFSET(Male!AD$18,'Male - Rev'!$A19-35,0),0.03999)","v":9.7999999999999997E-3},{"$f":"MIN(OFFSET(Male!AE$18,'Male - Rev'!$A19-35,0),0.03999)","v":8.3000000000000001E-3},{"$f":"MIN(OFFSET(Male!AF$18,'Male - Rev'!$A19-35,0),0.03999)","v":7.0000000000000001E-3},{"$f":"MIN(OFFSET(Male!AG$18,'Male - Rev'!$A19-35,0),0.03999)","v":6.1999999999999998E-3},{"$f":"MIN(OFFSET(Male!AH$18,'Male - Rev'!$A19-35,0),0.03999)","v":5.8999999999999999E-3},{"$f":"MIN(OFFSET(Male!AI$18,'Male - Rev'!$A19-35,0),0.03999)","v":6.1999999999999998E-3},{"$f":"MIN(OFFSET(Male!AJ$18,'Male - Rev'!$A19-35,0),0.03999)","v":7.0000000000000001E-3},{"$f":"MIN(OFFSET(Male!AK$18,'Male - Rev'!$A19-35,0),0.03999)","v":8.0999999999999996E-3},{"$f":"MIN(OFFSET(Male!AL$18,'Male - Rev'!$A19-35,0),0.03999)","v":9.4000000000000004E-3},{"$f":"MIN(OFFSET(Male!AM$18,'Male - Rev'!$A19-35,0),0.03999)","v":1.06E-2},{"$f":"MIN(OFFSET(Male!AN$18,'Male - Rev'!$A19-35,0),0.03999)","v":1.1599999999999999E-2},{"$f":"MIN(OFFSET(Male!AO$18,'Male - Rev'!$A19-35,0),0.03999)","v":1.21E-2},{"$f":"MIN(OFFSET(Male!AP$18,'Male - Rev'!$A19-35,0),0.03999)","v":1.2200000000000001E-2},{"$f":"MIN(OFFSET(Male!AQ$18,'Male - Rev'!$A19-35,0),0.03999)","v":1.1900000000000001E-2},{"$f":"MIN(OFFSET(Male!AR$18,'Male - Rev'!$A19-35,0),0.03999)","v":1.14E-2},{"$f":"MIN(OFFSET(Male!AS$18,'Male - Rev'!$A19-35,0),0.03999)","v":1.0999999999999999E-2},{"$f":"MIN(OFFSET(Male!AT$18,'Male - Rev'!$A19-35,0),0.03999)","v":1.09E-2},{"$f":"MIN(OFFSET(Male!AU$18,'Male - Rev'!$A19-35,0),0.03999)","v":1.0999999999999999E-2},{"$f":"MIN(OFFSET(Male!AV$18,'Male - Rev'!$A19-35,0),0.03999)","v":1.1599999999999999E-2},{"$f":"MIN(OFFSET(Male!AW$18,'Male - Rev'!$A19-35,0),0.03999)","v":1.2699999999999999E-2},{"$f":"MIN(OFFSET(Male!AX$18,'Male - Rev'!$A19-35,0),0.03999)","v":1.41E-2},{"$f":"MIN(OFFSET(Male!AY$18,'Male - Rev'!$A19-35,0),0.03999)","v":1.5900000000000001E-2},{"$f":"MIN(OFFSET(Male!AZ$18,'Male - Rev'!$A19-35,0),0.03999)","v":1.7899999999999999E-2},{"$f":"MIN(OFFSET(Male!BA$18,'Male - Rev'!$A19-35,0),0.03999)","v":1.9800000000000002E-2},{"$f":"MIN(OFFSET(Male!BB$18,'Male - Rev'!$A19-35,0),0.03999)","v":2.1499999999999998E-2},{"$f":"MIN(OFFSET(Male!BC$18,'Male - Rev'!$A19-35,0),0.03999)","v":2.2800000000000001E-2},{"$f":"MIN(OFFSET(Male!BD$18,'Male - Rev'!$A19-35,0),0.03999)","v":2.3400000000000001E-2},{"$f":"MIN(OFFSET(Male!BE$18,'Male - Rev'!$A19-35,0),0.03999)","v":2.3400000000000001E-2},{"$f":"MIN(OFFSET(Male!BF$18,'Male - Rev'!$A19-35,0),0.03999)","v":2.2700000000000001E-2},{"$f":"MIN(OFFSET(Male!BG$18,'Male - Rev'!$A19-35,0),0.03999)","v":2.1299999999999999E-2},{"$f":"MIN(OFFSET(Male!BH$18,'Male - Rev'!$A19-35,0),0.03999)","v":1.95E-2},{"$f":"MIN(OFFSET(Male!BI$18,'Male - Rev'!$A19-35,0),0.03999)","v":1.7399999999999999E-2},{"$f":"MIN(OFFSET(Male!BJ$18,'Male - Rev'!$A19-35,0),0.03999)","v":1.4999999999999999E-2},{"$f":"MIN(OFFSET(Male!BK$18,'Male - Rev'!$A19-35,0),0.03999)","v":1.26E-2},{"$f":"MIN(OFFSET(Male!BL$18,'Male - Rev'!$A19-35,0),0.03999)","v":1.03E-2},{"$f":"MIN(OFFSET(Male!BM$18,'Male - Rev'!$A19-35,0),0.03999)","v":8.0999999999999996E-3},{"$f":"MIN(OFFSET(Male!BN$18,'Male - Rev'!$A19-35,0),0.03999)","v":5.8999999999999999E-3},{"$f":"MIN(OFFSET(Male!BO$18,'Male - Rev'!$A19-35,0),0.03999)","v":6.1000000000000004E-3},{"$f":"MIN(OFFSET(Male!BP$18,'Male - Rev'!$A19-35,0),0.03999)","v":6.4999999999999997E-3},{"$f":"MIN(OFFSET(Male!BQ$18,'Male - Rev'!$A19-35,0),0.03999)","v":6.7999999999999996E-3},{"$f":"MIN(OFFSET(Male!BR$18,'Male - Rev'!$A19-35,0),0.03999)","v":7.3000000000000001E-3},{"$f":"MIN(OFFSET(Male!BS$18,'Male - Rev'!$A19-35,0),0.03999)","v":7.6E-3},{"$f":"MIN(OFFSET(Male!BT$18,'Male - Rev'!$A19-35,0),0.03999)","v":8.0000000000000002E-3},{"$f":"MIN(OFFSET(Male!BU$18,'Male - Rev'!$A19-35,0),0.03999)","v":8.2000000000000007E-3},{"$f":"MIN(OFFSET(Male!BV$18,'Male - Rev'!$A19-35,0),0.03999)","v":8.3000000000000001E-3},{"$f":"MIN(OFFSET(Male!BW$18,'Male - Rev'!$A19-35,0),0.03999)","v":8.3000000000000001E-3},{"$f":"MIN(OFFSET(Male!BX$18,'Male - Rev'!$A19-35,0),0.03999)","v":8.2000000000000007E-3},{"$f":"MIN(OFFSET(Male!BY$18,'Male - Rev'!$A19-35,0),0.03999)","v":8.0999999999999996E-3},{"$f":"MIN(OFFSET(Male!BZ$18,'Male - Rev'!$A19-35,0),0.03999)","v":8.0999999999999996E-3},{"$f":"MIN(OFFSET(Male!CA$18,'Male - Rev'!$A19-35,0),0.03999)","v":8.2000000000000007E-3},{"$f":"MIN(OFFSET(Male!CB$18,'Male - Rev'!$A19-35,0),0.03999)","v":8.3999999999999995E-3},{"$f":"MIN(OFFSET(Male!CC$18,'Male - Rev'!$A19-35,0),0.03999)","v":8.6999999999999994E-3},{"$f":"MIN(OFFSET(Male!CD$18,'Male - Rev'!$A19-35,0),0.03999)","v":9.1000000000000004E-3},{"$f":"MIN(OFFSET(Male!CE$18,'Male - Rev'!$A19-35,0),0.03999)","v":9.4000000000000004E-3},{"$f":"MIN(OFFSET(Male!CF$18,'Male - Rev'!$A19-35,0),0.03999)","v":9.7000000000000003E-3},{"$f":"MIN(OFFSET(Male!CG$18,'Male - Rev'!$A19-35,0),0.03999)","v":9.9000000000000008E-3},{"$f":"MIN(OFFSET(Male!CH$18,'Male - Rev'!$A19-35,0),0.03999)","v":0.01}]
[78,78,{"$f":"MIN(OFFSET(Male!B$18,'Male - Rev'!$A20-35,0),0.03999)","v":9.7000000000000003E-3},{"$f":"MIN(OFFSET(Male!C$18,'Male - Rev'!$A20-35,0),0.03999)","v":8.3000000000000001E-3},{"$f":"MIN(OFFSET(Male!D$18,'Male - Rev'!$A20-35,0),0.03999)","v":6.8999999999999999E-3},{"$f":"MIN(OFFSET(Male!E$18,'Male - Rev'!$A20-35,0),0.03999)","v":5.4999999999999997E-3},{"$f":"MIN(OFFSET(Male!F$18,'Male - Rev'!$A20-35,0),0.03999)","v":4.1000000000000003E-3},{"$f":"MIN(OFFSET(Male!G$18,'Male - Rev'!$A20-35,0),0.03999)","v":2.8E-3},{"$f":"MIN(OFFSET(Male!H$18,'Male - Rev'!$A20-35,0),0.03999)","v":1.6000000000000001E-3},{"$f":"MIN(OFFSET(Male!I$18,'Male - Rev'!$A20-35,0),0.03999)","v":5.0000000000000001E-4},{"$f":"MIN(OFFSET(Male!J$18,'Male - Rev'!$A20-35,0),0.03999)","v":-4.0000000000000002E-4},{"$f":"MIN(OFFSET(Male!K$18,'Male - Rev'!$A20-35,0),0.03999)","v":-1.1999999999999999E-3},{"$f":"MIN(OFFSET(Male!L$18,'Male - Rev'!$A20-35,0),0.03999)","v":-1.8E-3},{"$f":"MIN(OFFSET(Male!M$18,'Male - Rev'!$A20-35,0),0.03999)","v":-2.0999999999999999E-3},{"$f":"MIN(OFFSET(Male!N$18,'Male - Rev'!$A20-35,0),0.03999)","v":-2.2000000000000001E-3},{"$f":"MIN(OFFSET(Male!O$18,'Male - Rev'!$A20-35,0),0.03999)","v":-1.8E-3},{"$f":"MIN(OFFSET(Male!P$18,'Male - Rev'!$A20-35,0),0.03999)","v":-1.1000000000000001E-3},{"$f":"MIN(OFFSET(Male!Q$18,'Male - Rev'!$A20-35,0),0.03999)","v":1E-4},{"$f":"MIN(OFFSET(Male!R$18,'Male - Rev'!$A20-35,0),0.03999)","v":1.5E-3},{"$f":"MIN(OFFSET(Male!S$18,'Male - Rev'!$A20-35,0),0.03999)","v":3.3E-3},{"$f":"MIN(OFFSET(Male!T$18,'Male - Rev'!$A20-35,0),0.03999)","v":5.3E-3},{"$f":"MIN(OFFSET(Male!U$18,'Male - Rev'!$A20-35,0),0.03999)","v":7.4000000000000003E-3},{"$f":"MIN(OFFSET(Male!V$18,'Male - Rev'!$A20-35,0),0.03999)","v":9.4999999999999998E-3},{"$f":"MIN(OFFSET(Male!W$18,'Male - Rev'!$A20-35,0),0.03999)","v":1.1299999999999999E-2},{"$f":"MIN(OFFSET(Male!X$18,'Male - Rev'!$A20-35,0),0.03999)","v":1.2800000000000001E-2},{"$f":"MIN(OFFSET(Male!Y$18,'Male - Rev'!$A20-35,0),0.03999)","v":1.37E-2},{"$f":"MIN(OFFSET(Male!Z$18,'Male - Rev'!$A20-35,0),0.03999)","v":1.4E-2},{"$f":"MIN(OFFSET(Male!AA$18,'Male - Rev'!$A20-35,0),0.03999)","v":1.3599999999999999E-2},{"$f":"MIN(OFFSET(Male!AB$18,'Male - Rev'!$A20-35,0),0.03999)","v":1.2699999999999999E-2},{"$f":"MIN(OFFSET(Male!AC$18,'Male - Rev'!$A20-35,0),0.03999)","v":1.14E-2},{"$f":"MIN(OFFSET(Male!AD$18,'Male - Rev'!$A20-35,0),0.03999)","v":9.9000000000000008E-3},{"$f":"MIN(OFFSET(Male!AE$18,'Male - Rev'!$A20-35,0),0.03999)","v":8.5000000000000006E-3},{"$f":"MIN(OFFSET(Male!AF$18,'Male - Rev'!$A20-35,0),0.03999)","v":7.3000000000000001E-3},{"$f":"MIN(OFFSET(Male!AG$18,'Male - Rev'!$A20-35,0),0.03999)","v":6.6E-3},{"$f":"MIN(OFFSET(Male!AH$18,'Male - Rev'!$A20-35,0),0.03999)","v":6.4000000000000003E-3},{"$f":"MIN(OFFSET(Male!AI$18,'Male - Rev'!$A20-35,0),0.03999)","v":6.7999999999999996E-3},{"$f":"MIN(OFFSET(Male!AJ$18,'Male - Rev'!$A20-35,0),0.03999)","v":7.7999999999999996E-3},{"$f":"MIN(OFFSET(Male!AK$18,'Male - Rev'!$A20-35,0),0.03999)","v":9.1000000000000004E-3},{"$f":"MIN(OFFSET(Male!AL$18,'Male - Rev'!$A20-35,0),0.03999)","v":1.06E-2},{"$f":"MIN(OFFSET(Male!AM$18,'Male - Rev'!$A20-35,0),0.03999)","v":1.1900000000000001E-2},{"$f":"MIN(OFFSET(Male!AN$18,'Male - Rev'!$A20-35,0),0.03999)","v":1.29E-2},{"$f":"MIN(OFFSET(Male!AO$18,'Male - Rev'!$A20-35,0),0.03999)","v":1.34E-2},{"$f":"MIN(OFFSET(Male!AP$18,'Male - Rev'!$A20-35,0),0.03999)","v":1.34E-2},{"$f":"MIN(OFFSET(Male!AQ$18,'Male - Rev'!$A20-35,0),0.03999)","v":1.2999999999999999E-2},{"$f":"MIN(OFFSET(Male!AR$18,'Male - Rev'!$A20-35,0),0.03999)","v":1.24E-2},{"$f":"MIN(OFFSET(Male!AS$18,'Male - Rev'!$A20-35,0),0.03999)","v":1.1900000000000001E-2},{"$f":"MIN(OFFSET(Male!AT$18,'Male - Rev'!$A20-35,0),0.03999)","v":1.1599999999999999E-2},{"$f":"MIN(OFFSET(Male!AU$18,'Male - Rev'!$A20-35,0),0.03999)","v":1.1599999999999999E-2},{"$f":"MIN(OFFSET(Male!AV$18,'Male - Rev'!$A20-35,0),0.03999)","v":1.2200000000000001E-2},{"$f":"MIN(OFFSET(Male!AW$18,'Male - Rev'!$A20-35,0),0.03999)","v":1.32E-2},{"$f":"MIN(OFFSET(Male!AX$18,'Male - Rev'!$A20-35,0),0.03999)","v":1.46E-2},{"$f":"MIN(OFFSET(Male!AY$18,'Male - Rev'!$A20-35,0),0.03999)","v":1.6500000000000001E-2},{"$f":"MIN(OFFSET(Male!AZ$18,'Male - Rev'!$A20-35,0),0.03999)","v":1.8499999999999999E-2},{"$f":"MIN(OFFSET(Male!BA$18,'Male - Rev'!$A20-35,0),0.03999)","v":2.0400000000000001E-2},{"$f":"MIN(OFFSET(Male!BB$18,'Male - Rev'!$A20-35,0),0.03999)","v":2.2200000000000001E-2},{"$f":"MIN(OFFSET(Male!BC$18,'Male - Rev'!$A20-35,0),0.03999)","v":2.35E-2},{"$f":"MIN(OFFSET(Male!BD$18,'Male - Rev'!$A20-35,0),0.03999)","v":2.4199999999999999E-2},{"$f":"MIN(OFFSET(Male!BE$18,'Male - Rev'!$A20-35,0),0.03999)","v":2.41E-2},{"$f":"MIN(OFFSET(Male!BF$18,'Male - Rev'!$A20-35,0),0.03999)","v":2.3300000000000001E-2},{"$f":"MIN(OFFSET(Male!BG$18,'Male - Rev'!$A20-35,0),0.03999)","v":2.1899999999999999E-2},{"$f":"MIN(OFFSET(Male!BH$18,'Male - Rev'!$A20-35,0),0.03999)","v":0.02},{"$f":"MIN(OFFSET(Male!BI$18,'Male - Rev'!$A20-35,0),0.03999)","v":1.78E-2},{"$f":"MIN(OFFSET(Male!BJ$18,'Male - Rev'!$A20-35,0),0.03999)","v":1.54E-2},{"$f":"MIN(OFFSET(Male!BK$18,'Male - Rev'!$A20-35,0),0.03999)","v":1.29E-2},{"$f":"MIN(OFFSET(Male!BL$18,'Male - Rev'!$A20-35,0),0.03999)","v":1.06E-2},{"$f":"MIN(OFFSET(Male!BM$18,'Male - Rev'!$A20-35,0),0.03999)","v":8.3000000000000001E-3},{"$f":"MIN(OFFSET(Male!BN$18,'Male - Rev'!$A20-35,0),0.03999)","v":6.1999999999999998E-3},{"$f":"MIN(OFFSET(Male!BO$18,'Male - Rev'!$A20-35,0),0.03999)","v":6.4000000000000003E-3},{"$f":"MIN(OFFSET(Male!BP$18,'Male - Rev'!$A20-35,0),0.03999)","v":6.7000000000000002E-3},{"$f":"MIN(OFFSET(Male!BQ$18,'Male - Rev'!$A20-35,0),0.03999)","v":7.1000000000000004E-3},{"$f":"MIN(OFFSET(Male!BR$18,'Male - Rev'!$A20-35,0),0.03999)","v":7.4000000000000003E-3},{"$f":"MIN(OFFSET(Male!BS$18,'Male - Rev'!$A20-35,0),0.03999)","v":7.7000000000000002E-3},{"$f":"MIN(OFFSET(Male!BT$18,'Male - Rev'!$A20-35,0),0.03999)","v":7.9000000000000008E-3},{"$f":"MIN(OFFSET(Male!BU$18,'Male - Rev'!$A20-35,0),0.03999)","v":8.0000000000000002E-3},{"$f":"MIN(OFFSET(Male!BV$18,'Male - Rev'!$A20-35,0),0.03999)","v":8.0000000000000002E-3},{"$f":"MIN(OFFSET(Male!BW$18,'Male - Rev'!$A20-35,0),0.03999)","v":7.9000000000000008E-3},{"$f":"MIN(OFFSET(Male!BX$18,'Male - Rev'!$A20-35,0),0.03999)","v":7.7999999999999996E-3},{"$f":"MIN(OFFSET(Male!BY$18,'Male - Rev'!$A20-35,0),0.03999)","v":7.7000000000000002E-3},{"$f":"MIN(OFFSET(Male!BZ$18,'Male - Rev'!$A20-35,0),0.03999)","v":7.7999999999999996E-3},{"$f":"MIN(OFFSET(Male!CA$18,'Male - Rev'!$A20-35,0),0.03999)","v":8.0000000000000002E-3},{"$f":"MIN(OFFSET(Male!CB$18,'Male - Rev'!$A20-35,0),0.03999)","v":8.2000000000000007E-3},{"$f":"MIN(OFFSET(Male!CC$18,'Male - Rev'!$A20-35,0),0.03999)","v":8.6E-3},{"$f":"MIN(OFFSET(Male!CD$18,'Male - Rev'!$A20-35,0),0.03999)","v":8.9999999999999993E-3},{"$f":"MIN(OFFSET(Male!CE$18,'Male - Rev'!$A20-35,0),0.03999)","v":9.4000000000000004E-3},{"$f":"MIN(OFFSET(Male!CF$18,'Male - Rev'!$A20-35,0),0.03999)","v":9.7000000000000003E-3},{"$f":"MIN(OFFSET(Male!CG$18,'Male - Rev'!$A20-35,0),0.03999)","v":9.9000000000000008E-3},{"$f":"MIN(OFFSET(Male!CH$18,'Male - Rev'!$A20-35,0),0.03999)","v":0.01}]
[77,77,{"$f":"MIN(OFFSET(Male!B$18,'Male - Rev'!$A21-35,0),0.03999)","v":1.0200000000000001E-2},{"$f":"MIN(OFFSET(Male!C$18,'Male - Rev'!$A21-35,0),0.03999)","v":8.6999999999999994E-3},{"$f":"MIN(OFFSET(Male!D$18,'Male - Rev'!$A21-35,0),0.03999)","v":7.1999999999999998E-3},{"$f":"MIN(OFFSET(Male!E$18,'Male - Rev'!$A21-35,0),0.03999)","v":5.7000000000000002E-3},{"$f":"MIN(OFFSET(Male!F$18,'Male - Rev'!$A21-35,0),0.03999)","v":4.1999999999999997E-3},{"$f":"MIN(OFFSET(Male!G$18,'Male - Rev'!$A21-35,0),0.03999)","v":2.8E-3},{"$f":"MIN(OFFSET(Male!H$18,'Male - Rev'!$A21-35,0),0.03999)","v":1.6000000000000001E-3},{"$f":"MIN(OFFSET(Male!I$18,'Male - Rev'!$A21-35,0),0.03999)","v":5.0000000000000001E-4},{"$f":"MIN(OFFSET(Male!J$18,'Male - Rev'!$A21-35,0),0.03999)","v":-4.0000000000000002E-4},{"$f":"MIN(OFFSET(Male!K$18,'Male - Rev'!$A21-35,0),0.03999)","v":-1.1999999999999999E-3},{"$f":"MIN(OFFSET(Male!L$18,'Male - Rev'!$A21-35,0),0.03999)","v":-1.9E-3},{"$f":"MIN(OFFSET(Male!M$18,'Male - Rev'!$A21-35,0),0.03999)","v":-2.3E-3},{"$f":"MIN(OFFSET(Male!N$18,'Male - Rev'!$A21-35,0),0.03999)","v":-2.3999999999999998E-3},{"$f":"MIN(OFFSET(Male!O$18,'Male - Rev'!$A21-35,0),0.03999)","v":-2.0999999999999999E-3},{"$f":"MIN(OFFSET(Male!P$18,'Male - Rev'!$A21-35,0),0.03999)","v":-1.4E-3},{"$f":"MIN(OFFSET(Male!Q$18,'Male - Rev'!$A21-35,0),0.03999)","v":-2.9999999999999997E-4},{"$f":"MIN(OFFSET(Male!R$18,'Male - Rev'!$A21-35,0),0.03999)","v":1.1999999999999999E-3},{"$f":"MIN(OFFSET(Male!S$18,'Male - Rev'!$A21-35,0),0.03999)","v":3.0000000000000001E-3},{"$f":"MIN(OFFSET(Male!T$18,'Male - Rev'!$A21-35,0),0.03999)","v":5.1000000000000004E-3},{"$f":"MIN(OFFSET(Male!U$18,'Male - Rev'!$A21-35,0),0.03999)","v":7.1999999999999998E-3},{"$f":"MIN(OFFSET(Male!V$18,'Male - Rev'!$A21-35,0),0.03999)","v":9.2999999999999992E-3},{"$f":"MIN(OFFSET(Male!W$18,'Male - Rev'!$A21-35,0),0.03999)","v":1.12E-2},{"$f":"MIN(OFFSET(Male!X$18,'Male - Rev'!$A21-35,0),0.03999)","v":1.2699999999999999E-2},{"$f":"MIN(OFFSET(Male!Y$18,'Male - Rev'!$A21-35,0),0.03999)","v":1.37E-2},{"$f":"MIN(OFFSET(Male!Z$18,'Male - Rev'!$A21-35,0),0.03999)","v":1.4E-2},{"$f":"MIN(OFFSET(Male!AA$18,'Male - Rev'!$A21-35,0),0.03999)","v":1.37E-2},{"$f":"MIN(OFFSET(Male!AB$18,'Male - Rev'!$A21-35,0),0.03999)","v":1.2800000000000001E-2},{"$f":"MIN(OFFSET(Male!AC$18,'Male - Rev'!$A21-35,0),0.03999)","v":1.1599999999999999E-2},{"$f":"MIN(OFFSET(Male!AD$18,'Male - Rev'!$A21-35,0),0.03999)","v":1.01E-2},{"$f":"MIN(OFFSET(Male!AE$18,'Male - Rev'!$A21-35,0),0.03999)","v":8.8000000000000005E-3},{"$f":"MIN(OFFSET(Male!AF$18,'Male - Rev'!$A21-35,0),0.03999)","v":7.7000000000000002E-3},{"$f":"MIN(OFFSET(Male!AG$18,'Male - Rev'!$A21-35,0),0.03999)","v":7.1000000000000004E-3},{"$f":"MIN(OFFSET(Male!AH$18,'Male - Rev'!$A21-35,0),0.03999)","v":7.0000000000000001E-3},{"$f":"MIN(OFFSET(Male!AI$18,'Male - Rev'!$A21-35,0),0.03999)","v":7.6E-3},{"$f":"MIN(OFFSET(Male!AJ$18,'Male - Rev'!$A21-35,0),0.03999)","v":8.6999999999999994E-3},{"$f":"MIN(OFFSET(Male!AK$18,'Male - Rev'!$A21-35,0),0.03999)","v":1.01E-2},{"$f":"MIN(OFFSET(Male!AL$18,'Male - Rev'!$A21-35,0),0.03999)","v":1.17E-2},{"$f":"MIN(OFFSET(Male!AM$18,'Male - Rev'!$A21-35,0),0.03999)","v":1.3100000000000001E-2},{"$f":"MIN(OFFSET(Male!AN$18,'Male - Rev'!$A21-35,0),0.03999)","v":1.41E-2},{"$f":"MIN(OFFSET(Male!AO$18,'Male - Rev'!$A21-35,0),0.03999)","v":1.4500000000000001E-2},{"$f":"MIN(OFFSET(Male!AP$18,'Male - Rev'!$A21-35,0),0.03999)","v":1.44E-2},{"$f":"MIN(OFFSET(Male!AQ$18,'Male - Rev'!$A21-35,0),0.03999)","v":1.3899999999999999E-2},{"$f":"MIN(OFFSET(Male!AR$18,'Male - Rev'!$A21-35,0),0.03999)","v":1.3100000000000001E-2},{"$f":"MIN(OFFSET(Male!AS$18,'Male - Rev'!$A21-35,0),0.03999)","v":1.2500000000000001E-2},{"$f":"MIN(OFFSET(Male!AT$18,'Male - Rev'!$A21-35,0),0.03999)","v":1.21E-2},{"$f":"MIN(OFFSET(Male!AU$18,'Male - Rev'!$A21-35,0),0.03999)","v":1.21E-2},{"$f":"MIN(OFFSET(Male!AV$18,'Male - Rev'!$A21-35,0),0.03999)","v":1.26E-2},{"$f":"MIN(OFFSET(Male!AW$18,'Male - Rev'!$A21-35,0),0.03999)","v":1.3599999999999999E-2},{"$f":"MIN(OFFSET(Male!AX$18,'Male - Rev'!$A21-35,0),0.03999)","v":1.5100000000000001E-2},{"$f":"MIN(OFFSET(Male!AY$18,'Male - Rev'!$A21-35,0),0.03999)","v":1.7000000000000001E-2},{"$f":"MIN(OFFSET(Male!AZ$18,'Male - Rev'!$A21-35,0),0.03999)","v":1.9E-2},{"$f":"MIN(OFFSET(Male!BA$18,'Male - Rev'!$A21-35,0),0.03999)","v":2.1100000000000001E-2},{"$f":"MIN(OFFSET(Male!BB$18,'Male - Rev'!$A21-35,0),0.03999)","v":2.29E-2},{"$f":"MIN(OFFSET(Male!BC$18,'Male - Rev'!$A21-35,0),0.03999)","v":2.4199999999999999E-2},{"$f":"MIN(OFFSET(Male!BD$18,'Male - Rev'!$A21-35,0),0.03999)","v":2.4899999999999999E-2},{"$f":"MIN(OFFSET(Male!BE$18,'Male - Rev'!$A21-35,0),0.03999)","v":2.4799999999999999E-2},{"$f":"MIN(OFFSET(Male!BF$18,'Male - Rev'!$A21-35,0),0.03999)","v":2.4E-2},{"$f":"MIN(OFFSET(Male!BG$18,'Male - Rev'!$A21-35,0),0.03999)","v":2.2499999999999999E-2},{"$f":"MIN(OFFSET(Male!BH$18,'Male - Rev'!$A21-35,0),0.03999)","v":2.0500000000000001E-2},{"$f":"MIN(OFFSET(Male!BI$18,'Male - Rev'!$A21-35,0),0.03999)","v":1.8100000000000002E-2},{"$f":"MIN(OFFSET(Male!BJ$18,'Male - Rev'!$A21-35,0),0.03999)","v":1.5699999999999999E-2},{"$f":"MIN(OFFSET(Male!BK$18,'Male - Rev'!$A21-35,0),0.03999)","v":1.32E-2},{"$f":"MIN(OFFSET(Male!BL$18,'Male - Rev'!$A21-35,0),0.03999)","v":1.0800000000000001E-2},{"$f":"MIN(OFFSET(Male!BM$18,'Male - Rev'!$A21-35,0),0.03999)","v":8.6E-3},{"$f":"MIN(OFFSET(Male!BN$18,'Male - Rev'!$A21-35,0),0.03999)","v":6.4999999999999997E-3},{"$f":"MIN(OFFSET(Male!BO$18,'Male - Rev'!$A21-35,0),0.03999)","v":6.7000000000000002E-3},{"$f":"MIN(OFFSET(Male!BP$18,'Male - Rev'!$A21-35,0),0.03999)","v":7.0000000000000001E-3},{"$f":"MIN(OFFSET(Male!BQ$18,'Male - Rev'!$A21-35,0),0.03999)","v":7.1999999999999998E-3},{"$f":"MIN(OFFSET(Male!BR$18,'Male - Rev'!$A21-35,0),0.03999)","v":7.4999999999999997E-3},{"$f":"MIN(OFFSET(Male!BS$18,'Male - Rev'!$A21-35,0),0.03999)","v":7.6E-3},{"$f":"MIN(OFFSET(Male!BT$18,'Male - Rev'!$A21-35,0),0.03999)","v":7.7000000000000002E-3},{"$f":"MIN(OFFSET(Male!BU$18,'Male - Rev'!$A21-35,0),0.03999)","v":7.7000000000000002E-3},{"$f":"MIN(OFFSET(Male!BV$18,'Male - Rev'!$A21-35,0),0.03999)","v":7.6E-3},{"$f":"MIN(OFFSET(Male!BW$18,'Male - Rev'!$A21-35,0),0.03999)","v":7.4000000000000003E-3},{"$f":"MIN(OFFSET(Male!BX$18,'Male - Rev'!$A21-35,0),0.03999)","v":7.3000000000000001E-3},{"$f":"MIN(OFFSET(Male!BY$18,'Male - Rev'!$A21-35,0),0.03999)","v":7.3000000000000001E-3},{"$f":"MIN(OFFSET(Male!BZ$18,'Male - Rev'!$A21-35,0),0.03999)","v":7.4000000000000003E-3},{"$f":"MIN(OFFSET(Male!CA$18,'Male - Rev'!$A21-35,0),0.03999)","v":7.7000000000000002E-3},{"$f":"MIN(OFFSET(Male!CB$18,'Male - Rev'!$A21-35,0),0.03999)","v":8.0999999999999996E-3},{"$f":"MIN(OFFSET(Male!CC$18,'Male - Rev'!$A21-35,0),0.03999)","v":8.6E-3},{"$f":"MIN(OFFSET(Male!CD$18,'Male - Rev'!$A21-35,0),0.03999)","v":8.9999999999999993E-3},{"$f":"MIN(OFFSET(Male!CE$18,'Male - Rev'!$A21-35,0),0.03999)","v":9.4000000000000004E-3},{"$f":"MIN(OFFSET(Male!CF$18,'Male - Rev'!$A21-35,0),0.03999)","v":9.7999999999999997E-3},{"$f":"MIN(OFFSET(Male!CG$18,'Male - Rev'!$A21-35,0),0.03999)","v":9.9000000000000008E-3},{"$f":"MIN(OFFSET(Male!CH$18,'Male - Rev'!$A21-35,0),0.03999)","v":0.01}]
[76,76,{"$f":"MIN(OFFSET(Male!B$18,'Male - Rev'!$A22-35,0),0.03999)","v":1.0500000000000001E-2},{"$f":"MIN(OFFSET(Male!C$18,'Male - Rev'!$A22-35,0),0.03999)","v":8.8999999999999999E-3},{"$f":"MIN(OFFSET(Male!D$18,'Male - Rev'!$A22-35,0),0.03999)","v":7.1999999999999998E-3},{"$f":"MIN(OFFSET(Male!E$18,'Male - Rev'!$A22-35,0),0.03999)","v":5.5999999999999999E-3},{"$f":"MIN(OFFSET(Male!F$18,'Male - Rev'!$A22-35,0),0.03999)","v":4.1000000000000003E-3},{"$f":"MIN(OFFSET(Male!G$18,'Male - Rev'!$A22-35,0),0.03999)","v":2.7000000000000001E-3},{"$f":"MIN(OFFSET(Male!H$18,'Male - Rev'!$A22-35,0),0.03999)","v":1.5E-3},{"$f":"MIN(OFFSET(Male!I$18,'Male - Rev'!$A22-35,0),0.03999)","v":4.0000000000000002E-4},{"$f":"MIN(OFFSET(Male!J$18,'Male - Rev'!$A22-35,0),0.03999)","v":-5.9999999999999995E-4},{"$f":"MIN(OFFSET(Male!K$18,'Male - Rev'!$A22-35,0),0.03999)","v":-1.4E-3},{"$f":"MIN(OFFSET(Male!L$18,'Male - Rev'!$A22-35,0),0.03999)","v":-2E-3},{"$f":"MIN(OFFSET(Male!M$18,'Male - Rev'!$A22-35,0),0.03999)","v":-2.3999999999999998E-3},{"$f":"MIN(OFFSET(Male!N$18,'Male - Rev'!$A22-35,0),0.03999)","v":-2.5999999999999999E-3},{"$f":"MIN(OFFSET(Male!O$18,'Male - Rev'!$A22-35,0),0.03999)","v":-2.3E-3},{"$f":"MIN(OFFSET(Male!P$18,'Male - Rev'!$A22-35,0),0.03999)","v":-1.6000000000000001E-3},{"$f":"MIN(OFFSET(Male!Q$18,'Male - Rev'!$A22-35,0),0.03999)","v":-5.9999999999999995E-4},{"$f":"MIN(OFFSET(Male!R$18,'Male - Rev'!$A22-35,0),0.03999)","v":8.9999999999999998E-4},{"$f":"MIN(OFFSET(Male!S$18,'Male - Rev'!$A22-35,0),0.03999)","v":2.8E-3},{"$f":"MIN(OFFSET(Male!T$18,'Male - Rev'!$A22-35,0),0.03999)","v":4.7999999999999996E-3},{"$f":"MIN(OFFSET(Male!U$18,'Male - Rev'!$A22-35,0),0.03999)","v":7.0000000000000001E-3},{"$f":"MIN(OFFSET(Male!V$18,'Male - Rev'!$A22-35,0),0.03999)","v":9.1999999999999998E-3},{"$f":"MIN(OFFSET(Male!W$18,'Male - Rev'!$A22-35,0),0.03999)","v":1.11E-2},{"$f":"MIN(OFFSET(Male!X$18,'Male - Rev'!$A22-35,0),0.03999)","v":1.2699999999999999E-2},{"$f":"MIN(OFFSET(Male!Y$18,'Male - Rev'!$A22-35,0),0.03999)","v":1.37E-2},{"$f":"MIN(OFFSET(Male!Z$18,'Male - Rev'!$A22-35,0),0.03999)","v":1.41E-2},{"$f":"MIN(OFFSET(Male!AA$18,'Male - Rev'!$A22-35,0),0.03999)","v":1.38E-2},{"$f":"MIN(OFFSET(Male!AB$18,'Male - Rev'!$A22-35,0),0.03999)","v":1.2999999999999999E-2},{"$f":"MIN(OFFSET(Male!AC$18,'Male - Rev'!$A22-35,0),0.03999)","v":1.18E-2},{"$f":"MIN(OFFSET(Male!AD$18,'Male - Rev'!$A22-35,0),0.03999)","v":1.04E-2},{"$f":"MIN(OFFSET(Male!AE$18,'Male - Rev'!$A22-35,0),0.03999)","v":9.1000000000000004E-3},{"$f":"MIN(OFFSET(Male!AF$18,'Male - Rev'!$A22-35,0),0.03999)","v":8.2000000000000007E-3},{"$f":"MIN(OFFSET(Male!AG$18,'Male - Rev'!$A22-35,0),0.03999)","v":7.6E-3},{"$f":"MIN(OFFSET(Male!AH$18,'Male - Rev'!$A22-35,0),0.03999)","v":7.7000000000000002E-3},{"$f":"MIN(OFFSET(Male!AI$18,'Male - Rev'!$A22-35,0),0.03999)","v":8.3999999999999995E-3},{"$f":"MIN(OFFSET(Male!AJ$18,'Male - Rev'!$A22-35,0),0.03999)","v":9.5999999999999992E-3},{"$f":"MIN(OFFSET(Male!AK$18,'Male - Rev'!$A22-35,0),0.03999)","v":1.11E-2},{"$f":"MIN(OFFSET(Male!AL$18,'Male - Rev'!$A22-35,0),0.03999)","v":1.2699999999999999E-2},{"$f":"MIN(OFFSET(Male!AM$18,'Male - Rev'!$A22-35,0),0.03999)","v":1.41E-2},{"$f":"MIN(OFFSET(Male!AN$18,'Male - Rev'!$A22-35,0),0.03999)","v":1.5100000000000001E-2},{"$f":"MIN(OFFSET(Male!AO$18,'Male - Rev'!$A22-35,0),0.03999)","v":1.54E-2},{"$f":"MIN(OFFSET(Male!AP$18,'Male - Rev'!$A22-35,0),0.03999)","v":1.52E-2},{"$f":"MIN(OFFSET(Male!AQ$18,'Male - Rev'!$A22-35,0),0.03999)","v":1.46E-2},{"$f":"MIN(OFFSET(Male!AR$18,'Male - Rev'!$A22-35,0),0.03999)","v":1.37E-2},{"$f":"MIN(OFFSET(Male!AS$18,'Male - Rev'!$A22-35,0),0.03999)","v":1.2999999999999999E-2},{"$f":"MIN(OFFSET(Male!AT$18,'Male - Rev'!$A22-35,0),0.03999)","v":1.2500000000000001E-2},{"$f":"MIN(OFFSET(Male!AU$18,'Male - Rev'!$A22-35,0),0.03999)","v":1.2500000000000001E-2},{"$f":"MIN(OFFSET(Male!AV$18,'Male - Rev'!$A22-35,0),0.03999)","v":1.2999999999999999E-2},{"$f":"MIN(OFFSET(Male!AW$18,'Male - Rev'!$A22-35,0),0.03999)","v":1.4E-2},{"$f":"MIN(OFFSET(Male!AX$18,'Male - Rev'!$A22-35,0),0.03999)","v":1.5599999999999999E-2},{"$f":"MIN(OFFSET(Male!AY$18,'Male - Rev'!$A22-35,0),0.03999)","v":1.7500000000000002E-2},{"$f":"MIN(OFFSET(Male!AZ$18,'Male - Rev'!$A22-35,0),0.03999)","v":1.9699999999999999E-2},{"$f":"MIN(OFFSET(Male!BA$18,'Male - Rev'!$A22-35,0),0.03999)","v":2.18E-2},{"$f":"MIN(OFFSET(Male!BB$18,'Male - Rev'!$A22-35,0),0.03999)","v":2.3599999999999999E-2},{"$f":"MIN(OFFSET(Male!BC$18,'Male - Rev'!$A22-35,0),0.03999)","v":2.5000000000000001E-2},{"$f":"MIN(OFFSET(Male!BD$18,'Male - Rev'!$A22-35,0),0.03999)","v":2.5600000000000001E-2},{"$f":"MIN(OFFSET(Male!BE$18,'Male - Rev'!$A22-35,0),0.03999)","v":2.5399999999999999E-2},{"$f":"MIN(OFFSET(Male!BF$18,'Male - Rev'!$A22-35,0),0.03999)","v":2.4500000000000001E-2},{"$f":"MIN(OFFSET(Male!BG$18,'Male - Rev'!$A22-35,0),0.03999)","v":2.29E-2},{"$f":"MIN(OFFSET(Male!BH$18,'Male - Rev'!$A22-35,0),0.03999)","v":2.0799999999999999E-2},{"$f":"MIN(OFFSET(Male!BI$18,'Male - Rev'!$A22-35,0),0.03999)","v":1.84E-2},{"$f":"MIN(OFFSET(Male!BJ$18,'Male - Rev'!$A22-35,0),0.03999)","v":1.5900000000000001E-2},{"$f":"MIN(OFFSET(Male!BK$18,'Male - Rev'!$A22-35,0),0.03999)","v":1.34E-2},{"$f":"MIN(OFFSET(Male!BL$18,'Male - Rev'!$A22-35,0),0.03999)","v":1.0999999999999999E-2},{"$f":"MIN(OFFSET(Male!BM$18,'Male - Rev'!$A22-35,0),0.03999)","v":8.8000000000000005E-3},{"$f":"MIN(OFFSET(Male!BN$18,'Male - Rev'!$A22-35,0),0.03999)","v":6.7999999999999996E-3},{"$f":"MIN(OFFSET(Male!BO$18,'Male - Rev'!$A22-35,0),0.03999)","v":7.0000000000000001E-3},{"$f":"MIN(OFFSET(Male!BP$18,'Male - Rev'!$A22-35,0),0.03999)","v":7.1000000000000004E-3},{"$f":"MIN(OFFSET(Male!BQ$18,'Male - Rev'!$A22-35,0),0.03999)","v":7.3000000000000001E-3},{"$f":"MIN(OFFSET(Male!BR$18,'Male - Rev'!$A22-35,0),0.03999)","v":7.4000000000000003E-3},{"$f":"MIN(OFFSET(Male!BS$18,'Male - Rev'!$A22-35,0),0.03999)","v":7.4000000000000003E-3},{"$f":"MIN(OFFSET(Male!BT$18,'Male - Rev'!$A22-35,0),0.03999)","v":7.3000000000000001E-3},{"$f":"MIN(OFFSET(Male!BU$18,'Male - Rev'!$A22-35,0),0.03999)","v":7.1999999999999998E-3},{"$f":"MIN(OFFSET(Male!BV$18,'Male - Rev'!$A22-35,0),0.03999)","v":7.0000000000000001E-3},{"$f":"MIN(OFFSET(Male!BW$18,'Male - Rev'!$A22-35,0),0.03999)","v":6.8999999999999999E-3},{"$f":"MIN(OFFSET(Male!BX$18,'Male - Rev'!$A22-35,0),0.03999)","v":6.7999999999999996E-3},{"$f":"MIN(OFFSET(Male!BY$18,'Male - Rev'!$A22-35,0),0.03999)","v":6.8999999999999999E-3},{"$f":"MIN(OFFSET(Male!BZ$18,'Male - Rev'!$A22-35,0),0.03999)","v":7.1000000000000004E-3},{"$f":"MIN(OFFSET(Male!CA$18,'Male - Rev'!$A22-35,0),0.03999)","v":7.4999999999999997E-3},{"$f":"MIN(OFFSET(Male!CB$18,'Male - Rev'!$A22-35,0),0.03999)","v":8.0000000000000002E-3},{"$f":"MIN(OFFSET(Male!CC$18,'Male - Rev'!$A22-35,0),0.03999)","v":8.5000000000000006E-3},{"$f":"MIN(OFFSET(Male!CD$18,'Male - Rev'!$A22-35,0),0.03999)","v":9.1000000000000004E-3},{"$f":"MIN(OFFSET(Male!CE$18,'Male - Rev'!$A22-35,0),0.03999)","v":9.4999999999999998E-3},{"$f":"MIN(OFFSET(Male!CF$18,'Male - Rev'!$A22-35,0),0.03999)","v":9.7999999999999997E-3},{"$f":"MIN(OFFSET(Male!CG$18,'Male - Rev'!$A22-35,0),0.03999)","v":0.01},{"$f":"MIN(OFFSET(Male!CH$18,'Male - Rev'!$A22-35,0),0.03999)","v":0.01}]
[75,75,{"$f":"MIN(OFFSET(Male!B$18,'Male - Rev'!$A23-35,0),0.03999)","v":1.0500000000000001E-2},{"$f":"MIN(OFFSET(Male!C$18,'Male - Rev'!$A23-35,0),0.03999)","v":8.8000000000000005E-3},{"$f":"MIN(OFFSET(Male!D$18,'Male - Rev'!$A23-35,0),0.03999)","v":7.1000000000000004E-3},{"$f":"MIN(OFFSET(Male!E$18,'Male - Rev'!$A23-35,0),0.03999)","v":5.4000000000000003E-3},{"$f":"MIN(OFFSET(Male!F$18,'Male - Rev'!$A23-35,0),0.03999)","v":3.8E-3},{"$f":"MIN(OFFSET(Male!G$18,'Male - Rev'!$A23-35,0),0.03999)","v":2.3999999999999998E-3},{"$f":"MIN(OFFSET(Male!H$18,'Male - Rev'!$A23-35,0),0.03999)","v":1.1999999999999999E-3},{"$f":"MIN(OFFSET(Male!I$18,'Male - Rev'!$A23-35,0),0.03999)","v":1E-4},{"$f":"MIN(OFFSET(Male!J$18,'Male - Rev'!$A23-35,0),0.03999)","v":-8.0000000000000004E-4},{"$f":"MIN(OFFSET(Male!K$18,'Male - Rev'!$A23-35,0),0.03999)","v":-1.5E-3},{"$f":"MIN(OFFSET(Male!L$18,'Male - Rev'!$A23-35,0),0.03999)","v":-2.0999999999999999E-3},{"$f":"MIN(OFFSET(Male!M$18,'Male - Rev'!$A23-35,0),0.03999)","v":-2.5000000000000001E-3},{"$f":"MIN(OFFSET(Male!N$18,'Male - Rev'!$A23-35,0),0.03999)","v":-2.7000000000000001E-3},{"$f":"MIN(OFFSET(Male!O$18,'Male - Rev'!$A23-35,0),0.03999)","v":-2.3999999999999998E-3},{"$f":"MIN(OFFSET(Male!P$18,'Male - Rev'!$A23-35,0),0.03999)","v":-1.8E-3},{"$f":"MIN(OFFSET(Male!Q$18,'Male - Rev'!$A23-35,0),0.03999)","v":-6.9999999999999999E-4},{"$f":"MIN(OFFSET(Male!R$18,'Male - Rev'!$A23-35,0),0.03999)","v":6.9999999999999999E-4},{"$f":"MIN(OFFSET(Male!S$18,'Male - Rev'!$A23-35,0),0.03999)","v":2.5999999999999999E-3},{"$f":"MIN(OFFSET(Male!T$18,'Male - Rev'!$A23-35,0),0.03999)","v":4.7000000000000002E-3},{"$f":"MIN(OFFSET(Male!U$18,'Male - Rev'!$A23-35,0),0.03999)","v":6.8999999999999999E-3},{"$f":"MIN(OFFSET(Male!V$18,'Male - Rev'!$A23-35,0),0.03999)","v":9.1000000000000004E-3},{"$f":"MIN(OFFSET(Male!W$18,'Male - Rev'!$A23-35,0),0.03999)","v":1.11E-2},{"$f":"MIN(OFFSET(Male!X$18,'Male - Rev'!$A23-35,0),0.03999)","v":1.2699999999999999E-2},{"$f":"MIN(OFFSET(Male!Y$18,'Male - Rev'!$A23-35,0),0.03999)","v":1.38E-2},{"$f":"MIN(OFFSET(Male!Z$18,'Male - Rev'!$A23-35,0),0.03999)","v":1.43E-2},{"$f":"MIN(OFFSET(Male!AA$18,'Male - Rev'!$A23-35,0),0.03999)","v":1.4E-2},{"$f":"MIN(OFFSET(Male!AB$18,'Male - Rev'!$A23-35,0),0.03999)","v":1.3299999999999999E-2},{"$f":"MIN(OFFSET(Male!AC$18,'Male - Rev'!$A23-35,0),0.03999)","v":1.21E-2},{"$f":"MIN(OFFSET(Male!AD$18,'Male - Rev'!$A23-35,0),0.03999)","v":1.0800000000000001E-2},{"$f":"MIN(OFFSET(Male!AE$18,'Male - Rev'!$A23-35,0),0.03999)","v":9.5999999999999992E-3},{"$f":"MIN(OFFSET(Male!AF$18,'Male - Rev'!$A23-35,0),0.03999)","v":8.6999999999999994E-3},{"$f":"MIN(OFFSET(Male!AG$18,'Male - Rev'!$A23-35,0),0.03999)","v":8.3000000000000001E-3},{"$f":"MIN(OFFSET(Male!AH$18,'Male - Rev'!$A23-35,0),0.03999)","v":8.5000000000000006E-3},{"$f":"MIN(OFFSET(Male!AI$18,'Male - Rev'!$A23-35,0),0.03999)","v":9.1999999999999998E-3},{"$f":"MIN(OFFSET(Male!AJ$18,'Male - Rev'!$A23-35,0),0.03999)","v":1.0500000000000001E-2},{"$f":"MIN(OFFSET(Male!AK$18,'Male - Rev'!$A23-35,0),0.03999)","v":1.21E-2},{"$f":"MIN(OFFSET(Male!AL$18,'Male - Rev'!$A23-35,0),0.03999)","v":1.37E-2},{"$f":"MIN(OFFSET(Male!AM$18,'Male - Rev'!$A23-35,0),0.03999)","v":1.4999999999999999E-2},{"$f":"MIN(OFFSET(Male!AN$18,'Male - Rev'!$A23-35,0),0.03999)","v":1.5900000000000001E-2},{"$f":"MIN(OFFSET(Male!AO$18,'Male - Rev'!$A23-35,0),0.03999)","v":1.6199999999999999E-2},{"$f":"MIN(OFFSET(Male!AP$18,'Male - Rev'!$A23-35,0),0.03999)","v":1.5800000000000002E-2},{"$f":"MIN(OFFSET(Male!AQ$18,'Male - Rev'!$A23-35,0),0.03999)","v":1.5100000000000001E-2},{"$f":"MIN(OFFSET(Male!AR$18,'Male - Rev'!$A23-35,0),0.03999)","v":1.41E-2},{"$f":"MIN(OFFSET(Male!AS$18,'Male - Rev'!$A23-35,0),0.03999)","v":1.3299999999999999E-2},{"$f":"MIN(OFFSET(Male!AT$18,'Male - Rev'!$A23-35,0),0.03999)","v":1.2800000000000001E-2},{"$f":"MIN(OFFSET(Male!AU$18,'Male - Rev'!$A23-35,0),0.03999)","v":1.2800000000000001E-2},{"$f":"MIN(OFFSET(Male!AV$18,'Male - Rev'!$A23-35,0),0.03999)","v":1.3299999999999999E-2},{"$f":"MIN(OFFSET(Male!AW$18,'Male - Rev'!$A23-35,0),0.03999)","v":1.44E-2},{"$f":"MIN(OFFSET(Male!AX$18,'Male - Rev'!$A23-35,0),0.03999)","v":1.61E-2},{"$f":"MIN(OFFSET(Male!AY$18,'Male - Rev'!$A23-35,0),0.03999)","v":1.8100000000000002E-2},{"$f":"MIN(OFFSET(Male!AZ$18,'Male - Rev'!$A23-35,0),0.03999)","v":2.0400000000000001E-2},{"$f":"MIN(OFFSET(Male!BA$18,'Male - Rev'!$A23-35,0),0.03999)","v":2.2499999999999999E-2},{"$f":"MIN(OFFSET(Male!BB$18,'Male - Rev'!$A23-35,0),0.03999)","v":2.4400000000000002E-2},{"$f":"MIN(OFFSET(Male!BC$18,'Male - Rev'!$A23-35,0),0.03999)","v":2.5600000000000001E-2},{"$f":"MIN(OFFSET(Male!BD$18,'Male - Rev'!$A23-35,0),0.03999)","v":2.6200000000000001E-2},{"$f":"MIN(OFFSET(Male!BE$18,'Male - Rev'!$A23-35,0),0.03999)","v":2.5899999999999999E-2},{"$f":"MIN(OFFSET(Male!BF$18,'Male - Rev'!$A23-35,0),0.03999)","v":2.4899999999999999E-2},{"$f":"MIN(OFFSET(Male!BG$18,'Male - Rev'!$A23-35,0),0.03999)","v":2.3300000000000001E-2},{"$f":"MIN(OFFSET(Male!BH$18,'Male - Rev'!$A23-35,0),0.03999)","v":2.1100000000000001E-2},{"$f":"MIN(OFFSET(Male!BI$18,'Male - Rev'!$A23-35,0),0.03999)","v":1.8700000000000001E-2},{"$f":"MIN(OFFSET(Male!BJ$18,'Male - Rev'!$A23-35,0),0.03999)","v":1.61E-2},{"$f":"MIN(OFFSET(Male!BK$18,'Male - Rev'!$A23-35,0),0.03999)","v":1.35E-2},{"$f":"MIN(OFFSET(Male!BL$18,'Male - Rev'!$A23-35,0),0.03999)","v":1.11E-2},{"$f":"MIN(OFFSET(Male!BM$18,'Male - Rev'!$A23-35,0),0.03999)","v":8.9999999999999993E-3},{"$f":"MIN(OFFSET(Male!BN$18,'Male - Rev'!$A23-35,0),0.03999)","v":7.0000000000000001E-3},{"$f":"MIN(OFFSET(Male!BO$18,'Male - Rev'!$A23-35,0),0.03999)","v":7.1000000000000004E-3},{"$f":"MIN(OFFSET(Male!BP$18,'Male - Rev'!$A23-35,0),0.03999)","v":7.1999999999999998E-3},{"$f":"MIN(OFFSET(Male!BQ$18,'Male - Rev'!$A23-35,0),0.03999)","v":7.1999999999999998E-3},{"$f":"MIN(OFFSET(Male!BR$18,'Male - Rev'!$A23-35,0),0.03999)","v":7.1000000000000004E-3},{"$f":"MIN(OFFSET(Male!BS$18,'Male - Rev'!$A23-35,0),0.03999)","v":7.0000000000000001E-3},{"$f":"MIN(OFFSET(Male!BT$18,'Male - Rev'!$A23-35,0),0.03999)","v":6.7999999999999996E-3},{"$f":"MIN(OFFSET(Male!BU$18,'Male - Rev'!$A23-35,0),0.03999)","v":6.6E-3},{"$f":"MIN(OFFSET(Male!BV$18,'Male - Rev'!$A23-35,0),0.03999)","v":6.4000000000000003E-3},{"$f":"MIN(OFFSET(Male!BW$18,'Male - Rev'!$A23-35,0),0.03999)","v":6.3E-3},{"$f":"MIN(OFFSET(Male!BX$18,'Male - Rev'!$A23-35,0),0.03999)","v":6.4000000000000003E-3},{"$f":"MIN(OFFSET(Male!BY$18,'Male - Rev'!$A23-35,0),0.03999)","v":6.4999999999999997E-3},{"$f":"MIN(OFFSET(Male!BZ$18,'Male - Rev'!$A23-35,0),0.03999)","v":6.8999999999999999E-3},{"$f":"MIN(OFFSET(Male!CA$18,'Male - Rev'!$A23-35,0),0.03999)","v":7.4000000000000003E-3},{"$f":"MIN(OFFSET(Male!CB$18,'Male - Rev'!$A23-35,0),0.03999)","v":8.0000000000000002E-3},{"$f":"MIN(OFFSET(Male!CC$18,'Male - Rev'!$A23-35,0),0.03999)","v":8.6E-3},{"$f":"MIN(OFFSET(Male!CD$18,'Male - Rev'!$A23-35,0),0.03999)","v":9.1000000000000004E-3},{"$f":"MIN(OFFSET(Male!CE$18,'Male - Rev'!$A23-35,0),0.03999)","v":9.4999999999999998E-3},{"$f":"MIN(OFFSET(Male!CF$18,'Male - Rev'!$A23-35,0),0.03999)","v":9.7999999999999997E-3},{"$f":"MIN(OFFSET(Male!CG$18,'Male - Rev'!$A23-35,0),0.03999)","v":0.01},{"$f":"MIN(OFFSET(Male!CH$18,'Male - Rev'!$A23-35,0),0.03999)","v":0.01}]
[74,74,{"$f":"MIN(OFFSET(Male!B$18,'Male - Rev'!$A24-35,0),0.03999)","v":1.04E-2},{"$f":"MIN(OFFSET(Male!C$18,'Male - Rev'!$A24-35,0),0.03999)","v":8.6E-3},{"$f":"MIN(OFFSET(Male!D$18,'Male - Rev'!$A24-35,0),0.03999)","v":6.7999999999999996E-3},{"$f":"MIN(OFFSET(Male!E$18,'Male - Rev'!$A24-35,0),0.03999)","v":5.1000000000000004E-3},{"$f":"MIN(OFFSET(Male!F$18,'Male - Rev'!$A24-35,0),0.03999)","v":3.3999999999999998E-3},{"$f":"MIN(OFFSET(Male!G$18,'Male - Rev'!$A24-35,0),0.03999)","v":2E-3},{"$f":"MIN(OFFSET(Male!H$18,'Male - Rev'!$A24-35,0),0.03999)","v":6.9999999999999999E-4},{"$f":"MIN(OFFSET(Male!I$18,'Male - Rev'!$A24-35,0),0.03999)","v":-2.9999999999999997E-4},{"$f":"MIN(OFFSET(Male!J$18,'Male - Rev'!$A24-35,0),0.03999)","v":-1.1000000000000001E-3},{"$f":"MIN(OFFSET(Male!K$18,'Male - Rev'!$A24-35,0),0.03999)","v":-1.6999999999999999E-3},{"$f":"MIN(OFFSET(Male!L$18,'Male - Rev'!$A24-35,0),0.03999)","v":-2.2000000000000001E-3},{"$f":"MIN(OFFSET(Male!M$18,'Male - Rev'!$A24-35,0),0.03999)","v":-2.5999999999999999E-3},{"$f":"MIN(OFFSET(Male!N$18,'Male - Rev'!$A24-35,0),0.03999)","v":-2.7000000000000001E-3},{"$f":"MIN(OFFSET(Male!O$18,'Male - Rev'!$A24-35,0),0.03999)","v":-2.3999999999999998E-3},{"$f":"MIN(OFFSET(Male!P$18,'Male - Rev'!$A24-35,0),0.03999)","v":-1.8E-3},{"$f":"MIN(OFFSET(Male!Q$18,'Male - Rev'!$A24-35,0),0.03999)","v":-8.0000000000000004E-4},{"$f":"MIN(OFFSET(Male!R$18,'Male - Rev'!$A24-35,0),0.03999)","v":6.9999999999999999E-4},{"$f":"MIN(OFFSET(Male!S$18,'Male - Rev'!$A24-35,0),0.03999)","v":2.5000000000000001E-3},{"$f":"MIN(OFFSET(Male!T$18,'Male - Rev'!$A24-35,0),0.03999)","v":4.7000000000000002E-3},{"$f":"MIN(OFFSET(Male!U$18,'Male - Rev'!$A24-35,0),0.03999)","v":6.8999999999999999E-3},{"$f":"MIN(OFFSET(Male!V$18,'Male - Rev'!$A24-35,0),0.03999)","v":9.1000000000000004E-3},{"$f":"MIN(OFFSET(Male!W$18,'Male - Rev'!$A24-35,0),0.03999)","v":1.11E-2},{"$f":"MIN(OFFSET(Male!X$18,'Male - Rev'!$A24-35,0),0.03999)","v":1.2800000000000001E-2},{"$f":"MIN(OFFSET(Male!Y$18,'Male - Rev'!$A24-35,0),0.03999)","v":1.4E-2},{"$f":"MIN(OFFSET(Male!Z$18,'Male - Rev'!$A24-35,0),0.03999)","v":1.4500000000000001E-2},{"$f":"MIN(OFFSET(Male!AA$18,'Male - Rev'!$A24-35,0),0.03999)","v":1.43E-2},{"$f":"MIN(OFFSET(Male!AB$18,'Male - Rev'!$A24-35,0),0.03999)","v":1.3599999999999999E-2},{"$f":"MIN(OFFSET(Male!AC$18,'Male - Rev'!$A24-35,0),0.03999)","v":1.2500000000000001E-2},{"$f":"MIN(OFFSET(Male!AD$18,'Male - Rev'!$A24-35,0),0.03999)","v":1.1299999999999999E-2},{"$f":"MIN(OFFSET(Male!AE$18,'Male - Rev'!$A24-35,0),0.03999)","v":1.0200000000000001E-2},{"$f":"MIN(OFFSET(Male!AF$18,'Male - Rev'!$A24-35,0),0.03999)","v":9.4000000000000004E-3},{"$f":"MIN(OFFSET(Male!AG$18,'Male - Rev'!$A24-35,0),0.03999)","v":9.1000000000000004E-3},{"$f":"MIN(OFFSET(Male!AH$18,'Male - Rev'!$A24-35,0),0.03999)","v":9.2999999999999992E-3},{"$f":"MIN(OFFSET(Male!AI$18,'Male - Rev'!$A24-35,0),0.03999)","v":1.01E-2},{"$f":"MIN(OFFSET(Male!AJ$18,'Male - Rev'!$A24-35,0),0.03999)","v":1.14E-2},{"$f":"MIN(OFFSET(Male!AK$18,'Male - Rev'!$A24-35,0),0.03999)","v":1.29E-2},{"$f":"MIN(OFFSET(Male!AL$18,'Male - Rev'!$A24-35,0),0.03999)","v":1.4500000000000001E-2},{"$f":"MIN(OFFSET(Male!AM$18,'Male - Rev'!$A24-35,0),0.03999)","v":1.5800000000000002E-2},{"$f":"MIN(OFFSET(Male!AN$18,'Male - Rev'!$A24-35,0),0.03999)","v":1.6500000000000001E-2},{"$f":"MIN(OFFSET(Male!AO$18,'Male - Rev'!$A24-35,0),0.03999)","v":1.67E-2},{"$f":"MIN(OFFSET(Male!AP$18,'Male - Rev'!$A24-35,0),0.03999)","v":1.6199999999999999E-2},{"$f":"MIN(OFFSET(Male!AQ$18,'Male - Rev'!$A24-35,0),0.03999)","v":1.54E-2},{"$f":"MIN(OFFSET(Male!AR$18,'Male - Rev'!$A24-35,0),0.03999)","v":1.44E-2},{"$f":"MIN(OFFSET(Male!AS$18,'Male - Rev'!$A24-35,0),0.03999)","v":1.35E-2},{"$f":"MIN(OFFSET(Male!AT$18,'Male - Rev'!$A24-35,0),0.03999)","v":1.2999999999999999E-2},{"$f":"MIN(OFFSET(Male!AU$18,'Male - Rev'!$A24-35,0),0.03999)","v":1.3100000000000001E-2},{"$f":"MIN(OFFSET(Male!AV$18,'Male - Rev'!$A24-35,0),0.03999)","v":1.37E-2},{"$f":"MIN(OFFSET(Male!AW$18,'Male - Rev'!$A24-35,0),0.03999)","v":1.49E-2},{"$f":"MIN(OFFSET(Male!AX$18,'Male - Rev'!$A24-35,0),0.03999)","v":1.67E-2},{"$f":"MIN(OFFSET(Male!AY$18,'Male - Rev'!$A24-35,0),0.03999)","v":1.8800000000000001E-2},{"$f":"MIN(OFFSET(Male!AZ$18,'Male - Rev'!$A24-35,0),0.03999)","v":2.1100000000000001E-2},{"$f":"MIN(OFFSET(Male!BA$18,'Male - Rev'!$A24-35,0),0.03999)","v":2.3300000000000001E-2},{"$f":"MIN(OFFSET(Male!BB$18,'Male - Rev'!$A24-35,0),0.03999)","v":2.5100000000000001E-2},{"$f":"MIN(OFFSET(Male!BC$18,'Male - Rev'!$A24-35,0),0.03999)","v":2.63E-2},{"$f":"MIN(OFFSET(Male!BD$18,'Male - Rev'!$A24-35,0),0.03999)","v":2.6700000000000002E-2},{"$f":"MIN(OFFSET(Male!BE$18,'Male - Rev'!$A24-35,0),0.03999)","v":2.63E-2},{"$f":"MIN(OFFSET(Male!BF$18,'Male - Rev'!$A24-35,0),0.03999)","v":2.52E-2},{"$f":"MIN(OFFSET(Male!BG$18,'Male - Rev'!$A24-35,0),0.03999)","v":2.35E-2},{"$f":"MIN(OFFSET(Male!BH$18,'Male - Rev'!$A24-35,0),0.03999)","v":2.1299999999999999E-2},{"$f":"MIN(OFFSET(Male!BI$18,'Male - Rev'!$A24-35,0),0.03999)","v":1.8800000000000001E-2},{"$f":"MIN(OFFSET(Male!BJ$18,'Male - Rev'!$A24-35,0),0.03999)","v":1.6199999999999999E-2},{"$f":"MIN(OFFSET(Male!BK$18,'Male - Rev'!$A24-35,0),0.03999)","v":1.3599999999999999E-2},{"$f":"MIN(OFFSET(Male!BL$18,'Male - Rev'!$A24-35,0),0.03999)","v":1.12E-2},{"$f":"MIN(OFFSET(Male!BM$18,'Male - Rev'!$A24-35,0),0.03999)","v":8.9999999999999993E-3},{"$f":"MIN(OFFSET(Male!BN$18,'Male - Rev'!$A24-35,0),0.03999)","v":7.1000000000000004E-3},{"$f":"MIN(OFFSET(Male!BO$18,'Male - Rev'!$A24-35,0),0.03999)","v":7.1000000000000004E-3},{"$f":"MIN(OFFSET(Male!BP$18,'Male - Rev'!$A24-35,0),0.03999)","v":7.0000000000000001E-3},{"$f":"MIN(OFFSET(Male!BQ$18,'Male - Rev'!$A24-35,0),0.03999)","v":6.8999999999999999E-3},{"$f":"MIN(OFFSET(Male!BR$18,'Male - Rev'!$A24-35,0),0.03999)","v":6.7000000000000002E-3},{"$f":"MIN(OFFSET(Male!BS$18,'Male - Rev'!$A24-35,0),0.03999)","v":6.4000000000000003E-3},{"$f":"MIN(OFFSET(Male!BT$18,'Male - Rev'!$A24-35,0),0.03999)","v":6.1999999999999998E-3},{"$f":"MIN(OFFSET(Male!BU$18,'Male - Rev'!$A24-35,0),0.03999)","v":5.8999999999999999E-3},{"$f":"MIN(OFFSET(Male!BV$18,'Male - Rev'!$A24-35,0),0.03999)","v":5.7999999999999996E-3},{"$f":"MIN(OFFSET(Male!BW$18,'Male - Rev'!$A24-35,0),0.03999)","v":5.7999999999999996E-3},{"$f":"MIN(OFFSET(Male!BX$18,'Male - Rev'!$A24-35,0),0.03999)","v":5.8999999999999999E-3},{"$f":"MIN(OFFSET(Male!BY$18,'Male - Rev'!$A24-35,0),0.03999)","v":6.1999999999999998E-3},{"$f":"MIN(OFFSET(Male!BZ$18,'Male - Rev'!$A24-35,0),0.03999)","v":6.7000000000000002E-3},{"$f":"MIN(OFFSET(Male!CA$18,'Male - Rev'!$A24-35,0),0.03999)","v":7.4000000000000003E-3},{"$f":"MIN(OFFSET(Male!CB$18,'Male - Rev'!$A24-35,0),0.03999)","v":8.0000000000000002E-3},{"$f":"MIN(OFFSET(Male!CC$18,'Male - Rev'!$A24-35,0),0.03999)","v":8.6999999999999994E-3},{"$f":"MIN(OFFSET(Male!CD$18,'Male - Rev'!$A24-35,0),0.03999)","v":9.1999999999999998E-3},{"$f":"MIN(OFFSET(Male!CE$18,'Male - Rev'!$A24-35,0),0.03999)","v":9.5999999999999992E-3},{"$f":"MIN(OFFSET(Male!CF$18,'Male - Rev'!$A24-35,0),0.03999)","v":9.7999999999999997E-3},{"$f":"MIN(OFFSET(Male!CG$18,'Male - Rev'!$A24-35,0),0.03999)","v":0.01},{"$f":"MIN(OFFSET(Male!CH$18,'Male - Rev'!$A24-35,0),0.03999)","v":0.01}]
[73,73,{"$f":"MIN(OFFSET(Male!B$18,'Male - Rev'!$A25-35,0),0.03999)","v":1.01E-2},{"$f":"MIN(OFFSET(Male!C$18,'Male - Rev'!$A25-35,0),0.03999)","v":8.2000000000000007E-3},{"$f":"MIN(OFFSET(Male!D$18,'Male - Rev'!$A25-35,0),0.03999)","v":6.4000000000000003E-3},{"$f":"MIN(OFFSET(Male!E$18,'Male - Rev'!$A25-35,0),0.03999)","v":4.5999999999999999E-3},{"$f":"MIN(OFFSET(Male!F$18,'Male - Rev'!$A25-35,0),0.03999)","v":2.8999999999999998E-3},{"$f":"MIN(OFFSET(Male!G$18,'Male - Rev'!$A25-35,0),0.03999)","v":1.4E-3},{"$f":"MIN(OFFSET(Male!H$18,'Male - Rev'!$A25-35,0),0.03999)","v":2.0000000000000001E-4},{"$f":"MIN(OFFSET(Male!I$18,'Male - Rev'!$A25-35,0),0.03999)","v":-6.9999999999999999E-4},{"$f":"MIN(OFFSET(Male!J$18,'Male - Rev'!$A25-35,0),0.03999)","v":-1.4E-3},{"$f":"MIN(OFFSET(Male!K$18,'Male - Rev'!$A25-35,0),0.03999)","v":-2E-3},{"$f":"MIN(OFFSET(Male!L$18,'Male - Rev'!$A25-35,0),0.03999)","v":-2.3999999999999998E-3},{"$f":"MIN(OFFSET(Male!M$18,'Male - Rev'!$A25-35,0),0.03999)","v":-2.5999999999999999E-3},{"$f":"MIN(OFFSET(Male!N$18,'Male - Rev'!$A25-35,0),0.03999)","v":-2.7000000000000001E-3},{"$f":"MIN(OFFSET(Male!O$18,'Male - Rev'!$A25-35,0),0.03999)","v":-2.3999999999999998E-3},{"$f":"MIN(OFFSET(Male!P$18,'Male - Rev'!$A25-35,0),0.03999)","v":-1.6999999999999999E-3},{"$f":"MIN(OFFSET(Male!Q$18,'Male - Rev'!$A25-35,0),0.03999)","v":-6.9999999999999999E-4},{"$f":"MIN(OFFSET(Male!R$18,'Male - Rev'!$A25-35,0),0.03999)","v":6.9999999999999999E-4},{"$f":"MIN(OFFSET(Male!S$18,'Male - Rev'!$A25-35,0),0.03999)","v":2.5999999999999999E-3},{"$f":"MIN(OFFSET(Male!T$18,'Male - Rev'!$A25-35,0),0.03999)","v":4.7000000000000002E-3},{"$f":"MIN(OFFSET(Male!U$18,'Male - Rev'!$A25-35,0),0.03999)","v":7.0000000000000001E-3},{"$f":"MIN(OFFSET(Male!V$18,'Male - Rev'!$A25-35,0),0.03999)","v":9.1999999999999998E-3},{"$f":"MIN(OFFSET(Male!W$18,'Male - Rev'!$A25-35,0),0.03999)","v":1.1299999999999999E-2},{"$f":"MIN(OFFSET(Male!X$18,'Male - Rev'!$A25-35,0),0.03999)","v":1.2999999999999999E-2},{"$f":"MIN(OFFSET(Male!Y$18,'Male - Rev'!$A25-35,0),0.03999)","v":1.4200000000000001E-2},{"$f":"MIN(OFFSET(Male!Z$18,'Male - Rev'!$A25-35,0),0.03999)","v":1.4800000000000001E-2},{"$f":"MIN(OFFSET(Male!AA$18,'Male - Rev'!$A25-35,0),0.03999)","v":1.47E-2},{"$f":"MIN(OFFSET(Male!AB$18,'Male - Rev'!$A25-35,0),0.03999)","v":1.4E-2},{"$f":"MIN(OFFSET(Male!AC$18,'Male - Rev'!$A25-35,0),0.03999)","v":1.2999999999999999E-2},{"$f":"MIN(OFFSET(Male!AD$18,'Male - Rev'!$A25-35,0),0.03999)","v":1.1900000000000001E-2},{"$f":"MIN(OFFSET(Male!AE$18,'Male - Rev'!$A25-35,0),0.03999)","v":1.09E-2},{"$f":"MIN(OFFSET(Male!AF$18,'Male - Rev'!$A25-35,0),0.03999)","v":1.0200000000000001E-2},{"$f":"MIN(OFFSET(Male!AG$18,'Male - Rev'!$A25-35,0),0.03999)","v":9.9000000000000008E-3},{"$f":"MIN(OFFSET(Male!AH$18,'Male - Rev'!$A25-35,0),0.03999)","v":1.0200000000000001E-2},{"$f":"MIN(OFFSET(Male!AI$18,'Male - Rev'!$A25-35,0),0.03999)","v":1.09E-2},{"$f":"MIN(OFFSET(Male!AJ$18,'Male - Rev'!$A25-35,0),0.03999)","v":1.2200000000000001E-2},{"$f":"MIN(OFFSET(Male!AK$18,'Male - Rev'!$A25-35,0),0.03999)","v":1.37E-2},{"$f":"MIN(OFFSET(Male!AL$18,'Male - Rev'!$A25-35,0),0.03999)","v":1.5100000000000001E-2},{"$f":"MIN(OFFSET(Male!AM$18,'Male - Rev'!$A25-35,0),0.03999)","v":1.6299999999999999E-2},{"$f":"MIN(OFFSET(Male!AN$18,'Male - Rev'!$A25-35,0),0.03999)","v":1.6899999999999998E-2},{"$f":"MIN(OFFSET(Male!AO$18,'Male - Rev'!$A25-35,0),0.03999)","v":1.7000000000000001E-2},{"$f":"MIN(OFFSET(Male!AP$18,'Male - Rev'!$A25-35,0),0.03999)","v":1.6400000000000001E-2},{"$f":"MIN(OFFSET(Male!AQ$18,'Male - Rev'!$A25-35,0),0.03999)","v":1.55E-2},{"$f":"MIN(OFFSET(Male!AR$18,'Male - Rev'!$A25-35,0),0.03999)","v":1.4500000000000001E-2},{"$f":"MIN(OFFSET(Male!AS$18,'Male - Rev'!$A25-35,0),0.03999)","v":1.37E-2},{"$f":"MIN(OFFSET(Male!AT$18,'Male - Rev'!$A25-35,0),0.03999)","v":1.32E-2},{"$f":"MIN(OFFSET(Male!AU$18,'Male - Rev'!$A25-35,0),0.03999)","v":1.34E-2},{"$f":"MIN(OFFSET(Male!AV$18,'Male - Rev'!$A25-35,0),0.03999)","v":1.41E-2},{"$f":"MIN(OFFSET(Male!AW$18,'Male - Rev'!$A25-35,0),0.03999)","v":1.54E-2},{"$f":"MIN(OFFSET(Male!AX$18,'Male - Rev'!$A25-35,0),0.03999)","v":1.7299999999999999E-2},{"$f":"MIN(OFFSET(Male!AY$18,'Male - Rev'!$A25-35,0),0.03999)","v":1.9599999999999999E-2},{"$f":"MIN(OFFSET(Male!AZ$18,'Male - Rev'!$A25-35,0),0.03999)","v":2.1899999999999999E-2},{"$f":"MIN(OFFSET(Male!BA$18,'Male - Rev'!$A25-35,0),0.03999)","v":2.41E-2},{"$f":"MIN(OFFSET(Male!BB$18,'Male - Rev'!$A25-35,0),0.03999)","v":2.58E-2},{"$f":"MIN(OFFSET(Male!BC$18,'Male - Rev'!$A25-35,0),0.03999)","v":2.6800000000000001E-2},{"$f":"MIN(OFFSET(Male!BD$18,'Male - Rev'!$A25-35,0),0.03999)","v":2.7099999999999999E-2},{"$f":"MIN(OFFSET(Male!BE$18,'Male - Rev'!$A25-35,0),0.03999)","v":2.6599999999999999E-2},{"$f":"MIN(OFFSET(Male!BF$18,'Male - Rev'!$A25-35,0),0.03999)","v":2.5399999999999999E-2},{"$f":"MIN(OFFSET(Male!BG$18,'Male - Rev'!$A25-35,0),0.03999)","v":2.3599999999999999E-2},{"$f":"MIN(OFFSET(Male!BH$18,'Male - Rev'!$A25-35,0),0.03999)","v":2.1399999999999999E-2},{"$f":"MIN(OFFSET(Male!BI$18,'Male - Rev'!$A25-35,0),0.03999)","v":1.8800000000000001E-2},{"$f":"MIN(OFFSET(Male!BJ$18,'Male - Rev'!$A25-35,0),0.03999)","v":1.6199999999999999E-2},{"$f":"MIN(OFFSET(Male!BK$18,'Male - Rev'!$A25-35,0),0.03999)","v":1.3599999999999999E-2},{"$f":"MIN(OFFSET(Male!BL$18,'Male - Rev'!$A25-35,0),0.03999)","v":1.11E-2},{"$f":"MIN(OFFSET(Male!BM$18,'Male - Rev'!$A25-35,0),0.03999)","v":8.8999999999999999E-3},{"$f":"MIN(OFFSET(Male!BN$18,'Male - Rev'!$A25-35,0),0.03999)","v":7.0000000000000001E-3},{"$f":"MIN(OFFSET(Male!BO$18,'Male - Rev'!$A25-35,0),0.03999)","v":6.7999999999999996E-3},{"$f":"MIN(OFFSET(Male!BP$18,'Male - Rev'!$A25-35,0),0.03999)","v":6.6E-3},{"$f":"MIN(OFFSET(Male!BQ$18,'Male - Rev'!$A25-35,0),0.03999)","v":6.3E-3},{"$f":"MIN(OFFSET(Male!BR$18,'Male - Rev'!$A25-35,0),0.03999)","v":6.0000000000000001E-3},{"$f":"MIN(OFFSET(Male!BS$18,'Male - Rev'!$A25-35,0),0.03999)","v":5.7000000000000002E-3},{"$f":"MIN(OFFSET(Male!BT$18,'Male - Rev'!$A25-35,0),0.03999)","v":5.4000000000000003E-3},{"$f":"MIN(OFFSET(Male!BU$18,'Male - Rev'!$A25-35,0),0.03999)","v":5.1999999999999998E-3},{"$f":"MIN(OFFSET(Male!BV$18,'Male - Rev'!$A25-35,0),0.03999)","v":5.1000000000000004E-3},{"$f":"MIN(OFFSET(Male!BW$18,'Male - Rev'!$A25-35,0),0.03999)","v":5.3E-3},{"$f":"MIN(OFFSET(Male!BX$18,'Male - Rev'!$A25-35,0),0.03999)","v":5.5999999999999999E-3},{"$f":"MIN(OFFSET(Male!BY$18,'Male - Rev'!$A25-35,0),0.03999)","v":6.1000000000000004E-3},{"$f":"MIN(OFFSET(Male!BZ$18,'Male - Rev'!$A25-35,0),0.03999)","v":6.7000000000000002E-3},{"$f":"MIN(OFFSET(Male!CA$18,'Male - Rev'!$A25-35,0),0.03999)","v":7.4000000000000003E-3},{"$f":"MIN(OFFSET(Male!CB$18,'Male - Rev'!$A25-35,0),0.03999)","v":8.2000000000000007E-3},{"$f":"MIN(OFFSET(Male!CC$18,'Male - Rev'!$A25-35,0),0.03999)","v":8.8000000000000005E-3},{"$f":"MIN(OFFSET(Male!CD$18,'Male - Rev'!$A25-35,0),0.03999)","v":9.2999999999999992E-3},{"$f":"MIN(OFFSET(Male!CE$18,'Male - Rev'!$A25-35,0),0.03999)","v":9.5999999999999992E-3},{"$f":"MIN(OFFSET(Male!CF$18,'Male - Rev'!$A25-35,0),0.03999)","v":9.9000000000000008E-3},{"$f":"MIN(OFFSET(Male!CG$18,'Male - Rev'!$A25-35,0),0.03999)","v":0.01},{"$f":"MIN(OFFSET(Male!CH$18,'Male - Rev'!$A25-35,0),0.03999)","v":0.01}]
[72,72,{"$f":"MIN(OFFSET(Male!B$18,'Male - Rev'!$A26-35,0),0.03999)","v":9.5999999999999992E-3},{"$f":"MIN(OFFSET(Male!C$18,'Male - Rev'!$A26-35,0),0.03999)","v":7.7000000000000002E-3},{"$f":"MIN(OFFSET(Male!D$18,'Male - Rev'!$A26-35,0),0.03999)","v":5.7999999999999996E-3},{"$f":"MIN(OFFSET(Male!E$18,'Male - Rev'!$A26-35,0),0.03999)","v":4.0000000000000001E-3},{"$f":"MIN(OFFSET(Male!F$18,'Male - Rev'!$A26-35,0),0.03999)","v":2.3E-3},{"$f":"MIN(OFFSET(Male!G$18,'Male - Rev'!$A26-35,0),0.03999)","v":8.0000000000000004E-4},{"$f":"MIN(OFFSET(Male!H$18,'Male - Rev'!$A26-35,0),0.03999)","v":-2.9999999999999997E-4},{"$f":"MIN(OFFSET(Male!I$18,'Male - Rev'!$A26-35,0),0.03999)","v":-1.1999999999999999E-3},{"$f":"MIN(OFFSET(Male!J$18,'Male - Rev'!$A26-35,0),0.03999)","v":-1.8E-3},{"$f":"MIN(OFFSET(Male!K$18,'Male - Rev'!$A26-35,0),0.03999)","v":-2.3E-3},{"$f":"MIN(OFFSET(Male!L$18,'Male - Rev'!$A26-35,0),0.03999)","v":-2.5000000000000001E-3},{"$f":"MIN(OFFSET(Male!M$18,'Male - Rev'!$A26-35,0),0.03999)","v":-2.7000000000000001E-3},{"$f":"MIN(OFFSET(Male!N$18,'Male - Rev'!$A26-35,0),0.03999)","v":-2.5999999999999999E-3},{"$f":"MIN(OFFSET(Male!O$18,'Male - Rev'!$A26-35,0),0.03999)","v":-2.2000000000000001E-3},{"$f":"MIN(OFFSET(Male!P$18,'Male - Rev'!$A26-35,0),0.03999)","v":-1.6000000000000001E-3},{"$f":"MIN(OFFSET(Male!Q$18,'Male - Rev'!$A26-35,0),0.03999)","v":-5.0000000000000001E-4},{"$f":"MIN(OFFSET(Male!R$18,'Male - Rev'!$A26-35,0),0.03999)","v":8.9999999999999998E-4},{"$f":"MIN(OFFSET(Male!S$18,'Male - Rev'!$A26-35,0),0.03999)","v":2.8E-3},{"$f":"MIN(OFFSET(Male!T$18,'Male - Rev'!$A26-35,0),0.03999)","v":4.8999999999999998E-3},{"$f":"MIN(OFFSET(Male!U$18,'Male - Rev'!$A26-35,0),0.03999)","v":7.1000000000000004E-3},{"$f":"MIN(OFFSET(Male!V$18,'Male - Rev'!$A26-35,0),0.03999)","v":9.4000000000000004E-3},{"$f":"MIN(OFFSET(Male!W$18,'Male - Rev'!$A26-35,0),0.03999)","v":1.15E-2},{"$f":"MIN(OFFSET(Male!X$18,'Male - Rev'!$A26-35,0),0.03999)","v":1.3299999999999999E-2},{"$f":"MIN(OFFSET(Male!Y$18,'Male - Rev'!$A26-35,0),0.03999)","v":1.4500000000000001E-2},{"$f":"MIN(OFFSET(Male!Z$18,'Male - Rev'!$A26-35,0),0.03999)","v":1.52E-2},{"$f":"MIN(OFFSET(Male!AA$18,'Male - Rev'!$A26-35,0),0.03999)","v":1.5100000000000001E-2},{"$f":"MIN(OFFSET(Male!AB$18,'Male - Rev'!$A26-35,0),0.03999)","v":1.46E-2},{"$f":"MIN(OFFSET(Male!AC$18,'Male - Rev'!$A26-35,0),0.03999)","v":1.37E-2},{"$f":"MIN(OFFSET(Male!AD$18,'Male - Rev'!$A26-35,0),0.03999)","v":1.2699999999999999E-2},{"$f":"MIN(OFFSET(Male!AE$18,'Male - Rev'!$A26-35,0),0.03999)","v":1.17E-2},{"$f":"MIN(OFFSET(Male!AF$18,'Male - Rev'!$A26-35,0),0.03999)","v":1.11E-2},{"$f":"MIN(OFFSET(Male!AG$18,'Male - Rev'!$A26-35,0),0.03999)","v":1.0800000000000001E-2},{"$f":"MIN(OFFSET(Male!AH$18,'Male - Rev'!$A26-35,0),0.03999)","v":1.0999999999999999E-2},{"$f":"MIN(OFFSET(Male!AI$18,'Male - Rev'!$A26-35,0),0.03999)","v":1.18E-2},{"$f":"MIN(OFFSET(Male!AJ$18,'Male - Rev'!$A26-35,0),0.03999)","v":1.29E-2},{"$f":"MIN(OFFSET(Male!AK$18,'Male - Rev'!$A26-35,0),0.03999)","v":1.43E-2},{"$f":"MIN(OFFSET(Male!AL$18,'Male - Rev'!$A26-35,0),0.03999)","v":1.5599999999999999E-2},{"$f":"MIN(OFFSET(Male!AM$18,'Male - Rev'!$A26-35,0),0.03999)","v":1.66E-2},{"$f":"MIN(OFFSET(Male!AN$18,'Male - Rev'!$A26-35,0),0.03999)","v":1.7100000000000001E-2},{"$f":"MIN(OFFSET(Male!AO$18,'Male - Rev'!$A26-35,0),0.03999)","v":1.7000000000000001E-2},{"$f":"MIN(OFFSET(Male!AP$18,'Male - Rev'!$A26-35,0),0.03999)","v":1.6400000000000001E-2},{"$f":"MIN(OFFSET(Male!AQ$18,'Male - Rev'!$A26-35,0),0.03999)","v":1.55E-2},{"$f":"MIN(OFFSET(Male!AR$18,'Male - Rev'!$A26-35,0),0.03999)","v":1.4500000000000001E-2},{"$f":"MIN(OFFSET(Male!AS$18,'Male - Rev'!$A26-35,0),0.03999)","v":1.38E-2},{"$f":"MIN(OFFSET(Male!AT$18,'Male - Rev'!$A26-35,0),0.03999)","v":1.35E-2},{"$f":"MIN(OFFSET(Male!AU$18,'Male - Rev'!$A26-35,0),0.03999)","v":1.37E-2},{"$f":"MIN(OFFSET(Male!AV$18,'Male - Rev'!$A26-35,0),0.03999)","v":1.46E-2},{"$f":"MIN(OFFSET(Male!AW$18,'Male - Rev'!$A26-35,0),0.03999)","v":1.61E-2},{"$f":"MIN(OFFSET(Male!AX$18,'Male - Rev'!$A26-35,0),0.03999)","v":1.8100000000000002E-2},{"$f":"MIN(OFFSET(Male!AY$18,'Male - Rev'!$A26-35,0),0.03999)","v":2.0400000000000001E-2},{"$f":"MIN(OFFSET(Male!AZ$18,'Male - Rev'!$A26-35,0),0.03999)","v":2.2700000000000001E-2},{"$f":"MIN(OFFSET(Male!BA$18,'Male - Rev'!$A26-35,0),0.03999)","v":2.4799999999999999E-2},{"$f":"MIN(OFFSET(Male!BB$18,'Male - Rev'!$A26-35,0),0.03999)","v":2.64E-2},{"$f":"MIN(OFFSET(Male!BC$18,'Male - Rev'!$A26-35,0),0.03999)","v":2.7300000000000001E-2},{"$f":"MIN(OFFSET(Male!BD$18,'Male - Rev'!$A26-35,0),0.03999)","v":2.7400000000000001E-2},{"$f":"MIN(OFFSET(Male!BE$18,'Male - Rev'!$A26-35,0),0.03999)","v":2.6800000000000001E-2},{"$f":"MIN(OFFSET(Male!BF$18,'Male - Rev'!$A26-35,0),0.03999)","v":2.5499999999999998E-2},{"$f":"MIN(OFFSET(Male!BG$18,'Male - Rev'!$A26-35,0),0.03999)","v":2.3599999999999999E-2},{"$f":"MIN(OFFSET(Male!BH$18,'Male - Rev'!$A26-35,0),0.03999)","v":2.1399999999999999E-2},{"$f":"MIN(OFFSET(Male!BI$18,'Male - Rev'!$A26-35,0),0.03999)","v":1.8800000000000001E-2},{"$f":"MIN(OFFSET(Male!BJ$18,'Male - Rev'!$A26-35,0),0.03999)","v":1.61E-2},{"$f":"MIN(OFFSET(Male!BK$18,'Male - Rev'!$A26-35,0),0.03999)","v":1.34E-2},{"$f":"MIN(OFFSET(Male!BL$18,'Male - Rev'!$A26-35,0),0.03999)","v":1.09E-2},{"$f":"MIN(OFFSET(Male!BM$18,'Male - Rev'!$A26-35,0),0.03999)","v":8.6E-3},{"$f":"MIN(OFFSET(Male!BN$18,'Male - Rev'!$A26-35,0),0.03999)","v":6.6E-3},{"$f":"MIN(OFFSET(Male!BO$18,'Male - Rev'!$A26-35,0),0.03999)","v":6.3E-3},{"$f":"MIN(OFFSET(Male!BP$18,'Male - Rev'!$A26-35,0),0.03999)","v":5.8999999999999999E-3},{"$f":"MIN(OFFSET(Male!BQ$18,'Male - Rev'!$A26-35,0),0.03999)","v":5.4999999999999997E-3},{"$f":"MIN(OFFSET(Male!BR$18,'Male - Rev'!$A26-35,0),0.03999)","v":5.1000000000000004E-3},{"$f":"MIN(OFFSET(Male!BS$18,'Male - Rev'!$A26-35,0),0.03999)","v":4.7000000000000002E-3},{"$f":"MIN(OFFSET(Male!BT$18,'Male - Rev'!$A26-35,0),0.03999)","v":4.4999999999999997E-3},{"$f":"MIN(OFFSET(Male!BU$18,'Male - Rev'!$A26-35,0),0.03999)","v":4.4000000000000003E-3},{"$f":"MIN(OFFSET(Male!BV$18,'Male - Rev'!$A26-35,0),0.03999)","v":4.4999999999999997E-3},{"$f":"MIN(OFFSET(Male!BW$18,'Male - Rev'!$A26-35,0),0.03999)","v":4.8999999999999998E-3},{"$f":"MIN(OFFSET(Male!BX$18,'Male - Rev'!$A26-35,0),0.03999)","v":5.4000000000000003E-3},{"$f":"MIN(OFFSET(Male!BY$18,'Male - Rev'!$A26-35,0),0.03999)","v":6.0000000000000001E-3},{"$f":"MIN(OFFSET(Male!BZ$18,'Male - Rev'!$A26-35,0),0.03999)","v":6.7999999999999996E-3},{"$f":"MIN(OFFSET(Male!CA$18,'Male - Rev'!$A26-35,0),0.03999)","v":7.6E-3},{"$f":"MIN(OFFSET(Male!CB$18,'Male - Rev'!$A26-35,0),0.03999)","v":8.3000000000000001E-3},{"$f":"MIN(OFFSET(Male!CC$18,'Male - Rev'!$A26-35,0),0.03999)","v":8.8999999999999999E-3},{"$f":"MIN(OFFSET(Male!CD$18,'Male - Rev'!$A26-35,0),0.03999)","v":9.4000000000000004E-3},{"$f":"MIN(OFFSET(Male!CE$18,'Male - Rev'!$A26-35,0),0.03999)","v":9.7000000000000003E-3},{"$f":"MIN(OFFSET(Male!CF$18,'Male - Rev'!$A26-35,0),0.03999)","v":9.9000000000000008E-3},{"$f":"MIN(OFFSET(Male!CG$18,'Male - Rev'!$A26-35,0),0.03999)","v":0.01},{"$f":"MIN(OFFSET(Male!CH$18,'Male - Rev'!$A26-35,0),0.03999)","v":0.01}]
[71,71,{"$f":"MIN(OFFSET(Male!B$18,'Male - Rev'!$A27-35,0),0.03999)","v":8.9999999999999993E-3},{"$f":"MIN(OFFSET(Male!C$18,'Male - Rev'!$A27-35,0),0.03999)","v":7.1000000000000004E-3},{"$f":"MIN(OFFSET(Male!D$18,'Male - Rev'!$A27-35,0),0.03999)","v":5.1999999999999998E-3},{"$f":"MIN(OFFSET(Male!E$18,'Male - Rev'!$A27-35,0),0.03999)","v":3.3999999999999998E-3},{"$f":"MIN(OFFSET(Male!F$18,'Male - Rev'!$A27-35,0),0.03999)","v":1.6999999999999999E-3},{"$f":"MIN(OFFSET(Male!G$18,'Male - Rev'!$A27-35,0),0.03999)","v":2.9999999999999997E-4},{"$f":"MIN(OFFSET(Male!H$18,'Male - Rev'!$A27-35,0),0.03999)","v":-8.9999999999999998E-4},{"$f":"MIN(OFFSET(Male!I$18,'Male - Rev'!$A27-35,0),0.03999)","v":-1.6999999999999999E-3},{"$f":"MIN(OFFSET(Male!J$18,'Male - Rev'!$A27-35,0),0.03999)","v":-2.2000000000000001E-3},{"$f":"MIN(OFFSET(Male!K$18,'Male - Rev'!$A27-35,0),0.03999)","v":-2.5999999999999999E-3},{"$f":"MIN(OFFSET(Male!L$18,'Male - Rev'!$A27-35,0),0.03999)","v":-2.7000000000000001E-3},{"$f":"MIN(OFFSET(Male!M$18,'Male - Rev'!$A27-35,0),0.03999)","v":-2.8E-3},{"$f":"MIN(OFFSET(Male!N$18,'Male - Rev'!$A27-35,0),0.03999)","v":-2.5999999999999999E-3},{"$f":"MIN(OFFSET(Male!O$18,'Male - Rev'!$A27-35,0),0.03999)","v":-2.0999999999999999E-3},{"$f":"MIN(OFFSET(Male!P$18,'Male - Rev'!$A27-35,0),0.03999)","v":-1.2999999999999999E-3},{"$f":"MIN(OFFSET(Male!Q$18,'Male - Rev'!$A27-35,0),0.03999)","v":-2.0000000000000001E-4},{"$f":"MIN(OFFSET(Male!R$18,'Male - Rev'!$A27-35,0),0.03999)","v":1.2999999999999999E-3},{"$f":"MIN(OFFSET(Male!S$18,'Male - Rev'!$A27-35,0),0.03999)","v":3.0999999999999999E-3},{"$f":"MIN(OFFSET(Male!T$18,'Male - Rev'!$A27-35,0),0.03999)","v":5.1999999999999998E-3},{"$f":"MIN(OFFSET(Male!U$18,'Male - Rev'!$A27-35,0),0.03999)","v":7.4000000000000003E-3},{"$f":"MIN(OFFSET(Male!V$18,'Male - Rev'!$A27-35,0),0.03999)","v":9.5999999999999992E-3},{"$f":"MIN(OFFSET(Male!W$18,'Male - Rev'!$A27-35,0),0.03999)","v":1.17E-2},{"$f":"MIN(OFFSET(Male!X$18,'Male - Rev'!$A27-35,0),0.03999)","v":1.3599999999999999E-2},{"$f":"MIN(OFFSET(Male!Y$18,'Male - Rev'!$A27-35,0),0.03999)","v":1.49E-2},{"$f":"MIN(OFFSET(Male!Z$18,'Male - Rev'!$A27-35,0),0.03999)","v":1.5599999999999999E-2},{"$f":"MIN(OFFSET(Male!AA$18,'Male - Rev'!$A27-35,0),0.03999)","v":1.5699999999999999E-2},{"$f":"MIN(OFFSET(Male!AB$18,'Male - Rev'!$A27-35,0),0.03999)","v":1.52E-2},{"$f":"MIN(OFFSET(Male!AC$18,'Male - Rev'!$A27-35,0),0.03999)","v":1.44E-2},{"$f":"MIN(OFFSET(Male!AD$18,'Male - Rev'!$A27-35,0),0.03999)","v":1.35E-2},{"$f":"MIN(OFFSET(Male!AE$18,'Male - Rev'!$A27-35,0),0.03999)","v":1.26E-2},{"$f":"MIN(OFFSET(Male!AF$18,'Male - Rev'!$A27-35,0),0.03999)","v":1.2E-2},{"$f":"MIN(OFFSET(Male!AG$18,'Male - Rev'!$A27-35,0),0.03999)","v":1.18E-2},{"$f":"MIN(OFFSET(Male!AH$18,'Male - Rev'!$A27-35,0),0.03999)","v":1.1900000000000001E-2},{"$f":"MIN(OFFSET(Male!AI$18,'Male - Rev'!$A27-35,0),0.03999)","v":1.2500000000000001E-2},{"$f":"MIN(OFFSET(Male!AJ$18,'Male - Rev'!$A27-35,0),0.03999)","v":1.35E-2},{"$f":"MIN(OFFSET(Male!AK$18,'Male - Rev'!$A27-35,0),0.03999)","v":1.47E-2},{"$f":"MIN(OFFSET(Male!AL$18,'Male - Rev'!$A27-35,0),0.03999)","v":1.5900000000000001E-2},{"$f":"MIN(OFFSET(Male!AM$18,'Male - Rev'!$A27-35,0),0.03999)","v":1.67E-2},{"$f":"MIN(OFFSET(Male!AN$18,'Male - Rev'!$A27-35,0),0.03999)","v":1.7100000000000001E-2},{"$f":"MIN(OFFSET(Male!AO$18,'Male - Rev'!$A27-35,0),0.03999)","v":1.7000000000000001E-2},{"$f":"MIN(OFFSET(Male!AP$18,'Male - Rev'!$A27-35,0),0.03999)","v":1.6299999999999999E-2},{"$f":"MIN(OFFSET(Male!AQ$18,'Male - Rev'!$A27-35,0),0.03999)","v":1.54E-2},{"$f":"MIN(OFFSET(Male!AR$18,'Male - Rev'!$A27-35,0),0.03999)","v":1.4500000000000001E-2},{"$f":"MIN(OFFSET(Male!AS$18,'Male - Rev'!$A27-35,0),0.03999)","v":1.3899999999999999E-2},{"$f":"MIN(OFFSET(Male!AT$18,'Male - Rev'!$A27-35,0),0.03999)","v":1.38E-2},{"$f":"MIN(OFFSET(Male!AU$18,'Male - Rev'!$A27-35,0),0.03999)","v":1.4200000000000001E-2},{"$f":"MIN(OFFSET(Male!AV$18,'Male - Rev'!$A27-35,0),0.03999)","v":1.52E-2},{"$f":"MIN(OFFSET(Male!AW$18,'Male - Rev'!$A27-35,0),0.03999)","v":1.6799999999999999E-2},{"$f":"MIN(OFFSET(Male!AX$18,'Male - Rev'!$A27-35,0),0.03999)","v":1.89E-2},{"$f":"MIN(OFFSET(Male!AY$18,'Male - Rev'!$A27-35,0),0.03999)","v":2.12E-2},{"$f":"MIN(OFFSET(Male!AZ$18,'Male - Rev'!$A27-35,0),0.03999)","v":2.35E-2},{"$f":"MIN(OFFSET(Male!BA$18,'Male - Rev'!$A27-35,0),0.03999)","v":2.5399999999999999E-2},{"$f":"MIN(OFFSET(Male!BB$18,'Male - Rev'!$A27-35,0),0.03999)","v":2.6800000000000001E-2},{"$f":"MIN(OFFSET(Male!BC$18,'Male - Rev'!$A27-35,0),0.03999)","v":2.76E-2},{"$f":"MIN(OFFSET(Male!BD$18,'Male - Rev'!$A27-35,0),0.03999)","v":2.75E-2},{"$f":"MIN(OFFSET(Male!BE$18,'Male - Rev'!$A27-35,0),0.03999)","v":2.6800000000000001E-2},{"$f":"MIN(OFFSET(Male!BF$18,'Male - Rev'!$A27-35,0),0.03999)","v":2.5399999999999999E-2},{"$f":"MIN(OFFSET(Male!BG$18,'Male - Rev'!$A27-35,0),0.03999)","v":2.35E-2},{"$f":"MIN(OFFSET(Male!BH$18,'Male - Rev'!$A27-35,0),0.03999)","v":2.12E-2},{"$f":"MIN(OFFSET(Male!BI$18,'Male - Rev'!$A27-35,0),0.03999)","v":1.8599999999999998E-2},{"$f":"MIN(OFFSET(Male!BJ$18,'Male - Rev'!$A27-35,0),0.03999)","v":1.5900000000000001E-2},{"$f":"MIN(OFFSET(Male!BK$18,'Male - Rev'!$A27-35,0),0.03999)","v":1.32E-2},{"$f":"MIN(OFFSET(Male!BL$18,'Male - Rev'!$A27-35,0),0.03999)","v":1.0500000000000001E-2},{"$f":"MIN(OFFSET(Male!BM$18,'Male - Rev'!$A27-35,0),0.03999)","v":8.0999999999999996E-3},{"$f":"MIN(OFFSET(Male!BN$18,'Male - Rev'!$A27-35,0),0.03999)","v":5.8999999999999999E-3},{"$f":"MIN(OFFSET(Male!BO$18,'Male - Rev'!$A27-35,0),0.03999)","v":5.4000000000000003E-3},{"$f":"MIN(OFFSET(Male!BP$18,'Male - Rev'!$A27-35,0),0.03999)","v":4.8999999999999998E-3},{"$f":"MIN(OFFSET(Male!BQ$18,'Male - Rev'!$A27-35,0),0.03999)","v":4.4000000000000003E-3},{"$f":"MIN(OFFSET(Male!BR$18,'Male - Rev'!$A27-35,0),0.03999)","v":4.0000000000000001E-3},{"$f":"MIN(OFFSET(Male!BS$18,'Male - Rev'!$A27-35,0),0.03999)","v":3.7000000000000002E-3},{"$f":"MIN(OFFSET(Male!BT$18,'Male - Rev'!$A27-35,0),0.03999)","v":3.5999999999999999E-3},{"$f":"MIN(OFFSET(Male!BU$18,'Male - Rev'!$A27-35,0),0.03999)","v":3.7000000000000002E-3},{"$f":"MIN(OFFSET(Male!BV$18,'Male - Rev'!$A27-35,0),0.03999)","v":4.0000000000000001E-3},{"$f":"MIN(OFFSET(Male!BW$18,'Male - Rev'!$A27-35,0),0.03999)","v":4.5999999999999999E-3},{"$f":"MIN(OFFSET(Male!BX$18,'Male - Rev'!$A27-35,0),0.03999)","v":5.3E-3},{"$f":"MIN(OFFSET(Male!BY$18,'Male - Rev'!$A27-35,0),0.03999)","v":6.1000000000000004E-3},{"$f":"MIN(OFFSET(Male!BZ$18,'Male - Rev'!$A27-35,0),0.03999)","v":7.0000000000000001E-3},{"$f":"MIN(OFFSET(Male!CA$18,'Male - Rev'!$A27-35,0),0.03999)","v":7.7999999999999996E-3},{"$f":"MIN(OFFSET(Male!CB$18,'Male - Rev'!$A27-35,0),0.03999)","v":8.5000000000000006E-3},{"$f":"MIN(OFFSET(Male!CC$18,'Male - Rev'!$A27-35,0),0.03999)","v":9.1000000000000004E-3},{"$f":"MIN(OFFSET(Male!CD$18,'Male - Rev'!$A27-35,0),0.03999)","v":9.4999999999999998E-3},{"$f":"MIN(OFFSET(Male!CE$18,'Male - Rev'!$A27-35,0),0.03999)","v":9.7000000000000003E-3},{"$f":"MIN(OFFSET(Male!CF$18,'Male - Rev'!$A27-35,0),0.03999)","v":9.9000000000000008E-3},{"$f":"MIN(OFFSET(Male!CG$18,'Male - Rev'!$A27-35,0),0.03999)","v":0.01},{"$f":"MIN(OFFSET(Male!CH$18,'Male - Rev'!$A27-35,0),0.03999)","v":0.01}]
[70,70,{"$f":"MIN(OFFSET(Male!B$18,'Male - Rev'!$A28-35,0),0.03999)","v":8.3999999999999995E-3},{"$f":"MIN(OFFSET(Male!C$18,'Male - Rev'!$A28-35,0),0.03999)","v":6.6E-3},{"$f":"MIN(OFFSET(Male!D$18,'Male - Rev'!$A28-35,0),0.03999)","v":4.7000000000000002E-3},{"$f":"MIN(OFFSET(Male!E$18,'Male - Rev'!$A28-35,0),0.03999)","v":2.8999999999999998E-3},{"$f":"MIN(OFFSET(Male!F$18,'Male - Rev'!$A28-35,0),0.03999)","v":1.1999999999999999E-3},{"$f":"MIN(OFFSET(Male!G$18,'Male - Rev'!$A28-35,0),0.03999)","v":-2.9999999999999997E-4},{"$f":"MIN(OFFSET(Male!H$18,'Male - Rev'!$A28-35,0),0.03999)","v":-1.4E-3},{"$f":"MIN(OFFSET(Male!I$18,'Male - Rev'!$A28-35,0),0.03999)","v":-2.2000000000000001E-3},{"$f":"MIN(OFFSET(Male!J$18,'Male - Rev'!$A28-35,0),0.03999)","v":-2.7000000000000001E-3},{"$f":"MIN(OFFSET(Male!K$18,'Male - Rev'!$A28-35,0),0.03999)","v":-2.8999999999999998E-3},{"$f":"MIN(OFFSET(Male!L$18,'Male - Rev'!$A28-35,0),0.03999)","v":-3.0000000000000001E-3},{"$f":"MIN(OFFSET(Male!M$18,'Male - Rev'!$A28-35,0),0.03999)","v":-2.8999999999999998E-3},{"$f":"MIN(OFFSET(Male!N$18,'Male - Rev'!$A28-35,0),0.03999)","v":-2.5000000000000001E-3},{"$f":"MIN(OFFSET(Male!O$18,'Male - Rev'!$A28-35,0),0.03999)","v":-1.9E-3},{"$f":"MIN(OFFSET(Male!P$18,'Male - Rev'!$A28-35,0),0.03999)","v":-1E-3},{"$f":"MIN(OFFSET(Male!Q$18,'Male - Rev'!$A28-35,0),0.03999)","v":2.0000000000000001E-4},{"$f":"MIN(OFFSET(Male!R$18,'Male - Rev'!$A28-35,0),0.03999)","v":1.6999999999999999E-3},{"$f":"MIN(OFFSET(Male!S$18,'Male - Rev'!$A28-35,0),0.03999)","v":3.5000000000000001E-3},{"$f":"MIN(OFFSET(Male!T$18,'Male - Rev'!$A28-35,0),0.03999)","v":5.5999999999999999E-3},{"$f":"MIN(OFFSET(Male!U$18,'Male - Rev'!$A28-35,0),0.03999)","v":7.7999999999999996E-3},{"$f":"MIN(OFFSET(Male!V$18,'Male - Rev'!$A28-35,0),0.03999)","v":0.01},{"$f":"MIN(OFFSET(Male!W$18,'Male - Rev'!$A28-35,0),0.03999)","v":1.21E-2},{"$f":"MIN(OFFSET(Male!X$18,'Male - Rev'!$A28-35,0),0.03999)","v":1.4E-2},{"$f":"MIN(OFFSET(Male!Y$18,'Male - Rev'!$A28-35,0),0.03999)","v":1.54E-2},{"$f":"MIN(OFFSET(Male!Z$18,'Male - Rev'!$A28-35,0),0.03999)","v":1.6199999999999999E-2},{"$f":"MIN(OFFSET(Male!AA$18,'Male - Rev'!$A28-35,0),0.03999)","v":1.6299999999999999E-2},{"$f":"MIN(OFFSET(Male!AB$18,'Male - Rev'!$A28-35,0),0.03999)","v":1.6E-2},{"$f":"MIN(OFFSET(Male!AC$18,'Male - Rev'!$A28-35,0),0.03999)","v":1.52E-2},{"$f":"MIN(OFFSET(Male!AD$18,'Male - Rev'!$A28-35,0),0.03999)","v":1.44E-2},{"$f":"MIN(OFFSET(Male!AE$18,'Male - Rev'!$A28-35,0),0.03999)","v":1.3599999999999999E-2},{"$f":"MIN(OFFSET(Male!AF$18,'Male - Rev'!$A28-35,0),0.03999)","v":1.2999999999999999E-2},{"$f":"MIN(OFFSET(Male!AG$18,'Male - Rev'!$A28-35,0),0.03999)","v":1.2699999999999999E-2},{"$f":"MIN(OFFSET(Male!AH$18,'Male - Rev'!$A28-35,0),0.03999)","v":1.2699999999999999E-2},{"$f":"MIN(OFFSET(Male!AI$18,'Male - Rev'!$A28-35,0),0.03999)","v":1.32E-2},{"$f":"MIN(OFFSET(Male!AJ$18,'Male - Rev'!$A28-35,0),0.03999)","v":1.4E-2},{"$f":"MIN(OFFSET(Male!AK$18,'Male - Rev'!$A28-35,0),0.03999)","v":1.4999999999999999E-2},{"$f":"MIN(OFFSET(Male!AL$18,'Male - Rev'!$A28-35,0),0.03999)","v":1.6E-2},{"$f":"MIN(OFFSET(Male!AM$18,'Male - Rev'!$A28-35,0),0.03999)","v":1.67E-2},{"$f":"MIN(OFFSET(Male!AN$18,'Male - Rev'!$A28-35,0),0.03999)","v":1.7000000000000001E-2},{"$f":"MIN(OFFSET(Male!AO$18,'Male - Rev'!$A28-35,0),0.03999)","v":1.6799999999999999E-2},{"$f":"MIN(OFFSET(Male!AP$18,'Male - Rev'!$A28-35,0),0.03999)","v":1.6199999999999999E-2},{"$f":"MIN(OFFSET(Male!AQ$18,'Male - Rev'!$A28-35,0),0.03999)","v":1.5299999999999999E-2},{"$f":"MIN(OFFSET(Male!AR$18,'Male - Rev'!$A28-35,0),0.03999)","v":1.4500000000000001E-2},{"$f":"MIN(OFFSET(Male!AS$18,'Male - Rev'!$A28-35,0),0.03999)","v":1.41E-2},{"$f":"MIN(OFFSET(Male!AT$18,'Male - Rev'!$A28-35,0),0.03999)","v":1.4200000000000001E-2},{"$f":"MIN(OFFSET(Male!AU$18,'Male - Rev'!$A28-35,0),0.03999)","v":1.4800000000000001E-2},{"$f":"MIN(OFFSET(Male!AV$18,'Male - Rev'!$A28-35,0),0.03999)","v":1.6E-2},{"$f":"MIN(OFFSET(Male!AW$18,'Male - Rev'!$A28-35,0),0.03999)","v":1.77E-2},{"$f":"MIN(OFFSET(Male!AX$18,'Male - Rev'!$A28-35,0),0.03999)","v":1.9800000000000002E-2},{"$f":"MIN(OFFSET(Male!AY$18,'Male - Rev'!$A28-35,0),0.03999)","v":2.1999999999999999E-2},{"$f":"MIN(OFFSET(Male!AZ$18,'Male - Rev'!$A28-35,0),0.03999)","v":2.4199999999999999E-2},{"$f":"MIN(OFFSET(Male!BA$18,'Male - Rev'!$A28-35,0),0.03999)","v":2.5899999999999999E-2},{"$f":"MIN(OFFSET(Male!BB$18,'Male - Rev'!$A28-35,0),0.03999)","v":2.7199999999999998E-2},{"$f":"MIN(OFFSET(Male!BC$18,'Male - Rev'!$A28-35,0),0.03999)","v":2.7699999999999999E-2},{"$f":"MIN(OFFSET(Male!BD$18,'Male - Rev'!$A28-35,0),0.03999)","v":2.75E-2},{"$f":"MIN(OFFSET(Male!BE$18,'Male - Rev'!$A28-35,0),0.03999)","v":2.6599999999999999E-2},{"$f":"MIN(OFFSET(Male!BF$18,'Male - Rev'!$A28-35,0),0.03999)","v":2.52E-2},{"$f":"MIN(OFFSET(Male!BG$18,'Male - Rev'!$A28-35,0),0.03999)","v":2.3199999999999998E-2},{"$f":"MIN(OFFSET(Male!BH$18,'Male - Rev'!$A28-35,0),0.03999)","v":2.0899999999999998E-2},{"$f":"MIN(OFFSET(Male!BI$18,'Male - Rev'!$A28-35,0),0.03999)","v":1.83E-2},{"$f":"MIN(OFFSET(Male!BJ$18,'Male - Rev'!$A28-35,0),0.03999)","v":1.55E-2},{"$f":"MIN(OFFSET(Male!BK$18,'Male - Rev'!$A28-35,0),0.03999)","v":1.26E-2},{"$f":"MIN(OFFSET(Male!BL$18,'Male - Rev'!$A28-35,0),0.03999)","v":9.9000000000000008E-3},{"$f":"MIN(OFFSET(Male!BM$18,'Male - Rev'!$A28-35,0),0.03999)","v":7.1999999999999998E-3},{"$f":"MIN(OFFSET(Male!BN$18,'Male - Rev'!$A28-35,0),0.03999)","v":4.7999999999999996E-3},{"$f":"MIN(OFFSET(Male!BO$18,'Male - Rev'!$A28-35,0),0.03999)","v":4.1999999999999997E-3},{"$f":"MIN(OFFSET(Male!BP$18,'Male - Rev'!$A28-35,0),0.03999)","v":3.5999999999999999E-3},{"$f":"MIN(OFFSET(Male!BQ$18,'Male - Rev'!$A28-35,0),0.03999)","v":3.0999999999999999E-3},{"$f":"MIN(OFFSET(Male!BR$18,'Male - Rev'!$A28-35,0),0.03999)","v":2.7000000000000001E-3},{"$f":"MIN(OFFSET(Male!BS$18,'Male - Rev'!$A28-35,0),0.03999)","v":2.5999999999999999E-3},{"$f":"MIN(OFFSET(Male!BT$18,'Male - Rev'!$A28-35,0),0.03999)","v":2.7000000000000001E-3},{"$f":"MIN(OFFSET(Male!BU$18,'Male - Rev'!$A28-35,0),0.03999)","v":3.0999999999999999E-3},{"$f":"MIN(OFFSET(Male!BV$18,'Male - Rev'!$A28-35,0),0.03999)","v":3.7000000000000002E-3},{"$f":"MIN(OFFSET(Male!BW$18,'Male - Rev'!$A28-35,0),0.03999)","v":4.5999999999999999E-3},{"$f":"MIN(OFFSET(Male!BX$18,'Male - Rev'!$A28-35,0),0.03999)","v":5.4999999999999997E-3},{"$f":"MIN(OFFSET(Male!BY$18,'Male - Rev'!$A28-35,0),0.03999)","v":6.4000000000000003E-3},{"$f":"MIN(OFFSET(Male!BZ$18,'Male - Rev'!$A28-35,0),0.03999)","v":7.3000000000000001E-3},{"$f":"MIN(OFFSET(Male!CA$18,'Male - Rev'!$A28-35,0),0.03999)","v":8.0999999999999996E-3},{"$f":"MIN(OFFSET(Male!CB$18,'Male - Rev'!$A28-35,0),0.03999)","v":8.6999999999999994E-3},{"$f":"MIN(OFFSET(Male!CC$18,'Male - Rev'!$A28-35,0),0.03999)","v":9.1999999999999998E-3},{"$f":"MIN(OFFSET(Male!CD$18,'Male - Rev'!$A28-35,0),0.03999)","v":9.5999999999999992E-3},{"$f":"MIN(OFFSET(Male!CE$18,'Male - Rev'!$A28-35,0),0.03999)","v":9.7999999999999997E-3},{"$f":"MIN(OFFSET(Male!CF$18,'Male - Rev'!$A28-35,0),0.03999)","v":9.9000000000000008E-3},{"$f":"MIN(OFFSET(Male!CG$18,'Male - Rev'!$A28-35,0),0.03999)","v":0.01},{"$f":"MIN(OFFSET(Male!CH$18,'Male - Rev'!$A28-35,0),0.03999)","v":0.01}]
[69,69,{"$f":"MIN(OFFSET(Male!B$18,'Male - Rev'!$A29-35,0),0.03999)","v":7.9000000000000008E-3},{"$f":"MIN(OFFSET(Male!C$18,'Male - Rev'!$A29-35,0),0.03999)","v":6.1000000000000004E-3},{"$f":"MIN(OFFSET(Male!D$18,'Male - Rev'!$A29-35,0),0.03999)","v":4.1999999999999997E-3},{"$f":"MIN(OFFSET(Male!E$18,'Male - Rev'!$A29-35,0),0.03999)","v":2.3999999999999998E-3},{"$f":"MIN(OFFSET(Male!F$18,'Male - Rev'!$A29-35,0),0.03999)","v":6.9999999999999999E-4},{"$f":"MIN(OFFSET(Male!G$18,'Male - Rev'!$A29-35,0),0.03999)","v":-6.9999999999999999E-4},{"$f":"MIN(OFFSET(Male!H$18,'Male - Rev'!$A29-35,0),0.03999)","v":-1.9E-3},{"$f":"MIN(OFFSET(Male!I$18,'Male - Rev'!$A29-35,0),0.03999)","v":-2.5999999999999999E-3},{"$f":"MIN(OFFSET(Male!J$18,'Male - Rev'!$A29-35,0),0.03999)","v":-3.0999999999999999E-3},{"$f":"MIN(OFFSET(Male!K$18,'Male - Rev'!$A29-35,0),0.03999)","v":-3.3E-3},{"$f":"MIN(OFFSET(Male!L$18,'Male - Rev'!$A29-35,0),0.03999)","v":-3.3E-3},{"$f":"MIN(OFFSET(Male!M$18,'Male - Rev'!$A29-35,0),0.03999)","v":-3.0999999999999999E-3},{"$f":"MIN(OFFSET(Male!N$18,'Male - Rev'!$A29-35,0),0.03999)","v":-2.5999999999999999E-3},{"$f":"MIN(OFFSET(Male!O$18,'Male - Rev'!$A29-35,0),0.03999)","v":-1.8E-3},{"$f":"MIN(OFFSET(Male!P$18,'Male - Rev'!$A29-35,0),0.03999)","v":-8.0000000000000004E-4},{"$f":"MIN(OFFSET(Male!Q$18,'Male - Rev'!$A29-35,0),0.03999)","v":5.0000000000000001E-4},{"$f":"MIN(OFFSET(Male!R$18,'Male - Rev'!$A29-35,0),0.03999)","v":2.0999999999999999E-3},{"$f":"MIN(OFFSET(Male!S$18,'Male - Rev'!$A29-35,0),0.03999)","v":4.0000000000000001E-3},{"$f":"MIN(OFFSET(Male!T$18,'Male - Rev'!$A29-35,0),0.03999)","v":6.1000000000000004E-3},{"$f":"MIN(OFFSET(Male!U$18,'Male - Rev'!$A29-35,0),0.03999)","v":8.3000000000000001E-3},{"$f":"MIN(OFFSET(Male!V$18,'Male - Rev'!$A29-35,0),0.03999)","v":1.0500000000000001E-2},{"$f":"MIN(OFFSET(Male!W$18,'Male - Rev'!$A29-35,0),0.03999)","v":1.26E-2},{"$f":"MIN(OFFSET(Male!X$18,'Male - Rev'!$A29-35,0),0.03999)","v":1.4500000000000001E-2},{"$f":"MIN(OFFSET(Male!Y$18,'Male - Rev'!$A29-35,0),0.03999)","v":1.6E-2},{"$f":"MIN(OFFSET(Male!Z$18,'Male - Rev'!$A29-35,0),0.03999)","v":1.6899999999999998E-2},{"$f":"MIN(OFFSET(Male!AA$18,'Male - Rev'!$A29-35,0),0.03999)","v":1.7100000000000001E-2},{"$f":"MIN(OFFSET(Male!AB$18,'Male - Rev'!$A29-35,0),0.03999)","v":1.6799999999999999E-2},{"$f":"MIN(OFFSET(Male!AC$18,'Male - Rev'!$A29-35,0),0.03999)","v":1.6199999999999999E-2},{"$f":"MIN(OFFSET(Male!AD$18,'Male - Rev'!$A29-35,0),0.03999)","v":1.54E-2},{"$f":"MIN(OFFSET(Male!AE$18,'Male - Rev'!$A29-35,0),0.03999)","v":1.46E-2},{"$f":"MIN(OFFSET(Male!AF$18,'Male - Rev'!$A29-35,0),0.03999)","v":1.3899999999999999E-2},{"$f":"MIN(OFFSET(Male!AG$18,'Male - Rev'!$A29-35,0),0.03999)","v":1.35E-2},{"$f":"MIN(OFFSET(Male!AH$18,'Male - Rev'!$A29-35,0),0.03999)","v":1.34E-2},{"$f":"MIN(OFFSET(Male!AI$18,'Male - Rev'!$A29-35,0),0.03999)","v":1.37E-2},{"$f":"MIN(OFFSET(Male!AJ$18,'Male - Rev'!$A29-35,0),0.03999)","v":1.43E-2},{"$f":"MIN(OFFSET(Male!AK$18,'Male - Rev'!$A29-35,0),0.03999)","v":1.5100000000000001E-2},{"$f":"MIN(OFFSET(Male!AL$18,'Male - Rev'!$A29-35,0),0.03999)","v":1.5900000000000001E-2},{"$f":"MIN(OFFSET(Male!AM$18,'Male - Rev'!$A29-35,0),0.03999)","v":1.6500000000000001E-2},{"$f":"MIN(OFFSET(Male!AN$18,'Male - Rev'!$A29-35,0),0.03999)","v":1.6799999999999999E-2},{"$f":"MIN(OFFSET(Male!AO$18,'Male - Rev'!$A29-35,0),0.03999)","v":1.66E-2},{"$f":"MIN(OFFSET(Male!AP$18,'Male - Rev'!$A29-35,0),0.03999)","v":1.6E-2},{"$f":"MIN(OFFSET(Male!AQ$18,'Male - Rev'!$A29-35,0),0.03999)","v":1.52E-2},{"$f":"MIN(OFFSET(Male!AR$18,'Male - Rev'!$A29-35,0),0.03999)","v":1.46E-2},{"$f":"MIN(OFFSET(Male!AS$18,'Male - Rev'!$A29-35,0),0.03999)","v":1.44E-2},{"$f":"MIN(OFFSET(Male!AT$18,'Male - Rev'!$A29-35,0),0.03999)","v":1.47E-2},{"$f":"MIN(OFFSET(Male!AU$18,'Male - Rev'!$A29-35,0),0.03999)","v":1.55E-2},{"$f":"MIN(OFFSET(Male!AV$18,'Male - Rev'!$A29-35,0),0.03999)","v":1.6799999999999999E-2},{"$f":"MIN(OFFSET(Male!AW$18,'Male - Rev'!$A29-35,0),0.03999)","v":1.8599999999999998E-2},{"$f":"MIN(OFFSET(Male!AX$18,'Male - Rev'!$A29-35,0),0.03999)","v":2.07E-2},{"$f":"MIN(OFFSET(Male!AY$18,'Male - Rev'!$A29-35,0),0.03999)","v":2.2800000000000001E-2},{"$f":"MIN(OFFSET(Male!AZ$18,'Male - Rev'!$A29-35,0),0.03999)","v":2.47E-2},{"$f":"MIN(OFFSET(Male!BA$18,'Male - Rev'!$A29-35,0),0.03999)","v":2.63E-2},{"$f":"MIN(OFFSET(Male!BB$18,'Male - Rev'!$A29-35,0),0.03999)","v":2.7300000000000001E-2},{"$f":"MIN(OFFSET(Male!BC$18,'Male - Rev'!$A29-35,0),0.03999)","v":2.7699999999999999E-2},{"$f":"MIN(OFFSET(Male!BD$18,'Male - Rev'!$A29-35,0),0.03999)","v":2.7300000000000001E-2},{"$f":"MIN(OFFSET(Male!BE$18,'Male - Rev'!$A29-35,0),0.03999)","v":2.64E-2},{"$f":"MIN(OFFSET(Male!BF$18,'Male - Rev'!$A29-35,0),0.03999)","v":2.4799999999999999E-2},{"$f":"MIN(OFFSET(Male!BG$18,'Male - Rev'!$A29-35,0),0.03999)","v":2.2800000000000001E-2},{"$f":"MIN(OFFSET(Male!BH$18,'Male - Rev'!$A29-35,0),0.03999)","v":2.0400000000000001E-2},{"$f":"MIN(OFFSET(Male!BI$18,'Male - Rev'!$A29-35,0),0.03999)","v":1.77E-2},{"$f":"MIN(OFFSET(Male!BJ$18,'Male - Rev'!$A29-35,0),0.03999)","v":1.4800000000000001E-2},{"$f":"MIN(OFFSET(Male!BK$18,'Male - Rev'!$A29-35,0),0.03999)","v":1.18E-2},{"$f":"MIN(OFFSET(Male!BL$18,'Male - Rev'!$A29-35,0),0.03999)","v":8.8000000000000005E-3},{"$f":"MIN(OFFSET(Male!BM$18,'Male - Rev'!$A29-35,0),0.03999)","v":6.0000000000000001E-3},{"$f":"MIN(OFFSET(Male!BN$18,'Male - Rev'!$A29-35,0),0.03999)","v":3.3999999999999998E-3},{"$f":"MIN(OFFSET(Male!BO$18,'Male - Rev'!$A29-35,0),0.03999)","v":2.5999999999999999E-3},{"$f":"MIN(OFFSET(Male!BP$18,'Male - Rev'!$A29-35,0),0.03999)","v":2E-3},{"$f":"MIN(OFFSET(Male!BQ$18,'Male - Rev'!$A29-35,0),0.03999)","v":1.5E-3},{"$f":"MIN(OFFSET(Male!BR$18,'Male - Rev'!$A29-35,0),0.03999)","v":1.2999999999999999E-3},{"$f":"MIN(OFFSET(Male!BS$18,'Male - Rev'!$A29-35,0),0.03999)","v":1.4E-3},{"$f":"MIN(OFFSET(Male!BT$18,'Male - Rev'!$A29-35,0),0.03999)","v":1.9E-3},{"$f":"MIN(OFFSET(Male!BU$18,'Male - Rev'!$A29-35,0),0.03999)","v":2.5999999999999999E-3},{"$f":"MIN(OFFSET(Male!BV$18,'Male - Rev'!$A29-35,0),0.03999)","v":3.5999999999999999E-3},{"$f":"MIN(OFFSET(Male!BW$18,'Male - Rev'!$A29-35,0),0.03999)","v":4.7000000000000002E-3},{"$f":"MIN(OFFSET(Male!BX$18,'Male - Rev'!$A29-35,0),0.03999)","v":5.7000000000000002E-3},{"$f":"MIN(OFFSET(Male!BY$18,'Male - Rev'!$A29-35,0),0.03999)","v":6.7000000000000002E-3},{"$f":"MIN(OFFSET(Male!BZ$18,'Male - Rev'!$A29-35,0),0.03999)","v":7.6E-3},{"$f":"MIN(OFFSET(Male!CA$18,'Male - Rev'!$A29-35,0),0.03999)","v":8.3000000000000001E-3},{"$f":"MIN(OFFSET(Male!CB$18,'Male - Rev'!$A29-35,0),0.03999)","v":8.8999999999999999E-3},{"$f":"MIN(OFFSET(Male!CC$18,'Male - Rev'!$A29-35,0),0.03999)","v":9.2999999999999992E-3},{"$f":"MIN(OFFSET(Male!CD$18,'Male - Rev'!$A29-35,0),0.03999)","v":9.5999999999999992E-3},{"$f":"MIN(OFFSET(Male!CE$18,'Male - Rev'!$A29-35,0),0.03999)","v":9.7999999999999997E-3},{"$f":"MIN(OFFSET(Male!CF$18,'Male - Rev'!$A29-35,0),0.03999)","v":9.9000000000000008E-3},{"$f":"MIN(OFFSET(Male!CG$18,'Male - Rev'!$A29-35,0),0.03999)","v":0.01},{"$f":"MIN(OFFSET(Male!CH$18,'Male - Rev'!$A29-35,0),0.03999)","v":0.01}]
[68,68,{"$f":"MIN(OFFSET(Male!B$18,'Male - Rev'!$A30-35,0),0.03999)","v":7.6E-3},{"$f":"MIN(OFFSET(Male!C$18,'Male - Rev'!$A30-35,0),0.03999)","v":5.7999999999999996E-3},{"$f":"MIN(OFFSET(Male!D$18,'Male - Rev'!$A30-35,0),0.03999)","v":4.0000000000000001E-3},{"$f":"MIN(OFFSET(Male!E$18,'Male - Rev'!$A30-35,0),0.03999)","v":2.2000000000000001E-3},{"$f":"MIN(OFFSET(Male!F$18,'Male - Rev'!$A30-35,0),0.03999)","v":5.0000000000000001E-4},{"$f":"MIN(OFFSET(Male!G$18,'Male - Rev'!$A30-35,0),0.03999)","v":-1E-3},{"$f":"MIN(OFFSET(Male!H$18,'Male - Rev'!$A30-35,0),0.03999)","v":-2.2000000000000001E-3},{"$f":"MIN(OFFSET(Male!I$18,'Male - Rev'!$A30-35,0),0.03999)","v":-2.8999999999999998E-3},{"$f":"MIN(OFFSET(Male!J$18,'Male - Rev'!$A30-35,0),0.03999)","v":-3.3999999999999998E-3},{"$f":"MIN(OFFSET(Male!K$18,'Male - Rev'!$A30-35,0),0.03999)","v":-3.5999999999999999E-3},{"$f":"MIN(OFFSET(Male!L$18,'Male - Rev'!$A30-35,0),0.03999)","v":-3.5999999999999999E-3},{"$f":"MIN(OFFSET(Male!M$18,'Male - Rev'!$A30-35,0),0.03999)","v":-3.3E-3},{"$f":"MIN(OFFSET(Male!N$18,'Male - Rev'!$A30-35,0),0.03999)","v":-2.7000000000000001E-3},{"$f":"MIN(OFFSET(Male!O$18,'Male - Rev'!$A30-35,0),0.03999)","v":-1.8E-3},{"$f":"MIN(OFFSET(Male!P$18,'Male - Rev'!$A30-35,0),0.03999)","v":-5.9999999999999995E-4},{"$f":"MIN(OFFSET(Male!Q$18,'Male - Rev'!$A30-35,0),0.03999)","v":8.9999999999999998E-4},{"$f":"MIN(OFFSET(Male!R$18,'Male - Rev'!$A30-35,0),0.03999)","v":2.5999999999999999E-3},{"$f":"MIN(OFFSET(Male!S$18,'Male - Rev'!$A30-35,0),0.03999)","v":4.4999999999999997E-3},{"$f":"MIN(OFFSET(Male!T$18,'Male - Rev'!$A30-35,0),0.03999)","v":6.6E-3},{"$f":"MIN(OFFSET(Male!U$18,'Male - Rev'!$A30-35,0),0.03999)","v":8.8000000000000005E-3},{"$f":"MIN(OFFSET(Male!V$18,'Male - Rev'!$A30-35,0),0.03999)","v":1.11E-2},{"$f":"MIN(OFFSET(Male!W$18,'Male - Rev'!$A30-35,0),0.03999)","v":1.32E-2},{"$f":"MIN(OFFSET(Male!X$18,'Male - Rev'!$A30-35,0),0.03999)","v":1.5100000000000001E-2},{"$f":"MIN(OFFSET(Male!Y$18,'Male - Rev'!$A30-35,0),0.03999)","v":1.67E-2},{"$f":"MIN(OFFSET(Male!Z$18,'Male - Rev'!$A30-35,0),0.03999)","v":1.7600000000000001E-2},{"$f":"MIN(OFFSET(Male!AA$18,'Male - Rev'!$A30-35,0),0.03999)","v":1.7999999999999999E-2},{"$f":"MIN(OFFSET(Male!AB$18,'Male - Rev'!$A30-35,0),0.03999)","v":1.78E-2},{"$f":"MIN(OFFSET(Male!AC$18,'Male - Rev'!$A30-35,0),0.03999)","v":1.72E-2},{"$f":"MIN(OFFSET(Male!AD$18,'Male - Rev'!$A30-35,0),0.03999)","v":1.6500000000000001E-2},{"$f":"MIN(OFFSET(Male!AE$18,'Male - Rev'!$A30-35,0),0.03999)","v":1.5599999999999999E-2},{"$f":"MIN(OFFSET(Male!AF$18,'Male - Rev'!$A30-35,0),0.03999)","v":1.49E-2},{"$f":"MIN(OFFSET(Male!AG$18,'Male - Rev'!$A30-35,0),0.03999)","v":1.43E-2},{"$f":"MIN(OFFSET(Male!AH$18,'Male - Rev'!$A30-35,0),0.03999)","v":1.4E-2},{"$f":"MIN(OFFSET(Male!AI$18,'Male - Rev'!$A30-35,0),0.03999)","v":1.4E-2},{"$f":"MIN(OFFSET(Male!AJ$18,'Male - Rev'!$A30-35,0),0.03999)","v":1.44E-2},{"$f":"MIN(OFFSET(Male!AK$18,'Male - Rev'!$A30-35,0),0.03999)","v":1.5100000000000001E-2},{"$f":"MIN(OFFSET(Male!AL$18,'Male - Rev'!$A30-35,0),0.03999)","v":1.5699999999999999E-2},{"$f":"MIN(OFFSET(Male!AM$18,'Male - Rev'!$A30-35,0),0.03999)","v":1.6299999999999999E-2},{"$f":"MIN(OFFSET(Male!AN$18,'Male - Rev'!$A30-35,0),0.03999)","v":1.6500000000000001E-2},{"$f":"MIN(OFFSET(Male!AO$18,'Male - Rev'!$A30-35,0),0.03999)","v":1.6400000000000001E-2},{"$f":"MIN(OFFSET(Male!AP$18,'Male - Rev'!$A30-35,0),0.03999)","v":1.5900000000000001E-2},{"$f":"MIN(OFFSET(Male!AQ$18,'Male - Rev'!$A30-35,0),0.03999)","v":1.5299999999999999E-2},{"$f":"MIN(OFFSET(Male!AR$18,'Male - Rev'!$A30-35,0),0.03999)","v":1.4800000000000001E-2},{"$f":"MIN(OFFSET(Male!AS$18,'Male - Rev'!$A30-35,0),0.03999)","v":1.4800000000000001E-2},{"$f":"MIN(OFFSET(Male!AT$18,'Male - Rev'!$A30-35,0),0.03999)","v":1.5299999999999999E-2},{"$f":"MIN(OFFSET(Male!AU$18,'Male - Rev'!$A30-35,0),0.03999)","v":1.6299999999999999E-2},{"$f":"MIN(OFFSET(Male!AV$18,'Male - Rev'!$A30-35,0),0.03999)","v":1.78E-2},{"$f":"MIN(OFFSET(Male!AW$18,'Male - Rev'!$A30-35,0),0.03999)","v":1.9599999999999999E-2},{"$f":"MIN(OFFSET(Male!AX$18,'Male - Rev'!$A30-35,0),0.03999)","v":2.1600000000000001E-2},{"$f":"MIN(OFFSET(Male!AY$18,'Male - Rev'!$A30-35,0),0.03999)","v":2.35E-2},{"$f":"MIN(OFFSET(Male!AZ$18,'Male - Rev'!$A30-35,0),0.03999)","v":2.52E-2},{"$f":"MIN(OFFSET(Male!BA$18,'Male - Rev'!$A30-35,0),0.03999)","v":2.6499999999999999E-2},{"$f":"MIN(OFFSET(Male!BB$18,'Male - Rev'!$A30-35,0),0.03999)","v":2.7300000000000001E-2},{"$f":"MIN(OFFSET(Male!BC$18,'Male - Rev'!$A30-35,0),0.03999)","v":2.75E-2},{"$f":"MIN(OFFSET(Male!BD$18,'Male - Rev'!$A30-35,0),0.03999)","v":2.7E-2},{"$f":"MIN(OFFSET(Male!BE$18,'Male - Rev'!$A30-35,0),0.03999)","v":2.5899999999999999E-2},{"$f":"MIN(OFFSET(Male!BF$18,'Male - Rev'!$A30-35,0),0.03999)","v":2.4299999999999999E-2},{"$f":"MIN(OFFSET(Male!BG$18,'Male - Rev'!$A30-35,0),0.03999)","v":2.2200000000000001E-2},{"$f":"MIN(OFFSET(Male!BH$18,'Male - Rev'!$A30-35,0),0.03999)","v":1.9699999999999999E-2},{"$f":"MIN(OFFSET(Male!BI$18,'Male - Rev'!$A30-35,0),0.03999)","v":1.6899999999999998E-2},{"$f":"MIN(OFFSET(Male!BJ$18,'Male - Rev'!$A30-35,0),0.03999)","v":1.38E-2},{"$f":"MIN(OFFSET(Male!BK$18,'Male - Rev'!$A30-35,0),0.03999)","v":1.06E-2},{"$f":"MIN(OFFSET(Male!BL$18,'Male - Rev'!$A30-35,0),0.03999)","v":7.4999999999999997E-3},{"$f":"MIN(OFFSET(Male!BM$18,'Male - Rev'!$A30-35,0),0.03999)","v":4.4999999999999997E-3},{"$f":"MIN(OFFSET(Male!BN$18,'Male - Rev'!$A30-35,0),0.03999)","v":1.6000000000000001E-3},{"$f":"MIN(OFFSET(Male!BO$18,'Male - Rev'!$A30-35,0),0.03999)","v":8.0000000000000004E-4},{"$f":"MIN(OFFSET(Male!BP$18,'Male - Rev'!$A30-35,0),0.03999)","v":2.0000000000000001E-4},{"$f":"MIN(OFFSET(Male!BQ$18,'Male - Rev'!$A30-35,0),0.03999)","v":-1E-4},{"$f":"MIN(OFFSET(Male!BR$18,'Male - Rev'!$A30-35,0),0.03999)","v":0},{"$f":"MIN(OFFSET(Male!BS$18,'Male - Rev'!$A30-35,0),0.03999)","v":4.0000000000000002E-4},{"$f":"MIN(OFFSET(Male!BT$18,'Male - Rev'!$A30-35,0),0.03999)","v":1.2999999999999999E-3},{"$f":"MIN(OFFSET(Male!BU$18,'Male - Rev'!$A30-35,0),0.03999)","v":2.3999999999999998E-3},{"$f":"MIN(OFFSET(Male!BV$18,'Male - Rev'!$A30-35,0),0.03999)","v":3.7000000000000002E-3},{"$f":"MIN(OFFSET(Male!BW$18,'Male - Rev'!$A30-35,0),0.03999)","v":5.0000000000000001E-3},{"$f":"MIN(OFFSET(Male!BX$18,'Male - Rev'!$A30-35,0),0.03999)","v":6.1000000000000004E-3},{"$f":"MIN(OFFSET(Male!BY$18,'Male - Rev'!$A30-35,0),0.03999)","v":7.1000000000000004E-3},{"$f":"MIN(OFFSET(Male!BZ$18,'Male - Rev'!$A30-35,0),0.03999)","v":7.9000000000000008E-3},{"$f":"MIN(OFFSET(Male!CA$18,'Male - Rev'!$A30-35,0),0.03999)","v":8.6E-3},{"$f":"MIN(OFFSET(Male!CB$18,'Male - Rev'!$A30-35,0),0.03999)","v":9.1000000000000004E-3},{"$f":"MIN(OFFSET(Male!CC$18,'Male - Rev'!$A30-35,0),0.03999)","v":9.4999999999999998E-3},{"$f":"MIN(OFFSET(Male!CD$18,'Male - Rev'!$A30-35,0),0.03999)","v":9.7000000000000003E-3},{"$f":"MIN(OFFSET(Male!CE$18,'Male - Rev'!$A30-35,0),0.03999)","v":9.7999999999999997E-3},{"$f":"MIN(OFFSET(Male!CF$18,'Male - Rev'!$A30-35,0),0.03999)","v":9.9000000000000008E-3},{"$f":"MIN(OFFSET(Male!CG$18,'Male - Rev'!$A30-35,0),0.03999)","v":0.01},{"$f":"MIN(OFFSET(Male!CH$18,'Male - Rev'!$A30-35,0),0.03999)","v":0.01}]
[67,67,{"$f":"MIN(OFFSET(Male!B$18,'Male - Rev'!$A31-35,0),0.03999)","v":7.4999999999999997E-3},{"$f":"MIN(OFFSET(Male!C$18,'Male - Rev'!$A31-35,0),0.03999)","v":5.7000000000000002E-3},{"$f":"MIN(OFFSET(Male!D$18,'Male - Rev'!$A31-35,0),0.03999)","v":3.8999999999999998E-3},{"$f":"MIN(OFFSET(Male!E$18,'Male - Rev'!$A31-35,0),0.03999)","v":2.0999999999999999E-3},{"$f":"MIN(OFFSET(Male!F$18,'Male - Rev'!$A31-35,0),0.03999)","v":4.0000000000000002E-4},{"$f":"MIN(OFFSET(Male!G$18,'Male - Rev'!$A31-35,0),0.03999)","v":-1.1000000000000001E-3},{"$f":"MIN(OFFSET(Male!H$18,'Male - Rev'!$A31-35,0),0.03999)","v":-2.3E-3},{"$f":"MIN(OFFSET(Male!I$18,'Male - Rev'!$A31-35,0),0.03999)","v":-3.0999999999999999E-3},{"$f":"MIN(OFFSET(Male!J$18,'Male - Rev'!$A31-35,0),0.03999)","v":-3.5999999999999999E-3},{"$f":"MIN(OFFSET(Male!K$18,'Male - Rev'!$A31-35,0),0.03999)","v":-3.8999999999999998E-3},{"$f":"MIN(OFFSET(Male!L$18,'Male - Rev'!$A31-35,0),0.03999)","v":-3.8999999999999998E-3},{"$f":"MIN(OFFSET(Male!M$18,'Male - Rev'!$A31-35,0),0.03999)","v":-3.5999999999999999E-3},{"$f":"MIN(OFFSET(Male!N$18,'Male - Rev'!$A31-35,0),0.03999)","v":-2.8999999999999998E-3},{"$f":"MIN(OFFSET(Male!O$18,'Male - Rev'!$A31-35,0),0.03999)","v":-1.8E-3},{"$f":"MIN(OFFSET(Male!P$18,'Male - Rev'!$A31-35,0),0.03999)","v":-5.0000000000000001E-4},{"$f":"MIN(OFFSET(Male!Q$18,'Male - Rev'!$A31-35,0),0.03999)","v":1.1000000000000001E-3},{"$f":"MIN(OFFSET(Male!R$18,'Male - Rev'!$A31-35,0),0.03999)","v":2.8999999999999998E-3},{"$f":"MIN(OFFSET(Male!S$18,'Male - Rev'!$A31-35,0),0.03999)","v":5.0000000000000001E-3},{"$f":"MIN(OFFSET(Male!T$18,'Male - Rev'!$A31-35,0),0.03999)","v":7.1999999999999998E-3},{"$f":"MIN(OFFSET(Male!U$18,'Male - Rev'!$A31-35,0),0.03999)","v":9.4000000000000004E-3},{"$f":"MIN(OFFSET(Male!V$18,'Male - Rev'!$A31-35,0),0.03999)","v":1.17E-2},{"$f":"MIN(OFFSET(Male!W$18,'Male - Rev'!$A31-35,0),0.03999)","v":1.3899999999999999E-2},{"$f":"MIN(OFFSET(Male!X$18,'Male - Rev'!$A31-35,0),0.03999)","v":1.5900000000000001E-2},{"$f":"MIN(OFFSET(Male!Y$18,'Male - Rev'!$A31-35,0),0.03999)","v":1.7500000000000002E-2},{"$f":"MIN(OFFSET(Male!Z$18,'Male - Rev'!$A31-35,0),0.03999)","v":1.8499999999999999E-2},{"$f":"MIN(OFFSET(Male!AA$18,'Male - Rev'!$A31-35,0),0.03999)","v":1.9E-2},{"$f":"MIN(OFFSET(Male!AB$18,'Male - Rev'!$A31-35,0),0.03999)","v":1.89E-2},{"$f":"MIN(OFFSET(Male!AC$18,'Male - Rev'!$A31-35,0),0.03999)","v":1.84E-2},{"$f":"MIN(OFFSET(Male!AD$18,'Male - Rev'!$A31-35,0),0.03999)","v":1.7600000000000001E-2},{"$f":"MIN(OFFSET(Male!AE$18,'Male - Rev'!$A31-35,0),0.03999)","v":1.66E-2},{"$f":"MIN(OFFSET(Male!AF$18,'Male - Rev'!$A31-35,0),0.03999)","v":1.5699999999999999E-2},{"$f":"MIN(OFFSET(Male!AG$18,'Male - Rev'!$A31-35,0),0.03999)","v":1.4999999999999999E-2},{"$f":"MIN(OFFSET(Male!AH$18,'Male - Rev'!$A31-35,0),0.03999)","v":1.44E-2},{"$f":"MIN(OFFSET(Male!AI$18,'Male - Rev'!$A31-35,0),0.03999)","v":1.4200000000000001E-2},{"$f":"MIN(OFFSET(Male!AJ$18,'Male - Rev'!$A31-35,0),0.03999)","v":1.44E-2},{"$f":"MIN(OFFSET(Male!AK$18,'Male - Rev'!$A31-35,0),0.03999)","v":1.49E-2},{"$f":"MIN(OFFSET(Male!AL$18,'Male - Rev'!$A31-35,0),0.03999)","v":1.55E-2},{"$f":"MIN(OFFSET(Male!AM$18,'Male - Rev'!$A31-35,0),0.03999)","v":1.6E-2},{"$f":"MIN(OFFSET(Male!AN$18,'Male - Rev'!$A31-35,0),0.03999)","v":1.6299999999999999E-2},{"$f":"MIN(OFFSET(Male!AO$18,'Male - Rev'!$A31-35,0),0.03999)","v":1.6299999999999999E-2},{"$f":"MIN(OFFSET(Male!AP$18,'Male - Rev'!$A31-35,0),0.03999)","v":1.5900000000000001E-2},{"$f":"MIN(OFFSET(Male!AQ$18,'Male - Rev'!$A31-35,0),0.03999)","v":1.54E-2},{"$f":"MIN(OFFSET(Male!AR$18,'Male - Rev'!$A31-35,0),0.03999)","v":1.52E-2},{"$f":"MIN(OFFSET(Male!AS$18,'Male - Rev'!$A31-35,0),0.03999)","v":1.5299999999999999E-2},{"$f":"MIN(OFFSET(Male!AT$18,'Male - Rev'!$A31-35,0),0.03999)","v":1.6E-2},{"$f":"MIN(OFFSET(Male!AU$18,'Male - Rev'!$A31-35,0),0.03999)","v":1.72E-2},{"$f":"MIN(OFFSET(Male!AV$18,'Male - Rev'!$A31-35,0),0.03999)","v":1.8700000000000001E-2},{"$f":"MIN(OFFSET(Male!AW$18,'Male - Rev'!$A31-35,0),0.03999)","v":2.0500000000000001E-2},{"$f":"MIN(OFFSET(Male!AX$18,'Male - Rev'!$A31-35,0),0.03999)","v":2.23E-2},{"$f":"MIN(OFFSET(Male!AY$18,'Male - Rev'!$A31-35,0),0.03999)","v":2.4E-2},{"$f":"MIN(OFFSET(Male!AZ$18,'Male - Rev'!$A31-35,0),0.03999)","v":2.5399999999999999E-2},{"$f":"MIN(OFFSET(Male!BA$18,'Male - Rev'!$A31-35,0),0.03999)","v":2.6499999999999999E-2},{"$f":"MIN(OFFSET(Male!BB$18,'Male - Rev'!$A31-35,0),0.03999)","v":2.7E-2},{"$f":"MIN(OFFSET(Male!BC$18,'Male - Rev'!$A31-35,0),0.03999)","v":2.7099999999999999E-2},{"$f":"MIN(OFFSET(Male!BD$18,'Male - Rev'!$A31-35,0),0.03999)","v":2.6499999999999999E-2},{"$f":"MIN(OFFSET(Male!BE$18,'Male - Rev'!$A31-35,0),0.03999)","v":2.5399999999999999E-2},{"$f":"MIN(OFFSET(Male!BF$18,'Male - Rev'!$A31-35,0),0.03999)","v":2.3699999999999999E-2},{"$f":"MIN(OFFSET(Male!BG$18,'Male - Rev'!$A31-35,0),0.03999)","v":2.1499999999999998E-2},{"$f":"MIN(OFFSET(Male!BH$18,'Male - Rev'!$A31-35,0),0.03999)","v":1.8800000000000001E-2},{"$f":"MIN(OFFSET(Male!BI$18,'Male - Rev'!$A31-35,0),0.03999)","v":1.5800000000000002E-2},{"$f":"MIN(OFFSET(Male!BJ$18,'Male - Rev'!$A31-35,0),0.03999)","v":1.24E-2},{"$f":"MIN(OFFSET(Male!BK$18,'Male - Rev'!$A31-35,0),0.03999)","v":8.9999999999999993E-3},{"$f":"MIN(OFFSET(Male!BL$18,'Male - Rev'!$A31-35,0),0.03999)","v":5.7000000000000002E-3},{"$f":"MIN(OFFSET(Male!BM$18,'Male - Rev'!$A31-35,0),0.03999)","v":2.5999999999999999E-3},{"$f":"MIN(OFFSET(Male!BN$18,'Male - Rev'!$A31-35,0),0.03999)","v":-4.0000000000000002E-4},{"$f":"MIN(OFFSET(Male!BO$18,'Male - Rev'!$A31-35,0),0.03999)","v":-1.1999999999999999E-3},{"$f":"MIN(OFFSET(Male!BP$18,'Male - Rev'!$A31-35,0),0.03999)","v":-1.6999999999999999E-3},{"$f":"MIN(OFFSET(Male!BQ$18,'Male - Rev'!$A31-35,0),0.03999)","v":-1.6999999999999999E-3},{"$f":"MIN(OFFSET(Male!BR$18,'Male - Rev'!$A31-35,0),0.03999)","v":-1.2999999999999999E-3},{"$f":"MIN(OFFSET(Male!BS$18,'Male - Rev'!$A31-35,0),0.03999)","v":-4.0000000000000002E-4},{"$f":"MIN(OFFSET(Male!BT$18,'Male - Rev'!$A31-35,0),0.03999)","v":8.9999999999999998E-4},{"$f":"MIN(OFFSET(Male!BU$18,'Male - Rev'!$A31-35,0),0.03999)","v":2.3999999999999998E-3},{"$f":"MIN(OFFSET(Male!BV$18,'Male - Rev'!$A31-35,0),0.03999)","v":3.8999999999999998E-3},{"$f":"MIN(OFFSET(Male!BW$18,'Male - Rev'!$A31-35,0),0.03999)","v":5.4000000000000003E-3},{"$f":"MIN(OFFSET(Male!BX$18,'Male - Rev'!$A31-35,0),0.03999)","v":6.6E-3},{"$f":"MIN(OFFSET(Male!BY$18,'Male - Rev'!$A31-35,0),0.03999)","v":7.4999999999999997E-3},{"$f":"MIN(OFFSET(Male!BZ$18,'Male - Rev'!$A31-35,0),0.03999)","v":8.2000000000000007E-3},{"$f":"MIN(OFFSET(Male!CA$18,'Male - Rev'!$A31-35,0),0.03999)","v":8.8000000000000005E-3},{"$f":"MIN(OFFSET(Male!CB$18,'Male - Rev'!$A31-35,0),0.03999)","v":9.1999999999999998E-3},{"$f":"MIN(OFFSET(Male!CC$18,'Male - Rev'!$A31-35,0),0.03999)","v":9.4999999999999998E-3},{"$f":"MIN(OFFSET(Male!CD$18,'Male - Rev'!$A31-35,0),0.03999)","v":9.7000000000000003E-3},{"$f":"MIN(OFFSET(Male!CE$18,'Male - Rev'!$A31-35,0),0.03999)","v":9.7999999999999997E-3},{"$f":"MIN(OFFSET(Male!CF$18,'Male - Rev'!$A31-35,0),0.03999)","v":9.9000000000000008E-3},{"$f":"MIN(OFFSET(Male!CG$18,'Male - Rev'!$A31-35,0),0.03999)","v":0.01},{"$f":"MIN(OFFSET(Male!CH$18,'Male - Rev'!$A31-35,0),0.03999)","v":0.01}]
[66,66,{"$f":"MIN(OFFSET(Male!B$18,'Male - Rev'!$A32-35,0),0.03999)","v":7.7000000000000002E-3},{"$f":"MIN(OFFSET(Male!C$18,'Male - Rev'!$A32-35,0),0.03999)","v":5.8999999999999999E-3},{"$f":"MIN(OFFSET(Male!D$18,'Male - Rev'!$A32-35,0),0.03999)","v":4.1000000000000003E-3},{"$f":"MIN(OFFSET(Male!E$18,'Male - Rev'!$A32-35,0),0.03999)","v":2.3E-3},{"$f":"MIN(OFFSET(Male!F$18,'Male - Rev'!$A32-35,0),0.03999)","v":5.9999999999999995E-4},{"$f":"MIN(OFFSET(Male!G$18,'Male - Rev'!$A32-35,0),0.03999)","v":-1E-3},{"$f":"MIN(OFFSET(Male!H$18,'Male - Rev'!$A32-35,0),0.03999)","v":-2.3E-3},{"$f":"MIN(OFFSET(Male!I$18,'Male - Rev'!$A32-35,0),0.03999)","v":-3.0999999999999999E-3},{"$f":"MIN(OFFSET(Male!J$18,'Male - Rev'!$A32-35,0),0.03999)","v":-3.7000000000000002E-3},{"$f":"MIN(OFFSET(Male!K$18,'Male - Rev'!$A32-35,0),0.03999)","v":-4.0000000000000001E-3},{"$f":"MIN(OFFSET(Male!L$18,'Male - Rev'!$A32-35,0),0.03999)","v":-4.1000000000000003E-3},{"$f":"MIN(OFFSET(Male!M$18,'Male - Rev'!$A32-35,0),0.03999)","v":-3.8E-3},{"$f":"MIN(OFFSET(Male!N$18,'Male - Rev'!$A32-35,0),0.03999)","v":-3.0999999999999999E-3},{"$f":"MIN(OFFSET(Male!O$18,'Male - Rev'!$A32-35,0),0.03999)","v":-2E-3},{"$f":"MIN(OFFSET(Male!P$18,'Male - Rev'!$A32-35,0),0.03999)","v":-5.9999999999999995E-4},{"$f":"MIN(OFFSET(Male!Q$18,'Male - Rev'!$A32-35,0),0.03999)","v":1.1999999999999999E-3},{"$f":"MIN(OFFSET(Male!R$18,'Male - Rev'!$A32-35,0),0.03999)","v":3.2000000000000002E-3},{"$f":"MIN(OFFSET(Male!S$18,'Male - Rev'!$A32-35,0),0.03999)","v":5.3E-3},{"$f":"MIN(OFFSET(Male!T$18,'Male - Rev'!$A32-35,0),0.03999)","v":7.7000000000000002E-3},{"$f":"MIN(OFFSET(Male!U$18,'Male - Rev'!$A32-35,0),0.03999)","v":0.01},{"$f":"MIN(OFFSET(Male!V$18,'Male - Rev'!$A32-35,0),0.03999)","v":1.24E-2},{"$f":"MIN(OFFSET(Male!W$18,'Male - Rev'!$A32-35,0),0.03999)","v":1.47E-2},{"$f":"MIN(OFFSET(Male!X$18,'Male - Rev'!$A32-35,0),0.03999)","v":1.67E-2},{"$f":"MIN(OFFSET(Male!Y$18,'Male - Rev'!$A32-35,0),0.03999)","v":1.84E-2},{"$f":"MIN(OFFSET(Male!Z$18,'Male - Rev'!$A32-35,0),0.03999)","v":1.9599999999999999E-2},{"$f":"MIN(OFFSET(Male!AA$18,'Male - Rev'!$A32-35,0),0.03999)","v":2.01E-2},{"$f":"MIN(OFFSET(Male!AB$18,'Male - Rev'!$A32-35,0),0.03999)","v":0.02},{"$f":"MIN(OFFSET(Male!AC$18,'Male - Rev'!$A32-35,0),0.03999)","v":1.95E-2},{"$f":"MIN(OFFSET(Male!AD$18,'Male - Rev'!$A32-35,0),0.03999)","v":1.8700000000000001E-2},{"$f":"MIN(OFFSET(Male!AE$18,'Male - Rev'!$A32-35,0),0.03999)","v":1.7600000000000001E-2},{"$f":"MIN(OFFSET(Male!AF$18,'Male - Rev'!$A32-35,0),0.03999)","v":1.6500000000000001E-2},{"$f":"MIN(OFFSET(Male!AG$18,'Male - Rev'!$A32-35,0),0.03999)","v":1.54E-2},{"$f":"MIN(OFFSET(Male!AH$18,'Male - Rev'!$A32-35,0),0.03999)","v":1.46E-2},{"$f":"MIN(OFFSET(Male!AI$18,'Male - Rev'!$A32-35,0),0.03999)","v":1.4200000000000001E-2},{"$f":"MIN(OFFSET(Male!AJ$18,'Male - Rev'!$A32-35,0),0.03999)","v":1.4200000000000001E-2},{"$f":"MIN(OFFSET(Male!AK$18,'Male - Rev'!$A32-35,0),0.03999)","v":1.46E-2},{"$f":"MIN(OFFSET(Male!AL$18,'Male - Rev'!$A32-35,0),0.03999)","v":1.52E-2},{"$f":"MIN(OFFSET(Male!AM$18,'Male - Rev'!$A32-35,0),0.03999)","v":1.5800000000000002E-2},{"$f":"MIN(OFFSET(Male!AN$18,'Male - Rev'!$A32-35,0),0.03999)","v":1.6299999999999999E-2},{"$f":"MIN(OFFSET(Male!AO$18,'Male - Rev'!$A32-35,0),0.03999)","v":1.6299999999999999E-2},{"$f":"MIN(OFFSET(Male!AP$18,'Male - Rev'!$A32-35,0),0.03999)","v":1.61E-2},{"$f":"MIN(OFFSET(Male!AQ$18,'Male - Rev'!$A32-35,0),0.03999)","v":1.5800000000000002E-2},{"$f":"MIN(OFFSET(Male!AR$18,'Male - Rev'!$A32-35,0),0.03999)","v":1.5699999999999999E-2},{"$f":"MIN(OFFSET(Male!AS$18,'Male - Rev'!$A32-35,0),0.03999)","v":1.6E-2},{"$f":"MIN(OFFSET(Male!AT$18,'Male - Rev'!$A32-35,0),0.03999)","v":1.6799999999999999E-2},{"$f":"MIN(OFFSET(Male!AU$18,'Male - Rev'!$A32-35,0),0.03999)","v":1.8100000000000002E-2},{"$f":"MIN(OFFSET(Male!AV$18,'Male - Rev'!$A32-35,0),0.03999)","v":1.9599999999999999E-2},{"$f":"MIN(OFFSET(Male!AW$18,'Male - Rev'!$A32-35,0),0.03999)","v":2.1399999999999999E-2},{"$f":"MIN(OFFSET(Male!AX$18,'Male - Rev'!$A32-35,0),0.03999)","v":2.3E-2},{"$f":"MIN(OFFSET(Male!AY$18,'Male - Rev'!$A32-35,0),0.03999)","v":2.4400000000000002E-2},{"$f":"MIN(OFFSET(Male!AZ$18,'Male - Rev'!$A32-35,0),0.03999)","v":2.5499999999999998E-2},{"$f":"MIN(OFFSET(Male!BA$18,'Male - Rev'!$A32-35,0),0.03999)","v":2.6200000000000001E-2},{"$f":"MIN(OFFSET(Male!BB$18,'Male - Rev'!$A32-35,0),0.03999)","v":2.6599999999999999E-2},{"$f":"MIN(OFFSET(Male!BC$18,'Male - Rev'!$A32-35,0),0.03999)","v":2.6499999999999999E-2},{"$f":"MIN(OFFSET(Male!BD$18,'Male - Rev'!$A32-35,0),0.03999)","v":2.58E-2},{"$f":"MIN(OFFSET(Male!BE$18,'Male - Rev'!$A32-35,0),0.03999)","v":2.46E-2},{"$f":"MIN(OFFSET(Male!BF$18,'Male - Rev'!$A32-35,0),0.03999)","v":2.2800000000000001E-2},{"$f":"MIN(OFFSET(Male!BG$18,'Male - Rev'!$A32-35,0),0.03999)","v":2.0500000000000001E-2},{"$f":"MIN(OFFSET(Male!BH$18,'Male - Rev'!$A32-35,0),0.03999)","v":1.7600000000000001E-2},{"$f":"MIN(OFFSET(Male!BI$18,'Male - Rev'!$A32-35,0),0.03999)","v":1.43E-2},{"$f":"MIN(OFFSET(Male!BJ$18,'Male - Rev'!$A32-35,0),0.03999)","v":1.0699999999999999E-2},{"$f":"MIN(OFFSET(Male!BK$18,'Male - Rev'!$A32-35,0),0.03999)","v":7.1000000000000004E-3},{"$f":"MIN(OFFSET(Male!BL$18,'Male - Rev'!$A32-35,0),0.03999)","v":3.5999999999999999E-3},{"$f":"MIN(OFFSET(Male!BM$18,'Male - Rev'!$A32-35,0),0.03999)","v":4.0000000000000002E-4},{"$f":"MIN(OFFSET(Male!BN$18,'Male - Rev'!$A32-35,0),0.03999)","v":-2.5000000000000001E-3},{"$f":"MIN(OFFSET(Male!BO$18,'Male - Rev'!$A32-35,0),0.03999)","v":-3.3E-3},{"$f":"MIN(OFFSET(Male!BP$18,'Male - Rev'!$A32-35,0),0.03999)","v":-3.5000000000000001E-3},{"$f":"MIN(OFFSET(Male!BQ$18,'Male - Rev'!$A32-35,0),0.03999)","v":-3.2000000000000002E-3},{"$f":"MIN(OFFSET(Male!BR$18,'Male - Rev'!$A32-35,0),0.03999)","v":-2.3E-3},{"$f":"MIN(OFFSET(Male!BS$18,'Male - Rev'!$A32-35,0),0.03999)","v":-1E-3},{"$f":"MIN(OFFSET(Male!BT$18,'Male - Rev'!$A32-35,0),0.03999)","v":6.9999999999999999E-4},{"$f":"MIN(OFFSET(Male!BU$18,'Male - Rev'!$A32-35,0),0.03999)","v":2.5000000000000001E-3},{"$f":"MIN(OFFSET(Male!BV$18,'Male - Rev'!$A32-35,0),0.03999)","v":4.3E-3},{"$f":"MIN(OFFSET(Male!BW$18,'Male - Rev'!$A32-35,0),0.03999)","v":5.8999999999999999E-3},{"$f":"MIN(OFFSET(Male!BX$18,'Male - Rev'!$A32-35,0),0.03999)","v":7.1000000000000004E-3},{"$f":"MIN(OFFSET(Male!BY$18,'Male - Rev'!$A32-35,0),0.03999)","v":7.9000000000000008E-3},{"$f":"MIN(OFFSET(Male!BZ$18,'Male - Rev'!$A32-35,0),0.03999)","v":8.5000000000000006E-3},{"$f":"MIN(OFFSET(Male!CA$18,'Male - Rev'!$A32-35,0),0.03999)","v":8.9999999999999993E-3},{"$f":"MIN(OFFSET(Male!CB$18,'Male - Rev'!$A32-35,0),0.03999)","v":9.4000000000000004E-3},{"$f":"MIN(OFFSET(Male!CC$18,'Male - Rev'!$A32-35,0),0.03999)","v":9.5999999999999992E-3},{"$f":"MIN(OFFSET(Male!CD$18,'Male - Rev'!$A32-35,0),0.03999)","v":9.7000000000000003E-3},{"$f":"MIN(OFFSET(Male!CE$18,'Male - Rev'!$A32-35,0),0.03999)","v":9.7999999999999997E-3},{"$f":"MIN(OFFSET(Male!CF$18,'Male - Rev'!$A32-35,0),0.03999)","v":9.9000000000000008E-3},{"$f":"MIN(OFFSET(Male!CG$18,'Male - Rev'!$A32-35,0),0.03999)","v":0.01},{"$f":"MIN(OFFSET(Male!CH$18,'Male - Rev'!$A32-35,0),0.03999)","v":0.01}]
[65,65,{"$f":"MIN(OFFSET(Male!B$18,'Male - Rev'!$A33-35,0),0.03999)","v":8.2000000000000007E-3},{"$f":"MIN(OFFSET(Male!C$18,'Male - Rev'!$A33-35,0),0.03999)","v":6.4000000000000003E-3},{"$f":"MIN(OFFSET(Male!D$18,'Male - Rev'!$A33-35,0),0.03999)","v":4.5999999999999999E-3},{"$f":"MIN(OFFSET(Male!E$18,'Male - Rev'!$A33-35,0),0.03999)","v":2.8E-3},{"$f":"MIN(OFFSET(Male!F$18,'Male - Rev'!$A33-35,0),0.03999)","v":1E-3},{"$f":"MIN(OFFSET(Male!G$18,'Male - Rev'!$A33-35,0),0.03999)","v":-6.9999999999999999E-4},{"$f":"MIN(OFFSET(Male!H$18,'Male - Rev'!$A33-35,0),0.03999)","v":-2E-3},{"$f":"MIN(OFFSET(Male!I$18,'Male - Rev'!$A33-35,0),0.03999)","v":-3.0000000000000001E-3},{"$f":"MIN(OFFSET(Male!J$18,'Male - Rev'!$A33-35,0),0.03999)","v":-3.7000000000000002E-3},{"$f":"MIN(OFFSET(Male!K$18,'Male - Rev'!$A33-35,0),0.03999)","v":-4.1000000000000003E-3},{"$f":"MIN(OFFSET(Male!L$18,'Male - Rev'!$A33-35,0),0.03999)","v":-4.1999999999999997E-3},{"$f":"MIN(OFFSET(Male!M$18,'Male - Rev'!$A33-35,0),0.03999)","v":-4.0000000000000001E-3},{"$f":"MIN(OFFSET(Male!N$18,'Male - Rev'!$A33-35,0),0.03999)","v":-3.3E-3},{"$f":"MIN(OFFSET(Male!O$18,'Male - Rev'!$A33-35,0),0.03999)","v":-2.2000000000000001E-3},{"$f":"MIN(OFFSET(Male!P$18,'Male - Rev'!$A33-35,0),0.03999)","v":-6.9999999999999999E-4},{"$f":"MIN(OFFSET(Male!Q$18,'Male - Rev'!$A33-35,0),0.03999)","v":1.1000000000000001E-3},{"$f":"MIN(OFFSET(Male!R$18,'Male - Rev'!$A33-35,0),0.03999)","v":3.2000000000000002E-3},{"$f":"MIN(OFFSET(Male!S$18,'Male - Rev'!$A33-35,0),0.03999)","v":5.5999999999999999E-3},{"$f":"MIN(OFFSET(Male!T$18,'Male - Rev'!$A33-35,0),0.03999)","v":8.0000000000000002E-3},{"$f":"MIN(OFFSET(Male!U$18,'Male - Rev'!$A33-35,0),0.03999)","v":1.06E-2},{"$f":"MIN(OFFSET(Male!V$18,'Male - Rev'!$A33-35,0),0.03999)","v":1.3100000000000001E-2},{"$f":"MIN(OFFSET(Male!W$18,'Male - Rev'!$A33-35,0),0.03999)","v":1.55E-2},{"$f":"MIN(OFFSET(Male!X$18,'Male - Rev'!$A33-35,0),0.03999)","v":1.77E-2},{"$f":"MIN(OFFSET(Male!Y$18,'Male - Rev'!$A33-35,0),0.03999)","v":1.95E-2},{"$f":"MIN(OFFSET(Male!Z$18,'Male - Rev'!$A33-35,0),0.03999)","v":2.07E-2},{"$f":"MIN(OFFSET(Male!AA$18,'Male - Rev'!$A33-35,0),0.03999)","v":2.1299999999999999E-2},{"$f":"MIN(OFFSET(Male!AB$18,'Male - Rev'!$A33-35,0),0.03999)","v":2.12E-2},{"$f":"MIN(OFFSET(Male!AC$18,'Male - Rev'!$A33-35,0),0.03999)","v":2.07E-2},{"$f":"MIN(OFFSET(Male!AD$18,'Male - Rev'!$A33-35,0),0.03999)","v":1.9699999999999999E-2},{"$f":"MIN(OFFSET(Male!AE$18,'Male - Rev'!$A33-35,0),0.03999)","v":1.8499999999999999E-2},{"$f":"MIN(OFFSET(Male!AF$18,'Male - Rev'!$A33-35,0),0.03999)","v":1.7100000000000001E-2},{"$f":"MIN(OFFSET(Male!AG$18,'Male - Rev'!$A33-35,0),0.03999)","v":1.5699999999999999E-2},{"$f":"MIN(OFFSET(Male!AH$18,'Male - Rev'!$A33-35,0),0.03999)","v":1.47E-2},{"$f":"MIN(OFFSET(Male!AI$18,'Male - Rev'!$A33-35,0),0.03999)","v":1.4E-2},{"$f":"MIN(OFFSET(Male!AJ$18,'Male - Rev'!$A33-35,0),0.03999)","v":1.4E-2},{"$f":"MIN(OFFSET(Male!AK$18,'Male - Rev'!$A33-35,0),0.03999)","v":1.43E-2},{"$f":"MIN(OFFSET(Male!AL$18,'Male - Rev'!$A33-35,0),0.03999)","v":1.4999999999999999E-2},{"$f":"MIN(OFFSET(Male!AM$18,'Male - Rev'!$A33-35,0),0.03999)","v":1.5699999999999999E-2},{"$f":"MIN(OFFSET(Male!AN$18,'Male - Rev'!$A33-35,0),0.03999)","v":1.6299999999999999E-2},{"$f":"MIN(OFFSET(Male!AO$18,'Male - Rev'!$A33-35,0),0.03999)","v":1.6500000000000001E-2},{"$f":"MIN(OFFSET(Male!AP$18,'Male - Rev'!$A33-35,0),0.03999)","v":1.6500000000000001E-2},{"$f":"MIN(OFFSET(Male!AQ$18,'Male - Rev'!$A33-35,0),0.03999)","v":1.6299999999999999E-2},{"$f":"MIN(OFFSET(Male!AR$18,'Male - Rev'!$A33-35,0),0.03999)","v":1.6299999999999999E-2},{"$f":"MIN(OFFSET(Male!AS$18,'Male - Rev'!$A33-35,0),0.03999)","v":1.67E-2},{"$f":"MIN(OFFSET(Male!AT$18,'Male - Rev'!$A33-35,0),0.03999)","v":1.7600000000000001E-2},{"$f":"MIN(OFFSET(Male!AU$18,'Male - Rev'!$A33-35,0),0.03999)","v":1.9E-2},{"$f":"MIN(OFFSET(Male!AV$18,'Male - Rev'!$A33-35,0),0.03999)","v":2.0500000000000001E-2},{"$f":"MIN(OFFSET(Male!AW$18,'Male - Rev'!$A33-35,0),0.03999)","v":2.2100000000000002E-2},{"$f":"MIN(OFFSET(Male!AX$18,'Male - Rev'!$A33-35,0),0.03999)","v":2.3400000000000001E-2},{"$f":"MIN(OFFSET(Male!AY$18,'Male - Rev'!$A33-35,0),0.03999)","v":2.4500000000000001E-2},{"$f":"MIN(OFFSET(Male!AZ$18,'Male - Rev'!$A33-35,0),0.03999)","v":2.53E-2},{"$f":"MIN(OFFSET(Male!BA$18,'Male - Rev'!$A33-35,0),0.03999)","v":2.5700000000000001E-2},{"$f":"MIN(OFFSET(Male!BB$18,'Male - Rev'!$A33-35,0),0.03999)","v":2.5899999999999999E-2},{"$f":"MIN(OFFSET(Male!BC$18,'Male - Rev'!$A33-35,0),0.03999)","v":2.5700000000000001E-2},{"$f":"MIN(OFFSET(Male!BD$18,'Male - Rev'!$A33-35,0),0.03999)","v":2.4899999999999999E-2},{"$f":"MIN(OFFSET(Male!BE$18,'Male - Rev'!$A33-35,0),0.03999)","v":2.3599999999999999E-2},{"$f":"MIN(OFFSET(Male!BF$18,'Male - Rev'!$A33-35,0),0.03999)","v":2.18E-2},{"$f":"MIN(OFFSET(Male!BG$18,'Male - Rev'!$A33-35,0),0.03999)","v":1.9300000000000001E-2},{"$f":"MIN(OFFSET(Male!BH$18,'Male - Rev'!$A33-35,0),0.03999)","v":1.6199999999999999E-2},{"$f":"MIN(OFFSET(Male!BI$18,'Male - Rev'!$A33-35,0),0.03999)","v":1.26E-2},{"$f":"MIN(OFFSET(Male!BJ$18,'Male - Rev'!$A33-35,0),0.03999)","v":8.6999999999999994E-3},{"$f":"MIN(OFFSET(Male!BK$18,'Male - Rev'!$A33-35,0),0.03999)","v":4.7999999999999996E-3},{"$f":"MIN(OFFSET(Male!BL$18,'Male - Rev'!$A33-35,0),0.03999)","v":1.2999999999999999E-3},{"$f":"MIN(OFFSET(Male!BM$18,'Male - Rev'!$A33-35,0),0.03999)","v":-1.8E-3},{"$f":"MIN(OFFSET(Male!BN$18,'Male - Rev'!$A33-35,0),0.03999)","v":-4.4999999999999997E-3},{"$f":"MIN(OFFSET(Male!BO$18,'Male - Rev'!$A33-35,0),0.03999)","v":-5.1999999999999998E-3},{"$f":"MIN(OFFSET(Male!BP$18,'Male - Rev'!$A33-35,0),0.03999)","v":-5.1000000000000004E-3},{"$f":"MIN(OFFSET(Male!BQ$18,'Male - Rev'!$A33-35,0),0.03999)","v":-4.4000000000000003E-3},{"$f":"MIN(OFFSET(Male!BR$18,'Male - Rev'!$A33-35,0),0.03999)","v":-3.0999999999999999E-3},{"$f":"MIN(OFFSET(Male!BS$18,'Male - Rev'!$A33-35,0),0.03999)","v":-1.2999999999999999E-3},{"$f":"MIN(OFFSET(Male!BT$18,'Male - Rev'!$A33-35,0),0.03999)","v":8.0000000000000004E-4},{"$f":"MIN(OFFSET(Male!BU$18,'Male - Rev'!$A33-35,0),0.03999)","v":2.8999999999999998E-3},{"$f":"MIN(OFFSET(Male!BV$18,'Male - Rev'!$A33-35,0),0.03999)","v":4.7999999999999996E-3},{"$f":"MIN(OFFSET(Male!BW$18,'Male - Rev'!$A33-35,0),0.03999)","v":6.4000000000000003E-3},{"$f":"MIN(OFFSET(Male!BX$18,'Male - Rev'!$A33-35,0),0.03999)","v":7.4999999999999997E-3},{"$f":"MIN(OFFSET(Male!BY$18,'Male - Rev'!$A33-35,0),0.03999)","v":8.2000000000000007E-3},{"$f":"MIN(OFFSET(Male!BZ$18,'Male - Rev'!$A33-35,0),0.03999)","v":8.8000000000000005E-3},{"$f":"MIN(OFFSET(Male!CA$18,'Male - Rev'!$A33-35,0),0.03999)","v":9.1999999999999998E-3},{"$f":"MIN(OFFSET(Male!CB$18,'Male - Rev'!$A33-35,0),0.03999)","v":9.4000000000000004E-3},{"$f":"MIN(OFFSET(Male!CC$18,'Male - Rev'!$A33-35,0),0.03999)","v":9.5999999999999992E-3},{"$f":"MIN(OFFSET(Male!CD$18,'Male - Rev'!$A33-35,0),0.03999)","v":9.7000000000000003E-3},{"$f":"MIN(OFFSET(Male!CE$18,'Male - Rev'!$A33-35,0),0.03999)","v":9.7999999999999997E-3},{"$f":"MIN(OFFSET(Male!CF$18,'Male - Rev'!$A33-35,0),0.03999)","v":9.9000000000000008E-3},{"$f":"MIN(OFFSET(Male!CG$18,'Male - Rev'!$A33-35,0),0.03999)","v":0.01},{"$f":"MIN(OFFSET(Male!CH$18,'Male - Rev'!$A33-35,0),0.03999)","v":0.01}]
[64,64,{"$f":"MIN(OFFSET(Male!B$18,'Male - Rev'!$A34-35,0),0.03999)","v":8.8999999999999999E-3},{"$f":"MIN(OFFSET(Male!C$18,'Male - Rev'!$A34-35,0),0.03999)","v":7.1000000000000004E-3},{"$f":"MIN(OFFSET(Male!D$18,'Male - Rev'!$A34-35,0),0.03999)","v":5.3E-3},{"$f":"MIN(OFFSET(Male!E$18,'Male - Rev'!$A34-35,0),0.03999)","v":3.3999999999999998E-3},{"$f":"MIN(OFFSET(Male!F$18,'Male - Rev'!$A34-35,0),0.03999)","v":1.6000000000000001E-3},{"$f":"MIN(OFFSET(Male!G$18,'Male - Rev'!$A34-35,0),0.03999)","v":-1E-4},{"$f":"MIN(OFFSET(Male!H$18,'Male - Rev'!$A34-35,0),0.03999)","v":-1.6000000000000001E-3},{"$f":"MIN(OFFSET(Male!I$18,'Male - Rev'!$A34-35,0),0.03999)","v":-2.5999999999999999E-3},{"$f":"MIN(OFFSET(Male!J$18,'Male - Rev'!$A34-35,0),0.03999)","v":-3.3999999999999998E-3},{"$f":"MIN(OFFSET(Male!K$18,'Male - Rev'!$A34-35,0),0.03999)","v":-4.0000000000000001E-3},{"$f":"MIN(OFFSET(Male!L$18,'Male - Rev'!$A34-35,0),0.03999)","v":-4.1999999999999997E-3},{"$f":"MIN(OFFSET(Male!M$18,'Male - Rev'!$A34-35,0),0.03999)","v":-4.1000000000000003E-3},{"$f":"MIN(OFFSET(Male!N$18,'Male - Rev'!$A34-35,0),0.03999)","v":-3.5999999999999999E-3},{"$f":"MIN(OFFSET(Male!O$18,'Male - Rev'!$A34-35,0),0.03999)","v":-2.5000000000000001E-3},{"$f":"MIN(OFFSET(Male!P$18,'Male - Rev'!$A34-35,0),0.03999)","v":-1E-3},{"$f":"MIN(OFFSET(Male!Q$18,'Male - Rev'!$A34-35,0),0.03999)","v":8.9999999999999998E-4},{"$f":"MIN(OFFSET(Male!R$18,'Male - Rev'!$A34-35,0),0.03999)","v":3.0999999999999999E-3},{"$f":"MIN(OFFSET(Male!S$18,'Male - Rev'!$A34-35,0),0.03999)","v":5.5999999999999999E-3},{"$f":"MIN(OFFSET(Male!T$18,'Male - Rev'!$A34-35,0),0.03999)","v":8.3000000000000001E-3},{"$f":"MIN(OFFSET(Male!U$18,'Male - Rev'!$A34-35,0),0.03999)","v":1.0999999999999999E-2},{"$f":"MIN(OFFSET(Male!V$18,'Male - Rev'!$A34-35,0),0.03999)","v":1.37E-2},{"$f":"MIN(OFFSET(Male!W$18,'Male - Rev'!$A34-35,0),0.03999)","v":1.6299999999999999E-2},{"$f":"MIN(OFFSET(Male!X$18,'Male - Rev'!$A34-35,0),0.03999)","v":1.8700000000000001E-2},{"$f":"MIN(OFFSET(Male!Y$18,'Male - Rev'!$A34-35,0),0.03999)","v":2.06E-2},{"$f":"MIN(OFFSET(Male!Z$18,'Male - Rev'!$A34-35,0),0.03999)","v":2.1899999999999999E-2},{"$f":"MIN(OFFSET(Male!AA$18,'Male - Rev'!$A34-35,0),0.03999)","v":2.2499999999999999E-2},{"$f":"MIN(OFFSET(Male!AB$18,'Male - Rev'!$A34-35,0),0.03999)","v":2.24E-2},{"$f":"MIN(OFFSET(Male!AC$18,'Male - Rev'!$A34-35,0),0.03999)","v":2.18E-2},{"$f":"MIN(OFFSET(Male!AD$18,'Male - Rev'!$A34-35,0),0.03999)","v":2.06E-2},{"$f":"MIN(OFFSET(Male!AE$18,'Male - Rev'!$A34-35,0),0.03999)","v":1.9099999999999999E-2},{"$f":"MIN(OFFSET(Male!AF$18,'Male - Rev'!$A34-35,0),0.03999)","v":1.7500000000000002E-2},{"$f":"MIN(OFFSET(Male!AG$18,'Male - Rev'!$A34-35,0),0.03999)","v":1.5900000000000001E-2},{"$f":"MIN(OFFSET(Male!AH$18,'Male - Rev'!$A34-35,0),0.03999)","v":1.46E-2},{"$f":"MIN(OFFSET(Male!AI$18,'Male - Rev'!$A34-35,0),0.03999)","v":1.38E-2},{"$f":"MIN(OFFSET(Male!AJ$18,'Male - Rev'!$A34-35,0),0.03999)","v":1.37E-2},{"$f":"MIN(OFFSET(Male!AK$18,'Male - Rev'!$A34-35,0),0.03999)","v":1.41E-2},{"$f":"MIN(OFFSET(Male!AL$18,'Male - Rev'!$A34-35,0),0.03999)","v":1.49E-2},{"$f":"MIN(OFFSET(Male!AM$18,'Male - Rev'!$A34-35,0),0.03999)","v":1.5800000000000002E-2},{"$f":"MIN(OFFSET(Male!AN$18,'Male - Rev'!$A34-35,0),0.03999)","v":1.6500000000000001E-2},{"$f":"MIN(OFFSET(Male!AO$18,'Male - Rev'!$A34-35,0),0.03999)","v":1.6899999999999998E-2},{"$f":"MIN(OFFSET(Male!AP$18,'Male - Rev'!$A34-35,0),0.03999)","v":1.7000000000000001E-2},{"$f":"MIN(OFFSET(Male!AQ$18,'Male - Rev'!$A34-35,0),0.03999)","v":1.7000000000000001E-2},{"$f":"MIN(OFFSET(Male!AR$18,'Male - Rev'!$A34-35,0),0.03999)","v":1.7100000000000001E-2},{"$f":"MIN(OFFSET(Male!AS$18,'Male - Rev'!$A34-35,0),0.03999)","v":1.7600000000000001E-2},{"$f":"MIN(OFFSET(Male!AT$18,'Male - Rev'!$A34-35,0),0.03999)","v":1.8499999999999999E-2},{"$f":"MIN(OFFSET(Male!AU$18,'Male - Rev'!$A34-35,0),0.03999)","v":1.9800000000000002E-2},{"$f":"MIN(OFFSET(Male!AV$18,'Male - Rev'!$A34-35,0),0.03999)","v":2.12E-2},{"$f":"MIN(OFFSET(Male!AW$18,'Male - Rev'!$A34-35,0),0.03999)","v":2.2599999999999999E-2},{"$f":"MIN(OFFSET(Male!AX$18,'Male - Rev'!$A34-35,0),0.03999)","v":2.3699999999999999E-2},{"$f":"MIN(OFFSET(Male!AY$18,'Male - Rev'!$A34-35,0),0.03999)","v":2.4400000000000002E-2},{"$f":"MIN(OFFSET(Male!AZ$18,'Male - Rev'!$A34-35,0),0.03999)","v":2.4899999999999999E-2},{"$f":"MIN(OFFSET(Male!BA$18,'Male - Rev'!$A34-35,0),0.03999)","v":2.5000000000000001E-2},{"$f":"MIN(OFFSET(Male!BB$18,'Male - Rev'!$A34-35,0),0.03999)","v":2.5000000000000001E-2},{"$f":"MIN(OFFSET(Male!BC$18,'Male - Rev'!$A34-35,0),0.03999)","v":2.46E-2},{"$f":"MIN(OFFSET(Male!BD$18,'Male - Rev'!$A34-35,0),0.03999)","v":2.3800000000000002E-2},{"$f":"MIN(OFFSET(Male!BE$18,'Male - Rev'!$A34-35,0),0.03999)","v":2.24E-2},{"$f":"MIN(OFFSET(Male!BF$18,'Male - Rev'!$A34-35,0),0.03999)","v":2.0400000000000001E-2},{"$f":"MIN(OFFSET(Male!BG$18,'Male - Rev'!$A34-35,0),0.03999)","v":1.77E-2},{"$f":"MIN(OFFSET(Male!BH$18,'Male - Rev'!$A34-35,0),0.03999)","v":1.44E-2},{"$f":"MIN(OFFSET(Male!BI$18,'Male - Rev'!$A34-35,0),0.03999)","v":1.06E-2},{"$f":"MIN(OFFSET(Male!BJ$18,'Male - Rev'!$A34-35,0),0.03999)","v":6.4999999999999997E-3},{"$f":"MIN(OFFSET(Male!BK$18,'Male - Rev'!$A34-35,0),0.03999)","v":2.5000000000000001E-3},{"$f":"MIN(OFFSET(Male!BL$18,'Male - Rev'!$A34-35,0),0.03999)","v":-1E-3},{"$f":"MIN(OFFSET(Male!BM$18,'Male - Rev'!$A34-35,0),0.03999)","v":-4.0000000000000001E-3},{"$f":"MIN(OFFSET(Male!BN$18,'Male - Rev'!$A34-35,0),0.03999)","v":-6.4000000000000003E-3},{"$f":"MIN(OFFSET(Male!BO$18,'Male - Rev'!$A34-35,0),0.03999)","v":-6.7999999999999996E-3},{"$f":"MIN(OFFSET(Male!BP$18,'Male - Rev'!$A34-35,0),0.03999)","v":-6.3E-3},{"$f":"MIN(OFFSET(Male!BQ$18,'Male - Rev'!$A34-35,0),0.03999)","v":-5.1999999999999998E-3},{"$f":"MIN(OFFSET(Male!BR$18,'Male - Rev'!$A34-35,0),0.03999)","v":-3.3999999999999998E-3},{"$f":"MIN(OFFSET(Male!BS$18,'Male - Rev'!$A34-35,0),0.03999)","v":-1.2999999999999999E-3},{"$f":"MIN(OFFSET(Male!BT$18,'Male - Rev'!$A34-35,0),0.03999)","v":1.1000000000000001E-3},{"$f":"MIN(OFFSET(Male!BU$18,'Male - Rev'!$A34-35,0),0.03999)","v":3.3E-3},{"$f":"MIN(OFFSET(Male!BV$18,'Male - Rev'!$A34-35,0),0.03999)","v":5.3E-3},{"$f":"MIN(OFFSET(Male!BW$18,'Male - Rev'!$A34-35,0),0.03999)","v":6.8999999999999999E-3},{"$f":"MIN(OFFSET(Male!BX$18,'Male - Rev'!$A34-35,0),0.03999)","v":7.9000000000000008E-3},{"$f":"MIN(OFFSET(Male!BY$18,'Male - Rev'!$A34-35,0),0.03999)","v":8.5000000000000006E-3},{"$f":"MIN(OFFSET(Male!BZ$18,'Male - Rev'!$A34-35,0),0.03999)","v":8.8999999999999999E-3},{"$f":"MIN(OFFSET(Male!CA$18,'Male - Rev'!$A34-35,0),0.03999)","v":9.1999999999999998E-3},{"$f":"MIN(OFFSET(Male!CB$18,'Male - Rev'!$A34-35,0),0.03999)","v":9.4000000000000004E-3},{"$f":"MIN(OFFSET(Male!CC$18,'Male - Rev'!$A34-35,0),0.03999)","v":9.4999999999999998E-3},{"$f":"MIN(OFFSET(Male!CD$18,'Male - Rev'!$A34-35,0),0.03999)","v":9.5999999999999992E-3},{"$f":"MIN(OFFSET(Male!CE$18,'Male - Rev'!$A34-35,0),0.03999)","v":9.7000000000000003E-3},{"$f":"MIN(OFFSET(Male!CF$18,'Male - Rev'!$A34-35,0),0.03999)","v":9.7999999999999997E-3},{"$f":"MIN(OFFSET(Male!CG$18,'Male - Rev'!$A34-35,0),0.03999)","v":9.9000000000000008E-3},{"$f":"MIN(OFFSET(Male!CH$18,'Male - Rev'!$A34-35,0),0.03999)","v":0.01}]
[63,63,{"$f":"MIN(OFFSET(Male!B$18,'Male - Rev'!$A35-35,0),0.03999)","v":9.7999999999999997E-3},{"$f":"MIN(OFFSET(Male!C$18,'Male - Rev'!$A35-35,0),0.03999)","v":8.0000000000000002E-3},{"$f":"MIN(OFFSET(Male!D$18,'Male - Rev'!$A35-35,0),0.03999)","v":6.1999999999999998E-3},{"$f":"MIN(OFFSET(Male!E$18,'Male - Rev'!$A35-35,0),0.03999)","v":4.3E-3},{"$f":"MIN(OFFSET(Male!F$18,'Male - Rev'!$A35-35,0),0.03999)","v":2.3999999999999998E-3},{"$f":"MIN(OFFSET(Male!G$18,'Male - Rev'!$A35-35,0),0.03999)","v":5.9999999999999995E-4},{"$f":"MIN(OFFSET(Male!H$18,'Male - Rev'!$A35-35,0),0.03999)","v":-8.9999999999999998E-4},{"$f":"MIN(OFFSET(Male!I$18,'Male - Rev'!$A35-35,0),0.03999)","v":-2.0999999999999999E-3},{"$f":"MIN(OFFSET(Male!J$18,'Male - Rev'!$A35-35,0),0.03999)","v":-3.0000000000000001E-3},{"$f":"MIN(OFFSET(Male!K$18,'Male - Rev'!$A35-35,0),0.03999)","v":-3.5999999999999999E-3},{"$f":"MIN(OFFSET(Male!L$18,'Male - Rev'!$A35-35,0),0.03999)","v":-4.0000000000000001E-3},{"$f":"MIN(OFFSET(Male!M$18,'Male - Rev'!$A35-35,0),0.03999)","v":-4.1000000000000003E-3},{"$f":"MIN(OFFSET(Male!N$18,'Male - Rev'!$A35-35,0),0.03999)","v":-3.7000000000000002E-3},{"$f":"MIN(OFFSET(Male!O$18,'Male - Rev'!$A35-35,0),0.03999)","v":-2.8E-3},{"$f":"MIN(OFFSET(Male!P$18,'Male - Rev'!$A35-35,0),0.03999)","v":-1.4E-3},{"$f":"MIN(OFFSET(Male!Q$18,'Male - Rev'!$A35-35,0),0.03999)","v":5.0000000000000001E-4},{"$f":"MIN(OFFSET(Male!R$18,'Male - Rev'!$A35-35,0),0.03999)","v":2.8E-3},{"$f":"MIN(OFFSET(Male!S$18,'Male - Rev'!$A35-35,0),0.03999)","v":5.4999999999999997E-3},{"$f":"MIN(OFFSET(Male!T$18,'Male - Rev'!$A35-35,0),0.03999)","v":8.3999999999999995E-3},{"$f":"MIN(OFFSET(Male!U$18,'Male - Rev'!$A35-35,0),0.03999)","v":1.1299999999999999E-2},{"$f":"MIN(OFFSET(Male!V$18,'Male - Rev'!$A35-35,0),0.03999)","v":1.43E-2},{"$f":"MIN(OFFSET(Male!W$18,'Male - Rev'!$A35-35,0),0.03999)","v":1.72E-2},{"$f":"MIN(OFFSET(Male!X$18,'Male - Rev'!$A35-35,0),0.03999)","v":1.9699999999999999E-2},{"$f":"MIN(OFFSET(Male!Y$18,'Male - Rev'!$A35-35,0),0.03999)","v":2.18E-2},{"$f":"MIN(OFFSET(Male!Z$18,'Male - Rev'!$A35-35,0),0.03999)","v":2.3099999999999999E-2},{"$f":"MIN(OFFSET(Male!AA$18,'Male - Rev'!$A35-35,0),0.03999)","v":2.3699999999999999E-2},{"$f":"MIN(OFFSET(Male!AB$18,'Male - Rev'!$A35-35,0),0.03999)","v":2.35E-2},{"$f":"MIN(OFFSET(Male!AC$18,'Male - Rev'!$A35-35,0),0.03999)","v":2.2700000000000001E-2},{"$f":"MIN(OFFSET(Male!AD$18,'Male - Rev'!$A35-35,0),0.03999)","v":2.1399999999999999E-2},{"$f":"MIN(OFFSET(Male!AE$18,'Male - Rev'!$A35-35,0),0.03999)","v":1.9599999999999999E-2},{"$f":"MIN(OFFSET(Male!AF$18,'Male - Rev'!$A35-35,0),0.03999)","v":1.77E-2},{"$f":"MIN(OFFSET(Male!AG$18,'Male - Rev'!$A35-35,0),0.03999)","v":1.5900000000000001E-2},{"$f":"MIN(OFFSET(Male!AH$18,'Male - Rev'!$A35-35,0),0.03999)","v":1.44E-2},{"$f":"MIN(OFFSET(Male!AI$18,'Male - Rev'!$A35-35,0),0.03999)","v":1.3599999999999999E-2},{"$f":"MIN(OFFSET(Male!AJ$18,'Male - Rev'!$A35-35,0),0.03999)","v":1.35E-2},{"$f":"MIN(OFFSET(Male!AK$18,'Male - Rev'!$A35-35,0),0.03999)","v":1.4E-2},{"$f":"MIN(OFFSET(Male!AL$18,'Male - Rev'!$A35-35,0),0.03999)","v":1.49E-2},{"$f":"MIN(OFFSET(Male!AM$18,'Male - Rev'!$A35-35,0),0.03999)","v":1.5900000000000001E-2},{"$f":"MIN(OFFSET(Male!AN$18,'Male - Rev'!$A35-35,0),0.03999)","v":1.6799999999999999E-2},{"$f":"MIN(OFFSET(Male!AO$18,'Male - Rev'!$A35-35,0),0.03999)","v":1.7399999999999999E-2},{"$f":"MIN(OFFSET(Male!AP$18,'Male - Rev'!$A35-35,0),0.03999)","v":1.77E-2},{"$f":"MIN(OFFSET(Male!AQ$18,'Male - Rev'!$A35-35,0),0.03999)","v":1.78E-2},{"$f":"MIN(OFFSET(Male!AR$18,'Male - Rev'!$A35-35,0),0.03999)","v":1.7999999999999999E-2},{"$f":"MIN(OFFSET(Male!AS$18,'Male - Rev'!$A35-35,0),0.03999)","v":1.8499999999999999E-2},{"$f":"MIN(OFFSET(Male!AT$18,'Male - Rev'!$A35-35,0),0.03999)","v":1.9300000000000001E-2},{"$f":"MIN(OFFSET(Male!AU$18,'Male - Rev'!$A35-35,0),0.03999)","v":2.0500000000000001E-2},{"$f":"MIN(OFFSET(Male!AV$18,'Male - Rev'!$A35-35,0),0.03999)","v":2.18E-2},{"$f":"MIN(OFFSET(Male!AW$18,'Male - Rev'!$A35-35,0),0.03999)","v":2.29E-2},{"$f":"MIN(OFFSET(Male!AX$18,'Male - Rev'!$A35-35,0),0.03999)","v":2.3599999999999999E-2},{"$f":"MIN(OFFSET(Male!AY$18,'Male - Rev'!$A35-35,0),0.03999)","v":2.41E-2},{"$f":"MIN(OFFSET(Male!AZ$18,'Male - Rev'!$A35-35,0),0.03999)","v":2.4199999999999999E-2},{"$f":"MIN(OFFSET(Male!BA$18,'Male - Rev'!$A35-35,0),0.03999)","v":2.41E-2},{"$f":"MIN(OFFSET(Male!BB$18,'Male - Rev'!$A35-35,0),0.03999)","v":2.3900000000000001E-2},{"$f":"MIN(OFFSET(Male!BC$18,'Male - Rev'!$A35-35,0),0.03999)","v":2.3300000000000001E-2},{"$f":"MIN(OFFSET(Male!BD$18,'Male - Rev'!$A35-35,0),0.03999)","v":2.23E-2},{"$f":"MIN(OFFSET(Male!BE$18,'Male - Rev'!$A35-35,0),0.03999)","v":2.0799999999999999E-2},{"$f":"MIN(OFFSET(Male!BF$18,'Male - Rev'!$A35-35,0),0.03999)","v":1.8599999999999998E-2},{"$f":"MIN(OFFSET(Male!BG$18,'Male - Rev'!$A35-35,0),0.03999)","v":1.5800000000000002E-2},{"$f":"MIN(OFFSET(Male!BH$18,'Male - Rev'!$A35-35,0),0.03999)","v":1.24E-2},{"$f":"MIN(OFFSET(Male!BI$18,'Male - Rev'!$A35-35,0),0.03999)","v":8.5000000000000006E-3},{"$f":"MIN(OFFSET(Male!BJ$18,'Male - Rev'!$A35-35,0),0.03999)","v":4.3E-3},{"$f":"MIN(OFFSET(Male!BK$18,'Male - Rev'!$A35-35,0),0.03999)","v":2.9999999999999997E-4},{"$f":"MIN(OFFSET(Male!BL$18,'Male - Rev'!$A35-35,0),0.03999)","v":-3.0999999999999999E-3},{"$f":"MIN(OFFSET(Male!BM$18,'Male - Rev'!$A35-35,0),0.03999)","v":-5.7000000000000002E-3},{"$f":"MIN(OFFSET(Male!BN$18,'Male - Rev'!$A35-35,0),0.03999)","v":-7.7000000000000002E-3},{"$f":"MIN(OFFSET(Male!BO$18,'Male - Rev'!$A35-35,0),0.03999)","v":-7.7999999999999996E-3},{"$f":"MIN(OFFSET(Male!BP$18,'Male - Rev'!$A35-35,0),0.03999)","v":-7.0000000000000001E-3},{"$f":"MIN(OFFSET(Male!BQ$18,'Male - Rev'!$A35-35,0),0.03999)","v":-5.4999999999999997E-3},{"$f":"MIN(OFFSET(Male!BR$18,'Male - Rev'!$A35-35,0),0.03999)","v":-3.3999999999999998E-3},{"$f":"MIN(OFFSET(Male!BS$18,'Male - Rev'!$A35-35,0),0.03999)","v":-1E-3},{"$f":"MIN(OFFSET(Male!BT$18,'Male - Rev'!$A35-35,0),0.03999)","v":1.5E-3},{"$f":"MIN(OFFSET(Male!BU$18,'Male - Rev'!$A35-35,0),0.03999)","v":3.8999999999999998E-3},{"$f":"MIN(OFFSET(Male!BV$18,'Male - Rev'!$A35-35,0),0.03999)","v":5.8999999999999999E-3},{"$f":"MIN(OFFSET(Male!BW$18,'Male - Rev'!$A35-35,0),0.03999)","v":7.4000000000000003E-3},{"$f":"MIN(OFFSET(Male!BX$18,'Male - Rev'!$A35-35,0),0.03999)","v":8.3000000000000001E-3},{"$f":"MIN(OFFSET(Male!BY$18,'Male - Rev'!$A35-35,0),0.03999)","v":8.6999999999999994E-3},{"$f":"MIN(OFFSET(Male!BZ$18,'Male - Rev'!$A35-35,0),0.03999)","v":8.9999999999999993E-3},{"$f":"MIN(OFFSET(Male!CA$18,'Male - Rev'!$A35-35,0),0.03999)","v":9.1999999999999998E-3},{"$f":"MIN(OFFSET(Male!CB$18,'Male - Rev'!$A35-35,0),0.03999)","v":9.2999999999999992E-3},{"$f":"MIN(OFFSET(Male!CC$18,'Male - Rev'!$A35-35,0),0.03999)","v":9.4000000000000004E-3},{"$f":"MIN(OFFSET(Male!CD$18,'Male - Rev'!$A35-35,0),0.03999)","v":9.4999999999999998E-3},{"$f":"MIN(OFFSET(Male!CE$18,'Male - Rev'!$A35-35,0),0.03999)","v":9.5999999999999992E-3},{"$f":"MIN(OFFSET(Male!CF$18,'Male - Rev'!$A35-35,0),0.03999)","v":9.7999999999999997E-3},{"$f":"MIN(OFFSET(Male!CG$18,'Male - Rev'!$A35-35,0),0.03999)","v":9.9000000000000008E-3},{"$f":"MIN(OFFSET(Male!CH$18,'Male - Rev'!$A35-35,0),0.03999)","v":0.01}]
[62,62,{"$f":"MIN(OFFSET(Male!B$18,'Male - Rev'!$A36-35,0),0.03999)","v":1.09E-2},{"$f":"MIN(OFFSET(Male!C$18,'Male - Rev'!$A36-35,0),0.03999)","v":8.9999999999999993E-3},{"$f":"MIN(OFFSET(Male!D$18,'Male - Rev'!$A36-35,0),0.03999)","v":7.1999999999999998E-3},{"$f":"MIN(OFFSET(Male!E$18,'Male - Rev'!$A36-35,0),0.03999)","v":5.3E-3},{"$f":"MIN(OFFSET(Male!F$18,'Male - Rev'!$A36-35,0),0.03999)","v":3.3E-3},{"$f":"MIN(OFFSET(Male!G$18,'Male - Rev'!$A36-35,0),0.03999)","v":1.5E-3},{"$f":"MIN(OFFSET(Male!H$18,'Male - Rev'!$A36-35,0),0.03999)","v":-1E-4},{"$f":"MIN(OFFSET(Male!I$18,'Male - Rev'!$A36-35,0),0.03999)","v":-1.2999999999999999E-3},{"$f":"MIN(OFFSET(Male!J$18,'Male - Rev'!$A36-35,0),0.03999)","v":-2.3E-3},{"$f":"MIN(OFFSET(Male!K$18,'Male - Rev'!$A36-35,0),0.03999)","v":-3.0999999999999999E-3},{"$f":"MIN(OFFSET(Male!L$18,'Male - Rev'!$A36-35,0),0.03999)","v":-3.7000000000000002E-3},{"$f":"MIN(OFFSET(Male!M$18,'Male - Rev'!$A36-35,0),0.03999)","v":-4.0000000000000001E-3},{"$f":"MIN(OFFSET(Male!N$18,'Male - Rev'!$A36-35,0),0.03999)","v":-3.8E-3},{"$f":"MIN(OFFSET(Male!O$18,'Male - Rev'!$A36-35,0),0.03999)","v":-3.0999999999999999E-3},{"$f":"MIN(OFFSET(Male!P$18,'Male - Rev'!$A36-35,0),0.03999)","v":-1.8E-3},{"$f":"MIN(OFFSET(Male!Q$18,'Male - Rev'!$A36-35,0),0.03999)","v":1E-4},{"$f":"MIN(OFFSET(Male!R$18,'Male - Rev'!$A36-35,0),0.03999)","v":2.3999999999999998E-3},{"$f":"MIN(OFFSET(Male!S$18,'Male - Rev'!$A36-35,0),0.03999)","v":5.1999999999999998E-3},{"$f":"MIN(OFFSET(Male!T$18,'Male - Rev'!$A36-35,0),0.03999)","v":8.3000000000000001E-3},{"$f":"MIN(OFFSET(Male!U$18,'Male - Rev'!$A36-35,0),0.03999)","v":1.15E-2},{"$f":"MIN(OFFSET(Male!V$18,'Male - Rev'!$A36-35,0),0.03999)","v":1.4800000000000001E-2},{"$f":"MIN(OFFSET(Male!W$18,'Male - Rev'!$A36-35,0),0.03999)","v":1.7899999999999999E-2},{"$f":"MIN(OFFSET(Male!X$18,'Male - Rev'!$A36-35,0),0.03999)","v":2.0799999999999999E-2},{"$f":"MIN(OFFSET(Male!Y$18,'Male - Rev'!$A36-35,0),0.03999)","v":2.3E-2},{"$f":"MIN(OFFSET(Male!Z$18,'Male - Rev'!$A36-35,0),0.03999)","v":2.4400000000000002E-2},{"$f":"MIN(OFFSET(Male!AA$18,'Male - Rev'!$A36-35,0),0.03999)","v":2.4899999999999999E-2},{"$f":"MIN(OFFSET(Male!AB$18,'Male - Rev'!$A36-35,0),0.03999)","v":2.4500000000000001E-2},{"$f":"MIN(OFFSET(Male!AC$18,'Male - Rev'!$A36-35,0),0.03999)","v":2.35E-2},{"$f":"MIN(OFFSET(Male!AD$18,'Male - Rev'!$A36-35,0),0.03999)","v":2.1899999999999999E-2},{"$f":"MIN(OFFSET(Male!AE$18,'Male - Rev'!$A36-35,0),0.03999)","v":1.9800000000000002E-2},{"$f":"MIN(OFFSET(Male!AF$18,'Male - Rev'!$A36-35,0),0.03999)","v":1.77E-2},{"$f":"MIN(OFFSET(Male!AG$18,'Male - Rev'!$A36-35,0),0.03999)","v":1.5699999999999999E-2},{"$f":"MIN(OFFSET(Male!AH$18,'Male - Rev'!$A36-35,0),0.03999)","v":1.4200000000000001E-2},{"$f":"MIN(OFFSET(Male!AI$18,'Male - Rev'!$A36-35,0),0.03999)","v":1.35E-2},{"$f":"MIN(OFFSET(Male!AJ$18,'Male - Rev'!$A36-35,0),0.03999)","v":1.34E-2},{"$f":"MIN(OFFSET(Male!AK$18,'Male - Rev'!$A36-35,0),0.03999)","v":1.4E-2},{"$f":"MIN(OFFSET(Male!AL$18,'Male - Rev'!$A36-35,0),0.03999)","v":1.5100000000000001E-2},{"$f":"MIN(OFFSET(Male!AM$18,'Male - Rev'!$A36-35,0),0.03999)","v":1.6199999999999999E-2},{"$f":"MIN(OFFSET(Male!AN$18,'Male - Rev'!$A36-35,0),0.03999)","v":1.7299999999999999E-2},{"$f":"MIN(OFFSET(Male!AO$18,'Male - Rev'!$A36-35,0),0.03999)","v":1.7999999999999999E-2},{"$f":"MIN(OFFSET(Male!AP$18,'Male - Rev'!$A36-35,0),0.03999)","v":1.8499999999999999E-2},{"$f":"MIN(OFFSET(Male!AQ$18,'Male - Rev'!$A36-35,0),0.03999)","v":1.8700000000000001E-2},{"$f":"MIN(OFFSET(Male!AR$18,'Male - Rev'!$A36-35,0),0.03999)","v":1.89E-2},{"$f":"MIN(OFFSET(Male!AS$18,'Male - Rev'!$A36-35,0),0.03999)","v":1.9400000000000001E-2},{"$f":"MIN(OFFSET(Male!AT$18,'Male - Rev'!$A36-35,0),0.03999)","v":2.0199999999999999E-2},{"$f":"MIN(OFFSET(Male!AU$18,'Male - Rev'!$A36-35,0),0.03999)","v":2.1100000000000001E-2},{"$f":"MIN(OFFSET(Male!AV$18,'Male - Rev'!$A36-35,0),0.03999)","v":2.2100000000000002E-2},{"$f":"MIN(OFFSET(Male!AW$18,'Male - Rev'!$A36-35,0),0.03999)","v":2.29E-2},{"$f":"MIN(OFFSET(Male!AX$18,'Male - Rev'!$A36-35,0),0.03999)","v":2.3300000000000001E-2},{"$f":"MIN(OFFSET(Male!AY$18,'Male - Rev'!$A36-35,0),0.03999)","v":2.35E-2},{"$f":"MIN(OFFSET(Male!AZ$18,'Male - Rev'!$A36-35,0),0.03999)","v":2.3300000000000001E-2},{"$f":"MIN(OFFSET(Male!BA$18,'Male - Rev'!$A36-35,0),0.03999)","v":2.3E-2},{"$f":"MIN(OFFSET(Male!BB$18,'Male - Rev'!$A36-35,0),0.03999)","v":2.2499999999999999E-2},{"$f":"MIN(OFFSET(Male!BC$18,'Male - Rev'!$A36-35,0),0.03999)","v":2.18E-2},{"$f":"MIN(OFFSET(Male!BD$18,'Male - Rev'!$A36-35,0),0.03999)","v":2.06E-2},{"$f":"MIN(OFFSET(Male!BE$18,'Male - Rev'!$A36-35,0),0.03999)","v":1.89E-2},{"$f":"MIN(OFFSET(Male!BF$18,'Male - Rev'!$A36-35,0),0.03999)","v":1.66E-2},{"$f":"MIN(OFFSET(Male!BG$18,'Male - Rev'!$A36-35,0),0.03999)","v":1.3599999999999999E-2},{"$f":"MIN(OFFSET(Male!BH$18,'Male - Rev'!$A36-35,0),0.03999)","v":1.0200000000000001E-2},{"$f":"MIN(OFFSET(Male!BI$18,'Male - Rev'!$A36-35,0),0.03999)","v":6.3E-3},{"$f":"MIN(OFFSET(Male!BJ$18,'Male - Rev'!$A36-35,0),0.03999)","v":2.3E-3},{"$f":"MIN(OFFSET(Male!BK$18,'Male - Rev'!$A36-35,0),0.03999)","v":-1.5E-3},{"$f":"MIN(OFFSET(Male!BL$18,'Male - Rev'!$A36-35,0),0.03999)","v":-4.5999999999999999E-3},{"$f":"MIN(OFFSET(Male!BM$18,'Male - Rev'!$A36-35,0),0.03999)","v":-6.8999999999999999E-3},{"$f":"MIN(OFFSET(Male!BN$18,'Male - Rev'!$A36-35,0),0.03999)","v":-8.5000000000000006E-3},{"$f":"MIN(OFFSET(Male!BO$18,'Male - Rev'!$A36-35,0),0.03999)","v":-8.3000000000000001E-3},{"$f":"MIN(OFFSET(Male!BP$18,'Male - Rev'!$A36-35,0),0.03999)","v":-7.1000000000000004E-3},{"$f":"MIN(OFFSET(Male!BQ$18,'Male - Rev'!$A36-35,0),0.03999)","v":-5.3E-3},{"$f":"MIN(OFFSET(Male!BR$18,'Male - Rev'!$A36-35,0),0.03999)","v":-2.8999999999999998E-3},{"$f":"MIN(OFFSET(Male!BS$18,'Male - Rev'!$A36-35,0),0.03999)","v":-4.0000000000000002E-4},{"$f":"MIN(OFFSET(Male!BT$18,'Male - Rev'!$A36-35,0),0.03999)","v":2.0999999999999999E-3},{"$f":"MIN(OFFSET(Male!BU$18,'Male - Rev'!$A36-35,0),0.03999)","v":4.4000000000000003E-3},{"$f":"MIN(OFFSET(Male!BV$18,'Male - Rev'!$A36-35,0),0.03999)","v":6.3E-3},{"$f":"MIN(OFFSET(Male!BW$18,'Male - Rev'!$A36-35,0),0.03999)","v":7.7000000000000002E-3},{"$f":"MIN(OFFSET(Male!BX$18,'Male - Rev'!$A36-35,0),0.03999)","v":8.5000000000000006E-3},{"$f":"MIN(OFFSET(Male!BY$18,'Male - Rev'!$A36-35,0),0.03999)","v":8.8000000000000005E-3},{"$f":"MIN(OFFSET(Male!BZ$18,'Male - Rev'!$A36-35,0),0.03999)","v":8.9999999999999993E-3},{"$f":"MIN(OFFSET(Male!CA$18,'Male - Rev'!$A36-35,0),0.03999)","v":9.1000000000000004E-3},{"$f":"MIN(OFFSET(Male!CB$18,'Male - Rev'!$A36-35,0),0.03999)","v":9.1999999999999998E-3},{"$f":"MIN(OFFSET(Male!CC$18,'Male - Rev'!$A36-35,0),0.03999)","v":9.1999999999999998E-3},{"$f":"MIN(OFFSET(Male!CD$18,'Male - Rev'!$A36-35,0),0.03999)","v":9.2999999999999992E-3},{"$f":"MIN(OFFSET(Male!CE$18,'Male - Rev'!$A36-35,0),0.03999)","v":9.4999999999999998E-3},{"$f":"MIN(OFFSET(Male!CF$18,'Male - Rev'!$A36-35,0),0.03999)","v":9.7000000000000003E-3},{"$f":"MIN(OFFSET(Male!CG$18,'Male - Rev'!$A36-35,0),0.03999)","v":9.9000000000000008E-3},{"$f":"MIN(OFFSET(Male!CH$18,'Male - Rev'!$A36-35,0),0.03999)","v":0.01}]
[61,61,{"$f":"MIN(OFFSET(Male!B$18,'Male - Rev'!$A37-35,0),0.03999)","v":1.1900000000000001E-2},{"$f":"MIN(OFFSET(Male!C$18,'Male - Rev'!$A37-35,0),0.03999)","v":1.01E-2},{"$f":"MIN(OFFSET(Male!D$18,'Male - Rev'!$A37-35,0),0.03999)","v":8.3000000000000001E-3},{"$f":"MIN(OFFSET(Male!E$18,'Male - Rev'!$A37-35,0),0.03999)","v":6.4000000000000003E-3},{"$f":"MIN(OFFSET(Male!F$18,'Male - Rev'!$A37-35,0),0.03999)","v":4.4000000000000003E-3},{"$f":"MIN(OFFSET(Male!G$18,'Male - Rev'!$A37-35,0),0.03999)","v":2.5000000000000001E-3},{"$f":"MIN(OFFSET(Male!H$18,'Male - Rev'!$A37-35,0),0.03999)","v":8.0000000000000004E-4},{"$f":"MIN(OFFSET(Male!I$18,'Male - Rev'!$A37-35,0),0.03999)","v":-5.0000000000000001E-4},{"$f":"MIN(OFFSET(Male!J$18,'Male - Rev'!$A37-35,0),0.03999)","v":-1.6000000000000001E-3},{"$f":"MIN(OFFSET(Male!K$18,'Male - Rev'!$A37-35,0),0.03999)","v":-2.5000000000000001E-3},{"$f":"MIN(OFFSET(Male!L$18,'Male - Rev'!$A37-35,0),0.03999)","v":-3.2000000000000002E-3},{"$f":"MIN(OFFSET(Male!M$18,'Male - Rev'!$A37-35,0),0.03999)","v":-3.7000000000000002E-3},{"$f":"MIN(OFFSET(Male!N$18,'Male - Rev'!$A37-35,0),0.03999)","v":-3.7000000000000002E-3},{"$f":"MIN(OFFSET(Male!O$18,'Male - Rev'!$A37-35,0),0.03999)","v":-3.2000000000000002E-3},{"$f":"MIN(OFFSET(Male!P$18,'Male - Rev'!$A37-35,0),0.03999)","v":-2.0999999999999999E-3},{"$f":"MIN(OFFSET(Male!Q$18,'Male - Rev'!$A37-35,0),0.03999)","v":-4.0000000000000002E-4},{"$f":"MIN(OFFSET(Male!R$18,'Male - Rev'!$A37-35,0),0.03999)","v":1.9E-3},{"$f":"MIN(OFFSET(Male!S$18,'Male - Rev'!$A37-35,0),0.03999)","v":4.7000000000000002E-3},{"$f":"MIN(OFFSET(Male!T$18,'Male - Rev'!$A37-35,0),0.03999)","v":8.0000000000000002E-3},{"$f":"MIN(OFFSET(Male!U$18,'Male - Rev'!$A37-35,0),0.03999)","v":1.1599999999999999E-2},{"$f":"MIN(OFFSET(Male!V$18,'Male - Rev'!$A37-35,0),0.03999)","v":1.52E-2},{"$f":"MIN(OFFSET(Male!W$18,'Male - Rev'!$A37-35,0),0.03999)","v":1.8599999999999998E-2},{"$f":"MIN(OFFSET(Male!X$18,'Male - Rev'!$A37-35,0),0.03999)","v":2.1700000000000001E-2},{"$f":"MIN(OFFSET(Male!Y$18,'Male - Rev'!$A37-35,0),0.03999)","v":2.41E-2},{"$f":"MIN(OFFSET(Male!Z$18,'Male - Rev'!$A37-35,0),0.03999)","v":2.5499999999999998E-2},{"$f":"MIN(OFFSET(Male!AA$18,'Male - Rev'!$A37-35,0),0.03999)","v":2.5999999999999999E-2},{"$f":"MIN(OFFSET(Male!AB$18,'Male - Rev'!$A37-35,0),0.03999)","v":2.5399999999999999E-2},{"$f":"MIN(OFFSET(Male!AC$18,'Male - Rev'!$A37-35,0),0.03999)","v":2.41E-2},{"$f":"MIN(OFFSET(Male!AD$18,'Male - Rev'!$A37-35,0),0.03999)","v":2.2100000000000002E-2},{"$f":"MIN(OFFSET(Male!AE$18,'Male - Rev'!$A37-35,0),0.03999)","v":1.9900000000000001E-2},{"$f":"MIN(OFFSET(Male!AF$18,'Male - Rev'!$A37-35,0),0.03999)","v":1.7600000000000001E-2},{"$f":"MIN(OFFSET(Male!AG$18,'Male - Rev'!$A37-35,0),0.03999)","v":1.55E-2},{"$f":"MIN(OFFSET(Male!AH$18,'Male - Rev'!$A37-35,0),0.03999)","v":1.41E-2},{"$f":"MIN(OFFSET(Male!AI$18,'Male - Rev'!$A37-35,0),0.03999)","v":1.35E-2},{"$f":"MIN(OFFSET(Male!AJ$18,'Male - Rev'!$A37-35,0),0.03999)","v":1.3599999999999999E-2},{"$f":"MIN(OFFSET(Male!AK$18,'Male - Rev'!$A37-35,0),0.03999)","v":1.43E-2},{"$f":"MIN(OFFSET(Male!AL$18,'Male - Rev'!$A37-35,0),0.03999)","v":1.54E-2},{"$f":"MIN(OFFSET(Male!AM$18,'Male - Rev'!$A37-35,0),0.03999)","v":1.66E-2},{"$f":"MIN(OFFSET(Male!AN$18,'Male - Rev'!$A37-35,0),0.03999)","v":1.78E-2},{"$f":"MIN(OFFSET(Male!AO$18,'Male - Rev'!$A37-35,0),0.03999)","v":1.8700000000000001E-2},{"$f":"MIN(OFFSET(Male!AP$18,'Male - Rev'!$A37-35,0),0.03999)","v":1.9300000000000001E-2},{"$f":"MIN(OFFSET(Male!AQ$18,'Male - Rev'!$A37-35,0),0.03999)","v":1.9599999999999999E-2},{"$f":"MIN(OFFSET(Male!AR$18,'Male - Rev'!$A37-35,0),0.03999)","v":1.9900000000000001E-2},{"$f":"MIN(OFFSET(Male!AS$18,'Male - Rev'!$A37-35,0),0.03999)","v":2.0299999999999999E-2},{"$f":"MIN(OFFSET(Male!AT$18,'Male - Rev'!$A37-35,0),0.03999)","v":2.0899999999999998E-2},{"$f":"MIN(OFFSET(Male!AU$18,'Male - Rev'!$A37-35,0),0.03999)","v":2.1600000000000001E-2},{"$f":"MIN(OFFSET(Male!AV$18,'Male - Rev'!$A37-35,0),0.03999)","v":2.23E-2},{"$f":"MIN(OFFSET(Male!AW$18,'Male - Rev'!$A37-35,0),0.03999)","v":2.2700000000000001E-2},{"$f":"MIN(OFFSET(Male!AX$18,'Male - Rev'!$A37-35,0),0.03999)","v":2.2800000000000001E-2},{"$f":"MIN(OFFSET(Male!AY$18,'Male - Rev'!$A37-35,0),0.03999)","v":2.2599999999999999E-2},{"$f":"MIN(OFFSET(Male!AZ$18,'Male - Rev'!$A37-35,0),0.03999)","v":2.2200000000000001E-2},{"$f":"MIN(OFFSET(Male!BA$18,'Male - Rev'!$A37-35,0),0.03999)","v":2.1600000000000001E-2},{"$f":"MIN(OFFSET(Male!BB$18,'Male - Rev'!$A37-35,0),0.03999)","v":2.0899999999999998E-2},{"$f":"MIN(OFFSET(Male!BC$18,'Male - Rev'!$A37-35,0),0.03999)","v":1.9900000000000001E-2},{"$f":"MIN(OFFSET(Male!BD$18,'Male - Rev'!$A37-35,0),0.03999)","v":1.8499999999999999E-2},{"$f":"MIN(OFFSET(Male!BE$18,'Male - Rev'!$A37-35,0),0.03999)","v":1.66E-2},{"$f":"MIN(OFFSET(Male!BF$18,'Male - Rev'!$A37-35,0),0.03999)","v":1.4200000000000001E-2},{"$f":"MIN(OFFSET(Male!BG$18,'Male - Rev'!$A37-35,0),0.03999)","v":1.1299999999999999E-2},{"$f":"MIN(OFFSET(Male!BH$18,'Male - Rev'!$A37-35,0),0.03999)","v":7.9000000000000008E-3},{"$f":"MIN(OFFSET(Male!BI$18,'Male - Rev'!$A37-35,0),0.03999)","v":4.3E-3},{"$f":"MIN(OFFSET(Male!BJ$18,'Male - Rev'!$A37-35,0),0.03999)","v":5.9999999999999995E-4},{"$f":"MIN(OFFSET(Male!BK$18,'Male - Rev'!$A37-35,0),0.03999)","v":-2.8999999999999998E-3},{"$f":"MIN(OFFSET(Male!BL$18,'Male - Rev'!$A37-35,0),0.03999)","v":-5.5999999999999999E-3},{"$f":"MIN(OFFSET(Male!BM$18,'Male - Rev'!$A37-35,0),0.03999)","v":-7.4999999999999997E-3},{"$f":"MIN(OFFSET(Male!BN$18,'Male - Rev'!$A37-35,0),0.03999)","v":-8.6999999999999994E-3},{"$f":"MIN(OFFSET(Male!BO$18,'Male - Rev'!$A37-35,0),0.03999)","v":-8.0999999999999996E-3},{"$f":"MIN(OFFSET(Male!BP$18,'Male - Rev'!$A37-35,0),0.03999)","v":-6.6E-3},{"$f":"MIN(OFFSET(Male!BQ$18,'Male - Rev'!$A37-35,0),0.03999)","v":-4.5999999999999999E-3},{"$f":"MIN(OFFSET(Male!BR$18,'Male - Rev'!$A37-35,0),0.03999)","v":-2.2000000000000001E-3},{"$f":"MIN(OFFSET(Male!BS$18,'Male - Rev'!$A37-35,0),0.03999)","v":4.0000000000000002E-4},{"$f":"MIN(OFFSET(Male!BT$18,'Male - Rev'!$A37-35,0),0.03999)","v":2.8E-3},{"$f":"MIN(OFFSET(Male!BU$18,'Male - Rev'!$A37-35,0),0.03999)","v":5.0000000000000001E-3},{"$f":"MIN(OFFSET(Male!BV$18,'Male - Rev'!$A37-35,0),0.03999)","v":6.7999999999999996E-3},{"$f":"MIN(OFFSET(Male!BW$18,'Male - Rev'!$A37-35,0),0.03999)","v":8.0000000000000002E-3},{"$f":"MIN(OFFSET(Male!BX$18,'Male - Rev'!$A37-35,0),0.03999)","v":8.6E-3},{"$f":"MIN(OFFSET(Male!BY$18,'Male - Rev'!$A37-35,0),0.03999)","v":8.8000000000000005E-3},{"$f":"MIN(OFFSET(Male!BZ$18,'Male - Rev'!$A37-35,0),0.03999)","v":8.8999999999999999E-3},{"$f":"MIN(OFFSET(Male!CA$18,'Male - Rev'!$A37-35,0),0.03999)","v":8.8999999999999999E-3},{"$f":"MIN(OFFSET(Male!CB$18,'Male - Rev'!$A37-35,0),0.03999)","v":8.8999999999999999E-3},{"$f":"MIN(OFFSET(Male!CC$18,'Male - Rev'!$A37-35,0),0.03999)","v":8.9999999999999993E-3},{"$f":"MIN(OFFSET(Male!CD$18,'Male - Rev'!$A37-35,0),0.03999)","v":9.1000000000000004E-3},{"$f":"MIN(OFFSET(Male!CE$18,'Male - Rev'!$A37-35,0),0.03999)","v":9.2999999999999992E-3},{"$f":"MIN(OFFSET(Male!CF$18,'Male - Rev'!$A37-35,0),0.03999)","v":9.5999999999999992E-3},{"$f":"MIN(OFFSET(Male!CG$18,'Male - Rev'!$A37-35,0),0.03999)","v":9.9000000000000008E-3},{"$f":"MIN(OFFSET(Male!CH$18,'Male - Rev'!$A37-35,0),0.03999)","v":0.01}]
[60,60,{"$f":"MIN(OFFSET(Male!B$18,'Male - Rev'!$A38-35,0),0.03999)","v":1.2999999999999999E-2},{"$f":"MIN(OFFSET(Male!C$18,'Male - Rev'!$A38-35,0),0.03999)","v":1.12E-2},{"$f":"MIN(OFFSET(Male!D$18,'Male - Rev'!$A38-35,0),0.03999)","v":9.4000000000000004E-3},{"$f":"MIN(OFFSET(Male!E$18,'Male - Rev'!$A38-35,0),0.03999)","v":7.4000000000000003E-3},{"$f":"MIN(OFFSET(Male!F$18,'Male - Rev'!$A38-35,0),0.03999)","v":5.4000000000000003E-3},{"$f":"MIN(OFFSET(Male!G$18,'Male - Rev'!$A38-35,0),0.03999)","v":3.5000000000000001E-3},{"$f":"MIN(OFFSET(Male!H$18,'Male - Rev'!$A38-35,0),0.03999)","v":1.8E-3},{"$f":"MIN(OFFSET(Male!I$18,'Male - Rev'!$A38-35,0),0.03999)","v":4.0000000000000002E-4},{"$f":"MIN(OFFSET(Male!J$18,'Male - Rev'!$A38-35,0),0.03999)","v":-6.9999999999999999E-4},{"$f":"MIN(OFFSET(Male!K$18,'Male - Rev'!$A38-35,0),0.03999)","v":-1.6999999999999999E-3},{"$f":"MIN(OFFSET(Male!L$18,'Male - Rev'!$A38-35,0),0.03999)","v":-2.5999999999999999E-3},{"$f":"MIN(OFFSET(Male!M$18,'Male - Rev'!$A38-35,0),0.03999)","v":-3.2000000000000002E-3},{"$f":"MIN(OFFSET(Male!N$18,'Male - Rev'!$A38-35,0),0.03999)","v":-3.5000000000000001E-3},{"$f":"MIN(OFFSET(Male!O$18,'Male - Rev'!$A38-35,0),0.03999)","v":-3.3E-3},{"$f":"MIN(OFFSET(Male!P$18,'Male - Rev'!$A38-35,0),0.03999)","v":-2.3999999999999998E-3},{"$f":"MIN(OFFSET(Male!Q$18,'Male - Rev'!$A38-35,0),0.03999)","v":-8.0000000000000004E-4},{"$f":"MIN(OFFSET(Male!R$18,'Male - Rev'!$A38-35,0),0.03999)","v":1.4E-3},{"$f":"MIN(OFFSET(Male!S$18,'Male - Rev'!$A38-35,0),0.03999)","v":4.3E-3},{"$f":"MIN(OFFSET(Male!T$18,'Male - Rev'!$A38-35,0),0.03999)","v":7.7999999999999996E-3},{"$f":"MIN(OFFSET(Male!U$18,'Male - Rev'!$A38-35,0),0.03999)","v":1.1599999999999999E-2},{"$f":"MIN(OFFSET(Male!V$18,'Male - Rev'!$A38-35,0),0.03999)","v":1.55E-2},{"$f":"MIN(OFFSET(Male!W$18,'Male - Rev'!$A38-35,0),0.03999)","v":1.9199999999999998E-2},{"$f":"MIN(OFFSET(Male!X$18,'Male - Rev'!$A38-35,0),0.03999)","v":2.2499999999999999E-2},{"$f":"MIN(OFFSET(Male!Y$18,'Male - Rev'!$A38-35,0),0.03999)","v":2.5100000000000001E-2},{"$f":"MIN(OFFSET(Male!Z$18,'Male - Rev'!$A38-35,0),0.03999)","v":2.6599999999999999E-2},{"$f":"MIN(OFFSET(Male!AA$18,'Male - Rev'!$A38-35,0),0.03999)","v":2.69E-2},{"$f":"MIN(OFFSET(Male!AB$18,'Male - Rev'!$A38-35,0),0.03999)","v":2.6100000000000002E-2},{"$f":"MIN(OFFSET(Male!AC$18,'Male - Rev'!$A38-35,0),0.03999)","v":2.4400000000000002E-2},{"$f":"MIN(OFFSET(Male!AD$18,'Male - Rev'!$A38-35,0),0.03999)","v":2.2200000000000001E-2},{"$f":"MIN(OFFSET(Male!AE$18,'Male - Rev'!$A38-35,0),0.03999)","v":1.9699999999999999E-2},{"$f":"MIN(OFFSET(Male!AF$18,'Male - Rev'!$A38-35,0),0.03999)","v":1.7399999999999999E-2},{"$f":"MIN(OFFSET(Male!AG$18,'Male - Rev'!$A38-35,0),0.03999)","v":1.54E-2},{"$f":"MIN(OFFSET(Male!AH$18,'Male - Rev'!$A38-35,0),0.03999)","v":1.41E-2},{"$f":"MIN(OFFSET(Male!AI$18,'Male - Rev'!$A38-35,0),0.03999)","v":1.37E-2},{"$f":"MIN(OFFSET(Male!AJ$18,'Male - Rev'!$A38-35,0),0.03999)","v":1.3899999999999999E-2},{"$f":"MIN(OFFSET(Male!AK$18,'Male - Rev'!$A38-35,0),0.03999)","v":1.4800000000000001E-2},{"$f":"MIN(OFFSET(Male!AL$18,'Male - Rev'!$A38-35,0),0.03999)","v":1.5900000000000001E-2},{"$f":"MIN(OFFSET(Male!AM$18,'Male - Rev'!$A38-35,0),0.03999)","v":1.7100000000000001E-2},{"$f":"MIN(OFFSET(Male!AN$18,'Male - Rev'!$A38-35,0),0.03999)","v":1.83E-2},{"$f":"MIN(OFFSET(Male!AO$18,'Male - Rev'!$A38-35,0),0.03999)","v":1.9300000000000001E-2},{"$f":"MIN(OFFSET(Male!AP$18,'Male - Rev'!$A38-35,0),0.03999)","v":0.02},{"$f":"MIN(OFFSET(Male!AQ$18,'Male - Rev'!$A38-35,0),0.03999)","v":2.0400000000000001E-2},{"$f":"MIN(OFFSET(Male!AR$18,'Male - Rev'!$A38-35,0),0.03999)","v":2.0799999999999999E-2},{"$f":"MIN(OFFSET(Male!AS$18,'Male - Rev'!$A38-35,0),0.03999)","v":2.1100000000000001E-2},{"$f":"MIN(OFFSET(Male!AT$18,'Male - Rev'!$A38-35,0),0.03999)","v":2.1499999999999998E-2},{"$f":"MIN(OFFSET(Male!AU$18,'Male - Rev'!$A38-35,0),0.03999)","v":2.1899999999999999E-2},{"$f":"MIN(OFFSET(Male!AV$18,'Male - Rev'!$A38-35,0),0.03999)","v":2.2200000000000001E-2},{"$f":"MIN(OFFSET(Male!AW$18,'Male - Rev'!$A38-35,0),0.03999)","v":2.2200000000000001E-2},{"$f":"MIN(OFFSET(Male!AX$18,'Male - Rev'!$A38-35,0),0.03999)","v":2.1899999999999999E-2},{"$f":"MIN(OFFSET(Male!AY$18,'Male - Rev'!$A38-35,0),0.03999)","v":2.1399999999999999E-2},{"$f":"MIN(OFFSET(Male!AZ$18,'Male - Rev'!$A38-35,0),0.03999)","v":2.07E-2},{"$f":"MIN(OFFSET(Male!BA$18,'Male - Rev'!$A38-35,0),0.03999)","v":1.9900000000000001E-2},{"$f":"MIN(OFFSET(Male!BB$18,'Male - Rev'!$A38-35,0),0.03999)","v":1.9E-2},{"$f":"MIN(OFFSET(Male!BC$18,'Male - Rev'!$A38-35,0),0.03999)","v":1.77E-2},{"$f":"MIN(OFFSET(Male!BD$18,'Male - Rev'!$A38-35,0),0.03999)","v":1.61E-2},{"$f":"MIN(OFFSET(Male!BE$18,'Male - Rev'!$A38-35,0),0.03999)","v":1.41E-2},{"$f":"MIN(OFFSET(Male!BF$18,'Male - Rev'!$A38-35,0),0.03999)","v":1.1599999999999999E-2},{"$f":"MIN(OFFSET(Male!BG$18,'Male - Rev'!$A38-35,0),0.03999)","v":8.8000000000000005E-3},{"$f":"MIN(OFFSET(Male!BH$18,'Male - Rev'!$A38-35,0),0.03999)","v":5.7999999999999996E-3},{"$f":"MIN(OFFSET(Male!BI$18,'Male - Rev'!$A38-35,0),0.03999)","v":2.5999999999999999E-3},{"$f":"MIN(OFFSET(Male!BJ$18,'Male - Rev'!$A38-35,0),0.03999)","v":-6.9999999999999999E-4},{"$f":"MIN(OFFSET(Male!BK$18,'Male - Rev'!$A38-35,0),0.03999)","v":-3.5999999999999999E-3},{"$f":"MIN(OFFSET(Male!BL$18,'Male - Rev'!$A38-35,0),0.03999)","v":-5.7999999999999996E-3},{"$f":"MIN(OFFSET(Male!BM$18,'Male - Rev'!$A38-35,0),0.03999)","v":-7.3000000000000001E-3},{"$f":"MIN(OFFSET(Male!BN$18,'Male - Rev'!$A38-35,0),0.03999)","v":-8.0999999999999996E-3},{"$f":"MIN(OFFSET(Male!BO$18,'Male - Rev'!$A38-35,0),0.03999)","v":-7.3000000000000001E-3},{"$f":"MIN(OFFSET(Male!BP$18,'Male - Rev'!$A38-35,0),0.03999)","v":-5.5999999999999999E-3},{"$f":"MIN(OFFSET(Male!BQ$18,'Male - Rev'!$A38-35,0),0.03999)","v":-3.5000000000000001E-3},{"$f":"MIN(OFFSET(Male!BR$18,'Male - Rev'!$A38-35,0),0.03999)","v":-1.1000000000000001E-3},{"$f":"MIN(OFFSET(Male!BS$18,'Male - Rev'!$A38-35,0),0.03999)","v":1.2999999999999999E-3},{"$f":"MIN(OFFSET(Male!BT$18,'Male - Rev'!$A38-35,0),0.03999)","v":3.5000000000000001E-3},{"$f":"MIN(OFFSET(Male!BU$18,'Male - Rev'!$A38-35,0),0.03999)","v":5.4999999999999997E-3},{"$f":"MIN(OFFSET(Male!BV$18,'Male - Rev'!$A38-35,0),0.03999)","v":7.1000000000000004E-3},{"$f":"MIN(OFFSET(Male!BW$18,'Male - Rev'!$A38-35,0),0.03999)","v":8.2000000000000007E-3},{"$f":"MIN(OFFSET(Male!BX$18,'Male - Rev'!$A38-35,0),0.03999)","v":8.6E-3},{"$f":"MIN(OFFSET(Male!BY$18,'Male - Rev'!$A38-35,0),0.03999)","v":8.6999999999999994E-3},{"$f":"MIN(OFFSET(Male!BZ$18,'Male - Rev'!$A38-35,0),0.03999)","v":8.6999999999999994E-3},{"$f":"MIN(OFFSET(Male!CA$18,'Male - Rev'!$A38-35,0),0.03999)","v":8.6E-3},{"$f":"MIN(OFFSET(Male!CB$18,'Male - Rev'!$A38-35,0),0.03999)","v":8.6E-3},{"$f":"MIN(OFFSET(Male!CC$18,'Male - Rev'!$A38-35,0),0.03999)","v":8.6E-3},{"$f":"MIN(OFFSET(Male!CD$18,'Male - Rev'!$A38-35,0),0.03999)","v":8.8000000000000005E-3},{"$f":"MIN(OFFSET(Male!CE$18,'Male - Rev'!$A38-35,0),0.03999)","v":9.1000000000000004E-3},{"$f":"MIN(OFFSET(Male!CF$18,'Male - Rev'!$A38-35,0),0.03999)","v":9.4999999999999998E-3},{"$f":"MIN(OFFSET(Male!CG$18,'Male - Rev'!$A38-35,0),0.03999)","v":9.9000000000000008E-3},{"$f":"MIN(OFFSET(Male!CH$18,'Male - Rev'!$A38-35,0),0.03999)","v":0.01}]
[59,59,{"$f":"MIN(OFFSET(Male!B$18,'Male - Rev'!$A39-35,0),0.03999)","v":1.38E-2},{"$f":"MIN(OFFSET(Male!C$18,'Male - Rev'!$A39-35,0),0.03999)","v":1.21E-2},{"$f":"MIN(OFFSET(Male!D$18,'Male - Rev'!$A39-35,0),0.03999)","v":1.04E-2},{"$f":"MIN(OFFSET(Male!E$18,'Male - Rev'!$A39-35,0),0.03999)","v":8.5000000000000006E-3},{"$f":"MIN(OFFSET(Male!F$18,'Male - Rev'!$A39-35,0),0.03999)","v":6.4999999999999997E-3},{"$f":"MIN(OFFSET(Male!G$18,'Male - Rev'!$A39-35,0),0.03999)","v":4.4999999999999997E-3},{"$f":"MIN(OFFSET(Male!H$18,'Male - Rev'!$A39-35,0),0.03999)","v":2.8E-3},{"$f":"MIN(OFFSET(Male!I$18,'Male - Rev'!$A39-35,0),0.03999)","v":1.4E-3},{"$f":"MIN(OFFSET(Male!J$18,'Male - Rev'!$A39-35,0),0.03999)","v":2.0000000000000001E-4},{"$f":"MIN(OFFSET(Male!K$18,'Male - Rev'!$A39-35,0),0.03999)","v":-8.9999999999999998E-4},{"$f":"MIN(OFFSET(Male!L$18,'Male - Rev'!$A39-35,0),0.03999)","v":-1.9E-3},{"$f":"MIN(OFFSET(Male!M$18,'Male - Rev'!$A39-35,0),0.03999)","v":-2.7000000000000001E-3},{"$f":"MIN(OFFSET(Male!N$18,'Male - Rev'!$A39-35,0),0.03999)","v":-3.2000000000000002E-3},{"$f":"MIN(OFFSET(Male!O$18,'Male - Rev'!$A39-35,0),0.03999)","v":-3.0999999999999999E-3},{"$f":"MIN(OFFSET(Male!P$18,'Male - Rev'!$A39-35,0),0.03999)","v":-2.5000000000000001E-3},{"$f":"MIN(OFFSET(Male!Q$18,'Male - Rev'!$A39-35,0),0.03999)","v":-1.1000000000000001E-3},{"$f":"MIN(OFFSET(Male!R$18,'Male - Rev'!$A39-35,0),0.03999)","v":1E-3},{"$f":"MIN(OFFSET(Male!S$18,'Male - Rev'!$A39-35,0),0.03999)","v":3.8999999999999998E-3},{"$f":"MIN(OFFSET(Male!T$18,'Male - Rev'!$A39-35,0),0.03999)","v":7.4999999999999997E-3},{"$f":"MIN(OFFSET(Male!U$18,'Male - Rev'!$A39-35,0),0.03999)","v":1.15E-2},{"$f":"MIN(OFFSET(Male!V$18,'Male - Rev'!$A39-35,0),0.03999)","v":1.5699999999999999E-2},{"$f":"MIN(OFFSET(Male!W$18,'Male - Rev'!$A39-35,0),0.03999)","v":1.9699999999999999E-2},{"$f":"MIN(OFFSET(Male!X$18,'Male - Rev'!$A39-35,0),0.03999)","v":2.3199999999999998E-2},{"$f":"MIN(OFFSET(Male!Y$18,'Male - Rev'!$A39-35,0),0.03999)","v":2.5899999999999999E-2},{"$f":"MIN(OFFSET(Male!Z$18,'Male - Rev'!$A39-35,0),0.03999)","v":2.7300000000000001E-2},{"$f":"MIN(OFFSET(Male!AA$18,'Male - Rev'!$A39-35,0),0.03999)","v":2.75E-2},{"$f":"MIN(OFFSET(Male!AB$18,'Male - Rev'!$A39-35,0),0.03999)","v":2.6499999999999999E-2},{"$f":"MIN(OFFSET(Male!AC$18,'Male - Rev'!$A39-35,0),0.03999)","v":2.46E-2},{"$f":"MIN(OFFSET(Male!AD$18,'Male - Rev'!$A39-35,0),0.03999)","v":2.2200000000000001E-2},{"$f":"MIN(OFFSET(Male!AE$18,'Male - Rev'!$A39-35,0),0.03999)","v":1.95E-2},{"$f":"MIN(OFFSET(Male!AF$18,'Male - Rev'!$A39-35,0),0.03999)","v":1.72E-2},{"$f":"MIN(OFFSET(Male!AG$18,'Male - Rev'!$A39-35,0),0.03999)","v":1.54E-2},{"$f":"MIN(OFFSET(Male!AH$18,'Male - Rev'!$A39-35,0),0.03999)","v":1.44E-2},{"$f":"MIN(OFFSET(Male!AI$18,'Male - Rev'!$A39-35,0),0.03999)","v":1.41E-2},{"$f":"MIN(OFFSET(Male!AJ$18,'Male - Rev'!$A39-35,0),0.03999)","v":1.4500000000000001E-2},{"$f":"MIN(OFFSET(Male!AK$18,'Male - Rev'!$A39-35,0),0.03999)","v":1.54E-2},{"$f":"MIN(OFFSET(Male!AL$18,'Male - Rev'!$A39-35,0),0.03999)","v":1.6500000000000001E-2},{"$f":"MIN(OFFSET(Male!AM$18,'Male - Rev'!$A39-35,0),0.03999)","v":1.77E-2},{"$f":"MIN(OFFSET(Male!AN$18,'Male - Rev'!$A39-35,0),0.03999)","v":1.89E-2},{"$f":"MIN(OFFSET(Male!AO$18,'Male - Rev'!$A39-35,0),0.03999)","v":1.9800000000000002E-2},{"$f":"MIN(OFFSET(Male!AP$18,'Male - Rev'!$A39-35,0),0.03999)","v":2.06E-2},{"$f":"MIN(OFFSET(Male!AQ$18,'Male - Rev'!$A39-35,0),0.03999)","v":2.1100000000000001E-2},{"$f":"MIN(OFFSET(Male!AR$18,'Male - Rev'!$A39-35,0),0.03999)","v":2.1499999999999998E-2},{"$f":"MIN(OFFSET(Male!AS$18,'Male - Rev'!$A39-35,0),0.03999)","v":2.18E-2},{"$f":"MIN(OFFSET(Male!AT$18,'Male - Rev'!$A39-35,0),0.03999)","v":2.2100000000000002E-2},{"$f":"MIN(OFFSET(Male!AU$18,'Male - Rev'!$A39-35,0),0.03999)","v":2.2100000000000002E-2},{"$f":"MIN(OFFSET(Male!AV$18,'Male - Rev'!$A39-35,0),0.03999)","v":2.1999999999999999E-2},{"$f":"MIN(OFFSET(Male!AW$18,'Male - Rev'!$A39-35,0),0.03999)","v":2.1499999999999998E-2},{"$f":"MIN(OFFSET(Male!AX$18,'Male - Rev'!$A39-35,0),0.03999)","v":2.0799999999999999E-2},{"$f":"MIN(OFFSET(Male!AY$18,'Male - Rev'!$A39-35,0),0.03999)","v":1.9900000000000001E-2},{"$f":"MIN(OFFSET(Male!AZ$18,'Male - Rev'!$A39-35,0),0.03999)","v":1.9E-2},{"$f":"MIN(OFFSET(Male!BA$18,'Male - Rev'!$A39-35,0),0.03999)","v":1.7899999999999999E-2},{"$f":"MIN(OFFSET(Male!BB$18,'Male - Rev'!$A39-35,0),0.03999)","v":1.67E-2},{"$f":"MIN(OFFSET(Male!BC$18,'Male - Rev'!$A39-35,0),0.03999)","v":1.5299999999999999E-2},{"$f":"MIN(OFFSET(Male!BD$18,'Male - Rev'!$A39-35,0),0.03999)","v":1.35E-2},{"$f":"MIN(OFFSET(Male!BE$18,'Male - Rev'!$A39-35,0),0.03999)","v":1.15E-2},{"$f":"MIN(OFFSET(Male!BF$18,'Male - Rev'!$A39-35,0),0.03999)","v":9.1000000000000004E-3},{"$f":"MIN(OFFSET(Male!BG$18,'Male - Rev'!$A39-35,0),0.03999)","v":6.6E-3},{"$f":"MIN(OFFSET(Male!BH$18,'Male - Rev'!$A39-35,0),0.03999)","v":4.0000000000000001E-3},{"$f":"MIN(OFFSET(Male!BI$18,'Male - Rev'!$A39-35,0),0.03999)","v":1.2999999999999999E-3},{"$f":"MIN(OFFSET(Male!BJ$18,'Male - Rev'!$A39-35,0),0.03999)","v":-1.2999999999999999E-3},{"$f":"MIN(OFFSET(Male!BK$18,'Male - Rev'!$A39-35,0),0.03999)","v":-3.5999999999999999E-3},{"$f":"MIN(OFFSET(Male!BL$18,'Male - Rev'!$A39-35,0),0.03999)","v":-5.4000000000000003E-3},{"$f":"MIN(OFFSET(Male!BM$18,'Male - Rev'!$A39-35,0),0.03999)","v":-6.4999999999999997E-3},{"$f":"MIN(OFFSET(Male!BN$18,'Male - Rev'!$A39-35,0),0.03999)","v":-7.0000000000000001E-3},{"$f":"MIN(OFFSET(Male!BO$18,'Male - Rev'!$A39-35,0),0.03999)","v":-5.8999999999999999E-3},{"$f":"MIN(OFFSET(Male!BP$18,'Male - Rev'!$A39-35,0),0.03999)","v":-4.3E-3},{"$f":"MIN(OFFSET(Male!BQ$18,'Male - Rev'!$A39-35,0),0.03999)","v":-2.2000000000000001E-3},{"$f":"MIN(OFFSET(Male!BR$18,'Male - Rev'!$A39-35,0),0.03999)","v":0},{"$f":"MIN(OFFSET(Male!BS$18,'Male - Rev'!$A39-35,0),0.03999)","v":2.2000000000000001E-3},{"$f":"MIN(OFFSET(Male!BT$18,'Male - Rev'!$A39-35,0),0.03999)","v":4.3E-3},{"$f":"MIN(OFFSET(Male!BU$18,'Male - Rev'!$A39-35,0),0.03999)","v":6.0000000000000001E-3},{"$f":"MIN(OFFSET(Male!BV$18,'Male - Rev'!$A39-35,0),0.03999)","v":7.4000000000000003E-3},{"$f":"MIN(OFFSET(Male!BW$18,'Male - Rev'!$A39-35,0),0.03999)","v":8.2000000000000007E-3},{"$f":"MIN(OFFSET(Male!BX$18,'Male - Rev'!$A39-35,0),0.03999)","v":8.5000000000000006E-3},{"$f":"MIN(OFFSET(Male!BY$18,'Male - Rev'!$A39-35,0),0.03999)","v":8.3999999999999995E-3},{"$f":"MIN(OFFSET(Male!BZ$18,'Male - Rev'!$A39-35,0),0.03999)","v":8.2000000000000007E-3},{"$f":"MIN(OFFSET(Male!CA$18,'Male - Rev'!$A39-35,0),0.03999)","v":8.0999999999999996E-3},{"$f":"MIN(OFFSET(Male!CB$18,'Male - Rev'!$A39-35,0),0.03999)","v":8.0999999999999996E-3},{"$f":"MIN(OFFSET(Male!CC$18,'Male - Rev'!$A39-35,0),0.03999)","v":8.2000000000000007E-3},{"$f":"MIN(OFFSET(Male!CD$18,'Male - Rev'!$A39-35,0),0.03999)","v":8.5000000000000006E-3},{"$f":"MIN(OFFSET(Male!CE$18,'Male - Rev'!$A39-35,0),0.03999)","v":8.9999999999999993E-3},{"$f":"MIN(OFFSET(Male!CF$18,'Male - Rev'!$A39-35,0),0.03999)","v":9.4000000000000004E-3},{"$f":"MIN(OFFSET(Male!CG$18,'Male - Rev'!$A39-35,0),0.03999)","v":9.7999999999999997E-3},{"$f":"MIN(OFFSET(Male!CH$18,'Male - Rev'!$A39-35,0),0.03999)","v":0.01}]
[58,58,{"$f":"MIN(OFFSET(Male!B$18,'Male - Rev'!$A40-35,0),0.03999)","v":1.46E-2},{"$f":"MIN(OFFSET(Male!C$18,'Male - Rev'!$A40-35,0),0.03999)","v":1.2999999999999999E-2},{"$f":"MIN(OFFSET(Male!D$18,'Male - Rev'!$A40-35,0),0.03999)","v":1.1299999999999999E-2},{"$f":"MIN(OFFSET(Male!E$18,'Male - Rev'!$A40-35,0),0.03999)","v":9.4000000000000004E-3},{"$f":"MIN(OFFSET(Male!F$18,'Male - Rev'!$A40-35,0),0.03999)","v":7.4000000000000003E-3},{"$f":"MIN(OFFSET(Male!G$18,'Male - Rev'!$A40-35,0),0.03999)","v":5.4000000000000003E-3},{"$f":"MIN(OFFSET(Male!H$18,'Male - Rev'!$A40-35,0),0.03999)","v":3.7000000000000002E-3},{"$f":"MIN(OFFSET(Male!I$18,'Male - Rev'!$A40-35,0),0.03999)","v":2.2000000000000001E-3},{"$f":"MIN(OFFSET(Male!J$18,'Male - Rev'!$A40-35,0),0.03999)","v":1E-3},{"$f":"MIN(OFFSET(Male!K$18,'Male - Rev'!$A40-35,0),0.03999)","v":-1E-4},{"$f":"MIN(OFFSET(Male!L$18,'Male - Rev'!$A40-35,0),0.03999)","v":-1.1999999999999999E-3},{"$f":"MIN(OFFSET(Male!M$18,'Male - Rev'!$A40-35,0),0.03999)","v":-2.0999999999999999E-3},{"$f":"MIN(OFFSET(Male!N$18,'Male - Rev'!$A40-35,0),0.03999)","v":-2.8E-3},{"$f":"MIN(OFFSET(Male!O$18,'Male - Rev'!$A40-35,0),0.03999)","v":-2.8999999999999998E-3},{"$f":"MIN(OFFSET(Male!P$18,'Male - Rev'!$A40-35,0),0.03999)","v":-2.3999999999999998E-3},{"$f":"MIN(OFFSET(Male!Q$18,'Male - Rev'!$A40-35,0),0.03999)","v":-1.1999999999999999E-3},{"$f":"MIN(OFFSET(Male!R$18,'Male - Rev'!$A40-35,0),0.03999)","v":8.0000000000000004E-4},{"$f":"MIN(OFFSET(Male!S$18,'Male - Rev'!$A40-35,0),0.03999)","v":3.7000000000000002E-3},{"$f":"MIN(OFFSET(Male!T$18,'Male - Rev'!$A40-35,0),0.03999)","v":7.4000000000000003E-3},{"$f":"MIN(OFFSET(Male!U$18,'Male - Rev'!$A40-35,0),0.03999)","v":1.15E-2},{"$f":"MIN(OFFSET(Male!V$18,'Male - Rev'!$A40-35,0),0.03999)","v":1.5900000000000001E-2},{"$f":"MIN(OFFSET(Male!W$18,'Male - Rev'!$A40-35,0),0.03999)","v":0.02},{"$f":"MIN(OFFSET(Male!X$18,'Male - Rev'!$A40-35,0),0.03999)","v":2.3699999999999999E-2},{"$f":"MIN(OFFSET(Male!Y$18,'Male - Rev'!$A40-35,0),0.03999)","v":2.64E-2},{"$f":"MIN(OFFSET(Male!Z$18,'Male - Rev'!$A40-35,0),0.03999)","v":2.7799999999999998E-2},{"$f":"MIN(OFFSET(Male!AA$18,'Male - Rev'!$A40-35,0),0.03999)","v":2.7900000000000001E-2},{"$f":"MIN(OFFSET(Male!AB$18,'Male - Rev'!$A40-35,0),0.03999)","v":2.6800000000000001E-2},{"$f":"MIN(OFFSET(Male!AC$18,'Male - Rev'!$A40-35,0),0.03999)","v":2.47E-2},{"$f":"MIN(OFFSET(Male!AD$18,'Male - Rev'!$A40-35,0),0.03999)","v":2.2100000000000002E-2},{"$f":"MIN(OFFSET(Male!AE$18,'Male - Rev'!$A40-35,0),0.03999)","v":1.9400000000000001E-2},{"$f":"MIN(OFFSET(Male!AF$18,'Male - Rev'!$A40-35,0),0.03999)","v":1.72E-2},{"$f":"MIN(OFFSET(Male!AG$18,'Male - Rev'!$A40-35,0),0.03999)","v":1.5599999999999999E-2},{"$f":"MIN(OFFSET(Male!AH$18,'Male - Rev'!$A40-35,0),0.03999)","v":1.4800000000000001E-2},{"$f":"MIN(OFFSET(Male!AI$18,'Male - Rev'!$A40-35,0),0.03999)","v":1.47E-2},{"$f":"MIN(OFFSET(Male!AJ$18,'Male - Rev'!$A40-35,0),0.03999)","v":1.52E-2},{"$f":"MIN(OFFSET(Male!AK$18,'Male - Rev'!$A40-35,0),0.03999)","v":1.61E-2},{"$f":"MIN(OFFSET(Male!AL$18,'Male - Rev'!$A40-35,0),0.03999)","v":1.72E-2},{"$f":"MIN(OFFSET(Male!AM$18,'Male - Rev'!$A40-35,0),0.03999)","v":1.83E-2},{"$f":"MIN(OFFSET(Male!AN$18,'Male - Rev'!$A40-35,0),0.03999)","v":1.9300000000000001E-2},{"$f":"MIN(OFFSET(Male!AO$18,'Male - Rev'!$A40-35,0),0.03999)","v":2.0299999999999999E-2},{"$f":"MIN(OFFSET(Male!AP$18,'Male - Rev'!$A40-35,0),0.03999)","v":2.1000000000000001E-2},{"$f":"MIN(OFFSET(Male!AQ$18,'Male - Rev'!$A40-35,0),0.03999)","v":2.1600000000000001E-2},{"$f":"MIN(OFFSET(Male!AR$18,'Male - Rev'!$A40-35,0),0.03999)","v":2.1999999999999999E-2},{"$f":"MIN(OFFSET(Male!AS$18,'Male - Rev'!$A40-35,0),0.03999)","v":2.23E-2},{"$f":"MIN(OFFSET(Male!AT$18,'Male - Rev'!$A40-35,0),0.03999)","v":2.24E-2},{"$f":"MIN(OFFSET(Male!AU$18,'Male - Rev'!$A40-35,0),0.03999)","v":2.2200000000000001E-2},{"$f":"MIN(OFFSET(Male!AV$18,'Male - Rev'!$A40-35,0),0.03999)","v":2.1600000000000001E-2},{"$f":"MIN(OFFSET(Male!AW$18,'Male - Rev'!$A40-35,0),0.03999)","v":2.07E-2},{"$f":"MIN(OFFSET(Male!AX$18,'Male - Rev'!$A40-35,0),0.03999)","v":1.95E-2},{"$f":"MIN(OFFSET(Male!AY$18,'Male - Rev'!$A40-35,0),0.03999)","v":1.8200000000000001E-2},{"$f":"MIN(OFFSET(Male!AZ$18,'Male - Rev'!$A40-35,0),0.03999)","v":1.6899999999999998E-2},{"$f":"MIN(OFFSET(Male!BA$18,'Male - Rev'!$A40-35,0),0.03999)","v":1.55E-2},{"$f":"MIN(OFFSET(Male!BB$18,'Male - Rev'!$A40-35,0),0.03999)","v":1.41E-2},{"$f":"MIN(OFFSET(Male!BC$18,'Male - Rev'!$A40-35,0),0.03999)","v":1.26E-2},{"$f":"MIN(OFFSET(Male!BD$18,'Male - Rev'!$A40-35,0),0.03999)","v":1.0800000000000001E-2},{"$f":"MIN(OFFSET(Male!BE$18,'Male - Rev'!$A40-35,0),0.03999)","v":8.8999999999999999E-3},{"$f":"MIN(OFFSET(Male!BF$18,'Male - Rev'!$A40-35,0),0.03999)","v":6.8999999999999999E-3},{"$f":"MIN(OFFSET(Male!BG$18,'Male - Rev'!$A40-35,0),0.03999)","v":4.7999999999999996E-3},{"$f":"MIN(OFFSET(Male!BH$18,'Male - Rev'!$A40-35,0),0.03999)","v":2.7000000000000001E-3},{"$f":"MIN(OFFSET(Male!BI$18,'Male - Rev'!$A40-35,0),0.03999)","v":6.9999999999999999E-4},{"$f":"MIN(OFFSET(Male!BJ$18,'Male - Rev'!$A40-35,0),0.03999)","v":-1.2999999999999999E-3},{"$f":"MIN(OFFSET(Male!BK$18,'Male - Rev'!$A40-35,0),0.03999)","v":-3.0000000000000001E-3},{"$f":"MIN(OFFSET(Male!BL$18,'Male - Rev'!$A40-35,0),0.03999)","v":-4.3E-3},{"$f":"MIN(OFFSET(Male!BM$18,'Male - Rev'!$A40-35,0),0.03999)","v":-5.1000000000000004E-3},{"$f":"MIN(OFFSET(Male!BN$18,'Male - Rev'!$A40-35,0),0.03999)","v":-5.4999999999999997E-3},{"$f":"MIN(OFFSET(Male!BO$18,'Male - Rev'!$A40-35,0),0.03999)","v":-4.3E-3},{"$f":"MIN(OFFSET(Male!BP$18,'Male - Rev'!$A40-35,0),0.03999)","v":-2.7000000000000001E-3},{"$f":"MIN(OFFSET(Male!BQ$18,'Male - Rev'!$A40-35,0),0.03999)","v":-6.9999999999999999E-4},{"$f":"MIN(OFFSET(Male!BR$18,'Male - Rev'!$A40-35,0),0.03999)","v":1.2999999999999999E-3},{"$f":"MIN(OFFSET(Male!BS$18,'Male - Rev'!$A40-35,0),0.03999)","v":3.2000000000000002E-3},{"$f":"MIN(OFFSET(Male!BT$18,'Male - Rev'!$A40-35,0),0.03999)","v":4.8999999999999998E-3},{"$f":"MIN(OFFSET(Male!BU$18,'Male - Rev'!$A40-35,0),0.03999)","v":6.4000000000000003E-3},{"$f":"MIN(OFFSET(Male!BV$18,'Male - Rev'!$A40-35,0),0.03999)","v":7.4000000000000003E-3},{"$f":"MIN(OFFSET(Male!BW$18,'Male - Rev'!$A40-35,0),0.03999)","v":8.0000000000000002E-3},{"$f":"MIN(OFFSET(Male!BX$18,'Male - Rev'!$A40-35,0),0.03999)","v":8.0999999999999996E-3},{"$f":"MIN(OFFSET(Male!BY$18,'Male - Rev'!$A40-35,0),0.03999)","v":7.9000000000000008E-3},{"$f":"MIN(OFFSET(Male!BZ$18,'Male - Rev'!$A40-35,0),0.03999)","v":7.7000000000000002E-3},{"$f":"MIN(OFFSET(Male!CA$18,'Male - Rev'!$A40-35,0),0.03999)","v":7.4999999999999997E-3},{"$f":"MIN(OFFSET(Male!CB$18,'Male - Rev'!$A40-35,0),0.03999)","v":7.6E-3},{"$f":"MIN(OFFSET(Male!CC$18,'Male - Rev'!$A40-35,0),0.03999)","v":7.7999999999999996E-3},{"$f":"MIN(OFFSET(Male!CD$18,'Male - Rev'!$A40-35,0),0.03999)","v":8.2000000000000007E-3},{"$f":"MIN(OFFSET(Male!CE$18,'Male - Rev'!$A40-35,0),0.03999)","v":8.8000000000000005E-3},{"$f":"MIN(OFFSET(Male!CF$18,'Male - Rev'!$A40-35,0),0.03999)","v":9.4000000000000004E-3},{"$f":"MIN(OFFSET(Male!CG$18,'Male - Rev'!$A40-35,0),0.03999)","v":9.7999999999999997E-3},{"$f":"MIN(OFFSET(Male!CH$18,'Male - Rev'!$A40-35,0),0.03999)","v":0.01}]
[57,57,{"$f":"MIN(OFFSET(Male!B$18,'Male - Rev'!$A41-35,0),0.03999)","v":1.52E-2},{"$f":"MIN(OFFSET(Male!C$18,'Male - Rev'!$A41-35,0),0.03999)","v":1.37E-2},{"$f":"MIN(OFFSET(Male!D$18,'Male - Rev'!$A41-35,0),0.03999)","v":1.21E-2},{"$f":"MIN(OFFSET(Male!E$18,'Male - Rev'!$A41-35,0),0.03999)","v":1.03E-2},{"$f":"MIN(OFFSET(Male!F$18,'Male - Rev'!$A41-35,0),0.03999)","v":8.3000000000000001E-3},{"$f":"MIN(OFFSET(Male!G$18,'Male - Rev'!$A41-35,0),0.03999)","v":6.3E-3},{"$f":"MIN(OFFSET(Male!H$18,'Male - Rev'!$A41-35,0),0.03999)","v":4.4999999999999997E-3},{"$f":"MIN(OFFSET(Male!I$18,'Male - Rev'!$A41-35,0),0.03999)","v":3.0000000000000001E-3},{"$f":"MIN(OFFSET(Male!J$18,'Male - Rev'!$A41-35,0),0.03999)","v":1.6999999999999999E-3},{"$f":"MIN(OFFSET(Male!K$18,'Male - Rev'!$A41-35,0),0.03999)","v":5.0000000000000001E-4},{"$f":"MIN(OFFSET(Male!L$18,'Male - Rev'!$A41-35,0),0.03999)","v":-5.9999999999999995E-4},{"$f":"MIN(OFFSET(Male!M$18,'Male - Rev'!$A41-35,0),0.03999)","v":-1.6000000000000001E-3},{"$f":"MIN(OFFSET(Male!N$18,'Male - Rev'!$A41-35,0),0.03999)","v":-2.3E-3},{"$f":"MIN(OFFSET(Male!O$18,'Male - Rev'!$A41-35,0),0.03999)","v":-2.5999999999999999E-3},{"$f":"MIN(OFFSET(Male!P$18,'Male - Rev'!$A41-35,0),0.03999)","v":-2.3E-3},{"$f":"MIN(OFFSET(Male!Q$18,'Male - Rev'!$A41-35,0),0.03999)","v":-1.1999999999999999E-3},{"$f":"MIN(OFFSET(Male!R$18,'Male - Rev'!$A41-35,0),0.03999)","v":8.0000000000000004E-4},{"$f":"MIN(OFFSET(Male!S$18,'Male - Rev'!$A41-35,0),0.03999)","v":3.7000000000000002E-3},{"$f":"MIN(OFFSET(Male!T$18,'Male - Rev'!$A41-35,0),0.03999)","v":7.4000000000000003E-3},{"$f":"MIN(OFFSET(Male!U$18,'Male - Rev'!$A41-35,0),0.03999)","v":1.1599999999999999E-2},{"$f":"MIN(OFFSET(Male!V$18,'Male - Rev'!$A41-35,0),0.03999)","v":1.6E-2},{"$f":"MIN(OFFSET(Male!W$18,'Male - Rev'!$A41-35,0),0.03999)","v":2.0199999999999999E-2},{"$f":"MIN(OFFSET(Male!X$18,'Male - Rev'!$A41-35,0),0.03999)","v":2.3900000000000001E-2},{"$f":"MIN(OFFSET(Male!Y$18,'Male - Rev'!$A41-35,0),0.03999)","v":2.6599999999999999E-2},{"$f":"MIN(OFFSET(Male!Z$18,'Male - Rev'!$A41-35,0),0.03999)","v":2.8000000000000001E-2},{"$f":"MIN(OFFSET(Male!AA$18,'Male - Rev'!$A41-35,0),0.03999)","v":2.8000000000000001E-2},{"$f":"MIN(OFFSET(Male!AB$18,'Male - Rev'!$A41-35,0),0.03999)","v":2.6800000000000001E-2},{"$f":"MIN(OFFSET(Male!AC$18,'Male - Rev'!$A41-35,0),0.03999)","v":2.46E-2},{"$f":"MIN(OFFSET(Male!AD$18,'Male - Rev'!$A41-35,0),0.03999)","v":2.1999999999999999E-2},{"$f":"MIN(OFFSET(Male!AE$18,'Male - Rev'!$A41-35,0),0.03999)","v":1.95E-2},{"$f":"MIN(OFFSET(Male!AF$18,'Male - Rev'!$A41-35,0),0.03999)","v":1.7500000000000002E-2},{"$f":"MIN(OFFSET(Male!AG$18,'Male - Rev'!$A41-35,0),0.03999)","v":1.61E-2},{"$f":"MIN(OFFSET(Male!AH$18,'Male - Rev'!$A41-35,0),0.03999)","v":1.54E-2},{"$f":"MIN(OFFSET(Male!AI$18,'Male - Rev'!$A41-35,0),0.03999)","v":1.54E-2},{"$f":"MIN(OFFSET(Male!AJ$18,'Male - Rev'!$A41-35,0),0.03999)","v":1.5900000000000001E-2},{"$f":"MIN(OFFSET(Male!AK$18,'Male - Rev'!$A41-35,0),0.03999)","v":1.6799999999999999E-2},{"$f":"MIN(OFFSET(Male!AL$18,'Male - Rev'!$A41-35,0),0.03999)","v":1.78E-2},{"$f":"MIN(OFFSET(Male!AM$18,'Male - Rev'!$A41-35,0),0.03999)","v":1.8800000000000001E-2},{"$f":"MIN(OFFSET(Male!AN$18,'Male - Rev'!$A41-35,0),0.03999)","v":1.9699999999999999E-2},{"$f":"MIN(OFFSET(Male!AO$18,'Male - Rev'!$A41-35,0),0.03999)","v":2.06E-2},{"$f":"MIN(OFFSET(Male!AP$18,'Male - Rev'!$A41-35,0),0.03999)","v":2.1299999999999999E-2},{"$f":"MIN(OFFSET(Male!AQ$18,'Male - Rev'!$A41-35,0),0.03999)","v":2.18E-2},{"$f":"MIN(OFFSET(Male!AR$18,'Male - Rev'!$A41-35,0),0.03999)","v":2.23E-2},{"$f":"MIN(OFFSET(Male!AS$18,'Male - Rev'!$A41-35,0),0.03999)","v":2.2499999999999999E-2},{"$f":"MIN(OFFSET(Male!AT$18,'Male - Rev'!$A41-35,0),0.03999)","v":2.2499999999999999E-2},{"$f":"MIN(OFFSET(Male!AU$18,'Male - Rev'!$A41-35,0),0.03999)","v":2.2100000000000002E-2},{"$f":"MIN(OFFSET(Male!AV$18,'Male - Rev'!$A41-35,0),0.03999)","v":2.12E-2},{"$f":"MIN(OFFSET(Male!AW$18,'Male - Rev'!$A41-35,0),0.03999)","v":1.9800000000000002E-2},{"$f":"MIN(OFFSET(Male!AX$18,'Male - Rev'!$A41-35,0),0.03999)","v":1.7999999999999999E-2},{"$f":"MIN(OFFSET(Male!AY$18,'Male - Rev'!$A41-35,0),0.03999)","v":1.6199999999999999E-2},{"$f":"MIN(OFFSET(Male!AZ$18,'Male - Rev'!$A41-35,0),0.03999)","v":1.44E-2},{"$f":"MIN(OFFSET(Male!BA$18,'Male - Rev'!$A41-35,0),0.03999)","v":1.2699999999999999E-2},{"$f":"MIN(OFFSET(Male!BB$18,'Male - Rev'!$A41-35,0),0.03999)","v":1.12E-2},{"$f":"MIN(OFFSET(Male!BC$18,'Male - Rev'!$A41-35,0),0.03999)","v":9.7000000000000003E-3},{"$f":"MIN(OFFSET(Male!BD$18,'Male - Rev'!$A41-35,0),0.03999)","v":8.0999999999999996E-3},{"$f":"MIN(OFFSET(Male!BE$18,'Male - Rev'!$A41-35,0),0.03999)","v":6.6E-3},{"$f":"MIN(OFFSET(Male!BF$18,'Male - Rev'!$A41-35,0),0.03999)","v":5.1000000000000004E-3},{"$f":"MIN(OFFSET(Male!BG$18,'Male - Rev'!$A41-35,0),0.03999)","v":3.7000000000000002E-3},{"$f":"MIN(OFFSET(Male!BH$18,'Male - Rev'!$A41-35,0),0.03999)","v":2.2000000000000001E-3},{"$f":"MIN(OFFSET(Male!BI$18,'Male - Rev'!$A41-35,0),0.03999)","v":8.0000000000000004E-4},{"$f":"MIN(OFFSET(Male!BJ$18,'Male - Rev'!$A41-35,0),0.03999)","v":-5.9999999999999995E-4},{"$f":"MIN(OFFSET(Male!BK$18,'Male - Rev'!$A41-35,0),0.03999)","v":-1.8E-3},{"$f":"MIN(OFFSET(Male!BL$18,'Male - Rev'!$A41-35,0),0.03999)","v":-2.8E-3},{"$f":"MIN(OFFSET(Male!BM$18,'Male - Rev'!$A41-35,0),0.03999)","v":-3.3999999999999998E-3},{"$f":"MIN(OFFSET(Male!BN$18,'Male - Rev'!$A41-35,0),0.03999)","v":-3.7000000000000002E-3},{"$f":"MIN(OFFSET(Male!BO$18,'Male - Rev'!$A41-35,0),0.03999)","v":-2.5000000000000001E-3},{"$f":"MIN(OFFSET(Male!BP$18,'Male - Rev'!$A41-35,0),0.03999)","v":-1E-3},{"$f":"MIN(OFFSET(Male!BQ$18,'Male - Rev'!$A41-35,0),0.03999)","v":6.9999999999999999E-4},{"$f":"MIN(OFFSET(Male!BR$18,'Male - Rev'!$A41-35,0),0.03999)","v":2.5000000000000001E-3},{"$f":"MIN(OFFSET(Male!BS$18,'Male - Rev'!$A41-35,0),0.03999)","v":4.1000000000000003E-3},{"$f":"MIN(OFFSET(Male!BT$18,'Male - Rev'!$A41-35,0),0.03999)","v":5.4999999999999997E-3},{"$f":"MIN(OFFSET(Male!BU$18,'Male - Rev'!$A41-35,0),0.03999)","v":6.6E-3},{"$f":"MIN(OFFSET(Male!BV$18,'Male - Rev'!$A41-35,0),0.03999)","v":7.3000000000000001E-3},{"$f":"MIN(OFFSET(Male!BW$18,'Male - Rev'!$A41-35,0),0.03999)","v":7.6E-3},{"$f":"MIN(OFFSET(Male!BX$18,'Male - Rev'!$A41-35,0),0.03999)","v":7.4999999999999997E-3},{"$f":"MIN(OFFSET(Male!BY$18,'Male - Rev'!$A41-35,0),0.03999)","v":7.1999999999999998E-3},{"$f":"MIN(OFFSET(Male!BZ$18,'Male - Rev'!$A41-35,0),0.03999)","v":6.8999999999999999E-3},{"$f":"MIN(OFFSET(Male!CA$18,'Male - Rev'!$A41-35,0),0.03999)","v":6.7999999999999996E-3},{"$f":"MIN(OFFSET(Male!CB$18,'Male - Rev'!$A41-35,0),0.03999)","v":7.0000000000000001E-3},{"$f":"MIN(OFFSET(Male!CC$18,'Male - Rev'!$A41-35,0),0.03999)","v":7.3000000000000001E-3},{"$f":"MIN(OFFSET(Male!CD$18,'Male - Rev'!$A41-35,0),0.03999)","v":7.9000000000000008E-3},{"$f":"MIN(OFFSET(Male!CE$18,'Male - Rev'!$A41-35,0),0.03999)","v":8.6E-3},{"$f":"MIN(OFFSET(Male!CF$18,'Male - Rev'!$A41-35,0),0.03999)","v":9.2999999999999992E-3},{"$f":"MIN(OFFSET(Male!CG$18,'Male - Rev'!$A41-35,0),0.03999)","v":9.7999999999999997E-3},{"$f":"MIN(OFFSET(Male!CH$18,'Male - Rev'!$A41-35,0),0.03999)","v":0.01}]
[56,56,{"$f":"MIN(OFFSET(Male!B$18,'Male - Rev'!$A42-35,0),0.03999)","v":1.5699999999999999E-2},{"$f":"MIN(OFFSET(Male!C$18,'Male - Rev'!$A42-35,0),0.03999)","v":1.43E-2},{"$f":"MIN(OFFSET(Male!D$18,'Male - Rev'!$A42-35,0),0.03999)","v":1.2800000000000001E-2},{"$f":"MIN(OFFSET(Male!E$18,'Male - Rev'!$A42-35,0),0.03999)","v":1.0999999999999999E-2},{"$f":"MIN(OFFSET(Male!F$18,'Male - Rev'!$A42-35,0),0.03999)","v":8.9999999999999993E-3},{"$f":"MIN(OFFSET(Male!G$18,'Male - Rev'!$A42-35,0),0.03999)","v":7.0000000000000001E-3},{"$f":"MIN(OFFSET(Male!H$18,'Male - Rev'!$A42-35,0),0.03999)","v":5.1000000000000004E-3},{"$f":"MIN(OFFSET(Male!I$18,'Male - Rev'!$A42-35,0),0.03999)","v":3.5999999999999999E-3},{"$f":"MIN(OFFSET(Male!J$18,'Male - Rev'!$A42-35,0),0.03999)","v":2.2000000000000001E-3},{"$f":"MIN(OFFSET(Male!K$18,'Male - Rev'!$A42-35,0),0.03999)","v":1E-3},{"$f":"MIN(OFFSET(Male!L$18,'Male - Rev'!$A42-35,0),0.03999)","v":-1E-4},{"$f":"MIN(OFFSET(Male!M$18,'Male - Rev'!$A42-35,0),0.03999)","v":-1.1000000000000001E-3},{"$f":"MIN(OFFSET(Male!N$18,'Male - Rev'!$A42-35,0),0.03999)","v":-1.9E-3},{"$f":"MIN(OFFSET(Male!O$18,'Male - Rev'!$A42-35,0),0.03999)","v":-2.2000000000000001E-3},{"$f":"MIN(OFFSET(Male!P$18,'Male - Rev'!$A42-35,0),0.03999)","v":-1.9E-3},{"$f":"MIN(OFFSET(Male!Q$18,'Male - Rev'!$A42-35,0),0.03999)","v":-8.9999999999999998E-4},{"$f":"MIN(OFFSET(Male!R$18,'Male - Rev'!$A42-35,0),0.03999)","v":1E-3},{"$f":"MIN(OFFSET(Male!S$18,'Male - Rev'!$A42-35,0),0.03999)","v":3.8999999999999998E-3},{"$f":"MIN(OFFSET(Male!T$18,'Male - Rev'!$A42-35,0),0.03999)","v":7.6E-3},{"$f":"MIN(OFFSET(Male!U$18,'Male - Rev'!$A42-35,0),0.03999)","v":1.18E-2},{"$f":"MIN(OFFSET(Male!V$18,'Male - Rev'!$A42-35,0),0.03999)","v":1.6199999999999999E-2},{"$f":"MIN(OFFSET(Male!W$18,'Male - Rev'!$A42-35,0),0.03999)","v":2.0299999999999999E-2},{"$f":"MIN(OFFSET(Male!X$18,'Male - Rev'!$A42-35,0),0.03999)","v":2.3900000000000001E-2},{"$f":"MIN(OFFSET(Male!Y$18,'Male - Rev'!$A42-35,0),0.03999)","v":2.6499999999999999E-2},{"$f":"MIN(OFFSET(Male!Z$18,'Male - Rev'!$A42-35,0),0.03999)","v":2.7799999999999998E-2},{"$f":"MIN(OFFSET(Male!AA$18,'Male - Rev'!$A42-35,0),0.03999)","v":2.7799999999999998E-2},{"$f":"MIN(OFFSET(Male!AB$18,'Male - Rev'!$A42-35,0),0.03999)","v":2.6599999999999999E-2},{"$f":"MIN(OFFSET(Male!AC$18,'Male - Rev'!$A42-35,0),0.03999)","v":2.46E-2},{"$f":"MIN(OFFSET(Male!AD$18,'Male - Rev'!$A42-35,0),0.03999)","v":2.2200000000000001E-2},{"$f":"MIN(OFFSET(Male!AE$18,'Male - Rev'!$A42-35,0),0.03999)","v":1.9900000000000001E-2},{"$f":"MIN(OFFSET(Male!AF$18,'Male - Rev'!$A42-35,0),0.03999)","v":1.8100000000000002E-2},{"$f":"MIN(OFFSET(Male!AG$18,'Male - Rev'!$A42-35,0),0.03999)","v":1.6899999999999998E-2},{"$f":"MIN(OFFSET(Male!AH$18,'Male - Rev'!$A42-35,0),0.03999)","v":1.6299999999999999E-2},{"$f":"MIN(OFFSET(Male!AI$18,'Male - Rev'!$A42-35,0),0.03999)","v":1.6299999999999999E-2},{"$f":"MIN(OFFSET(Male!AJ$18,'Male - Rev'!$A42-35,0),0.03999)","v":1.67E-2},{"$f":"MIN(OFFSET(Male!AK$18,'Male - Rev'!$A42-35,0),0.03999)","v":1.7500000000000002E-2},{"$f":"MIN(OFFSET(Male!AL$18,'Male - Rev'!$A42-35,0),0.03999)","v":1.83E-2},{"$f":"MIN(OFFSET(Male!AM$18,'Male - Rev'!$A42-35,0),0.03999)","v":1.9199999999999998E-2},{"$f":"MIN(OFFSET(Male!AN$18,'Male - Rev'!$A42-35,0),0.03999)","v":0.02},{"$f":"MIN(OFFSET(Male!AO$18,'Male - Rev'!$A42-35,0),0.03999)","v":2.07E-2},{"$f":"MIN(OFFSET(Male!AP$18,'Male - Rev'!$A42-35,0),0.03999)","v":2.1299999999999999E-2},{"$f":"MIN(OFFSET(Male!AQ$18,'Male - Rev'!$A42-35,0),0.03999)","v":2.1700000000000001E-2},{"$f":"MIN(OFFSET(Male!AR$18,'Male - Rev'!$A42-35,0),0.03999)","v":2.2100000000000002E-2},{"$f":"MIN(OFFSET(Male!AS$18,'Male - Rev'!$A42-35,0),0.03999)","v":2.24E-2},{"$f":"MIN(OFFSET(Male!AT$18,'Male - Rev'!$A42-35,0),0.03999)","v":2.23E-2},{"$f":"MIN(OFFSET(Male!AU$18,'Male - Rev'!$A42-35,0),0.03999)","v":2.18E-2},{"$f":"MIN(OFFSET(Male!AV$18,'Male - Rev'!$A42-35,0),0.03999)","v":2.06E-2},{"$f":"MIN(OFFSET(Male!AW$18,'Male - Rev'!$A42-35,0),0.03999)","v":1.8700000000000001E-2},{"$f":"MIN(OFFSET(Male!AX$18,'Male - Rev'!$A42-35,0),0.03999)","v":1.6400000000000001E-2},{"$f":"MIN(OFFSET(Male!AY$18,'Male - Rev'!$A42-35,0),0.03999)","v":1.4E-2},{"$f":"MIN(OFFSET(Male!AZ$18,'Male - Rev'!$A42-35,0),0.03999)","v":1.1599999999999999E-2},{"$f":"MIN(OFFSET(Male!BA$18,'Male - Rev'!$A42-35,0),0.03999)","v":9.5999999999999992E-3},{"$f":"MIN(OFFSET(Male!BB$18,'Male - Rev'!$A42-35,0),0.03999)","v":8.0000000000000002E-3},{"$f":"MIN(OFFSET(Male!BC$18,'Male - Rev'!$A42-35,0),0.03999)","v":6.7000000000000002E-3},{"$f":"MIN(OFFSET(Male!BD$18,'Male - Rev'!$A42-35,0),0.03999)","v":5.5999999999999999E-3},{"$f":"MIN(OFFSET(Male!BE$18,'Male - Rev'!$A42-35,0),0.03999)","v":4.7999999999999996E-3},{"$f":"MIN(OFFSET(Male!BF$18,'Male - Rev'!$A42-35,0),0.03999)","v":4.0000000000000001E-3},{"$f":"MIN(OFFSET(Male!BG$18,'Male - Rev'!$A42-35,0),0.03999)","v":3.3E-3},{"$f":"MIN(OFFSET(Male!BH$18,'Male - Rev'!$A42-35,0),0.03999)","v":2.5999999999999999E-3},{"$f":"MIN(OFFSET(Male!BI$18,'Male - Rev'!$A42-35,0),0.03999)","v":1.6999999999999999E-3},{"$f":"MIN(OFFSET(Male!BJ$18,'Male - Rev'!$A42-35,0),0.03999)","v":8.0000000000000004E-4},{"$f":"MIN(OFFSET(Male!BK$18,'Male - Rev'!$A42-35,0),0.03999)","v":-2.0000000000000001E-4},{"$f":"MIN(OFFSET(Male!BL$18,'Male - Rev'!$A42-35,0),0.03999)","v":-8.9999999999999998E-4},{"$f":"MIN(OFFSET(Male!BM$18,'Male - Rev'!$A42-35,0),0.03999)","v":-1.5E-3},{"$f":"MIN(OFFSET(Male!BN$18,'Male - Rev'!$A42-35,0),0.03999)","v":-1.8E-3},{"$f":"MIN(OFFSET(Male!BO$18,'Male - Rev'!$A42-35,0),0.03999)","v":-6.9999999999999999E-4},{"$f":"MIN(OFFSET(Male!BP$18,'Male - Rev'!$A42-35,0),0.03999)","v":6.9999999999999999E-4},{"$f":"MIN(OFFSET(Male!BQ$18,'Male - Rev'!$A42-35,0),0.03999)","v":2.0999999999999999E-3},{"$f":"MIN(OFFSET(Male!BR$18,'Male - Rev'!$A42-35,0),0.03999)","v":3.5000000000000001E-3},{"$f":"MIN(OFFSET(Male!BS$18,'Male - Rev'!$A42-35,0),0.03999)","v":4.7999999999999996E-3},{"$f":"MIN(OFFSET(Male!BT$18,'Male - Rev'!$A42-35,0),0.03999)","v":5.7999999999999996E-3},{"$f":"MIN(OFFSET(Male!BU$18,'Male - Rev'!$A42-35,0),0.03999)","v":6.4999999999999997E-3},{"$f":"MIN(OFFSET(Male!BV$18,'Male - Rev'!$A42-35,0),0.03999)","v":6.8999999999999999E-3},{"$f":"MIN(OFFSET(Male!BW$18,'Male - Rev'!$A42-35,0),0.03999)","v":7.0000000000000001E-3},{"$f":"MIN(OFFSET(Male!BX$18,'Male - Rev'!$A42-35,0),0.03999)","v":6.7000000000000002E-3},{"$f":"MIN(OFFSET(Male!BY$18,'Male - Rev'!$A42-35,0),0.03999)","v":6.3E-3},{"$f":"MIN(OFFSET(Male!BZ$18,'Male - Rev'!$A42-35,0),0.03999)","v":6.0000000000000001E-3},{"$f":"MIN(OFFSET(Male!CA$18,'Male - Rev'!$A42-35,0),0.03999)","v":6.0000000000000001E-3},{"$f":"MIN(OFFSET(Male!CB$18,'Male - Rev'!$A42-35,0),0.03999)","v":6.3E-3},{"$f":"MIN(OFFSET(Male!CC$18,'Male - Rev'!$A42-35,0),0.03999)","v":6.8999999999999999E-3},{"$f":"MIN(OFFSET(Male!CD$18,'Male - Rev'!$A42-35,0),0.03999)","v":7.6E-3},{"$f":"MIN(OFFSET(Male!CE$18,'Male - Rev'!$A42-35,0),0.03999)","v":8.3999999999999995E-3},{"$f":"MIN(OFFSET(Male!CF$18,'Male - Rev'!$A42-35,0),0.03999)","v":9.1999999999999998E-3},{"$f":"MIN(OFFSET(Male!CG$18,'Male - Rev'!$A42-35,0),0.03999)","v":9.7999999999999997E-3},{"$f":"MIN(OFFSET(Male!CH$18,'Male - Rev'!$A42-35,0),0.03999)","v":0.01}]
[55,55,{"$f":"MIN(OFFSET(Male!B$18,'Male - Rev'!$A43-35,0),0.03999)","v":1.61E-2},{"$f":"MIN(OFFSET(Male!C$18,'Male - Rev'!$A43-35,0),0.03999)","v":1.4800000000000001E-2},{"$f":"MIN(OFFSET(Male!D$18,'Male - Rev'!$A43-35,0),0.03999)","v":1.34E-2},{"$f":"MIN(OFFSET(Male!E$18,'Male - Rev'!$A43-35,0),0.03999)","v":1.17E-2},{"$f":"MIN(OFFSET(Male!F$18,'Male - Rev'!$A43-35,0),0.03999)","v":9.5999999999999992E-3},{"$f":"MIN(OFFSET(Male!G$18,'Male - Rev'!$A43-35,0),0.03999)","v":7.4999999999999997E-3},{"$f":"MIN(OFFSET(Male!H$18,'Male - Rev'!$A43-35,0),0.03999)","v":5.5999999999999999E-3},{"$f":"MIN(OFFSET(Male!I$18,'Male - Rev'!$A43-35,0),0.03999)","v":4.0000000000000001E-3},{"$f":"MIN(OFFSET(Male!J$18,'Male - Rev'!$A43-35,0),0.03999)","v":2.5999999999999999E-3},{"$f":"MIN(OFFSET(Male!K$18,'Male - Rev'!$A43-35,0),0.03999)","v":1.4E-3},{"$f":"MIN(OFFSET(Male!L$18,'Male - Rev'!$A43-35,0),0.03999)","v":2.9999999999999997E-4},{"$f":"MIN(OFFSET(Male!M$18,'Male - Rev'!$A43-35,0),0.03999)","v":-8.0000000000000004E-4},{"$f":"MIN(OFFSET(Male!N$18,'Male - Rev'!$A43-35,0),0.03999)","v":-1.5E-3},{"$f":"MIN(OFFSET(Male!O$18,'Male - Rev'!$A43-35,0),0.03999)","v":-1.8E-3},{"$f":"MIN(OFFSET(Male!P$18,'Male - Rev'!$A43-35,0),0.03999)","v":-1.6000000000000001E-3},{"$f":"MIN(OFFSET(Male!Q$18,'Male - Rev'!$A43-35,0),0.03999)","v":-5.0000000000000001E-4},{"$f":"MIN(OFFSET(Male!R$18,'Male - Rev'!$A43-35,0),0.03999)","v":1.4E-3},{"$f":"MIN(OFFSET(Male!S$18,'Male - Rev'!$A43-35,0),0.03999)","v":4.3E-3},{"$f":"MIN(OFFSET(Male!T$18,'Male - Rev'!$A43-35,0),0.03999)","v":7.9000000000000008E-3},{"$f":"MIN(OFFSET(Male!U$18,'Male - Rev'!$A43-35,0),0.03999)","v":1.2E-2},{"$f":"MIN(OFFSET(Male!V$18,'Male - Rev'!$A43-35,0),0.03999)","v":1.6299999999999999E-2},{"$f":"MIN(OFFSET(Male!W$18,'Male - Rev'!$A43-35,0),0.03999)","v":2.0299999999999999E-2},{"$f":"MIN(OFFSET(Male!X$18,'Male - Rev'!$A43-35,0),0.03999)","v":2.3699999999999999E-2},{"$f":"MIN(OFFSET(Male!Y$18,'Male - Rev'!$A43-35,0),0.03999)","v":2.6100000000000002E-2},{"$f":"MIN(OFFSET(Male!Z$18,'Male - Rev'!$A43-35,0),0.03999)","v":2.7400000000000001E-2},{"$f":"MIN(OFFSET(Male!AA$18,'Male - Rev'!$A43-35,0),0.03999)","v":2.7400000000000001E-2},{"$f":"MIN(OFFSET(Male!AB$18,'Male - Rev'!$A43-35,0),0.03999)","v":2.64E-2},{"$f":"MIN(OFFSET(Male!AC$18,'Male - Rev'!$A43-35,0),0.03999)","v":2.46E-2},{"$f":"MIN(OFFSET(Male!AD$18,'Male - Rev'!$A43-35,0),0.03999)","v":2.2599999999999999E-2},{"$f":"MIN(OFFSET(Male!AE$18,'Male - Rev'!$A43-35,0),0.03999)","v":2.06E-2},{"$f":"MIN(OFFSET(Male!AF$18,'Male - Rev'!$A43-35,0),0.03999)","v":1.9099999999999999E-2},{"$f":"MIN(OFFSET(Male!AG$18,'Male - Rev'!$A43-35,0),0.03999)","v":1.7999999999999999E-2},{"$f":"MIN(OFFSET(Male!AH$18,'Male - Rev'!$A43-35,0),0.03999)","v":1.7399999999999999E-2},{"$f":"MIN(OFFSET(Male!AI$18,'Male - Rev'!$A43-35,0),0.03999)","v":1.72E-2},{"$f":"MIN(OFFSET(Male!AJ$18,'Male - Rev'!$A43-35,0),0.03999)","v":1.7500000000000002E-2},{"$f":"MIN(OFFSET(Male!AK$18,'Male - Rev'!$A43-35,0),0.03999)","v":1.7999999999999999E-2},{"$f":"MIN(OFFSET(Male!AL$18,'Male - Rev'!$A43-35,0),0.03999)","v":1.8700000000000001E-2},{"$f":"MIN(OFFSET(Male!AM$18,'Male - Rev'!$A43-35,0),0.03999)","v":1.9400000000000001E-2},{"$f":"MIN(OFFSET(Male!AN$18,'Male - Rev'!$A43-35,0),0.03999)","v":0.02},{"$f":"MIN(OFFSET(Male!AO$18,'Male - Rev'!$A43-35,0),0.03999)","v":2.06E-2},{"$f":"MIN(OFFSET(Male!AP$18,'Male - Rev'!$A43-35,0),0.03999)","v":2.0899999999999998E-2},{"$f":"MIN(OFFSET(Male!AQ$18,'Male - Rev'!$A43-35,0),0.03999)","v":2.1299999999999999E-2},{"$f":"MIN(OFFSET(Male!AR$18,'Male - Rev'!$A43-35,0),0.03999)","v":2.1600000000000001E-2},{"$f":"MIN(OFFSET(Male!AS$18,'Male - Rev'!$A43-35,0),0.03999)","v":2.1899999999999999E-2},{"$f":"MIN(OFFSET(Male!AT$18,'Male - Rev'!$A43-35,0),0.03999)","v":2.1899999999999999E-2},{"$f":"MIN(OFFSET(Male!AU$18,'Male - Rev'!$A43-35,0),0.03999)","v":2.1299999999999999E-2},{"$f":"MIN(OFFSET(Male!AV$18,'Male - Rev'!$A43-35,0),0.03999)","v":1.9900000000000001E-2},{"$f":"MIN(OFFSET(Male!AW$18,'Male - Rev'!$A43-35,0),0.03999)","v":1.7600000000000001E-2},{"$f":"MIN(OFFSET(Male!AX$18,'Male - Rev'!$A43-35,0),0.03999)","v":1.47E-2},{"$f":"MIN(OFFSET(Male!AY$18,'Male - Rev'!$A43-35,0),0.03999)","v":1.1599999999999999E-2},{"$f":"MIN(OFFSET(Male!AZ$18,'Male - Rev'!$A43-35,0),0.03999)","v":8.6999999999999994E-3},{"$f":"MIN(OFFSET(Male!BA$18,'Male - Rev'!$A43-35,0),0.03999)","v":6.4000000000000003E-3},{"$f":"MIN(OFFSET(Male!BB$18,'Male - Rev'!$A43-35,0),0.03999)","v":4.7999999999999996E-3},{"$f":"MIN(OFFSET(Male!BC$18,'Male - Rev'!$A43-35,0),0.03999)","v":3.8999999999999998E-3},{"$f":"MIN(OFFSET(Male!BD$18,'Male - Rev'!$A43-35,0),0.03999)","v":3.5000000000000001E-3},{"$f":"MIN(OFFSET(Male!BE$18,'Male - Rev'!$A43-35,0),0.03999)","v":3.5999999999999999E-3},{"$f":"MIN(OFFSET(Male!BF$18,'Male - Rev'!$A43-35,0),0.03999)","v":3.7000000000000002E-3},{"$f":"MIN(OFFSET(Male!BG$18,'Male - Rev'!$A43-35,0),0.03999)","v":3.8999999999999998E-3},{"$f":"MIN(OFFSET(Male!BH$18,'Male - Rev'!$A43-35,0),0.03999)","v":3.8E-3},{"$f":"MIN(OFFSET(Male!BI$18,'Male - Rev'!$A43-35,0),0.03999)","v":3.3E-3},{"$f":"MIN(OFFSET(Male!BJ$18,'Male - Rev'!$A43-35,0),0.03999)","v":2.7000000000000001E-3},{"$f":"MIN(OFFSET(Male!BK$18,'Male - Rev'!$A43-35,0),0.03999)","v":1.8E-3},{"$f":"MIN(OFFSET(Male!BL$18,'Male - Rev'!$A43-35,0),0.03999)","v":1.1000000000000001E-3},{"$f":"MIN(OFFSET(Male!BM$18,'Male - Rev'!$A43-35,0),0.03999)","v":5.0000000000000001E-4},{"$f":"MIN(OFFSET(Male!BN$18,'Male - Rev'!$A43-35,0),0.03999)","v":0},{"$f":"MIN(OFFSET(Male!BO$18,'Male - Rev'!$A43-35,0),0.03999)","v":1E-3},{"$f":"MIN(OFFSET(Male!BP$18,'Male - Rev'!$A43-35,0),0.03999)","v":2.2000000000000001E-3},{"$f":"MIN(OFFSET(Male!BQ$18,'Male - Rev'!$A43-35,0),0.03999)","v":3.3E-3},{"$f":"MIN(OFFSET(Male!BR$18,'Male - Rev'!$A43-35,0),0.03999)","v":4.3E-3},{"$f":"MIN(OFFSET(Male!BS$18,'Male - Rev'!$A43-35,0),0.03999)","v":5.1999999999999998E-3},{"$f":"MIN(OFFSET(Male!BT$18,'Male - Rev'!$A43-35,0),0.03999)","v":5.7999999999999996E-3},{"$f":"MIN(OFFSET(Male!BU$18,'Male - Rev'!$A43-35,0),0.03999)","v":6.1999999999999998E-3},{"$f":"MIN(OFFSET(Male!BV$18,'Male - Rev'!$A43-35,0),0.03999)","v":6.1999999999999998E-3},{"$f":"MIN(OFFSET(Male!BW$18,'Male - Rev'!$A43-35,0),0.03999)","v":6.0000000000000001E-3},{"$f":"MIN(OFFSET(Male!BX$18,'Male - Rev'!$A43-35,0),0.03999)","v":5.5999999999999999E-3},{"$f":"MIN(OFFSET(Male!BY$18,'Male - Rev'!$A43-35,0),0.03999)","v":5.1999999999999998E-3},{"$f":"MIN(OFFSET(Male!BZ$18,'Male - Rev'!$A43-35,0),0.03999)","v":5.1000000000000004E-3},{"$f":"MIN(OFFSET(Male!CA$18,'Male - Rev'!$A43-35,0),0.03999)","v":5.1999999999999998E-3},{"$f":"MIN(OFFSET(Male!CB$18,'Male - Rev'!$A43-35,0),0.03999)","v":5.7000000000000002E-3},{"$f":"MIN(OFFSET(Male!CC$18,'Male - Rev'!$A43-35,0),0.03999)","v":6.4000000000000003E-3},{"$f":"MIN(OFFSET(Male!CD$18,'Male - Rev'!$A43-35,0),0.03999)","v":7.3000000000000001E-3},{"$f":"MIN(OFFSET(Male!CE$18,'Male - Rev'!$A43-35,0),0.03999)","v":8.3000000000000001E-3},{"$f":"MIN(OFFSET(Male!CF$18,'Male - Rev'!$A43-35,0),0.03999)","v":9.1999999999999998E-3},{"$f":"MIN(OFFSET(Male!CG$18,'Male - Rev'!$A43-35,0),0.03999)","v":9.7999999999999997E-3},{"$f":"MIN(OFFSET(Male!CH$18,'Male - Rev'!$A43-35,0),0.03999)","v":0.01}]
[54,54,{"$f":"MIN(OFFSET(Male!B$18,'Male - Rev'!$A44-35,0),0.03999)","v":1.6400000000000001E-2},{"$f":"MIN(OFFSET(Male!C$18,'Male - Rev'!$A44-35,0),0.03999)","v":1.52E-2},{"$f":"MIN(OFFSET(Male!D$18,'Male - Rev'!$A44-35,0),0.03999)","v":1.3899999999999999E-2},{"$f":"MIN(OFFSET(Male!E$18,'Male - Rev'!$A44-35,0),0.03999)","v":1.2200000000000001E-2},{"$f":"MIN(OFFSET(Male!F$18,'Male - Rev'!$A44-35,0),0.03999)","v":1.0200000000000001E-2},{"$f":"MIN(OFFSET(Male!G$18,'Male - Rev'!$A44-35,0),0.03999)","v":8.0000000000000002E-3},{"$f":"MIN(OFFSET(Male!H$18,'Male - Rev'!$A44-35,0),0.03999)","v":6.0000000000000001E-3},{"$f":"MIN(OFFSET(Male!I$18,'Male - Rev'!$A44-35,0),0.03999)","v":4.1999999999999997E-3},{"$f":"MIN(OFFSET(Male!J$18,'Male - Rev'!$A44-35,0),0.03999)","v":2.8E-3},{"$f":"MIN(OFFSET(Male!K$18,'Male - Rev'!$A44-35,0),0.03999)","v":1.5E-3},{"$f":"MIN(OFFSET(Male!L$18,'Male - Rev'!$A44-35,0),0.03999)","v":4.0000000000000002E-4},{"$f":"MIN(OFFSET(Male!M$18,'Male - Rev'!$A44-35,0),0.03999)","v":-5.9999999999999995E-4},{"$f":"MIN(OFFSET(Male!N$18,'Male - Rev'!$A44-35,0),0.03999)","v":-1.2999999999999999E-3},{"$f":"MIN(OFFSET(Male!O$18,'Male - Rev'!$A44-35,0),0.03999)","v":-1.5E-3},{"$f":"MIN(OFFSET(Male!P$18,'Male - Rev'!$A44-35,0),0.03999)","v":-1.1999999999999999E-3},{"$f":"MIN(OFFSET(Male!Q$18,'Male - Rev'!$A44-35,0),0.03999)","v":-1E-4},{"$f":"MIN(OFFSET(Male!R$18,'Male - Rev'!$A44-35,0),0.03999)","v":1.9E-3},{"$f":"MIN(OFFSET(Male!S$18,'Male - Rev'!$A44-35,0),0.03999)","v":4.7000000000000002E-3},{"$f":"MIN(OFFSET(Male!T$18,'Male - Rev'!$A44-35,0),0.03999)","v":8.3000000000000001E-3},{"$f":"MIN(OFFSET(Male!U$18,'Male - Rev'!$A44-35,0),0.03999)","v":1.2200000000000001E-2},{"$f":"MIN(OFFSET(Male!V$18,'Male - Rev'!$A44-35,0),0.03999)","v":1.6299999999999999E-2},{"$f":"MIN(OFFSET(Male!W$18,'Male - Rev'!$A44-35,0),0.03999)","v":2.01E-2},{"$f":"MIN(OFFSET(Male!X$18,'Male - Rev'!$A44-35,0),0.03999)","v":2.3300000000000001E-2},{"$f":"MIN(OFFSET(Male!Y$18,'Male - Rev'!$A44-35,0),0.03999)","v":2.5600000000000001E-2},{"$f":"MIN(OFFSET(Male!Z$18,'Male - Rev'!$A44-35,0),0.03999)","v":2.6800000000000001E-2},{"$f":"MIN(OFFSET(Male!AA$18,'Male - Rev'!$A44-35,0),0.03999)","v":2.69E-2},{"$f":"MIN(OFFSET(Male!AB$18,'Male - Rev'!$A44-35,0),0.03999)","v":2.6200000000000001E-2},{"$f":"MIN(OFFSET(Male!AC$18,'Male - Rev'!$A44-35,0),0.03999)","v":2.4799999999999999E-2},{"$f":"MIN(OFFSET(Male!AD$18,'Male - Rev'!$A44-35,0),0.03999)","v":2.3199999999999998E-2},{"$f":"MIN(OFFSET(Male!AE$18,'Male - Rev'!$A44-35,0),0.03999)","v":2.1700000000000001E-2},{"$f":"MIN(OFFSET(Male!AF$18,'Male - Rev'!$A44-35,0),0.03999)","v":2.0299999999999999E-2},{"$f":"MIN(OFFSET(Male!AG$18,'Male - Rev'!$A44-35,0),0.03999)","v":1.9300000000000001E-2},{"$f":"MIN(OFFSET(Male!AH$18,'Male - Rev'!$A44-35,0),0.03999)","v":1.8599999999999998E-2},{"$f":"MIN(OFFSET(Male!AI$18,'Male - Rev'!$A44-35,0),0.03999)","v":1.8200000000000001E-2},{"$f":"MIN(OFFSET(Male!AJ$18,'Male - Rev'!$A44-35,0),0.03999)","v":1.8100000000000002E-2},{"$f":"MIN(OFFSET(Male!AK$18,'Male - Rev'!$A44-35,0),0.03999)","v":1.84E-2},{"$f":"MIN(OFFSET(Male!AL$18,'Male - Rev'!$A44-35,0),0.03999)","v":1.8800000000000001E-2},{"$f":"MIN(OFFSET(Male!AM$18,'Male - Rev'!$A44-35,0),0.03999)","v":1.9300000000000001E-2},{"$f":"MIN(OFFSET(Male!AN$18,'Male - Rev'!$A44-35,0),0.03999)","v":1.9800000000000002E-2},{"$f":"MIN(OFFSET(Male!AO$18,'Male - Rev'!$A44-35,0),0.03999)","v":2.01E-2},{"$f":"MIN(OFFSET(Male!AP$18,'Male - Rev'!$A44-35,0),0.03999)","v":2.0199999999999999E-2},{"$f":"MIN(OFFSET(Male!AQ$18,'Male - Rev'!$A44-35,0),0.03999)","v":2.0400000000000001E-2},{"$f":"MIN(OFFSET(Male!AR$18,'Male - Rev'!$A44-35,0),0.03999)","v":2.07E-2},{"$f":"MIN(OFFSET(Male!AS$18,'Male - Rev'!$A44-35,0),0.03999)","v":2.1000000000000001E-2},{"$f":"MIN(OFFSET(Male!AT$18,'Male - Rev'!$A44-35,0),0.03999)","v":2.12E-2},{"$f":"MIN(OFFSET(Male!AU$18,'Male - Rev'!$A44-35,0),0.03999)","v":2.06E-2},{"$f":"MIN(OFFSET(Male!AV$18,'Male - Rev'!$A44-35,0),0.03999)","v":1.9099999999999999E-2},{"$f":"MIN(OFFSET(Male!AW$18,'Male - Rev'!$A44-35,0),0.03999)","v":1.6400000000000001E-2},{"$f":"MIN(OFFSET(Male!AX$18,'Male - Rev'!$A44-35,0),0.03999)","v":1.29E-2},{"$f":"MIN(OFFSET(Male!AY$18,'Male - Rev'!$A44-35,0),0.03999)","v":9.1999999999999998E-3},{"$f":"MIN(OFFSET(Male!AZ$18,'Male - Rev'!$A44-35,0),0.03999)","v":5.7999999999999996E-3},{"$f":"MIN(OFFSET(Male!BA$18,'Male - Rev'!$A44-35,0),0.03999)","v":3.3E-3},{"$f":"MIN(OFFSET(Male!BB$18,'Male - Rev'!$A44-35,0),0.03999)","v":1.8E-3},{"$f":"MIN(OFFSET(Male!BC$18,'Male - Rev'!$A44-35,0),0.03999)","v":1.5E-3},{"$f":"MIN(OFFSET(Male!BD$18,'Male - Rev'!$A44-35,0),0.03999)","v":2E-3},{"$f":"MIN(OFFSET(Male!BE$18,'Male - Rev'!$A44-35,0),0.03999)","v":3.0000000000000001E-3},{"$f":"MIN(OFFSET(Male!BF$18,'Male - Rev'!$A44-35,0),0.03999)","v":4.1999999999999997E-3},{"$f":"MIN(OFFSET(Male!BG$18,'Male - Rev'!$A44-35,0),0.03999)","v":5.1000000000000004E-3},{"$f":"MIN(OFFSET(Male!BH$18,'Male - Rev'!$A44-35,0),0.03999)","v":5.5999999999999999E-3},{"$f":"MIN(OFFSET(Male!BI$18,'Male - Rev'!$A44-35,0),0.03999)","v":5.4999999999999997E-3},{"$f":"MIN(OFFSET(Male!BJ$18,'Male - Rev'!$A44-35,0),0.03999)","v":5.0000000000000001E-3},{"$f":"MIN(OFFSET(Male!BK$18,'Male - Rev'!$A44-35,0),0.03999)","v":4.1000000000000003E-3},{"$f":"MIN(OFFSET(Male!BL$18,'Male - Rev'!$A44-35,0),0.03999)","v":3.2000000000000002E-3},{"$f":"MIN(OFFSET(Male!BM$18,'Male - Rev'!$A44-35,0),0.03999)","v":2.3E-3},{"$f":"MIN(OFFSET(Male!BN$18,'Male - Rev'!$A44-35,0),0.03999)","v":1.6999999999999999E-3},{"$f":"MIN(OFFSET(Male!BO$18,'Male - Rev'!$A44-35,0),0.03999)","v":2.5000000000000001E-3},{"$f":"MIN(OFFSET(Male!BP$18,'Male - Rev'!$A44-35,0),0.03999)","v":3.3999999999999998E-3},{"$f":"MIN(OFFSET(Male!BQ$18,'Male - Rev'!$A44-35,0),0.03999)","v":4.1999999999999997E-3},{"$f":"MIN(OFFSET(Male!BR$18,'Male - Rev'!$A44-35,0),0.03999)","v":4.8999999999999998E-3},{"$f":"MIN(OFFSET(Male!BS$18,'Male - Rev'!$A44-35,0),0.03999)","v":5.3E-3},{"$f":"MIN(OFFSET(Male!BT$18,'Male - Rev'!$A44-35,0),0.03999)","v":5.4999999999999997E-3},{"$f":"MIN(OFFSET(Male!BU$18,'Male - Rev'!$A44-35,0),0.03999)","v":5.4999999999999997E-3},{"$f":"MIN(OFFSET(Male!BV$18,'Male - Rev'!$A44-35,0),0.03999)","v":5.3E-3},{"$f":"MIN(OFFSET(Male!BW$18,'Male - Rev'!$A44-35,0),0.03999)","v":4.8999999999999998E-3},{"$f":"MIN(OFFSET(Male!BX$18,'Male - Rev'!$A44-35,0),0.03999)","v":4.4000000000000003E-3},{"$f":"MIN(OFFSET(Male!BY$18,'Male - Rev'!$A44-35,0),0.03999)","v":4.0000000000000001E-3},{"$f":"MIN(OFFSET(Male!BZ$18,'Male - Rev'!$A44-35,0),0.03999)","v":4.0000000000000001E-3},{"$f":"MIN(OFFSET(Male!CA$18,'Male - Rev'!$A44-35,0),0.03999)","v":4.3E-3},{"$f":"MIN(OFFSET(Male!CB$18,'Male - Rev'!$A44-35,0),0.03999)","v":5.0000000000000001E-3},{"$f":"MIN(OFFSET(Male!CC$18,'Male - Rev'!$A44-35,0),0.03999)","v":6.0000000000000001E-3},{"$f":"MIN(OFFSET(Male!CD$18,'Male - Rev'!$A44-35,0),0.03999)","v":7.1000000000000004E-3},{"$f":"MIN(OFFSET(Male!CE$18,'Male - Rev'!$A44-35,0),0.03999)","v":8.2000000000000007E-3},{"$f":"MIN(OFFSET(Male!CF$18,'Male - Rev'!$A44-35,0),0.03999)","v":9.1000000000000004E-3},{"$f":"MIN(OFFSET(Male!CG$18,'Male - Rev'!$A44-35,0),0.03999)","v":9.7999999999999997E-3},{"$f":"MIN(OFFSET(Male!CH$18,'Male - Rev'!$A44-35,0),0.03999)","v":0.01}]
[53,53,{"$f":"MIN(OFFSET(Male!B$18,'Male - Rev'!$A45-35,0),0.03999)","v":1.6899999999999998E-2},{"$f":"MIN(OFFSET(Male!C$18,'Male - Rev'!$A45-35,0),0.03999)","v":1.5699999999999999E-2},{"$f":"MIN(OFFSET(Male!D$18,'Male - Rev'!$A45-35,0),0.03999)","v":1.43E-2},{"$f":"MIN(OFFSET(Male!E$18,'Male - Rev'!$A45-35,0),0.03999)","v":1.2699999999999999E-2},{"$f":"MIN(OFFSET(Male!F$18,'Male - Rev'!$A45-35,0),0.03999)","v":1.0699999999999999E-2},{"$f":"MIN(OFFSET(Male!G$18,'Male - Rev'!$A45-35,0),0.03999)","v":8.3999999999999995E-3},{"$f":"MIN(OFFSET(Male!H$18,'Male - Rev'!$A45-35,0),0.03999)","v":6.3E-3},{"$f":"MIN(OFFSET(Male!I$18,'Male - Rev'!$A45-35,0),0.03999)","v":4.4000000000000003E-3},{"$f":"MIN(OFFSET(Male!J$18,'Male - Rev'!$A45-35,0),0.03999)","v":2.8999999999999998E-3},{"$f":"MIN(OFFSET(Male!K$18,'Male - Rev'!$A45-35,0),0.03999)","v":1.6000000000000001E-3},{"$f":"MIN(OFFSET(Male!L$18,'Male - Rev'!$A45-35,0),0.03999)","v":5.0000000000000001E-4},{"$f":"MIN(OFFSET(Male!M$18,'Male - Rev'!$A45-35,0),0.03999)","v":-5.0000000000000001E-4},{"$f":"MIN(OFFSET(Male!N$18,'Male - Rev'!$A45-35,0),0.03999)","v":-1.1000000000000001E-3},{"$f":"MIN(OFFSET(Male!O$18,'Male - Rev'!$A45-35,0),0.03999)","v":-1.2999999999999999E-3},{"$f":"MIN(OFFSET(Male!P$18,'Male - Rev'!$A45-35,0),0.03999)","v":-8.9999999999999998E-4},{"$f":"MIN(OFFSET(Male!Q$18,'Male - Rev'!$A45-35,0),0.03999)","v":2.9999999999999997E-4},{"$f":"MIN(OFFSET(Male!R$18,'Male - Rev'!$A45-35,0),0.03999)","v":2.3E-3},{"$f":"MIN(OFFSET(Male!S$18,'Male - Rev'!$A45-35,0),0.03999)","v":5.1000000000000004E-3},{"$f":"MIN(OFFSET(Male!T$18,'Male - Rev'!$A45-35,0),0.03999)","v":8.5000000000000006E-3},{"$f":"MIN(OFFSET(Male!U$18,'Male - Rev'!$A45-35,0),0.03999)","v":1.23E-2},{"$f":"MIN(OFFSET(Male!V$18,'Male - Rev'!$A45-35,0),0.03999)","v":1.6199999999999999E-2},{"$f":"MIN(OFFSET(Male!W$18,'Male - Rev'!$A45-35,0),0.03999)","v":1.9900000000000001E-2},{"$f":"MIN(OFFSET(Male!X$18,'Male - Rev'!$A45-35,0),0.03999)","v":2.29E-2},{"$f":"MIN(OFFSET(Male!Y$18,'Male - Rev'!$A45-35,0),0.03999)","v":2.5100000000000001E-2},{"$f":"MIN(OFFSET(Male!Z$18,'Male - Rev'!$A45-35,0),0.03999)","v":2.63E-2},{"$f":"MIN(OFFSET(Male!AA$18,'Male - Rev'!$A45-35,0),0.03999)","v":2.6599999999999999E-2},{"$f":"MIN(OFFSET(Male!AB$18,'Male - Rev'!$A45-35,0),0.03999)","v":2.6200000000000001E-2},{"$f":"MIN(OFFSET(Male!AC$18,'Male - Rev'!$A45-35,0),0.03999)","v":2.52E-2},{"$f":"MIN(OFFSET(Male!AD$18,'Male - Rev'!$A45-35,0),0.03999)","v":2.41E-2},{"$f":"MIN(OFFSET(Male!AE$18,'Male - Rev'!$A45-35,0),0.03999)","v":2.29E-2},{"$f":"MIN(OFFSET(Male!AF$18,'Male - Rev'!$A45-35,0),0.03999)","v":2.18E-2},{"$f":"MIN(OFFSET(Male!AG$18,'Male - Rev'!$A45-35,0),0.03999)","v":2.07E-2},{"$f":"MIN(OFFSET(Male!AH$18,'Male - Rev'!$A45-35,0),0.03999)","v":1.9800000000000002E-2},{"$f":"MIN(OFFSET(Male!AI$18,'Male - Rev'!$A45-35,0),0.03999)","v":1.9099999999999999E-2},{"$f":"MIN(OFFSET(Male!AJ$18,'Male - Rev'!$A45-35,0),0.03999)","v":1.8700000000000001E-2},{"$f":"MIN(OFFSET(Male!AK$18,'Male - Rev'!$A45-35,0),0.03999)","v":1.8499999999999999E-2},{"$f":"MIN(OFFSET(Male!AL$18,'Male - Rev'!$A45-35,0),0.03999)","v":1.8700000000000001E-2},{"$f":"MIN(OFFSET(Male!AM$18,'Male - Rev'!$A45-35,0),0.03999)","v":1.89E-2},{"$f":"MIN(OFFSET(Male!AN$18,'Male - Rev'!$A45-35,0),0.03999)","v":1.9099999999999999E-2},{"$f":"MIN(OFFSET(Male!AO$18,'Male - Rev'!$A45-35,0),0.03999)","v":1.9199999999999998E-2},{"$f":"MIN(OFFSET(Male!AP$18,'Male - Rev'!$A45-35,0),0.03999)","v":1.9199999999999998E-2},{"$f":"MIN(OFFSET(Male!AQ$18,'Male - Rev'!$A45-35,0),0.03999)","v":1.9199999999999998E-2},{"$f":"MIN(OFFSET(Male!AR$18,'Male - Rev'!$A45-35,0),0.03999)","v":1.9400000000000001E-2},{"$f":"MIN(OFFSET(Male!AS$18,'Male - Rev'!$A45-35,0),0.03999)","v":1.9800000000000002E-2},{"$f":"MIN(OFFSET(Male!AT$18,'Male - Rev'!$A45-35,0),0.03999)","v":2.01E-2},{"$f":"MIN(OFFSET(Male!AU$18,'Male - Rev'!$A45-35,0),0.03999)","v":1.9699999999999999E-2},{"$f":"MIN(OFFSET(Male!AV$18,'Male - Rev'!$A45-35,0),0.03999)","v":1.7999999999999999E-2},{"$f":"MIN(OFFSET(Male!AW$18,'Male - Rev'!$A45-35,0),0.03999)","v":1.5100000000000001E-2},{"$f":"MIN(OFFSET(Male!AX$18,'Male - Rev'!$A45-35,0),0.03999)","v":1.11E-2},{"$f":"MIN(OFFSET(Male!AY$18,'Male - Rev'!$A45-35,0),0.03999)","v":6.8999999999999999E-3},{"$f":"MIN(OFFSET(Male!AZ$18,'Male - Rev'!$A45-35,0),0.03999)","v":3.2000000000000002E-3},{"$f":"MIN(OFFSET(Male!BA$18,'Male - Rev'!$A45-35,0),0.03999)","v":5.9999999999999995E-4},{"$f":"MIN(OFFSET(Male!BB$18,'Male - Rev'!$A45-35,0),0.03999)","v":-5.9999999999999995E-4},{"$f":"MIN(OFFSET(Male!BC$18,'Male - Rev'!$A45-35,0),0.03999)","v":-2.0000000000000001E-4},{"$f":"MIN(OFFSET(Male!BD$18,'Male - Rev'!$A45-35,0),0.03999)","v":1.1999999999999999E-3},{"$f":"MIN(OFFSET(Male!BE$18,'Male - Rev'!$A45-35,0),0.03999)","v":3.3E-3},{"$f":"MIN(OFFSET(Male!BF$18,'Male - Rev'!$A45-35,0),0.03999)","v":5.4000000000000003E-3},{"$f":"MIN(OFFSET(Male!BG$18,'Male - Rev'!$A45-35,0),0.03999)","v":7.0000000000000001E-3},{"$f":"MIN(OFFSET(Male!BH$18,'Male - Rev'!$A45-35,0),0.03999)","v":8.0000000000000002E-3},{"$f":"MIN(OFFSET(Male!BI$18,'Male - Rev'!$A45-35,0),0.03999)","v":8.0999999999999996E-3},{"$f":"MIN(OFFSET(Male!BJ$18,'Male - Rev'!$A45-35,0),0.03999)","v":7.4999999999999997E-3},{"$f":"MIN(OFFSET(Male!BK$18,'Male - Rev'!$A45-35,0),0.03999)","v":6.4999999999999997E-3},{"$f":"MIN(OFFSET(Male!BL$18,'Male - Rev'!$A45-35,0),0.03999)","v":5.3E-3},{"$f":"MIN(OFFSET(Male!BM$18,'Male - Rev'!$A45-35,0),0.03999)","v":4.1000000000000003E-3},{"$f":"MIN(OFFSET(Male!BN$18,'Male - Rev'!$A45-35,0),0.03999)","v":3.0000000000000001E-3},{"$f":"MIN(OFFSET(Male!BO$18,'Male - Rev'!$A45-35,0),0.03999)","v":3.7000000000000002E-3},{"$f":"MIN(OFFSET(Male!BP$18,'Male - Rev'!$A45-35,0),0.03999)","v":4.1999999999999997E-3},{"$f":"MIN(OFFSET(Male!BQ$18,'Male - Rev'!$A45-35,0),0.03999)","v":4.7000000000000002E-3},{"$f":"MIN(OFFSET(Male!BR$18,'Male - Rev'!$A45-35,0),0.03999)","v":5.0000000000000001E-3},{"$f":"MIN(OFFSET(Male!BS$18,'Male - Rev'!$A45-35,0),0.03999)","v":5.0000000000000001E-3},{"$f":"MIN(OFFSET(Male!BT$18,'Male - Rev'!$A45-35,0),0.03999)","v":4.8999999999999998E-3},{"$f":"MIN(OFFSET(Male!BU$18,'Male - Rev'!$A45-35,0),0.03999)","v":4.4999999999999997E-3},{"$f":"MIN(OFFSET(Male!BV$18,'Male - Rev'!$A45-35,0),0.03999)","v":4.0000000000000001E-3},{"$f":"MIN(OFFSET(Male!BW$18,'Male - Rev'!$A45-35,0),0.03999)","v":3.3999999999999998E-3},{"$f":"MIN(OFFSET(Male!BX$18,'Male - Rev'!$A45-35,0),0.03999)","v":3.0000000000000001E-3},{"$f":"MIN(OFFSET(Male!BY$18,'Male - Rev'!$A45-35,0),0.03999)","v":2.8E-3},{"$f":"MIN(OFFSET(Male!BZ$18,'Male - Rev'!$A45-35,0),0.03999)","v":2.8999999999999998E-3},{"$f":"MIN(OFFSET(Male!CA$18,'Male - Rev'!$A45-35,0),0.03999)","v":3.5000000000000001E-3},{"$f":"MIN(OFFSET(Male!CB$18,'Male - Rev'!$A45-35,0),0.03999)","v":4.4000000000000003E-3},{"$f":"MIN(OFFSET(Male!CC$18,'Male - Rev'!$A45-35,0),0.03999)","v":5.5999999999999999E-3},{"$f":"MIN(OFFSET(Male!CD$18,'Male - Rev'!$A45-35,0),0.03999)","v":6.8999999999999999E-3},{"$f":"MIN(OFFSET(Male!CE$18,'Male - Rev'!$A45-35,0),0.03999)","v":8.0999999999999996E-3},{"$f":"MIN(OFFSET(Male!CF$18,'Male - Rev'!$A45-35,0),0.03999)","v":9.1000000000000004E-3},{"$f":"MIN(OFFSET(Male!CG$18,'Male - Rev'!$A45-35,0),0.03999)","v":9.7999999999999997E-3},{"$f":"MIN(OFFSET(Male!CH$18,'Male - Rev'!$A45-35,0),0.03999)","v":0.01}]
[52,52,{"$f":"MIN(OFFSET(Male!B$18,'Male - Rev'!$A46-35,0),0.03999)","v":1.7399999999999999E-2},{"$f":"MIN(OFFSET(Male!C$18,'Male - Rev'!$A46-35,0),0.03999)","v":1.6199999999999999E-2},{"$f":"MIN(OFFSET(Male!D$18,'Male - Rev'!$A46-35,0),0.03999)","v":1.49E-2},{"$f":"MIN(OFFSET(Male!E$18,'Male - Rev'!$A46-35,0),0.03999)","v":1.32E-2},{"$f":"MIN(OFFSET(Male!F$18,'Male - Rev'!$A46-35,0),0.03999)","v":1.11E-2},{"$f":"MIN(OFFSET(Male!G$18,'Male - Rev'!$A46-35,0),0.03999)","v":8.8000000000000005E-3},{"$f":"MIN(OFFSET(Male!H$18,'Male - Rev'!$A46-35,0),0.03999)","v":6.4999999999999997E-3},{"$f":"MIN(OFFSET(Male!I$18,'Male - Rev'!$A46-35,0),0.03999)","v":4.5999999999999999E-3},{"$f":"MIN(OFFSET(Male!J$18,'Male - Rev'!$A46-35,0),0.03999)","v":2.8999999999999998E-3},{"$f":"MIN(OFFSET(Male!K$18,'Male - Rev'!$A46-35,0),0.03999)","v":1.6000000000000001E-3},{"$f":"MIN(OFFSET(Male!L$18,'Male - Rev'!$A46-35,0),0.03999)","v":5.0000000000000001E-4},{"$f":"MIN(OFFSET(Male!M$18,'Male - Rev'!$A46-35,0),0.03999)","v":-5.0000000000000001E-4},{"$f":"MIN(OFFSET(Male!N$18,'Male - Rev'!$A46-35,0),0.03999)","v":-1.1000000000000001E-3},{"$f":"MIN(OFFSET(Male!O$18,'Male - Rev'!$A46-35,0),0.03999)","v":-1.1999999999999999E-3},{"$f":"MIN(OFFSET(Male!P$18,'Male - Rev'!$A46-35,0),0.03999)","v":-8.0000000000000004E-4},{"$f":"MIN(OFFSET(Male!Q$18,'Male - Rev'!$A46-35,0),0.03999)","v":5.0000000000000001E-4},{"$f":"MIN(OFFSET(Male!R$18,'Male - Rev'!$A46-35,0),0.03999)","v":2.5000000000000001E-3},{"$f":"MIN(OFFSET(Male!S$18,'Male - Rev'!$A46-35,0),0.03999)","v":5.1999999999999998E-3},{"$f":"MIN(OFFSET(Male!T$18,'Male - Rev'!$A46-35,0),0.03999)","v":8.6E-3},{"$f":"MIN(OFFSET(Male!U$18,'Male - Rev'!$A46-35,0),0.03999)","v":1.2200000000000001E-2},{"$f":"MIN(OFFSET(Male!V$18,'Male - Rev'!$A46-35,0),0.03999)","v":1.6E-2},{"$f":"MIN(OFFSET(Male!W$18,'Male - Rev'!$A46-35,0),0.03999)","v":1.95E-2},{"$f":"MIN(OFFSET(Male!X$18,'Male - Rev'!$A46-35,0),0.03999)","v":2.2499999999999999E-2},{"$f":"MIN(OFFSET(Male!Y$18,'Male - Rev'!$A46-35,0),0.03999)","v":2.47E-2},{"$f":"MIN(OFFSET(Male!Z$18,'Male - Rev'!$A46-35,0),0.03999)","v":2.6100000000000002E-2},{"$f":"MIN(OFFSET(Male!AA$18,'Male - Rev'!$A46-35,0),0.03999)","v":2.6599999999999999E-2},{"$f":"MIN(OFFSET(Male!AB$18,'Male - Rev'!$A46-35,0),0.03999)","v":2.64E-2},{"$f":"MIN(OFFSET(Male!AC$18,'Male - Rev'!$A46-35,0),0.03999)","v":2.5899999999999999E-2},{"$f":"MIN(OFFSET(Male!AD$18,'Male - Rev'!$A46-35,0),0.03999)","v":2.5100000000000001E-2},{"$f":"MIN(OFFSET(Male!AE$18,'Male - Rev'!$A46-35,0),0.03999)","v":2.4199999999999999E-2},{"$f":"MIN(OFFSET(Male!AF$18,'Male - Rev'!$A46-35,0),0.03999)","v":2.3300000000000001E-2},{"$f":"MIN(OFFSET(Male!AG$18,'Male - Rev'!$A46-35,0),0.03999)","v":2.2200000000000001E-2},{"$f":"MIN(OFFSET(Male!AH$18,'Male - Rev'!$A46-35,0),0.03999)","v":2.1000000000000001E-2},{"$f":"MIN(OFFSET(Male!AI$18,'Male - Rev'!$A46-35,0),0.03999)","v":0.02},{"$f":"MIN(OFFSET(Male!AJ$18,'Male - Rev'!$A46-35,0),0.03999)","v":1.9099999999999999E-2},{"$f":"MIN(OFFSET(Male!AK$18,'Male - Rev'!$A46-35,0),0.03999)","v":1.8499999999999999E-2},{"$f":"MIN(OFFSET(Male!AL$18,'Male - Rev'!$A46-35,0),0.03999)","v":1.8200000000000001E-2},{"$f":"MIN(OFFSET(Male!AM$18,'Male - Rev'!$A46-35,0),0.03999)","v":1.7999999999999999E-2},{"$f":"MIN(OFFSET(Male!AN$18,'Male - Rev'!$A46-35,0),0.03999)","v":1.7999999999999999E-2},{"$f":"MIN(OFFSET(Male!AO$18,'Male - Rev'!$A46-35,0),0.03999)","v":1.78E-2},{"$f":"MIN(OFFSET(Male!AP$18,'Male - Rev'!$A46-35,0),0.03999)","v":1.7600000000000001E-2},{"$f":"MIN(OFFSET(Male!AQ$18,'Male - Rev'!$A46-35,0),0.03999)","v":1.7600000000000001E-2},{"$f":"MIN(OFFSET(Male!AR$18,'Male - Rev'!$A46-35,0),0.03999)","v":1.78E-2},{"$f":"MIN(OFFSET(Male!AS$18,'Male - Rev'!$A46-35,0),0.03999)","v":1.84E-2},{"$f":"MIN(OFFSET(Male!AT$18,'Male - Rev'!$A46-35,0),0.03999)","v":1.8800000000000001E-2},{"$f":"MIN(OFFSET(Male!AU$18,'Male - Rev'!$A46-35,0),0.03999)","v":1.8499999999999999E-2},{"$f":"MIN(OFFSET(Male!AV$18,'Male - Rev'!$A46-35,0),0.03999)","v":1.6799999999999999E-2},{"$f":"MIN(OFFSET(Male!AW$18,'Male - Rev'!$A46-35,0),0.03999)","v":1.3599999999999999E-2},{"$f":"MIN(OFFSET(Male!AX$18,'Male - Rev'!$A46-35,0),0.03999)","v":9.4000000000000004E-3},{"$f":"MIN(OFFSET(Male!AY$18,'Male - Rev'!$A46-35,0),0.03999)","v":4.8999999999999998E-3},{"$f":"MIN(OFFSET(Male!AZ$18,'Male - Rev'!$A46-35,0),0.03999)","v":1E-3},{"$f":"MIN(OFFSET(Male!BA$18,'Male - Rev'!$A46-35,0),0.03999)","v":-1.5E-3},{"$f":"MIN(OFFSET(Male!BB$18,'Male - Rev'!$A46-35,0),0.03999)","v":-2.2000000000000001E-3},{"$f":"MIN(OFFSET(Male!BC$18,'Male - Rev'!$A46-35,0),0.03999)","v":-1.1000000000000001E-3},{"$f":"MIN(OFFSET(Male!BD$18,'Male - Rev'!$A46-35,0),0.03999)","v":1.1999999999999999E-3},{"$f":"MIN(OFFSET(Male!BE$18,'Male - Rev'!$A46-35,0),0.03999)","v":4.1000000000000003E-3},{"$f":"MIN(OFFSET(Male!BF$18,'Male - Rev'!$A46-35,0),0.03999)","v":7.1000000000000004E-3},{"$f":"MIN(OFFSET(Male!BG$18,'Male - Rev'!$A46-35,0),0.03999)","v":9.2999999999999992E-3},{"$f":"MIN(OFFSET(Male!BH$18,'Male - Rev'!$A46-35,0),0.03999)","v":1.06E-2},{"$f":"MIN(OFFSET(Male!BI$18,'Male - Rev'!$A46-35,0),0.03999)","v":1.09E-2},{"$f":"MIN(OFFSET(Male!BJ$18,'Male - Rev'!$A46-35,0),0.03999)","v":1.0200000000000001E-2},{"$f":"MIN(OFFSET(Male!BK$18,'Male - Rev'!$A46-35,0),0.03999)","v":8.9999999999999993E-3},{"$f":"MIN(OFFSET(Male!BL$18,'Male - Rev'!$A46-35,0),0.03999)","v":7.4000000000000003E-3},{"$f":"MIN(OFFSET(Male!BM$18,'Male - Rev'!$A46-35,0),0.03999)","v":5.7000000000000002E-3},{"$f":"MIN(OFFSET(Male!BN$18,'Male - Rev'!$A46-35,0),0.03999)","v":4.0000000000000001E-3},{"$f":"MIN(OFFSET(Male!BO$18,'Male - Rev'!$A46-35,0),0.03999)","v":4.4000000000000003E-3},{"$f":"MIN(OFFSET(Male!BP$18,'Male - Rev'!$A46-35,0),0.03999)","v":4.7000000000000002E-3},{"$f":"MIN(OFFSET(Male!BQ$18,'Male - Rev'!$A46-35,0),0.03999)","v":4.7999999999999996E-3},{"$f":"MIN(OFFSET(Male!BR$18,'Male - Rev'!$A46-35,0),0.03999)","v":4.5999999999999999E-3},{"$f":"MIN(OFFSET(Male!BS$18,'Male - Rev'!$A46-35,0),0.03999)","v":4.3E-3},{"$f":"MIN(OFFSET(Male!BT$18,'Male - Rev'!$A46-35,0),0.03999)","v":3.7000000000000002E-3},{"$f":"MIN(OFFSET(Male!BU$18,'Male - Rev'!$A46-35,0),0.03999)","v":3.0999999999999999E-3},{"$f":"MIN(OFFSET(Male!BV$18,'Male - Rev'!$A46-35,0),0.03999)","v":2.3999999999999998E-3},{"$f":"MIN(OFFSET(Male!BW$18,'Male - Rev'!$A46-35,0),0.03999)","v":1.9E-3},{"$f":"MIN(OFFSET(Male!BX$18,'Male - Rev'!$A46-35,0),0.03999)","v":1.5E-3},{"$f":"MIN(OFFSET(Male!BY$18,'Male - Rev'!$A46-35,0),0.03999)","v":1.5E-3},{"$f":"MIN(OFFSET(Male!BZ$18,'Male - Rev'!$A46-35,0),0.03999)","v":1.9E-3},{"$f":"MIN(OFFSET(Male!CA$18,'Male - Rev'!$A46-35,0),0.03999)","v":2.7000000000000001E-3},{"$f":"MIN(OFFSET(Male!CB$18,'Male - Rev'!$A46-35,0),0.03999)","v":3.8999999999999998E-3},{"$f":"MIN(OFFSET(Male!CC$18,'Male - Rev'!$A46-35,0),0.03999)","v":5.3E-3},{"$f":"MIN(OFFSET(Male!CD$18,'Male - Rev'!$A46-35,0),0.03999)","v":6.7000000000000002E-3},{"$f":"MIN(OFFSET(Male!CE$18,'Male - Rev'!$A46-35,0),0.03999)","v":8.0000000000000002E-3},{"$f":"MIN(OFFSET(Male!CF$18,'Male - Rev'!$A46-35,0),0.03999)","v":9.1000000000000004E-3},{"$f":"MIN(OFFSET(Male!CG$18,'Male - Rev'!$A46-35,0),0.03999)","v":9.7999999999999997E-3},{"$f":"MIN(OFFSET(Male!CH$18,'Male - Rev'!$A46-35,0),0.03999)","v":0.01}]
[51,51,{"$f":"MIN(OFFSET(Male!B$18,'Male - Rev'!$A47-35,0),0.03999)","v":1.8100000000000002E-2},{"$f":"MIN(OFFSET(Male!C$18,'Male - Rev'!$A47-35,0),0.03999)","v":1.6799999999999999E-2},{"$f":"MIN(OFFSET(Male!D$18,'Male - Rev'!$A47-35,0),0.03999)","v":1.54E-2},{"$f":"MIN(OFFSET(Male!E$18,'Male - Rev'!$A47-35,0),0.03999)","v":1.37E-2},{"$f":"MIN(OFFSET(Male!F$18,'Male - Rev'!$A47-35,0),0.03999)","v":1.1599999999999999E-2},{"$f":"MIN(OFFSET(Male!G$18,'Male - Rev'!$A47-35,0),0.03999)","v":9.2999999999999992E-3},{"$f":"MIN(OFFSET(Male!H$18,'Male - Rev'!$A47-35,0),0.03999)","v":6.8999999999999999E-3},{"$f":"MIN(OFFSET(Male!I$18,'Male - Rev'!$A47-35,0),0.03999)","v":4.7999999999999996E-3},{"$f":"MIN(OFFSET(Male!J$18,'Male - Rev'!$A47-35,0),0.03999)","v":3.0000000000000001E-3},{"$f":"MIN(OFFSET(Male!K$18,'Male - Rev'!$A47-35,0),0.03999)","v":1.6000000000000001E-3},{"$f":"MIN(OFFSET(Male!L$18,'Male - Rev'!$A47-35,0),0.03999)","v":4.0000000000000002E-4},{"$f":"MIN(OFFSET(Male!M$18,'Male - Rev'!$A47-35,0),0.03999)","v":-5.9999999999999995E-4},{"$f":"MIN(OFFSET(Male!N$18,'Male - Rev'!$A47-35,0),0.03999)","v":-1.1999999999999999E-3},{"$f":"MIN(OFFSET(Male!O$18,'Male - Rev'!$A47-35,0),0.03999)","v":-1.2999999999999999E-3},{"$f":"MIN(OFFSET(Male!P$18,'Male - Rev'!$A47-35,0),0.03999)","v":-8.0000000000000004E-4},{"$f":"MIN(OFFSET(Male!Q$18,'Male - Rev'!$A47-35,0),0.03999)","v":4.0000000000000002E-4},{"$f":"MIN(OFFSET(Male!R$18,'Male - Rev'!$A47-35,0),0.03999)","v":2.3999999999999998E-3},{"$f":"MIN(OFFSET(Male!S$18,'Male - Rev'!$A47-35,0),0.03999)","v":5.0000000000000001E-3},{"$f":"MIN(OFFSET(Male!T$18,'Male - Rev'!$A47-35,0),0.03999)","v":8.3000000000000001E-3},{"$f":"MIN(OFFSET(Male!U$18,'Male - Rev'!$A47-35,0),0.03999)","v":1.1900000000000001E-2},{"$f":"MIN(OFFSET(Male!V$18,'Male - Rev'!$A47-35,0),0.03999)","v":1.5599999999999999E-2},{"$f":"MIN(OFFSET(Male!W$18,'Male - Rev'!$A47-35,0),0.03999)","v":1.9099999999999999E-2},{"$f":"MIN(OFFSET(Male!X$18,'Male - Rev'!$A47-35,0),0.03999)","v":2.2100000000000002E-2},{"$f":"MIN(OFFSET(Male!Y$18,'Male - Rev'!$A47-35,0),0.03999)","v":2.4500000000000001E-2},{"$f":"MIN(OFFSET(Male!Z$18,'Male - Rev'!$A47-35,0),0.03999)","v":2.6100000000000002E-2},{"$f":"MIN(OFFSET(Male!AA$18,'Male - Rev'!$A47-35,0),0.03999)","v":2.69E-2},{"$f":"MIN(OFFSET(Male!AB$18,'Male - Rev'!$A47-35,0),0.03999)","v":2.7E-2},{"$f":"MIN(OFFSET(Male!AC$18,'Male - Rev'!$A47-35,0),0.03999)","v":2.6800000000000001E-2},{"$f":"MIN(OFFSET(Male!AD$18,'Male - Rev'!$A47-35,0),0.03999)","v":2.63E-2},{"$f":"MIN(OFFSET(Male!AE$18,'Male - Rev'!$A47-35,0),0.03999)","v":2.5600000000000001E-2},{"$f":"MIN(OFFSET(Male!AF$18,'Male - Rev'!$A47-35,0),0.03999)","v":2.47E-2},{"$f":"MIN(OFFSET(Male!AG$18,'Male - Rev'!$A47-35,0),0.03999)","v":2.35E-2},{"$f":"MIN(OFFSET(Male!AH$18,'Male - Rev'!$A47-35,0),0.03999)","v":2.2200000000000001E-2},{"$f":"MIN(OFFSET(Male!AI$18,'Male - Rev'!$A47-35,0),0.03999)","v":2.07E-2},{"$f":"MIN(OFFSET(Male!AJ$18,'Male - Rev'!$A47-35,0),0.03999)","v":1.9300000000000001E-2},{"$f":"MIN(OFFSET(Male!AK$18,'Male - Rev'!$A47-35,0),0.03999)","v":1.8100000000000002E-2},{"$f":"MIN(OFFSET(Male!AL$18,'Male - Rev'!$A47-35,0),0.03999)","v":1.7299999999999999E-2},{"$f":"MIN(OFFSET(Male!AM$18,'Male - Rev'!$A47-35,0),0.03999)","v":1.67E-2},{"$f":"MIN(OFFSET(Male!AN$18,'Male - Rev'!$A47-35,0),0.03999)","v":1.6299999999999999E-2},{"$f":"MIN(OFFSET(Male!AO$18,'Male - Rev'!$A47-35,0),0.03999)","v":1.5900000000000001E-2},{"$f":"MIN(OFFSET(Male!AP$18,'Male - Rev'!$A47-35,0),0.03999)","v":1.5599999999999999E-2},{"$f":"MIN(OFFSET(Male!AQ$18,'Male - Rev'!$A47-35,0),0.03999)","v":1.5599999999999999E-2},{"$f":"MIN(OFFSET(Male!AR$18,'Male - Rev'!$A47-35,0),0.03999)","v":1.6E-2},{"$f":"MIN(OFFSET(Male!AS$18,'Male - Rev'!$A47-35,0),0.03999)","v":1.67E-2},{"$f":"MIN(OFFSET(Male!AT$18,'Male - Rev'!$A47-35,0),0.03999)","v":1.7299999999999999E-2},{"$f":"MIN(OFFSET(Male!AU$18,'Male - Rev'!$A47-35,0),0.03999)","v":1.7100000000000001E-2},{"$f":"MIN(OFFSET(Male!AV$18,'Male - Rev'!$A47-35,0),0.03999)","v":1.55E-2},{"$f":"MIN(OFFSET(Male!AW$18,'Male - Rev'!$A47-35,0),0.03999)","v":1.2200000000000001E-2},{"$f":"MIN(OFFSET(Male!AX$18,'Male - Rev'!$A47-35,0),0.03999)","v":7.7999999999999996E-3},{"$f":"MIN(OFFSET(Male!AY$18,'Male - Rev'!$A47-35,0),0.03999)","v":3.3E-3},{"$f":"MIN(OFFSET(Male!AZ$18,'Male - Rev'!$A47-35,0),0.03999)","v":-5.0000000000000001E-4},{"$f":"MIN(OFFSET(Male!BA$18,'Male - Rev'!$A47-35,0),0.03999)","v":-2.7000000000000001E-3},{"$f":"MIN(OFFSET(Male!BB$18,'Male - Rev'!$A47-35,0),0.03999)","v":-2.8E-3},{"$f":"MIN(OFFSET(Male!BC$18,'Male - Rev'!$A47-35,0),0.03999)","v":-1.1000000000000001E-3},{"$f":"MIN(OFFSET(Male!BD$18,'Male - Rev'!$A47-35,0),0.03999)","v":2E-3},{"$f":"MIN(OFFSET(Male!BE$18,'Male - Rev'!$A47-35,0),0.03999)","v":5.7000000000000002E-3},{"$f":"MIN(OFFSET(Male!BF$18,'Male - Rev'!$A47-35,0),0.03999)","v":9.1999999999999998E-3},{"$f":"MIN(OFFSET(Male!BG$18,'Male - Rev'!$A47-35,0),0.03999)","v":1.18E-2},{"$f":"MIN(OFFSET(Male!BH$18,'Male - Rev'!$A47-35,0),0.03999)","v":1.34E-2},{"$f":"MIN(OFFSET(Male!BI$18,'Male - Rev'!$A47-35,0),0.03999)","v":1.37E-2},{"$f":"MIN(OFFSET(Male!BJ$18,'Male - Rev'!$A47-35,0),0.03999)","v":1.29E-2},{"$f":"MIN(OFFSET(Male!BK$18,'Male - Rev'!$A47-35,0),0.03999)","v":1.1299999999999999E-2},{"$f":"MIN(OFFSET(Male!BL$18,'Male - Rev'!$A47-35,0),0.03999)","v":9.2999999999999992E-3},{"$f":"MIN(OFFSET(Male!BM$18,'Male - Rev'!$A47-35,0),0.03999)","v":7.0000000000000001E-3},{"$f":"MIN(OFFSET(Male!BN$18,'Male - Rev'!$A47-35,0),0.03999)","v":4.5999999999999999E-3},{"$f":"MIN(OFFSET(Male!BO$18,'Male - Rev'!$A47-35,0),0.03999)","v":4.7000000000000002E-3},{"$f":"MIN(OFFSET(Male!BP$18,'Male - Rev'!$A47-35,0),0.03999)","v":4.5999999999999999E-3},{"$f":"MIN(OFFSET(Male!BQ$18,'Male - Rev'!$A47-35,0),0.03999)","v":4.3E-3},{"$f":"MIN(OFFSET(Male!BR$18,'Male - Rev'!$A47-35,0),0.03999)","v":3.8E-3},{"$f":"MIN(OFFSET(Male!BS$18,'Male - Rev'!$A47-35,0),0.03999)","v":3.0000000000000001E-3},{"$f":"MIN(OFFSET(Male!BT$18,'Male - Rev'!$A47-35,0),0.03999)","v":2.2000000000000001E-3},{"$f":"MIN(OFFSET(Male!BU$18,'Male - Rev'!$A47-35,0),0.03999)","v":1.2999999999999999E-3},{"$f":"MIN(OFFSET(Male!BV$18,'Male - Rev'!$A47-35,0),0.03999)","v":5.9999999999999995E-4},{"$f":"MIN(OFFSET(Male!BW$18,'Male - Rev'!$A47-35,0),0.03999)","v":1E-4},{"$f":"MIN(OFFSET(Male!BX$18,'Male - Rev'!$A47-35,0),0.03999)","v":0},{"$f":"MIN(OFFSET(Male!BY$18,'Male - Rev'!$A47-35,0),0.03999)","v":2.0000000000000001E-4},{"$f":"MIN(OFFSET(Male!BZ$18,'Male - Rev'!$A47-35,0),0.03999)","v":8.9999999999999998E-4},{"$f":"MIN(OFFSET(Male!CA$18,'Male - Rev'!$A47-35,0),0.03999)","v":2E-3},{"$f":"MIN(OFFSET(Male!CB$18,'Male - Rev'!$A47-35,0),0.03999)","v":3.5000000000000001E-3},{"$f":"MIN(OFFSET(Male!CC$18,'Male - Rev'!$A47-35,0),0.03999)","v":5.0000000000000001E-3},{"$f":"MIN(OFFSET(Male!CD$18,'Male - Rev'!$A47-35,0),0.03999)","v":6.6E-3},{"$f":"MIN(OFFSET(Male!CE$18,'Male - Rev'!$A47-35,0),0.03999)","v":8.0000000000000002E-3},{"$f":"MIN(OFFSET(Male!CF$18,'Male - Rev'!$A47-35,0),0.03999)","v":9.1000000000000004E-3},{"$f":"MIN(OFFSET(Male!CG$18,'Male - Rev'!$A47-35,0),0.03999)","v":9.7999999999999997E-3},{"$f":"MIN(OFFSET(Male!CH$18,'Male - Rev'!$A47-35,0),0.03999)","v":0.01}]
[50,50,{"$f":"MIN(OFFSET(Male!B$18,'Male - Rev'!$A48-35,0),0.03999)","v":1.9E-2},{"$f":"MIN(OFFSET(Male!C$18,'Male - Rev'!$A48-35,0),0.03999)","v":1.7600000000000001E-2},{"$f":"MIN(OFFSET(Male!D$18,'Male - Rev'!$A48-35,0),0.03999)","v":1.61E-2},{"$f":"MIN(OFFSET(Male!E$18,'Male - Rev'!$A48-35,0),0.03999)","v":1.43E-2},{"$f":"MIN(OFFSET(Male!F$18,'Male - Rev'!$A48-35,0),0.03999)","v":1.2200000000000001E-2},{"$f":"MIN(OFFSET(Male!G$18,'Male - Rev'!$A48-35,0),0.03999)","v":9.7000000000000003E-3},{"$f":"MIN(OFFSET(Male!H$18,'Male - Rev'!$A48-35,0),0.03999)","v":7.3000000000000001E-3},{"$f":"MIN(OFFSET(Male!I$18,'Male - Rev'!$A48-35,0),0.03999)","v":5.0000000000000001E-3},{"$f":"MIN(OFFSET(Male!J$18,'Male - Rev'!$A48-35,0),0.03999)","v":3.2000000000000002E-3},{"$f":"MIN(OFFSET(Male!K$18,'Male - Rev'!$A48-35,0),0.03999)","v":1.6000000000000001E-3},{"$f":"MIN(OFFSET(Male!L$18,'Male - Rev'!$A48-35,0),0.03999)","v":2.9999999999999997E-4},{"$f":"MIN(OFFSET(Male!M$18,'Male - Rev'!$A48-35,0),0.03999)","v":-6.9999999999999999E-4},{"$f":"MIN(OFFSET(Male!N$18,'Male - Rev'!$A48-35,0),0.03999)","v":-1.4E-3},{"$f":"MIN(OFFSET(Male!O$18,'Male - Rev'!$A48-35,0),0.03999)","v":-1.6000000000000001E-3},{"$f":"MIN(OFFSET(Male!P$18,'Male - Rev'!$A48-35,0),0.03999)","v":-1.1999999999999999E-3},{"$f":"MIN(OFFSET(Male!Q$18,'Male - Rev'!$A48-35,0),0.03999)","v":0},{"$f":"MIN(OFFSET(Male!R$18,'Male - Rev'!$A48-35,0),0.03999)","v":1.9E-3},{"$f":"MIN(OFFSET(Male!S$18,'Male - Rev'!$A48-35,0),0.03999)","v":4.4999999999999997E-3},{"$f":"MIN(OFFSET(Male!T$18,'Male - Rev'!$A48-35,0),0.03999)","v":7.7999999999999996E-3},{"$f":"MIN(OFFSET(Male!U$18,'Male - Rev'!$A48-35,0),0.03999)","v":1.1299999999999999E-2},{"$f":"MIN(OFFSET(Male!V$18,'Male - Rev'!$A48-35,0),0.03999)","v":1.4999999999999999E-2},{"$f":"MIN(OFFSET(Male!W$18,'Male - Rev'!$A48-35,0),0.03999)","v":1.8599999999999998E-2},{"$f":"MIN(OFFSET(Male!X$18,'Male - Rev'!$A48-35,0),0.03999)","v":2.1899999999999999E-2},{"$f":"MIN(OFFSET(Male!Y$18,'Male - Rev'!$A48-35,0),0.03999)","v":2.46E-2},{"$f":"MIN(OFFSET(Male!Z$18,'Male - Rev'!$A48-35,0),0.03999)","v":2.6499999999999999E-2},{"$f":"MIN(OFFSET(Male!AA$18,'Male - Rev'!$A48-35,0),0.03999)","v":2.75E-2},{"$f":"MIN(OFFSET(Male!AB$18,'Male - Rev'!$A48-35,0),0.03999)","v":2.7900000000000001E-2},{"$f":"MIN(OFFSET(Male!AC$18,'Male - Rev'!$A48-35,0),0.03999)","v":2.7799999999999998E-2},{"$f":"MIN(OFFSET(Male!AD$18,'Male - Rev'!$A48-35,0),0.03999)","v":2.7400000000000001E-2},{"$f":"MIN(OFFSET(Male!AE$18,'Male - Rev'!$A48-35,0),0.03999)","v":2.6800000000000001E-2},{"$f":"MIN(OFFSET(Male!AF$18,'Male - Rev'!$A48-35,0),0.03999)","v":2.5899999999999999E-2},{"$f":"MIN(OFFSET(Male!AG$18,'Male - Rev'!$A48-35,0),0.03999)","v":2.47E-2},{"$f":"MIN(OFFSET(Male!AH$18,'Male - Rev'!$A48-35,0),0.03999)","v":2.3099999999999999E-2},{"$f":"MIN(OFFSET(Male!AI$18,'Male - Rev'!$A48-35,0),0.03999)","v":2.12E-2},{"$f":"MIN(OFFSET(Male!AJ$18,'Male - Rev'!$A48-35,0),0.03999)","v":1.9199999999999998E-2},{"$f":"MIN(OFFSET(Male!AK$18,'Male - Rev'!$A48-35,0),0.03999)","v":1.7500000000000002E-2},{"$f":"MIN(OFFSET(Male!AL$18,'Male - Rev'!$A48-35,0),0.03999)","v":1.6E-2},{"$f":"MIN(OFFSET(Male!AM$18,'Male - Rev'!$A48-35,0),0.03999)","v":1.49E-2},{"$f":"MIN(OFFSET(Male!AN$18,'Male - Rev'!$A48-35,0),0.03999)","v":1.4E-2},{"$f":"MIN(OFFSET(Male!AO$18,'Male - Rev'!$A48-35,0),0.03999)","v":1.34E-2},{"$f":"MIN(OFFSET(Male!AP$18,'Male - Rev'!$A48-35,0),0.03999)","v":1.32E-2},{"$f":"MIN(OFFSET(Male!AQ$18,'Male - Rev'!$A48-35,0),0.03999)","v":1.3299999999999999E-2},{"$f":"MIN(OFFSET(Male!AR$18,'Male - Rev'!$A48-35,0),0.03999)","v":1.3899999999999999E-2},{"$f":"MIN(OFFSET(Male!AS$18,'Male - Rev'!$A48-35,0),0.03999)","v":1.49E-2},{"$f":"MIN(OFFSET(Male!AT$18,'Male - Rev'!$A48-35,0),0.03999)","v":1.5800000000000002E-2},{"$f":"MIN(OFFSET(Male!AU$18,'Male - Rev'!$A48-35,0),0.03999)","v":1.5800000000000002E-2},{"$f":"MIN(OFFSET(Male!AV$18,'Male - Rev'!$A48-35,0),0.03999)","v":1.4200000000000001E-2},{"$f":"MIN(OFFSET(Male!AW$18,'Male - Rev'!$A48-35,0),0.03999)","v":1.0999999999999999E-2},{"$f":"MIN(OFFSET(Male!AX$18,'Male - Rev'!$A48-35,0),0.03999)","v":6.6E-3},{"$f":"MIN(OFFSET(Male!AY$18,'Male - Rev'!$A48-35,0),0.03999)","v":2.2000000000000001E-3},{"$f":"MIN(OFFSET(Male!AZ$18,'Male - Rev'!$A48-35,0),0.03999)","v":-1.1999999999999999E-3},{"$f":"MIN(OFFSET(Male!BA$18,'Male - Rev'!$A48-35,0),0.03999)","v":-2.8999999999999998E-3},{"$f":"MIN(OFFSET(Male!BB$18,'Male - Rev'!$A48-35,0),0.03999)","v":-2.5000000000000001E-3},{"$f":"MIN(OFFSET(Male!BC$18,'Male - Rev'!$A48-35,0),0.03999)","v":-1E-4},{"$f":"MIN(OFFSET(Male!BD$18,'Male - Rev'!$A48-35,0),0.03999)","v":3.5000000000000001E-3},{"$f":"MIN(OFFSET(Male!BE$18,'Male - Rev'!$A48-35,0),0.03999)","v":7.7000000000000002E-3},{"$f":"MIN(OFFSET(Male!BF$18,'Male - Rev'!$A48-35,0),0.03999)","v":1.15E-2},{"$f":"MIN(OFFSET(Male!BG$18,'Male - Rev'!$A48-35,0),0.03999)","v":1.4500000000000001E-2},{"$f":"MIN(OFFSET(Male!BH$18,'Male - Rev'!$A48-35,0),0.03999)","v":1.61E-2},{"$f":"MIN(OFFSET(Male!BI$18,'Male - Rev'!$A48-35,0),0.03999)","v":1.6400000000000001E-2},{"$f":"MIN(OFFSET(Male!BJ$18,'Male - Rev'!$A48-35,0),0.03999)","v":1.55E-2},{"$f":"MIN(OFFSET(Male!BK$18,'Male - Rev'!$A48-35,0),0.03999)","v":1.35E-2},{"$f":"MIN(OFFSET(Male!BL$18,'Male - Rev'!$A48-35,0),0.03999)","v":1.09E-2},{"$f":"MIN(OFFSET(Male!BM$18,'Male - Rev'!$A48-35,0),0.03999)","v":7.7999999999999996E-3},{"$f":"MIN(OFFSET(Male!BN$18,'Male - Rev'!$A48-35,0),0.03999)","v":4.5999999999999999E-3},{"$f":"MIN(OFFSET(Male!BO$18,'Male - Rev'!$A48-35,0),0.03999)","v":4.3E-3},{"$f":"MIN(OFFSET(Male!BP$18,'Male - Rev'!$A48-35,0),0.03999)","v":3.8999999999999998E-3},{"$f":"MIN(OFFSET(Male!BQ$18,'Male - Rev'!$A48-35,0),0.03999)","v":3.2000000000000002E-3},{"$f":"MIN(OFFSET(Male!BR$18,'Male - Rev'!$A48-35,0),0.03999)","v":2.3E-3},{"$f":"MIN(OFFSET(Male!BS$18,'Male - Rev'!$A48-35,0),0.03999)","v":1.2999999999999999E-3},{"$f":"MIN(OFFSET(Male!BT$18,'Male - Rev'!$A48-35,0),0.03999)","v":2.0000000000000001E-4},{"$f":"MIN(OFFSET(Male!BU$18,'Male - Rev'!$A48-35,0),0.03999)","v":-6.9999999999999999E-4},{"$f":"MIN(OFFSET(Male!BV$18,'Male - Rev'!$A48-35,0),0.03999)","v":-1.2999999999999999E-3},{"$f":"MIN(OFFSET(Male!BW$18,'Male - Rev'!$A48-35,0),0.03999)","v":-1.6000000000000001E-3},{"$f":"MIN(OFFSET(Male!BX$18,'Male - Rev'!$A48-35,0),0.03999)","v":-1.5E-3},{"$f":"MIN(OFFSET(Male!BY$18,'Male - Rev'!$A48-35,0),0.03999)","v":-1E-3},{"$f":"MIN(OFFSET(Male!BZ$18,'Male - Rev'!$A48-35,0),0.03999)","v":1E-4},{"$f":"MIN(OFFSET(Male!CA$18,'Male - Rev'!$A48-35,0),0.03999)","v":1.5E-3},{"$f":"MIN(OFFSET(Male!CB$18,'Male - Rev'!$A48-35,0),0.03999)","v":3.0999999999999999E-3},{"$f":"MIN(OFFSET(Male!CC$18,'Male - Rev'!$A48-35,0),0.03999)","v":4.8999999999999998E-3},{"$f":"MIN(OFFSET(Male!CD$18,'Male - Rev'!$A48-35,0),0.03999)","v":6.4999999999999997E-3},{"$f":"MIN(OFFSET(Male!CE$18,'Male - Rev'!$A48-35,0),0.03999)","v":8.0000000000000002E-3},{"$f":"MIN(OFFSET(Male!CF$18,'Male - Rev'!$A48-35,0),0.03999)","v":9.1000000000000004E-3},{"$f":"MIN(OFFSET(Male!CG$18,'Male - Rev'!$A48-35,0),0.03999)","v":9.7999999999999997E-3},{"$f":"MIN(OFFSET(Male!CH$18,'Male - Rev'!$A48-35,0),0.03999)","v":0.01}]
[49,49,{"$f":"MIN(OFFSET(Male!B$18,'Male - Rev'!$A49-35,0),0.03999)","v":0.02},{"$f":"MIN(OFFSET(Male!C$18,'Male - Rev'!$A49-35,0),0.03999)","v":1.8499999999999999E-2},{"$f":"MIN(OFFSET(Male!D$18,'Male - Rev'!$A49-35,0),0.03999)","v":1.6899999999999998E-2},{"$f":"MIN(OFFSET(Male!E$18,'Male - Rev'!$A49-35,0),0.03999)","v":1.4999999999999999E-2},{"$f":"MIN(OFFSET(Male!F$18,'Male - Rev'!$A49-35,0),0.03999)","v":1.2800000000000001E-2},{"$f":"MIN(OFFSET(Male!G$18,'Male - Rev'!$A49-35,0),0.03999)","v":1.03E-2},{"$f":"MIN(OFFSET(Male!H$18,'Male - Rev'!$A49-35,0),0.03999)","v":7.7999999999999996E-3},{"$f":"MIN(OFFSET(Male!I$18,'Male - Rev'!$A49-35,0),0.03999)","v":5.4000000000000003E-3},{"$f":"MIN(OFFSET(Male!J$18,'Male - Rev'!$A49-35,0),0.03999)","v":3.3999999999999998E-3},{"$f":"MIN(OFFSET(Male!K$18,'Male - Rev'!$A49-35,0),0.03999)","v":1.6000000000000001E-3},{"$f":"MIN(OFFSET(Male!L$18,'Male - Rev'!$A49-35,0),0.03999)","v":2.0000000000000001E-4},{"$f":"MIN(OFFSET(Male!M$18,'Male - Rev'!$A49-35,0),0.03999)","v":-1E-3},{"$f":"MIN(OFFSET(Male!N$18,'Male - Rev'!$A49-35,0),0.03999)","v":-1.8E-3},{"$f":"MIN(OFFSET(Male!O$18,'Male - Rev'!$A49-35,0),0.03999)","v":-2.0999999999999999E-3},{"$f":"MIN(OFFSET(Male!P$18,'Male - Rev'!$A49-35,0),0.03999)","v":-1.6999999999999999E-3},{"$f":"MIN(OFFSET(Male!Q$18,'Male - Rev'!$A49-35,0),0.03999)","v":-6.9999999999999999E-4},{"$f":"MIN(OFFSET(Male!R$18,'Male - Rev'!$A49-35,0),0.03999)","v":1.1000000000000001E-3},{"$f":"MIN(OFFSET(Male!S$18,'Male - Rev'!$A49-35,0),0.03999)","v":3.7000000000000002E-3},{"$f":"MIN(OFFSET(Male!T$18,'Male - Rev'!$A49-35,0),0.03999)","v":6.8999999999999999E-3},{"$f":"MIN(OFFSET(Male!U$18,'Male - Rev'!$A49-35,0),0.03999)","v":1.06E-2},{"$f":"MIN(OFFSET(Male!V$18,'Male - Rev'!$A49-35,0),0.03999)","v":1.44E-2},{"$f":"MIN(OFFSET(Male!W$18,'Male - Rev'!$A49-35,0),0.03999)","v":1.8200000000000001E-2},{"$f":"MIN(OFFSET(Male!X$18,'Male - Rev'!$A49-35,0),0.03999)","v":2.18E-2},{"$f":"MIN(OFFSET(Male!Y$18,'Male - Rev'!$A49-35,0),0.03999)","v":2.4899999999999999E-2},{"$f":"MIN(OFFSET(Male!Z$18,'Male - Rev'!$A49-35,0),0.03999)","v":2.7099999999999999E-2},{"$f":"MIN(OFFSET(Male!AA$18,'Male - Rev'!$A49-35,0),0.03999)","v":2.8500000000000001E-2},{"$f":"MIN(OFFSET(Male!AB$18,'Male - Rev'!$A49-35,0),0.03999)","v":2.9100000000000001E-2},{"$f":"MIN(OFFSET(Male!AC$18,'Male - Rev'!$A49-35,0),0.03999)","v":2.9000000000000001E-2},{"$f":"MIN(OFFSET(Male!AD$18,'Male - Rev'!$A49-35,0),0.03999)","v":2.86E-2},{"$f":"MIN(OFFSET(Male!AE$18,'Male - Rev'!$A49-35,0),0.03999)","v":2.7900000000000001E-2},{"$f":"MIN(OFFSET(Male!AF$18,'Male - Rev'!$A49-35,0),0.03999)","v":2.69E-2},{"$f":"MIN(OFFSET(Male!AG$18,'Male - Rev'!$A49-35,0),0.03999)","v":2.5600000000000001E-2},{"$f":"MIN(OFFSET(Male!AH$18,'Male - Rev'!$A49-35,0),0.03999)","v":2.3699999999999999E-2},{"$f":"MIN(OFFSET(Male!AI$18,'Male - Rev'!$A49-35,0),0.03999)","v":2.1399999999999999E-2},{"$f":"MIN(OFFSET(Male!AJ$18,'Male - Rev'!$A49-35,0),0.03999)","v":1.89E-2},{"$f":"MIN(OFFSET(Male!AK$18,'Male - Rev'!$A49-35,0),0.03999)","v":1.6400000000000001E-2},{"$f":"MIN(OFFSET(Male!AL$18,'Male - Rev'!$A49-35,0),0.03999)","v":1.43E-2},{"$f":"MIN(OFFSET(Male!AM$18,'Male - Rev'!$A49-35,0),0.03999)","v":1.2500000000000001E-2},{"$f":"MIN(OFFSET(Male!AN$18,'Male - Rev'!$A49-35,0),0.03999)","v":1.12E-2},{"$f":"MIN(OFFSET(Male!AO$18,'Male - Rev'!$A49-35,0),0.03999)","v":1.04E-2},{"$f":"MIN(OFFSET(Male!AP$18,'Male - Rev'!$A49-35,0),0.03999)","v":1.0200000000000001E-2},{"$f":"MIN(OFFSET(Male!AQ$18,'Male - Rev'!$A49-35,0),0.03999)","v":1.06E-2},{"$f":"MIN(OFFSET(Male!AR$18,'Male - Rev'!$A49-35,0),0.03999)","v":1.1599999999999999E-2},{"$f":"MIN(OFFSET(Male!AS$18,'Male - Rev'!$A49-35,0),0.03999)","v":1.2999999999999999E-2},{"$f":"MIN(OFFSET(Male!AT$18,'Male - Rev'!$A49-35,0),0.03999)","v":1.43E-2},{"$f":"MIN(OFFSET(Male!AU$18,'Male - Rev'!$A49-35,0),0.03999)","v":1.46E-2},{"$f":"MIN(OFFSET(Male!AV$18,'Male - Rev'!$A49-35,0),0.03999)","v":1.3299999999999999E-2},{"$f":"MIN(OFFSET(Male!AW$18,'Male - Rev'!$A49-35,0),0.03999)","v":1.0200000000000001E-2},{"$f":"MIN(OFFSET(Male!AX$18,'Male - Rev'!$A49-35,0),0.03999)","v":6.0000000000000001E-3},{"$f":"MIN(OFFSET(Male!AY$18,'Male - Rev'!$A49-35,0),0.03999)","v":1.9E-3},{"$f":"MIN(OFFSET(Male!AZ$18,'Male - Rev'!$A49-35,0),0.03999)","v":-1.1999999999999999E-3},{"$f":"MIN(OFFSET(Male!BA$18,'Male - Rev'!$A49-35,0),0.03999)","v":-2.3E-3},{"$f":"MIN(OFFSET(Male!BB$18,'Male - Rev'!$A49-35,0),0.03999)","v":-1.2999999999999999E-3},{"$f":"MIN(OFFSET(Male!BC$18,'Male - Rev'!$A49-35,0),0.03999)","v":1.5E-3},{"$f":"MIN(OFFSET(Male!BD$18,'Male - Rev'!$A49-35,0),0.03999)","v":5.4999999999999997E-3},{"$f":"MIN(OFFSET(Male!BE$18,'Male - Rev'!$A49-35,0),0.03999)","v":0.01},{"$f":"MIN(OFFSET(Male!BF$18,'Male - Rev'!$A49-35,0),0.03999)","v":1.4E-2},{"$f":"MIN(OFFSET(Male!BG$18,'Male - Rev'!$A49-35,0),0.03999)","v":1.7000000000000001E-2},{"$f":"MIN(OFFSET(Male!BH$18,'Male - Rev'!$A49-35,0),0.03999)","v":1.8700000000000001E-2},{"$f":"MIN(OFFSET(Male!BI$18,'Male - Rev'!$A49-35,0),0.03999)","v":1.89E-2},{"$f":"MIN(OFFSET(Male!BJ$18,'Male - Rev'!$A49-35,0),0.03999)","v":1.78E-2},{"$f":"MIN(OFFSET(Male!BK$18,'Male - Rev'!$A49-35,0),0.03999)","v":1.54E-2},{"$f":"MIN(OFFSET(Male!BL$18,'Male - Rev'!$A49-35,0),0.03999)","v":1.21E-2},{"$f":"MIN(OFFSET(Male!BM$18,'Male - Rev'!$A49-35,0),0.03999)","v":8.2000000000000007E-3},{"$f":"MIN(OFFSET(Male!BN$18,'Male - Rev'!$A49-35,0),0.03999)","v":3.8999999999999998E-3},{"$f":"MIN(OFFSET(Male!BO$18,'Male - Rev'!$A49-35,0),0.03999)","v":3.2000000000000002E-3},{"$f":"MIN(OFFSET(Male!BP$18,'Male - Rev'!$A49-35,0),0.03999)","v":2.3999999999999998E-3},{"$f":"MIN(OFFSET(Male!BQ$18,'Male - Rev'!$A49-35,0),0.03999)","v":1.4E-3},{"$f":"MIN(OFFSET(Male!BR$18,'Male - Rev'!$A49-35,0),0.03999)","v":2.0000000000000001E-4},{"$f":"MIN(OFFSET(Male!BS$18,'Male - Rev'!$A49-35,0),0.03999)","v":-1E-3},{"$f":"MIN(OFFSET(Male!BT$18,'Male - Rev'!$A49-35,0),0.03999)","v":-2.0999999999999999E-3},{"$f":"MIN(OFFSET(Male!BU$18,'Male - Rev'!$A49-35,0),0.03999)","v":-2.8999999999999998E-3},{"$f":"MIN(OFFSET(Male!BV$18,'Male - Rev'!$A49-35,0),0.03999)","v":-3.3E-3},{"$f":"MIN(OFFSET(Male!BW$18,'Male - Rev'!$A49-35,0),0.03999)","v":-3.3E-3},{"$f":"MIN(OFFSET(Male!BX$18,'Male - Rev'!$A49-35,0),0.03999)","v":-2.8999999999999998E-3},{"$f":"MIN(OFFSET(Male!BY$18,'Male - Rev'!$A49-35,0),0.03999)","v":-2E-3},{"$f":"MIN(OFFSET(Male!BZ$18,'Male - Rev'!$A49-35,0),0.03999)","v":-6.9999999999999999E-4},{"$f":"MIN(OFFSET(Male!CA$18,'Male - Rev'!$A49-35,0),0.03999)","v":1E-3},{"$f":"MIN(OFFSET(Male!CB$18,'Male - Rev'!$A49-35,0),0.03999)","v":2.8999999999999998E-3},{"$f":"MIN(OFFSET(Male!CC$18,'Male - Rev'!$A49-35,0),0.03999)","v":4.7999999999999996E-3},{"$f":"MIN(OFFSET(Male!CD$18,'Male - Rev'!$A49-35,0),0.03999)","v":6.4999999999999997E-3},{"$f":"MIN(OFFSET(Male!CE$18,'Male - Rev'!$A49-35,0),0.03999)","v":8.0000000000000002E-3},{"$f":"MIN(OFFSET(Male!CF$18,'Male - Rev'!$A49-35,0),0.03999)","v":9.1000000000000004E-3},{"$f":"MIN(OFFSET(Male!CG$18,'Male - Rev'!$A49-35,0),0.03999)","v":9.7999999999999997E-3},{"$f":"MIN(OFFSET(Male!CH$18,'Male - Rev'!$A49-35,0),0.03999)","v":0.01}]
[48,48,{"$f":"MIN(OFFSET(Male!B$18,'Male - Rev'!$A50-35,0),0.03999)","v":2.1299999999999999E-2},{"$f":"MIN(OFFSET(Male!C$18,'Male - Rev'!$A50-35,0),0.03999)","v":1.9599999999999999E-2},{"$f":"MIN(OFFSET(Male!D$18,'Male - Rev'!$A50-35,0),0.03999)","v":1.78E-2},{"$f":"MIN(OFFSET(Male!E$18,'Male - Rev'!$A50-35,0),0.03999)","v":1.5800000000000002E-2},{"$f":"MIN(OFFSET(Male!F$18,'Male - Rev'!$A50-35,0),0.03999)","v":1.35E-2},{"$f":"MIN(OFFSET(Male!G$18,'Male - Rev'!$A50-35,0),0.03999)","v":1.09E-2},{"$f":"MIN(OFFSET(Male!H$18,'Male - Rev'!$A50-35,0),0.03999)","v":8.3000000000000001E-3},{"$f":"MIN(OFFSET(Male!I$18,'Male - Rev'!$A50-35,0),0.03999)","v":5.8999999999999999E-3},{"$f":"MIN(OFFSET(Male!J$18,'Male - Rev'!$A50-35,0),0.03999)","v":3.5999999999999999E-3},{"$f":"MIN(OFFSET(Male!K$18,'Male - Rev'!$A50-35,0),0.03999)","v":1.6999999999999999E-3},{"$f":"MIN(OFFSET(Male!L$18,'Male - Rev'!$A50-35,0),0.03999)","v":1E-4},{"$f":"MIN(OFFSET(Male!M$18,'Male - Rev'!$A50-35,0),0.03999)","v":-1.2999999999999999E-3},{"$f":"MIN(OFFSET(Male!N$18,'Male - Rev'!$A50-35,0),0.03999)","v":-2.3E-3},{"$f":"MIN(OFFSET(Male!O$18,'Male - Rev'!$A50-35,0),0.03999)","v":-2.7000000000000001E-3},{"$f":"MIN(OFFSET(Male!P$18,'Male - Rev'!$A50-35,0),0.03999)","v":-2.5999999999999999E-3},{"$f":"MIN(OFFSET(Male!Q$18,'Male - Rev'!$A50-35,0),0.03999)","v":-1.6999999999999999E-3},{"$f":"MIN(OFFSET(Male!R$18,'Male - Rev'!$A50-35,0),0.03999)","v":0},{"$f":"MIN(OFFSET(Male!S$18,'Male - Rev'!$A50-35,0),0.03999)","v":2.5999999999999999E-3},{"$f":"MIN(OFFSET(Male!T$18,'Male - Rev'!$A50-35,0),0.03999)","v":5.8999999999999999E-3},{"$f":"MIN(OFFSET(Male!U$18,'Male - Rev'!$A50-35,0),0.03999)","v":9.7000000000000003E-3},{"$f":"MIN(OFFSET(Male!V$18,'Male - Rev'!$A50-35,0),0.03999)","v":1.38E-2},{"$f":"MIN(OFFSET(Male!W$18,'Male - Rev'!$A50-35,0),0.03999)","v":1.7899999999999999E-2},{"$f":"MIN(OFFSET(Male!X$18,'Male - Rev'!$A50-35,0),0.03999)","v":2.1899999999999999E-2},{"$f":"MIN(OFFSET(Male!Y$18,'Male - Rev'!$A50-35,0),0.03999)","v":2.5399999999999999E-2},{"$f":"MIN(OFFSET(Male!Z$18,'Male - Rev'!$A50-35,0),0.03999)","v":2.81E-2},{"$f":"MIN(OFFSET(Male!AA$18,'Male - Rev'!$A50-35,0),0.03999)","v":2.9700000000000001E-2},{"$f":"MIN(OFFSET(Male!AB$18,'Male - Rev'!$A50-35,0),0.03999)","v":3.0300000000000001E-2},{"$f":"MIN(OFFSET(Male!AC$18,'Male - Rev'!$A50-35,0),0.03999)","v":3.0300000000000001E-2},{"$f":"MIN(OFFSET(Male!AD$18,'Male - Rev'!$A50-35,0),0.03999)","v":2.98E-2},{"$f":"MIN(OFFSET(Male!AE$18,'Male - Rev'!$A50-35,0),0.03999)","v":2.8899999999999999E-2},{"$f":"MIN(OFFSET(Male!AF$18,'Male - Rev'!$A50-35,0),0.03999)","v":2.7699999999999999E-2},{"$f":"MIN(OFFSET(Male!AG$18,'Male - Rev'!$A50-35,0),0.03999)","v":2.6100000000000002E-2},{"$f":"MIN(OFFSET(Male!AH$18,'Male - Rev'!$A50-35,0),0.03999)","v":2.3900000000000001E-2},{"$f":"MIN(OFFSET(Male!AI$18,'Male - Rev'!$A50-35,0),0.03999)","v":2.12E-2},{"$f":"MIN(OFFSET(Male!AJ$18,'Male - Rev'!$A50-35,0),0.03999)","v":1.8100000000000002E-2},{"$f":"MIN(OFFSET(Male!AK$18,'Male - Rev'!$A50-35,0),0.03999)","v":1.4999999999999999E-2},{"$f":"MIN(OFFSET(Male!AL$18,'Male - Rev'!$A50-35,0),0.03999)","v":1.21E-2},{"$f":"MIN(OFFSET(Male!AM$18,'Male - Rev'!$A50-35,0),0.03999)","v":9.7000000000000003E-3},{"$f":"MIN(OFFSET(Male!AN$18,'Male - Rev'!$A50-35,0),0.03999)","v":7.9000000000000008E-3},{"$f":"MIN(OFFSET(Male!AO$18,'Male - Rev'!$A50-35,0),0.03999)","v":6.8999999999999999E-3},{"$f":"MIN(OFFSET(Male!AP$18,'Male - Rev'!$A50-35,0),0.03999)","v":6.7999999999999996E-3},{"$f":"MIN(OFFSET(Male!AQ$18,'Male - Rev'!$A50-35,0),0.03999)","v":7.6E-3},{"$f":"MIN(OFFSET(Male!AR$18,'Male - Rev'!$A50-35,0),0.03999)","v":9.1999999999999998E-3},{"$f":"MIN(OFFSET(Male!AS$18,'Male - Rev'!$A50-35,0),0.03999)","v":1.12E-2},{"$f":"MIN(OFFSET(Male!AT$18,'Male - Rev'!$A50-35,0),0.03999)","v":1.2999999999999999E-2},{"$f":"MIN(OFFSET(Male!AU$18,'Male - Rev'!$A50-35,0),0.03999)","v":1.38E-2},{"$f":"MIN(OFFSET(Male!AV$18,'Male - Rev'!$A50-35,0),0.03999)","v":1.29E-2},{"$f":"MIN(OFFSET(Male!AW$18,'Male - Rev'!$A50-35,0),0.03999)","v":0.01},{"$f":"MIN(OFFSET(Male!AX$18,'Male - Rev'!$A50-35,0),0.03999)","v":6.1000000000000004E-3},{"$f":"MIN(OFFSET(Male!AY$18,'Male - Rev'!$A50-35,0),0.03999)","v":2.2000000000000001E-3},{"$f":"MIN(OFFSET(Male!AZ$18,'Male - Rev'!$A50-35,0),0.03999)","v":-4.0000000000000002E-4},{"$f":"MIN(OFFSET(Male!BA$18,'Male - Rev'!$A50-35,0),0.03999)","v":-1.1000000000000001E-3},{"$f":"MIN(OFFSET(Male!BB$18,'Male - Rev'!$A50-35,0),0.03999)","v":4.0000000000000002E-4},{"$f":"MIN(OFFSET(Male!BC$18,'Male - Rev'!$A50-35,0),0.03999)","v":3.5999999999999999E-3},{"$f":"MIN(OFFSET(Male!BD$18,'Male - Rev'!$A50-35,0),0.03999)","v":7.9000000000000008E-3},{"$f":"MIN(OFFSET(Male!BE$18,'Male - Rev'!$A50-35,0),0.03999)","v":1.2500000000000001E-2},{"$f":"MIN(OFFSET(Male!BF$18,'Male - Rev'!$A50-35,0),0.03999)","v":1.66E-2},{"$f":"MIN(OFFSET(Male!BG$18,'Male - Rev'!$A50-35,0),0.03999)","v":1.9599999999999999E-2},{"$f":"MIN(OFFSET(Male!BH$18,'Male - Rev'!$A50-35,0),0.03999)","v":2.12E-2},{"$f":"MIN(OFFSET(Male!BI$18,'Male - Rev'!$A50-35,0),0.03999)","v":2.12E-2},{"$f":"MIN(OFFSET(Male!BJ$18,'Male - Rev'!$A50-35,0),0.03999)","v":1.9699999999999999E-2},{"$f":"MIN(OFFSET(Male!BK$18,'Male - Rev'!$A50-35,0),0.03999)","v":1.6799999999999999E-2},{"$f":"MIN(OFFSET(Male!BL$18,'Male - Rev'!$A50-35,0),0.03999)","v":1.2699999999999999E-2},{"$f":"MIN(OFFSET(Male!BM$18,'Male - Rev'!$A50-35,0),0.03999)","v":7.7999999999999996E-3},{"$f":"MIN(OFFSET(Male!BN$18,'Male - Rev'!$A50-35,0),0.03999)","v":2.3999999999999998E-3},{"$f":"MIN(OFFSET(Male!BO$18,'Male - Rev'!$A50-35,0),0.03999)","v":1.2999999999999999E-3},{"$f":"MIN(OFFSET(Male!BP$18,'Male - Rev'!$A50-35,0),0.03999)","v":1E-4},{"$f":"MIN(OFFSET(Male!BQ$18,'Male - Rev'!$A50-35,0),0.03999)","v":-1.1999999999999999E-3},{"$f":"MIN(OFFSET(Male!BR$18,'Male - Rev'!$A50-35,0),0.03999)","v":-2.5000000000000001E-3},{"$f":"MIN(OFFSET(Male!BS$18,'Male - Rev'!$A50-35,0),0.03999)","v":-3.7000000000000002E-3},{"$f":"MIN(OFFSET(Male!BT$18,'Male - Rev'!$A50-35,0),0.03999)","v":-4.7000000000000002E-3},{"$f":"MIN(OFFSET(Male!BU$18,'Male - Rev'!$A50-35,0),0.03999)","v":-5.1999999999999998E-3},{"$f":"MIN(OFFSET(Male!BV$18,'Male - Rev'!$A50-35,0),0.03999)","v":-5.3E-3},{"$f":"MIN(OFFSET(Male!BW$18,'Male - Rev'!$A50-35,0),0.03999)","v":-4.8999999999999998E-3},{"$f":"MIN(OFFSET(Male!BX$18,'Male - Rev'!$A50-35,0),0.03999)","v":-4.1000000000000003E-3},{"$f":"MIN(OFFSET(Male!BY$18,'Male - Rev'!$A50-35,0),0.03999)","v":-2.8999999999999998E-3},{"$f":"MIN(OFFSET(Male!BZ$18,'Male - Rev'!$A50-35,0),0.03999)","v":-1.1999999999999999E-3},{"$f":"MIN(OFFSET(Male!CA$18,'Male - Rev'!$A50-35,0),0.03999)","v":6.9999999999999999E-4},{"$f":"MIN(OFFSET(Male!CB$18,'Male - Rev'!$A50-35,0),0.03999)","v":2.8E-3},{"$f":"MIN(OFFSET(Male!CC$18,'Male - Rev'!$A50-35,0),0.03999)","v":4.7000000000000002E-3},{"$f":"MIN(OFFSET(Male!CD$18,'Male - Rev'!$A50-35,0),0.03999)","v":6.4999999999999997E-3},{"$f":"MIN(OFFSET(Male!CE$18,'Male - Rev'!$A50-35,0),0.03999)","v":8.0000000000000002E-3},{"$f":"MIN(OFFSET(Male!CF$18,'Male - Rev'!$A50-35,0),0.03999)","v":9.1000000000000004E-3},{"$f":"MIN(OFFSET(Male!CG$18,'Male - Rev'!$A50-35,0),0.03999)","v":9.7999999999999997E-3},{"$f":"MIN(OFFSET(Male!CH$18,'Male - Rev'!$A50-35,0),0.03999)","v":0.01}]
[47,47,{"$f":"MIN(OFFSET(Male!B$18,'Male - Rev'!$A51-35,0),0.03999)","v":2.2599999999999999E-2},{"$f":"MIN(OFFSET(Male!C$18,'Male - Rev'!$A51-35,0),0.03999)","v":2.07E-2},{"$f":"MIN(OFFSET(Male!D$18,'Male - Rev'!$A51-35,0),0.03999)","v":1.8800000000000001E-2},{"$f":"MIN(OFFSET(Male!E$18,'Male - Rev'!$A51-35,0),0.03999)","v":1.67E-2},{"$f":"MIN(OFFSET(Male!F$18,'Male - Rev'!$A51-35,0),0.03999)","v":1.43E-2},{"$f":"MIN(OFFSET(Male!G$18,'Male - Rev'!$A51-35,0),0.03999)","v":1.1599999999999999E-2},{"$f":"MIN(OFFSET(Male!H$18,'Male - Rev'!$A51-35,0),0.03999)","v":8.8999999999999999E-3},{"$f":"MIN(OFFSET(Male!I$18,'Male - Rev'!$A51-35,0),0.03999)","v":6.3E-3},{"$f":"MIN(OFFSET(Male!J$18,'Male - Rev'!$A51-35,0),0.03999)","v":3.8999999999999998E-3},{"$f":"MIN(OFFSET(Male!K$18,'Male - Rev'!$A51-35,0),0.03999)","v":1.8E-3},{"$f":"MIN(OFFSET(Male!L$18,'Male - Rev'!$A51-35,0),0.03999)","v":0},{"$f":"MIN(OFFSET(Male!M$18,'Male - Rev'!$A51-35,0),0.03999)","v":-1.6000000000000001E-3},{"$f":"MIN(OFFSET(Male!N$18,'Male - Rev'!$A51-35,0),0.03999)","v":-2.8999999999999998E-3},{"$f":"MIN(OFFSET(Male!O$18,'Male - Rev'!$A51-35,0),0.03999)","v":-3.5000000000000001E-3},{"$f":"MIN(OFFSET(Male!P$18,'Male - Rev'!$A51-35,0),0.03999)","v":-3.5999999999999999E-3},{"$f":"MIN(OFFSET(Male!Q$18,'Male - Rev'!$A51-35,0),0.03999)","v":-2.8999999999999998E-3},{"$f":"MIN(OFFSET(Male!R$18,'Male - Rev'!$A51-35,0),0.03999)","v":-1.2999999999999999E-3},{"$f":"MIN(OFFSET(Male!S$18,'Male - Rev'!$A51-35,0),0.03999)","v":1.2999999999999999E-3},{"$f":"MIN(OFFSET(Male!T$18,'Male - Rev'!$A51-35,0),0.03999)","v":4.7999999999999996E-3},{"$f":"MIN(OFFSET(Male!U$18,'Male - Rev'!$A51-35,0),0.03999)","v":8.8999999999999999E-3},{"$f":"MIN(OFFSET(Male!V$18,'Male - Rev'!$A51-35,0),0.03999)","v":1.3299999999999999E-2},{"$f":"MIN(OFFSET(Male!W$18,'Male - Rev'!$A51-35,0),0.03999)","v":1.78E-2},{"$f":"MIN(OFFSET(Male!X$18,'Male - Rev'!$A51-35,0),0.03999)","v":2.2200000000000001E-2},{"$f":"MIN(OFFSET(Male!Y$18,'Male - Rev'!$A51-35,0),0.03999)","v":2.6100000000000002E-2},{"$f":"MIN(OFFSET(Male!Z$18,'Male - Rev'!$A51-35,0),0.03999)","v":2.9100000000000001E-2},{"$f":"MIN(OFFSET(Male!AA$18,'Male - Rev'!$A51-35,0),0.03999)","v":3.09E-2},{"$f":"MIN(OFFSET(Male!AB$18,'Male - Rev'!$A51-35,0),0.03999)","v":3.1600000000000003E-2},{"$f":"MIN(OFFSET(Male!AC$18,'Male - Rev'!$A51-35,0),0.03999)","v":3.15E-2},{"$f":"MIN(OFFSET(Male!AD$18,'Male - Rev'!$A51-35,0),0.03999)","v":3.0800000000000001E-2},{"$f":"MIN(OFFSET(Male!AE$18,'Male - Rev'!$A51-35,0),0.03999)","v":2.9700000000000001E-2},{"$f":"MIN(OFFSET(Male!AF$18,'Male - Rev'!$A51-35,0),0.03999)","v":2.8299999999999999E-2},{"$f":"MIN(OFFSET(Male!AG$18,'Male - Rev'!$A51-35,0),0.03999)","v":2.63E-2},{"$f":"MIN(OFFSET(Male!AH$18,'Male - Rev'!$A51-35,0),0.03999)","v":2.3699999999999999E-2},{"$f":"MIN(OFFSET(Male!AI$18,'Male - Rev'!$A51-35,0),0.03999)","v":2.0400000000000001E-2},{"$f":"MIN(OFFSET(Male!AJ$18,'Male - Rev'!$A51-35,0),0.03999)","v":1.67E-2},{"$f":"MIN(OFFSET(Male!AK$18,'Male - Rev'!$A51-35,0),0.03999)","v":1.2999999999999999E-2},{"$f":"MIN(OFFSET(Male!AL$18,'Male - Rev'!$A51-35,0),0.03999)","v":9.4000000000000004E-3},{"$f":"MIN(OFFSET(Male!AM$18,'Male - Rev'!$A51-35,0),0.03999)","v":6.4000000000000003E-3},{"$f":"MIN(OFFSET(Male!AN$18,'Male - Rev'!$A51-35,0),0.03999)","v":4.1999999999999997E-3},{"$f":"MIN(OFFSET(Male!AO$18,'Male - Rev'!$A51-35,0),0.03999)","v":3.0000000000000001E-3},{"$f":"MIN(OFFSET(Male!AP$18,'Male - Rev'!$A51-35,0),0.03999)","v":3.0999999999999999E-3},{"$f":"MIN(OFFSET(Male!AQ$18,'Male - Rev'!$A51-35,0),0.03999)","v":4.3E-3},{"$f":"MIN(OFFSET(Male!AR$18,'Male - Rev'!$A51-35,0),0.03999)","v":6.6E-3},{"$f":"MIN(OFFSET(Male!AS$18,'Male - Rev'!$A51-35,0),0.03999)","v":9.4999999999999998E-3},{"$f":"MIN(OFFSET(Male!AT$18,'Male - Rev'!$A51-35,0),0.03999)","v":1.2200000000000001E-2},{"$f":"MIN(OFFSET(Male!AU$18,'Male - Rev'!$A51-35,0),0.03999)","v":1.38E-2},{"$f":"MIN(OFFSET(Male!AV$18,'Male - Rev'!$A51-35,0),0.03999)","v":1.3299999999999999E-2},{"$f":"MIN(OFFSET(Male!AW$18,'Male - Rev'!$A51-35,0),0.03999)","v":1.0800000000000001E-2},{"$f":"MIN(OFFSET(Male!AX$18,'Male - Rev'!$A51-35,0),0.03999)","v":7.1000000000000004E-3},{"$f":"MIN(OFFSET(Male!AY$18,'Male - Rev'!$A51-35,0),0.03999)","v":3.3999999999999998E-3},{"$f":"MIN(OFFSET(Male!AZ$18,'Male - Rev'!$A51-35,0),0.03999)","v":1E-3},{"$f":"MIN(OFFSET(Male!BA$18,'Male - Rev'!$A51-35,0),0.03999)","v":6.9999999999999999E-4},{"$f":"MIN(OFFSET(Male!BB$18,'Male - Rev'!$A51-35,0),0.03999)","v":2.3999999999999998E-3},{"$f":"MIN(OFFSET(Male!BC$18,'Male - Rev'!$A51-35,0),0.03999)","v":5.7999999999999996E-3},{"$f":"MIN(OFFSET(Male!BD$18,'Male - Rev'!$A51-35,0),0.03999)","v":1.03E-2},{"$f":"MIN(OFFSET(Male!BE$18,'Male - Rev'!$A51-35,0),0.03999)","v":1.4999999999999999E-2},{"$f":"MIN(OFFSET(Male!BF$18,'Male - Rev'!$A51-35,0),0.03999)","v":1.9099999999999999E-2},{"$f":"MIN(OFFSET(Male!BG$18,'Male - Rev'!$A51-35,0),0.03999)","v":2.1999999999999999E-2},{"$f":"MIN(OFFSET(Male!BH$18,'Male - Rev'!$A51-35,0),0.03999)","v":2.3400000000000001E-2},{"$f":"MIN(OFFSET(Male!BI$18,'Male - Rev'!$A51-35,0),0.03999)","v":2.3199999999999998E-2},{"$f":"MIN(OFFSET(Male!BJ$18,'Male - Rev'!$A51-35,0),0.03999)","v":2.12E-2},{"$f":"MIN(OFFSET(Male!BK$18,'Male - Rev'!$A51-35,0),0.03999)","v":1.7600000000000001E-2},{"$f":"MIN(OFFSET(Male!BL$18,'Male - Rev'!$A51-35,0),0.03999)","v":1.2699999999999999E-2},{"$f":"MIN(OFFSET(Male!BM$18,'Male - Rev'!$A51-35,0),0.03999)","v":6.7000000000000002E-3},{"$f":"MIN(OFFSET(Male!BN$18,'Male - Rev'!$A51-35,0),0.03999)","v":0},{"$f":"MIN(OFFSET(Male!BO$18,'Male - Rev'!$A51-35,0),0.03999)","v":-1.5E-3},{"$f":"MIN(OFFSET(Male!BP$18,'Male - Rev'!$A51-35,0),0.03999)","v":-3.0000000000000001E-3},{"$f":"MIN(OFFSET(Male!BQ$18,'Male - Rev'!$A51-35,0),0.03999)","v":-4.4999999999999997E-3},{"$f":"MIN(OFFSET(Male!BR$18,'Male - Rev'!$A51-35,0),0.03999)","v":-5.7999999999999996E-3},{"$f":"MIN(OFFSET(Male!BS$18,'Male - Rev'!$A51-35,0),0.03999)","v":-6.8999999999999999E-3},{"$f":"MIN(OFFSET(Male!BT$18,'Male - Rev'!$A51-35,0),0.03999)","v":-7.4999999999999997E-3},{"$f":"MIN(OFFSET(Male!BU$18,'Male - Rev'!$A51-35,0),0.03999)","v":-7.6E-3},{"$f":"MIN(OFFSET(Male!BV$18,'Male - Rev'!$A51-35,0),0.03999)","v":-7.1999999999999998E-3},{"$f":"MIN(OFFSET(Male!BW$18,'Male - Rev'!$A51-35,0),0.03999)","v":-6.4000000000000003E-3},{"$f":"MIN(OFFSET(Male!BX$18,'Male - Rev'!$A51-35,0),0.03999)","v":-5.1000000000000004E-3},{"$f":"MIN(OFFSET(Male!BY$18,'Male - Rev'!$A51-35,0),0.03999)","v":-3.5000000000000001E-3},{"$f":"MIN(OFFSET(Male!BZ$18,'Male - Rev'!$A51-35,0),0.03999)","v":-1.6000000000000001E-3},{"$f":"MIN(OFFSET(Male!CA$18,'Male - Rev'!$A51-35,0),0.03999)","v":5.9999999999999995E-4},{"$f":"MIN(OFFSET(Male!CB$18,'Male - Rev'!$A51-35,0),0.03999)","v":2.7000000000000001E-3},{"$f":"MIN(OFFSET(Male!CC$18,'Male - Rev'!$A51-35,0),0.03999)","v":4.7999999999999996E-3},{"$f":"MIN(OFFSET(Male!CD$18,'Male - Rev'!$A51-35,0),0.03999)","v":6.6E-3},{"$f":"MIN(OFFSET(Male!CE$18,'Male - Rev'!$A51-35,0),0.03999)","v":8.0999999999999996E-3},{"$f":"MIN(OFFSET(Male!CF$18,'Male - Rev'!$A51-35,0),0.03999)","v":9.1000000000000004E-3},{"$f":"MIN(OFFSET(Male!CG$18,'Male - Rev'!$A51-35,0),0.03999)","v":9.7999999999999997E-3},{"$f":"MIN(OFFSET(Male!CH$18,'Male - Rev'!$A51-35,0),0.03999)","v":0.01}]
[46,46,{"$f":"MIN(OFFSET(Male!B$18,'Male - Rev'!$A52-35,0),0.03999)","v":2.4E-2},{"$f":"MIN(OFFSET(Male!C$18,'Male - Rev'!$A52-35,0),0.03999)","v":2.1999999999999999E-2},{"$f":"MIN(OFFSET(Male!D$18,'Male - Rev'!$A52-35,0),0.03999)","v":0.02},{"$f":"MIN(OFFSET(Male!E$18,'Male - Rev'!$A52-35,0),0.03999)","v":1.77E-2},{"$f":"MIN(OFFSET(Male!F$18,'Male - Rev'!$A52-35,0),0.03999)","v":1.5100000000000001E-2},{"$f":"MIN(OFFSET(Male!G$18,'Male - Rev'!$A52-35,0),0.03999)","v":1.23E-2},{"$f":"MIN(OFFSET(Male!H$18,'Male - Rev'!$A52-35,0),0.03999)","v":9.4999999999999998E-3},{"$f":"MIN(OFFSET(Male!I$18,'Male - Rev'!$A52-35,0),0.03999)","v":6.7000000000000002E-3},{"$f":"MIN(OFFSET(Male!J$18,'Male - Rev'!$A52-35,0),0.03999)","v":4.1999999999999997E-3},{"$f":"MIN(OFFSET(Male!K$18,'Male - Rev'!$A52-35,0),0.03999)","v":1.9E-3},{"$f":"MIN(OFFSET(Male!L$18,'Male - Rev'!$A52-35,0),0.03999)","v":-2.0000000000000001E-4},{"$f":"MIN(OFFSET(Male!M$18,'Male - Rev'!$A52-35,0),0.03999)","v":-2.0999999999999999E-3},{"$f":"MIN(OFFSET(Male!N$18,'Male - Rev'!$A52-35,0),0.03999)","v":-3.5999999999999999E-3},{"$f":"MIN(OFFSET(Male!O$18,'Male - Rev'!$A52-35,0),0.03999)","v":-4.4999999999999997E-3},{"$f":"MIN(OFFSET(Male!P$18,'Male - Rev'!$A52-35,0),0.03999)","v":-4.7999999999999996E-3},{"$f":"MIN(OFFSET(Male!Q$18,'Male - Rev'!$A52-35,0),0.03999)","v":-4.1999999999999997E-3},{"$f":"MIN(OFFSET(Male!R$18,'Male - Rev'!$A52-35,0),0.03999)","v":-2.5999999999999999E-3},{"$f":"MIN(OFFSET(Male!S$18,'Male - Rev'!$A52-35,0),0.03999)","v":0},{"$f":"MIN(OFFSET(Male!T$18,'Male - Rev'!$A52-35,0),0.03999)","v":3.7000000000000002E-3},{"$f":"MIN(OFFSET(Male!U$18,'Male - Rev'!$A52-35,0),0.03999)","v":8.2000000000000007E-3},{"$f":"MIN(OFFSET(Male!V$18,'Male - Rev'!$A52-35,0),0.03999)","v":1.2999999999999999E-2},{"$f":"MIN(OFFSET(Male!W$18,'Male - Rev'!$A52-35,0),0.03999)","v":1.7999999999999999E-2},{"$f":"MIN(OFFSET(Male!X$18,'Male - Rev'!$A52-35,0),0.03999)","v":2.2700000000000001E-2},{"$f":"MIN(OFFSET(Male!Y$18,'Male - Rev'!$A52-35,0),0.03999)","v":2.69E-2},{"$f":"MIN(OFFSET(Male!Z$18,'Male - Rev'!$A52-35,0),0.03999)","v":3.0099999999999998E-2},{"$f":"MIN(OFFSET(Male!AA$18,'Male - Rev'!$A52-35,0),0.03999)","v":3.2000000000000001E-2},{"$f":"MIN(OFFSET(Male!AB$18,'Male - Rev'!$A52-35,0),0.03999)","v":3.2800000000000003E-2},{"$f":"MIN(OFFSET(Male!AC$18,'Male - Rev'!$A52-35,0),0.03999)","v":3.2599999999999997E-2},{"$f":"MIN(OFFSET(Male!AD$18,'Male - Rev'!$A52-35,0),0.03999)","v":3.1699999999999999E-2},{"$f":"MIN(OFFSET(Male!AE$18,'Male - Rev'!$A52-35,0),0.03999)","v":3.0300000000000001E-2},{"$f":"MIN(OFFSET(Male!AF$18,'Male - Rev'!$A52-35,0),0.03999)","v":2.8500000000000001E-2},{"$f":"MIN(OFFSET(Male!AG$18,'Male - Rev'!$A52-35,0),0.03999)","v":2.6100000000000002E-2},{"$f":"MIN(OFFSET(Male!AH$18,'Male - Rev'!$A52-35,0),0.03999)","v":2.3E-2},{"$f":"MIN(OFFSET(Male!AI$18,'Male - Rev'!$A52-35,0),0.03999)","v":1.9099999999999999E-2},{"$f":"MIN(OFFSET(Male!AJ$18,'Male - Rev'!$A52-35,0),0.03999)","v":1.4800000000000001E-2},{"$f":"MIN(OFFSET(Male!AK$18,'Male - Rev'!$A52-35,0),0.03999)","v":1.04E-2},{"$f":"MIN(OFFSET(Male!AL$18,'Male - Rev'!$A52-35,0),0.03999)","v":6.1999999999999998E-3},{"$f":"MIN(OFFSET(Male!AM$18,'Male - Rev'!$A52-35,0),0.03999)","v":2.7000000000000001E-3},{"$f":"MIN(OFFSET(Male!AN$18,'Male - Rev'!$A52-35,0),0.03999)","v":1E-4},{"$f":"MIN(OFFSET(Male!AO$18,'Male - Rev'!$A52-35,0),0.03999)","v":-1.1000000000000001E-3},{"$f":"MIN(OFFSET(Male!AP$18,'Male - Rev'!$A52-35,0),0.03999)","v":-8.9999999999999998E-4},{"$f":"MIN(OFFSET(Male!AQ$18,'Male - Rev'!$A52-35,0),0.03999)","v":1E-3},{"$f":"MIN(OFFSET(Male!AR$18,'Male - Rev'!$A52-35,0),0.03999)","v":4.1999999999999997E-3},{"$f":"MIN(OFFSET(Male!AS$18,'Male - Rev'!$A52-35,0),0.03999)","v":8.2000000000000007E-3},{"$f":"MIN(OFFSET(Male!AT$18,'Male - Rev'!$A52-35,0),0.03999)","v":1.21E-2},{"$f":"MIN(OFFSET(Male!AU$18,'Male - Rev'!$A52-35,0),0.03999)","v":1.46E-2},{"$f":"MIN(OFFSET(Male!AV$18,'Male - Rev'!$A52-35,0),0.03999)","v":1.4800000000000001E-2},{"$f":"MIN(OFFSET(Male!AW$18,'Male - Rev'!$A52-35,0),0.03999)","v":1.26E-2},{"$f":"MIN(OFFSET(Male!AX$18,'Male - Rev'!$A52-35,0),0.03999)","v":8.9999999999999993E-3},{"$f":"MIN(OFFSET(Male!AY$18,'Male - Rev'!$A52-35,0),0.03999)","v":5.3E-3},{"$f":"MIN(OFFSET(Male!AZ$18,'Male - Rev'!$A52-35,0),0.03999)","v":3.0000000000000001E-3},{"$f":"MIN(OFFSET(Male!BA$18,'Male - Rev'!$A52-35,0),0.03999)","v":2.5999999999999999E-3},{"$f":"MIN(OFFSET(Male!BB$18,'Male - Rev'!$A52-35,0),0.03999)","v":4.4000000000000003E-3},{"$f":"MIN(OFFSET(Male!BC$18,'Male - Rev'!$A52-35,0),0.03999)","v":8.0000000000000002E-3},{"$f":"MIN(OFFSET(Male!BD$18,'Male - Rev'!$A52-35,0),0.03999)","v":1.2500000000000001E-2},{"$f":"MIN(OFFSET(Male!BE$18,'Male - Rev'!$A52-35,0),0.03999)","v":1.7299999999999999E-2},{"$f":"MIN(OFFSET(Male!BF$18,'Male - Rev'!$A52-35,0),0.03999)","v":2.1399999999999999E-2},{"$f":"MIN(OFFSET(Male!BG$18,'Male - Rev'!$A52-35,0),0.03999)","v":2.4299999999999999E-2},{"$f":"MIN(OFFSET(Male!BH$18,'Male - Rev'!$A52-35,0),0.03999)","v":2.5499999999999998E-2},{"$f":"MIN(OFFSET(Male!BI$18,'Male - Rev'!$A52-35,0),0.03999)","v":2.4799999999999999E-2},{"$f":"MIN(OFFSET(Male!BJ$18,'Male - Rev'!$A52-35,0),0.03999)","v":2.2200000000000001E-2},{"$f":"MIN(OFFSET(Male!BK$18,'Male - Rev'!$A52-35,0),0.03999)","v":1.78E-2},{"$f":"MIN(OFFSET(Male!BL$18,'Male - Rev'!$A52-35,0),0.03999)","v":1.18E-2},{"$f":"MIN(OFFSET(Male!BM$18,'Male - Rev'!$A52-35,0),0.03999)","v":4.7000000000000002E-3},{"$f":"MIN(OFFSET(Male!BN$18,'Male - Rev'!$A52-35,0),0.03999)","v":-3.3E-3},{"$f":"MIN(OFFSET(Male!BO$18,'Male - Rev'!$A52-35,0),0.03999)","v":-5.1000000000000004E-3},{"$f":"MIN(OFFSET(Male!BP$18,'Male - Rev'!$A52-35,0),0.03999)","v":-6.8999999999999999E-3},{"$f":"MIN(OFFSET(Male!BQ$18,'Male - Rev'!$A52-35,0),0.03999)","v":-8.3999999999999995E-3},{"$f":"MIN(OFFSET(Male!BR$18,'Male - Rev'!$A52-35,0),0.03999)","v":-9.4999999999999998E-3},{"$f":"MIN(OFFSET(Male!BS$18,'Male - Rev'!$A52-35,0),0.03999)","v":-1.0200000000000001E-2},{"$f":"MIN(OFFSET(Male!BT$18,'Male - Rev'!$A52-35,0),0.03999)","v":-1.04E-2},{"$f":"MIN(OFFSET(Male!BU$18,'Male - Rev'!$A52-35,0),0.03999)","v":-0.01},{"$f":"MIN(OFFSET(Male!BV$18,'Male - Rev'!$A52-35,0),0.03999)","v":-8.9999999999999993E-3},{"$f":"MIN(OFFSET(Male!BW$18,'Male - Rev'!$A52-35,0),0.03999)","v":-7.6E-3},{"$f":"MIN(OFFSET(Male!BX$18,'Male - Rev'!$A52-35,0),0.03999)","v":-5.8999999999999999E-3},{"$f":"MIN(OFFSET(Male!BY$18,'Male - Rev'!$A52-35,0),0.03999)","v":-4.0000000000000001E-3},{"$f":"MIN(OFFSET(Male!BZ$18,'Male - Rev'!$A52-35,0),0.03999)","v":-1.8E-3},{"$f":"MIN(OFFSET(Male!CA$18,'Male - Rev'!$A52-35,0),0.03999)","v":5.0000000000000001E-4},{"$f":"MIN(OFFSET(Male!CB$18,'Male - Rev'!$A52-35,0),0.03999)","v":2.8E-3},{"$f":"MIN(OFFSET(Male!CC$18,'Male - Rev'!$A52-35,0),0.03999)","v":4.8999999999999998E-3},{"$f":"MIN(OFFSET(Male!CD$18,'Male - Rev'!$A52-35,0),0.03999)","v":6.7000000000000002E-3},{"$f":"MIN(OFFSET(Male!CE$18,'Male - Rev'!$A52-35,0),0.03999)","v":8.0999999999999996E-3},{"$f":"MIN(OFFSET(Male!CF$18,'Male - Rev'!$A52-35,0),0.03999)","v":9.1999999999999998E-3},{"$f":"MIN(OFFSET(Male!CG$18,'Male - Rev'!$A52-35,0),0.03999)","v":9.7999999999999997E-3},{"$f":"MIN(OFFSET(Male!CH$18,'Male - Rev'!$A52-35,0),0.03999)","v":0.01}]
[45,45,{"$f":"MIN(OFFSET(Male!B$18,'Male - Rev'!$A53-35,0),0.03999)","v":2.5399999999999999E-2},{"$f":"MIN(OFFSET(Male!C$18,'Male - Rev'!$A53-35,0),0.03999)","v":2.3300000000000001E-2},{"$f":"MIN(OFFSET(Male!D$18,'Male - Rev'!$A53-35,0),0.03999)","v":2.12E-2},{"$f":"MIN(OFFSET(Male!E$18,'Male - Rev'!$A53-35,0),0.03999)","v":1.8800000000000001E-2},{"$f":"MIN(OFFSET(Male!F$18,'Male - Rev'!$A53-35,0),0.03999)","v":1.6E-2},{"$f":"MIN(OFFSET(Male!G$18,'Male - Rev'!$A53-35,0),0.03999)","v":1.2999999999999999E-2},{"$f":"MIN(OFFSET(Male!H$18,'Male - Rev'!$A53-35,0),0.03999)","v":0.01},{"$f":"MIN(OFFSET(Male!I$18,'Male - Rev'!$A53-35,0),0.03999)","v":7.1000000000000004E-3},{"$f":"MIN(OFFSET(Male!J$18,'Male - Rev'!$A53-35,0),0.03999)","v":4.4000000000000003E-3},{"$f":"MIN(OFFSET(Male!K$18,'Male - Rev'!$A53-35,0),0.03999)","v":1.8E-3},{"$f":"MIN(OFFSET(Male!L$18,'Male - Rev'!$A53-35,0),0.03999)","v":-5.0000000000000001E-4},{"$f":"MIN(OFFSET(Male!M$18,'Male - Rev'!$A53-35,0),0.03999)","v":-2.5999999999999999E-3},{"$f":"MIN(OFFSET(Male!N$18,'Male - Rev'!$A53-35,0),0.03999)","v":-4.4000000000000003E-3},{"$f":"MIN(OFFSET(Male!O$18,'Male - Rev'!$A53-35,0),0.03999)","v":-5.5999999999999999E-3},{"$f":"MIN(OFFSET(Male!P$18,'Male - Rev'!$A53-35,0),0.03999)","v":-6.1000000000000004E-3},{"$f":"MIN(OFFSET(Male!Q$18,'Male - Rev'!$A53-35,0),0.03999)","v":-5.5999999999999999E-3},{"$f":"MIN(OFFSET(Male!R$18,'Male - Rev'!$A53-35,0),0.03999)","v":-4.0000000000000001E-3},{"$f":"MIN(OFFSET(Male!S$18,'Male - Rev'!$A53-35,0),0.03999)","v":-1.1999999999999999E-3},{"$f":"MIN(OFFSET(Male!T$18,'Male - Rev'!$A53-35,0),0.03999)","v":2.8E-3},{"$f":"MIN(OFFSET(Male!U$18,'Male - Rev'!$A53-35,0),0.03999)","v":7.6E-3},{"$f":"MIN(OFFSET(Male!V$18,'Male - Rev'!$A53-35,0),0.03999)","v":1.29E-2},{"$f":"MIN(OFFSET(Male!W$18,'Male - Rev'!$A53-35,0),0.03999)","v":1.83E-2},{"$f":"MIN(OFFSET(Male!X$18,'Male - Rev'!$A53-35,0),0.03999)","v":2.3300000000000001E-2},{"$f":"MIN(OFFSET(Male!Y$18,'Male - Rev'!$A53-35,0),0.03999)","v":2.7699999999999999E-2},{"$f":"MIN(OFFSET(Male!Z$18,'Male - Rev'!$A53-35,0),0.03999)","v":3.1E-2},{"$f":"MIN(OFFSET(Male!AA$18,'Male - Rev'!$A53-35,0),0.03999)","v":3.3000000000000002E-2},{"$f":"MIN(OFFSET(Male!AB$18,'Male - Rev'!$A53-35,0),0.03999)","v":3.3700000000000001E-2},{"$f":"MIN(OFFSET(Male!AC$18,'Male - Rev'!$A53-35,0),0.03999)","v":3.3500000000000002E-2},{"$f":"MIN(OFFSET(Male!AD$18,'Male - Rev'!$A53-35,0),0.03999)","v":3.2399999999999998E-2},{"$f":"MIN(OFFSET(Male!AE$18,'Male - Rev'!$A53-35,0),0.03999)","v":3.0800000000000001E-2},{"$f":"MIN(OFFSET(Male!AF$18,'Male - Rev'!$A53-35,0),0.03999)","v":2.8500000000000001E-2},{"$f":"MIN(OFFSET(Male!AG$18,'Male - Rev'!$A53-35,0),0.03999)","v":2.5499999999999998E-2},{"$f":"MIN(OFFSET(Male!AH$18,'Male - Rev'!$A53-35,0),0.03999)","v":2.1700000000000001E-2},{"$f":"MIN(OFFSET(Male!AI$18,'Male - Rev'!$A53-35,0),0.03999)","v":1.7100000000000001E-2},{"$f":"MIN(OFFSET(Male!AJ$18,'Male - Rev'!$A53-35,0),0.03999)","v":1.21E-2},{"$f":"MIN(OFFSET(Male!AK$18,'Male - Rev'!$A53-35,0),0.03999)","v":7.1000000000000004E-3},{"$f":"MIN(OFFSET(Male!AL$18,'Male - Rev'!$A53-35,0),0.03999)","v":2.5000000000000001E-3},{"$f":"MIN(OFFSET(Male!AM$18,'Male - Rev'!$A53-35,0),0.03999)","v":-1.4E-3},{"$f":"MIN(OFFSET(Male!AN$18,'Male - Rev'!$A53-35,0),0.03999)","v":-4.1999999999999997E-3},{"$f":"MIN(OFFSET(Male!AO$18,'Male - Rev'!$A53-35,0),0.03999)","v":-5.4000000000000003E-3},{"$f":"MIN(OFFSET(Male!AP$18,'Male - Rev'!$A53-35,0),0.03999)","v":-4.7999999999999996E-3},{"$f":"MIN(OFFSET(Male!AQ$18,'Male - Rev'!$A53-35,0),0.03999)","v":-2.3E-3},{"$f":"MIN(OFFSET(Male!AR$18,'Male - Rev'!$A53-35,0),0.03999)","v":2E-3},{"$f":"MIN(OFFSET(Male!AS$18,'Male - Rev'!$A53-35,0),0.03999)","v":7.4000000000000003E-3},{"$f":"MIN(OFFSET(Male!AT$18,'Male - Rev'!$A53-35,0),0.03999)","v":1.2699999999999999E-2},{"$f":"MIN(OFFSET(Male!AU$18,'Male - Rev'!$A53-35,0),0.03999)","v":1.6400000000000001E-2},{"$f":"MIN(OFFSET(Male!AV$18,'Male - Rev'!$A53-35,0),0.03999)","v":1.7399999999999999E-2},{"$f":"MIN(OFFSET(Male!AW$18,'Male - Rev'!$A53-35,0),0.03999)","v":1.55E-2},{"$f":"MIN(OFFSET(Male!AX$18,'Male - Rev'!$A53-35,0),0.03999)","v":1.18E-2},{"$f":"MIN(OFFSET(Male!AY$18,'Male - Rev'!$A53-35,0),0.03999)","v":7.9000000000000008E-3},{"$f":"MIN(OFFSET(Male!AZ$18,'Male - Rev'!$A53-35,0),0.03999)","v":5.1999999999999998E-3},{"$f":"MIN(OFFSET(Male!BA$18,'Male - Rev'!$A53-35,0),0.03999)","v":4.7000000000000002E-3},{"$f":"MIN(OFFSET(Male!BB$18,'Male - Rev'!$A53-35,0),0.03999)","v":6.4000000000000003E-3},{"$f":"MIN(OFFSET(Male!BC$18,'Male - Rev'!$A53-35,0),0.03999)","v":0.01},{"$f":"MIN(OFFSET(Male!BD$18,'Male - Rev'!$A53-35,0),0.03999)","v":1.4500000000000001E-2},{"$f":"MIN(OFFSET(Male!BE$18,'Male - Rev'!$A53-35,0),0.03999)","v":1.9300000000000001E-2},{"$f":"MIN(OFFSET(Male!BF$18,'Male - Rev'!$A53-35,0),0.03999)","v":2.3400000000000001E-2},{"$f":"MIN(OFFSET(Male!BG$18,'Male - Rev'!$A53-35,0),0.03999)","v":2.6200000000000001E-2},{"$f":"MIN(OFFSET(Male!BH$18,'Male - Rev'!$A53-35,0),0.03999)","v":2.7099999999999999E-2},{"$f":"MIN(OFFSET(Male!BI$18,'Male - Rev'!$A53-35,0),0.03999)","v":2.5899999999999999E-2},{"$f":"MIN(OFFSET(Male!BJ$18,'Male - Rev'!$A53-35,0),0.03999)","v":2.2599999999999999E-2},{"$f":"MIN(OFFSET(Male!BK$18,'Male - Rev'!$A53-35,0),0.03999)","v":1.72E-2},{"$f":"MIN(OFFSET(Male!BL$18,'Male - Rev'!$A53-35,0),0.03999)","v":1.01E-2},{"$f":"MIN(OFFSET(Male!BM$18,'Male - Rev'!$A53-35,0),0.03999)","v":1.6999999999999999E-3},{"$f":"MIN(OFFSET(Male!BN$18,'Male - Rev'!$A53-35,0),0.03999)","v":-7.4999999999999997E-3},{"$f":"MIN(OFFSET(Male!BO$18,'Male - Rev'!$A53-35,0),0.03999)","v":-9.5999999999999992E-3},{"$f":"MIN(OFFSET(Male!BP$18,'Male - Rev'!$A53-35,0),0.03999)","v":-1.15E-2},{"$f":"MIN(OFFSET(Male!BQ$18,'Male - Rev'!$A53-35,0),0.03999)","v":-1.2800000000000001E-2},{"$f":"MIN(OFFSET(Male!BR$18,'Male - Rev'!$A53-35,0),0.03999)","v":-1.3599999999999999E-2},{"$f":"MIN(OFFSET(Male!BS$18,'Male - Rev'!$A53-35,0),0.03999)","v":-1.38E-2},{"$f":"MIN(OFFSET(Male!BT$18,'Male - Rev'!$A53-35,0),0.03999)","v":-1.3299999999999999E-2},{"$f":"MIN(OFFSET(Male!BU$18,'Male - Rev'!$A53-35,0),0.03999)","v":-1.2200000000000001E-2},{"$f":"MIN(OFFSET(Male!BV$18,'Male - Rev'!$A53-35,0),0.03999)","v":-1.0500000000000001E-2},{"$f":"MIN(OFFSET(Male!BW$18,'Male - Rev'!$A53-35,0),0.03999)","v":-8.5000000000000006E-3},{"$f":"MIN(OFFSET(Male!BX$18,'Male - Rev'!$A53-35,0),0.03999)","v":-6.4999999999999997E-3},{"$f":"MIN(OFFSET(Male!BY$18,'Male - Rev'!$A53-35,0),0.03999)","v":-4.3E-3},{"$f":"MIN(OFFSET(Male!BZ$18,'Male - Rev'!$A53-35,0),0.03999)","v":-1.9E-3},{"$f":"MIN(OFFSET(Male!CA$18,'Male - Rev'!$A53-35,0),0.03999)","v":5.9999999999999995E-4},{"$f":"MIN(OFFSET(Male!CB$18,'Male - Rev'!$A53-35,0),0.03999)","v":2.8999999999999998E-3},{"$f":"MIN(OFFSET(Male!CC$18,'Male - Rev'!$A53-35,0),0.03999)","v":5.0000000000000001E-3},{"$f":"MIN(OFFSET(Male!CD$18,'Male - Rev'!$A53-35,0),0.03999)","v":6.7999999999999996E-3},{"$f":"MIN(OFFSET(Male!CE$18,'Male - Rev'!$A53-35,0),0.03999)","v":8.2000000000000007E-3},{"$f":"MIN(OFFSET(Male!CF$18,'Male - Rev'!$A53-35,0),0.03999)","v":9.1999999999999998E-3},{"$f":"MIN(OFFSET(Male!CG$18,'Male - Rev'!$A53-35,0),0.03999)","v":9.7999999999999997E-3},{"$f":"MIN(OFFSET(Male!CH$18,'Male - Rev'!$A53-35,0),0.03999)","v":0.01}]
[44,44,{"$f":"MIN(OFFSET(Male!B$18,'Male - Rev'!$A54-35,0),0.03999)","v":2.69E-2},{"$f":"MIN(OFFSET(Male!C$18,'Male - Rev'!$A54-35,0),0.03999)","v":2.47E-2},{"$f":"MIN(OFFSET(Male!D$18,'Male - Rev'!$A54-35,0),0.03999)","v":2.2499999999999999E-2},{"$f":"MIN(OFFSET(Male!E$18,'Male - Rev'!$A54-35,0),0.03999)","v":1.9900000000000001E-2},{"$f":"MIN(OFFSET(Male!F$18,'Male - Rev'!$A54-35,0),0.03999)","v":1.6799999999999999E-2},{"$f":"MIN(OFFSET(Male!G$18,'Male - Rev'!$A54-35,0),0.03999)","v":1.3599999999999999E-2},{"$f":"MIN(OFFSET(Male!H$18,'Male - Rev'!$A54-35,0),0.03999)","v":1.03E-2},{"$f":"MIN(OFFSET(Male!I$18,'Male - Rev'!$A54-35,0),0.03999)","v":7.3000000000000001E-3},{"$f":"MIN(OFFSET(Male!J$18,'Male - Rev'!$A54-35,0),0.03999)","v":4.4000000000000003E-3},{"$f":"MIN(OFFSET(Male!K$18,'Male - Rev'!$A54-35,0),0.03999)","v":1.6999999999999999E-3},{"$f":"MIN(OFFSET(Male!L$18,'Male - Rev'!$A54-35,0),0.03999)","v":-8.9999999999999998E-4},{"$f":"MIN(OFFSET(Male!M$18,'Male - Rev'!$A54-35,0),0.03999)","v":-3.3E-3},{"$f":"MIN(OFFSET(Male!N$18,'Male - Rev'!$A54-35,0),0.03999)","v":-5.3E-3},{"$f":"MIN(OFFSET(Male!O$18,'Male - Rev'!$A54-35,0),0.03999)","v":-6.7000000000000002E-3},{"$f":"MIN(OFFSET(Male!P$18,'Male - Rev'!$A54-35,0),0.03999)","v":-7.4000000000000003E-3},{"$f":"MIN(OFFSET(Male!Q$18,'Male - Rev'!$A54-35,0),0.03999)","v":-7.0000000000000001E-3},{"$f":"MIN(OFFSET(Male!R$18,'Male - Rev'!$A54-35,0),0.03999)","v":-5.4000000000000003E-3},{"$f":"MIN(OFFSET(Male!S$18,'Male - Rev'!$A54-35,0),0.03999)","v":-2.3999999999999998E-3},{"$f":"MIN(OFFSET(Male!T$18,'Male - Rev'!$A54-35,0),0.03999)","v":1.9E-3},{"$f":"MIN(OFFSET(Male!U$18,'Male - Rev'!$A54-35,0),0.03999)","v":7.3000000000000001E-3},{"$f":"MIN(OFFSET(Male!V$18,'Male - Rev'!$A54-35,0),0.03999)","v":1.2999999999999999E-2},{"$f":"MIN(OFFSET(Male!W$18,'Male - Rev'!$A54-35,0),0.03999)","v":1.8700000000000001E-2},{"$f":"MIN(OFFSET(Male!X$18,'Male - Rev'!$A54-35,0),0.03999)","v":2.4E-2},{"$f":"MIN(OFFSET(Male!Y$18,'Male - Rev'!$A54-35,0),0.03999)","v":2.8500000000000001E-2},{"$f":"MIN(OFFSET(Male!Z$18,'Male - Rev'!$A54-35,0),0.03999)","v":3.1800000000000002E-2},{"$f":"MIN(OFFSET(Male!AA$18,'Male - Rev'!$A54-35,0),0.03999)","v":3.3700000000000001E-2},{"$f":"MIN(OFFSET(Male!AB$18,'Male - Rev'!$A54-35,0),0.03999)","v":3.4500000000000003E-2},{"$f":"MIN(OFFSET(Male!AC$18,'Male - Rev'!$A54-35,0),0.03999)","v":3.4200000000000001E-2},{"$f":"MIN(OFFSET(Male!AD$18,'Male - Rev'!$A54-35,0),0.03999)","v":3.3000000000000002E-2},{"$f":"MIN(OFFSET(Male!AE$18,'Male - Rev'!$A54-35,0),0.03999)","v":3.1E-2},{"$f":"MIN(OFFSET(Male!AF$18,'Male - Rev'!$A54-35,0),0.03999)","v":2.8199999999999999E-2},{"$f":"MIN(OFFSET(Male!AG$18,'Male - Rev'!$A54-35,0),0.03999)","v":2.4500000000000001E-2},{"$f":"MIN(OFFSET(Male!AH$18,'Male - Rev'!$A54-35,0),0.03999)","v":1.9800000000000002E-2},{"$f":"MIN(OFFSET(Male!AI$18,'Male - Rev'!$A54-35,0),0.03999)","v":1.44E-2},{"$f":"MIN(OFFSET(Male!AJ$18,'Male - Rev'!$A54-35,0),0.03999)","v":8.6999999999999994E-3},{"$f":"MIN(OFFSET(Male!AK$18,'Male - Rev'!$A54-35,0),0.03999)","v":3.2000000000000002E-3},{"$f":"MIN(OFFSET(Male!AL$18,'Male - Rev'!$A54-35,0),0.03999)","v":-1.8E-3},{"$f":"MIN(OFFSET(Male!AM$18,'Male - Rev'!$A54-35,0),0.03999)","v":-5.8999999999999999E-3},{"$f":"MIN(OFFSET(Male!AN$18,'Male - Rev'!$A54-35,0),0.03999)","v":-8.6E-3},{"$f":"MIN(OFFSET(Male!AO$18,'Male - Rev'!$A54-35,0),0.03999)","v":-9.5999999999999992E-3},{"$f":"MIN(OFFSET(Male!AP$18,'Male - Rev'!$A54-35,0),0.03999)","v":-8.6E-3},{"$f":"MIN(OFFSET(Male!AQ$18,'Male - Rev'!$A54-35,0),0.03999)","v":-5.3E-3},{"$f":"MIN(OFFSET(Male!AR$18,'Male - Rev'!$A54-35,0),0.03999)","v":2.9999999999999997E-4},{"$f":"MIN(OFFSET(Male!AS$18,'Male - Rev'!$A54-35,0),0.03999)","v":7.3000000000000001E-3},{"$f":"MIN(OFFSET(Male!AT$18,'Male - Rev'!$A54-35,0),0.03999)","v":1.4200000000000001E-2},{"$f":"MIN(OFFSET(Male!AU$18,'Male - Rev'!$A54-35,0),0.03999)","v":1.9199999999999998E-2},{"$f":"MIN(OFFSET(Male!AV$18,'Male - Rev'!$A54-35,0),0.03999)","v":2.1000000000000001E-2},{"$f":"MIN(OFFSET(Male!AW$18,'Male - Rev'!$A54-35,0),0.03999)","v":1.9300000000000001E-2},{"$f":"MIN(OFFSET(Male!AX$18,'Male - Rev'!$A54-35,0),0.03999)","v":1.5299999999999999E-2},{"$f":"MIN(OFFSET(Male!AY$18,'Male - Rev'!$A54-35,0),0.03999)","v":1.09E-2},{"$f":"MIN(OFFSET(Male!AZ$18,'Male - Rev'!$A54-35,0),0.03999)","v":7.7000000000000002E-3},{"$f":"MIN(OFFSET(Male!BA$18,'Male - Rev'!$A54-35,0),0.03999)","v":6.7000000000000002E-3},{"$f":"MIN(OFFSET(Male!BB$18,'Male - Rev'!$A54-35,0),0.03999)","v":8.2000000000000007E-3},{"$f":"MIN(OFFSET(Male!BC$18,'Male - Rev'!$A54-35,0),0.03999)","v":1.1599999999999999E-2},{"$f":"MIN(OFFSET(Male!BD$18,'Male - Rev'!$A54-35,0),0.03999)","v":1.61E-2},{"$f":"MIN(OFFSET(Male!BE$18,'Male - Rev'!$A54-35,0),0.03999)","v":2.0899999999999998E-2},{"$f":"MIN(OFFSET(Male!BF$18,'Male - Rev'!$A54-35,0),0.03999)","v":2.5100000000000001E-2},{"$f":"MIN(OFFSET(Male!BG$18,'Male - Rev'!$A54-35,0),0.03999)","v":2.7699999999999999E-2},{"$f":"MIN(OFFSET(Male!BH$18,'Male - Rev'!$A54-35,0),0.03999)","v":2.8299999999999999E-2},{"$f":"MIN(OFFSET(Male!BI$18,'Male - Rev'!$A54-35,0),0.03999)","v":2.6499999999999999E-2},{"$f":"MIN(OFFSET(Male!BJ$18,'Male - Rev'!$A54-35,0),0.03999)","v":2.2200000000000001E-2},{"$f":"MIN(OFFSET(Male!BK$18,'Male - Rev'!$A54-35,0),0.03999)","v":1.5800000000000002E-2},{"$f":"MIN(OFFSET(Male!BL$18,'Male - Rev'!$A54-35,0),0.03999)","v":7.6E-3},{"$f":"MIN(OFFSET(Male!BM$18,'Male - Rev'!$A54-35,0),0.03999)","v":-2E-3},{"$f":"MIN(OFFSET(Male!BN$18,'Male - Rev'!$A54-35,0),0.03999)","v":-1.2500000000000001E-2},{"$f":"MIN(OFFSET(Male!BO$18,'Male - Rev'!$A54-35,0),0.03999)","v":-1.4800000000000001E-2},{"$f":"MIN(OFFSET(Male!BP$18,'Male - Rev'!$A54-35,0),0.03999)","v":-1.66E-2},{"$f":"MIN(OFFSET(Male!BQ$18,'Male - Rev'!$A54-35,0),0.03999)","v":-1.7600000000000001E-2},{"$f":"MIN(OFFSET(Male!BR$18,'Male - Rev'!$A54-35,0),0.03999)","v":-1.7899999999999999E-2},{"$f":"MIN(OFFSET(Male!BS$18,'Male - Rev'!$A54-35,0),0.03999)","v":-1.7399999999999999E-2},{"$f":"MIN(OFFSET(Male!BT$18,'Male - Rev'!$A54-35,0),0.03999)","v":-1.61E-2},{"$f":"MIN(OFFSET(Male!BU$18,'Male - Rev'!$A54-35,0),0.03999)","v":-1.4200000000000001E-2},{"$f":"MIN(OFFSET(Male!BV$18,'Male - Rev'!$A54-35,0),0.03999)","v":-1.18E-2},{"$f":"MIN(OFFSET(Male!BW$18,'Male - Rev'!$A54-35,0),0.03999)","v":-9.1999999999999998E-3},{"$f":"MIN(OFFSET(Male!BX$18,'Male - Rev'!$A54-35,0),0.03999)","v":-6.7999999999999996E-3},{"$f":"MIN(OFFSET(Male!BY$18,'Male - Rev'!$A54-35,0),0.03999)","v":-4.3E-3},{"$f":"MIN(OFFSET(Male!BZ$18,'Male - Rev'!$A54-35,0),0.03999)","v":-1.8E-3},{"$f":"MIN(OFFSET(Male!CA$18,'Male - Rev'!$A54-35,0),0.03999)","v":6.9999999999999999E-4},{"$f":"MIN(OFFSET(Male!CB$18,'Male - Rev'!$A54-35,0),0.03999)","v":3.0999999999999999E-3},{"$f":"MIN(OFFSET(Male!CC$18,'Male - Rev'!$A54-35,0),0.03999)","v":5.1999999999999998E-3},{"$f":"MIN(OFFSET(Male!CD$18,'Male - Rev'!$A54-35,0),0.03999)","v":6.8999999999999999E-3},{"$f":"MIN(OFFSET(Male!CE$18,'Male - Rev'!$A54-35,0),0.03999)","v":8.3000000000000001E-3},{"$f":"MIN(OFFSET(Male!CF$18,'Male - Rev'!$A54-35,0),0.03999)","v":9.2999999999999992E-3},{"$f":"MIN(OFFSET(Male!CG$18,'Male - Rev'!$A54-35,0),0.03999)","v":9.7999999999999997E-3},{"$f":"MIN(OFFSET(Male!CH$18,'Male - Rev'!$A54-35,0),0.03999)","v":0.01}]
[43,43,{"$f":"MIN(OFFSET(Male!B$18,'Male - Rev'!$A55-35,0),0.03999)","v":2.8500000000000001E-2},{"$f":"MIN(OFFSET(Male!C$18,'Male - Rev'!$A55-35,0),0.03999)","v":2.6200000000000001E-2},{"$f":"MIN(OFFSET(Male!D$18,'Male - Rev'!$A55-35,0),0.03999)","v":2.3800000000000002E-2},{"$f":"MIN(OFFSET(Male!E$18,'Male - Rev'!$A55-35,0),0.03999)","v":2.0899999999999998E-2},{"$f":"MIN(OFFSET(Male!F$18,'Male - Rev'!$A55-35,0),0.03999)","v":1.7600000000000001E-2},{"$f":"MIN(OFFSET(Male!G$18,'Male - Rev'!$A55-35,0),0.03999)","v":1.41E-2},{"$f":"MIN(OFFSET(Male!H$18,'Male - Rev'!$A55-35,0),0.03999)","v":1.06E-2},{"$f":"MIN(OFFSET(Male!I$18,'Male - Rev'!$A55-35,0),0.03999)","v":7.3000000000000001E-3},{"$f":"MIN(OFFSET(Male!J$18,'Male - Rev'!$A55-35,0),0.03999)","v":4.3E-3},{"$f":"MIN(OFFSET(Male!K$18,'Male - Rev'!$A55-35,0),0.03999)","v":1.4E-3},{"$f":"MIN(OFFSET(Male!L$18,'Male - Rev'!$A55-35,0),0.03999)","v":-1.4E-3},{"$f":"MIN(OFFSET(Male!M$18,'Male - Rev'!$A55-35,0),0.03999)","v":-4.0000000000000001E-3},{"$f":"MIN(OFFSET(Male!N$18,'Male - Rev'!$A55-35,0),0.03999)","v":-6.3E-3},{"$f":"MIN(OFFSET(Male!O$18,'Male - Rev'!$A55-35,0),0.03999)","v":-7.9000000000000008E-3},{"$f":"MIN(OFFSET(Male!P$18,'Male - Rev'!$A55-35,0),0.03999)","v":-8.6999999999999994E-3},{"$f":"MIN(OFFSET(Male!Q$18,'Male - Rev'!$A55-35,0),0.03999)","v":-8.3999999999999995E-3},{"$f":"MIN(OFFSET(Male!R$18,'Male - Rev'!$A55-35,0),0.03999)","v":-6.6E-3},{"$f":"MIN(OFFSET(Male!S$18,'Male - Rev'!$A55-35,0),0.03999)","v":-3.3999999999999998E-3},{"$f":"MIN(OFFSET(Male!T$18,'Male - Rev'!$A55-35,0),0.03999)","v":1.1999999999999999E-3},{"$f":"MIN(OFFSET(Male!U$18,'Male - Rev'!$A55-35,0),0.03999)","v":7.0000000000000001E-3},{"$f":"MIN(OFFSET(Male!V$18,'Male - Rev'!$A55-35,0),0.03999)","v":1.32E-2},{"$f":"MIN(OFFSET(Male!W$18,'Male - Rev'!$A55-35,0),0.03999)","v":1.9199999999999998E-2},{"$f":"MIN(OFFSET(Male!X$18,'Male - Rev'!$A55-35,0),0.03999)","v":2.47E-2},{"$f":"MIN(OFFSET(Male!Y$18,'Male - Rev'!$A55-35,0),0.03999)","v":2.92E-2},{"$f":"MIN(OFFSET(Male!Z$18,'Male - Rev'!$A55-35,0),0.03999)","v":3.2399999999999998E-2},{"$f":"MIN(OFFSET(Male!AA$18,'Male - Rev'!$A55-35,0),0.03999)","v":3.4299999999999997E-2},{"$f":"MIN(OFFSET(Male!AB$18,'Male - Rev'!$A55-35,0),0.03999)","v":3.5000000000000003E-2},{"$f":"MIN(OFFSET(Male!AC$18,'Male - Rev'!$A55-35,0),0.03999)","v":3.4599999999999999E-2},{"$f":"MIN(OFFSET(Male!AD$18,'Male - Rev'!$A55-35,0),0.03999)","v":3.32E-2},{"$f":"MIN(OFFSET(Male!AE$18,'Male - Rev'!$A55-35,0),0.03999)","v":3.0800000000000001E-2},{"$f":"MIN(OFFSET(Male!AF$18,'Male - Rev'!$A55-35,0),0.03999)","v":2.75E-2},{"$f":"MIN(OFFSET(Male!AG$18,'Male - Rev'!$A55-35,0),0.03999)","v":2.3E-2},{"$f":"MIN(OFFSET(Male!AH$18,'Male - Rev'!$A55-35,0),0.03999)","v":1.7399999999999999E-2},{"$f":"MIN(OFFSET(Male!AI$18,'Male - Rev'!$A55-35,0),0.03999)","v":1.11E-2},{"$f":"MIN(OFFSET(Male!AJ$18,'Male - Rev'!$A55-35,0),0.03999)","v":4.7000000000000002E-3},{"$f":"MIN(OFFSET(Male!AK$18,'Male - Rev'!$A55-35,0),0.03999)","v":-1.2999999999999999E-3},{"$f":"MIN(OFFSET(Male!AL$18,'Male - Rev'!$A55-35,0),0.03999)","v":-6.6E-3},{"$f":"MIN(OFFSET(Male!AM$18,'Male - Rev'!$A55-35,0),0.03999)","v":-1.0699999999999999E-2},{"$f":"MIN(OFFSET(Male!AN$18,'Male - Rev'!$A55-35,0),0.03999)","v":-1.32E-2},{"$f":"MIN(OFFSET(Male!AO$18,'Male - Rev'!$A55-35,0),0.03999)","v":-1.37E-2},{"$f":"MIN(OFFSET(Male!AP$18,'Male - Rev'!$A55-35,0),0.03999)","v":-1.2E-2},{"$f":"MIN(OFFSET(Male!AQ$18,'Male - Rev'!$A55-35,0),0.03999)","v":-7.6E-3},{"$f":"MIN(OFFSET(Male!AR$18,'Male - Rev'!$A55-35,0),0.03999)","v":-5.9999999999999995E-4},{"$f":"MIN(OFFSET(Male!AS$18,'Male - Rev'!$A55-35,0),0.03999)","v":8.0000000000000002E-3},{"$f":"MIN(OFFSET(Male!AT$18,'Male - Rev'!$A55-35,0),0.03999)","v":1.6500000000000001E-2},{"$f":"MIN(OFFSET(Male!AU$18,'Male - Rev'!$A55-35,0),0.03999)","v":2.29E-2},{"$f":"MIN(OFFSET(Male!AV$18,'Male - Rev'!$A55-35,0),0.03999)","v":2.53E-2},{"$f":"MIN(OFFSET(Male!AW$18,'Male - Rev'!$A55-35,0),0.03999)","v":2.3699999999999999E-2},{"$f":"MIN(OFFSET(Male!AX$18,'Male - Rev'!$A55-35,0),0.03999)","v":1.9400000000000001E-2},{"$f":"MIN(OFFSET(Male!AY$18,'Male - Rev'!$A55-35,0),0.03999)","v":1.43E-2},{"$f":"MIN(OFFSET(Male!AZ$18,'Male - Rev'!$A55-35,0),0.03999)","v":1.04E-2},{"$f":"MIN(OFFSET(Male!BA$18,'Male - Rev'!$A55-35,0),0.03999)","v":8.6999999999999994E-3},{"$f":"MIN(OFFSET(Male!BB$18,'Male - Rev'!$A55-35,0),0.03999)","v":9.7999999999999997E-3},{"$f":"MIN(OFFSET(Male!BC$18,'Male - Rev'!$A55-35,0),0.03999)","v":1.29E-2},{"$f":"MIN(OFFSET(Male!BD$18,'Male - Rev'!$A55-35,0),0.03999)","v":1.7299999999999999E-2},{"$f":"MIN(OFFSET(Male!BE$18,'Male - Rev'!$A55-35,0),0.03999)","v":2.1999999999999999E-2},{"$f":"MIN(OFFSET(Male!BF$18,'Male - Rev'!$A55-35,0),0.03999)","v":2.6100000000000002E-2},{"$f":"MIN(OFFSET(Male!BG$18,'Male - Rev'!$A55-35,0),0.03999)","v":2.86E-2},{"$f":"MIN(OFFSET(Male!BH$18,'Male - Rev'!$A55-35,0),0.03999)","v":2.8799999999999999E-2},{"$f":"MIN(OFFSET(Male!BI$18,'Male - Rev'!$A55-35,0),0.03999)","v":2.64E-2},{"$f":"MIN(OFFSET(Male!BJ$18,'Male - Rev'!$A55-35,0),0.03999)","v":2.12E-2},{"$f":"MIN(OFFSET(Male!BK$18,'Male - Rev'!$A55-35,0),0.03999)","v":1.37E-2},{"$f":"MIN(OFFSET(Male!BL$18,'Male - Rev'!$A55-35,0),0.03999)","v":4.3E-3},{"$f":"MIN(OFFSET(Male!BM$18,'Male - Rev'!$A55-35,0),0.03999)","v":-6.4000000000000003E-3},{"$f":"MIN(OFFSET(Male!BN$18,'Male - Rev'!$A55-35,0),0.03999)","v":-1.7999999999999999E-2},{"$f":"MIN(OFFSET(Male!BO$18,'Male - Rev'!$A55-35,0),0.03999)","v":-2.0500000000000001E-2},{"$f":"MIN(OFFSET(Male!BP$18,'Male - Rev'!$A55-35,0),0.03999)","v":-2.2100000000000002E-2},{"$f":"MIN(OFFSET(Male!BQ$18,'Male - Rev'!$A55-35,0),0.03999)","v":-2.2599999999999999E-2},{"$f":"MIN(OFFSET(Male!BR$18,'Male - Rev'!$A55-35,0),0.03999)","v":-2.2200000000000001E-2},{"$f":"MIN(OFFSET(Male!BS$18,'Male - Rev'!$A55-35,0),0.03999)","v":-2.0799999999999999E-2},{"$f":"MIN(OFFSET(Male!BT$18,'Male - Rev'!$A55-35,0),0.03999)","v":-1.8700000000000001E-2},{"$f":"MIN(OFFSET(Male!BU$18,'Male - Rev'!$A55-35,0),0.03999)","v":-1.5900000000000001E-2},{"$f":"MIN(OFFSET(Male!BV$18,'Male - Rev'!$A55-35,0),0.03999)","v":-1.2800000000000001E-2},{"$f":"MIN(OFFSET(Male!BW$18,'Male - Rev'!$A55-35,0),0.03999)","v":-9.7000000000000003E-3},{"$f":"MIN(OFFSET(Male!BX$18,'Male - Rev'!$A55-35,0),0.03999)","v":-6.7999999999999996E-3},{"$f":"MIN(OFFSET(Male!BY$18,'Male - Rev'!$A55-35,0),0.03999)","v":-4.1999999999999997E-3},{"$f":"MIN(OFFSET(Male!BZ$18,'Male - Rev'!$A55-35,0),0.03999)","v":-1.6000000000000001E-3},{"$f":"MIN(OFFSET(Male!CA$18,'Male - Rev'!$A55-35,0),0.03999)","v":1E-3},{"$f":"MIN(OFFSET(Male!CB$18,'Male - Rev'!$A55-35,0),0.03999)","v":3.3E-3},{"$f":"MIN(OFFSET(Male!CC$18,'Male - Rev'!$A55-35,0),0.03999)","v":5.4000000000000003E-3},{"$f":"MIN(OFFSET(Male!CD$18,'Male - Rev'!$A55-35,0),0.03999)","v":7.1000000000000004E-3},{"$f":"MIN(OFFSET(Male!CE$18,'Male - Rev'!$A55-35,0),0.03999)","v":8.3999999999999995E-3},{"$f":"MIN(OFFSET(Male!CF$18,'Male - Rev'!$A55-35,0),0.03999)","v":9.2999999999999992E-3},{"$f":"MIN(OFFSET(Male!CG$18,'Male - Rev'!$A55-35,0),0.03999)","v":9.7999999999999997E-3},{"$f":"MIN(OFFSET(Male!CH$18,'Male - Rev'!$A55-35,0),0.03999)","v":0.01}]
[42,42,{"$f":"MIN(OFFSET(Male!B$18,'Male - Rev'!$A56-35,0),0.03999)","v":3.0200000000000001E-2},{"$f":"MIN(OFFSET(Male!C$18,'Male - Rev'!$A56-35,0),0.03999)","v":2.7699999999999999E-2},{"$f":"MIN(OFFSET(Male!D$18,'Male - Rev'!$A56-35,0),0.03999)","v":2.5000000000000001E-2},{"$f":"MIN(OFFSET(Male!E$18,'Male - Rev'!$A56-35,0),0.03999)","v":2.1899999999999999E-2},{"$f":"MIN(OFFSET(Male!F$18,'Male - Rev'!$A56-35,0),0.03999)","v":1.83E-2},{"$f":"MIN(OFFSET(Male!G$18,'Male - Rev'!$A56-35,0),0.03999)","v":1.44E-2},{"$f":"MIN(OFFSET(Male!H$18,'Male - Rev'!$A56-35,0),0.03999)","v":1.0699999999999999E-2},{"$f":"MIN(OFFSET(Male!I$18,'Male - Rev'!$A56-35,0),0.03999)","v":7.1999999999999998E-3},{"$f":"MIN(OFFSET(Male!J$18,'Male - Rev'!$A56-35,0),0.03999)","v":4.0000000000000001E-3},{"$f":"MIN(OFFSET(Male!K$18,'Male - Rev'!$A56-35,0),0.03999)","v":8.9999999999999998E-4},{"$f":"MIN(OFFSET(Male!L$18,'Male - Rev'!$A56-35,0),0.03999)","v":-2.0999999999999999E-3},{"$f":"MIN(OFFSET(Male!M$18,'Male - Rev'!$A56-35,0),0.03999)","v":-4.8999999999999998E-3},{"$f":"MIN(OFFSET(Male!N$18,'Male - Rev'!$A56-35,0),0.03999)","v":-7.3000000000000001E-3},{"$f":"MIN(OFFSET(Male!O$18,'Male - Rev'!$A56-35,0),0.03999)","v":-9.1000000000000004E-3},{"$f":"MIN(OFFSET(Male!P$18,'Male - Rev'!$A56-35,0),0.03999)","v":-0.01},{"$f":"MIN(OFFSET(Male!Q$18,'Male - Rev'!$A56-35,0),0.03999)","v":-9.5999999999999992E-3},{"$f":"MIN(OFFSET(Male!R$18,'Male - Rev'!$A56-35,0),0.03999)","v":-7.7999999999999996E-3},{"$f":"MIN(OFFSET(Male!S$18,'Male - Rev'!$A56-35,0),0.03999)","v":-4.3E-3},{"$f":"MIN(OFFSET(Male!T$18,'Male - Rev'!$A56-35,0),0.03999)","v":6.9999999999999999E-4},{"$f":"MIN(OFFSET(Male!U$18,'Male - Rev'!$A56-35,0),0.03999)","v":6.7999999999999996E-3},{"$f":"MIN(OFFSET(Male!V$18,'Male - Rev'!$A56-35,0),0.03999)","v":1.34E-2},{"$f":"MIN(OFFSET(Male!W$18,'Male - Rev'!$A56-35,0),0.03999)","v":1.9699999999999999E-2},{"$f":"MIN(OFFSET(Male!X$18,'Male - Rev'!$A56-35,0),0.03999)","v":2.53E-2},{"$f":"MIN(OFFSET(Male!Y$18,'Male - Rev'!$A56-35,0),0.03999)","v":2.98E-2},{"$f":"MIN(OFFSET(Male!Z$18,'Male - Rev'!$A56-35,0),0.03999)","v":3.2899999999999999E-2},{"$f":"MIN(OFFSET(Male!AA$18,'Male - Rev'!$A56-35,0),0.03999)","v":3.4700000000000002E-2},{"$f":"MIN(OFFSET(Male!AB$18,'Male - Rev'!$A56-35,0),0.03999)","v":3.5299999999999998E-2},{"$f":"MIN(OFFSET(Male!AC$18,'Male - Rev'!$A56-35,0),0.03999)","v":3.4799999999999998E-2},{"$f":"MIN(OFFSET(Male!AD$18,'Male - Rev'!$A56-35,0),0.03999)","v":3.3099999999999997E-2},{"$f":"MIN(OFFSET(Male!AE$18,'Male - Rev'!$A56-35,0),0.03999)","v":3.04E-2},{"$f":"MIN(OFFSET(Male!AF$18,'Male - Rev'!$A56-35,0),0.03999)","v":2.64E-2},{"$f":"MIN(OFFSET(Male!AG$18,'Male - Rev'!$A56-35,0),0.03999)","v":2.1100000000000001E-2},{"$f":"MIN(OFFSET(Male!AH$18,'Male - Rev'!$A56-35,0),0.03999)","v":1.4500000000000001E-2},{"$f":"MIN(OFFSET(Male!AI$18,'Male - Rev'!$A56-35,0),0.03999)","v":7.3000000000000001E-3},{"$f":"MIN(OFFSET(Male!AJ$18,'Male - Rev'!$A56-35,0),0.03999)","v":1E-4},{"$f":"MIN(OFFSET(Male!AK$18,'Male - Rev'!$A56-35,0),0.03999)","v":-6.4999999999999997E-3},{"$f":"MIN(OFFSET(Male!AL$18,'Male - Rev'!$A56-35,0),0.03999)","v":-1.1900000000000001E-2},{"$f":"MIN(OFFSET(Male!AM$18,'Male - Rev'!$A56-35,0),0.03999)","v":-1.5699999999999999E-2},{"$f":"MIN(OFFSET(Male!AN$18,'Male - Rev'!$A56-35,0),0.03999)","v":-1.77E-2},{"$f":"MIN(OFFSET(Male!AO$18,'Male - Rev'!$A56-35,0),0.03999)","v":-1.7399999999999999E-2},{"$f":"MIN(OFFSET(Male!AP$18,'Male - Rev'!$A56-35,0),0.03999)","v":-1.47E-2},{"$f":"MIN(OFFSET(Male!AQ$18,'Male - Rev'!$A56-35,0),0.03999)","v":-8.9999999999999993E-3},{"$f":"MIN(OFFSET(Male!AR$18,'Male - Rev'!$A56-35,0),0.03999)","v":-5.9999999999999995E-4},{"$f":"MIN(OFFSET(Male!AS$18,'Male - Rev'!$A56-35,0),0.03999)","v":9.7000000000000003E-3},{"$f":"MIN(OFFSET(Male!AT$18,'Male - Rev'!$A56-35,0),0.03999)","v":1.9800000000000002E-2},{"$f":"MIN(OFFSET(Male!AU$18,'Male - Rev'!$A56-35,0),0.03999)","v":2.7300000000000001E-2},{"$f":"MIN(OFFSET(Male!AV$18,'Male - Rev'!$A56-35,0),0.03999)","v":3.0300000000000001E-2},{"$f":"MIN(OFFSET(Male!AW$18,'Male - Rev'!$A56-35,0),0.03999)","v":2.86E-2},{"$f":"MIN(OFFSET(Male!AX$18,'Male - Rev'!$A56-35,0),0.03999)","v":2.3699999999999999E-2},{"$f":"MIN(OFFSET(Male!AY$18,'Male - Rev'!$A56-35,0),0.03999)","v":1.78E-2},{"$f":"MIN(OFFSET(Male!AZ$18,'Male - Rev'!$A56-35,0),0.03999)","v":1.2999999999999999E-2},{"$f":"MIN(OFFSET(Male!BA$18,'Male - Rev'!$A56-35,0),0.03999)","v":1.0699999999999999E-2},{"$f":"MIN(OFFSET(Male!BB$18,'Male - Rev'!$A56-35,0),0.03999)","v":1.11E-2},{"$f":"MIN(OFFSET(Male!BC$18,'Male - Rev'!$A56-35,0),0.03999)","v":1.3899999999999999E-2},{"$f":"MIN(OFFSET(Male!BD$18,'Male - Rev'!$A56-35,0),0.03999)","v":1.7999999999999999E-2},{"$f":"MIN(OFFSET(Male!BE$18,'Male - Rev'!$A56-35,0),0.03999)","v":2.2599999999999999E-2},{"$f":"MIN(OFFSET(Male!BF$18,'Male - Rev'!$A56-35,0),0.03999)","v":2.6499999999999999E-2},{"$f":"MIN(OFFSET(Male!BG$18,'Male - Rev'!$A56-35,0),0.03999)","v":2.87E-2},{"$f":"MIN(OFFSET(Male!BH$18,'Male - Rev'!$A56-35,0),0.03999)","v":2.8500000000000001E-2},{"$f":"MIN(OFFSET(Male!BI$18,'Male - Rev'!$A56-35,0),0.03999)","v":2.5399999999999999E-2},{"$f":"MIN(OFFSET(Male!BJ$18,'Male - Rev'!$A56-35,0),0.03999)","v":1.95E-2},{"$f":"MIN(OFFSET(Male!BK$18,'Male - Rev'!$A56-35,0),0.03999)","v":1.0999999999999999E-2},{"$f":"MIN(OFFSET(Male!BL$18,'Male - Rev'!$A56-35,0),0.03999)","v":5.0000000000000001E-4},{"$f":"MIN(OFFSET(Male!BM$18,'Male - Rev'!$A56-35,0),0.03999)","v":-1.1299999999999999E-2},{"$f":"MIN(OFFSET(Male!BN$18,'Male - Rev'!$A56-35,0),0.03999)","v":-2.4E-2},{"$f":"MIN(OFFSET(Male!BO$18,'Male - Rev'!$A56-35,0),0.03999)","v":-2.64E-2},{"$f":"MIN(OFFSET(Male!BP$18,'Male - Rev'!$A56-35,0),0.03999)","v":-2.76E-2},{"$f":"MIN(OFFSET(Male!BQ$18,'Male - Rev'!$A56-35,0),0.03999)","v":-2.76E-2},{"$f":"MIN(OFFSET(Male!BR$18,'Male - Rev'!$A56-35,0),0.03999)","v":-2.63E-2},{"$f":"MIN(OFFSET(Male!BS$18,'Male - Rev'!$A56-35,0),0.03999)","v":-2.4E-2},{"$f":"MIN(OFFSET(Male!BT$18,'Male - Rev'!$A56-35,0),0.03999)","v":-2.0899999999999998E-2},{"$f":"MIN(OFFSET(Male!BU$18,'Male - Rev'!$A56-35,0),0.03999)","v":-1.7299999999999999E-2},{"$f":"MIN(OFFSET(Male!BV$18,'Male - Rev'!$A56-35,0),0.03999)","v":-1.35E-2},{"$f":"MIN(OFFSET(Male!BW$18,'Male - Rev'!$A56-35,0),0.03999)","v":-9.7999999999999997E-3},{"$f":"MIN(OFFSET(Male!BX$18,'Male - Rev'!$A56-35,0),0.03999)","v":-6.7000000000000002E-3},{"$f":"MIN(OFFSET(Male!BY$18,'Male - Rev'!$A56-35,0),0.03999)","v":-4.0000000000000001E-3},{"$f":"MIN(OFFSET(Male!BZ$18,'Male - Rev'!$A56-35,0),0.03999)","v":-1.2999999999999999E-3},{"$f":"MIN(OFFSET(Male!CA$18,'Male - Rev'!$A56-35,0),0.03999)","v":1.2999999999999999E-3},{"$f":"MIN(OFFSET(Male!CB$18,'Male - Rev'!$A56-35,0),0.03999)","v":3.7000000000000002E-3},{"$f":"MIN(OFFSET(Male!CC$18,'Male - Rev'!$A56-35,0),0.03999)","v":5.7000000000000002E-3},{"$f":"MIN(OFFSET(Male!CD$18,'Male - Rev'!$A56-35,0),0.03999)","v":7.3000000000000001E-3},{"$f":"MIN(OFFSET(Male!CE$18,'Male - Rev'!$A56-35,0),0.03999)","v":8.5000000000000006E-3},{"$f":"MIN(OFFSET(Male!CF$18,'Male - Rev'!$A56-35,0),0.03999)","v":9.4000000000000004E-3},{"$f":"MIN(OFFSET(Male!CG$18,'Male - Rev'!$A56-35,0),0.03999)","v":9.9000000000000008E-3},{"$f":"MIN(OFFSET(Male!CH$18,'Male - Rev'!$A56-35,0),0.03999)","v":0.01}]
[41,41,{"$f":"MIN(OFFSET(Male!B$18,'Male - Rev'!$A57-35,0),0.03999)","v":3.2000000000000001E-2},{"$f":"MIN(OFFSET(Male!C$18,'Male - Rev'!$A57-35,0),0.03999)","v":2.92E-2},{"$f":"MIN(OFFSET(Male!D$18,'Male - Rev'!$A57-35,0),0.03999)","v":2.6200000000000001E-2},{"$f":"MIN(OFFSET(Male!E$18,'Male - Rev'!$A57-35,0),0.03999)","v":2.2800000000000001E-2},{"$f":"MIN(OFFSET(Male!F$18,'Male - Rev'!$A57-35,0),0.03999)","v":1.8800000000000001E-2},{"$f":"MIN(OFFSET(Male!G$18,'Male - Rev'!$A57-35,0),0.03999)","v":1.46E-2},{"$f":"MIN(OFFSET(Male!H$18,'Male - Rev'!$A57-35,0),0.03999)","v":1.06E-2},{"$f":"MIN(OFFSET(Male!I$18,'Male - Rev'!$A57-35,0),0.03999)","v":6.8999999999999999E-3},{"$f":"MIN(OFFSET(Male!J$18,'Male - Rev'!$A57-35,0),0.03999)","v":3.5000000000000001E-3},{"$f":"MIN(OFFSET(Male!K$18,'Male - Rev'!$A57-35,0),0.03999)","v":2.0000000000000001E-4},{"$f":"MIN(OFFSET(Male!L$18,'Male - Rev'!$A57-35,0),0.03999)","v":-2.8999999999999998E-3},{"$f":"MIN(OFFSET(Male!M$18,'Male - Rev'!$A57-35,0),0.03999)","v":-5.8999999999999999E-3},{"$f":"MIN(OFFSET(Male!N$18,'Male - Rev'!$A57-35,0),0.03999)","v":-8.3999999999999995E-3},{"$f":"MIN(OFFSET(Male!O$18,'Male - Rev'!$A57-35,0),0.03999)","v":-1.03E-2},{"$f":"MIN(OFFSET(Male!P$18,'Male - Rev'!$A57-35,0),0.03999)","v":-1.12E-2},{"$f":"MIN(OFFSET(Male!Q$18,'Male - Rev'!$A57-35,0),0.03999)","v":-1.0699999999999999E-2},{"$f":"MIN(OFFSET(Male!R$18,'Male - Rev'!$A57-35,0),0.03999)","v":-8.8000000000000005E-3},{"$f":"MIN(OFFSET(Male!S$18,'Male - Rev'!$A57-35,0),0.03999)","v":-5.1000000000000004E-3},{"$f":"MIN(OFFSET(Male!T$18,'Male - Rev'!$A57-35,0),0.03999)","v":1E-4},{"$f":"MIN(OFFSET(Male!U$18,'Male - Rev'!$A57-35,0),0.03999)","v":6.6E-3},{"$f":"MIN(OFFSET(Male!V$18,'Male - Rev'!$A57-35,0),0.03999)","v":1.35E-2},{"$f":"MIN(OFFSET(Male!W$18,'Male - Rev'!$A57-35,0),0.03999)","v":0.02},{"$f":"MIN(OFFSET(Male!X$18,'Male - Rev'!$A57-35,0),0.03999)","v":2.5700000000000001E-2},{"$f":"MIN(OFFSET(Male!Y$18,'Male - Rev'!$A57-35,0),0.03999)","v":3.0200000000000001E-2},{"$f":"MIN(OFFSET(Male!Z$18,'Male - Rev'!$A57-35,0),0.03999)","v":3.3300000000000003E-2},{"$f":"MIN(OFFSET(Male!AA$18,'Male - Rev'!$A57-35,0),0.03999)","v":3.5000000000000003E-2},{"$f":"MIN(OFFSET(Male!AB$18,'Male - Rev'!$A57-35,0),0.03999)","v":3.5400000000000001E-2},{"$f":"MIN(OFFSET(Male!AC$18,'Male - Rev'!$A57-35,0),0.03999)","v":3.4599999999999999E-2},{"$f":"MIN(OFFSET(Male!AD$18,'Male - Rev'!$A57-35,0),0.03999)","v":3.27E-2},{"$f":"MIN(OFFSET(Male!AE$18,'Male - Rev'!$A57-35,0),0.03999)","v":2.9499999999999998E-2},{"$f":"MIN(OFFSET(Male!AF$18,'Male - Rev'!$A57-35,0),0.03999)","v":2.4899999999999999E-2},{"$f":"MIN(OFFSET(Male!AG$18,'Male - Rev'!$A57-35,0),0.03999)","v":1.8800000000000001E-2},{"$f":"MIN(OFFSET(Male!AH$18,'Male - Rev'!$A57-35,0),0.03999)","v":1.12E-2},{"$f":"MIN(OFFSET(Male!AI$18,'Male - Rev'!$A57-35,0),0.03999)","v":3.0000000000000001E-3},{"$f":"MIN(OFFSET(Male!AJ$18,'Male - Rev'!$A57-35,0),0.03999)","v":-5.0000000000000001E-3},{"$f":"MIN(OFFSET(Male!AK$18,'Male - Rev'!$A57-35,0),0.03999)","v":-1.2E-2},{"$f":"MIN(OFFSET(Male!AL$18,'Male - Rev'!$A57-35,0),0.03999)","v":-1.7399999999999999E-2},{"$f":"MIN(OFFSET(Male!AM$18,'Male - Rev'!$A57-35,0),0.03999)","v":-2.0899999999999998E-2},{"$f":"MIN(OFFSET(Male!AN$18,'Male - Rev'!$A57-35,0),0.03999)","v":-2.1999999999999999E-2},{"$f":"MIN(OFFSET(Male!AO$18,'Male - Rev'!$A57-35,0),0.03999)","v":-2.07E-2},{"$f":"MIN(OFFSET(Male!AP$18,'Male - Rev'!$A57-35,0),0.03999)","v":-1.66E-2},{"$f":"MIN(OFFSET(Male!AQ$18,'Male - Rev'!$A57-35,0),0.03999)","v":-9.4999999999999998E-3},{"$f":"MIN(OFFSET(Male!AR$18,'Male - Rev'!$A57-35,0),0.03999)","v":5.0000000000000001E-4},{"$f":"MIN(OFFSET(Male!AS$18,'Male - Rev'!$A57-35,0),0.03999)","v":1.23E-2},{"$f":"MIN(OFFSET(Male!AT$18,'Male - Rev'!$A57-35,0),0.03999)","v":2.3699999999999999E-2},{"$f":"MIN(OFFSET(Male!AU$18,'Male - Rev'!$A57-35,0),0.03999)","v":3.2199999999999999E-2},{"$f":"MIN(OFFSET(Male!AV$18,'Male - Rev'!$A57-35,0),0.03999)","v":3.56E-2},{"$f":"MIN(OFFSET(Male!AW$18,'Male - Rev'!$A57-35,0),0.03999)","v":3.3700000000000001E-2},{"$f":"MIN(OFFSET(Male!AX$18,'Male - Rev'!$A57-35,0),0.03999)","v":2.81E-2},{"$f":"MIN(OFFSET(Male!AY$18,'Male - Rev'!$A57-35,0),0.03999)","v":2.1299999999999999E-2},{"$f":"MIN(OFFSET(Male!AZ$18,'Male - Rev'!$A57-35,0),0.03999)","v":1.5599999999999999E-2},{"$f":"MIN(OFFSET(Male!BA$18,'Male - Rev'!$A57-35,0),0.03999)","v":1.24E-2},{"$f":"MIN(OFFSET(Male!BB$18,'Male - Rev'!$A57-35,0),0.03999)","v":1.23E-2},{"$f":"MIN(OFFSET(Male!BC$18,'Male - Rev'!$A57-35,0),0.03999)","v":1.46E-2},{"$f":"MIN(OFFSET(Male!BD$18,'Male - Rev'!$A57-35,0),0.03999)","v":1.83E-2},{"$f":"MIN(OFFSET(Male!BE$18,'Male - Rev'!$A57-35,0),0.03999)","v":2.2499999999999999E-2},{"$f":"MIN(OFFSET(Male!BF$18,'Male - Rev'!$A57-35,0),0.03999)","v":2.6100000000000002E-2},{"$f":"MIN(OFFSET(Male!BG$18,'Male - Rev'!$A57-35,0),0.03999)","v":2.8000000000000001E-2},{"$f":"MIN(OFFSET(Male!BH$18,'Male - Rev'!$A57-35,0),0.03999)","v":2.7300000000000001E-2},{"$f":"MIN(OFFSET(Male!BI$18,'Male - Rev'!$A57-35,0),0.03999)","v":2.3699999999999999E-2},{"$f":"MIN(OFFSET(Male!BJ$18,'Male - Rev'!$A57-35,0),0.03999)","v":1.7100000000000001E-2},{"$f":"MIN(OFFSET(Male!BK$18,'Male - Rev'!$A57-35,0),0.03999)","v":7.7000000000000002E-3},{"$f":"MIN(OFFSET(Male!BL$18,'Male - Rev'!$A57-35,0),0.03999)","v":-3.5999999999999999E-3},{"$f":"MIN(OFFSET(Male!BM$18,'Male - Rev'!$A57-35,0),0.03999)","v":-1.6500000000000001E-2},{"$f":"MIN(OFFSET(Male!BN$18,'Male - Rev'!$A57-35,0),0.03999)","v":-3.0099999999999998E-2},{"$f":"MIN(OFFSET(Male!BO$18,'Male - Rev'!$A57-35,0),0.03999)","v":-3.2399999999999998E-2},{"$f":"MIN(OFFSET(Male!BP$18,'Male - Rev'!$A57-35,0),0.03999)","v":-3.3000000000000002E-2},{"$f":"MIN(OFFSET(Male!BQ$18,'Male - Rev'!$A57-35,0),0.03999)","v":-3.2199999999999999E-2},{"$f":"MIN(OFFSET(Male!BR$18,'Male - Rev'!$A57-35,0),0.03999)","v":-3.0099999999999998E-2},{"$f":"MIN(OFFSET(Male!BS$18,'Male - Rev'!$A57-35,0),0.03999)","v":-2.69E-2},{"$f":"MIN(OFFSET(Male!BT$18,'Male - Rev'!$A57-35,0),0.03999)","v":-2.29E-2},{"$f":"MIN(OFFSET(Male!BU$18,'Male - Rev'!$A57-35,0),0.03999)","v":-1.84E-2},{"$f":"MIN(OFFSET(Male!BV$18,'Male - Rev'!$A57-35,0),0.03999)","v":-1.3899999999999999E-2},{"$f":"MIN(OFFSET(Male!BW$18,'Male - Rev'!$A57-35,0),0.03999)","v":-9.7999999999999997E-3},{"$f":"MIN(OFFSET(Male!BX$18,'Male - Rev'!$A57-35,0),0.03999)","v":-6.4999999999999997E-3},{"$f":"MIN(OFFSET(Male!BY$18,'Male - Rev'!$A57-35,0),0.03999)","v":-3.5999999999999999E-3},{"$f":"MIN(OFFSET(Male!BZ$18,'Male - Rev'!$A57-35,0),0.03999)","v":-8.9999999999999998E-4},{"$f":"MIN(OFFSET(Male!CA$18,'Male - Rev'!$A57-35,0),0.03999)","v":1.6999999999999999E-3},{"$f":"MIN(OFFSET(Male!CB$18,'Male - Rev'!$A57-35,0),0.03999)","v":4.0000000000000001E-3},{"$f":"MIN(OFFSET(Male!CC$18,'Male - Rev'!$A57-35,0),0.03999)","v":6.0000000000000001E-3},{"$f":"MIN(OFFSET(Male!CD$18,'Male - Rev'!$A57-35,0),0.03999)","v":7.4999999999999997E-3},{"$f":"MIN(OFFSET(Male!CE$18,'Male - Rev'!$A57-35,0),0.03999)","v":8.6999999999999994E-3},{"$f":"MIN(OFFSET(Male!CF$18,'Male - Rev'!$A57-35,0),0.03999)","v":9.4000000000000004E-3},{"$f":"MIN(OFFSET(Male!CG$18,'Male - Rev'!$A57-35,0),0.03999)","v":9.9000000000000008E-3},{"$f":"MIN(OFFSET(Male!CH$18,'Male - Rev'!$A57-35,0),0.03999)","v":0.01}]
[40,40,{"$f":"MIN(OFFSET(Male!B$18,'Male - Rev'!$A58-35,0),0.03999)","v":3.39E-2},{"$f":"MIN(OFFSET(Male!C$18,'Male - Rev'!$A58-35,0),0.03999)","v":3.0800000000000001E-2},{"$f":"MIN(OFFSET(Male!D$18,'Male - Rev'!$A58-35,0),0.03999)","v":2.7400000000000001E-2},{"$f":"MIN(OFFSET(Male!E$18,'Male - Rev'!$A58-35,0),0.03999)","v":2.35E-2},{"$f":"MIN(OFFSET(Male!F$18,'Male - Rev'!$A58-35,0),0.03999)","v":1.9199999999999998E-2},{"$f":"MIN(OFFSET(Male!G$18,'Male - Rev'!$A58-35,0),0.03999)","v":1.47E-2},{"$f":"MIN(OFFSET(Male!H$18,'Male - Rev'!$A58-35,0),0.03999)","v":1.04E-2},{"$f":"MIN(OFFSET(Male!I$18,'Male - Rev'!$A58-35,0),0.03999)","v":6.4999999999999997E-3},{"$f":"MIN(OFFSET(Male!J$18,'Male - Rev'!$A58-35,0),0.03999)","v":2.8999999999999998E-3},{"$f":"MIN(OFFSET(Male!K$18,'Male - Rev'!$A58-35,0),0.03999)","v":-5.0000000000000001E-4},{"$f":"MIN(OFFSET(Male!L$18,'Male - Rev'!$A58-35,0),0.03999)","v":-3.8E-3},{"$f":"MIN(OFFSET(Male!M$18,'Male - Rev'!$A58-35,0),0.03999)","v":-6.7999999999999996E-3},{"$f":"MIN(OFFSET(Male!N$18,'Male - Rev'!$A58-35,0),0.03999)","v":-9.4999999999999998E-3},{"$f":"MIN(OFFSET(Male!O$18,'Male - Rev'!$A58-35,0),0.03999)","v":-1.14E-2},{"$f":"MIN(OFFSET(Male!P$18,'Male - Rev'!$A58-35,0),0.03999)","v":-1.2200000000000001E-2},{"$f":"MIN(OFFSET(Male!Q$18,'Male - Rev'!$A58-35,0),0.03999)","v":-1.18E-2},{"$f":"MIN(OFFSET(Male!R$18,'Male - Rev'!$A58-35,0),0.03999)","v":-9.7000000000000003E-3},{"$f":"MIN(OFFSET(Male!S$18,'Male - Rev'!$A58-35,0),0.03999)","v":-5.8999999999999999E-3},{"$f":"MIN(OFFSET(Male!T$18,'Male - Rev'!$A58-35,0),0.03999)","v":-4.0000000000000002E-4},{"$f":"MIN(OFFSET(Male!U$18,'Male - Rev'!$A58-35,0),0.03999)","v":6.3E-3},{"$f":"MIN(OFFSET(Male!V$18,'Male - Rev'!$A58-35,0),0.03999)","v":1.34E-2},{"$f":"MIN(OFFSET(Male!W$18,'Male - Rev'!$A58-35,0),0.03999)","v":2.0199999999999999E-2},{"$f":"MIN(OFFSET(Male!X$18,'Male - Rev'!$A58-35,0),0.03999)","v":2.5999999999999999E-2},{"$f":"MIN(OFFSET(Male!Y$18,'Male - Rev'!$A58-35,0),0.03999)","v":3.0499999999999999E-2},{"$f":"MIN(OFFSET(Male!Z$18,'Male - Rev'!$A58-35,0),0.03999)","v":3.3500000000000002E-2},{"$f":"MIN(OFFSET(Male!AA$18,'Male - Rev'!$A58-35,0),0.03999)","v":3.5099999999999999E-2},{"$f":"MIN(OFFSET(Male!AB$18,'Male - Rev'!$A58-35,0),0.03999)","v":3.5200000000000002E-2},{"$f":"MIN(OFFSET(Male!AC$18,'Male - Rev'!$A58-35,0),0.03999)","v":3.4200000000000001E-2},{"$f":"MIN(OFFSET(Male!AD$18,'Male - Rev'!$A58-35,0),0.03999)","v":3.1899999999999998E-2},{"$f":"MIN(OFFSET(Male!AE$18,'Male - Rev'!$A58-35,0),0.03999)","v":2.8199999999999999E-2},{"$f":"MIN(OFFSET(Male!AF$18,'Male - Rev'!$A58-35,0),0.03999)","v":2.3E-2},{"$f":"MIN(OFFSET(Male!AG$18,'Male - Rev'!$A58-35,0),0.03999)","v":1.6E-2},{"$f":"MIN(OFFSET(Male!AH$18,'Male - Rev'!$A58-35,0),0.03999)","v":7.6E-3},{"$f":"MIN(OFFSET(Male!AI$18,'Male - Rev'!$A58-35,0),0.03999)","v":-1.5E-3},{"$f":"MIN(OFFSET(Male!AJ$18,'Male - Rev'!$A58-35,0),0.03999)","v":-1.03E-2},{"$f":"MIN(OFFSET(Male!AK$18,'Male - Rev'!$A58-35,0),0.03999)","v":-1.77E-2},{"$f":"MIN(OFFSET(Male!AL$18,'Male - Rev'!$A58-35,0),0.03999)","v":-2.3E-2},{"$f":"MIN(OFFSET(Male!AM$18,'Male - Rev'!$A58-35,0),0.03999)","v":-2.58E-2},{"$f":"MIN(OFFSET(Male!AN$18,'Male - Rev'!$A58-35,0),0.03999)","v":-2.5899999999999999E-2},{"$f":"MIN(OFFSET(Male!AO$18,'Male - Rev'!$A58-35,0),0.03999)","v":-2.3300000000000001E-2},{"$f":"MIN(OFFSET(Male!AP$18,'Male - Rev'!$A58-35,0),0.03999)","v":-1.77E-2},{"$f":"MIN(OFFSET(Male!AQ$18,'Male - Rev'!$A58-35,0),0.03999)","v":-9.1000000000000004E-3},{"$f":"MIN(OFFSET(Male!AR$18,'Male - Rev'!$A58-35,0),0.03999)","v":2.3999999999999998E-3},{"$f":"MIN(OFFSET(Male!AS$18,'Male - Rev'!$A58-35,0),0.03999)","v":1.5599999999999999E-2},{"$f":"MIN(OFFSET(Male!AT$18,'Male - Rev'!$A58-35,0),0.03999)","v":2.81E-2},{"$f":"MIN(OFFSET(Male!AU$18,'Male - Rev'!$A58-35,0),0.03999)","v":3.7400000000000003E-2},{"$f":"MIN(OFFSET(Male!AV$18,'Male - Rev'!$A58-35,0),0.03999)","v":3.9989999999999998E-2},{"$f":"MIN(OFFSET(Male!AW$18,'Male - Rev'!$A58-35,0),0.03999)","v":3.8699999999999998E-2},{"$f":"MIN(OFFSET(Male!AX$18,'Male - Rev'!$A58-35,0),0.03999)","v":3.2399999999999998E-2},{"$f":"MIN(OFFSET(Male!AY$18,'Male - Rev'!$A58-35,0),0.03999)","v":2.46E-2},{"$f":"MIN(OFFSET(Male!AZ$18,'Male - Rev'!$A58-35,0),0.03999)","v":1.7999999999999999E-2},{"$f":"MIN(OFFSET(Male!BA$18,'Male - Rev'!$A58-35,0),0.03999)","v":1.4E-2},{"$f":"MIN(OFFSET(Male!BB$18,'Male - Rev'!$A58-35,0),0.03999)","v":1.32E-2},{"$f":"MIN(OFFSET(Male!BC$18,'Male - Rev'!$A58-35,0),0.03999)","v":1.49E-2},{"$f":"MIN(OFFSET(Male!BD$18,'Male - Rev'!$A58-35,0),0.03999)","v":1.8100000000000002E-2},{"$f":"MIN(OFFSET(Male!BE$18,'Male - Rev'!$A58-35,0),0.03999)","v":2.18E-2},{"$f":"MIN(OFFSET(Male!BF$18,'Male - Rev'!$A58-35,0),0.03999)","v":2.4899999999999999E-2},{"$f":"MIN(OFFSET(Male!BG$18,'Male - Rev'!$A58-35,0),0.03999)","v":2.64E-2},{"$f":"MIN(OFFSET(Male!BH$18,'Male - Rev'!$A58-35,0),0.03999)","v":2.53E-2},{"$f":"MIN(OFFSET(Male!BI$18,'Male - Rev'!$A58-35,0),0.03999)","v":2.1299999999999999E-2},{"$f":"MIN(OFFSET(Male!BJ$18,'Male - Rev'!$A58-35,0),0.03999)","v":1.41E-2},{"$f":"MIN(OFFSET(Male!BK$18,'Male - Rev'!$A58-35,0),0.03999)","v":4.1999999999999997E-3},{"$f":"MIN(OFFSET(Male!BL$18,'Male - Rev'!$A58-35,0),0.03999)","v":-8.0000000000000002E-3},{"$f":"MIN(OFFSET(Male!BM$18,'Male - Rev'!$A58-35,0),0.03999)","v":-2.1600000000000001E-2},{"$f":"MIN(OFFSET(Male!BN$18,'Male - Rev'!$A58-35,0),0.03999)","v":-3.61E-2},{"$f":"MIN(OFFSET(Male!BO$18,'Male - Rev'!$A58-35,0),0.03999)","v":-3.7999999999999999E-2},{"$f":"MIN(OFFSET(Male!BP$18,'Male - Rev'!$A58-35,0),0.03999)","v":-3.8100000000000002E-2},{"$f":"MIN(OFFSET(Male!BQ$18,'Male - Rev'!$A58-35,0),0.03999)","v":-3.6499999999999998E-2},{"$f":"MIN(OFFSET(Male!BR$18,'Male - Rev'!$A58-35,0),0.03999)","v":-3.3399999999999999E-2},{"$f":"MIN(OFFSET(Male!BS$18,'Male - Rev'!$A58-35,0),0.03999)","v":-2.93E-2},{"$f":"MIN(OFFSET(Male!BT$18,'Male - Rev'!$A58-35,0),0.03999)","v":-2.4400000000000002E-2},{"$f":"MIN(OFFSET(Male!BU$18,'Male - Rev'!$A58-35,0),0.03999)","v":-1.9199999999999998E-2},{"$f":"MIN(OFFSET(Male!BV$18,'Male - Rev'!$A58-35,0),0.03999)","v":-1.41E-2},{"$f":"MIN(OFFSET(Male!BW$18,'Male - Rev'!$A58-35,0),0.03999)","v":-9.5999999999999992E-3},{"$f":"MIN(OFFSET(Male!BX$18,'Male - Rev'!$A58-35,0),0.03999)","v":-6.0000000000000001E-3},{"$f":"MIN(OFFSET(Male!BY$18,'Male - Rev'!$A58-35,0),0.03999)","v":-3.0999999999999999E-3},{"$f":"MIN(OFFSET(Male!BZ$18,'Male - Rev'!$A58-35,0),0.03999)","v":-2.9999999999999997E-4},{"$f":"MIN(OFFSET(Male!CA$18,'Male - Rev'!$A58-35,0),0.03999)","v":2.2000000000000001E-3},{"$f":"MIN(OFFSET(Male!CB$18,'Male - Rev'!$A58-35,0),0.03999)","v":4.4000000000000003E-3},{"$f":"MIN(OFFSET(Male!CC$18,'Male - Rev'!$A58-35,0),0.03999)","v":6.3E-3},{"$f":"MIN(OFFSET(Male!CD$18,'Male - Rev'!$A58-35,0),0.03999)","v":7.7000000000000002E-3},{"$f":"MIN(OFFSET(Male!CE$18,'Male - Rev'!$A58-35,0),0.03999)","v":8.8000000000000005E-3},{"$f":"MIN(OFFSET(Male!CF$18,'Male - Rev'!$A58-35,0),0.03999)","v":9.4999999999999998E-3},{"$f":"MIN(OFFSET(Male!CG$18,'Male - Rev'!$A58-35,0),0.03999)","v":9.9000000000000008E-3},{"$f":"MIN(OFFSET(Male!CH$18,'Male - Rev'!$A58-35,0),0.03999)","v":0.01}]
[39,39,{"$f":"MIN(OFFSET(Male!B$18,'Male - Rev'!$A59-35,0),0.03999)","v":3.5799999999999998E-2},{"$f":"MIN(OFFSET(Male!C$18,'Male - Rev'!$A59-35,0),0.03999)","v":3.2199999999999999E-2},{"$f":"MIN(OFFSET(Male!D$18,'Male - Rev'!$A59-35,0),0.03999)","v":2.8400000000000002E-2},{"$f":"MIN(OFFSET(Male!E$18,'Male - Rev'!$A59-35,0),0.03999)","v":2.41E-2},{"$f":"MIN(OFFSET(Male!F$18,'Male - Rev'!$A59-35,0),0.03999)","v":1.95E-2},{"$f":"MIN(OFFSET(Male!G$18,'Male - Rev'!$A59-35,0),0.03999)","v":1.47E-2},{"$f":"MIN(OFFSET(Male!H$18,'Male - Rev'!$A59-35,0),0.03999)","v":1.0200000000000001E-2},{"$f":"MIN(OFFSET(Male!I$18,'Male - Rev'!$A59-35,0),0.03999)","v":6.1000000000000004E-3},{"$f":"MIN(OFFSET(Male!J$18,'Male - Rev'!$A59-35,0),0.03999)","v":2.3E-3},{"$f":"MIN(OFFSET(Male!K$18,'Male - Rev'!$A59-35,0),0.03999)","v":-1.1999999999999999E-3},{"$f":"MIN(OFFSET(Male!L$18,'Male - Rev'!$A59-35,0),0.03999)","v":-4.5999999999999999E-3},{"$f":"MIN(OFFSET(Male!M$18,'Male - Rev'!$A59-35,0),0.03999)","v":-7.7999999999999996E-3},{"$f":"MIN(OFFSET(Male!N$18,'Male - Rev'!$A59-35,0),0.03999)","v":-1.0500000000000001E-2},{"$f":"MIN(OFFSET(Male!O$18,'Male - Rev'!$A59-35,0),0.03999)","v":-1.24E-2},{"$f":"MIN(OFFSET(Male!P$18,'Male - Rev'!$A59-35,0),0.03999)","v":-1.32E-2},{"$f":"MIN(OFFSET(Male!Q$18,'Male - Rev'!$A59-35,0),0.03999)","v":-1.2699999999999999E-2},{"$f":"MIN(OFFSET(Male!R$18,'Male - Rev'!$A59-35,0),0.03999)","v":-1.0500000000000001E-2},{"$f":"MIN(OFFSET(Male!S$18,'Male - Rev'!$A59-35,0),0.03999)","v":-6.4999999999999997E-3},{"$f":"MIN(OFFSET(Male!T$18,'Male - Rev'!$A59-35,0),0.03999)","v":-8.9999999999999998E-4},{"$f":"MIN(OFFSET(Male!U$18,'Male - Rev'!$A59-35,0),0.03999)","v":5.8999999999999999E-3},{"$f":"MIN(OFFSET(Male!V$18,'Male - Rev'!$A59-35,0),0.03999)","v":1.32E-2},{"$f":"MIN(OFFSET(Male!W$18,'Male - Rev'!$A59-35,0),0.03999)","v":2.01E-2},{"$f":"MIN(OFFSET(Male!X$18,'Male - Rev'!$A59-35,0),0.03999)","v":2.5999999999999999E-2},{"$f":"MIN(OFFSET(Male!Y$18,'Male - Rev'!$A59-35,0),0.03999)","v":3.0599999999999999E-2},{"$f":"MIN(OFFSET(Male!Z$18,'Male - Rev'!$A59-35,0),0.03999)","v":3.3599999999999998E-2},{"$f":"MIN(OFFSET(Male!AA$18,'Male - Rev'!$A59-35,0),0.03999)","v":3.49E-2},{"$f":"MIN(OFFSET(Male!AB$18,'Male - Rev'!$A59-35,0),0.03999)","v":3.4799999999999998E-2},{"$f":"MIN(OFFSET(Male!AC$18,'Male - Rev'!$A59-35,0),0.03999)","v":3.3399999999999999E-2},{"$f":"MIN(OFFSET(Male!AD$18,'Male - Rev'!$A59-35,0),0.03999)","v":3.0599999999999999E-2},{"$f":"MIN(OFFSET(Male!AE$18,'Male - Rev'!$A59-35,0),0.03999)","v":2.64E-2},{"$f":"MIN(OFFSET(Male!AF$18,'Male - Rev'!$A59-35,0),0.03999)","v":2.06E-2},{"$f":"MIN(OFFSET(Male!AG$18,'Male - Rev'!$A59-35,0),0.03999)","v":1.2999999999999999E-2},{"$f":"MIN(OFFSET(Male!AH$18,'Male - Rev'!$A59-35,0),0.03999)","v":3.8E-3},{"$f":"MIN(OFFSET(Male!AI$18,'Male - Rev'!$A59-35,0),0.03999)","v":-6.1000000000000004E-3},{"$f":"MIN(OFFSET(Male!AJ$18,'Male - Rev'!$A59-35,0),0.03999)","v":-1.55E-2},{"$f":"MIN(OFFSET(Male!AK$18,'Male - Rev'!$A59-35,0),0.03999)","v":-2.3199999999999998E-2},{"$f":"MIN(OFFSET(Male!AL$18,'Male - Rev'!$A59-35,0),0.03999)","v":-2.8299999999999999E-2},{"$f":"MIN(OFFSET(Male!AM$18,'Male - Rev'!$A59-35,0),0.03999)","v":-3.0300000000000001E-2},{"$f":"MIN(OFFSET(Male!AN$18,'Male - Rev'!$A59-35,0),0.03999)","v":-2.93E-2},{"$f":"MIN(OFFSET(Male!AO$18,'Male - Rev'!$A59-35,0),0.03999)","v":-2.5100000000000001E-2},{"$f":"MIN(OFFSET(Male!AP$18,'Male - Rev'!$A59-35,0),0.03999)","v":-1.7999999999999999E-2},{"$f":"MIN(OFFSET(Male!AQ$18,'Male - Rev'!$A59-35,0),0.03999)","v":-7.7999999999999996E-3},{"$f":"MIN(OFFSET(Male!AR$18,'Male - Rev'!$A59-35,0),0.03999)","v":5.0000000000000001E-3},{"$f":"MIN(OFFSET(Male!AS$18,'Male - Rev'!$A59-35,0),0.03999)","v":1.9400000000000001E-2},{"$f":"MIN(OFFSET(Male!AT$18,'Male - Rev'!$A59-35,0),0.03999)","v":3.2800000000000003E-2},{"$f":"MIN(OFFSET(Male!AU$18,'Male - Rev'!$A59-35,0),0.03999)","v":3.9989999999999998E-2},{"$f":"MIN(OFFSET(Male!AV$18,'Male - Rev'!$A59-35,0),0.03999)","v":3.9989999999999998E-2},{"$f":"MIN(OFFSET(Male!AW$18,'Male - Rev'!$A59-35,0),0.03999)","v":3.9989999999999998E-2},{"$f":"MIN(OFFSET(Male!AX$18,'Male - Rev'!$A59-35,0),0.03999)","v":3.6499999999999998E-2},{"$f":"MIN(OFFSET(Male!AY$18,'Male - Rev'!$A59-35,0),0.03999)","v":2.7699999999999999E-2},{"$f":"MIN(OFFSET(Male!AZ$18,'Male - Rev'!$A59-35,0),0.03999)","v":2.01E-2},{"$f":"MIN(OFFSET(Male!BA$18,'Male - Rev'!$A59-35,0),0.03999)","v":1.5299999999999999E-2},{"$f":"MIN(OFFSET(Male!BB$18,'Male - Rev'!$A59-35,0),0.03999)","v":1.37E-2},{"$f":"MIN(OFFSET(Male!BC$18,'Male - Rev'!$A59-35,0),0.03999)","v":1.47E-2},{"$f":"MIN(OFFSET(Male!BD$18,'Male - Rev'!$A59-35,0),0.03999)","v":1.72E-2},{"$f":"MIN(OFFSET(Male!BE$18,'Male - Rev'!$A59-35,0),0.03999)","v":2.0299999999999999E-2},{"$f":"MIN(OFFSET(Male!BF$18,'Male - Rev'!$A59-35,0),0.03999)","v":2.29E-2},{"$f":"MIN(OFFSET(Male!BG$18,'Male - Rev'!$A59-35,0),0.03999)","v":2.4E-2},{"$f":"MIN(OFFSET(Male!BH$18,'Male - Rev'!$A59-35,0),0.03999)","v":2.2599999999999999E-2},{"$f":"MIN(OFFSET(Male!BI$18,'Male - Rev'!$A59-35,0),0.03999)","v":1.83E-2},{"$f":"MIN(OFFSET(Male!BJ$18,'Male - Rev'!$A59-35,0),0.03999)","v":1.0800000000000001E-2},{"$f":"MIN(OFFSET(Male!BK$18,'Male - Rev'!$A59-35,0),0.03999)","v":4.0000000000000002E-4},{"$f":"MIN(OFFSET(Male!BL$18,'Male - Rev'!$A59-35,0),0.03999)","v":-1.2200000000000001E-2},{"$f":"MIN(OFFSET(Male!BM$18,'Male - Rev'!$A59-35,0),0.03999)","v":-2.6499999999999999E-2},{"$f":"MIN(OFFSET(Male!BN$18,'Male - Rev'!$A59-35,0),0.03999)","v":-4.1599999999999998E-2},{"$f":"MIN(OFFSET(Male!BO$18,'Male - Rev'!$A59-35,0),0.03999)","v":-4.3099999999999999E-2},{"$f":"MIN(OFFSET(Male!BP$18,'Male - Rev'!$A59-35,0),0.03999)","v":-4.2500000000000003E-2},{"$f":"MIN(OFFSET(Male!BQ$18,'Male - Rev'!$A59-35,0),0.03999)","v":-4.0099999999999997E-2},{"$f":"MIN(OFFSET(Male!BR$18,'Male - Rev'!$A59-35,0),0.03999)","v":-3.6200000000000003E-2},{"$f":"MIN(OFFSET(Male!BS$18,'Male - Rev'!$A59-35,0),0.03999)","v":-3.1199999999999999E-2},{"$f":"MIN(OFFSET(Male!BT$18,'Male - Rev'!$A59-35,0),0.03999)","v":-2.5499999999999998E-2},{"$f":"MIN(OFFSET(Male!BU$18,'Male - Rev'!$A59-35,0),0.03999)","v":-1.9599999999999999E-2},{"$f":"MIN(OFFSET(Male!BV$18,'Male - Rev'!$A59-35,0),0.03999)","v":-1.4E-2},{"$f":"MIN(OFFSET(Male!BW$18,'Male - Rev'!$A59-35,0),0.03999)","v":-9.1000000000000004E-3},{"$f":"MIN(OFFSET(Male!BX$18,'Male - Rev'!$A59-35,0),0.03999)","v":-5.4000000000000003E-3},{"$f":"MIN(OFFSET(Male!BY$18,'Male - Rev'!$A59-35,0),0.03999)","v":-2.5000000000000001E-3},{"$f":"MIN(OFFSET(Male!BZ$18,'Male - Rev'!$A59-35,0),0.03999)","v":2.0000000000000001E-4},{"$f":"MIN(OFFSET(Male!CA$18,'Male - Rev'!$A59-35,0),0.03999)","v":2.7000000000000001E-3},{"$f":"MIN(OFFSET(Male!CB$18,'Male - Rev'!$A59-35,0),0.03999)","v":4.7999999999999996E-3},{"$f":"MIN(OFFSET(Male!CC$18,'Male - Rev'!$A59-35,0),0.03999)","v":6.6E-3},{"$f":"MIN(OFFSET(Male!CD$18,'Male - Rev'!$A59-35,0),0.03999)","v":7.9000000000000008E-3},{"$f":"MIN(OFFSET(Male!CE$18,'Male - Rev'!$A59-35,0),0.03999)","v":8.8999999999999999E-3},{"$f":"MIN(OFFSET(Male!CF$18,'Male - Rev'!$A59-35,0),0.03999)","v":9.4999999999999998E-3},{"$f":"MIN(OFFSET(Male!CG$18,'Male - Rev'!$A59-35,0),0.03999)","v":9.9000000000000008E-3},{"$f":"MIN(OFFSET(Male!CH$18,'Male - Rev'!$A59-35,0),0.03999)","v":0.01}]
[38,38,{"$f":"MIN(OFFSET(Male!B$18,'Male - Rev'!$A60-35,0),0.03999)","v":3.7499999999999999E-2},{"$f":"MIN(OFFSET(Male!C$18,'Male - Rev'!$A60-35,0),0.03999)","v":3.3399999999999999E-2},{"$f":"MIN(OFFSET(Male!D$18,'Male - Rev'!$A60-35,0),0.03999)","v":2.92E-2},{"$f":"MIN(OFFSET(Male!E$18,'Male - Rev'!$A60-35,0),0.03999)","v":2.46E-2},{"$f":"MIN(OFFSET(Male!F$18,'Male - Rev'!$A60-35,0),0.03999)","v":1.9699999999999999E-2},{"$f":"MIN(OFFSET(Male!G$18,'Male - Rev'!$A60-35,0),0.03999)","v":1.47E-2},{"$f":"MIN(OFFSET(Male!H$18,'Male - Rev'!$A60-35,0),0.03999)","v":9.9000000000000008E-3},{"$f":"MIN(OFFSET(Male!I$18,'Male - Rev'!$A60-35,0),0.03999)","v":5.7000000000000002E-3},{"$f":"MIN(OFFSET(Male!J$18,'Male - Rev'!$A60-35,0),0.03999)","v":1.6999999999999999E-3},{"$f":"MIN(OFFSET(Male!K$18,'Male - Rev'!$A60-35,0),0.03999)","v":-1.9E-3},{"$f":"MIN(OFFSET(Male!L$18,'Male - Rev'!$A60-35,0),0.03999)","v":-5.4000000000000003E-3},{"$f":"MIN(OFFSET(Male!M$18,'Male - Rev'!$A60-35,0),0.03999)","v":-8.6999999999999994E-3},{"$f":"MIN(OFFSET(Male!N$18,'Male - Rev'!$A60-35,0),0.03999)","v":-1.14E-2},{"$f":"MIN(OFFSET(Male!O$18,'Male - Rev'!$A60-35,0),0.03999)","v":-1.3299999999999999E-2},{"$f":"MIN(OFFSET(Male!P$18,'Male - Rev'!$A60-35,0),0.03999)","v":-1.41E-2},{"$f":"MIN(OFFSET(Male!Q$18,'Male - Rev'!$A60-35,0),0.03999)","v":-1.35E-2},{"$f":"MIN(OFFSET(Male!R$18,'Male - Rev'!$A60-35,0),0.03999)","v":-1.1299999999999999E-2},{"$f":"MIN(OFFSET(Male!S$18,'Male - Rev'!$A60-35,0),0.03999)","v":-7.1999999999999998E-3},{"$f":"MIN(OFFSET(Male!T$18,'Male - Rev'!$A60-35,0),0.03999)","v":-1.5E-3},{"$f":"MIN(OFFSET(Male!U$18,'Male - Rev'!$A60-35,0),0.03999)","v":5.4000000000000003E-3},{"$f":"MIN(OFFSET(Male!V$18,'Male - Rev'!$A60-35,0),0.03999)","v":1.2699999999999999E-2},{"$f":"MIN(OFFSET(Male!W$18,'Male - Rev'!$A60-35,0),0.03999)","v":1.9800000000000002E-2},{"$f":"MIN(OFFSET(Male!X$18,'Male - Rev'!$A60-35,0),0.03999)","v":2.5899999999999999E-2},{"$f":"MIN(OFFSET(Male!Y$18,'Male - Rev'!$A60-35,0),0.03999)","v":3.0499999999999999E-2},{"$f":"MIN(OFFSET(Male!Z$18,'Male - Rev'!$A60-35,0),0.03999)","v":3.3500000000000002E-2},{"$f":"MIN(OFFSET(Male!AA$18,'Male - Rev'!$A60-35,0),0.03999)","v":3.4599999999999999E-2},{"$f":"MIN(OFFSET(Male!AB$18,'Male - Rev'!$A60-35,0),0.03999)","v":3.4099999999999998E-2},{"$f":"MIN(OFFSET(Male!AC$18,'Male - Rev'!$A60-35,0),0.03999)","v":3.2199999999999999E-2},{"$f":"MIN(OFFSET(Male!AD$18,'Male - Rev'!$A60-35,0),0.03999)","v":2.9000000000000001E-2},{"$f":"MIN(OFFSET(Male!AE$18,'Male - Rev'!$A60-35,0),0.03999)","v":2.4299999999999999E-2},{"$f":"MIN(OFFSET(Male!AF$18,'Male - Rev'!$A60-35,0),0.03999)","v":1.7999999999999999E-2},{"$f":"MIN(OFFSET(Male!AG$18,'Male - Rev'!$A60-35,0),0.03999)","v":9.7999999999999997E-3},{"$f":"MIN(OFFSET(Male!AH$18,'Male - Rev'!$A60-35,0),0.03999)","v":0},{"$f":"MIN(OFFSET(Male!AI$18,'Male - Rev'!$A60-35,0),0.03999)","v":-1.0500000000000001E-2},{"$f":"MIN(OFFSET(Male!AJ$18,'Male - Rev'!$A60-35,0),0.03999)","v":-2.0400000000000001E-2},{"$f":"MIN(OFFSET(Male!AK$18,'Male - Rev'!$A60-35,0),0.03999)","v":-2.81E-2},{"$f":"MIN(OFFSET(Male!AL$18,'Male - Rev'!$A60-35,0),0.03999)","v":-3.2800000000000003E-2},{"$f":"MIN(OFFSET(Male!AM$18,'Male - Rev'!$A60-35,0),0.03999)","v":-3.4000000000000002E-2},{"$f":"MIN(OFFSET(Male!AN$18,'Male - Rev'!$A60-35,0),0.03999)","v":-3.1800000000000002E-2},{"$f":"MIN(OFFSET(Male!AO$18,'Male - Rev'!$A60-35,0),0.03999)","v":-2.6200000000000001E-2},{"$f":"MIN(OFFSET(Male!AP$18,'Male - Rev'!$A60-35,0),0.03999)","v":-1.7600000000000001E-2},{"$f":"MIN(OFFSET(Male!AQ$18,'Male - Rev'!$A60-35,0),0.03999)","v":-6.0000000000000001E-3},{"$f":"MIN(OFFSET(Male!AR$18,'Male - Rev'!$A60-35,0),0.03999)","v":8.0000000000000002E-3},{"$f":"MIN(OFFSET(Male!AS$18,'Male - Rev'!$A60-35,0),0.03999)","v":2.3300000000000001E-2},{"$f":"MIN(OFFSET(Male!AT$18,'Male - Rev'!$A60-35,0),0.03999)","v":3.7600000000000001E-2},{"$f":"MIN(OFFSET(Male!AU$18,'Male - Rev'!$A60-35,0),0.03999)","v":3.9989999999999998E-2},{"$f":"MIN(OFFSET(Male!AV$18,'Male - Rev'!$A60-35,0),0.03999)","v":3.9989999999999998E-2},{"$f":"MIN(OFFSET(Male!AW$18,'Male - Rev'!$A60-35,0),0.03999)","v":3.9989999999999998E-2},{"$f":"MIN(OFFSET(Male!AX$18,'Male - Rev'!$A60-35,0),0.03999)","v":3.9989999999999998E-2},{"$f":"MIN(OFFSET(Male!AY$18,'Male - Rev'!$A60-35,0),0.03999)","v":3.0499999999999999E-2},{"$f":"MIN(OFFSET(Male!AZ$18,'Male - Rev'!$A60-35,0),0.03999)","v":2.1899999999999999E-2},{"$f":"MIN(OFFSET(Male!BA$18,'Male - Rev'!$A60-35,0),0.03999)","v":1.6199999999999999E-2},{"$f":"MIN(OFFSET(Male!BB$18,'Male - Rev'!$A60-35,0),0.03999)","v":1.37E-2},{"$f":"MIN(OFFSET(Male!BC$18,'Male - Rev'!$A60-35,0),0.03999)","v":1.38E-2},{"$f":"MIN(OFFSET(Male!BD$18,'Male - Rev'!$A60-35,0),0.03999)","v":1.5599999999999999E-2},{"$f":"MIN(OFFSET(Male!BE$18,'Male - Rev'!$A60-35,0),0.03999)","v":1.8100000000000002E-2},{"$f":"MIN(OFFSET(Male!BF$18,'Male - Rev'!$A60-35,0),0.03999)","v":2.0199999999999999E-2},{"$f":"MIN(OFFSET(Male!BG$18,'Male - Rev'!$A60-35,0),0.03999)","v":2.0899999999999998E-2},{"$f":"MIN(OFFSET(Male!BH$18,'Male - Rev'!$A60-35,0),0.03999)","v":1.9400000000000001E-2},{"$f":"MIN(OFFSET(Male!BI$18,'Male - Rev'!$A60-35,0),0.03999)","v":1.4999999999999999E-2},{"$f":"MIN(OFFSET(Male!BJ$18,'Male - Rev'!$A60-35,0),0.03999)","v":7.3000000000000001E-3},{"$f":"MIN(OFFSET(Male!BK$18,'Male - Rev'!$A60-35,0),0.03999)","v":-3.2000000000000002E-3},{"$f":"MIN(OFFSET(Male!BL$18,'Male - Rev'!$A60-35,0),0.03999)","v":-1.6199999999999999E-2},{"$f":"MIN(OFFSET(Male!BM$18,'Male - Rev'!$A60-35,0),0.03999)","v":-3.09E-2},{"$f":"MIN(OFFSET(Male!BN$18,'Male - Rev'!$A60-35,0),0.03999)","v":-4.65E-2},{"$f":"MIN(OFFSET(Male!BO$18,'Male - Rev'!$A60-35,0),0.03999)","v":-4.7500000000000001E-2},{"$f":"MIN(OFFSET(Male!BP$18,'Male - Rev'!$A60-35,0),0.03999)","v":-4.6199999999999998E-2},{"$f":"MIN(OFFSET(Male!BQ$18,'Male - Rev'!$A60-35,0),0.03999)","v":-4.2999999999999997E-2},{"$f":"MIN(OFFSET(Male!BR$18,'Male - Rev'!$A60-35,0),0.03999)","v":-3.8300000000000001E-2},{"$f":"MIN(OFFSET(Male!BS$18,'Male - Rev'!$A60-35,0),0.03999)","v":-3.2500000000000001E-2},{"$f":"MIN(OFFSET(Male!BT$18,'Male - Rev'!$A60-35,0),0.03999)","v":-2.6200000000000001E-2},{"$f":"MIN(OFFSET(Male!BU$18,'Male - Rev'!$A60-35,0),0.03999)","v":-1.9699999999999999E-2},{"$f":"MIN(OFFSET(Male!BV$18,'Male - Rev'!$A60-35,0),0.03999)","v":-1.37E-2},{"$f":"MIN(OFFSET(Male!BW$18,'Male - Rev'!$A60-35,0),0.03999)","v":-8.5000000000000006E-3},{"$f":"MIN(OFFSET(Male!BX$18,'Male - Rev'!$A60-35,0),0.03999)","v":-4.7000000000000002E-3},{"$f":"MIN(OFFSET(Male!BY$18,'Male - Rev'!$A60-35,0),0.03999)","v":-1.8E-3},{"$f":"MIN(OFFSET(Male!BZ$18,'Male - Rev'!$A60-35,0),0.03999)","v":8.9999999999999998E-4},{"$f":"MIN(OFFSET(Male!CA$18,'Male - Rev'!$A60-35,0),0.03999)","v":3.2000000000000002E-3},{"$f":"MIN(OFFSET(Male!CB$18,'Male - Rev'!$A60-35,0),0.03999)","v":5.1999999999999998E-3},{"$f":"MIN(OFFSET(Male!CC$18,'Male - Rev'!$A60-35,0),0.03999)","v":6.7999999999999996E-3},{"$f":"MIN(OFFSET(Male!CD$18,'Male - Rev'!$A60-35,0),0.03999)","v":8.0999999999999996E-3},{"$f":"MIN(OFFSET(Male!CE$18,'Male - Rev'!$A60-35,0),0.03999)","v":8.8999999999999999E-3},{"$f":"MIN(OFFSET(Male!CF$18,'Male - Rev'!$A60-35,0),0.03999)","v":9.4999999999999998E-3},{"$f":"MIN(OFFSET(Male!CG$18,'Male - Rev'!$A60-35,0),0.03999)","v":9.9000000000000008E-3},{"$f":"MIN(OFFSET(Male!CH$18,'Male - Rev'!$A60-35,0),0.03999)","v":0.01}]
[37,37,{"$f":"MIN(OFFSET(Male!B$18,'Male - Rev'!$A61-35,0),0.03999)","v":3.8899999999999997E-2},{"$f":"MIN(OFFSET(Male!C$18,'Male - Rev'!$A61-35,0),0.03999)","v":3.4500000000000003E-2},{"$f":"MIN(OFFSET(Male!D$18,'Male - Rev'!$A61-35,0),0.03999)","v":2.9899999999999999E-2},{"$f":"MIN(OFFSET(Male!E$18,'Male - Rev'!$A61-35,0),0.03999)","v":2.5000000000000001E-2},{"$f":"MIN(OFFSET(Male!F$18,'Male - Rev'!$A61-35,0),0.03999)","v":1.9800000000000002E-2},{"$f":"MIN(OFFSET(Male!G$18,'Male - Rev'!$A61-35,0),0.03999)","v":1.47E-2},{"$f":"MIN(OFFSET(Male!H$18,'Male - Rev'!$A61-35,0),0.03999)","v":9.7000000000000003E-3},{"$f":"MIN(OFFSET(Male!I$18,'Male - Rev'!$A61-35,0),0.03999)","v":5.3E-3},{"$f":"MIN(OFFSET(Male!J$18,'Male - Rev'!$A61-35,0),0.03999)","v":1.2999999999999999E-3},{"$f":"MIN(OFFSET(Male!K$18,'Male - Rev'!$A61-35,0),0.03999)","v":-2.5000000000000001E-3},{"$f":"MIN(OFFSET(Male!L$18,'Male - Rev'!$A61-35,0),0.03999)","v":-6.1000000000000004E-3},{"$f":"MIN(OFFSET(Male!M$18,'Male - Rev'!$A61-35,0),0.03999)","v":-9.4000000000000004E-3},{"$f":"MIN(OFFSET(Male!N$18,'Male - Rev'!$A61-35,0),0.03999)","v":-1.2200000000000001E-2},{"$f":"MIN(OFFSET(Male!O$18,'Male - Rev'!$A61-35,0),0.03999)","v":-1.41E-2},{"$f":"MIN(OFFSET(Male!P$18,'Male - Rev'!$A61-35,0),0.03999)","v":-1.49E-2},{"$f":"MIN(OFFSET(Male!Q$18,'Male - Rev'!$A61-35,0),0.03999)","v":-1.43E-2},{"$f":"MIN(OFFSET(Male!R$18,'Male - Rev'!$A61-35,0),0.03999)","v":-1.2E-2},{"$f":"MIN(OFFSET(Male!S$18,'Male - Rev'!$A61-35,0),0.03999)","v":-7.9000000000000008E-3},{"$f":"MIN(OFFSET(Male!T$18,'Male - Rev'!$A61-35,0),0.03999)","v":-2.2000000000000001E-3},{"$f":"MIN(OFFSET(Male!U$18,'Male - Rev'!$A61-35,0),0.03999)","v":4.7999999999999996E-3},{"$f":"MIN(OFFSET(Male!V$18,'Male - Rev'!$A61-35,0),0.03999)","v":1.21E-2},{"$f":"MIN(OFFSET(Male!W$18,'Male - Rev'!$A61-35,0),0.03999)","v":1.9199999999999998E-2},{"$f":"MIN(OFFSET(Male!X$18,'Male - Rev'!$A61-35,0),0.03999)","v":2.5399999999999999E-2},{"$f":"MIN(OFFSET(Male!Y$18,'Male - Rev'!$A61-35,0),0.03999)","v":3.0200000000000001E-2},{"$f":"MIN(OFFSET(Male!Z$18,'Male - Rev'!$A61-35,0),0.03999)","v":3.3000000000000002E-2},{"$f":"MIN(OFFSET(Male!AA$18,'Male - Rev'!$A61-35,0),0.03999)","v":3.39E-2},{"$f":"MIN(OFFSET(Male!AB$18,'Male - Rev'!$A61-35,0),0.03999)","v":3.3000000000000002E-2},{"$f":"MIN(OFFSET(Male!AC$18,'Male - Rev'!$A61-35,0),0.03999)","v":3.0700000000000002E-2},{"$f":"MIN(OFFSET(Male!AD$18,'Male - Rev'!$A61-35,0),0.03999)","v":2.7E-2},{"$f":"MIN(OFFSET(Male!AE$18,'Male - Rev'!$A61-35,0),0.03999)","v":2.18E-2},{"$f":"MIN(OFFSET(Male!AF$18,'Male - Rev'!$A61-35,0),0.03999)","v":1.5100000000000001E-2},{"$f":"MIN(OFFSET(Male!AG$18,'Male - Rev'!$A61-35,0),0.03999)","v":6.6E-3},{"$f":"MIN(OFFSET(Male!AH$18,'Male - Rev'!$A61-35,0),0.03999)","v":-3.5999999999999999E-3},{"$f":"MIN(OFFSET(Male!AI$18,'Male - Rev'!$A61-35,0),0.03999)","v":-1.4500000000000001E-2},{"$f":"MIN(OFFSET(Male!AJ$18,'Male - Rev'!$A61-35,0),0.03999)","v":-2.4500000000000001E-2},{"$f":"MIN(OFFSET(Male!AK$18,'Male - Rev'!$A61-35,0),0.03999)","v":-3.2199999999999999E-2},{"$f":"MIN(OFFSET(Male!AL$18,'Male - Rev'!$A61-35,0),0.03999)","v":-3.6400000000000002E-2},{"$f":"MIN(OFFSET(Male!AM$18,'Male - Rev'!$A61-35,0),0.03999)","v":-3.6700000000000003E-2},{"$f":"MIN(OFFSET(Male!AN$18,'Male - Rev'!$A61-35,0),0.03999)","v":-3.3300000000000003E-2},{"$f":"MIN(OFFSET(Male!AO$18,'Male - Rev'!$A61-35,0),0.03999)","v":-2.6499999999999999E-2},{"$f":"MIN(OFFSET(Male!AP$18,'Male - Rev'!$A61-35,0),0.03999)","v":-1.66E-2},{"$f":"MIN(OFFSET(Male!AQ$18,'Male - Rev'!$A61-35,0),0.03999)","v":-3.8999999999999998E-3},{"$f":"MIN(OFFSET(Male!AR$18,'Male - Rev'!$A61-35,0),0.03999)","v":1.11E-2},{"$f":"MIN(OFFSET(Male!AS$18,'Male - Rev'!$A61-35,0),0.03999)","v":2.7199999999999998E-2},{"$f":"MIN(OFFSET(Male!AT$18,'Male - Rev'!$A61-35,0),0.03999)","v":3.9989999999999998E-2},{"$f":"MIN(OFFSET(Male!AU$18,'Male - Rev'!$A61-35,0),0.03999)","v":3.9989999999999998E-2},{"$f":"MIN(OFFSET(Male!AV$18,'Male - Rev'!$A61-35,0),0.03999)","v":3.9989999999999998E-2},{"$f":"MIN(OFFSET(Male!AW$18,'Male - Rev'!$A61-35,0),0.03999)","v":3.9989999999999998E-2},{"$f":"MIN(OFFSET(Male!AX$18,'Male - Rev'!$A61-35,0),0.03999)","v":3.9989999999999998E-2},{"$f":"MIN(OFFSET(Male!AY$18,'Male - Rev'!$A61-35,0),0.03999)","v":3.2899999999999999E-2},{"$f":"MIN(OFFSET(Male!AZ$18,'Male - Rev'!$A61-35,0),0.03999)","v":2.3199999999999998E-2},{"$f":"MIN(OFFSET(Male!BA$18,'Male - Rev'!$A61-35,0),0.03999)","v":1.6400000000000001E-2},{"$f":"MIN(OFFSET(Male!BB$18,'Male - Rev'!$A61-35,0),0.03999)","v":1.2999999999999999E-2},{"$f":"MIN(OFFSET(Male!BC$18,'Male - Rev'!$A61-35,0),0.03999)","v":1.2200000000000001E-2},{"$f":"MIN(OFFSET(Male!BD$18,'Male - Rev'!$A61-35,0),0.03999)","v":1.3299999999999999E-2},{"$f":"MIN(OFFSET(Male!BE$18,'Male - Rev'!$A61-35,0),0.03999)","v":1.52E-2},{"$f":"MIN(OFFSET(Male!BF$18,'Male - Rev'!$A61-35,0),0.03999)","v":1.7000000000000001E-2},{"$f":"MIN(OFFSET(Male!BG$18,'Male - Rev'!$A61-35,0),0.03999)","v":1.7500000000000002E-2},{"$f":"MIN(OFFSET(Male!BH$18,'Male - Rev'!$A61-35,0),0.03999)","v":1.6E-2},{"$f":"MIN(OFFSET(Male!BI$18,'Male - Rev'!$A61-35,0),0.03999)","v":1.15E-2},{"$f":"MIN(OFFSET(Male!BJ$18,'Male - Rev'!$A61-35,0),0.03999)","v":3.8999999999999998E-3},{"$f":"MIN(OFFSET(Male!BK$18,'Male - Rev'!$A61-35,0),0.03999)","v":-6.6E-3},{"$f":"MIN(OFFSET(Male!BL$18,'Male - Rev'!$A61-35,0),0.03999)","v":-1.9699999999999999E-2},{"$f":"MIN(OFFSET(Male!BM$18,'Male - Rev'!$A61-35,0),0.03999)","v":-3.4700000000000002E-2},{"$f":"MIN(OFFSET(Male!BN$18,'Male - Rev'!$A61-35,0),0.03999)","v":-5.0500000000000003E-2},{"$f":"MIN(OFFSET(Male!BO$18,'Male - Rev'!$A61-35,0),0.03999)","v":-5.0999999999999997E-2},{"$f":"MIN(OFFSET(Male!BP$18,'Male - Rev'!$A61-35,0),0.03999)","v":-4.9099999999999998E-2},{"$f":"MIN(OFFSET(Male!BQ$18,'Male - Rev'!$A61-35,0),0.03999)","v":-4.5199999999999997E-2},{"$f":"MIN(OFFSET(Male!BR$18,'Male - Rev'!$A61-35,0),0.03999)","v":-3.9800000000000002E-2},{"$f":"MIN(OFFSET(Male!BS$18,'Male - Rev'!$A61-35,0),0.03999)","v":-3.3399999999999999E-2},{"$f":"MIN(OFFSET(Male!BT$18,'Male - Rev'!$A61-35,0),0.03999)","v":-2.6499999999999999E-2},{"$f":"MIN(OFFSET(Male!BU$18,'Male - Rev'!$A61-35,0),0.03999)","v":-1.95E-2},{"$f":"MIN(OFFSET(Male!BV$18,'Male - Rev'!$A61-35,0),0.03999)","v":-1.3100000000000001E-2},{"$f":"MIN(OFFSET(Male!BW$18,'Male - Rev'!$A61-35,0),0.03999)","v":-7.7000000000000002E-3},{"$f":"MIN(OFFSET(Male!BX$18,'Male - Rev'!$A61-35,0),0.03999)","v":-3.8999999999999998E-3},{"$f":"MIN(OFFSET(Male!BY$18,'Male - Rev'!$A61-35,0),0.03999)","v":-1E-3},{"$f":"MIN(OFFSET(Male!BZ$18,'Male - Rev'!$A61-35,0),0.03999)","v":1.6000000000000001E-3},{"$f":"MIN(OFFSET(Male!CA$18,'Male - Rev'!$A61-35,0),0.03999)","v":3.8E-3},{"$f":"MIN(OFFSET(Male!CB$18,'Male - Rev'!$A61-35,0),0.03999)","v":5.5999999999999999E-3},{"$f":"MIN(OFFSET(Male!CC$18,'Male - Rev'!$A61-35,0),0.03999)","v":7.1000000000000004E-3},{"$f":"MIN(OFFSET(Male!CD$18,'Male - Rev'!$A61-35,0),0.03999)","v":8.2000000000000007E-3},{"$f":"MIN(OFFSET(Male!CE$18,'Male - Rev'!$A61-35,0),0.03999)","v":8.9999999999999993E-3},{"$f":"MIN(OFFSET(Male!CF$18,'Male - Rev'!$A61-35,0),0.03999)","v":9.4999999999999998E-3},{"$f":"MIN(OFFSET(Male!CG$18,'Male - Rev'!$A61-35,0),0.03999)","v":9.9000000000000008E-3},{"$f":"MIN(OFFSET(Male!CH$18,'Male - Rev'!$A61-35,0),0.03999)","v":0.01}]
[36,36,{"$f":"MIN(OFFSET(Male!B$18,'Male - Rev'!$A62-35,0),0.03999)","v":3.9800000000000002E-2},{"$f":"MIN(OFFSET(Male!C$18,'Male - Rev'!$A62-35,0),0.03999)","v":3.5200000000000002E-2},{"$f":"MIN(OFFSET(Male!D$18,'Male - Rev'!$A62-35,0),0.03999)","v":3.0499999999999999E-2},{"$f":"MIN(OFFSET(Male!E$18,'Male - Rev'!$A62-35,0),0.03999)","v":2.5399999999999999E-2},{"$f":"MIN(OFFSET(Male!F$18,'Male - Rev'!$A62-35,0),0.03999)","v":0.02},{"$f":"MIN(OFFSET(Male!G$18,'Male - Rev'!$A62-35,0),0.03999)","v":1.47E-2},{"$f":"MIN(OFFSET(Male!H$18,'Male - Rev'!$A62-35,0),0.03999)","v":9.7000000000000003E-3},{"$f":"MIN(OFFSET(Male!I$18,'Male - Rev'!$A62-35,0),0.03999)","v":5.1999999999999998E-3},{"$f":"MIN(OFFSET(Male!J$18,'Male - Rev'!$A62-35,0),0.03999)","v":1.1000000000000001E-3},{"$f":"MIN(OFFSET(Male!K$18,'Male - Rev'!$A62-35,0),0.03999)","v":-2.8E-3},{"$f":"MIN(OFFSET(Male!L$18,'Male - Rev'!$A62-35,0),0.03999)","v":-6.4999999999999997E-3},{"$f":"MIN(OFFSET(Male!M$18,'Male - Rev'!$A62-35,0),0.03999)","v":-0.01},{"$f":"MIN(OFFSET(Male!N$18,'Male - Rev'!$A62-35,0),0.03999)","v":-1.29E-2},{"$f":"MIN(OFFSET(Male!O$18,'Male - Rev'!$A62-35,0),0.03999)","v":-1.49E-2},{"$f":"MIN(OFFSET(Male!P$18,'Male - Rev'!$A62-35,0),0.03999)","v":-1.5699999999999999E-2},{"$f":"MIN(OFFSET(Male!Q$18,'Male - Rev'!$A62-35,0),0.03999)","v":-1.5100000000000001E-2},{"$f":"MIN(OFFSET(Male!R$18,'Male - Rev'!$A62-35,0),0.03999)","v":-1.2800000000000001E-2},{"$f":"MIN(OFFSET(Male!S$18,'Male - Rev'!$A62-35,0),0.03999)","v":-8.6999999999999994E-3},{"$f":"MIN(OFFSET(Male!T$18,'Male - Rev'!$A62-35,0),0.03999)","v":-2.8999999999999998E-3},{"$f":"MIN(OFFSET(Male!U$18,'Male - Rev'!$A62-35,0),0.03999)","v":4.0000000000000001E-3},{"$f":"MIN(OFFSET(Male!V$18,'Male - Rev'!$A62-35,0),0.03999)","v":1.14E-2},{"$f":"MIN(OFFSET(Male!W$18,'Male - Rev'!$A62-35,0),0.03999)","v":1.8499999999999999E-2},{"$f":"MIN(OFFSET(Male!X$18,'Male - Rev'!$A62-35,0),0.03999)","v":2.4799999999999999E-2},{"$f":"MIN(OFFSET(Male!Y$18,'Male - Rev'!$A62-35,0),0.03999)","v":2.9499999999999998E-2},{"$f":"MIN(OFFSET(Male!Z$18,'Male - Rev'!$A62-35,0),0.03999)","v":3.2300000000000002E-2},{"$f":"MIN(OFFSET(Male!AA$18,'Male - Rev'!$A62-35,0),0.03999)","v":3.2899999999999999E-2},{"$f":"MIN(OFFSET(Male!AB$18,'Male - Rev'!$A62-35,0),0.03999)","v":3.1600000000000003E-2},{"$f":"MIN(OFFSET(Male!AC$18,'Male - Rev'!$A62-35,0),0.03999)","v":2.8799999999999999E-2},{"$f":"MIN(OFFSET(Male!AD$18,'Male - Rev'!$A62-35,0),0.03999)","v":2.47E-2},{"$f":"MIN(OFFSET(Male!AE$18,'Male - Rev'!$A62-35,0),0.03999)","v":1.9199999999999998E-2},{"$f":"MIN(OFFSET(Male!AF$18,'Male - Rev'!$A62-35,0),0.03999)","v":1.2200000000000001E-2},{"$f":"MIN(OFFSET(Male!AG$18,'Male - Rev'!$A62-35,0),0.03999)","v":3.5000000000000001E-3},{"$f":"MIN(OFFSET(Male!AH$18,'Male - Rev'!$A62-35,0),0.03999)","v":-6.7000000000000002E-3},{"$f":"MIN(OFFSET(Male!AI$18,'Male - Rev'!$A62-35,0),0.03999)","v":-1.77E-2},{"$f":"MIN(OFFSET(Male!AJ$18,'Male - Rev'!$A62-35,0),0.03999)","v":-2.7699999999999999E-2},{"$f":"MIN(OFFSET(Male!AK$18,'Male - Rev'!$A62-35,0),0.03999)","v":-3.5000000000000003E-2},{"$f":"MIN(OFFSET(Male!AL$18,'Male - Rev'!$A62-35,0),0.03999)","v":-3.8600000000000002E-2},{"$f":"MIN(OFFSET(Male!AM$18,'Male - Rev'!$A62-35,0),0.03999)","v":-3.8100000000000002E-2},{"$f":"MIN(OFFSET(Male!AN$18,'Male - Rev'!$A62-35,0),0.03999)","v":-3.3700000000000001E-2},{"$f":"MIN(OFFSET(Male!AO$18,'Male - Rev'!$A62-35,0),0.03999)","v":-2.5999999999999999E-2},{"$f":"MIN(OFFSET(Male!AP$18,'Male - Rev'!$A62-35,0),0.03999)","v":-1.52E-2},{"$f":"MIN(OFFSET(Male!AQ$18,'Male - Rev'!$A62-35,0),0.03999)","v":-1.6999999999999999E-3},{"$f":"MIN(OFFSET(Male!AR$18,'Male - Rev'!$A62-35,0),0.03999)","v":1.41E-2},{"$f":"MIN(OFFSET(Male!AS$18,'Male - Rev'!$A62-35,0),0.03999)","v":3.0800000000000001E-2},{"$f":"MIN(OFFSET(Male!AT$18,'Male - Rev'!$A62-35,0),0.03999)","v":3.9989999999999998E-2},{"$f":"MIN(OFFSET(Male!AU$18,'Male - Rev'!$A62-35,0),0.03999)","v":3.9989999999999998E-2},{"$f":"MIN(OFFSET(Male!AV$18,'Male - Rev'!$A62-35,0),0.03999)","v":3.9989999999999998E-2},{"$f":"MIN(OFFSET(Male!AW$18,'Male - Rev'!$A62-35,0),0.03999)","v":3.9989999999999998E-2},{"$f":"MIN(OFFSET(Male!AX$18,'Male - Rev'!$A62-35,0),0.03999)","v":3.9989999999999998E-2},{"$f":"MIN(OFFSET(Male!AY$18,'Male - Rev'!$A62-35,0),0.03999)","v":3.4700000000000002E-2},{"$f":"MIN(OFFSET(Male!AZ$18,'Male - Rev'!$A62-35,0),0.03999)","v":2.3800000000000002E-2},{"$f":"MIN(OFFSET(Male!BA$18,'Male - Rev'!$A62-35,0),0.03999)","v":1.5900000000000001E-2},{"$f":"MIN(OFFSET(Male!BB$18,'Male - Rev'!$A62-35,0),0.03999)","v":1.14E-2},{"$f":"MIN(OFFSET(Male!BC$18,'Male - Rev'!$A62-35,0),0.03999)","v":9.7999999999999997E-3},{"$f":"MIN(OFFSET(Male!BD$18,'Male - Rev'!$A62-35,0),0.03999)","v":1.03E-2},{"$f":"MIN(OFFSET(Male!BE$18,'Male - Rev'!$A62-35,0),0.03999)","v":1.18E-2},{"$f":"MIN(OFFSET(Male!BF$18,'Male - Rev'!$A62-35,0),0.03999)","v":1.34E-2},{"$f":"MIN(OFFSET(Male!BG$18,'Male - Rev'!$A62-35,0),0.03999)","v":1.4E-2},{"$f":"MIN(OFFSET(Male!BH$18,'Male - Rev'!$A62-35,0),0.03999)","v":1.26E-2},{"$f":"MIN(OFFSET(Male!BI$18,'Male - Rev'!$A62-35,0),0.03999)","v":8.3000000000000001E-3},{"$f":"MIN(OFFSET(Male!BJ$18,'Male - Rev'!$A62-35,0),0.03999)","v":8.9999999999999998E-4},{"$f":"MIN(OFFSET(Male!BK$18,'Male - Rev'!$A62-35,0),0.03999)","v":-9.5999999999999992E-3},{"$f":"MIN(OFFSET(Male!BL$18,'Male - Rev'!$A62-35,0),0.03999)","v":-2.2599999999999999E-2},{"$f":"MIN(OFFSET(Male!BM$18,'Male - Rev'!$A62-35,0),0.03999)","v":-3.7600000000000001E-2},{"$f":"MIN(OFFSET(Male!BN$18,'Male - Rev'!$A62-35,0),0.03999)","v":-5.3699999999999998E-2},{"$f":"MIN(OFFSET(Male!BO$18,'Male - Rev'!$A62-35,0),0.03999)","v":-5.3600000000000002E-2},{"$f":"MIN(OFFSET(Male!BP$18,'Male - Rev'!$A62-35,0),0.03999)","v":-5.11E-2},{"$f":"MIN(OFFSET(Male!BQ$18,'Male - Rev'!$A62-35,0),0.03999)","v":-4.6600000000000003E-2},{"$f":"MIN(OFFSET(Male!BR$18,'Male - Rev'!$A62-35,0),0.03999)","v":-4.0599999999999997E-2},{"$f":"MIN(OFFSET(Male!BS$18,'Male - Rev'!$A62-35,0),0.03999)","v":-3.3700000000000001E-2},{"$f":"MIN(OFFSET(Male!BT$18,'Male - Rev'!$A62-35,0),0.03999)","v":-2.63E-2},{"$f":"MIN(OFFSET(Male!BU$18,'Male - Rev'!$A62-35,0),0.03999)","v":-1.9E-2},{"$f":"MIN(OFFSET(Male!BV$18,'Male - Rev'!$A62-35,0),0.03999)","v":-1.24E-2},{"$f":"MIN(OFFSET(Male!BW$18,'Male - Rev'!$A62-35,0),0.03999)","v":-6.7999999999999996E-3},{"$f":"MIN(OFFSET(Male!BX$18,'Male - Rev'!$A62-35,0),0.03999)","v":-2.8999999999999998E-3},{"$f":"MIN(OFFSET(Male!BY$18,'Male - Rev'!$A62-35,0),0.03999)","v":-2.0000000000000001E-4},{"$f":"MIN(OFFSET(Male!BZ$18,'Male - Rev'!$A62-35,0),0.03999)","v":2.2000000000000001E-3},{"$f":"MIN(OFFSET(Male!CA$18,'Male - Rev'!$A62-35,0),0.03999)","v":4.3E-3},{"$f":"MIN(OFFSET(Male!CB$18,'Male - Rev'!$A62-35,0),0.03999)","v":6.0000000000000001E-3},{"$f":"MIN(OFFSET(Male!CC$18,'Male - Rev'!$A62-35,0),0.03999)","v":7.3000000000000001E-3},{"$f":"MIN(OFFSET(Male!CD$18,'Male - Rev'!$A62-35,0),0.03999)","v":8.3000000000000001E-3},{"$f":"MIN(OFFSET(Male!CE$18,'Male - Rev'!$A62-35,0),0.03999)","v":8.9999999999999993E-3},{"$f":"MIN(OFFSET(Male!CF$18,'Male - Rev'!$A62-35,0),0.03999)","v":9.4999999999999998E-3},{"$f":"MIN(OFFSET(Male!CG$18,'Male - Rev'!$A62-35,0),0.03999)","v":9.9000000000000008E-3},{"$f":"MIN(OFFSET(Male!CH$18,'Male - Rev'!$A62-35,0),0.03999)","v":0.01}]
[35,35,{"$f":"MIN(OFFSET(Male!B$18,'Male - Rev'!$A63-35,0),0.03999)","v":3.9989999999999998E-2},{"$f":"MIN(OFFSET(Male!C$18,'Male - Rev'!$A63-35,0),0.03999)","v":3.56E-2},{"$f":"MIN(OFFSET(Male!D$18,'Male - Rev'!$A63-35,0),0.03999)","v":3.0800000000000001E-2},{"$f":"MIN(OFFSET(Male!E$18,'Male - Rev'!$A63-35,0),0.03999)","v":2.5600000000000001E-2},{"$f":"MIN(OFFSET(Male!F$18,'Male - Rev'!$A63-35,0),0.03999)","v":2.0199999999999999E-2},{"$f":"MIN(OFFSET(Male!G$18,'Male - Rev'!$A63-35,0),0.03999)","v":1.4800000000000001E-2},{"$f":"MIN(OFFSET(Male!H$18,'Male - Rev'!$A63-35,0),0.03999)","v":9.7000000000000003E-3},{"$f":"MIN(OFFSET(Male!I$18,'Male - Rev'!$A63-35,0),0.03999)","v":5.1999999999999998E-3},{"$f":"MIN(OFFSET(Male!J$18,'Male - Rev'!$A63-35,0),0.03999)","v":1.1000000000000001E-3},{"$f":"MIN(OFFSET(Male!K$18,'Male - Rev'!$A63-35,0),0.03999)","v":-2.8999999999999998E-3},{"$f":"MIN(OFFSET(Male!L$18,'Male - Rev'!$A63-35,0),0.03999)","v":-6.7000000000000002E-3},{"$f":"MIN(OFFSET(Male!M$18,'Male - Rev'!$A63-35,0),0.03999)","v":-1.04E-2},{"$f":"MIN(OFFSET(Male!N$18,'Male - Rev'!$A63-35,0),0.03999)","v":-1.34E-2},{"$f":"MIN(OFFSET(Male!O$18,'Male - Rev'!$A63-35,0),0.03999)","v":-1.55E-2},{"$f":"MIN(OFFSET(Male!P$18,'Male - Rev'!$A63-35,0),0.03999)","v":-1.6400000000000001E-2},{"$f":"MIN(OFFSET(Male!Q$18,'Male - Rev'!$A63-35,0),0.03999)","v":-1.5800000000000002E-2},{"$f":"MIN(OFFSET(Male!R$18,'Male - Rev'!$A63-35,0),0.03999)","v":-1.35E-2},{"$f":"MIN(OFFSET(Male!S$18,'Male - Rev'!$A63-35,0),0.03999)","v":-9.4000000000000004E-3},{"$f":"MIN(OFFSET(Male!T$18,'Male - Rev'!$A63-35,0),0.03999)","v":-3.7000000000000002E-3},{"$f":"MIN(OFFSET(Male!U$18,'Male - Rev'!$A63-35,0),0.03999)","v":3.0999999999999999E-3},{"$f":"MIN(OFFSET(Male!V$18,'Male - Rev'!$A63-35,0),0.03999)","v":1.0500000000000001E-2},{"$f":"MIN(OFFSET(Male!W$18,'Male - Rev'!$A63-35,0),0.03999)","v":1.7600000000000001E-2},{"$f":"MIN(OFFSET(Male!X$18,'Male - Rev'!$A63-35,0),0.03999)","v":2.3800000000000002E-2},{"$f":"MIN(OFFSET(Male!Y$18,'Male - Rev'!$A63-35,0),0.03999)","v":2.8500000000000001E-2},{"$f":"MIN(OFFSET(Male!Z$18,'Male - Rev'!$A63-35,0),0.03999)","v":3.1199999999999999E-2},{"$f":"MIN(OFFSET(Male!AA$18,'Male - Rev'!$A63-35,0),0.03999)","v":3.15E-2},{"$f":"MIN(OFFSET(Male!AB$18,'Male - Rev'!$A63-35,0),0.03999)","v":2.9899999999999999E-2},{"$f":"MIN(OFFSET(Male!AC$18,'Male - Rev'!$A63-35,0),0.03999)","v":2.6700000000000002E-2},{"$f":"MIN(OFFSET(Male!AD$18,'Male - Rev'!$A63-35,0),0.03999)","v":2.2200000000000001E-2},{"$f":"MIN(OFFSET(Male!AE$18,'Male - Rev'!$A63-35,0),0.03999)","v":1.6500000000000001E-2},{"$f":"MIN(OFFSET(Male!AF$18,'Male - Rev'!$A63-35,0),0.03999)","v":9.4999999999999998E-3},{"$f":"MIN(OFFSET(Male!AG$18,'Male - Rev'!$A63-35,0),0.03999)","v":8.9999999999999998E-4},{"$f":"MIN(OFFSET(Male!AH$18,'Male - Rev'!$A63-35,0),0.03999)","v":-9.1999999999999998E-3},{"$f":"MIN(OFFSET(Male!AI$18,'Male - Rev'!$A63-35,0),0.03999)","v":-1.9900000000000001E-2},{"$f":"MIN(OFFSET(Male!AJ$18,'Male - Rev'!$A63-35,0),0.03999)","v":-2.9499999999999998E-2},{"$f":"MIN(OFFSET(Male!AK$18,'Male - Rev'!$A63-35,0),0.03999)","v":-3.6400000000000002E-2},{"$f":"MIN(OFFSET(Male!AL$18,'Male - Rev'!$A63-35,0),0.03999)","v":-3.9399999999999998E-2},{"$f":"MIN(OFFSET(Male!AM$18,'Male - Rev'!$A63-35,0),0.03999)","v":-3.8199999999999998E-2},{"$f":"MIN(OFFSET(Male!AN$18,'Male - Rev'!$A63-35,0),0.03999)","v":-3.3099999999999997E-2},{"$f":"MIN(OFFSET(Male!AO$18,'Male - Rev'!$A63-35,0),0.03999)","v":-2.47E-2},{"$f":"MIN(OFFSET(Male!AP$18,'Male - Rev'!$A63-35,0),0.03999)","v":-1.34E-2},{"$f":"MIN(OFFSET(Male!AQ$18,'Male - Rev'!$A63-35,0),0.03999)","v":5.9999999999999995E-4},{"$f":"MIN(OFFSET(Male!AR$18,'Male - Rev'!$A63-35,0),0.03999)","v":1.6799999999999999E-2},{"$f":"MIN(OFFSET(Male!AS$18,'Male - Rev'!$A63-35,0),0.03999)","v":3.39E-2},{"$f":"MIN(OFFSET(Male!AT$18,'Male - Rev'!$A63-35,0),0.03999)","v":3.9989999999999998E-2},{"$f":"MIN(OFFSET(Male!AU$18,'Male - Rev'!$A63-35,0),0.03999)","v":3.9989999999999998E-2},{"$f":"MIN(OFFSET(Male!AV$18,'Male - Rev'!$A63-35,0),0.03999)","v":3.9989999999999998E-2},{"$f":"MIN(OFFSET(Male!AW$18,'Male - Rev'!$A63-35,0),0.03999)","v":3.9989999999999998E-2},{"$f":"MIN(OFFSET(Male!AX$18,'Male - Rev'!$A63-35,0),0.03999)","v":3.9989999999999998E-2},{"$f":"MIN(OFFSET(Male!AY$18,'Male - Rev'!$A63-35,0),0.03999)","v":3.5799999999999998E-2},{"$f":"MIN(OFFSET(Male!AZ$18,'Male - Rev'!$A63-35,0),0.03999)","v":2.3699999999999999E-2},{"$f":"MIN(OFFSET(Male!BA$18,'Male - Rev'!$A63-35,0),0.03999)","v":1.46E-2},{"$f":"MIN(OFFSET(Male!BB$18,'Male - Rev'!$A63-35,0),0.03999)","v":9.1000000000000004E-3},{"$f":"MIN(OFFSET(Male!BC$18,'Male - Rev'!$A63-35,0),0.03999)","v":6.7000000000000002E-3},{"$f":"MIN(OFFSET(Male!BD$18,'Male - Rev'!$A63-35,0),0.03999)","v":6.6E-3},{"$f":"MIN(OFFSET(Male!BE$18,'Male - Rev'!$A63-35,0),0.03999)","v":8.0000000000000002E-3},{"$f":"MIN(OFFSET(Male!BF$18,'Male - Rev'!$A63-35,0),0.03999)","v":9.7999999999999997E-3},{"$f":"MIN(OFFSET(Male!BG$18,'Male - Rev'!$A63-35,0),0.03999)","v":1.06E-2},{"$f":"MIN(OFFSET(Male!BH$18,'Male - Rev'!$A63-35,0),0.03999)","v":9.4999999999999998E-3},{"$f":"MIN(OFFSET(Male!BI$18,'Male - Rev'!$A63-35,0),0.03999)","v":5.5999999999999999E-3},{"$f":"MIN(OFFSET(Male!BJ$18,'Male - Rev'!$A63-35,0),0.03999)","v":-1.6000000000000001E-3},{"$f":"MIN(OFFSET(Male!BK$18,'Male - Rev'!$A63-35,0),0.03999)","v":-1.18E-2},{"$f":"MIN(OFFSET(Male!BL$18,'Male - Rev'!$A63-35,0),0.03999)","v":-2.4799999999999999E-2},{"$f":"MIN(OFFSET(Male!BM$18,'Male - Rev'!$A63-35,0),0.03999)","v":-3.9699999999999999E-2},{"$f":"MIN(OFFSET(Male!BN$18,'Male - Rev'!$A63-35,0),0.03999)","v":-5.5800000000000002E-2},{"$f":"MIN(OFFSET(Male!BO$18,'Male - Rev'!$A63-35,0),0.03999)","v":-5.5300000000000002E-2},{"$f":"MIN(OFFSET(Male!BP$18,'Male - Rev'!$A63-35,0),0.03999)","v":-5.2200000000000003E-2},{"$f":"MIN(OFFSET(Male!BQ$18,'Male - Rev'!$A63-35,0),0.03999)","v":-4.7199999999999999E-2},{"$f":"MIN(OFFSET(Male!BR$18,'Male - Rev'!$A63-35,0),0.03999)","v":-4.0800000000000003E-2},{"$f":"MIN(OFFSET(Male!BS$18,'Male - Rev'!$A63-35,0),0.03999)","v":-3.3500000000000002E-2},{"$f":"MIN(OFFSET(Male!BT$18,'Male - Rev'!$A63-35,0),0.03999)","v":-2.58E-2},{"$f":"MIN(OFFSET(Male!BU$18,'Male - Rev'!$A63-35,0),0.03999)","v":-1.8200000000000001E-2},{"$f":"MIN(OFFSET(Male!BV$18,'Male - Rev'!$A63-35,0),0.03999)","v":-1.14E-2},{"$f":"MIN(OFFSET(Male!BW$18,'Male - Rev'!$A63-35,0),0.03999)","v":-5.7999999999999996E-3},{"$f":"MIN(OFFSET(Male!BX$18,'Male - Rev'!$A63-35,0),0.03999)","v":-2E-3},{"$f":"MIN(OFFSET(Male!BY$18,'Male - Rev'!$A63-35,0),0.03999)","v":5.9999999999999995E-4},{"$f":"MIN(OFFSET(Male!BZ$18,'Male - Rev'!$A63-35,0),0.03999)","v":2.8999999999999998E-3},{"$f":"MIN(OFFSET(Male!CA$18,'Male - Rev'!$A63-35,0),0.03999)","v":4.7000000000000002E-3},{"$f":"MIN(OFFSET(Male!CB$18,'Male - Rev'!$A63-35,0),0.03999)","v":6.1999999999999998E-3},{"$f":"MIN(OFFSET(Male!CC$18,'Male - Rev'!$A63-35,0),0.03999)","v":7.4000000000000003E-3},{"$f":"MIN(OFFSET(Male!CD$18,'Male - Rev'!$A63-35,0),0.03999)","v":8.3000000000000001E-3},{"$f":"MIN(OFFSET(Male!CE$18,'Male - Rev'!$A63-35,0),0.03999)","v":8.9999999999999993E-3},{"$f":"MIN(OFFSET(Male!CF$18,'Male - Rev'!$A63-35,0),0.03999)","v":9.4999999999999998E-3},{"$f":"MIN(OFFSET(Male!CG$18,'Male - Rev'!$A63-35,0),0.03999)","v":9.9000000000000008E-3},{"$f":"MIN(OFFSET(Male!CH$18,'Male - Rev'!$A63-35,0),0.03999)","v":0.01}]

{"sheet":"Female - Rev","index":4,"n_rows":63,"n_cols":87,"rows_kept":63,"cut":false,"hidden":true,"merged":[]}
[null,"MP-2019 - Female"]
[null,null,1951,null,null,null,null,null,null,null,null,1960,null,null,null,null,null,null,null,null,null,1970,null,null,null,null,null,null,null,null,null,1980,null,null,null,null,null,null,null,null,null,1990,null,null,null,null,null,null,null,null,null,2000,null,null,null,null,null,null,null,null,null,2010,null,null,null,null,null,null,null,null,null,2020,null,null,null,null,null,null,null,null,null,2030]
[95,95,{"$f":"MIN(OFFSET(Female!B$18,'Female - Rev'!$A3-35,0),0.03999)","v":-1.6E-2},{"$f":"MIN(OFFSET(Female!C$18,'Female - Rev'!$A3-35,0),0.03999)","v":-1.3899999999999999E-2},{"$f":"MIN(OFFSET(Female!D$18,'Female - Rev'!$A3-35,0),0.03999)","v":-1.1900000000000001E-2},{"$f":"MIN(OFFSET(Female!E$18,'Female - Rev'!$A3-35,0),0.03999)","v":-9.7999999999999997E-3},{"$f":"MIN(OFFSET(Female!F$18,'Female - Rev'!$A3-35,0),0.03999)","v":-7.7999999999999996E-3},{"$f":"MIN(OFFSET(Female!G$18,'Female - Rev'!$A3-35,0),0.03999)","v":-5.7000000000000002E-3},{"$f":"MIN(OFFSET(Female!H$18,'Female - Rev'!$A3-35,0),0.03999)","v":-3.7000000000000002E-3},{"$f":"MIN(OFFSET(Female!I$18,'Female - Rev'!$A3-35,0),0.03999)","v":-1.6000000000000001E-3},{"$f":"MIN(OFFSET(Female!J$18,'Female - Rev'!$A3-35,0),0.03999)","v":5.0000000000000001E-4},{"$f":"MIN(OFFSET(Female!K$18,'Female - Rev'!$A3-35,0),0.03999)","v":2.5000000000000001E-3},{"$f":"MIN(OFFSET(Female!L$18,'Female - Rev'!$A3-35,0),0.03999)","v":4.5999999999999999E-3},{"$f":"MIN(OFFSET(Female!M$18,'Female - Rev'!$A3-35,0),0.03999)","v":6.6E-3},{"$f":"MIN(OFFSET(Female!N$18,'Female - Rev'!$A3-35,0),0.03999)","v":8.5000000000000006E-3},{"$f":"MIN(OFFSET(Female!O$18,'Female - Rev'!$A3-35,0),0.03999)","v":1.03E-2},{"$f":"MIN(OFFSET(Female!P$18,'Female - Rev'!$A3-35,0),0.03999)","v":1.2E-2},{"$f":"MIN(OFFSET(Female!Q$18,'Female - Rev'!$A3-35,0),0.03999)","v":1.35E-2},{"$f":"MIN(OFFSET(Female!R$18,'Female - Rev'!$A3-35,0),0.03999)","v":1.47E-2},{"$f":"MIN(OFFSET(Female!S$18,'Female - Rev'!$A3-35,0),0.03999)","v":1.5699999999999999E-2},{"$f":"MIN(OFFSET(Female!T$18,'Female - Rev'!$A3-35,0),0.03999)","v":1.6500000000000001E-2},{"$f":"MIN(OFFSET(Female!U$18,'Female - Rev'!$A3-35,0),0.03999)","v":1.6899999999999998E-2},{"$f":"MIN(OFFSET(Female!V$18,'Female - Rev'!$A3-35,0),0.03999)","v":1.7000000000000001E-2},{"$f":"MIN(OFFSET(Female!W$18,'Female - Rev'!$A3-35,0),0.03999)","v":1.6899999999999998E-2},{"$f":"MIN(OFFSET(Female!X$18,'Female - Rev'!$A3-35,0),0.03999)","v":1.6500000000000001E-2},{"$f":"MIN(OFFSET(Female!Y$18,'Female - Rev'!$A3-35,0),0.03999)","v":1.5800000000000002E-2},{"$f":"MIN(OFFSET(Female!Z$18,'Female - Rev'!$A3-35,0),0.03999)","v":1.49E-2},{"$f":"MIN(OFFSET(Female!AA$18,'Female - Rev'!$A3-35,0),0.03999)","v":1.3899999999999999E-2},{"$f":"MIN(OFFSET(Female!AB$18,'Female - Rev'!$A3-35,0),0.03999)","v":1.2699999999999999E-2},{"$f":"MIN(OFFSET(Female!AC$18,'Female - Rev'!$A3-35,0),0.03999)","v":1.14E-2},{"$f":"MIN(OFFSET(Female!AD$18,'Female - Rev'!$A3-35,0),0.03999)","v":0.01},{"$f":"MIN(OFFSET(Female!AE$18,'Female - Rev'!$A3-35,0),0.03999)","v":8.6999999999999994E-3},{"$f":"MIN(OFFSET(Female!AF$18,'Female - Rev'!$A3-35,0),0.03999)","v":7.3000000000000001E-3},{"$f":"MIN(OFFSET(Female!AG$18,'Female - Rev'!$A3-35,0),0.03999)","v":5.8999999999999999E-3},{"$f":"MIN(OFFSET(Female!AH$18,'Female - Rev'!$A3-35,0),0.03999)","v":4.5999999999999999E-3},{"$f":"MIN(OFFSET(Female!AI$18,'Female - Rev'!$A3-35,0),0.03999)","v":3.3E-3},{"$f":"MIN(OFFSET(Female!AJ$18,'Female - Rev'!$A3-35,0),0.03999)","v":2.2000000000000001E-3},{"$f":"MIN(OFFSET(Female!AK$18,'Female - Rev'!$A3-35,0),0.03999)","v":1.1000000000000001E-3},{"$f":"MIN(OFFSET(Female!AL$18,'Female - Rev'!$A3-35,0),0.03999)","v":1E-4},{"$f":"MIN(OFFSET(Female!AM$18,'Female - Rev'!$A3-35,0),0.03999)","v":-8.9999999999999998E-4},{"$f":"MIN(OFFSET(Female!AN$18,'Female - Rev'!$A3-35,0),0.03999)","v":-1.9E-3},{"$f":"MIN(OFFSET(Female!AO$18,'Female - Rev'!$A3-35,0),0.03999)","v":-3.0000000000000001E-3},{"$f":"MIN(OFFSET(Female!AP$18,'Female - Rev'!$A3-35,0),0.03999)","v":-4.0000000000000001E-3},{"$f":"MIN(OFFSET(Female!AQ$18,'Female - Rev'!$A3-35,0),0.03999)","v":-5.1000000000000004E-3},{"$f":"MIN(OFFSET(Female!AR$18,'Female - Rev'!$A3-35,0),0.03999)","v":-6.1000000000000004E-3},{"$f":"MIN(OFFSET(Female!AS$18,'Female - Rev'!$A3-35,0),0.03999)","v":-7.0000000000000001E-3},{"$f":"MIN(OFFSET(Female!AT$18,'Female - Rev'!$A3-35,0),0.03999)","v":-7.6E-3},{"$f":"MIN(OFFSET(Female!AU$18,'Female - Rev'!$A3-35,0),0.03999)","v":-7.7999999999999996E-3},{"$f":"MIN(OFFSET(Female!AV$18,'Female - Rev'!$A3-35,0),0.03999)","v":-7.7000000000000002E-3},{"$f":"MIN(OFFSET(Female!AW$18,'Female - Rev'!$A3-35,0),0.03999)","v":-7.1999999999999998E-3},{"$f":"MIN(OFFSET(Female!AX$18,'Female - Rev'!$A3-35,0),0.03999)","v":-6.1999999999999998E-3},{"$f":"MIN(OFFSET(Female!AY$18,'Female - Rev'!$A3-35,0),0.03999)","v":-4.8999999999999998E-3},{"$f":"MIN(OFFSET(Female!AZ$18,'Female - Rev'!$A3-35,0),0.03999)","v":-3.2000000000000002E-3},{"$f":"MIN(OFFSET(Female!BA$18,'Female - Rev'!$A3-35,0),0.03999)","v":-1.4E-3},{"$f":"MIN(OFFSET(Female!BB$18,'Female - Rev'!$A3-35,0),0.03999)","v":5.0000000000000001E-4},{"$f":"MIN(OFFSET(Female!BC$18,'Female - Rev'!$A3-35,0),0.03999)","v":2.3E-3},{"$f":"MIN(OFFSET(Female!BD$18,'Female - Rev'!$A3-35,0),0.03999)","v":3.8999999999999998E-3},{"$f":"MIN(OFFSET(Female!BE$18,'Female - Rev'!$A3-35,0),0.03999)","v":5.3E-3},{"$f":"MIN(OFFSET(Female!BF$18,'Female - Rev'!$A3-35,0),0.03999)","v":6.3E-3},{"$f":"MIN(OFFSET(Female!BG$18,'Female - Rev'!$A3-35,0),0.03999)","v":6.8999999999999999E-3},{"$f":"MIN(OFFSET(Female!BH$18,'Female - Rev'!$A3-35,0),0.03999)","v":7.1999999999999998E-3},{"$f":"MIN(OFFSET(Female!BI$18,'Female - Rev'!$A3-35,0),0.03999)","v":7.1000000000000004E-3},{"$f":"MIN(OFFSET(Female!BJ$18,'Female - Rev'!$A3-35,0),0.03999)","v":6.7000000000000002E-3},{"$f":"MIN(OFFSET(Female!BK$18,'Female - Rev'!$A3-35,0),0.03999)","v":6.1000000000000004E-3},{"$f":"MIN(OFFSET(Female!BL$18,'Female - Rev'!$A3-35,0),0.03999)","v":5.3E-3},{"$f":"MIN(OFFSET(Female!BM$18,'Female - Rev'!$A3-35,0),0.03999)","v":4.4999999999999997E-3},{"$f":"MIN(OFFSET(Female!BN$18,'Female - Rev'!$A3-35,0),0.03999)","v":3.5999999999999999E-3},{"$f":"MIN(OFFSET(Female!BO$18,'Female - Rev'!$A3-35,0),0.03999)","v":3.3999999999999998E-3},{"$f":"MIN(OFFSET(Female!BP$18,'Female - Rev'!$A3-35,0),0.03999)","v":3.3999999999999998E-3},{"$f":"MIN(OFFSET(Female!BQ$18,'Female - Rev'!$A3-35,0),0.03999)","v":3.5000000000000001E-3},{"$f":"MIN(OFFSET(Female!BR$18,'Female - Rev'!$A3-35,0),0.03999)","v":3.7000000000000002E-3},{"$f":"MIN(OFFSET(Female!BS$18,'Female - Rev'!$A3-35,0),0.03999)","v":4.0000000000000001E-3},{"$f":"MIN(OFFSET(Female!BT$18,'Female - Rev'!$A3-35,0),0.03999)","v":4.4000000000000003E-3},{"$f":"MIN(OFFSET(Female!BU$18,'Female - Rev'!$A3-35,0),0.03999)","v":4.7999999999999996E-3},{"$f":"MIN(OFFSET(Female!BV$18,'Female - Rev'!$A3-35,0),0.03999)","v":5.1999999999999998E-3},{"$f":"MIN(OFFSET(Female!BW$18,'Female - Rev'!$A3-35,0),0.03999)","v":5.4999999999999997E-3},{"$f":"MIN(OFFSET(Female!BX$18,'Female - Rev'!$A3-35,0),0.03999)","v":5.7999999999999996E-3},{"$f":"MIN(OFFSET(Female!BY$18,'Female - Rev'!$A3-35,0),0.03999)","v":6.0000000000000001E-3},{"$f":"MIN(OFFSET(Female!BZ$18,'Female - Rev'!$A3-35,0),0.03999)","v":6.3E-3},{"$f":"MIN(OFFSET(Female!CA$18,'Female - Rev'!$A3-35,0),0.03999)","v":6.6E-3},{"$f":"MIN(OFFSET(Female!CB$18,'Female - Rev'!$A3-35,0),0.03999)","v":6.8999999999999999E-3},{"$f":"MIN(OFFSET(Female!CC$18,'Female - Rev'!$A3-35,0),0.03999)","v":7.1999999999999998E-3},{"$f":"MIN(OFFSET(Female!CD$18,'Female - Rev'!$A3-35,0),0.03999)","v":7.4999999999999997E-3},{"$f":"MIN(OFFSET(Female!CE$18,'Female - Rev'!$A3-35,0),0.03999)","v":7.7999999999999996E-3},{"$f":"MIN(OFFSET(Female!CF$18,'Female - Rev'!$A3-35,0),0.03999)","v":8.0000000000000002E-3},{"$f":"MIN(OFFSET(Female!CG$18,'Female - Rev'!$A3-35,0),0.03999)","v":8.3000000000000001E-3},{"$f":"MIN(OFFSET(Female!CH$18,'Female - Rev'!$A3-35,0),0.03999)","v":8.5000000000000006E-3}]
[{"$f":"A3-1","v":94},{"$f":"B3-1","v":94},{"$f":"MIN(OFFSET(Female!B$18,'Female - Rev'!$A4-35,0),0.03999)","v":-1.4500000000000001E-2},{"$f":"MIN(OFFSET(Female!C$18,'Female - Rev'!$A4-35,0),0.03999)","v":-1.2800000000000001E-2},{"$f":"MIN(OFFSET(Female!D$18,'Female - Rev'!$A4-35,0),0.03999)","v":-1.11E-2},{"$f":"MIN(OFFSET(Female!E$18,'Female - Rev'!$A4-35,0),0.03999)","v":-9.2999999999999992E-3},{"$f":"MIN(OFFSET(Female!F$18,'Female - Rev'!$A4-35,0),0.03999)","v":-7.6E-3},{"$f":"MIN(OFFSET(Female!G$18,'Female - Rev'!$A4-35,0),0.03999)","v":-5.7999999999999996E-3},{"$f":"MIN(OFFSET(Female!H$18,'Female - Rev'!$A4-35,0),0.03999)","v":-4.0000000000000001E-3},{"$f":"MIN(OFFSET(Female!I$18,'Female - Rev'!$A4-35,0),0.03999)","v":-2.0999999999999999E-3},{"$f":"MIN(OFFSET(Female!J$18,'Female - Rev'!$A4-35,0),0.03999)","v":-1E-4},{"$f":"MIN(OFFSET(Female!K$18,'Female - Rev'!$A4-35,0),0.03999)","v":1.8E-3},{"$f":"MIN(OFFSET(Female!L$18,'Female - Rev'!$A4-35,0),0.03999)","v":3.8999999999999998E-3},{"$f":"MIN(OFFSET(Female!M$18,'Female - Rev'!$A4-35,0),0.03999)","v":5.8999999999999999E-3},{"$f":"MIN(OFFSET(Female!N$18,'Female - Rev'!$A4-35,0),0.03999)","v":8.0000000000000002E-3},{"$f":"MIN(OFFSET(Female!O$18,'Female - Rev'!$A4-35,0),0.03999)","v":0.01},{"$f":"MIN(OFFSET(Female!P$18,'Female - Rev'!$A4-35,0),0.03999)","v":1.1900000000000001E-2},{"$f":"MIN(OFFSET(Female!Q$18,'Female - Rev'!$A4-35,0),0.03999)","v":1.3599999999999999E-2},{"$f":"MIN(OFFSET(Female!R$18,'Female - Rev'!$A4-35,0),0.03999)","v":1.5100000000000001E-2},{"$f":"MIN(OFFSET(Female!S$18,'Female - Rev'!$A4-35,0),0.03999)","v":1.6400000000000001E-2},{"$f":"MIN(OFFSET(Female!T$18,'Female - Rev'!$A4-35,0),0.03999)","v":1.7299999999999999E-2},{"$f":"MIN(OFFSET(Female!U$18,'Female - Rev'!$A4-35,0),0.03999)","v":1.7899999999999999E-2},{"$f":"MIN(OFFSET(Female!V$18,'Female - Rev'!$A4-35,0),0.03999)","v":1.8100000000000002E-2},{"$f":"MIN(OFFSET(Female!W$18,'Female - Rev'!$A4-35,0),0.03999)","v":1.8100000000000002E-2},{"$f":"MIN(OFFSET(Female!X$18,'Female - Rev'!$A4-35,0),0.03999)","v":1.77E-2},{"$f":"MIN(OFFSET(Female!Y$18,'Female - Rev'!$A4-35,0),0.03999)","v":1.7000000000000001E-2},{"$f":"MIN(OFFSET(Female!Z$18,'Female - Rev'!$A4-35,0),0.03999)","v":1.61E-2},{"$f":"MIN(OFFSET(Female!AA$18,'Female - Rev'!$A4-35,0),0.03999)","v":1.4999999999999999E-2},{"$f":"MIN(OFFSET(Female!AB$18,'Female - Rev'!$A4-35,0),0.03999)","v":1.38E-2},{"$f":"MIN(OFFSET(Female!AC$18,'Female - Rev'!$A4-35,0),0.03999)","v":1.2500000000000001E-2},{"$f":"MIN(OFFSET(Female!AD$18,'Female - Rev'!$A4-35,0),0.03999)","v":1.11E-2},{"$f":"MIN(OFFSET(Female!AE$18,'Female - Rev'!$A4-35,0),0.03999)","v":9.5999999999999992E-3},{"$f":"MIN(OFFSET(Female!AF$18,'Female - Rev'!$A4-35,0),0.03999)","v":8.2000000000000007E-3},{"$f":"MIN(OFFSET(Female!AG$18,'Female - Rev'!$A4-35,0),0.03999)","v":6.7999999999999996E-3},{"$f":"MIN(OFFSET(Female!AH$18,'Female - Rev'!$A4-35,0),0.03999)","v":5.4999999999999997E-3},{"$f":"MIN(OFFSET(Female!AI$18,'Female - Rev'!$A4-35,0),0.03999)","v":4.3E-3},{"$f":"MIN(OFFSET(Female!AJ$18,'Female - Rev'!$A4-35,0),0.03999)","v":3.0999999999999999E-3},{"$f":"MIN(OFFSET(Female!AK$18,'Female - Rev'!$A4-35,0),0.03999)","v":2.0999999999999999E-3},{"$f":"MIN(OFFSET(Female!AL$18,'Female - Rev'!$A4-35,0),0.03999)","v":1.1000000000000001E-3},{"$f":"MIN(OFFSET(Female!AM$18,'Female - Rev'!$A4-35,0),0.03999)","v":1E-4},{"$f":"MIN(OFFSET(Female!AN$18,'Female - Rev'!$A4-35,0),0.03999)","v":-8.9999999999999998E-4},{"$f":"MIN(OFFSET(Female!AO$18,'Female - Rev'!$A4-35,0),0.03999)","v":-2E-3},{"$f":"MIN(OFFSET(Female!AP$18,'Female - Rev'!$A4-35,0),0.03999)","v":-3.2000000000000002E-3},{"$f":"MIN(OFFSET(Female!AQ$18,'Female - Rev'!$A4-35,0),0.03999)","v":-4.4999999999999997E-3},{"$f":"MIN(OFFSET(Female!AR$18,'Female - Rev'!$A4-35,0),0.03999)","v":-5.7000000000000002E-3},{"$f":"MIN(OFFSET(Female!AS$18,'Female - Rev'!$A4-35,0),0.03999)","v":-6.7000000000000002E-3},{"$f":"MIN(OFFSET(Female!AT$18,'Female - Rev'!$A4-35,0),0.03999)","v":-7.4000000000000003E-3},{"$f":"MIN(OFFSET(Female!AU$18,'Female - Rev'!$A4-35,0),0.03999)","v":-7.7999999999999996E-3},{"$f":"MIN(OFFSET(Female!AV$18,'Female - Rev'!$A4-35,0),0.03999)","v":-7.7999999999999996E-3},{"$f":"MIN(OFFSET(Female!AW$18,'Female - Rev'!$A4-35,0),0.03999)","v":-7.1999999999999998E-3},{"$f":"MIN(OFFSET(Female!AX$18,'Female - Rev'!$A4-35,0),0.03999)","v":-6.1000000000000004E-3},{"$f":"MIN(OFFSET(Female!AY$18,'Female - Rev'!$A4-35,0),0.03999)","v":-4.5999999999999999E-3},{"$f":"MIN(OFFSET(Female!AZ$18,'Female - Rev'!$A4-35,0),0.03999)","v":-2.8E-3},{"$f":"MIN(OFFSET(Female!BA$18,'Female - Rev'!$A4-35,0),0.03999)","v":-6.9999999999999999E-4},{"$f":"MIN(OFFSET(Female!BB$18,'Female - Rev'!$A4-35,0),0.03999)","v":1.4E-3},{"$f":"MIN(OFFSET(Female!BC$18,'Female - Rev'!$A4-35,0),0.03999)","v":3.3E-3},{"$f":"MIN(OFFSET(Female!BD$18,'Female - Rev'!$A4-35,0),0.03999)","v":5.0000000000000001E-3},{"$f":"MIN(OFFSET(Female!BE$18,'Female - Rev'!$A4-35,0),0.03999)","v":6.4000000000000003E-3},{"$f":"MIN(OFFSET(Female!BF$18,'Female - Rev'!$A4-35,0),0.03999)","v":7.4000000000000003E-3},{"$f":"MIN(OFFSET(Female!BG$18,'Female - Rev'!$A4-35,0),0.03999)","v":7.9000000000000008E-3},{"$f":"MIN(OFFSET(Female!BH$18,'Female - Rev'!$A4-35,0),0.03999)","v":8.0000000000000002E-3},{"$f":"MIN(OFFSET(Female!BI$18,'Female - Rev'!$A4-35,0),0.03999)","v":7.7000000000000002E-3},{"$f":"MIN(OFFSET(Female!BJ$18,'Female - Rev'!$A4-35,0),0.03999)","v":7.1000000000000004E-3},{"$f":"MIN(OFFSET(Female!BK$18,'Female - Rev'!$A4-35,0),0.03999)","v":6.3E-3},{"$f":"MIN(OFFSET(Female!BL$18,'Female - Rev'!$A4-35,0),0.03999)","v":5.3E-3},{"$f":"MIN(OFFSET(Female!BM$18,'Female - Rev'!$A4-35,0),0.03999)","v":4.3E-3},{"$f":"MIN(OFFSET(Female!BN$18,'Female - Rev'!$A4-35,0),0.03999)","v":3.2000000000000002E-3},{"$f":"MIN(OFFSET(Female!BO$18,'Female - Rev'!$A4-35,0),0.03999)","v":3.0000000000000001E-3},{"$f":"MIN(OFFSET(Female!BP$18,'Female - Rev'!$A4-35,0),0.03999)","v":3.0999999999999999E-3},{"$f":"MIN(OFFSET(Female!BQ$18,'Female - Rev'!$A4-35,0),0.03999)","v":3.3E-3},{"$f":"MIN(OFFSET(Female!BR$18,'Female - Rev'!$A4-35,0),0.03999)","v":3.5999999999999999E-3},{"$f":"MIN(OFFSET(Female!BS$18,'Female - Rev'!$A4-35,0),0.03999)","v":3.8999999999999998E-3},{"$f":"MIN(OFFSET(Female!BT$18,'Female - Rev'!$A4-35,0),0.03999)","v":4.4000000000000003E-3},{"$f":"MIN(OFFSET(Female!BU$18,'Female - Rev'!$A4-35,0),0.03999)","v":4.7999999999999996E-3},{"$f":"MIN(OFFSET(Female!BV$18,'Female - Rev'!$A4-35,0),0.03999)","v":5.3E-3},{"$f":"MIN(OFFSET(Female!BW$18,'Female - Rev'!$A4-35,0),0.03999)","v":5.7000000000000002E-3},{"$f":"MIN(OFFSET(Female!BX$18,'Female - Rev'!$A4-35,0),0.03999)","v":6.0000000000000001E-3},{"$f":"MIN(OFFSET(Female!BY$18,'Female - Rev'!$A4-35,0),0.03999)","v":6.1999999999999998E-3},{"$f":"MIN(OFFSET(Female!BZ$18,'Female - Rev'!$A4-35,0),0.03999)","v":6.4999999999999997E-3},{"$f":"MIN(OFFSET(Female!CA$18,'Female - Rev'!$A4-35,0),0.03999)","v":6.8999999999999999E-3},{"$f":"MIN(OFFSET(Female!CB$18,'Female - Rev'!$A4-35,0),0.03999)","v":7.1999999999999998E-3},{"$f":"MIN(OFFSET(Female!CC$18,'Female - Rev'!$A4-35,0),0.03999)","v":7.4999999999999997E-3},{"$f":"MIN(OFFSET(Female!CD$18,'Female - Rev'!$A4-35,0),0.03999)","v":7.7999999999999996E-3},{"$f":"MIN(OFFSET(Female!CE$18,'Female - Rev'!$A4-35,0),0.03999)","v":8.0999999999999996E-3},{"$f":"MIN(OFFSET(Female!CF$18,'Female - Rev'!$A4-35,0),0.03999)","v":8.3000000000000001E-3},{"$f":"MIN(OFFSET(Female!CG$18,'Female - Rev'!$A4-35,0),0.03999)","v":8.6E-3},{"$f":"MIN(OFFSET(Female!CH$18,'Female - Rev'!$A4-35,0),0.03999)","v":8.6999999999999994E-3}]
[{"$f":"A4-1","v":93},93,{"$f":"MIN(OFFSET(Female!B$18,'Female - Rev'!$A5-35,0),0.03999)","v":-1.2999999999999999E-2},{"$f":"MIN(OFFSET(Female!C$18,'Female - Rev'!$A5-35,0),0.03999)","v":-1.15E-2},{"$f":"MIN(OFFSET(Female!D$18,'Female - Rev'!$A5-35,0),0.03999)","v":-1.01E-2},{"$f":"MIN(OFFSET(Female!E$18,'Female - Rev'!$A5-35,0),0.03999)","v":-8.6999999999999994E-3},{"$f":"MIN(OFFSET(Female!F$18,'Female - Rev'!$A5-35,0),0.03999)","v":-7.1999999999999998E-3},{"$f":"MIN(OFFSET(Female!G$18,'Female - Rev'!$A5-35,0),0.03999)","v":-5.7000000000000002E-3},{"$f":"MIN(OFFSET(Female!H$18,'Female - Rev'!$A5-35,0),0.03999)","v":-4.1000000000000003E-3},{"$f":"MIN(OFFSET(Female!I$18,'Female - Rev'!$A5-35,0),0.03999)","v":-2.3999999999999998E-3},{"$f":"MIN(OFFSET(Female!J$18,'Female - Rev'!$A5-35,0),0.03999)","v":-5.9999999999999995E-4},{"$f":"MIN(OFFSET(Female!K$18,'Female - Rev'!$A5-35,0),0.03999)","v":1.2999999999999999E-3},{"$f":"MIN(OFFSET(Female!L$18,'Female - Rev'!$A5-35,0),0.03999)","v":3.3E-3},{"$f":"MIN(OFFSET(Female!M$18,'Female - Rev'!$A5-35,0),0.03999)","v":5.4000000000000003E-3},{"$f":"MIN(OFFSET(Female!N$18,'Female - Rev'!$A5-35,0),0.03999)","v":7.6E-3},{"$f":"MIN(OFFSET(Female!O$18,'Female - Rev'!$A5-35,0),0.03999)","v":9.7000000000000003E-3},{"$f":"MIN(OFFSET(Female!P$18,'Female - Rev'!$A5-35,0),0.03999)","v":1.18E-2},{"$f":"MIN(OFFSET(Female!Q$18,'Female - Rev'!$A5-35,0),0.03999)","v":1.38E-2},{"$f":"MIN(OFFSET(Female!R$18,'Female - Rev'!$A5-35,0),0.03999)","v":1.55E-2},{"$f":"MIN(OFFSET(Female!S$18,'Female - Rev'!$A5-35,0),0.03999)","v":1.6899999999999998E-2},{"$f":"MIN(OFFSET(Female!T$18,'Female - Rev'!$A5-35,0),0.03999)","v":1.7999999999999999E-2},{"$f":"MIN(OFFSET(Female!U$18,'Female - Rev'!$A5-35,0),0.03999)","v":1.8800000000000001E-2},{"$f":"MIN(OFFSET(Female!V$18,'Female - Rev'!$A5-35,0),0.03999)","v":1.9099999999999999E-2},{"$f":"MIN(OFFSET(Female!W$18,'Female - Rev'!$A5-35,0),0.03999)","v":1.9099999999999999E-2},{"$f":"MIN(OFFSET(Female!X$18,'Female - Rev'!$A5-35,0),0.03999)","v":1.8800000000000001E-2},{"$f":"MIN(OFFSET(Female!Y$18,'Female - Rev'!$A5-35,0),0.03999)","v":1.8200000000000001E-2},{"$f":"MIN(OFFSET(Female!Z$18,'Female - Rev'!$A5-35,0),0.03999)","v":1.7299999999999999E-2},{"$f":"MIN(OFFSET(Female!AA$18,'Female - Rev'!$A5-35,0),0.03999)","v":1.6199999999999999E-2},{"$f":"MIN(OFFSET(Female!AB$18,'Female - Rev'!$A5-35,0),0.03999)","v":1.49E-2},{"$f":"MIN(OFFSET(Female!AC$18,'Female - Rev'!$A5-35,0),0.03999)","v":1.35E-2},{"$f":"MIN(OFFSET(Female!AD$18,'Female - Rev'!$A5-35,0),0.03999)","v":1.2E-2},{"$f":"MIN(OFFSET(Female!AE$18,'Female - Rev'!$A5-35,0),0.03999)","v":1.06E-2},{"$f":"MIN(OFFSET(Female!AF$18,'Female - Rev'!$A5-35,0),0.03999)","v":9.1000000000000004E-3},{"$f":"MIN(OFFSET(Female!AG$18,'Female - Rev'!$A5-35,0),0.03999)","v":7.7000000000000002E-3},{"$f":"MIN(OFFSET(Female!AH$18,'Female - Rev'!$A5-35,0),0.03999)","v":6.3E-3},{"$f":"MIN(OFFSET(Female!AI$18,'Female - Rev'!$A5-35,0),0.03999)","v":5.1000000000000004E-3},{"$f":"MIN(OFFSET(Female!AJ$18,'Female - Rev'!$A5-35,0),0.03999)","v":4.0000000000000001E-3},{"$f":"MIN(OFFSET(Female!AK$18,'Female - Rev'!$A5-35,0),0.03999)","v":3.0000000000000001E-3},{"$f":"MIN(OFFSET(Female!AL$18,'Female - Rev'!$A5-35,0),0.03999)","v":2.0999999999999999E-3},{"$f":"MIN(OFFSET(Female!AM$18,'Female - Rev'!$A5-35,0),0.03999)","v":1.1000000000000001E-3},{"$f":"MIN(OFFSET(Female!AN$18,'Female - Rev'!$A5-35,0),0.03999)","v":1E-4},{"$f":"MIN(OFFSET(Female!AO$18,'Female - Rev'!$A5-35,0),0.03999)","v":-1.1000000000000001E-3},{"$f":"MIN(OFFSET(Female!AP$18,'Female - Rev'!$A5-35,0),0.03999)","v":-2.3999999999999998E-3},{"$f":"MIN(OFFSET(Female!AQ$18,'Female - Rev'!$A5-35,0),0.03999)","v":-3.8E-3},{"$f":"MIN(OFFSET(Female!AR$18,'Female - Rev'!$A5-35,0),0.03999)","v":-5.1999999999999998E-3},{"$f":"MIN(OFFSET(Female!AS$18,'Female - Rev'!$A5-35,0),0.03999)","v":-6.4000000000000003E-3},{"$f":"MIN(OFFSET(Female!AT$18,'Female - Rev'!$A5-35,0),0.03999)","v":-7.3000000000000001E-3},{"$f":"MIN(OFFSET(Female!AU$18,'Female - Rev'!$A5-35,0),0.03999)","v":-7.7000000000000002E-3},{"$f":"MIN(OFFSET(Female!AV$18,'Female - Rev'!$A5-35,0),0.03999)","v":-7.7000000000000002E-3},{"$f":"MIN(OFFSET(Female!AW$18,'Female - Rev'!$A5-35,0),0.03999)","v":-7.1000000000000004E-3},{"$f":"MIN(OFFSET(Female!AX$18,'Female - Rev'!$A5-35,0),0.03999)","v":-5.8999999999999999E-3},{"$f":"MIN(OFFSET(Female!AY$18,'Female - Rev'!$A5-35,0),0.03999)","v":-4.3E-3},{"$f":"MIN(OFFSET(Female!AZ$18,'Female - Rev'!$A5-35,0),0.03999)","v":-2.3E-3},{"$f":"MIN(OFFSET(Female!BA$18,'Female - Rev'!$A5-35,0),0.03999)","v":0},{"$f":"MIN(OFFSET(Female!BB$18,'Female - Rev'!$A5-35,0),0.03999)","v":2.2000000000000001E-3},{"$f":"MIN(OFFSET(Female!BC$18,'Female - Rev'!$A5-35,0),0.03999)","v":4.3E-3},{"$f":"MIN(OFFSET(Female!BD$18,'Female - Rev'!$A5-35,0),0.03999)","v":6.1000000000000004E-3},{"$f":"MIN(OFFSET(Female!BE$18,'Female - Rev'!$A5-35,0),0.03999)","v":7.4999999999999997E-3},{"$f":"MIN(OFFSET(Female!BF$18,'Female - Rev'!$A5-35,0),0.03999)","v":8.3999999999999995E-3},{"$f":"MIN(OFFSET(Female!BG$18,'Female - Rev'!$A5-35,0),0.03999)","v":8.8999999999999999E-3},{"$f":"MIN(OFFSET(Female!BH$18,'Female - Rev'!$A5-35,0),0.03999)","v":8.8000000000000005E-3},{"$f":"MIN(OFFSET(Female!BI$18,'Female - Rev'!$A5-35,0),0.03999)","v":8.3000000000000001E-3},{"$f":"MIN(OFFSET(Female!BJ$18,'Female - Rev'!$A5-35,0),0.03999)","v":7.4999999999999997E-3},{"$f":"MIN(OFFSET(Female!BK$18,'Female - Rev'!$A5-35,0),0.03999)","v":6.4999999999999997E-3},{"$f":"MIN(OFFSET(Female!BL$18,'Female - Rev'!$A5-35,0),0.03999)","v":5.3E-3},{"$f":"MIN(OFFSET(Female!BM$18,'Female - Rev'!$A5-35,0),0.03999)","v":4.1000000000000003E-3},{"$f":"MIN(OFFSET(Female!BN$18,'Female - Rev'!$A5-35,0),0.03999)","v":2.8E-3},{"$f":"MIN(OFFSET(Female!BO$18,'Female - Rev'!$A5-35,0),0.03999)","v":2.7000000000000001E-3},{"$f":"MIN(OFFSET(Female!BP$18,'Female - Rev'!$A5-35,0),0.03999)","v":2.8E-3},{"$f":"MIN(OFFSET(Female!BQ$18,'Female - Rev'!$A5-35,0),0.03999)","v":3.0999999999999999E-3},{"$f":"MIN(OFFSET(Female!BR$18,'Female - Rev'!$A5-35,0),0.03999)","v":3.3999999999999998E-3},{"$f":"MIN(OFFSET(Female!BS$18,'Female - Rev'!$A5-35,0),0.03999)","v":3.8999999999999998E-3},{"$f":"MIN(OFFSET(Female!BT$18,'Female - Rev'!$A5-35,0),0.03999)","v":4.4000000000000003E-3},{"$f":"MIN(OFFSET(Female!BU$18,'Female - Rev'!$A5-35,0),0.03999)","v":4.8999999999999998E-3},{"$f":"MIN(OFFSET(Female!BV$18,'Female - Rev'!$A5-35,0),0.03999)","v":5.4000000000000003E-3},{"$f":"MIN(OFFSET(Female!BW$18,'Female - Rev'!$A5-35,0),0.03999)","v":5.8999999999999999E-3},{"$f":"MIN(OFFSET(Female!BX$18,'Female - Rev'!$A5-35,0),0.03999)","v":6.1999999999999998E-3},{"$f":"MIN(OFFSET(Female!BY$18,'Female - Rev'!$A5-35,0),0.03999)","v":6.4999999999999997E-3},{"$f":"MIN(OFFSET(Female!BZ$18,'Female - Rev'!$A5-35,0),0.03999)","v":6.7999999999999996E-3},{"$f":"MIN(OFFSET(Female!CA$18,'Female - Rev'!$A5-35,0),0.03999)","v":7.1999999999999998E-3},{"$f":"MIN(OFFSET(Female!CB$18,'Female - Rev'!$A5-35,0),0.03999)","v":7.4999999999999997E-3},{"$f":"MIN(OFFSET(Female!CC$18,'Female - Rev'!$A5-35,0),0.03999)","v":7.7999999999999996E-3},{"$f":"MIN(OFFSET(Female!CD$18,'Female - Rev'!$A5-35,0),0.03999)","v":8.0999999999999996E-3},{"$f":"MIN(OFFSET(Female!CE$18,'Female - Rev'!$A5-35,0),0.03999)","v":8.3999999999999995E-3},{"$f":"MIN(OFFSET(Female!CF$18,'Female - Rev'!$A5-35,0),0.03999)","v":8.6E-3},{"$f":"MIN(OFFSET(Female!CG$18,'Female - Rev'!$A5-35,0),0.03999)","v":8.6999999999999994E-3},{"$f":"MIN(OFFSET(Female!CH$18,'Female - Rev'!$A5-35,0),0.03999)","v":8.8000000000000005E-3}]
[92,92,{"$f":"MIN(OFFSET(Female!B$18,'Female - Rev'!$A6-35,0),0.03999)","v":-1.1299999999999999E-2},{"$f":"MIN(OFFSET(Female!C$18,'Female - Rev'!$A6-35,0),0.03999)","v":-1.0200000000000001E-2},{"$f":"MIN(OFFSET(Female!D$18,'Female - Rev'!$A6-35,0),0.03999)","v":-8.9999999999999993E-3},{"$f":"MIN(OFFSET(Female!E$18,'Female - Rev'!$A6-35,0),0.03999)","v":-7.9000000000000008E-3},{"$f":"MIN(OFFSET(Female!F$18,'Female - Rev'!$A6-35,0),0.03999)","v":-6.7000000000000002E-3},{"$f":"MIN(OFFSET(Female!G$18,'Female - Rev'!$A6-35,0),0.03999)","v":-5.4000000000000003E-3},{"$f":"MIN(OFFSET(Female!H$18,'Female - Rev'!$A6-35,0),0.03999)","v":-4.0000000000000001E-3},{"$f":"MIN(OFFSET(Female!I$18,'Female - Rev'!$A6-35,0),0.03999)","v":-2.5000000000000001E-3},{"$f":"MIN(OFFSET(Female!J$18,'Female - Rev'!$A6-35,0),0.03999)","v":-8.0000000000000004E-4},{"$f":"MIN(OFFSET(Female!K$18,'Female - Rev'!$A6-35,0),0.03999)","v":1E-3},{"$f":"MIN(OFFSET(Female!L$18,'Female - Rev'!$A6-35,0),0.03999)","v":3.0000000000000001E-3},{"$f":"MIN(OFFSET(Female!M$18,'Female - Rev'!$A6-35,0),0.03999)","v":5.1000000000000004E-3},{"$f":"MIN(OFFSET(Female!N$18,'Female - Rev'!$A6-35,0),0.03999)","v":7.3000000000000001E-3},{"$f":"MIN(OFFSET(Female!O$18,'Female - Rev'!$A6-35,0),0.03999)","v":9.5999999999999992E-3},{"$f":"MIN(OFFSET(Female!P$18,'Female - Rev'!$A6-35,0),0.03999)","v":1.18E-2},{"$f":"MIN(OFFSET(Female!Q$18,'Female - Rev'!$A6-35,0),0.03999)","v":1.3899999999999999E-2},{"$f":"MIN(OFFSET(Female!R$18,'Female - Rev'!$A6-35,0),0.03999)","v":1.5800000000000002E-2},{"$f":"MIN(OFFSET(Female!S$18,'Female - Rev'!$A6-35,0),0.03999)","v":1.7399999999999999E-2},{"$f":"MIN(OFFSET(Female!T$18,'Female - Rev'!$A6-35,0),0.03999)","v":1.8700000000000001E-2},{"$f":"MIN(OFFSET(Female!U$18,'Female - Rev'!$A6-35,0),0.03999)","v":1.95E-2},{"$f":"MIN(OFFSET(Female!V$18,'Female - Rev'!$A6-35,0),0.03999)","v":0.02},{"$f":"MIN(OFFSET(Female!W$18,'Female - Rev'!$A6-35,0),0.03999)","v":2.01E-2},{"$f":"MIN(OFFSET(Female!X$18,'Female - Rev'!$A6-35,0),0.03999)","v":1.9900000000000001E-2},{"$f":"MIN(OFFSET(Female!Y$18,'Female - Rev'!$A6-35,0),0.03999)","v":1.9300000000000001E-2},{"$f":"MIN(OFFSET(Female!Z$18,'Female - Rev'!$A6-35,0),0.03999)","v":1.84E-2},{"$f":"MIN(OFFSET(Female!AA$18,'Female - Rev'!$A6-35,0),0.03999)","v":1.7299999999999999E-2},{"$f":"MIN(OFFSET(Female!AB$18,'Female - Rev'!$A6-35,0),0.03999)","v":1.5900000000000001E-2},{"$f":"MIN(OFFSET(Female!AC$18,'Female - Rev'!$A6-35,0),0.03999)","v":1.4500000000000001E-2},{"$f":"MIN(OFFSET(Female!AD$18,'Female - Rev'!$A6-35,0),0.03999)","v":1.2999999999999999E-2},{"$f":"MIN(OFFSET(Female!AE$18,'Female - Rev'!$A6-35,0),0.03999)","v":1.14E-2},{"$f":"MIN(OFFSET(Female!AF$18,'Female - Rev'!$A6-35,0),0.03999)","v":9.9000000000000008E-3},{"$f":"MIN(OFFSET(Female!AG$18,'Female - Rev'!$A6-35,0),0.03999)","v":8.3999999999999995E-3},{"$f":"MIN(OFFSET(Female!AH$18,'Female - Rev'!$A6-35,0),0.03999)","v":7.1000000000000004E-3},{"$f":"MIN(OFFSET(Female!AI$18,'Female - Rev'!$A6-35,0),0.03999)","v":5.8999999999999999E-3},{"$f":"MIN(OFFSET(Female!AJ$18,'Female - Rev'!$A6-35,0),0.03999)","v":4.7999999999999996E-3},{"$f":"MIN(OFFSET(Female!AK$18,'Female - Rev'!$A6-35,0),0.03999)","v":3.8999999999999998E-3},{"$f":"MIN(OFFSET(Female!AL$18,'Female - Rev'!$A6-35,0),0.03999)","v":3.0000000000000001E-3},{"$f":"MIN(OFFSET(Female!AM$18,'Female - Rev'!$A6-35,0),0.03999)","v":2E-3},{"$f":"MIN(OFFSET(Female!AN$18,'Female - Rev'!$A6-35,0),0.03999)","v":1E-3},{"$f":"MIN(OFFSET(Female!AO$18,'Female - Rev'!$A6-35,0),0.03999)","v":-2.0000000000000001E-4},{"$f":"MIN(OFFSET(Female!AP$18,'Female - Rev'!$A6-35,0),0.03999)","v":-1.6999999999999999E-3},{"$f":"MIN(OFFSET(Female!AQ$18,'Female - Rev'!$A6-35,0),0.03999)","v":-3.2000000000000002E-3},{"$f":"MIN(OFFSET(Female!AR$18,'Female - Rev'!$A6-35,0),0.03999)","v":-4.7000000000000002E-3},{"$f":"MIN(OFFSET(Female!AS$18,'Female - Rev'!$A6-35,0),0.03999)","v":-6.0000000000000001E-3},{"$f":"MIN(OFFSET(Female!AT$18,'Female - Rev'!$A6-35,0),0.03999)","v":-7.0000000000000001E-3},{"$f":"MIN(OFFSET(Female!AU$18,'Female - Rev'!$A6-35,0),0.03999)","v":-7.6E-3},{"$f":"MIN(OFFSET(Female!AV$18,'Female - Rev'!$A6-35,0),0.03999)","v":-7.6E-3},{"$f":"MIN(OFFSET(Female!AW$18,'Female - Rev'!$A6-35,0),0.03999)","v":-6.8999999999999999E-3},{"$f":"MIN(OFFSET(Female!AX$18,'Female - Rev'!$A6-35,0),0.03999)","v":-5.7000000000000002E-3},{"$f":"MIN(OFFSET(Female!AY$18,'Female - Rev'!$A6-35,0),0.03999)","v":-3.8999999999999998E-3},{"$f":"MIN(OFFSET(Female!AZ$18,'Female - Rev'!$A6-35,0),0.03999)","v":-1.6999999999999999E-3},{"$f":"MIN(OFFSET(Female!BA$18,'Female - Rev'!$A6-35,0),0.03999)","v":6.9999999999999999E-4},{"$f":"MIN(OFFSET(Female!BB$18,'Female - Rev'!$A6-35,0),0.03999)","v":3.0999999999999999E-3},{"$f":"MIN(OFFSET(Female!BC$18,'Female - Rev'!$A6-35,0),0.03999)","v":5.3E-3},{"$f":"MIN(OFFSET(Female!BD$18,'Female - Rev'!$A6-35,0),0.03999)","v":7.1999999999999998E-3},{"$f":"MIN(OFFSET(Female!BE$18,'Female - Rev'!$A6-35,0),0.03999)","v":8.6E-3},{"$f":"MIN(OFFSET(Female!BF$18,'Female - Rev'!$A6-35,0),0.03999)","v":9.4000000000000004E-3},{"$f":"MIN(OFFSET(Female!BG$18,'Female - Rev'!$A6-35,0),0.03999)","v":9.7000000000000003E-3},{"$f":"MIN(OFFSET(Female!BH$18,'Female - Rev'!$A6-35,0),0.03999)","v":9.4999999999999998E-3},{"$f":"MIN(OFFSET(Female!BI$18,'Female - Rev'!$A6-35,0),0.03999)","v":8.8000000000000005E-3},{"$f":"MIN(OFFSET(Female!BJ$18,'Female - Rev'!$A6-35,0),0.03999)","v":7.9000000000000008E-3},{"$f":"MIN(OFFSET(Female!BK$18,'Female - Rev'!$A6-35,0),0.03999)","v":6.7000000000000002E-3},{"$f":"MIN(OFFSET(Female!BL$18,'Female - Rev'!$A6-35,0),0.03999)","v":5.3E-3},{"$f":"MIN(OFFSET(Female!BM$18,'Female - Rev'!$A6-35,0),0.03999)","v":3.8999999999999998E-3},{"$f":"MIN(OFFSET(Female!BN$18,'Female - Rev'!$A6-35,0),0.03999)","v":2.5000000000000001E-3},{"$f":"MIN(OFFSET(Female!BO$18,'Female - Rev'!$A6-35,0),0.03999)","v":2.3999999999999998E-3},{"$f":"MIN(OFFSET(Female!BP$18,'Female - Rev'!$A6-35,0),0.03999)","v":2.5999999999999999E-3},{"$f":"MIN(OFFSET(Female!BQ$18,'Female - Rev'!$A6-35,0),0.03999)","v":2.8999999999999998E-3},{"$f":"MIN(OFFSET(Female!BR$18,'Female - Rev'!$A6-35,0),0.03999)","v":3.3E-3},{"$f":"MIN(OFFSET(Female!BS$18,'Female - Rev'!$A6-35,0),0.03999)","v":3.8999999999999998E-3},{"$f":"MIN(OFFSET(Female!BT$18,'Female - Rev'!$A6-35,0),0.03999)","v":4.4000000000000003E-3},{"$f":"MIN(OFFSET(Female!BU$18,'Female - Rev'!$A6-35,0),0.03999)","v":5.0000000000000001E-3},{"$f":"MIN(OFFSET(Female!BV$18,'Female - Rev'!$A6-35,0),0.03999)","v":5.5999999999999999E-3},{"$f":"MIN(OFFSET(Female!BW$18,'Female - Rev'!$A6-35,0),0.03999)","v":6.1000000000000004E-3},{"$f":"MIN(OFFSET(Female!BX$18,'Female - Rev'!$A6-35,0),0.03999)","v":6.4999999999999997E-3},{"$f":"MIN(OFFSET(Female!BY$18,'Female - Rev'!$A6-35,0),0.03999)","v":6.7999999999999996E-3},{"$f":"MIN(OFFSET(Female!BZ$18,'Female - Rev'!$A6-35,0),0.03999)","v":7.1000000000000004E-3},{"$f":"MIN(OFFSET(Female!CA$18,'Female - Rev'!$A6-35,0),0.03999)","v":7.4999999999999997E-3},{"$f":"MIN(OFFSET(Female!CB$18,'Female - Rev'!$A6-35,0),0.03999)","v":7.7999999999999996E-3},{"$f":"MIN(OFFSET(Female!CC$18,'Female - Rev'!$A6-35,0),0.03999)","v":8.0999999999999996E-3},{"$f":"MIN(OFFSET(Female!CD$18,'Female - Rev'!$A6-35,0),0.03999)","v":8.3999999999999995E-3},{"$f":"MIN(OFFSET(Female!CE$18,'Female - Rev'!$A6-35,0),0.03999)","v":8.6999999999999994E-3},{"$f":"MIN(OFFSET(Female!CF$18,'Female - Rev'!$A6-35,0),0.03999)","v":8.8000000000000005E-3},{"$f":"MIN(OFFSET(Female!CG$18,'Female - Rev'!$A6-35,0),0.03999)","v":8.8999999999999999E-3},{"$f":"MIN(OFFSET(Female!CH$18,'Female - Rev'!$A6-35,0),0.03999)","v":8.9999999999999993E-3}]
[91,91,{"$f":"MIN(OFFSET(Female!B$18,'Female - Rev'!$A7-35,0),0.03999)","v":-9.4999999999999998E-3},{"$f":"MIN(OFFSET(Female!C$18,'Female - Rev'!$A7-35,0),0.03999)","v":-8.6E-3},{"$f":"MIN(OFFSET(Female!D$18,'Female - Rev'!$A7-35,0),0.03999)","v":-7.7999999999999996E-3},{"$f":"MIN(OFFSET(Female!E$18,'Female - Rev'!$A7-35,0),0.03999)","v":-6.8999999999999999E-3},{"$f":"MIN(OFFSET(Female!F$18,'Female - Rev'!$A7-35,0),0.03999)","v":-6.0000000000000001E-3},{"$f":"MIN(OFFSET(Female!G$18,'Female - Rev'!$A7-35,0),0.03999)","v":-4.8999999999999998E-3},{"$f":"MIN(OFFSET(Female!H$18,'Female - Rev'!$A7-35,0),0.03999)","v":-3.8E-3},{"$f":"MIN(OFFSET(Female!I$18,'Female - Rev'!$A7-35,0),0.03999)","v":-2.3999999999999998E-3},{"$f":"MIN(OFFSET(Female!J$18,'Female - Rev'!$A7-35,0),0.03999)","v":-8.9999999999999998E-4},{"$f":"MIN(OFFSET(Female!K$18,'Female - Rev'!$A7-35,0),0.03999)","v":8.0000000000000004E-4},{"$f":"MIN(OFFSET(Female!L$18,'Female - Rev'!$A7-35,0),0.03999)","v":2.7000000000000001E-3},{"$f":"MIN(OFFSET(Female!M$18,'Female - Rev'!$A7-35,0),0.03999)","v":4.7999999999999996E-3},{"$f":"MIN(OFFSET(Female!N$18,'Female - Rev'!$A7-35,0),0.03999)","v":7.1000000000000004E-3},{"$f":"MIN(OFFSET(Female!O$18,'Female - Rev'!$A7-35,0),0.03999)","v":9.4999999999999998E-3},{"$f":"MIN(OFFSET(Female!P$18,'Female - Rev'!$A7-35,0),0.03999)","v":1.18E-2},{"$f":"MIN(OFFSET(Female!Q$18,'Female - Rev'!$A7-35,0),0.03999)","v":1.4E-2},{"$f":"MIN(OFFSET(Female!R$18,'Female - Rev'!$A7-35,0),0.03999)","v":1.61E-2},{"$f":"MIN(OFFSET(Female!S$18,'Female - Rev'!$A7-35,0),0.03999)","v":1.78E-2},{"$f":"MIN(OFFSET(Female!T$18,'Female - Rev'!$A7-35,0),0.03999)","v":1.9199999999999998E-2},{"$f":"MIN(OFFSET(Female!U$18,'Female - Rev'!$A7-35,0),0.03999)","v":2.0199999999999999E-2},{"$f":"MIN(OFFSET(Female!V$18,'Female - Rev'!$A7-35,0),0.03999)","v":2.0799999999999999E-2},{"$f":"MIN(OFFSET(Female!W$18,'Female - Rev'!$A7-35,0),0.03999)","v":2.1000000000000001E-2},{"$f":"MIN(OFFSET(Female!X$18,'Female - Rev'!$A7-35,0),0.03999)","v":2.0799999999999999E-2},{"$f":"MIN(OFFSET(Female!Y$18,'Female - Rev'!$A7-35,0),0.03999)","v":2.0299999999999999E-2},{"$f":"MIN(OFFSET(Female!Z$18,'Female - Rev'!$A7-35,0),0.03999)","v":1.9400000000000001E-2},{"$f":"MIN(OFFSET(Female!AA$18,'Female - Rev'!$A7-35,0),0.03999)","v":1.83E-2},{"$f":"MIN(OFFSET(Female!AB$18,'Female - Rev'!$A7-35,0),0.03999)","v":1.6899999999999998E-2},{"$f":"MIN(OFFSET(Female!AC$18,'Female - Rev'!$A7-35,0),0.03999)","v":1.54E-2},{"$f":"MIN(OFFSET(Female!AD$18,'Female - Rev'!$A7-35,0),0.03999)","v":1.38E-2},{"$f":"MIN(OFFSET(Female!AE$18,'Female - Rev'!$A7-35,0),0.03999)","v":1.2200000000000001E-2},{"$f":"MIN(OFFSET(Female!AF$18,'Female - Rev'!$A7-35,0),0.03999)","v":1.06E-2},{"$f":"MIN(OFFSET(Female!AG$18,'Female - Rev'!$A7-35,0),0.03999)","v":9.1000000000000004E-3},{"$f":"MIN(OFFSET(Female!AH$18,'Female - Rev'!$A7-35,0),0.03999)","v":7.7999999999999996E-3},{"$f":"MIN(OFFSET(Female!AI$18,'Female - Rev'!$A7-35,0),0.03999)","v":6.6E-3},{"$f":"MIN(OFFSET(Female!AJ$18,'Female - Rev'!$A7-35,0),0.03999)","v":5.4999999999999997E-3},{"$f":"MIN(OFFSET(Female!AK$18,'Female - Rev'!$A7-35,0),0.03999)","v":4.5999999999999999E-3},{"$f":"MIN(OFFSET(Female!AL$18,'Female - Rev'!$A7-35,0),0.03999)","v":3.8E-3},{"$f":"MIN(OFFSET(Female!AM$18,'Female - Rev'!$A7-35,0),0.03999)","v":2.8999999999999998E-3},{"$f":"MIN(OFFSET(Female!AN$18,'Female - Rev'!$A7-35,0),0.03999)","v":1.8E-3},{"$f":"MIN(OFFSET(Female!AO$18,'Female - Rev'!$A7-35,0),0.03999)","v":5.9999999999999995E-4},{"$f":"MIN(OFFSET(Female!AP$18,'Female - Rev'!$A7-35,0),0.03999)","v":-8.9999999999999998E-4},{"$f":"MIN(OFFSET(Female!AQ$18,'Female - Rev'!$A7-35,0),0.03999)","v":-2.5000000000000001E-3},{"$f":"MIN(OFFSET(Female!AR$18,'Female - Rev'!$A7-35,0),0.03999)","v":-4.1999999999999997E-3},{"$f":"MIN(OFFSET(Female!AS$18,'Female - Rev'!$A7-35,0),0.03999)","v":-5.5999999999999999E-3},{"$f":"MIN(OFFSET(Female!AT$18,'Female - Rev'!$A7-35,0),0.03999)","v":-6.7000000000000002E-3},{"$f":"MIN(OFFSET(Female!AU$18,'Female - Rev'!$A7-35,0),0.03999)","v":-7.3000000000000001E-3},{"$f":"MIN(OFFSET(Female!AV$18,'Female - Rev'!$A7-35,0),0.03999)","v":-7.3000000000000001E-3},{"$f":"MIN(OFFSET(Female!AW$18,'Female - Rev'!$A7-35,0),0.03999)","v":-6.7000000000000002E-3},{"$f":"MIN(OFFSET(Female!AX$18,'Female - Rev'!$A7-35,0),0.03999)","v":-5.4000000000000003E-3},{"$f":"MIN(OFFSET(Female!AY$18,'Female - Rev'!$A7-35,0),0.03999)","v":-3.3999999999999998E-3},{"$f":"MIN(OFFSET(Female!AZ$18,'Female - Rev'!$A7-35,0),0.03999)","v":-1.1000000000000001E-3},{"$f":"MIN(OFFSET(Female!BA$18,'Female - Rev'!$A7-35,0),0.03999)","v":1.5E-3},{"$f":"MIN(OFFSET(Female!BB$18,'Female - Rev'!$A7-35,0),0.03999)","v":4.0000000000000001E-3},{"$f":"MIN(OFFSET(Female!BC$18,'Female - Rev'!$A7-35,0),0.03999)","v":6.4000000000000003E-3},{"$f":"MIN(OFFSET(Female!BD$18,'Female - Rev'!$A7-35,0),0.03999)","v":8.2000000000000007E-3},{"$f":"MIN(OFFSET(Female!BE$18,'Female - Rev'!$A7-35,0),0.03999)","v":9.5999999999999992E-3},{"$f":"MIN(OFFSET(Female!BF$18,'Female - Rev'!$A7-35,0),0.03999)","v":1.04E-2},{"$f":"MIN(OFFSET(Female!BG$18,'Female - Rev'!$A7-35,0),0.03999)","v":1.0500000000000001E-2},{"$f":"MIN(OFFSET(Female!BH$18,'Female - Rev'!$A7-35,0),0.03999)","v":1.01E-2},{"$f":"MIN(OFFSET(Female!BI$18,'Female - Rev'!$A7-35,0),0.03999)","v":9.2999999999999992E-3},{"$f":"MIN(OFFSET(Female!BJ$18,'Female - Rev'!$A7-35,0),0.03999)","v":8.0999999999999996E-3},{"$f":"MIN(OFFSET(Female!BK$18,'Female - Rev'!$A7-35,0),0.03999)","v":6.7999999999999996E-3},{"$f":"MIN(OFFSET(Female!BL$18,'Female - Rev'!$A7-35,0),0.03999)","v":5.3E-3},{"$f":"MIN(OFFSET(Female!BM$18,'Female - Rev'!$A7-35,0),0.03999)","v":3.8E-3},{"$f":"MIN(OFFSET(Female!BN$18,'Female - Rev'!$A7-35,0),0.03999)","v":2.2000000000000001E-3},{"$f":"MIN(OFFSET(Female!BO$18,'Female - Rev'!$A7-35,0),0.03999)","v":2.2000000000000001E-3},{"$f":"MIN(OFFSET(Female!BP$18,'Female - Rev'!$A7-35,0),0.03999)","v":2.3999999999999998E-3},{"$f":"MIN(OFFSET(Female!BQ$18,'Female - Rev'!$A7-35,0),0.03999)","v":2.8E-3},{"$f":"MIN(OFFSET(Female!BR$18,'Female - Rev'!$A7-35,0),0.03999)","v":3.3E-3},{"$f":"MIN(OFFSET(Female!BS$18,'Female - Rev'!$A7-35,0),0.03999)","v":3.8999999999999998E-3},{"$f":"MIN(OFFSET(Female!BT$18,'Female - Rev'!$A7-35,0),0.03999)","v":4.4999999999999997E-3},{"$f":"MIN(OFFSET(Female!BU$18,'Female - Rev'!$A7-35,0),0.03999)","v":5.1000000000000004E-3},{"$f":"MIN(OFFSET(Female!BV$18,'Female - Rev'!$A7-35,0),0.03999)","v":5.7999999999999996E-3},{"$f":"MIN(OFFSET(Female!BW$18,'Female - Rev'!$A7-35,0),0.03999)","v":6.3E-3},{"$f":"MIN(OFFSET(Female!BX$18,'Female - Rev'!$A7-35,0),0.03999)","v":6.7000000000000002E-3},{"$f":"MIN(OFFSET(Female!BY$18,'Female - Rev'!$A7-35,0),0.03999)","v":7.1000000000000004E-3},{"$f":"MIN(OFFSET(Female!BZ$18,'Female - Rev'!$A7-35,0),0.03999)","v":7.4000000000000003E-3},{"$f":"MIN(OFFSET(Female!CA$18,'Female - Rev'!$A7-35,0),0.03999)","v":7.7999999999999996E-3},{"$f":"MIN(OFFSET(Female!CB$18,'Female - Rev'!$A7-35,0),0.03999)","v":8.0999999999999996E-3},{"$f":"MIN(OFFSET(Female!CC$18,'Female - Rev'!$A7-35,0),0.03999)","v":8.3999999999999995E-3},{"$f":"MIN(OFFSET(Female!CD$18,'Female - Rev'!$A7-35,0),0.03999)","v":8.6999999999999994E-3},{"$f":"MIN(OFFSET(Female!CE$18,'Female - Rev'!$A7-35,0),0.03999)","v":8.8000000000000005E-3},{"$f":"MIN(OFFSET(Female!CF$18,'Female - Rev'!$A7-35,0),0.03999)","v":8.8999999999999999E-3},{"$f":"MIN(OFFSET(Female!CG$18,'Female - Rev'!$A7-35,0),0.03999)","v":8.9999999999999993E-3},{"$f":"MIN(OFFSET(Female!CH$18,'Female - Rev'!$A7-35,0),0.03999)","v":9.1000000000000004E-3}]
[90,90,{"$f":"MIN(OFFSET(Female!B$18,'Female - Rev'!$A8-35,0),0.03999)","v":-7.6E-3},{"$f":"MIN(OFFSET(Female!C$18,'Female - Rev'!$A8-35,0),0.03999)","v":-7.0000000000000001E-3},{"$f":"MIN(OFFSET(Female!D$18,'Female - Rev'!$A8-35,0),0.03999)","v":-6.4000000000000003E-3},{"$f":"MIN(OFFSET(Female!E$18,'Female - Rev'!$A8-35,0),0.03999)","v":-5.7999999999999996E-3},{"$f":"MIN(OFFSET(Female!F$18,'Female - Rev'!$A8-35,0),0.03999)","v":-5.1000000000000004E-3},{"$f":"MIN(OFFSET(Female!G$18,'Female - Rev'!$A8-35,0),0.03999)","v":-4.3E-3},{"$f":"MIN(OFFSET(Female!H$18,'Female - Rev'!$A8-35,0),0.03999)","v":-3.3999999999999998E-3},{"$f":"MIN(OFFSET(Female!I$18,'Female - Rev'!$A8-35,0),0.03999)","v":-2.2000000000000001E-3},{"$f":"MIN(OFFSET(Female!J$18,'Female - Rev'!$A8-35,0),0.03999)","v":-8.0000000000000004E-4},{"$f":"MIN(OFFSET(Female!K$18,'Female - Rev'!$A8-35,0),0.03999)","v":8.0000000000000004E-4},{"$f":"MIN(OFFSET(Female!L$18,'Female - Rev'!$A8-35,0),0.03999)","v":2.7000000000000001E-3},{"$f":"MIN(OFFSET(Female!M$18,'Female - Rev'!$A8-35,0),0.03999)","v":4.7999999999999996E-3},{"$f":"MIN(OFFSET(Female!N$18,'Female - Rev'!$A8-35,0),0.03999)","v":7.0000000000000001E-3},{"$f":"MIN(OFFSET(Female!O$18,'Female - Rev'!$A8-35,0),0.03999)","v":9.4000000000000004E-3},{"$f":"MIN(OFFSET(Female!P$18,'Female - Rev'!$A8-35,0),0.03999)","v":1.18E-2},{"$f":"MIN(OFFSET(Female!Q$18,'Female - Rev'!$A8-35,0),0.03999)","v":1.4200000000000001E-2},{"$f":"MIN(OFFSET(Female!R$18,'Female - Rev'!$A8-35,0),0.03999)","v":1.6299999999999999E-2},{"$f":"MIN(OFFSET(Female!S$18,'Female - Rev'!$A8-35,0),0.03999)","v":1.8100000000000002E-2},{"$f":"MIN(OFFSET(Female!T$18,'Female - Rev'!$A8-35,0),0.03999)","v":1.9599999999999999E-2},{"$f":"MIN(OFFSET(Female!U$18,'Female - Rev'!$A8-35,0),0.03999)","v":2.07E-2},{"$f":"MIN(OFFSET(Female!V$18,'Female - Rev'!$A8-35,0),0.03999)","v":2.1399999999999999E-2},{"$f":"MIN(OFFSET(Female!W$18,'Female - Rev'!$A8-35,0),0.03999)","v":2.1700000000000001E-2},{"$f":"MIN(OFFSET(Female!X$18,'Female - Rev'!$A8-35,0),0.03999)","v":2.1700000000000001E-2},{"$f":"MIN(OFFSET(Female!Y$18,'Female - Rev'!$A8-35,0),0.03999)","v":2.12E-2},{"$f":"MIN(OFFSET(Female!Z$18,'Female - Rev'!$A8-35,0),0.03999)","v":2.0400000000000001E-2},{"$f":"MIN(OFFSET(Female!AA$18,'Female - Rev'!$A8-35,0),0.03999)","v":1.9300000000000001E-2},{"$f":"MIN(OFFSET(Female!AB$18,'Female - Rev'!$A8-35,0),0.03999)","v":1.7899999999999999E-2},{"$f":"MIN(OFFSET(Female!AC$18,'Female - Rev'!$A8-35,0),0.03999)","v":1.6299999999999999E-2},{"$f":"MIN(OFFSET(Female!AD$18,'Female - Rev'!$A8-35,0),0.03999)","v":1.46E-2},{"$f":"MIN(OFFSET(Female!AE$18,'Female - Rev'!$A8-35,0),0.03999)","v":1.29E-2},{"$f":"MIN(OFFSET(Female!AF$18,'Female - Rev'!$A8-35,0),0.03999)","v":1.1299999999999999E-2},{"$f":"MIN(OFFSET(Female!AG$18,'Female - Rev'!$A8-35,0),0.03999)","v":9.7000000000000003E-3},{"$f":"MIN(OFFSET(Female!AH$18,'Female - Rev'!$A8-35,0),0.03999)","v":8.3000000000000001E-3},{"$f":"MIN(OFFSET(Female!AI$18,'Female - Rev'!$A8-35,0),0.03999)","v":7.1000000000000004E-3},{"$f":"MIN(OFFSET(Female!AJ$18,'Female - Rev'!$A8-35,0),0.03999)","v":6.1000000000000004E-3},{"$f":"MIN(OFFSET(Female!AK$18,'Female - Rev'!$A8-35,0),0.03999)","v":5.3E-3},{"$f":"MIN(OFFSET(Female!AL$18,'Female - Rev'!$A8-35,0),0.03999)","v":4.4999999999999997E-3},{"$f":"MIN(OFFSET(Female!AM$18,'Female - Rev'!$A8-35,0),0.03999)","v":3.7000000000000002E-3},{"$f":"MIN(OFFSET(Female!AN$18,'Female - Rev'!$A8-35,0),0.03999)","v":2.7000000000000001E-3},{"$f":"MIN(OFFSET(Female!AO$18,'Female - Rev'!$A8-35,0),0.03999)","v":1.4E-3},{"$f":"MIN(OFFSET(Female!AP$18,'Female - Rev'!$A8-35,0),0.03999)","v":-1E-4},{"$f":"MIN(OFFSET(Female!AQ$18,'Female - Rev'!$A8-35,0),0.03999)","v":-1.9E-3},{"$f":"MIN(OFFSET(Female!AR$18,'Female - Rev'!$A8-35,0),0.03999)","v":-3.5999999999999999E-3},{"$f":"MIN(OFFSET(Female!AS$18,'Female - Rev'!$A8-35,0),0.03999)","v":-5.1999999999999998E-3},{"$f":"MIN(OFFSET(Female!AT$18,'Female - Rev'!$A8-35,0),0.03999)","v":-6.4000000000000003E-3},{"$f":"MIN(OFFSET(Female!AU$18,'Female - Rev'!$A8-35,0),0.03999)","v":-7.0000000000000001E-3},{"$f":"MIN(OFFSET(Female!AV$18,'Female - Rev'!$A8-35,0),0.03999)","v":-7.0000000000000001E-3},{"$f":"MIN(OFFSET(Female!AW$18,'Female - Rev'!$A8-35,0),0.03999)","v":-6.4000000000000003E-3},{"$f":"MIN(OFFSET(Female!AX$18,'Female - Rev'!$A8-35,0),0.03999)","v":-5.0000000000000001E-3},{"$f":"MIN(OFFSET(Female!AY$18,'Female - Rev'!$A8-35,0),0.03999)","v":-2.8999999999999998E-3},{"$f":"MIN(OFFSET(Female!AZ$18,'Female - Rev'!$A8-35,0),0.03999)","v":-4.0000000000000002E-4},{"$f":"MIN(OFFSET(Female!BA$18,'Female - Rev'!$A8-35,0),0.03999)","v":2.3E-3},{"$f":"MIN(OFFSET(Female!BB$18,'Female - Rev'!$A8-35,0),0.03999)","v":5.0000000000000001E-3},{"$f":"MIN(OFFSET(Female!BC$18,'Female - Rev'!$A8-35,0),0.03999)","v":7.4000000000000003E-3},{"$f":"MIN(OFFSET(Female!BD$18,'Female - Rev'!$A8-35,0),0.03999)","v":9.2999999999999992E-3},{"$f":"MIN(OFFSET(Female!BE$18,'Female - Rev'!$A8-35,0),0.03999)","v":1.06E-2},{"$f":"MIN(OFFSET(Female!BF$18,'Female - Rev'!$A8-35,0),0.03999)","v":1.12E-2},{"$f":"MIN(OFFSET(Female!BG$18,'Female - Rev'!$A8-35,0),0.03999)","v":1.12E-2},{"$f":"MIN(OFFSET(Female!BH$18,'Female - Rev'!$A8-35,0),0.03999)","v":1.0699999999999999E-2},{"$f":"MIN(OFFSET(Female!BI$18,'Female - Rev'!$A8-35,0),0.03999)","v":9.7000000000000003E-3},{"$f":"MIN(OFFSET(Female!BJ$18,'Female - Rev'!$A8-35,0),0.03999)","v":8.3999999999999995E-3},{"$f":"MIN(OFFSET(Female!BK$18,'Female - Rev'!$A8-35,0),0.03999)","v":6.8999999999999999E-3},{"$f":"MIN(OFFSET(Female!BL$18,'Female - Rev'!$A8-35,0),0.03999)","v":5.3E-3},{"$f":"MIN(OFFSET(Female!BM$18,'Female - Rev'!$A8-35,0),0.03999)","v":3.7000000000000002E-3},{"$f":"MIN(OFFSET(Female!BN$18,'Female - Rev'!$A8-35,0),0.03999)","v":2E-3},{"$f":"MIN(OFFSET(Female!BO$18,'Female - Rev'!$A8-35,0),0.03999)","v":2.0999999999999999E-3},{"$f":"MIN(OFFSET(Female!BP$18,'Female - Rev'!$A8-35,0),0.03999)","v":2.3E-3},{"$f":"MIN(OFFSET(Female!BQ$18,'Female - Rev'!$A8-35,0),0.03999)","v":2.7000000000000001E-3},{"$f":"MIN(OFFSET(Female!BR$18,'Female - Rev'!$A8-35,0),0.03999)","v":3.3E-3},{"$f":"MIN(OFFSET(Female!BS$18,'Female - Rev'!$A8-35,0),0.03999)","v":3.8999999999999998E-3},{"$f":"MIN(OFFSET(Female!BT$18,'Female - Rev'!$A8-35,0),0.03999)","v":4.5999999999999999E-3},{"$f":"MIN(OFFSET(Female!BU$18,'Female - Rev'!$A8-35,0),0.03999)","v":5.3E-3},{"$f":"MIN(OFFSET(Female!BV$18,'Female - Rev'!$A8-35,0),0.03999)","v":6.0000000000000001E-3},{"$f":"MIN(OFFSET(Female!BW$18,'Female - Rev'!$A8-35,0),0.03999)","v":6.6E-3},{"$f":"MIN(OFFSET(Female!BX$18,'Female - Rev'!$A8-35,0),0.03999)","v":7.0000000000000001E-3},{"$f":"MIN(OFFSET(Female!BY$18,'Female - Rev'!$A8-35,0),0.03999)","v":7.4000000000000003E-3},{"$f":"MIN(OFFSET(Female!BZ$18,'Female - Rev'!$A8-35,0),0.03999)","v":7.7999999999999996E-3},{"$f":"MIN(OFFSET(Female!CA$18,'Female - Rev'!$A8-35,0),0.03999)","v":8.0999999999999996E-3},{"$f":"MIN(OFFSET(Female!CB$18,'Female - Rev'!$A8-35,0),0.03999)","v":8.3999999999999995E-3},{"$f":"MIN(OFFSET(Female!CC$18,'Female - Rev'!$A8-35,0),0.03999)","v":8.6999999999999994E-3},{"$f":"MIN(OFFSET(Female!CD$18,'Female - Rev'!$A8-35,0),0.03999)","v":8.8999999999999999E-3},{"$f":"MIN(OFFSET(Female!CE$18,'Female - Rev'!$A8-35,0),0.03999)","v":8.9999999999999993E-3},{"$f":"MIN(OFFSET(Female!CF$18,'Female - Rev'!$A8-35,0),0.03999)","v":9.1000000000000004E-3},{"$f":"MIN(OFFSET(Female!CG$18,'Female - Rev'!$A8-35,0),0.03999)","v":9.1999999999999998E-3},{"$f":"MIN(OFFSET(Female!CH$18,'Female - Rev'!$A8-35,0),0.03999)","v":9.2999999999999992E-3}]
[89,89,{"$f":"MIN(OFFSET(Female!B$18,'Female - Rev'!$A9-35,0),0.03999)","v":-5.5999999999999999E-3},{"$f":"MIN(OFFSET(Female!C$18,'Female - Rev'!$A9-35,0),0.03999)","v":-5.3E-3},{"$f":"MIN(OFFSET(Female!D$18,'Female - Rev'!$A9-35,0),0.03999)","v":-5.0000000000000001E-3},{"$f":"MIN(OFFSET(Female!E$18,'Female - Rev'!$A9-35,0),0.03999)","v":-4.5999999999999999E-3},{"$f":"MIN(OFFSET(Female!F$18,'Female - Rev'!$A9-35,0),0.03999)","v":-4.1000000000000003E-3},{"$f":"MIN(OFFSET(Female!G$18,'Female - Rev'!$A9-35,0),0.03999)","v":-3.5000000000000001E-3},{"$f":"MIN(OFFSET(Female!H$18,'Female - Rev'!$A9-35,0),0.03999)","v":-2.8E-3},{"$f":"MIN(OFFSET(Female!I$18,'Female - Rev'!$A9-35,0),0.03999)","v":-1.8E-3},{"$f":"MIN(OFFSET(Female!J$18,'Female - Rev'!$A9-35,0),0.03999)","v":-5.0000000000000001E-4},{"$f":"MIN(OFFSET(Female!K$18,'Female - Rev'!$A9-35,0),0.03999)","v":1E-3},{"$f":"MIN(OFFSET(Female!L$18,'Female - Rev'!$A9-35,0),0.03999)","v":2.8E-3},{"$f":"MIN(OFFSET(Female!M$18,'Female - Rev'!$A9-35,0),0.03999)","v":4.7999999999999996E-3},{"$f":"MIN(OFFSET(Female!N$18,'Female - Rev'!$A9-35,0),0.03999)","v":7.0000000000000001E-3},{"$f":"MIN(OFFSET(Female!O$18,'Female - Rev'!$A9-35,0),0.03999)","v":9.4000000000000004E-3},{"$f":"MIN(OFFSET(Female!P$18,'Female - Rev'!$A9-35,0),0.03999)","v":1.1900000000000001E-2},{"$f":"MIN(OFFSET(Female!Q$18,'Female - Rev'!$A9-35,0),0.03999)","v":1.43E-2},{"$f":"MIN(OFFSET(Female!R$18,'Female - Rev'!$A9-35,0),0.03999)","v":1.6500000000000001E-2},{"$f":"MIN(OFFSET(Female!S$18,'Female - Rev'!$A9-35,0),0.03999)","v":1.84E-2},{"$f":"MIN(OFFSET(Female!T$18,'Female - Rev'!$A9-35,0),0.03999)","v":0.02},{"$f":"MIN(OFFSET(Female!U$18,'Female - Rev'!$A9-35,0),0.03999)","v":2.12E-2},{"$f":"MIN(OFFSET(Female!V$18,'Female - Rev'!$A9-35,0),0.03999)","v":2.1999999999999999E-2},{"$f":"MIN(OFFSET(Female!W$18,'Female - Rev'!$A9-35,0),0.03999)","v":2.24E-2},{"$f":"MIN(OFFSET(Female!X$18,'Female - Rev'!$A9-35,0),0.03999)","v":2.24E-2},{"$f":"MIN(OFFSET(Female!Y$18,'Female - Rev'!$A9-35,0),0.03999)","v":2.2100000000000002E-2},{"$f":"MIN(OFFSET(Female!Z$18,'Female - Rev'!$A9-35,0),0.03999)","v":2.1299999999999999E-2},{"$f":"MIN(OFFSET(Female!AA$18,'Female - Rev'!$A9-35,0),0.03999)","v":2.0199999999999999E-2},{"$f":"MIN(OFFSET(Female!AB$18,'Female - Rev'!$A9-35,0),0.03999)","v":1.8800000000000001E-2},{"$f":"MIN(OFFSET(Female!AC$18,'Female - Rev'!$A9-35,0),0.03999)","v":1.72E-2},{"$f":"MIN(OFFSET(Female!AD$18,'Female - Rev'!$A9-35,0),0.03999)","v":1.54E-2},{"$f":"MIN(OFFSET(Female!AE$18,'Female - Rev'!$A9-35,0),0.03999)","v":1.3599999999999999E-2},{"$f":"MIN(OFFSET(Female!AF$18,'Female - Rev'!$A9-35,0),0.03999)","v":1.18E-2},{"$f":"MIN(OFFSET(Female!AG$18,'Female - Rev'!$A9-35,0),0.03999)","v":1.0200000000000001E-2},{"$f":"MIN(OFFSET(Female!AH$18,'Female - Rev'!$A9-35,0),0.03999)","v":8.8000000000000005E-3},{"$f":"MIN(OFFSET(Female!AI$18,'Female - Rev'!$A9-35,0),0.03999)","v":7.6E-3},{"$f":"MIN(OFFSET(Female!AJ$18,'Female - Rev'!$A9-35,0),0.03999)","v":6.6E-3},{"$f":"MIN(OFFSET(Female!AK$18,'Female - Rev'!$A9-35,0),0.03999)","v":5.7999999999999996E-3},{"$f":"MIN(OFFSET(Female!AL$18,'Female - Rev'!$A9-35,0),0.03999)","v":5.1000000000000004E-3},{"$f":"MIN(OFFSET(Female!AM$18,'Female - Rev'!$A9-35,0),0.03999)","v":4.4000000000000003E-3},{"$f":"MIN(OFFSET(Female!AN$18,'Female - Rev'!$A9-35,0),0.03999)","v":3.3999999999999998E-3},{"$f":"MIN(OFFSET(Female!AO$18,'Female - Rev'!$A9-35,0),0.03999)","v":2.2000000000000001E-3},{"$f":"MIN(OFFSET(Female!AP$18,'Female - Rev'!$A9-35,0),0.03999)","v":5.9999999999999995E-4},{"$f":"MIN(OFFSET(Female!AQ$18,'Female - Rev'!$A9-35,0),0.03999)","v":-1.1999999999999999E-3},{"$f":"MIN(OFFSET(Female!AR$18,'Female - Rev'!$A9-35,0),0.03999)","v":-3.0999999999999999E-3},{"$f":"MIN(OFFSET(Female!AS$18,'Female - Rev'!$A9-35,0),0.03999)","v":-4.7000000000000002E-3},{"$f":"MIN(OFFSET(Female!AT$18,'Female - Rev'!$A9-35,0),0.03999)","v":-5.8999999999999999E-3},{"$f":"MIN(OFFSET(Female!AU$18,'Female - Rev'!$A9-35,0),0.03999)","v":-6.6E-3},{"$f":"MIN(OFFSET(Female!AV$18,'Female - Rev'!$A9-35,0),0.03999)","v":-6.7000000000000002E-3},{"$f":"MIN(OFFSET(Female!AW$18,'Female - Rev'!$A9-35,0),0.03999)","v":-6.0000000000000001E-3},{"$f":"MIN(OFFSET(Female!AX$18,'Female - Rev'!$A9-35,0),0.03999)","v":-4.4999999999999997E-3},{"$f":"MIN(OFFSET(Female!AY$18,'Female - Rev'!$A9-35,0),0.03999)","v":-2.3E-3},{"$f":"MIN(OFFSET(Female!AZ$18,'Female - Rev'!$A9-35,0),0.03999)","v":2.9999999999999997E-4},{"$f":"MIN(OFFSET(Female!BA$18,'Female - Rev'!$A9-35,0),0.03999)","v":3.0999999999999999E-3},{"$f":"MIN(OFFSET(Female!BB$18,'Female - Rev'!$A9-35,0),0.03999)","v":5.8999999999999999E-3},{"$f":"MIN(OFFSET(Female!BC$18,'Female - Rev'!$A9-35,0),0.03999)","v":8.3000000000000001E-3},{"$f":"MIN(OFFSET(Female!BD$18,'Female - Rev'!$A9-35,0),0.03999)","v":1.0200000000000001E-2},{"$f":"MIN(OFFSET(Female!BE$18,'Female - Rev'!$A9-35,0),0.03999)","v":1.15E-2},{"$f":"MIN(OFFSET(Female!BF$18,'Female - Rev'!$A9-35,0),0.03999)","v":1.2E-2},{"$f":"MIN(OFFSET(Female!BG$18,'Female - Rev'!$A9-35,0),0.03999)","v":1.1900000000000001E-2},{"$f":"MIN(OFFSET(Female!BH$18,'Female - Rev'!$A9-35,0),0.03999)","v":1.12E-2},{"$f":"MIN(OFFSET(Female!BI$18,'Female - Rev'!$A9-35,0),0.03999)","v":0.01},{"$f":"MIN(OFFSET(Female!BJ$18,'Female - Rev'!$A9-35,0),0.03999)","v":8.5000000000000006E-3},{"$f":"MIN(OFFSET(Female!BK$18,'Female - Rev'!$A9-35,0),0.03999)","v":6.8999999999999999E-3},{"$f":"MIN(OFFSET(Female!BL$18,'Female - Rev'!$A9-35,0),0.03999)","v":5.3E-3},{"$f":"MIN(OFFSET(Female!BM$18,'Female - Rev'!$A9-35,0),0.03999)","v":3.5999999999999999E-3},{"$f":"MIN(OFFSET(Female!BN$18,'Female - Rev'!$A9-35,0),0.03999)","v":1.9E-3},{"$f":"MIN(OFFSET(Female!BO$18,'Female - Rev'!$A9-35,0),0.03999)","v":2E-3},{"$f":"MIN(OFFSET(Female!BP$18,'Female - Rev'!$A9-35,0),0.03999)","v":2.2000000000000001E-3},{"$f":"MIN(OFFSET(Female!BQ$18,'Female - Rev'!$A9-35,0),0.03999)","v":2.7000000000000001E-3},{"$f":"MIN(OFFSET(Female!BR$18,'Female - Rev'!$A9-35,0),0.03999)","v":3.3E-3},{"$f":"MIN(OFFSET(Female!BS$18,'Female - Rev'!$A9-35,0),0.03999)","v":4.0000000000000001E-3},{"$f":"MIN(OFFSET(Female!BT$18,'Female - Rev'!$A9-35,0),0.03999)","v":4.7000000000000002E-3},{"$f":"MIN(OFFSET(Female!BU$18,'Female - Rev'!$A9-35,0),0.03999)","v":5.4999999999999997E-3},{"$f":"MIN(OFFSET(Female!BV$18,'Female - Rev'!$A9-35,0),0.03999)","v":6.3E-3},{"$f":"MIN(OFFSET(Female!BW$18,'Female - Rev'!$A9-35,0),0.03999)","v":6.8999999999999999E-3},{"$f":"MIN(OFFSET(Female!BX$18,'Female - Rev'!$A9-35,0),0.03999)","v":7.4000000000000003E-3},{"$f":"MIN(OFFSET(Female!BY$18,'Female - Rev'!$A9-35,0),0.03999)","v":7.7999999999999996E-3},{"$f":"MIN(OFFSET(Female!BZ$18,'Female - Rev'!$A9-35,0),0.03999)","v":8.0999999999999996E-3},{"$f":"MIN(OFFSET(Female!CA$18,'Female - Rev'!$A9-35,0),0.03999)","v":8.5000000000000006E-3},{"$f":"MIN(OFFSET(Female!CB$18,'Female - Rev'!$A9-35,0),0.03999)","v":8.8000000000000005E-3},{"$f":"MIN(OFFSET(Female!CC$18,'Female - Rev'!$A9-35,0),0.03999)","v":8.8999999999999999E-3},{"$f":"MIN(OFFSET(Female!CD$18,'Female - Rev'!$A9-35,0),0.03999)","v":9.1000000000000004E-3},{"$f":"MIN(OFFSET(Female!CE$18,'Female - Rev'!$A9-35,0),0.03999)","v":9.1999999999999998E-3},{"$f":"MIN(OFFSET(Female!CF$18,'Female - Rev'!$A9-35,0),0.03999)","v":9.1999999999999998E-3},{"$f":"MIN(OFFSET(Female!CG$18,'Female - Rev'!$A9-35,0),0.03999)","v":9.2999999999999992E-3},{"$f":"MIN(OFFSET(Female!CH$18,'Female - Rev'!$A9-35,0),0.03999)","v":9.4000000000000004E-3}]
[88,88,{"$f":"MIN(OFFSET(Female!B$18,'Female - Rev'!$A10-35,0),0.03999)","v":-3.5000000000000001E-3},{"$f":"MIN(OFFSET(Female!C$18,'Female - Rev'!$A10-35,0),0.03999)","v":-3.5000000000000001E-3},{"$f":"MIN(OFFSET(Female!D$18,'Female - Rev'!$A10-35,0),0.03999)","v":-3.3999999999999998E-3},{"$f":"MIN(OFFSET(Female!E$18,'Female - Rev'!$A10-35,0),0.03999)","v":-3.2000000000000002E-3},{"$f":"MIN(OFFSET(Female!F$18,'Female - Rev'!$A10-35,0),0.03999)","v":-3.0000000000000001E-3},{"$f":"MIN(OFFSET(Female!G$18,'Female - Rev'!$A10-35,0),0.03999)","v":-2.5999999999999999E-3},{"$f":"MIN(OFFSET(Female!H$18,'Female - Rev'!$A10-35,0),0.03999)","v":-2E-3},{"$f":"MIN(OFFSET(Female!I$18,'Female - Rev'!$A10-35,0),0.03999)","v":-1.1999999999999999E-3},{"$f":"MIN(OFFSET(Female!J$18,'Female - Rev'!$A10-35,0),0.03999)","v":-1E-4},{"$f":"MIN(OFFSET(Female!K$18,'Female - Rev'!$A10-35,0),0.03999)","v":1.2999999999999999E-3},{"$f":"MIN(OFFSET(Female!L$18,'Female - Rev'!$A10-35,0),0.03999)","v":3.0000000000000001E-3},{"$f":"MIN(OFFSET(Female!M$18,'Female - Rev'!$A10-35,0),0.03999)","v":5.0000000000000001E-3},{"$f":"MIN(OFFSET(Female!N$18,'Female - Rev'!$A10-35,0),0.03999)","v":7.1999999999999998E-3},{"$f":"MIN(OFFSET(Female!O$18,'Female - Rev'!$A10-35,0),0.03999)","v":9.4999999999999998E-3},{"$f":"MIN(OFFSET(Female!P$18,'Female - Rev'!$A10-35,0),0.03999)","v":1.2E-2},{"$f":"MIN(OFFSET(Female!Q$18,'Female - Rev'!$A10-35,0),0.03999)","v":1.43E-2},{"$f":"MIN(OFFSET(Female!R$18,'Female - Rev'!$A10-35,0),0.03999)","v":1.66E-2},{"$f":"MIN(OFFSET(Female!S$18,'Female - Rev'!$A10-35,0),0.03999)","v":1.8499999999999999E-2},{"$f":"MIN(OFFSET(Female!T$18,'Female - Rev'!$A10-35,0),0.03999)","v":2.0199999999999999E-2},{"$f":"MIN(OFFSET(Female!U$18,'Female - Rev'!$A10-35,0),0.03999)","v":2.1499999999999998E-2},{"$f":"MIN(OFFSET(Female!V$18,'Female - Rev'!$A10-35,0),0.03999)","v":2.24E-2},{"$f":"MIN(OFFSET(Female!W$18,'Female - Rev'!$A10-35,0),0.03999)","v":2.3E-2},{"$f":"MIN(OFFSET(Female!X$18,'Female - Rev'!$A10-35,0),0.03999)","v":2.3099999999999999E-2},{"$f":"MIN(OFFSET(Female!Y$18,'Female - Rev'!$A10-35,0),0.03999)","v":2.29E-2},{"$f":"MIN(OFFSET(Female!Z$18,'Female - Rev'!$A10-35,0),0.03999)","v":2.2200000000000001E-2},{"$f":"MIN(OFFSET(Female!AA$18,'Female - Rev'!$A10-35,0),0.03999)","v":2.1100000000000001E-2},{"$f":"MIN(OFFSET(Female!AB$18,'Female - Rev'!$A10-35,0),0.03999)","v":1.9699999999999999E-2},{"$f":"MIN(OFFSET(Female!AC$18,'Female - Rev'!$A10-35,0),0.03999)","v":1.7899999999999999E-2},{"$f":"MIN(OFFSET(Female!AD$18,'Female - Rev'!$A10-35,0),0.03999)","v":1.6E-2},{"$f":"MIN(OFFSET(Female!AE$18,'Female - Rev'!$A10-35,0),0.03999)","v":1.41E-2},{"$f":"MIN(OFFSET(Female!AF$18,'Female - Rev'!$A10-35,0),0.03999)","v":1.23E-2},{"$f":"MIN(OFFSET(Female!AG$18,'Female - Rev'!$A10-35,0),0.03999)","v":1.06E-2},{"$f":"MIN(OFFSET(Female!AH$18,'Female - Rev'!$A10-35,0),0.03999)","v":9.1000000000000004E-3},{"$f":"MIN(OFFSET(Female!AI$18,'Female - Rev'!$A10-35,0),0.03999)","v":7.9000000000000008E-3},{"$f":"MIN(OFFSET(Female!AJ$18,'Female - Rev'!$A10-35,0),0.03999)","v":7.0000000000000001E-3},{"$f":"MIN(OFFSET(Female!AK$18,'Female - Rev'!$A10-35,0),0.03999)","v":6.3E-3},{"$f":"MIN(OFFSET(Female!AL$18,'Female - Rev'!$A10-35,0),0.03999)","v":5.7000000000000002E-3},{"$f":"MIN(OFFSET(Female!AM$18,'Female - Rev'!$A10-35,0),0.03999)","v":5.0000000000000001E-3},{"$f":"MIN(OFFSET(Female!AN$18,'Female - Rev'!$A10-35,0),0.03999)","v":4.1000000000000003E-3},{"$f":"MIN(OFFSET(Female!AO$18,'Female - Rev'!$A10-35,0),0.03999)","v":2.8999999999999998E-3},{"$f":"MIN(OFFSET(Female!AP$18,'Female - Rev'!$A10-35,0),0.03999)","v":1.2999999999999999E-3},{"$f":"MIN(OFFSET(Female!AQ$18,'Female - Rev'!$A10-35,0),0.03999)","v":-5.9999999999999995E-4},{"$f":"MIN(OFFSET(Female!AR$18,'Female - Rev'!$A10-35,0),0.03999)","v":-2.5000000000000001E-3},{"$f":"MIN(OFFSET(Female!AS$18,'Female - Rev'!$A10-35,0),0.03999)","v":-4.1999999999999997E-3},{"$f":"MIN(OFFSET(Female!AT$18,'Female - Rev'!$A10-35,0),0.03999)","v":-5.4999999999999997E-3},{"$f":"MIN(OFFSET(Female!AU$18,'Female - Rev'!$A10-35,0),0.03999)","v":-6.1999999999999998E-3},{"$f":"MIN(OFFSET(Female!AV$18,'Female - Rev'!$A10-35,0),0.03999)","v":-6.1999999999999998E-3},{"$f":"MIN(OFFSET(Female!AW$18,'Female - Rev'!$A10-35,0),0.03999)","v":-5.4999999999999997E-3},{"$f":"MIN(OFFSET(Female!AX$18,'Female - Rev'!$A10-35,0),0.03999)","v":-4.0000000000000001E-3},{"$f":"MIN(OFFSET(Female!AY$18,'Female - Rev'!$A10-35,0),0.03999)","v":-1.6999999999999999E-3},{"$f":"MIN(OFFSET(Female!AZ$18,'Female - Rev'!$A10-35,0),0.03999)","v":1E-3},{"$f":"MIN(OFFSET(Female!BA$18,'Female - Rev'!$A10-35,0),0.03999)","v":3.8999999999999998E-3},{"$f":"MIN(OFFSET(Female!BB$18,'Female - Rev'!$A10-35,0),0.03999)","v":6.7999999999999996E-3},{"$f":"MIN(OFFSET(Female!BC$18,'Female - Rev'!$A10-35,0),0.03999)","v":9.2999999999999992E-3},{"$f":"MIN(OFFSET(Female!BD$18,'Female - Rev'!$A10-35,0),0.03999)","v":1.12E-2},{"$f":"MIN(OFFSET(Female!BE$18,'Female - Rev'!$A10-35,0),0.03999)","v":1.23E-2},{"$f":"MIN(OFFSET(Female!BF$18,'Female - Rev'!$A10-35,0),0.03999)","v":1.2800000000000001E-2},{"$f":"MIN(OFFSET(Female!BG$18,'Female - Rev'!$A10-35,0),0.03999)","v":1.2500000000000001E-2},{"$f":"MIN(OFFSET(Female!BH$18,'Female - Rev'!$A10-35,0),0.03999)","v":1.1599999999999999E-2},{"$f":"MIN(OFFSET(Female!BI$18,'Female - Rev'!$A10-35,0),0.03999)","v":1.03E-2},{"$f":"MIN(OFFSET(Female!BJ$18,'Female - Rev'!$A10-35,0),0.03999)","v":8.6999999999999994E-3},{"$f":"MIN(OFFSET(Female!BK$18,'Female - Rev'!$A10-35,0),0.03999)","v":6.8999999999999999E-3},{"$f":"MIN(OFFSET(Female!BL$18,'Female - Rev'!$A10-35,0),0.03999)","v":5.1999999999999998E-3},{"$f":"MIN(OFFSET(Female!BM$18,'Female - Rev'!$A10-35,0),0.03999)","v":3.5000000000000001E-3},{"$f":"MIN(OFFSET(Female!BN$18,'Female - Rev'!$A10-35,0),0.03999)","v":1.8E-3},{"$f":"MIN(OFFSET(Female!BO$18,'Female - Rev'!$A10-35,0),0.03999)","v":1.9E-3},{"$f":"MIN(OFFSET(Female!BP$18,'Female - Rev'!$A10-35,0),0.03999)","v":2.2000000000000001E-3},{"$f":"MIN(OFFSET(Female!BQ$18,'Female - Rev'!$A10-35,0),0.03999)","v":2.7000000000000001E-3},{"$f":"MIN(OFFSET(Female!BR$18,'Female - Rev'!$A10-35,0),0.03999)","v":3.3E-3},{"$f":"MIN(OFFSET(Female!BS$18,'Female - Rev'!$A10-35,0),0.03999)","v":4.1000000000000003E-3},{"$f":"MIN(OFFSET(Female!BT$18,'Female - Rev'!$A10-35,0),0.03999)","v":4.8999999999999998E-3},{"$f":"MIN(OFFSET(Female!BU$18,'Female - Rev'!$A10-35,0),0.03999)","v":5.7999999999999996E-3},{"$f":"MIN(OFFSET(Female!BV$18,'Female - Rev'!$A10-35,0),0.03999)","v":6.6E-3},{"$f":"MIN(OFFSET(Female!BW$18,'Female - Rev'!$A10-35,0),0.03999)","v":7.1999999999999998E-3},{"$f":"MIN(OFFSET(Female!BX$18,'Female - Rev'!$A10-35,0),0.03999)","v":7.7000000000000002E-3},{"$f":"MIN(OFFSET(Female!BY$18,'Female - Rev'!$A10-35,0),0.03999)","v":8.0999999999999996E-3},{"$f":"MIN(OFFSET(Female!BZ$18,'Female - Rev'!$A10-35,0),0.03999)","v":8.5000000000000006E-3},{"$f":"MIN(OFFSET(Female!CA$18,'Female - Rev'!$A10-35,0),0.03999)","v":8.8000000000000005E-3},{"$f":"MIN(OFFSET(Female!CB$18,'Female - Rev'!$A10-35,0),0.03999)","v":8.9999999999999993E-3},{"$f":"MIN(OFFSET(Female!CC$18,'Female - Rev'!$A10-35,0),0.03999)","v":9.1000000000000004E-3},{"$f":"MIN(OFFSET(Female!CD$18,'Female - Rev'!$A10-35,0),0.03999)","v":9.1999999999999998E-3},{"$f":"MIN(OFFSET(Female!CE$18,'Female - Rev'!$A10-35,0),0.03999)","v":9.2999999999999992E-3},{"$f":"MIN(OFFSET(Female!CF$18,'Female - Rev'!$A10-35,0),0.03999)","v":9.4000000000000004E-3},{"$f":"MIN(OFFSET(Female!CG$18,'Female - Rev'!$A10-35,0),0.03999)","v":9.4999999999999998E-3},{"$f":"MIN(OFFSET(Female!CH$18,'Female - Rev'!$A10-35,0),0.03999)","v":9.5999999999999992E-3}]
[87,87,{"$f":"MIN(OFFSET(Female!B$18,'Female - Rev'!$A11-35,0),0.03999)","v":-1.4E-3},{"$f":"MIN(OFFSET(Female!C$18,'Female - Rev'!$A11-35,0),0.03999)","v":-1.5E-3},{"$f":"MIN(OFFSET(Female!D$18,'Female - Rev'!$A11-35,0),0.03999)","v":-1.6999999999999999E-3},{"$f":"MIN(OFFSET(Female!E$18,'Female - Rev'!$A11-35,0),0.03999)","v":-1.6999999999999999E-3},{"$f":"MIN(OFFSET(Female!F$18,'Female - Rev'!$A11-35,0),0.03999)","v":-1.6999999999999999E-3},{"$f":"MIN(OFFSET(Female!G$18,'Female - Rev'!$A11-35,0),0.03999)","v":-1.5E-3},{"$f":"MIN(OFFSET(Female!H$18,'Female - Rev'!$A11-35,0),0.03999)","v":-1.1000000000000001E-3},{"$f":"MIN(OFFSET(Female!I$18,'Female - Rev'!$A11-35,0),0.03999)","v":-4.0000000000000002E-4},{"$f":"MIN(OFFSET(Female!J$18,'Female - Rev'!$A11-35,0),0.03999)","v":5.9999999999999995E-4},{"$f":"MIN(OFFSET(Female!K$18,'Female - Rev'!$A11-35,0),0.03999)","v":1.8E-3},{"$f":"MIN(OFFSET(Female!L$18,'Female - Rev'!$A11-35,0),0.03999)","v":3.3999999999999998E-3},{"$f":"MIN(OFFSET(Female!M$18,'Female - Rev'!$A11-35,0),0.03999)","v":5.3E-3},{"$f":"MIN(OFFSET(Female!N$18,'Female - Rev'!$A11-35,0),0.03999)","v":7.4000000000000003E-3},{"$f":"MIN(OFFSET(Female!O$18,'Female - Rev'!$A11-35,0),0.03999)","v":9.7000000000000003E-3},{"$f":"MIN(OFFSET(Female!P$18,'Female - Rev'!$A11-35,0),0.03999)","v":1.21E-2},{"$f":"MIN(OFFSET(Female!Q$18,'Female - Rev'!$A11-35,0),0.03999)","v":1.44E-2},{"$f":"MIN(OFFSET(Female!R$18,'Female - Rev'!$A11-35,0),0.03999)","v":1.66E-2},{"$f":"MIN(OFFSET(Female!S$18,'Female - Rev'!$A11-35,0),0.03999)","v":1.8599999999999998E-2},{"$f":"MIN(OFFSET(Female!T$18,'Female - Rev'!$A11-35,0),0.03999)","v":2.0299999999999999E-2},{"$f":"MIN(OFFSET(Female!U$18,'Female - Rev'!$A11-35,0),0.03999)","v":2.1700000000000001E-2},{"$f":"MIN(OFFSET(Female!V$18,'Female - Rev'!$A11-35,0),0.03999)","v":2.2700000000000001E-2},{"$f":"MIN(OFFSET(Female!W$18,'Female - Rev'!$A11-35,0),0.03999)","v":2.3400000000000001E-2},{"$f":"MIN(OFFSET(Female!X$18,'Female - Rev'!$A11-35,0),0.03999)","v":2.3699999999999999E-2},{"$f":"MIN(OFFSET(Female!Y$18,'Female - Rev'!$A11-35,0),0.03999)","v":2.3599999999999999E-2},{"$f":"MIN(OFFSET(Female!Z$18,'Female - Rev'!$A11-35,0),0.03999)","v":2.3E-2},{"$f":"MIN(OFFSET(Female!AA$18,'Female - Rev'!$A11-35,0),0.03999)","v":2.1899999999999999E-2},{"$f":"MIN(OFFSET(Female!AB$18,'Female - Rev'!$A11-35,0),0.03999)","v":2.0400000000000001E-2},{"$f":"MIN(OFFSET(Female!AC$18,'Female - Rev'!$A11-35,0),0.03999)","v":1.8599999999999998E-2},{"$f":"MIN(OFFSET(Female!AD$18,'Female - Rev'!$A11-35,0),0.03999)","v":1.66E-2},{"$f":"MIN(OFFSET(Female!AE$18,'Female - Rev'!$A11-35,0),0.03999)","v":1.46E-2},{"$f":"MIN(OFFSET(Female!AF$18,'Female - Rev'!$A11-35,0),0.03999)","v":1.26E-2},{"$f":"MIN(OFFSET(Female!AG$18,'Female - Rev'!$A11-35,0),0.03999)","v":1.0800000000000001E-2},{"$f":"MIN(OFFSET(Female!AH$18,'Female - Rev'!$A11-35,0),0.03999)","v":9.2999999999999992E-3},{"$f":"MIN(OFFSET(Female!AI$18,'Female - Rev'!$A11-35,0),0.03999)","v":8.0999999999999996E-3},{"$f":"MIN(OFFSET(Female!AJ$18,'Female - Rev'!$A11-35,0),0.03999)","v":7.3000000000000001E-3},{"$f":"MIN(OFFSET(Female!AK$18,'Female - Rev'!$A11-35,0),0.03999)","v":6.6E-3},{"$f":"MIN(OFFSET(Female!AL$18,'Female - Rev'!$A11-35,0),0.03999)","v":6.1000000000000004E-3},{"$f":"MIN(OFFSET(Female!AM$18,'Female - Rev'!$A11-35,0),0.03999)","v":5.4999999999999997E-3},{"$f":"MIN(OFFSET(Female!AN$18,'Female - Rev'!$A11-35,0),0.03999)","v":4.7000000000000002E-3},{"$f":"MIN(OFFSET(Female!AO$18,'Female - Rev'!$A11-35,0),0.03999)","v":3.5000000000000001E-3},{"$f":"MIN(OFFSET(Female!AP$18,'Female - Rev'!$A11-35,0),0.03999)","v":2E-3},{"$f":"MIN(OFFSET(Female!AQ$18,'Female - Rev'!$A11-35,0),0.03999)","v":1E-4},{"$f":"MIN(OFFSET(Female!AR$18,'Female - Rev'!$A11-35,0),0.03999)","v":-1.9E-3},{"$f":"MIN(OFFSET(Female!AS$18,'Female - Rev'!$A11-35,0),0.03999)","v":-3.5999999999999999E-3},{"$f":"MIN(OFFSET(Female!AT$18,'Female - Rev'!$A11-35,0),0.03999)","v":-5.0000000000000001E-3},{"$f":"MIN(OFFSET(Female!AU$18,'Female - Rev'!$A11-35,0),0.03999)","v":-5.7000000000000002E-3},{"$f":"MIN(OFFSET(Female!AV$18,'Female - Rev'!$A11-35,0),0.03999)","v":-5.7000000000000002E-3},{"$f":"MIN(OFFSET(Female!AW$18,'Female - Rev'!$A11-35,0),0.03999)","v":-5.0000000000000001E-3},{"$f":"MIN(OFFSET(Female!AX$18,'Female - Rev'!$A11-35,0),0.03999)","v":-3.3999999999999998E-3},{"$f":"MIN(OFFSET(Female!AY$18,'Female - Rev'!$A11-35,0),0.03999)","v":-1.1000000000000001E-3},{"$f":"MIN(OFFSET(Female!AZ$18,'Female - Rev'!$A11-35,0),0.03999)","v":1.6999999999999999E-3},{"$f":"MIN(OFFSET(Female!BA$18,'Female - Rev'!$A11-35,0),0.03999)","v":4.7999999999999996E-3},{"$f":"MIN(OFFSET(Female!BB$18,'Female - Rev'!$A11-35,0),0.03999)","v":7.7000000000000002E-3},{"$f":"MIN(OFFSET(Female!BC$18,'Female - Rev'!$A11-35,0),0.03999)","v":1.0200000000000001E-2},{"$f":"MIN(OFFSET(Female!BD$18,'Female - Rev'!$A11-35,0),0.03999)","v":1.2E-2},{"$f":"MIN(OFFSET(Female!BE$18,'Female - Rev'!$A11-35,0),0.03999)","v":1.3100000000000001E-2},{"$f":"MIN(OFFSET(Female!BF$18,'Female - Rev'!$A11-35,0),0.03999)","v":1.34E-2},{"$f":"MIN(OFFSET(Female!BG$18,'Female - Rev'!$A11-35,0),0.03999)","v":1.2999999999999999E-2},{"$f":"MIN(OFFSET(Female!BH$18,'Female - Rev'!$A11-35,0),0.03999)","v":1.2E-2},{"$f":"MIN(OFFSET(Female!BI$18,'Female - Rev'!$A11-35,0),0.03999)","v":1.0500000000000001E-2},{"$f":"MIN(OFFSET(Female!BJ$18,'Female - Rev'!$A11-35,0),0.03999)","v":8.8000000000000005E-3},{"$f":"MIN(OFFSET(Female!BK$18,'Female - Rev'!$A11-35,0),0.03999)","v":7.0000000000000001E-3},{"$f":"MIN(OFFSET(Female!BL$18,'Female - Rev'!$A11-35,0),0.03999)","v":5.1999999999999998E-3},{"$f":"MIN(OFFSET(Female!BM$18,'Female - Rev'!$A11-35,0),0.03999)","v":3.3999999999999998E-3},{"$f":"MIN(OFFSET(Female!BN$18,'Female - Rev'!$A11-35,0),0.03999)","v":1.6999999999999999E-3},{"$f":"MIN(OFFSET(Female!BO$18,'Female - Rev'!$A11-35,0),0.03999)","v":1.8E-3},{"$f":"MIN(OFFSET(Female!BP$18,'Female - Rev'!$A11-35,0),0.03999)","v":2.2000000000000001E-3},{"$f":"MIN(OFFSET(Female!BQ$18,'Female - Rev'!$A11-35,0),0.03999)","v":2.8E-3},{"$f":"MIN(OFFSET(Female!BR$18,'Female - Rev'!$A11-35,0),0.03999)","v":3.5000000000000001E-3},{"$f":"MIN(OFFSET(Female!BS$18,'Female - Rev'!$A11-35,0),0.03999)","v":4.3E-3},{"$f":"MIN(OFFSET(Female!BT$18,'Female - Rev'!$A11-35,0),0.03999)","v":5.1999999999999998E-3},{"$f":"MIN(OFFSET(Female!BU$18,'Female - Rev'!$A11-35,0),0.03999)","v":6.1000000000000004E-3},{"$f":"MIN(OFFSET(Female!BV$18,'Female - Rev'!$A11-35,0),0.03999)","v":6.8999999999999999E-3},{"$f":"MIN(OFFSET(Female!BW$18,'Female - Rev'!$A11-35,0),0.03999)","v":7.6E-3},{"$f":"MIN(OFFSET(Female!BX$18,'Female - Rev'!$A11-35,0),0.03999)","v":8.0999999999999996E-3},{"$f":"MIN(OFFSET(Female!BY$18,'Female - Rev'!$A11-35,0),0.03999)","v":8.5000000000000006E-3},{"$f":"MIN(OFFSET(Female!BZ$18,'Female - Rev'!$A11-35,0),0.03999)","v":8.8000000000000005E-3},{"$f":"MIN(OFFSET(Female!CA$18,'Female - Rev'!$A11-35,0),0.03999)","v":8.9999999999999993E-3},{"$f":"MIN(OFFSET(Female!CB$18,'Female - Rev'!$A11-35,0),0.03999)","v":9.1999999999999998E-3},{"$f":"MIN(OFFSET(Female!CC$18,'Female - Rev'!$A11-35,0),0.03999)","v":9.2999999999999992E-3},{"$f":"MIN(OFFSET(Female!CD$18,'Female - Rev'!$A11-35,0),0.03999)","v":9.4000000000000004E-3},{"$f":"MIN(OFFSET(Female!CE$18,'Female - Rev'!$A11-35,0),0.03999)","v":9.4999999999999998E-3},{"$f":"MIN(OFFSET(Female!CF$18,'Female - Rev'!$A11-35,0),0.03999)","v":9.4999999999999998E-3},{"$f":"MIN(OFFSET(Female!CG$18,'Female - Rev'!$A11-35,0),0.03999)","v":9.5999999999999992E-3},{"$f":"MIN(OFFSET(Female!CH$18,'Female - Rev'!$A11-35,0),0.03999)","v":9.7000000000000003E-3}]
[86,86,{"$f":"MIN(OFFSET(Female!B$18,'Female - Rev'!$A12-35,0),0.03999)","v":6.9999999999999999E-4},{"$f":"MIN(OFFSET(Female!C$18,'Female - Rev'!$A12-35,0),0.03999)","v":4.0000000000000002E-4},{"$f":"MIN(OFFSET(Female!D$18,'Female - Rev'!$A12-35,0),0.03999)","v":1E-4},{"$f":"MIN(OFFSET(Female!E$18,'Female - Rev'!$A12-35,0),0.03999)","v":-2.0000000000000001E-4},{"$f":"MIN(OFFSET(Female!F$18,'Female - Rev'!$A12-35,0),0.03999)","v":-2.9999999999999997E-4},{"$f":"MIN(OFFSET(Female!G$18,'Female - Rev'!$A12-35,0),0.03999)","v":-2.9999999999999997E-4},{"$f":"MIN(OFFSET(Female!H$18,'Female - Rev'!$A12-35,0),0.03999)","v":-1E-4},{"$f":"MIN(OFFSET(Female!I$18,'Female - Rev'!$A12-35,0),0.03999)","v":5.0000000000000001E-4},{"$f":"MIN(OFFSET(Female!J$18,'Female - Rev'!$A12-35,0),0.03999)","v":1.2999999999999999E-3},{"$f":"MIN(OFFSET(Female!K$18,'Female - Rev'!$A12-35,0),0.03999)","v":2.5000000000000001E-3},{"$f":"MIN(OFFSET(Female!L$18,'Female - Rev'!$A12-35,0),0.03999)","v":4.0000000000000001E-3},{"$f":"MIN(OFFSET(Female!M$18,'Female - Rev'!$A12-35,0),0.03999)","v":5.7000000000000002E-3},{"$f":"MIN(OFFSET(Female!N$18,'Female - Rev'!$A12-35,0),0.03999)","v":7.7000000000000002E-3},{"$f":"MIN(OFFSET(Female!O$18,'Female - Rev'!$A12-35,0),0.03999)","v":9.9000000000000008E-3},{"$f":"MIN(OFFSET(Female!P$18,'Female - Rev'!$A12-35,0),0.03999)","v":1.2200000000000001E-2},{"$f":"MIN(OFFSET(Female!Q$18,'Female - Rev'!$A12-35,0),0.03999)","v":1.44E-2},{"$f":"MIN(OFFSET(Female!R$18,'Female - Rev'!$A12-35,0),0.03999)","v":1.66E-2},{"$f":"MIN(OFFSET(Female!S$18,'Female - Rev'!$A12-35,0),0.03999)","v":1.8599999999999998E-2},{"$f":"MIN(OFFSET(Female!T$18,'Female - Rev'!$A12-35,0),0.03999)","v":2.0299999999999999E-2},{"$f":"MIN(OFFSET(Female!U$18,'Female - Rev'!$A12-35,0),0.03999)","v":2.18E-2},{"$f":"MIN(OFFSET(Female!V$18,'Female - Rev'!$A12-35,0),0.03999)","v":2.3E-2},{"$f":"MIN(OFFSET(Female!W$18,'Female - Rev'!$A12-35,0),0.03999)","v":2.3800000000000002E-2},{"$f":"MIN(OFFSET(Female!X$18,'Female - Rev'!$A12-35,0),0.03999)","v":2.4299999999999999E-2},{"$f":"MIN(OFFSET(Female!Y$18,'Female - Rev'!$A12-35,0),0.03999)","v":2.4299999999999999E-2},{"$f":"MIN(OFFSET(Female!Z$18,'Female - Rev'!$A12-35,0),0.03999)","v":2.3699999999999999E-2},{"$f":"MIN(OFFSET(Female!AA$18,'Female - Rev'!$A12-35,0),0.03999)","v":2.2700000000000001E-2},{"$f":"MIN(OFFSET(Female!AB$18,'Female - Rev'!$A12-35,0),0.03999)","v":2.12E-2},{"$f":"MIN(OFFSET(Female!AC$18,'Female - Rev'!$A12-35,0),0.03999)","v":1.9300000000000001E-2},{"$f":"MIN(OFFSET(Female!AD$18,'Female - Rev'!$A12-35,0),0.03999)","v":1.7100000000000001E-2},{"$f":"MIN(OFFSET(Female!AE$18,'Female - Rev'!$A12-35,0),0.03999)","v":1.4999999999999999E-2},{"$f":"MIN(OFFSET(Female!AF$18,'Female - Rev'!$A12-35,0),0.03999)","v":1.29E-2},{"$f":"MIN(OFFSET(Female!AG$18,'Female - Rev'!$A12-35,0),0.03999)","v":1.0999999999999999E-2},{"$f":"MIN(OFFSET(Female!AH$18,'Female - Rev'!$A12-35,0),0.03999)","v":9.4000000000000004E-3},{"$f":"MIN(OFFSET(Female!AI$18,'Female - Rev'!$A12-35,0),0.03999)","v":8.2000000000000007E-3},{"$f":"MIN(OFFSET(Female!AJ$18,'Female - Rev'!$A12-35,0),0.03999)","v":7.4000000000000003E-3},{"$f":"MIN(OFFSET(Female!AK$18,'Female - Rev'!$A12-35,0),0.03999)","v":6.7999999999999996E-3},{"$f":"MIN(OFFSET(Female!AL$18,'Female - Rev'!$A12-35,0),0.03999)","v":6.4000000000000003E-3},{"$f":"MIN(OFFSET(Female!AM$18,'Female - Rev'!$A12-35,0),0.03999)","v":6.0000000000000001E-3},{"$f":"MIN(OFFSET(Female!AN$18,'Female - Rev'!$A12-35,0),0.03999)","v":5.3E-3},{"$f":"MIN(OFFSET(Female!AO$18,'Female - Rev'!$A12-35,0),0.03999)","v":4.1000000000000003E-3},{"$f":"MIN(OFFSET(Female!AP$18,'Female - Rev'!$A12-35,0),0.03999)","v":2.5999999999999999E-3},{"$f":"MIN(OFFSET(Female!AQ$18,'Female - Rev'!$A12-35,0),0.03999)","v":6.9999999999999999E-4},{"$f":"MIN(OFFSET(Female!AR$18,'Female - Rev'!$A12-35,0),0.03999)","v":-1.1999999999999999E-3},{"$f":"MIN(OFFSET(Female!AS$18,'Female - Rev'!$A12-35,0),0.03999)","v":-3.0000000000000001E-3},{"$f":"MIN(OFFSET(Female!AT$18,'Female - Rev'!$A12-35,0),0.03999)","v":-4.4000000000000003E-3},{"$f":"MIN(OFFSET(Female!AU$18,'Female - Rev'!$A12-35,0),0.03999)","v":-5.1999999999999998E-3},{"$f":"MIN(OFFSET(Female!AV$18,'Female - Rev'!$A12-35,0),0.03999)","v":-5.1999999999999998E-3},{"$f":"MIN(OFFSET(Female!AW$18,'Female - Rev'!$A12-35,0),0.03999)","v":-4.4000000000000003E-3},{"$f":"MIN(OFFSET(Female!AX$18,'Female - Rev'!$A12-35,0),0.03999)","v":-2.8E-3},{"$f":"MIN(OFFSET(Female!AY$18,'Female - Rev'!$A12-35,0),0.03999)","v":-4.0000000000000002E-4},{"$f":"MIN(OFFSET(Female!AZ$18,'Female - Rev'!$A12-35,0),0.03999)","v":2.5000000000000001E-3},{"$f":"MIN(OFFSET(Female!BA$18,'Female - Rev'!$A12-35,0),0.03999)","v":5.5999999999999999E-3},{"$f":"MIN(OFFSET(Female!BB$18,'Female - Rev'!$A12-35,0),0.03999)","v":8.5000000000000006E-3},{"$f":"MIN(OFFSET(Female!BC$18,'Female - Rev'!$A12-35,0),0.03999)","v":1.0999999999999999E-2},{"$f":"MIN(OFFSET(Female!BD$18,'Female - Rev'!$A12-35,0),0.03999)","v":1.2800000000000001E-2},{"$f":"MIN(OFFSET(Female!BE$18,'Female - Rev'!$A12-35,0),0.03999)","v":1.38E-2},{"$f":"MIN(OFFSET(Female!BF$18,'Female - Rev'!$A12-35,0),0.03999)","v":1.4E-2},{"$f":"MIN(OFFSET(Female!BG$18,'Female - Rev'!$A12-35,0),0.03999)","v":1.35E-2},{"$f":"MIN(OFFSET(Female!BH$18,'Female - Rev'!$A12-35,0),0.03999)","v":1.23E-2},{"$f":"MIN(OFFSET(Female!BI$18,'Female - Rev'!$A12-35,0),0.03999)","v":1.0699999999999999E-2},{"$f":"MIN(OFFSET(Female!BJ$18,'Female - Rev'!$A12-35,0),0.03999)","v":8.8000000000000005E-3},{"$f":"MIN(OFFSET(Female!BK$18,'Female - Rev'!$A12-35,0),0.03999)","v":7.0000000000000001E-3},{"$f":"MIN(OFFSET(Female!BL$18,'Female - Rev'!$A12-35,0),0.03999)","v":5.1999999999999998E-3},{"$f":"MIN(OFFSET(Female!BM$18,'Female - Rev'!$A12-35,0),0.03999)","v":3.3999999999999998E-3},{"$f":"MIN(OFFSET(Female!BN$18,'Female - Rev'!$A12-35,0),0.03999)","v":1.6999999999999999E-3},{"$f":"MIN(OFFSET(Female!BO$18,'Female - Rev'!$A12-35,0),0.03999)","v":1.9E-3},{"$f":"MIN(OFFSET(Female!BP$18,'Female - Rev'!$A12-35,0),0.03999)","v":2.3E-3},{"$f":"MIN(OFFSET(Female!BQ$18,'Female - Rev'!$A12-35,0),0.03999)","v":2.8999999999999998E-3},{"$f":"MIN(OFFSET(Female!BR$18,'Female - Rev'!$A12-35,0),0.03999)","v":3.5999999999999999E-3},{"$f":"MIN(OFFSET(Female!BS$18,'Female - Rev'!$A12-35,0),0.03999)","v":4.4999999999999997E-3},{"$f":"MIN(OFFSET(Female!BT$18,'Female - Rev'!$A12-35,0),0.03999)","v":5.4999999999999997E-3},{"$f":"MIN(OFFSET(Female!BU$18,'Female - Rev'!$A12-35,0),0.03999)","v":6.4000000000000003E-3},{"$f":"MIN(OFFSET(Female!BV$18,'Female - Rev'!$A12-35,0),0.03999)","v":7.3000000000000001E-3},{"$f":"MIN(OFFSET(Female!BW$18,'Female - Rev'!$A12-35,0),0.03999)","v":8.0000000000000002E-3},{"$f":"MIN(OFFSET(Female!BX$18,'Female - Rev'!$A12-35,0),0.03999)","v":8.5000000000000006E-3},{"$f":"MIN(OFFSET(Female!BY$18,'Female - Rev'!$A12-35,0),0.03999)","v":8.8000000000000005E-3},{"$f":"MIN(OFFSET(Female!BZ$18,'Female - Rev'!$A12-35,0),0.03999)","v":8.9999999999999993E-3},{"$f":"MIN(OFFSET(Female!CA$18,'Female - Rev'!$A12-35,0),0.03999)","v":9.1999999999999998E-3},{"$f":"MIN(OFFSET(Female!CB$18,'Female - Rev'!$A12-35,0),0.03999)","v":9.4000000000000004E-3},{"$f":"MIN(OFFSET(Female!CC$18,'Female - Rev'!$A12-35,0),0.03999)","v":9.4999999999999998E-3},{"$f":"MIN(OFFSET(Female!CD$18,'Female - Rev'!$A12-35,0),0.03999)","v":9.4999999999999998E-3},{"$f":"MIN(OFFSET(Female!CE$18,'Female - Rev'!$A12-35,0),0.03999)","v":9.5999999999999992E-3},{"$f":"MIN(OFFSET(Female!CF$18,'Female - Rev'!$A12-35,0),0.03999)","v":9.7000000000000003E-3},{"$f":"MIN(OFFSET(Female!CG$18,'Female - Rev'!$A12-35,0),0.03999)","v":9.7999999999999997E-3},{"$f":"MIN(OFFSET(Female!CH$18,'Female - Rev'!$A12-35,0),0.03999)","v":9.9000000000000008E-3}]
[85,85,{"$f":"MIN(OFFSET(Female!B$18,'Female - Rev'!$A13-35,0),0.03999)","v":2.8999999999999998E-3},{"$f":"MIN(OFFSET(Female!C$18,'Female - Rev'!$A13-35,0),0.03999)","v":2.3999999999999998E-3},{"$f":"MIN(OFFSET(Female!D$18,'Female - Rev'!$A13-35,0),0.03999)","v":2E-3},{"$f":"MIN(OFFSET(Female!E$18,'Female - Rev'!$A13-35,0),0.03999)","v":1.5E-3},{"$f":"MIN(OFFSET(Female!F$18,'Female - Rev'!$A13-35,0),0.03999)","v":1.1999999999999999E-3},{"$f":"MIN(OFFSET(Female!G$18,'Female - Rev'!$A13-35,0),0.03999)","v":1E-3},{"$f":"MIN(OFFSET(Female!H$18,'Female - Rev'!$A13-35,0),0.03999)","v":1.1000000000000001E-3},{"$f":"MIN(OFFSET(Female!I$18,'Female - Rev'!$A13-35,0),0.03999)","v":1.5E-3},{"$f":"MIN(OFFSET(Female!J$18,'Female - Rev'!$A13-35,0),0.03999)","v":2.2000000000000001E-3},{"$f":"MIN(OFFSET(Female!K$18,'Female - Rev'!$A13-35,0),0.03999)","v":3.3E-3},{"$f":"MIN(OFFSET(Female!L$18,'Female - Rev'!$A13-35,0),0.03999)","v":4.5999999999999999E-3},{"$f":"MIN(OFFSET(Female!M$18,'Female - Rev'!$A13-35,0),0.03999)","v":6.3E-3},{"$f":"MIN(OFFSET(Female!N$18,'Female - Rev'!$A13-35,0),0.03999)","v":8.0999999999999996E-3},{"$f":"MIN(OFFSET(Female!O$18,'Female - Rev'!$A13-35,0),0.03999)","v":1.0200000000000001E-2},{"$f":"MIN(OFFSET(Female!P$18,'Female - Rev'!$A13-35,0),0.03999)","v":1.23E-2},{"$f":"MIN(OFFSET(Female!Q$18,'Female - Rev'!$A13-35,0),0.03999)","v":1.44E-2},{"$f":"MIN(OFFSET(Female!R$18,'Female - Rev'!$A13-35,0),0.03999)","v":1.6500000000000001E-2},{"$f":"MIN(OFFSET(Female!S$18,'Female - Rev'!$A13-35,0),0.03999)","v":1.8499999999999999E-2},{"$f":"MIN(OFFSET(Female!T$18,'Female - Rev'!$A13-35,0),0.03999)","v":2.0299999999999999E-2},{"$f":"MIN(OFFSET(Female!U$18,'Female - Rev'!$A13-35,0),0.03999)","v":2.18E-2},{"$f":"MIN(OFFSET(Female!V$18,'Female - Rev'!$A13-35,0),0.03999)","v":2.3099999999999999E-2},{"$f":"MIN(OFFSET(Female!W$18,'Female - Rev'!$A13-35,0),0.03999)","v":2.41E-2},{"$f":"MIN(OFFSET(Female!X$18,'Female - Rev'!$A13-35,0),0.03999)","v":2.47E-2},{"$f":"MIN(OFFSET(Female!Y$18,'Female - Rev'!$A13-35,0),0.03999)","v":2.4799999999999999E-2},{"$f":"MIN(OFFSET(Female!Z$18,'Female - Rev'!$A13-35,0),0.03999)","v":2.4400000000000002E-2},{"$f":"MIN(OFFSET(Female!AA$18,'Female - Rev'!$A13-35,0),0.03999)","v":2.3400000000000001E-2},{"$f":"MIN(OFFSET(Female!AB$18,'Female - Rev'!$A13-35,0),0.03999)","v":2.18E-2},{"$f":"MIN(OFFSET(Female!AC$18,'Female - Rev'!$A13-35,0),0.03999)","v":1.9800000000000002E-2},{"$f":"MIN(OFFSET(Female!AD$18,'Female - Rev'!$A13-35,0),0.03999)","v":1.7500000000000002E-2},{"$f":"MIN(OFFSET(Female!AE$18,'Female - Rev'!$A13-35,0),0.03999)","v":1.52E-2},{"$f":"MIN(OFFSET(Female!AF$18,'Female - Rev'!$A13-35,0),0.03999)","v":1.2999999999999999E-2},{"$f":"MIN(OFFSET(Female!AG$18,'Female - Rev'!$A13-35,0),0.03999)","v":1.0999999999999999E-2},{"$f":"MIN(OFFSET(Female!AH$18,'Female - Rev'!$A13-35,0),0.03999)","v":9.4000000000000004E-3},{"$f":"MIN(OFFSET(Female!AI$18,'Female - Rev'!$A13-35,0),0.03999)","v":8.2000000000000007E-3},{"$f":"MIN(OFFSET(Female!AJ$18,'Female - Rev'!$A13-35,0),0.03999)","v":7.4000000000000003E-3},{"$f":"MIN(OFFSET(Female!AK$18,'Female - Rev'!$A13-35,0),0.03999)","v":7.0000000000000001E-3},{"$f":"MIN(OFFSET(Female!AL$18,'Female - Rev'!$A13-35,0),0.03999)","v":6.7000000000000002E-3},{"$f":"MIN(OFFSET(Female!AM$18,'Female - Rev'!$A13-35,0),0.03999)","v":6.3E-3},{"$f":"MIN(OFFSET(Female!AN$18,'Female - Rev'!$A13-35,0),0.03999)","v":5.7000000000000002E-3},{"$f":"MIN(OFFSET(Female!AO$18,'Female - Rev'!$A13-35,0),0.03999)","v":4.7000000000000002E-3},{"$f":"MIN(OFFSET(Female!AP$18,'Female - Rev'!$A13-35,0),0.03999)","v":3.2000000000000002E-3},{"$f":"MIN(OFFSET(Female!AQ$18,'Female - Rev'!$A13-35,0),0.03999)","v":1.4E-3},{"$f":"MIN(OFFSET(Female!AR$18,'Female - Rev'!$A13-35,0),0.03999)","v":-5.9999999999999995E-4},{"$f":"MIN(OFFSET(Female!AS$18,'Female - Rev'!$A13-35,0),0.03999)","v":-2.3999999999999998E-3},{"$f":"MIN(OFFSET(Female!AT$18,'Female - Rev'!$A13-35,0),0.03999)","v":-3.8E-3},{"$f":"MIN(OFFSET(Female!AU$18,'Female - Rev'!$A13-35,0),0.03999)","v":-4.5999999999999999E-3},{"$f":"MIN(OFFSET(Female!AV$18,'Female - Rev'!$A13-35,0),0.03999)","v":-4.5999999999999999E-3},{"$f":"MIN(OFFSET(Female!AW$18,'Female - Rev'!$A13-35,0),0.03999)","v":-3.8E-3},{"$f":"MIN(OFFSET(Female!AX$18,'Female - Rev'!$A13-35,0),0.03999)","v":-2.0999999999999999E-3},{"$f":"MIN(OFFSET(Female!AY$18,'Female - Rev'!$A13-35,0),0.03999)","v":2.9999999999999997E-4},{"$f":"MIN(OFFSET(Female!AZ$18,'Female - Rev'!$A13-35,0),0.03999)","v":3.2000000000000002E-3},{"$f":"MIN(OFFSET(Female!BA$18,'Female - Rev'!$A13-35,0),0.03999)","v":6.3E-3},{"$f":"MIN(OFFSET(Female!BB$18,'Female - Rev'!$A13-35,0),0.03999)","v":9.2999999999999992E-3},{"$f":"MIN(OFFSET(Female!BC$18,'Female - Rev'!$A13-35,0),0.03999)","v":1.17E-2},{"$f":"MIN(OFFSET(Female!BD$18,'Female - Rev'!$A13-35,0),0.03999)","v":1.35E-2},{"$f":"MIN(OFFSET(Female!BE$18,'Female - Rev'!$A13-35,0),0.03999)","v":1.44E-2},{"$f":"MIN(OFFSET(Female!BF$18,'Female - Rev'!$A13-35,0),0.03999)","v":1.4500000000000001E-2},{"$f":"MIN(OFFSET(Female!BG$18,'Female - Rev'!$A13-35,0),0.03999)","v":1.3899999999999999E-2},{"$f":"MIN(OFFSET(Female!BH$18,'Female - Rev'!$A13-35,0),0.03999)","v":1.26E-2},{"$f":"MIN(OFFSET(Female!BI$18,'Female - Rev'!$A13-35,0),0.03999)","v":1.0800000000000001E-2},{"$f":"MIN(OFFSET(Female!BJ$18,'Female - Rev'!$A13-35,0),0.03999)","v":8.8999999999999999E-3},{"$f":"MIN(OFFSET(Female!BK$18,'Female - Rev'!$A13-35,0),0.03999)","v":7.0000000000000001E-3},{"$f":"MIN(OFFSET(Female!BL$18,'Female - Rev'!$A13-35,0),0.03999)","v":5.1999999999999998E-3},{"$f":"MIN(OFFSET(Female!BM$18,'Female - Rev'!$A13-35,0),0.03999)","v":3.3999999999999998E-3},{"$f":"MIN(OFFSET(Female!BN$18,'Female - Rev'!$A13-35,0),0.03999)","v":1.8E-3},{"$f":"MIN(OFFSET(Female!BO$18,'Female - Rev'!$A13-35,0),0.03999)","v":1.9E-3},{"$f":"MIN(OFFSET(Female!BP$18,'Female - Rev'!$A13-35,0),0.03999)","v":2.3999999999999998E-3},{"$f":"MIN(OFFSET(Female!BQ$18,'Female - Rev'!$A13-35,0),0.03999)","v":3.0999999999999999E-3},{"$f":"MIN(OFFSET(Female!BR$18,'Female - Rev'!$A13-35,0),0.03999)","v":3.8999999999999998E-3},{"$f":"MIN(OFFSET(Female!BS$18,'Female - Rev'!$A13-35,0),0.03999)","v":4.7999999999999996E-3},{"$f":"MIN(OFFSET(Female!BT$18,'Female - Rev'!$A13-35,0),0.03999)","v":5.7999999999999996E-3},{"$f":"MIN(OFFSET(Female!BU$18,'Female - Rev'!$A13-35,0),0.03999)","v":6.7999999999999996E-3},{"$f":"MIN(OFFSET(Female!BV$18,'Female - Rev'!$A13-35,0),0.03999)","v":7.6E-3},{"$f":"MIN(OFFSET(Female!BW$18,'Female - Rev'!$A13-35,0),0.03999)","v":8.3000000000000001E-3},{"$f":"MIN(OFFSET(Female!BX$18,'Female - Rev'!$A13-35,0),0.03999)","v":8.8000000000000005E-3},{"$f":"MIN(OFFSET(Female!BY$18,'Female - Rev'!$A13-35,0),0.03999)","v":9.1000000000000004E-3},{"$f":"MIN(OFFSET(Female!BZ$18,'Female - Rev'!$A13-35,0),0.03999)","v":9.2999999999999992E-3},{"$f":"MIN(OFFSET(Female!CA$18,'Female - Rev'!$A13-35,0),0.03999)","v":9.4000000000000004E-3},{"$f":"MIN(OFFSET(Female!CB$18,'Female - Rev'!$A13-35,0),0.03999)","v":9.4999999999999998E-3},{"$f":"MIN(OFFSET(Female!CC$18,'Female - Rev'!$A13-35,0),0.03999)","v":9.5999999999999992E-3},{"$f":"MIN(OFFSET(Female!CD$18,'Female - Rev'!$A13-35,0),0.03999)","v":9.5999999999999992E-3},{"$f":"MIN(OFFSET(Female!CE$18,'Female - Rev'!$A13-35,0),0.03999)","v":9.7000000000000003E-3},{"$f":"MIN(OFFSET(Female!CF$18,'Female - Rev'!$A13-35,0),0.03999)","v":9.7999999999999997E-3},{"$f":"MIN(OFFSET(Female!CG$18,'Female - Rev'!$A13-35,0),0.03999)","v":9.9000000000000008E-3},{"$f":"MIN(OFFSET(Female!CH$18,'Female - Rev'!$A13-35,0),0.03999)","v":0.01}]
[84,84,{"$f":"MIN(OFFSET(Female!B$18,'Female - Rev'!$A14-35,0),0.03999)","v":5.1000000000000004E-3},{"$f":"MIN(OFFSET(Female!C$18,'Female - Rev'!$A14-35,0),0.03999)","v":4.4999999999999997E-3},{"$f":"MIN(OFFSET(Female!D$18,'Female - Rev'!$A14-35,0),0.03999)","v":3.8E-3},{"$f":"MIN(OFFSET(Female!E$18,'Female - Rev'!$A14-35,0),0.03999)","v":3.3E-3},{"$f":"MIN(OFFSET(Female!F$18,'Female - Rev'!$A14-35,0),0.03999)","v":2.8E-3},{"$f":"MIN(OFFSET(Female!G$18,'Female - Rev'!$A14-35,0),0.03999)","v":2.5000000000000001E-3},{"$f":"MIN(OFFSET(Female!H$18,'Female - Rev'!$A14-35,0),0.03999)","v":2.3999999999999998E-3},{"$f":"MIN(OFFSET(Female!I$18,'Female - Rev'!$A14-35,0),0.03999)","v":2.7000000000000001E-3},{"$f":"MIN(OFFSET(Female!J$18,'Female - Rev'!$A14-35,0),0.03999)","v":3.2000000000000002E-3},{"$f":"MIN(OFFSET(Female!K$18,'Female - Rev'!$A14-35,0),0.03999)","v":4.1999999999999997E-3},{"$f":"MIN(OFFSET(Female!L$18,'Female - Rev'!$A14-35,0),0.03999)","v":5.4000000000000003E-3},{"$f":"MIN(OFFSET(Female!M$18,'Female - Rev'!$A14-35,0),0.03999)","v":6.8999999999999999E-3},{"$f":"MIN(OFFSET(Female!N$18,'Female - Rev'!$A14-35,0),0.03999)","v":8.6E-3},{"$f":"MIN(OFFSET(Female!O$18,'Female - Rev'!$A14-35,0),0.03999)","v":1.04E-2},{"$f":"MIN(OFFSET(Female!P$18,'Female - Rev'!$A14-35,0),0.03999)","v":1.24E-2},{"$f":"MIN(OFFSET(Female!Q$18,'Female - Rev'!$A14-35,0),0.03999)","v":1.44E-2},{"$f":"MIN(OFFSET(Female!R$18,'Female - Rev'!$A14-35,0),0.03999)","v":1.6400000000000001E-2},{"$f":"MIN(OFFSET(Female!S$18,'Female - Rev'!$A14-35,0),0.03999)","v":1.83E-2},{"$f":"MIN(OFFSET(Female!T$18,'Female - Rev'!$A14-35,0),0.03999)","v":2.01E-2},{"$f":"MIN(OFFSET(Female!U$18,'Female - Rev'!$A14-35,0),0.03999)","v":2.18E-2},{"$f":"MIN(OFFSET(Female!V$18,'Female - Rev'!$A14-35,0),0.03999)","v":2.3199999999999998E-2},{"$f":"MIN(OFFSET(Female!W$18,'Female - Rev'!$A14-35,0),0.03999)","v":2.4400000000000002E-2},{"$f":"MIN(OFFSET(Female!X$18,'Female - Rev'!$A14-35,0),0.03999)","v":2.5100000000000001E-2},{"$f":"MIN(OFFSET(Female!Y$18,'Female - Rev'!$A14-35,0),0.03999)","v":2.53E-2},{"$f":"MIN(OFFSET(Female!Z$18,'Female - Rev'!$A14-35,0),0.03999)","v":2.5000000000000001E-2},{"$f":"MIN(OFFSET(Female!AA$18,'Female - Rev'!$A14-35,0),0.03999)","v":2.3900000000000001E-2},{"$f":"MIN(OFFSET(Female!AB$18,'Female - Rev'!$A14-35,0),0.03999)","v":2.23E-2},{"$f":"MIN(OFFSET(Female!AC$18,'Female - Rev'!$A14-35,0),0.03999)","v":2.0199999999999999E-2},{"$f":"MIN(OFFSET(Female!AD$18,'Female - Rev'!$A14-35,0),0.03999)","v":1.78E-2},{"$f":"MIN(OFFSET(Female!AE$18,'Female - Rev'!$A14-35,0),0.03999)","v":1.5299999999999999E-2},{"$f":"MIN(OFFSET(Female!AF$18,'Female - Rev'!$A14-35,0),0.03999)","v":1.2999999999999999E-2},{"$f":"MIN(OFFSET(Female!AG$18,'Female - Rev'!$A14-35,0),0.03999)","v":1.09E-2},{"$f":"MIN(OFFSET(Female!AH$18,'Female - Rev'!$A14-35,0),0.03999)","v":9.1999999999999998E-3},{"$f":"MIN(OFFSET(Female!AI$18,'Female - Rev'!$A14-35,0),0.03999)","v":8.0000000000000002E-3},{"$f":"MIN(OFFSET(Female!AJ$18,'Female - Rev'!$A14-35,0),0.03999)","v":7.3000000000000001E-3},{"$f":"MIN(OFFSET(Female!AK$18,'Female - Rev'!$A14-35,0),0.03999)","v":6.8999999999999999E-3},{"$f":"MIN(OFFSET(Female!AL$18,'Female - Rev'!$A14-35,0),0.03999)","v":6.7999999999999996E-3},{"$f":"MIN(OFFSET(Female!AM$18,'Female - Rev'!$A14-35,0),0.03999)","v":6.6E-3},{"$f":"MIN(OFFSET(Female!AN$18,'Female - Rev'!$A14-35,0),0.03999)","v":6.1000000000000004E-3},{"$f":"MIN(OFFSET(Female!AO$18,'Female - Rev'!$A14-35,0),0.03999)","v":5.1999999999999998E-3},{"$f":"MIN(OFFSET(Female!AP$18,'Female - Rev'!$A14-35,0),0.03999)","v":3.8E-3},{"$f":"MIN(OFFSET(Female!AQ$18,'Female - Rev'!$A14-35,0),0.03999)","v":2E-3},{"$f":"MIN(OFFSET(Female!AR$18,'Female - Rev'!$A14-35,0),0.03999)","v":0},{"$f":"MIN(OFFSET(Female!AS$18,'Female - Rev'!$A14-35,0),0.03999)","v":-1.8E-3},{"$f":"MIN(OFFSET(Female!AT$18,'Female - Rev'!$A14-35,0),0.03999)","v":-3.0999999999999999E-3},{"$f":"MIN(OFFSET(Female!AU$18,'Female - Rev'!$A14-35,0),0.03999)","v":-3.8999999999999998E-3},{"$f":"MIN(OFFSET(Female!AV$18,'Female - Rev'!$A14-35,0),0.03999)","v":-4.0000000000000001E-3},{"$f":"MIN(OFFSET(Female!AW$18,'Female - Rev'!$A14-35,0),0.03999)","v":-3.2000000000000002E-3},{"$f":"MIN(OFFSET(Female!AX$18,'Female - Rev'!$A14-35,0),0.03999)","v":-1.5E-3},{"$f":"MIN(OFFSET(Female!AY$18,'Female - Rev'!$A14-35,0),0.03999)","v":1E-3},{"$f":"MIN(OFFSET(Female!AZ$18,'Female - Rev'!$A14-35,0),0.03999)","v":3.8999999999999998E-3},{"$f":"MIN(OFFSET(Female!BA$18,'Female - Rev'!$A14-35,0),0.03999)","v":7.0000000000000001E-3},{"$f":"MIN(OFFSET(Female!BB$18,'Female - Rev'!$A14-35,0),0.03999)","v":0.01},{"$f":"MIN(OFFSET(Female!BC$18,'Female - Rev'!$A14-35,0),0.03999)","v":1.24E-2},{"$f":"MIN(OFFSET(Female!BD$18,'Female - Rev'!$A14-35,0),0.03999)","v":1.41E-2},{"$f":"MIN(OFFSET(Female!BE$18,'Female - Rev'!$A14-35,0),0.03999)","v":1.4999999999999999E-2},{"$f":"MIN(OFFSET(Female!BF$18,'Female - Rev'!$A14-35,0),0.03999)","v":1.4999999999999999E-2},{"$f":"MIN(OFFSET(Female!BG$18,'Female - Rev'!$A14-35,0),0.03999)","v":1.4200000000000001E-2},{"$f":"MIN(OFFSET(Female!BH$18,'Female - Rev'!$A14-35,0),0.03999)","v":1.2800000000000001E-2},{"$f":"MIN(OFFSET(Female!BI$18,'Female - Rev'!$A14-35,0),0.03999)","v":1.0999999999999999E-2},{"$f":"MIN(OFFSET(Female!BJ$18,'Female - Rev'!$A14-35,0),0.03999)","v":9.1000000000000004E-3},{"$f":"MIN(OFFSET(Female!BK$18,'Female - Rev'!$A14-35,0),0.03999)","v":7.1000000000000004E-3},{"$f":"MIN(OFFSET(Female!BL$18,'Female - Rev'!$A14-35,0),0.03999)","v":5.1999999999999998E-3},{"$f":"MIN(OFFSET(Female!BM$18,'Female - Rev'!$A14-35,0),0.03999)","v":3.5000000000000001E-3},{"$f":"MIN(OFFSET(Female!BN$18,'Female - Rev'!$A14-35,0),0.03999)","v":1.9E-3},{"$f":"MIN(OFFSET(Female!BO$18,'Female - Rev'!$A14-35,0),0.03999)","v":2.0999999999999999E-3},{"$f":"MIN(OFFSET(Female!BP$18,'Female - Rev'!$A14-35,0),0.03999)","v":2.5999999999999999E-3},{"$f":"MIN(OFFSET(Female!BQ$18,'Female - Rev'!$A14-35,0),0.03999)","v":3.3E-3},{"$f":"MIN(OFFSET(Female!BR$18,'Female - Rev'!$A14-35,0),0.03999)","v":4.1999999999999997E-3},{"$f":"MIN(OFFSET(Female!BS$18,'Female - Rev'!$A14-35,0),0.03999)","v":5.1999999999999998E-3},{"$f":"MIN(OFFSET(Female!BT$18,'Female - Rev'!$A14-35,0),0.03999)","v":6.1000000000000004E-3},{"$f":"MIN(OFFSET(Female!BU$18,'Female - Rev'!$A14-35,0),0.03999)","v":7.1000000000000004E-3},{"$f":"MIN(OFFSET(Female!BV$18,'Female - Rev'!$A14-35,0),0.03999)","v":8.0000000000000002E-3},{"$f":"MIN(OFFSET(Female!BW$18,'Female - Rev'!$A14-35,0),0.03999)","v":8.6E-3},{"$f":"MIN(OFFSET(Female!BX$18,'Female - Rev'!$A14-35,0),0.03999)","v":8.9999999999999993E-3},{"$f":"MIN(OFFSET(Female!BY$18,'Female - Rev'!$A14-35,0),0.03999)","v":9.2999999999999992E-3},{"$f":"MIN(OFFSET(Female!BZ$18,'Female - Rev'!$A14-35,0),0.03999)","v":9.4000000000000004E-3},{"$f":"MIN(OFFSET(Female!CA$18,'Female - Rev'!$A14-35,0),0.03999)","v":9.4999999999999998E-3},{"$f":"MIN(OFFSET(Female!CB$18,'Female - Rev'!$A14-35,0),0.03999)","v":9.5999999999999992E-3},{"$f":"MIN(OFFSET(Female!CC$18,'Female - Rev'!$A14-35,0),0.03999)","v":9.5999999999999992E-3},{"$f":"MIN(OFFSET(Female!CD$18,'Female - Rev'!$A14-35,0),0.03999)","v":9.7000000000000003E-3},{"$f":"MIN(OFFSET(Female!CE$18,'Female - Rev'!$A14-35,0),0.03999)","v":9.7000000000000003E-3},{"$f":"MIN(OFFSET(Female!CF$18,'Female - Rev'!$A14-35,0),0.03999)","v":9.7999999999999997E-3},{"$f":"MIN(OFFSET(Female!CG$18,'Female - Rev'!$A14-35,0),0.03999)","v":0.01},{"$f":"MIN(OFFSET(Female!CH$18,'Female - Rev'!$A14-35,0),0.03999)","v":0.01}]
[83,83,{"$f":"MIN(OFFSET(Female!B$18,'Female - Rev'!$A15-35,0),0.03999)","v":7.1999999999999998E-3},{"$f":"MIN(OFFSET(Female!C$18,'Female - Rev'!$A15-35,0),0.03999)","v":6.4999999999999997E-3},{"$f":"MIN(OFFSET(Female!D$18,'Female - Rev'!$A15-35,0),0.03999)","v":5.7999999999999996E-3},{"$f":"MIN(OFFSET(Female!E$18,'Female - Rev'!$A15-35,0),0.03999)","v":5.0000000000000001E-3},{"$f":"MIN(OFFSET(Female!F$18,'Female - Rev'!$A15-35,0),0.03999)","v":4.4000000000000003E-3},{"$f":"MIN(OFFSET(Female!G$18,'Female - Rev'!$A15-35,0),0.03999)","v":4.0000000000000001E-3},{"$f":"MIN(OFFSET(Female!H$18,'Female - Rev'!$A15-35,0),0.03999)","v":3.8E-3},{"$f":"MIN(OFFSET(Female!I$18,'Female - Rev'!$A15-35,0),0.03999)","v":3.8999999999999998E-3},{"$f":"MIN(OFFSET(Female!J$18,'Female - Rev'!$A15-35,0),0.03999)","v":4.3E-3},{"$f":"MIN(OFFSET(Female!K$18,'Female - Rev'!$A15-35,0),0.03999)","v":5.1000000000000004E-3},{"$f":"MIN(OFFSET(Female!L$18,'Female - Rev'!$A15-35,0),0.03999)","v":6.1999999999999998E-3},{"$f":"MIN(OFFSET(Female!M$18,'Female - Rev'!$A15-35,0),0.03999)","v":7.4999999999999997E-3},{"$f":"MIN(OFFSET(Female!N$18,'Female - Rev'!$A15-35,0),0.03999)","v":8.9999999999999993E-3},{"$f":"MIN(OFFSET(Female!O$18,'Female - Rev'!$A15-35,0),0.03999)","v":1.0699999999999999E-2},{"$f":"MIN(OFFSET(Female!P$18,'Female - Rev'!$A15-35,0),0.03999)","v":1.2500000000000001E-2},{"$f":"MIN(OFFSET(Female!Q$18,'Female - Rev'!$A15-35,0),0.03999)","v":1.43E-2},{"$f":"MIN(OFFSET(Female!R$18,'Female - Rev'!$A15-35,0),0.03999)","v":1.6199999999999999E-2},{"$f":"MIN(OFFSET(Female!S$18,'Female - Rev'!$A15-35,0),0.03999)","v":1.8100000000000002E-2},{"$f":"MIN(OFFSET(Female!T$18,'Female - Rev'!$A15-35,0),0.03999)","v":1.9900000000000001E-2},{"$f":"MIN(OFFSET(Female!U$18,'Female - Rev'!$A15-35,0),0.03999)","v":2.1700000000000001E-2},{"$f":"MIN(OFFSET(Female!V$18,'Female - Rev'!$A15-35,0),0.03999)","v":2.3199999999999998E-2},{"$f":"MIN(OFFSET(Female!W$18,'Female - Rev'!$A15-35,0),0.03999)","v":2.4500000000000001E-2},{"$f":"MIN(OFFSET(Female!X$18,'Female - Rev'!$A15-35,0),0.03999)","v":2.5399999999999999E-2},{"$f":"MIN(OFFSET(Female!Y$18,'Female - Rev'!$A15-35,0),0.03999)","v":2.5700000000000001E-2},{"$f":"MIN(OFFSET(Female!Z$18,'Female - Rev'!$A15-35,0),0.03999)","v":2.5399999999999999E-2},{"$f":"MIN(OFFSET(Female!AA$18,'Female - Rev'!$A15-35,0),0.03999)","v":2.4400000000000002E-2},{"$f":"MIN(OFFSET(Female!AB$18,'Female - Rev'!$A15-35,0),0.03999)","v":2.2700000000000001E-2},{"$f":"MIN(OFFSET(Female!AC$18,'Female - Rev'!$A15-35,0),0.03999)","v":2.0500000000000001E-2},{"$f":"MIN(OFFSET(Female!AD$18,'Female - Rev'!$A15-35,0),0.03999)","v":1.7899999999999999E-2},{"$f":"MIN(OFFSET(Female!AE$18,'Female - Rev'!$A15-35,0),0.03999)","v":1.5299999999999999E-2},{"$f":"MIN(OFFSET(Female!AF$18,'Female - Rev'!$A15-35,0),0.03999)","v":1.29E-2},{"$f":"MIN(OFFSET(Female!AG$18,'Female - Rev'!$A15-35,0),0.03999)","v":1.0699999999999999E-2},{"$f":"MIN(OFFSET(Female!AH$18,'Female - Rev'!$A15-35,0),0.03999)","v":8.8999999999999999E-3},{"$f":"MIN(OFFSET(Female!AI$18,'Female - Rev'!$A15-35,0),0.03999)","v":7.7999999999999996E-3},{"$f":"MIN(OFFSET(Female!AJ$18,'Female - Rev'!$A15-35,0),0.03999)","v":7.1000000000000004E-3},{"$f":"MIN(OFFSET(Female!AK$18,'Female - Rev'!$A15-35,0),0.03999)","v":6.7999999999999996E-3},{"$f":"MIN(OFFSET(Female!AL$18,'Female - Rev'!$A15-35,0),0.03999)","v":6.7999999999999996E-3},{"$f":"MIN(OFFSET(Female!AM$18,'Female - Rev'!$A15-35,0),0.03999)","v":6.7999999999999996E-3},{"$f":"MIN(OFFSET(Female!AN$18,'Female - Rev'!$A15-35,0),0.03999)","v":6.4999999999999997E-3},{"$f":"MIN(OFFSET(Female!AO$18,'Female - Rev'!$A15-35,0),0.03999)","v":5.7000000000000002E-3},{"$f":"MIN(OFFSET(Female!AP$18,'Female - Rev'!$A15-35,0),0.03999)","v":4.3E-3},{"$f":"MIN(OFFSET(Female!AQ$18,'Female - Rev'!$A15-35,0),0.03999)","v":2.5999999999999999E-3},{"$f":"MIN(OFFSET(Female!AR$18,'Female - Rev'!$A15-35,0),0.03999)","v":5.9999999999999995E-4},{"$f":"MIN(OFFSET(Female!AS$18,'Female - Rev'!$A15-35,0),0.03999)","v":-1.1000000000000001E-3},{"$f":"MIN(OFFSET(Female!AT$18,'Female - Rev'!$A15-35,0),0.03999)","v":-2.5000000000000001E-3},{"$f":"MIN(OFFSET(Female!AU$18,'Female - Rev'!$A15-35,0),0.03999)","v":-3.3E-3},{"$f":"MIN(OFFSET(Female!AV$18,'Female - Rev'!$A15-35,0),0.03999)","v":-3.3E-3},{"$f":"MIN(OFFSET(Female!AW$18,'Female - Rev'!$A15-35,0),0.03999)","v":-2.5000000000000001E-3},{"$f":"MIN(OFFSET(Female!AX$18,'Female - Rev'!$A15-35,0),0.03999)","v":-8.0000000000000004E-4},{"$f":"MIN(OFFSET(Female!AY$18,'Female - Rev'!$A15-35,0),0.03999)","v":1.6000000000000001E-3},{"$f":"MIN(OFFSET(Female!AZ$18,'Female - Rev'!$A15-35,0),0.03999)","v":4.4999999999999997E-3},{"$f":"MIN(OFFSET(Female!BA$18,'Female - Rev'!$A15-35,0),0.03999)","v":7.6E-3},{"$f":"MIN(OFFSET(Female!BB$18,'Female - Rev'!$A15-35,0),0.03999)","v":1.06E-2},{"$f":"MIN(OFFSET(Female!BC$18,'Female - Rev'!$A15-35,0),0.03999)","v":1.2999999999999999E-2},{"$f":"MIN(OFFSET(Female!BD$18,'Female - Rev'!$A15-35,0),0.03999)","v":1.46E-2},{"$f":"MIN(OFFSET(Female!BE$18,'Female - Rev'!$A15-35,0),0.03999)","v":1.54E-2},{"$f":"MIN(OFFSET(Female!BF$18,'Female - Rev'!$A15-35,0),0.03999)","v":1.5299999999999999E-2},{"$f":"MIN(OFFSET(Female!BG$18,'Female - Rev'!$A15-35,0),0.03999)","v":1.4500000000000001E-2},{"$f":"MIN(OFFSET(Female!BH$18,'Female - Rev'!$A15-35,0),0.03999)","v":1.3100000000000001E-2},{"$f":"MIN(OFFSET(Female!BI$18,'Female - Rev'!$A15-35,0),0.03999)","v":1.12E-2},{"$f":"MIN(OFFSET(Female!BJ$18,'Female - Rev'!$A15-35,0),0.03999)","v":9.1999999999999998E-3},{"$f":"MIN(OFFSET(Female!BK$18,'Female - Rev'!$A15-35,0),0.03999)","v":7.3000000000000001E-3},{"$f":"MIN(OFFSET(Female!BL$18,'Female - Rev'!$A15-35,0),0.03999)","v":5.4000000000000003E-3},{"$f":"MIN(OFFSET(Female!BM$18,'Female - Rev'!$A15-35,0),0.03999)","v":3.7000000000000002E-3},{"$f":"MIN(OFFSET(Female!BN$18,'Female - Rev'!$A15-35,0),0.03999)","v":2.0999999999999999E-3},{"$f":"MIN(OFFSET(Female!BO$18,'Female - Rev'!$A15-35,0),0.03999)","v":2.3999999999999998E-3},{"$f":"MIN(OFFSET(Female!BP$18,'Female - Rev'!$A15-35,0),0.03999)","v":2.8999999999999998E-3},{"$f":"MIN(OFFSET(Female!BQ$18,'Female - Rev'!$A15-35,0),0.03999)","v":3.5999999999999999E-3},{"$f":"MIN(OFFSET(Female!BR$18,'Female - Rev'!$A15-35,0),0.03999)","v":4.4999999999999997E-3},{"$f":"MIN(OFFSET(Female!BS$18,'Female - Rev'!$A15-35,0),0.03999)","v":5.4999999999999997E-3},{"$f":"MIN(OFFSET(Female!BT$18,'Female - Rev'!$A15-35,0),0.03999)","v":6.4999999999999997E-3},{"$f":"MIN(OFFSET(Female!BU$18,'Female - Rev'!$A15-35,0),0.03999)","v":7.4999999999999997E-3},{"$f":"MIN(OFFSET(Female!BV$18,'Female - Rev'!$A15-35,0),0.03999)","v":8.3000000000000001E-3},{"$f":"MIN(OFFSET(Female!BW$18,'Female - Rev'!$A15-35,0),0.03999)","v":8.8999999999999999E-3},{"$f":"MIN(OFFSET(Female!BX$18,'Female - Rev'!$A15-35,0),0.03999)","v":9.1999999999999998E-3},{"$f":"MIN(OFFSET(Female!BY$18,'Female - Rev'!$A15-35,0),0.03999)","v":9.4000000000000004E-3},{"$f":"MIN(OFFSET(Female!BZ$18,'Female - Rev'!$A15-35,0),0.03999)","v":9.4999999999999998E-3},{"$f":"MIN(OFFSET(Female!CA$18,'Female - Rev'!$A15-35,0),0.03999)","v":9.5999999999999992E-3},{"$f":"MIN(OFFSET(Female!CB$18,'Female - Rev'!$A15-35,0),0.03999)","v":9.5999999999999992E-3},{"$f":"MIN(OFFSET(Female!CC$18,'Female - Rev'!$A15-35,0),0.03999)","v":9.5999999999999992E-3},{"$f":"MIN(OFFSET(Female!CD$18,'Female - Rev'!$A15-35,0),0.03999)","v":9.7000000000000003E-3},{"$f":"MIN(OFFSET(Female!CE$18,'Female - Rev'!$A15-35,0),0.03999)","v":9.7000000000000003E-3},{"$f":"MIN(OFFSET(Female!CF$18,'Female - Rev'!$A15-35,0),0.03999)","v":9.9000000000000008E-3},{"$f":"MIN(OFFSET(Female!CG$18,'Female - Rev'!$A15-35,0),0.03999)","v":0.01},{"$f":"MIN(OFFSET(Female!CH$18,'Female - Rev'!$A15-35,0),0.03999)","v":0.01}]
[82,82,{"$f":"MIN(OFFSET(Female!B$18,'Female - Rev'!$A16-35,0),0.03999)","v":9.2999999999999992E-3},{"$f":"MIN(OFFSET(Female!C$18,'Female - Rev'!$A16-35,0),0.03999)","v":8.5000000000000006E-3},{"$f":"MIN(OFFSET(Female!D$18,'Female - Rev'!$A16-35,0),0.03999)","v":7.6E-3},{"$f":"MIN(OFFSET(Female!E$18,'Female - Rev'!$A16-35,0),0.03999)","v":6.7999999999999996E-3},{"$f":"MIN(OFFSET(Female!F$18,'Female - Rev'!$A16-35,0),0.03999)","v":6.1000000000000004E-3},{"$f":"MIN(OFFSET(Female!G$18,'Female - Rev'!$A16-35,0),0.03999)","v":5.4999999999999997E-3},{"$f":"MIN(OFFSET(Female!H$18,'Female - Rev'!$A16-35,0),0.03999)","v":5.1999999999999998E-3},{"$f":"MIN(OFFSET(Female!I$18,'Female - Rev'!$A16-35,0),0.03999)","v":5.1999999999999998E-3},{"$f":"MIN(OFFSET(Female!J$18,'Female - Rev'!$A16-35,0),0.03999)","v":5.4999999999999997E-3},{"$f":"MIN(OFFSET(Female!K$18,'Female - Rev'!$A16-35,0),0.03999)","v":6.1000000000000004E-3},{"$f":"MIN(OFFSET(Female!L$18,'Female - Rev'!$A16-35,0),0.03999)","v":7.0000000000000001E-3},{"$f":"MIN(OFFSET(Female!M$18,'Female - Rev'!$A16-35,0),0.03999)","v":8.2000000000000007E-3},{"$f":"MIN(OFFSET(Female!N$18,'Female - Rev'!$A16-35,0),0.03999)","v":9.4999999999999998E-3},{"$f":"MIN(OFFSET(Female!O$18,'Female - Rev'!$A16-35,0),0.03999)","v":1.09E-2},{"$f":"MIN(OFFSET(Female!P$18,'Female - Rev'!$A16-35,0),0.03999)","v":1.2500000000000001E-2},{"$f":"MIN(OFFSET(Female!Q$18,'Female - Rev'!$A16-35,0),0.03999)","v":1.4200000000000001E-2},{"$f":"MIN(OFFSET(Female!R$18,'Female - Rev'!$A16-35,0),0.03999)","v":1.6E-2},{"$f":"MIN(OFFSET(Female!S$18,'Female - Rev'!$A16-35,0),0.03999)","v":1.78E-2},{"$f":"MIN(OFFSET(Female!T$18,'Female - Rev'!$A16-35,0),0.03999)","v":1.9699999999999999E-2},{"$f":"MIN(OFFSET(Female!U$18,'Female - Rev'!$A16-35,0),0.03999)","v":2.1600000000000001E-2},{"$f":"MIN(OFFSET(Female!V$18,'Female - Rev'!$A16-35,0),0.03999)","v":2.3199999999999998E-2},{"$f":"MIN(OFFSET(Female!W$18,'Female - Rev'!$A16-35,0),0.03999)","v":2.46E-2},{"$f":"MIN(OFFSET(Female!X$18,'Female - Rev'!$A16-35,0),0.03999)","v":2.5600000000000001E-2},{"$f":"MIN(OFFSET(Female!Y$18,'Female - Rev'!$A16-35,0),0.03999)","v":2.6100000000000002E-2},{"$f":"MIN(OFFSET(Female!Z$18,'Female - Rev'!$A16-35,0),0.03999)","v":2.58E-2},{"$f":"MIN(OFFSET(Female!AA$18,'Female - Rev'!$A16-35,0),0.03999)","v":2.47E-2},{"$f":"MIN(OFFSET(Female!AB$18,'Female - Rev'!$A16-35,0),0.03999)","v":2.29E-2},{"$f":"MIN(OFFSET(Female!AC$18,'Female - Rev'!$A16-35,0),0.03999)","v":2.06E-2},{"$f":"MIN(OFFSET(Female!AD$18,'Female - Rev'!$A16-35,0),0.03999)","v":1.7899999999999999E-2},{"$f":"MIN(OFFSET(Female!AE$18,'Female - Rev'!$A16-35,0),0.03999)","v":1.5100000000000001E-2},{"$f":"MIN(OFFSET(Female!AF$18,'Female - Rev'!$A16-35,0),0.03999)","v":1.2500000000000001E-2},{"$f":"MIN(OFFSET(Female!AG$18,'Female - Rev'!$A16-35,0),0.03999)","v":1.03E-2},{"$f":"MIN(OFFSET(Female!AH$18,'Female - Rev'!$A16-35,0),0.03999)","v":8.5000000000000006E-3},{"$f":"MIN(OFFSET(Female!AI$18,'Female - Rev'!$A16-35,0),0.03999)","v":7.3000000000000001E-3},{"$f":"MIN(OFFSET(Female!AJ$18,'Female - Rev'!$A16-35,0),0.03999)","v":6.7999999999999996E-3},{"$f":"MIN(OFFSET(Female!AK$18,'Female - Rev'!$A16-35,0),0.03999)","v":6.7000000000000002E-3},{"$f":"MIN(OFFSET(Female!AL$18,'Female - Rev'!$A16-35,0),0.03999)","v":6.7999999999999996E-3},{"$f":"MIN(OFFSET(Female!AM$18,'Female - Rev'!$A16-35,0),0.03999)","v":6.8999999999999999E-3},{"$f":"MIN(OFFSET(Female!AN$18,'Female - Rev'!$A16-35,0),0.03999)","v":6.7000000000000002E-3},{"$f":"MIN(OFFSET(Female!AO$18,'Female - Rev'!$A16-35,0),0.03999)","v":6.0000000000000001E-3},{"$f":"MIN(OFFSET(Female!AP$18,'Female - Rev'!$A16-35,0),0.03999)","v":4.7999999999999996E-3},{"$f":"MIN(OFFSET(Female!AQ$18,'Female - Rev'!$A16-35,0),0.03999)","v":3.0999999999999999E-3},{"$f":"MIN(OFFSET(Female!AR$18,'Female - Rev'!$A16-35,0),0.03999)","v":1.1999999999999999E-3},{"$f":"MIN(OFFSET(Female!AS$18,'Female - Rev'!$A16-35,0),0.03999)","v":-5.0000000000000001E-4},{"$f":"MIN(OFFSET(Female!AT$18,'Female - Rev'!$A16-35,0),0.03999)","v":-1.8E-3},{"$f":"MIN(OFFSET(Female!AU$18,'Female - Rev'!$A16-35,0),0.03999)","v":-2.5999999999999999E-3},{"$f":"MIN(OFFSET(Female!AV$18,'Female - Rev'!$A16-35,0),0.03999)","v":-2.5999999999999999E-3},{"$f":"MIN(OFFSET(Female!AW$18,'Female - Rev'!$A16-35,0),0.03999)","v":-1.8E-3},{"$f":"MIN(OFFSET(Female!AX$18,'Female - Rev'!$A16-35,0),0.03999)","v":-2.0000000000000001E-4},{"$f":"MIN(OFFSET(Female!AY$18,'Female - Rev'!$A16-35,0),0.03999)","v":2.2000000000000001E-3},{"$f":"MIN(OFFSET(Female!AZ$18,'Female - Rev'!$A16-35,0),0.03999)","v":5.1000000000000004E-3},{"$f":"MIN(OFFSET(Female!BA$18,'Female - Rev'!$A16-35,0),0.03999)","v":8.2000000000000007E-3},{"$f":"MIN(OFFSET(Female!BB$18,'Female - Rev'!$A16-35,0),0.03999)","v":1.11E-2},{"$f":"MIN(OFFSET(Female!BC$18,'Female - Rev'!$A16-35,0),0.03999)","v":1.35E-2},{"$f":"MIN(OFFSET(Female!BD$18,'Female - Rev'!$A16-35,0),0.03999)","v":1.4999999999999999E-2},{"$f":"MIN(OFFSET(Female!BE$18,'Female - Rev'!$A16-35,0),0.03999)","v":1.5800000000000002E-2},{"$f":"MIN(OFFSET(Female!BF$18,'Female - Rev'!$A16-35,0),0.03999)","v":1.5699999999999999E-2},{"$f":"MIN(OFFSET(Female!BG$18,'Female - Rev'!$A16-35,0),0.03999)","v":1.4800000000000001E-2},{"$f":"MIN(OFFSET(Female!BH$18,'Female - Rev'!$A16-35,0),0.03999)","v":1.3299999999999999E-2},{"$f":"MIN(OFFSET(Female!BI$18,'Female - Rev'!$A16-35,0),0.03999)","v":1.15E-2},{"$f":"MIN(OFFSET(Female!BJ$18,'Female - Rev'!$A16-35,0),0.03999)","v":9.4999999999999998E-3},{"$f":"MIN(OFFSET(Female!BK$18,'Female - Rev'!$A16-35,0),0.03999)","v":7.4999999999999997E-3},{"$f":"MIN(OFFSET(Female!BL$18,'Female - Rev'!$A16-35,0),0.03999)","v":5.7000000000000002E-3},{"$f":"MIN(OFFSET(Female!BM$18,'Female - Rev'!$A16-35,0),0.03999)","v":4.0000000000000001E-3},{"$f":"MIN(OFFSET(Female!BN$18,'Female - Rev'!$A16-35,0),0.03999)","v":2.3999999999999998E-3},{"$f":"MIN(OFFSET(Female!BO$18,'Female - Rev'!$A16-35,0),0.03999)","v":2.7000000000000001E-3},{"$f":"MIN(OFFSET(Female!BP$18,'Female - Rev'!$A16-35,0),0.03999)","v":3.3E-3},{"$f":"MIN(OFFSET(Female!BQ$18,'Female - Rev'!$A16-35,0),0.03999)","v":4.1000000000000003E-3},{"$f":"MIN(OFFSET(Female!BR$18,'Female - Rev'!$A16-35,0),0.03999)","v":5.0000000000000001E-3},{"$f":"MIN(OFFSET(Female!BS$18,'Female - Rev'!$A16-35,0),0.03999)","v":5.8999999999999999E-3},{"$f":"MIN(OFFSET(Female!BT$18,'Female - Rev'!$A16-35,0),0.03999)","v":6.8999999999999999E-3},{"$f":"MIN(OFFSET(Female!BU$18,'Female - Rev'!$A16-35,0),0.03999)","v":7.7999999999999996E-3},{"$f":"MIN(OFFSET(Female!BV$18,'Female - Rev'!$A16-35,0),0.03999)","v":8.6E-3},{"$f":"MIN(OFFSET(Female!BW$18,'Female - Rev'!$A16-35,0),0.03999)","v":9.1000000000000004E-3},{"$f":"MIN(OFFSET(Female!BX$18,'Female - Rev'!$A16-35,0),0.03999)","v":9.4000000000000004E-3},{"$f":"MIN(OFFSET(Female!BY$18,'Female - Rev'!$A16-35,0),0.03999)","v":9.4999999999999998E-3},{"$f":"MIN(OFFSET(Female!BZ$18,'Female - Rev'!$A16-35,0),0.03999)","v":9.5999999999999992E-3},{"$f":"MIN(OFFSET(Female!CA$18,'Female - Rev'!$A16-35,0),0.03999)","v":9.5999999999999992E-3},{"$f":"MIN(OFFSET(Female!CB$18,'Female - Rev'!$A16-35,0),0.03999)","v":9.4999999999999998E-3},{"$f":"MIN(OFFSET(Female!CC$18,'Female - Rev'!$A16-35,0),0.03999)","v":9.5999999999999992E-3},{"$f":"MIN(OFFSET(Female!CD$18,'Female - Rev'!$A16-35,0),0.03999)","v":9.5999999999999992E-3},{"$f":"MIN(OFFSET(Female!CE$18,'Female - Rev'!$A16-35,0),0.03999)","v":9.7000000000000003E-3},{"$f":"MIN(OFFSET(Female!CF$18,'Female - Rev'!$A16-35,0),0.03999)","v":9.7999999999999997E-3},{"$f":"MIN(OFFSET(Female!CG$18,'Female - Rev'!$A16-35,0),0.03999)","v":9.9000000000000008E-3},{"$f":"MIN(OFFSET(Female!CH$18,'Female - Rev'!$A16-35,0),0.03999)","v":0.01}]
[81,81,{"$f":"MIN(OFFSET(Female!B$18,'Female - Rev'!$A17-35,0),0.03999)","v":1.14E-2},{"$f":"MIN(OFFSET(Female!C$18,'Female - Rev'!$A17-35,0),0.03999)","v":1.04E-2},{"$f":"MIN(OFFSET(Female!D$18,'Female - Rev'!$A17-35,0),0.03999)","v":9.4999999999999998E-3},{"$f":"MIN(OFFSET(Female!E$18,'Female - Rev'!$A17-35,0),0.03999)","v":8.6E-3},{"$f":"MIN(OFFSET(Female!F$18,'Female - Rev'!$A17-35,0),0.03999)","v":7.7000000000000002E-3},{"$f":"MIN(OFFSET(Female!G$18,'Female - Rev'!$A17-35,0),0.03999)","v":7.0000000000000001E-3},{"$f":"MIN(OFFSET(Female!H$18,'Female - Rev'!$A17-35,0),0.03999)","v":6.6E-3},{"$f":"MIN(OFFSET(Female!I$18,'Female - Rev'!$A17-35,0),0.03999)","v":6.4999999999999997E-3},{"$f":"MIN(OFFSET(Female!J$18,'Female - Rev'!$A17-35,0),0.03999)","v":6.7000000000000002E-3},{"$f":"MIN(OFFSET(Female!K$18,'Female - Rev'!$A17-35,0),0.03999)","v":7.1000000000000004E-3},{"$f":"MIN(OFFSET(Female!L$18,'Female - Rev'!$A17-35,0),0.03999)","v":7.9000000000000008E-3},{"$f":"MIN(OFFSET(Female!M$18,'Female - Rev'!$A17-35,0),0.03999)","v":8.8000000000000005E-3},{"$f":"MIN(OFFSET(Female!N$18,'Female - Rev'!$A17-35,0),0.03999)","v":9.9000000000000008E-3},{"$f":"MIN(OFFSET(Female!O$18,'Female - Rev'!$A17-35,0),0.03999)","v":1.12E-2},{"$f":"MIN(OFFSET(Female!P$18,'Female - Rev'!$A17-35,0),0.03999)","v":1.26E-2},{"$f":"MIN(OFFSET(Female!Q$18,'Female - Rev'!$A17-35,0),0.03999)","v":1.41E-2},{"$f":"MIN(OFFSET(Female!R$18,'Female - Rev'!$A17-35,0),0.03999)","v":1.5800000000000002E-2},{"$f":"MIN(OFFSET(Female!S$18,'Female - Rev'!$A17-35,0),0.03999)","v":1.7600000000000001E-2},{"$f":"MIN(OFFSET(Female!T$18,'Female - Rev'!$A17-35,0),0.03999)","v":1.95E-2},{"$f":"MIN(OFFSET(Female!U$18,'Female - Rev'!$A17-35,0),0.03999)","v":2.1399999999999999E-2},{"$f":"MIN(OFFSET(Female!V$18,'Female - Rev'!$A17-35,0),0.03999)","v":2.3099999999999999E-2},{"$f":"MIN(OFFSET(Female!W$18,'Female - Rev'!$A17-35,0),0.03999)","v":2.47E-2},{"$f":"MIN(OFFSET(Female!X$18,'Female - Rev'!$A17-35,0),0.03999)","v":2.58E-2},{"$f":"MIN(OFFSET(Female!Y$18,'Female - Rev'!$A17-35,0),0.03999)","v":2.63E-2},{"$f":"MIN(OFFSET(Female!Z$18,'Female - Rev'!$A17-35,0),0.03999)","v":2.5999999999999999E-2},{"$f":"MIN(OFFSET(Female!AA$18,'Female - Rev'!$A17-35,0),0.03999)","v":2.4899999999999999E-2},{"$f":"MIN(OFFSET(Female!AB$18,'Female - Rev'!$A17-35,0),0.03999)","v":2.3099999999999999E-2},{"$f":"MIN(OFFSET(Female!AC$18,'Female - Rev'!$A17-35,0),0.03999)","v":2.06E-2},{"$f":"MIN(OFFSET(Female!AD$18,'Female - Rev'!$A17-35,0),0.03999)","v":1.77E-2},{"$f":"MIN(OFFSET(Female!AE$18,'Female - Rev'!$A17-35,0),0.03999)","v":1.4800000000000001E-2},{"$f":"MIN(OFFSET(Female!AF$18,'Female - Rev'!$A17-35,0),0.03999)","v":1.21E-2},{"$f":"MIN(OFFSET(Female!AG$18,'Female - Rev'!$A17-35,0),0.03999)","v":9.7000000000000003E-3},{"$f":"MIN(OFFSET(Female!AH$18,'Female - Rev'!$A17-35,0),0.03999)","v":7.9000000000000008E-3},{"$f":"MIN(OFFSET(Female!AI$18,'Female - Rev'!$A17-35,0),0.03999)","v":6.7999999999999996E-3},{"$f":"MIN(OFFSET(Female!AJ$18,'Female - Rev'!$A17-35,0),0.03999)","v":6.4000000000000003E-3},{"$f":"MIN(OFFSET(Female!AK$18,'Female - Rev'!$A17-35,0),0.03999)","v":6.4000000000000003E-3},{"$f":"MIN(OFFSET(Female!AL$18,'Female - Rev'!$A17-35,0),0.03999)","v":6.7000000000000002E-3},{"$f":"MIN(OFFSET(Female!AM$18,'Female - Rev'!$A17-35,0),0.03999)","v":7.0000000000000001E-3},{"$f":"MIN(OFFSET(Female!AN$18,'Female - Rev'!$A17-35,0),0.03999)","v":7.0000000000000001E-3},{"$f":"MIN(OFFSET(Female!AO$18,'Female - Rev'!$A17-35,0),0.03999)","v":6.4000000000000003E-3},{"$f":"MIN(OFFSET(Female!AP$18,'Female - Rev'!$A17-35,0),0.03999)","v":5.1999999999999998E-3},{"$f":"MIN(OFFSET(Female!AQ$18,'Female - Rev'!$A17-35,0),0.03999)","v":3.5999999999999999E-3},{"$f":"MIN(OFFSET(Female!AR$18,'Female - Rev'!$A17-35,0),0.03999)","v":1.8E-3},{"$f":"MIN(OFFSET(Female!AS$18,'Female - Rev'!$A17-35,0),0.03999)","v":1E-4},{"$f":"MIN(OFFSET(Female!AT$18,'Female - Rev'!$A17-35,0),0.03999)","v":-1.1999999999999999E-3},{"$f":"MIN(OFFSET(Female!AU$18,'Female - Rev'!$A17-35,0),0.03999)","v":-1.9E-3},{"$f":"MIN(OFFSET(Female!AV$18,'Female - Rev'!$A17-35,0),0.03999)","v":-2E-3},{"$f":"MIN(OFFSET(Female!AW$18,'Female - Rev'!$A17-35,0),0.03999)","v":-1.1999999999999999E-3},{"$f":"MIN(OFFSET(Female!AX$18,'Female - Rev'!$A17-35,0),0.03999)","v":4.0000000000000002E-4},{"$f":"MIN(OFFSET(Female!AY$18,'Female - Rev'!$A17-35,0),0.03999)","v":2.8E-3},{"$f":"MIN(OFFSET(Female!AZ$18,'Female - Rev'!$A17-35,0),0.03999)","v":5.5999999999999999E-3},{"$f":"MIN(OFFSET(Female!BA$18,'Female - Rev'!$A17-35,0),0.03999)","v":8.6999999999999994E-3},{"$f":"MIN(OFFSET(Female!BB$18,'Female - Rev'!$A17-35,0),0.03999)","v":1.15E-2},{"$f":"MIN(OFFSET(Female!BC$18,'Female - Rev'!$A17-35,0),0.03999)","v":1.38E-2},{"$f":"MIN(OFFSET(Female!BD$18,'Female - Rev'!$A17-35,0),0.03999)","v":1.54E-2},{"$f":"MIN(OFFSET(Female!BE$18,'Female - Rev'!$A17-35,0),0.03999)","v":1.61E-2},{"$f":"MIN(OFFSET(Female!BF$18,'Female - Rev'!$A17-35,0),0.03999)","v":1.6E-2},{"$f":"MIN(OFFSET(Female!BG$18,'Female - Rev'!$A17-35,0),0.03999)","v":1.5100000000000001E-2},{"$f":"MIN(OFFSET(Female!BH$18,'Female - Rev'!$A17-35,0),0.03999)","v":1.3599999999999999E-2},{"$f":"MIN(OFFSET(Female!BI$18,'Female - Rev'!$A17-35,0),0.03999)","v":1.18E-2},{"$f":"MIN(OFFSET(Female!BJ$18,'Female - Rev'!$A17-35,0),0.03999)","v":9.7999999999999997E-3},{"$f":"MIN(OFFSET(Female!BK$18,'Female - Rev'!$A17-35,0),0.03999)","v":7.9000000000000008E-3},{"$f":"MIN(OFFSET(Female!BL$18,'Female - Rev'!$A17-35,0),0.03999)","v":6.0000000000000001E-3},{"$f":"MIN(OFFSET(Female!BM$18,'Female - Rev'!$A17-35,0),0.03999)","v":4.4000000000000003E-3},{"$f":"MIN(OFFSET(Female!BN$18,'Female - Rev'!$A17-35,0),0.03999)","v":2.8E-3},{"$f":"MIN(OFFSET(Female!BO$18,'Female - Rev'!$A17-35,0),0.03999)","v":3.2000000000000002E-3},{"$f":"MIN(OFFSET(Female!BP$18,'Female - Rev'!$A17-35,0),0.03999)","v":3.8E-3},{"$f":"MIN(OFFSET(Female!BQ$18,'Female - Rev'!$A17-35,0),0.03999)","v":4.4999999999999997E-3},{"$f":"MIN(OFFSET(Female!BR$18,'Female - Rev'!$A17-35,0),0.03999)","v":5.4000000000000003E-3},{"$f":"MIN(OFFSET(Female!BS$18,'Female - Rev'!$A17-35,0),0.03999)","v":6.4000000000000003E-3},{"$f":"MIN(OFFSET(Female!BT$18,'Female - Rev'!$A17-35,0),0.03999)","v":7.3000000000000001E-3},{"$f":"MIN(OFFSET(Female!BU$18,'Female - Rev'!$A17-35,0),0.03999)","v":8.0999999999999996E-3},{"$f":"MIN(OFFSET(Female!BV$18,'Female - Rev'!$A17-35,0),0.03999)","v":8.8000000000000005E-3},{"$f":"MIN(OFFSET(Female!BW$18,'Female - Rev'!$A17-35,0),0.03999)","v":9.2999999999999992E-3},{"$f":"MIN(OFFSET(Female!BX$18,'Female - Rev'!$A17-35,0),0.03999)","v":9.4999999999999998E-3},{"$f":"MIN(OFFSET(Female!BY$18,'Female - Rev'!$A17-35,0),0.03999)","v":9.4999999999999998E-3},{"$f":"MIN(OFFSET(Female!BZ$18,'Female - Rev'!$A17-35,0),0.03999)","v":9.4999999999999998E-3},{"$f":"MIN(OFFSET(Female!CA$18,'Female - Rev'!$A17-35,0),0.03999)","v":9.4999999999999998E-3},{"$f":"MIN(OFFSET(Female!CB$18,'Female - Rev'!$A17-35,0),0.03999)","v":9.4000000000000004E-3},{"$f":"MIN(OFFSET(Female!CC$18,'Female - Rev'!$A17-35,0),0.03999)","v":9.4999999999999998E-3},{"$f":"MIN(OFFSET(Female!CD$18,'Female - Rev'!$A17-35,0),0.03999)","v":9.4999999999999998E-3},{"$f":"MIN(OFFSET(Female!CE$18,'Female - Rev'!$A17-35,0),0.03999)","v":9.5999999999999992E-3},{"$f":"MIN(OFFSET(Female!CF$18,'Female - Rev'!$A17-35,0),0.03999)","v":9.7999999999999997E-3},{"$f":"MIN(OFFSET(Female!CG$18,'Female - Rev'!$A17-35,0),0.03999)","v":9.9000000000000008E-3},{"$f":"MIN(OFFSET(Female!CH$18,'Female - Rev'!$A17-35,0),0.03999)","v":0.01}]
[80,80,{"$f":"MIN(OFFSET(Female!B$18,'Female - Rev'!$A18-35,0),0.03999)","v":1.3299999999999999E-2},{"$f":"MIN(OFFSET(Female!C$18,'Female - Rev'!$A18-35,0),0.03999)","v":1.23E-2},{"$f":"MIN(OFFSET(Female!D$18,'Female - Rev'!$A18-35,0),0.03999)","v":1.12E-2},{"$f":"MIN(OFFSET(Female!E$18,'Female - Rev'!$A18-35,0),0.03999)","v":1.0200000000000001E-2},{"$f":"MIN(OFFSET(Female!F$18,'Female - Rev'!$A18-35,0),0.03999)","v":9.2999999999999992E-3},{"$f":"MIN(OFFSET(Female!G$18,'Female - Rev'!$A18-35,0),0.03999)","v":8.6E-3},{"$f":"MIN(OFFSET(Female!H$18,'Female - Rev'!$A18-35,0),0.03999)","v":8.0000000000000002E-3},{"$f":"MIN(OFFSET(Female!I$18,'Female - Rev'!$A18-35,0),0.03999)","v":7.7999999999999996E-3},{"$f":"MIN(OFFSET(Female!J$18,'Female - Rev'!$A18-35,0),0.03999)","v":7.7999999999999996E-3},{"$f":"MIN(OFFSET(Female!K$18,'Female - Rev'!$A18-35,0),0.03999)","v":8.0999999999999996E-3},{"$f":"MIN(OFFSET(Female!L$18,'Female - Rev'!$A18-35,0),0.03999)","v":8.6999999999999994E-3},{"$f":"MIN(OFFSET(Female!M$18,'Female - Rev'!$A18-35,0),0.03999)","v":9.4000000000000004E-3},{"$f":"MIN(OFFSET(Female!N$18,'Female - Rev'!$A18-35,0),0.03999)","v":1.03E-2},{"$f":"MIN(OFFSET(Female!O$18,'Female - Rev'!$A18-35,0),0.03999)","v":1.1299999999999999E-2},{"$f":"MIN(OFFSET(Female!P$18,'Female - Rev'!$A18-35,0),0.03999)","v":1.26E-2},{"$f":"MIN(OFFSET(Female!Q$18,'Female - Rev'!$A18-35,0),0.03999)","v":1.4E-2},{"$f":"MIN(OFFSET(Female!R$18,'Female - Rev'!$A18-35,0),0.03999)","v":1.5599999999999999E-2},{"$f":"MIN(OFFSET(Female!S$18,'Female - Rev'!$A18-35,0),0.03999)","v":1.7399999999999999E-2},{"$f":"MIN(OFFSET(Female!T$18,'Female - Rev'!$A18-35,0),0.03999)","v":1.9300000000000001E-2},{"$f":"MIN(OFFSET(Female!U$18,'Female - Rev'!$A18-35,0),0.03999)","v":2.12E-2},{"$f":"MIN(OFFSET(Female!V$18,'Female - Rev'!$A18-35,0),0.03999)","v":2.3E-2},{"$f":"MIN(OFFSET(Female!W$18,'Female - Rev'!$A18-35,0),0.03999)","v":2.46E-2},{"$f":"MIN(OFFSET(Female!X$18,'Female - Rev'!$A18-35,0),0.03999)","v":2.58E-2},{"$f":"MIN(OFFSET(Female!Y$18,'Female - Rev'!$A18-35,0),0.03999)","v":2.64E-2},{"$f":"MIN(OFFSET(Female!Z$18,'Female - Rev'!$A18-35,0),0.03999)","v":2.6100000000000002E-2},{"$f":"MIN(OFFSET(Female!AA$18,'Female - Rev'!$A18-35,0),0.03999)","v":2.5000000000000001E-2},{"$f":"MIN(OFFSET(Female!AB$18,'Female - Rev'!$A18-35,0),0.03999)","v":2.3E-2},{"$f":"MIN(OFFSET(Female!AC$18,'Female - Rev'!$A18-35,0),0.03999)","v":2.0299999999999999E-2},{"$f":"MIN(OFFSET(Female!AD$18,'Female - Rev'!$A18-35,0),0.03999)","v":1.7299999999999999E-2},{"$f":"MIN(OFFSET(Female!AE$18,'Female - Rev'!$A18-35,0),0.03999)","v":1.4200000000000001E-2},{"$f":"MIN(OFFSET(Female!AF$18,'Female - Rev'!$A18-35,0),0.03999)","v":1.14E-2},{"$f":"MIN(OFFSET(Female!AG$18,'Female - Rev'!$A18-35,0),0.03999)","v":8.9999999999999993E-3},{"$f":"MIN(OFFSET(Female!AH$18,'Female - Rev'!$A18-35,0),0.03999)","v":7.3000000000000001E-3},{"$f":"MIN(OFFSET(Female!AI$18,'Female - Rev'!$A18-35,0),0.03999)","v":6.1999999999999998E-3},{"$f":"MIN(OFFSET(Female!AJ$18,'Female - Rev'!$A18-35,0),0.03999)","v":5.8999999999999999E-3},{"$f":"MIN(OFFSET(Female!AK$18,'Female - Rev'!$A18-35,0),0.03999)","v":6.1000000000000004E-3},{"$f":"MIN(OFFSET(Female!AL$18,'Female - Rev'!$A18-35,0),0.03999)","v":6.6E-3},{"$f":"MIN(OFFSET(Female!AM$18,'Female - Rev'!$A18-35,0),0.03999)","v":7.0000000000000001E-3},{"$f":"MIN(OFFSET(Female!AN$18,'Female - Rev'!$A18-35,0),0.03999)","v":7.1000000000000004E-3},{"$f":"MIN(OFFSET(Female!AO$18,'Female - Rev'!$A18-35,0),0.03999)","v":6.7000000000000002E-3},{"$f":"MIN(OFFSET(Female!AP$18,'Female - Rev'!$A18-35,0),0.03999)","v":5.5999999999999999E-3},{"$f":"MIN(OFFSET(Female!AQ$18,'Female - Rev'!$A18-35,0),0.03999)","v":4.1000000000000003E-3},{"$f":"MIN(OFFSET(Female!AR$18,'Female - Rev'!$A18-35,0),0.03999)","v":2.3E-3},{"$f":"MIN(OFFSET(Female!AS$18,'Female - Rev'!$A18-35,0),0.03999)","v":6.9999999999999999E-4},{"$f":"MIN(OFFSET(Female!AT$18,'Female - Rev'!$A18-35,0),0.03999)","v":-5.0000000000000001E-4},{"$f":"MIN(OFFSET(Female!AU$18,'Female - Rev'!$A18-35,0),0.03999)","v":-1.2999999999999999E-3},{"$f":"MIN(OFFSET(Female!AV$18,'Female - Rev'!$A18-35,0),0.03999)","v":-1.2999999999999999E-3},{"$f":"MIN(OFFSET(Female!AW$18,'Female - Rev'!$A18-35,0),0.03999)","v":-5.9999999999999995E-4},{"$f":"MIN(OFFSET(Female!AX$18,'Female - Rev'!$A18-35,0),0.03999)","v":1E-3},{"$f":"MIN(OFFSET(Female!AY$18,'Female - Rev'!$A18-35,0),0.03999)","v":3.3E-3},{"$f":"MIN(OFFSET(Female!AZ$18,'Female - Rev'!$A18-35,0),0.03999)","v":6.1000000000000004E-3},{"$f":"MIN(OFFSET(Female!BA$18,'Female - Rev'!$A18-35,0),0.03999)","v":9.1000000000000004E-3},{"$f":"MIN(OFFSET(Female!BB$18,'Female - Rev'!$A18-35,0),0.03999)","v":1.1900000000000001E-2},{"$f":"MIN(OFFSET(Female!BC$18,'Female - Rev'!$A18-35,0),0.03999)","v":1.4200000000000001E-2},{"$f":"MIN(OFFSET(Female!BD$18,'Female - Rev'!$A18-35,0),0.03999)","v":1.5699999999999999E-2},{"$f":"MIN(OFFSET(Female!BE$18,'Female - Rev'!$A18-35,0),0.03999)","v":1.6400000000000001E-2},{"$f":"MIN(OFFSET(Female!BF$18,'Female - Rev'!$A18-35,0),0.03999)","v":1.6299999999999999E-2},{"$f":"MIN(OFFSET(Female!BG$18,'Female - Rev'!$A18-35,0),0.03999)","v":1.54E-2},{"$f":"MIN(OFFSET(Female!BH$18,'Female - Rev'!$A18-35,0),0.03999)","v":1.4E-2},{"$f":"MIN(OFFSET(Female!BI$18,'Female - Rev'!$A18-35,0),0.03999)","v":1.2200000000000001E-2},{"$f":"MIN(OFFSET(Female!BJ$18,'Female - Rev'!$A18-35,0),0.03999)","v":1.03E-2},{"$f":"MIN(OFFSET(Female!BK$18,'Female - Rev'!$A18-35,0),0.03999)","v":8.3000000000000001E-3},{"$f":"MIN(OFFSET(Female!BL$18,'Female - Rev'!$A18-35,0),0.03999)","v":6.4999999999999997E-3},{"$f":"MIN(OFFSET(Female!BM$18,'Female - Rev'!$A18-35,0),0.03999)","v":4.8999999999999998E-3},{"$f":"MIN(OFFSET(Female!BN$18,'Female - Rev'!$A18-35,0),0.03999)","v":3.3E-3},{"$f":"MIN(OFFSET(Female!BO$18,'Female - Rev'!$A18-35,0),0.03999)","v":3.7000000000000002E-3},{"$f":"MIN(OFFSET(Female!BP$18,'Female - Rev'!$A18-35,0),0.03999)","v":4.3E-3},{"$f":"MIN(OFFSET(Female!BQ$18,'Female - Rev'!$A18-35,0),0.03999)","v":5.1000000000000004E-3},{"$f":"MIN(OFFSET(Female!BR$18,'Female - Rev'!$A18-35,0),0.03999)","v":6.0000000000000001E-3},{"$f":"MIN(OFFSET(Female!BS$18,'Female - Rev'!$A18-35,0),0.03999)","v":6.8999999999999999E-3},{"$f":"MIN(OFFSET(Female!BT$18,'Female - Rev'!$A18-35,0),0.03999)","v":7.7000000000000002E-3},{"$f":"MIN(OFFSET(Female!BU$18,'Female - Rev'!$A18-35,0),0.03999)","v":8.3999999999999995E-3},{"$f":"MIN(OFFSET(Female!BV$18,'Female - Rev'!$A18-35,0),0.03999)","v":8.9999999999999993E-3},{"$f":"MIN(OFFSET(Female!BW$18,'Female - Rev'!$A18-35,0),0.03999)","v":9.4000000000000004E-3},{"$f":"MIN(OFFSET(Female!BX$18,'Female - Rev'!$A18-35,0),0.03999)","v":9.4999999999999998E-3},{"$f":"MIN(OFFSET(Female!BY$18,'Female - Rev'!$A18-35,0),0.03999)","v":9.4999999999999998E-3},{"$f":"MIN(OFFSET(Female!BZ$18,'Female - Rev'!$A18-35,0),0.03999)","v":9.4000000000000004E-3},{"$f":"MIN(OFFSET(Female!CA$18,'Female - Rev'!$A18-35,0),0.03999)","v":9.2999999999999992E-3},{"$f":"MIN(OFFSET(Female!CB$18,'Female - Rev'!$A18-35,0),0.03999)","v":9.2999999999999992E-3},{"$f":"MIN(OFFSET(Female!CC$18,'Female - Rev'!$A18-35,0),0.03999)","v":9.2999999999999992E-3},{"$f":"MIN(OFFSET(Female!CD$18,'Female - Rev'!$A18-35,0),0.03999)","v":9.4000000000000004E-3},{"$f":"MIN(OFFSET(Female!CE$18,'Female - Rev'!$A18-35,0),0.03999)","v":9.4999999999999998E-3},{"$f":"MIN(OFFSET(Female!CF$18,'Female - Rev'!$A18-35,0),0.03999)","v":9.7999999999999997E-3},{"$f":"MIN(OFFSET(Female!CG$18,'Female - Rev'!$A18-35,0),0.03999)","v":9.9000000000000008E-3},{"$f":"MIN(OFFSET(Female!CH$18,'Female - Rev'!$A18-35,0),0.03999)","v":0.01}]
[79,79,{"$f":"MIN(OFFSET(Female!B$18,'Female - Rev'!$A19-35,0),0.03999)","v":1.5100000000000001E-2},{"$f":"MIN(OFFSET(Female!C$18,'Female - Rev'!$A19-35,0),0.03999)","v":1.4E-2},{"$f":"MIN(OFFSET(Female!D$18,'Female - Rev'!$A19-35,0),0.03999)","v":1.29E-2},{"$f":"MIN(OFFSET(Female!E$18,'Female - Rev'!$A19-35,0),0.03999)","v":1.18E-2},{"$f":"MIN(OFFSET(Female!F$18,'Female - Rev'!$A19-35,0),0.03999)","v":1.0800000000000001E-2},{"$f":"MIN(OFFSET(Female!G$18,'Female - Rev'!$A19-35,0),0.03999)","v":0.01},{"$f":"MIN(OFFSET(Female!H$18,'Female - Rev'!$A19-35,0),0.03999)","v":9.4000000000000004E-3},{"$f":"MIN(OFFSET(Female!I$18,'Female - Rev'!$A19-35,0),0.03999)","v":8.9999999999999993E-3},{"$f":"MIN(OFFSET(Female!J$18,'Female - Rev'!$A19-35,0),0.03999)","v":8.9999999999999993E-3},{"$f":"MIN(OFFSET(Female!K$18,'Female - Rev'!$A19-35,0),0.03999)","v":9.1000000000000004E-3},{"$f":"MIN(OFFSET(Female!L$18,'Female - Rev'!$A19-35,0),0.03999)","v":9.4000000000000004E-3},{"$f":"MIN(OFFSET(Female!M$18,'Female - Rev'!$A19-35,0),0.03999)","v":9.9000000000000008E-3},{"$f":"MIN(OFFSET(Female!N$18,'Female - Rev'!$A19-35,0),0.03999)","v":1.06E-2},{"$f":"MIN(OFFSET(Female!O$18,'Female - Rev'!$A19-35,0),0.03999)","v":1.15E-2},{"$f":"MIN(OFFSET(Female!P$18,'Female - Rev'!$A19-35,0),0.03999)","v":1.26E-2},{"$f":"MIN(OFFSET(Female!Q$18,'Female - Rev'!$A19-35,0),0.03999)","v":1.3899999999999999E-2},{"$f":"MIN(OFFSET(Female!R$18,'Female - Rev'!$A19-35,0),0.03999)","v":1.55E-2},{"$f":"MIN(OFFSET(Female!S$18,'Female - Rev'!$A19-35,0),0.03999)","v":1.72E-2},{"$f":"MIN(OFFSET(Female!T$18,'Female - Rev'!$A19-35,0),0.03999)","v":1.9099999999999999E-2},{"$f":"MIN(OFFSET(Female!U$18,'Female - Rev'!$A19-35,0),0.03999)","v":2.1000000000000001E-2},{"$f":"MIN(OFFSET(Female!V$18,'Female - Rev'!$A19-35,0),0.03999)","v":2.29E-2},{"$f":"MIN(OFFSET(Female!W$18,'Female - Rev'!$A19-35,0),0.03999)","v":2.4500000000000001E-2},{"$f":"MIN(OFFSET(Female!X$18,'Female - Rev'!$A19-35,0),0.03999)","v":2.58E-2},{"$f":"MIN(OFFSET(Female!Y$18,'Female - Rev'!$A19-35,0),0.03999)","v":2.64E-2},{"$f":"MIN(OFFSET(Female!Z$18,'Female - Rev'!$A19-35,0),0.03999)","v":2.6100000000000002E-2},{"$f":"MIN(OFFSET(Female!AA$18,'Female - Rev'!$A19-35,0),0.03999)","v":2.4799999999999999E-2},{"$f":"MIN(OFFSET(Female!AB$18,'Female - Rev'!$A19-35,0),0.03999)","v":2.2700000000000001E-2},{"$f":"MIN(OFFSET(Female!AC$18,'Female - Rev'!$A19-35,0),0.03999)","v":1.9900000000000001E-2},{"$f":"MIN(OFFSET(Female!AD$18,'Female - Rev'!$A19-35,0),0.03999)","v":1.67E-2},{"$f":"MIN(OFFSET(Female!AE$18,'Female - Rev'!$A19-35,0),0.03999)","v":1.35E-2},{"$f":"MIN(OFFSET(Female!AF$18,'Female - Rev'!$A19-35,0),0.03999)","v":1.06E-2},{"$f":"MIN(OFFSET(Female!AG$18,'Female - Rev'!$A19-35,0),0.03999)","v":8.2000000000000007E-3},{"$f":"MIN(OFFSET(Female!AH$18,'Female - Rev'!$A19-35,0),0.03999)","v":6.4999999999999997E-3},{"$f":"MIN(OFFSET(Female!AI$18,'Female - Rev'!$A19-35,0),0.03999)","v":5.4999999999999997E-3},{"$f":"MIN(OFFSET(Female!AJ$18,'Female - Rev'!$A19-35,0),0.03999)","v":5.4000000000000003E-3},{"$f":"MIN(OFFSET(Female!AK$18,'Female - Rev'!$A19-35,0),0.03999)","v":5.7999999999999996E-3},{"$f":"MIN(OFFSET(Female!AL$18,'Female - Rev'!$A19-35,0),0.03999)","v":6.4000000000000003E-3},{"$f":"MIN(OFFSET(Female!AM$18,'Female - Rev'!$A19-35,0),0.03999)","v":7.1000000000000004E-3},{"$f":"MIN(OFFSET(Female!AN$18,'Female - Rev'!$A19-35,0),0.03999)","v":7.3000000000000001E-3},{"$f":"MIN(OFFSET(Female!AO$18,'Female - Rev'!$A19-35,0),0.03999)","v":7.0000000000000001E-3},{"$f":"MIN(OFFSET(Female!AP$18,'Female - Rev'!$A19-35,0),0.03999)","v":6.0000000000000001E-3},{"$f":"MIN(OFFSET(Female!AQ$18,'Female - Rev'!$A19-35,0),0.03999)","v":4.4999999999999997E-3},{"$f":"MIN(OFFSET(Female!AR$18,'Female - Rev'!$A19-35,0),0.03999)","v":2.8E-3},{"$f":"MIN(OFFSET(Female!AS$18,'Female - Rev'!$A19-35,0),0.03999)","v":1.1999999999999999E-3},{"$f":"MIN(OFFSET(Female!AT$18,'Female - Rev'!$A19-35,0),0.03999)","v":0},{"$f":"MIN(OFFSET(Female!AU$18,'Female - Rev'!$A19-35,0),0.03999)","v":-6.9999999999999999E-4},{"$f":"MIN(OFFSET(Female!AV$18,'Female - Rev'!$A19-35,0),0.03999)","v":-6.9999999999999999E-4},{"$f":"MIN(OFFSET(Female!AW$18,'Female - Rev'!$A19-35,0),0.03999)","v":0},{"$f":"MIN(OFFSET(Female!AX$18,'Female - Rev'!$A19-35,0),0.03999)","v":1.5E-3},{"$f":"MIN(OFFSET(Female!AY$18,'Female - Rev'!$A19-35,0),0.03999)","v":3.8E-3},{"$f":"MIN(OFFSET(Female!AZ$18,'Female - Rev'!$A19-35,0),0.03999)","v":6.4999999999999997E-3},{"$f":"MIN(OFFSET(Female!BA$18,'Female - Rev'!$A19-35,0),0.03999)","v":9.4000000000000004E-3},{"$f":"MIN(OFFSET(Female!BB$18,'Female - Rev'!$A19-35,0),0.03999)","v":1.2200000000000001E-2},{"$f":"MIN(OFFSET(Female!BC$18,'Female - Rev'!$A19-35,0),0.03999)","v":1.4500000000000001E-2},{"$f":"MIN(OFFSET(Female!BD$18,'Female - Rev'!$A19-35,0),0.03999)","v":1.6E-2},{"$f":"MIN(OFFSET(Female!BE$18,'Female - Rev'!$A19-35,0),0.03999)","v":1.67E-2},{"$f":"MIN(OFFSET(Female!BF$18,'Female - Rev'!$A19-35,0),0.03999)","v":1.66E-2},{"$f":"MIN(OFFSET(Female!BG$18,'Female - Rev'!$A19-35,0),0.03999)","v":1.5800000000000002E-2},{"$f":"MIN(OFFSET(Female!BH$18,'Female - Rev'!$A19-35,0),0.03999)","v":1.44E-2},{"$f":"MIN(OFFSET(Female!BI$18,'Female - Rev'!$A19-35,0),0.03999)","v":1.2699999999999999E-2},{"$f":"MIN(OFFSET(Female!BJ$18,'Female - Rev'!$A19-35,0),0.03999)","v":1.0800000000000001E-2},{"$f":"MIN(OFFSET(Female!BK$18,'Female - Rev'!$A19-35,0),0.03999)","v":8.8999999999999999E-3},{"$f":"MIN(OFFSET(Female!BL$18,'Female - Rev'!$A19-35,0),0.03999)","v":7.1000000000000004E-3},{"$f":"MIN(OFFSET(Female!BM$18,'Female - Rev'!$A19-35,0),0.03999)","v":5.4999999999999997E-3},{"$f":"MIN(OFFSET(Female!BN$18,'Female - Rev'!$A19-35,0),0.03999)","v":3.8999999999999998E-3},{"$f":"MIN(OFFSET(Female!BO$18,'Female - Rev'!$A19-35,0),0.03999)","v":4.3E-3},{"$f":"MIN(OFFSET(Female!BP$18,'Female - Rev'!$A19-35,0),0.03999)","v":5.0000000000000001E-3},{"$f":"MIN(OFFSET(Female!BQ$18,'Female - Rev'!$A19-35,0),0.03999)","v":5.7000000000000002E-3},{"$f":"MIN(OFFSET(Female!BR$18,'Female - Rev'!$A19-35,0),0.03999)","v":6.4999999999999997E-3},{"$f":"MIN(OFFSET(Female!BS$18,'Female - Rev'!$A19-35,0),0.03999)","v":7.3000000000000001E-3},{"$f":"MIN(OFFSET(Female!BT$18,'Female - Rev'!$A19-35,0),0.03999)","v":8.0999999999999996E-3},{"$f":"MIN(OFFSET(Female!BU$18,'Female - Rev'!$A19-35,0),0.03999)","v":8.6999999999999994E-3},{"$f":"MIN(OFFSET(Female!BV$18,'Female - Rev'!$A19-35,0),0.03999)","v":9.1999999999999998E-3},{"$f":"MIN(OFFSET(Female!BW$18,'Female - Rev'!$A19-35,0),0.03999)","v":9.4000000000000004E-3},{"$f":"MIN(OFFSET(Female!BX$18,'Female - Rev'!$A19-35,0),0.03999)","v":9.4999999999999998E-3},{"$f":"MIN(OFFSET(Female!BY$18,'Female - Rev'!$A19-35,0),0.03999)","v":9.2999999999999992E-3},{"$f":"MIN(OFFSET(Female!BZ$18,'Female - Rev'!$A19-35,0),0.03999)","v":9.1999999999999998E-3},{"$f":"MIN(OFFSET(Female!CA$18,'Female - Rev'!$A19-35,0),0.03999)","v":9.1000000000000004E-3},{"$f":"MIN(OFFSET(Female!CB$18,'Female - Rev'!$A19-35,0),0.03999)","v":8.9999999999999993E-3},{"$f":"MIN(OFFSET(Female!CC$18,'Female - Rev'!$A19-35,0),0.03999)","v":9.1000000000000004E-3},{"$f":"MIN(OFFSET(Female!CD$18,'Female - Rev'!$A19-35,0),0.03999)","v":9.1999999999999998E-3},{"$f":"MIN(OFFSET(Female!CE$18,'Female - Rev'!$A19-35,0),0.03999)","v":9.4999999999999998E-3},{"$f":"MIN(OFFSET(Female!CF$18,'Female - Rev'!$A19-35,0),0.03999)","v":9.7000000000000003E-3},{"$f":"MIN(OFFSET(Female!CG$18,'Female - Rev'!$A19-35,0),0.03999)","v":9.9000000000000008E-3},{"$f":"MIN(OFFSET(Female!CH$18,'Female - Rev'!$A19-35,0),0.03999)","v":0.01}]
[78,78,{"$f":"MIN(OFFSET(Female!B$18,'Female - Rev'!$A20-35,0),0.03999)","v":1.67E-2},{"$f":"MIN(OFFSET(Female!C$18,'Female - Rev'!$A20-35,0),0.03999)","v":1.55E-2},{"$f":"MIN(OFFSET(Female!D$18,'Female - Rev'!$A20-35,0),0.03999)","v":1.43E-2},{"$f":"MIN(OFFSET(Female!E$18,'Female - Rev'!$A20-35,0),0.03999)","v":1.32E-2},{"$f":"MIN(OFFSET(Female!F$18,'Female - Rev'!$A20-35,0),0.03999)","v":1.2200000000000001E-2},{"$f":"MIN(OFFSET(Female!G$18,'Female - Rev'!$A20-35,0),0.03999)","v":1.1299999999999999E-2},{"$f":"MIN(OFFSET(Female!H$18,'Female - Rev'!$A20-35,0),0.03999)","v":1.06E-2},{"$f":"MIN(OFFSET(Female!I$18,'Female - Rev'!$A20-35,0),0.03999)","v":1.0200000000000001E-2},{"$f":"MIN(OFFSET(Female!J$18,'Female - Rev'!$A20-35,0),0.03999)","v":0.01},{"$f":"MIN(OFFSET(Female!K$18,'Female - Rev'!$A20-35,0),0.03999)","v":9.9000000000000008E-3},{"$f":"MIN(OFFSET(Female!L$18,'Female - Rev'!$A20-35,0),0.03999)","v":1.01E-2},{"$f":"MIN(OFFSET(Female!M$18,'Female - Rev'!$A20-35,0),0.03999)","v":1.04E-2},{"$f":"MIN(OFFSET(Female!N$18,'Female - Rev'!$A20-35,0),0.03999)","v":1.09E-2},{"$f":"MIN(OFFSET(Female!O$18,'Female - Rev'!$A20-35,0),0.03999)","v":1.17E-2},{"$f":"MIN(OFFSET(Female!P$18,'Female - Rev'!$A20-35,0),0.03999)","v":1.26E-2},{"$f":"MIN(OFFSET(Female!Q$18,'Female - Rev'!$A20-35,0),0.03999)","v":1.3899999999999999E-2},{"$f":"MIN(OFFSET(Female!R$18,'Female - Rev'!$A20-35,0),0.03999)","v":1.5299999999999999E-2},{"$f":"MIN(OFFSET(Female!S$18,'Female - Rev'!$A20-35,0),0.03999)","v":1.7000000000000001E-2},{"$f":"MIN(OFFSET(Female!T$18,'Female - Rev'!$A20-35,0),0.03999)","v":1.89E-2},{"$f":"MIN(OFFSET(Female!U$18,'Female - Rev'!$A20-35,0),0.03999)","v":2.0799999999999999E-2},{"$f":"MIN(OFFSET(Female!V$18,'Female - Rev'!$A20-35,0),0.03999)","v":2.2700000000000001E-2},{"$f":"MIN(OFFSET(Female!W$18,'Female - Rev'!$A20-35,0),0.03999)","v":2.4400000000000002E-2},{"$f":"MIN(OFFSET(Female!X$18,'Female - Rev'!$A20-35,0),0.03999)","v":2.5700000000000001E-2},{"$f":"MIN(OFFSET(Female!Y$18,'Female - Rev'!$A20-35,0),0.03999)","v":2.6200000000000001E-2},{"$f":"MIN(OFFSET(Female!Z$18,'Female - Rev'!$A20-35,0),0.03999)","v":2.5899999999999999E-2},{"$f":"MIN(OFFSET(Female!AA$18,'Female - Rev'!$A20-35,0),0.03999)","v":2.4500000000000001E-2},{"$f":"MIN(OFFSET(Female!AB$18,'Female - Rev'!$A20-35,0),0.03999)","v":2.23E-2},{"$f":"MIN(OFFSET(Female!AC$18,'Female - Rev'!$A20-35,0),0.03999)","v":1.9300000000000001E-2},{"$f":"MIN(OFFSET(Female!AD$18,'Female - Rev'!$A20-35,0),0.03999)","v":1.6E-2},{"$f":"MIN(OFFSET(Female!AE$18,'Female - Rev'!$A20-35,0),0.03999)","v":1.26E-2},{"$f":"MIN(OFFSET(Female!AF$18,'Female - Rev'!$A20-35,0),0.03999)","v":9.7000000000000003E-3},{"$f":"MIN(OFFSET(Female!AG$18,'Female - Rev'!$A20-35,0),0.03999)","v":7.3000000000000001E-3},{"$f":"MIN(OFFSET(Female!AH$18,'Female - Rev'!$A20-35,0),0.03999)","v":5.5999999999999999E-3},{"$f":"MIN(OFFSET(Female!AI$18,'Female - Rev'!$A20-35,0),0.03999)","v":4.7999999999999996E-3},{"$f":"MIN(OFFSET(Female!AJ$18,'Female - Rev'!$A20-35,0),0.03999)","v":4.7999999999999996E-3},{"$f":"MIN(OFFSET(Female!AK$18,'Female - Rev'!$A20-35,0),0.03999)","v":5.4000000000000003E-3},{"$f":"MIN(OFFSET(Female!AL$18,'Female - Rev'!$A20-35,0),0.03999)","v":6.3E-3},{"$f":"MIN(OFFSET(Female!AM$18,'Female - Rev'!$A20-35,0),0.03999)","v":7.1000000000000004E-3},{"$f":"MIN(OFFSET(Female!AN$18,'Female - Rev'!$A20-35,0),0.03999)","v":7.4999999999999997E-3},{"$f":"MIN(OFFSET(Female!AO$18,'Female - Rev'!$A20-35,0),0.03999)","v":7.1999999999999998E-3},{"$f":"MIN(OFFSET(Female!AP$18,'Female - Rev'!$A20-35,0),0.03999)","v":6.3E-3},{"$f":"MIN(OFFSET(Female!AQ$18,'Female - Rev'!$A20-35,0),0.03999)","v":4.8999999999999998E-3},{"$f":"MIN(OFFSET(Female!AR$18,'Female - Rev'!$A20-35,0),0.03999)","v":3.2000000000000002E-3},{"$f":"MIN(OFFSET(Female!AS$18,'Female - Rev'!$A20-35,0),0.03999)","v":1.6999999999999999E-3},{"$f":"MIN(OFFSET(Female!AT$18,'Female - Rev'!$A20-35,0),0.03999)","v":5.0000000000000001E-4},{"$f":"MIN(OFFSET(Female!AU$18,'Female - Rev'!$A20-35,0),0.03999)","v":-1E-4},{"$f":"MIN(OFFSET(Female!AV$18,'Female - Rev'!$A20-35,0),0.03999)","v":-1E-4},{"$f":"MIN(OFFSET(Female!AW$18,'Female - Rev'!$A20-35,0),0.03999)","v":5.9999999999999995E-4},{"$f":"MIN(OFFSET(Female!AX$18,'Female - Rev'!$A20-35,0),0.03999)","v":2E-3},{"$f":"MIN(OFFSET(Female!AY$18,'Female - Rev'!$A20-35,0),0.03999)","v":4.1999999999999997E-3},{"$f":"MIN(OFFSET(Female!AZ$18,'Female - Rev'!$A20-35,0),0.03999)","v":6.8999999999999999E-3},{"$f":"MIN(OFFSET(Female!BA$18,'Female - Rev'!$A20-35,0),0.03999)","v":9.7999999999999997E-3},{"$f":"MIN(OFFSET(Female!BB$18,'Female - Rev'!$A20-35,0),0.03999)","v":1.2500000000000001E-2},{"$f":"MIN(OFFSET(Female!BC$18,'Female - Rev'!$A20-35,0),0.03999)","v":1.4800000000000001E-2},{"$f":"MIN(OFFSET(Female!BD$18,'Female - Rev'!$A20-35,0),0.03999)","v":1.6299999999999999E-2},{"$f":"MIN(OFFSET(Female!BE$18,'Female - Rev'!$A20-35,0),0.03999)","v":1.7000000000000001E-2},{"$f":"MIN(OFFSET(Female!BF$18,'Female - Rev'!$A20-35,0),0.03999)","v":1.6899999999999998E-2},{"$f":"MIN(OFFSET(Female!BG$18,'Female - Rev'!$A20-35,0),0.03999)","v":1.6199999999999999E-2},{"$f":"MIN(OFFSET(Female!BH$18,'Female - Rev'!$A20-35,0),0.03999)","v":1.49E-2},{"$f":"MIN(OFFSET(Female!BI$18,'Female - Rev'!$A20-35,0),0.03999)","v":1.32E-2},{"$f":"MIN(OFFSET(Female!BJ$18,'Female - Rev'!$A20-35,0),0.03999)","v":1.14E-2},{"$f":"MIN(OFFSET(Female!BK$18,'Female - Rev'!$A20-35,0),0.03999)","v":9.4999999999999998E-3},{"$f":"MIN(OFFSET(Female!BL$18,'Female - Rev'!$A20-35,0),0.03999)","v":7.7999999999999996E-3},{"$f":"MIN(OFFSET(Female!BM$18,'Female - Rev'!$A20-35,0),0.03999)","v":6.1000000000000004E-3},{"$f":"MIN(OFFSET(Female!BN$18,'Female - Rev'!$A20-35,0),0.03999)","v":4.5999999999999999E-3},{"$f":"MIN(OFFSET(Female!BO$18,'Female - Rev'!$A20-35,0),0.03999)","v":5.0000000000000001E-3},{"$f":"MIN(OFFSET(Female!BP$18,'Female - Rev'!$A20-35,0),0.03999)","v":5.5999999999999999E-3},{"$f":"MIN(OFFSET(Female!BQ$18,'Female - Rev'!$A20-35,0),0.03999)","v":6.3E-3},{"$f":"MIN(OFFSET(Female!BR$18,'Female - Rev'!$A20-35,0),0.03999)","v":7.1000000000000004E-3},{"$f":"MIN(OFFSET(Female!BS$18,'Female - Rev'!$A20-35,0),0.03999)","v":7.7999999999999996E-3},{"$f":"MIN(OFFSET(Female!BT$18,'Female - Rev'!$A20-35,0),0.03999)","v":8.3999999999999995E-3},{"$f":"MIN(OFFSET(Female!BU$18,'Female - Rev'!$A20-35,0),0.03999)","v":8.8999999999999999E-3},{"$f":"MIN(OFFSET(Female!BV$18,'Female - Rev'!$A20-35,0),0.03999)","v":9.1999999999999998E-3},{"$f":"MIN(OFFSET(Female!BW$18,'Female - Rev'!$A20-35,0),0.03999)","v":9.2999999999999992E-3},{"$f":"MIN(OFFSET(Female!BX$18,'Female - Rev'!$A20-35,0),0.03999)","v":9.2999999999999992E-3},{"$f":"MIN(OFFSET(Female!BY$18,'Female - Rev'!$A20-35,0),0.03999)","v":8.9999999999999993E-3},{"$f":"MIN(OFFSET(Female!BZ$18,'Female - Rev'!$A20-35,0),0.03999)","v":8.8999999999999999E-3},{"$f":"MIN(OFFSET(Female!CA$18,'Female - Rev'!$A20-35,0),0.03999)","v":8.6999999999999994E-3},{"$f":"MIN(OFFSET(Female!CB$18,'Female - Rev'!$A20-35,0),0.03999)","v":8.6999999999999994E-3},{"$f":"MIN(OFFSET(Female!CC$18,'Female - Rev'!$A20-35,0),0.03999)","v":8.8000000000000005E-3},{"$f":"MIN(OFFSET(Female!CD$18,'Female - Rev'!$A20-35,0),0.03999)","v":9.1000000000000004E-3},{"$f":"MIN(OFFSET(Female!CE$18,'Female - Rev'!$A20-35,0),0.03999)","v":9.4000000000000004E-3},{"$f":"MIN(OFFSET(Female!CF$18,'Female - Rev'!$A20-35,0),0.03999)","v":9.7000000000000003E-3},{"$f":"MIN(OFFSET(Female!CG$18,'Female - Rev'!$A20-35,0),0.03999)","v":9.9000000000000008E-3},{"$f":"MIN(OFFSET(Female!CH$18,'Female - Rev'!$A20-35,0),0.03999)","v":0.01}]
[77,77,{"$f":"MIN(OFFSET(Female!B$18,'Female - Rev'!$A21-35,0),0.03999)","v":1.7999999999999999E-2},{"$f":"MIN(OFFSET(Female!C$18,'Female - Rev'!$A21-35,0),0.03999)","v":1.6799999999999999E-2},{"$f":"MIN(OFFSET(Female!D$18,'Female - Rev'!$A21-35,0),0.03999)","v":1.5599999999999999E-2},{"$f":"MIN(OFFSET(Female!E$18,'Female - Rev'!$A21-35,0),0.03999)","v":1.44E-2},{"$f":"MIN(OFFSET(Female!F$18,'Female - Rev'!$A21-35,0),0.03999)","v":1.3299999999999999E-2},{"$f":"MIN(OFFSET(Female!G$18,'Female - Rev'!$A21-35,0),0.03999)","v":1.24E-2},{"$f":"MIN(OFFSET(Female!H$18,'Female - Rev'!$A21-35,0),0.03999)","v":1.17E-2},{"$f":"MIN(OFFSET(Female!I$18,'Female - Rev'!$A21-35,0),0.03999)","v":1.12E-2},{"$f":"MIN(OFFSET(Female!J$18,'Female - Rev'!$A21-35,0),0.03999)","v":1.09E-2},{"$f":"MIN(OFFSET(Female!K$18,'Female - Rev'!$A21-35,0),0.03999)","v":1.0699999999999999E-2},{"$f":"MIN(OFFSET(Female!L$18,'Female - Rev'!$A21-35,0),0.03999)","v":1.0699999999999999E-2},{"$f":"MIN(OFFSET(Female!M$18,'Female - Rev'!$A21-35,0),0.03999)","v":1.0800000000000001E-2},{"$f":"MIN(OFFSET(Female!N$18,'Female - Rev'!$A21-35,0),0.03999)","v":1.12E-2},{"$f":"MIN(OFFSET(Female!O$18,'Female - Rev'!$A21-35,0),0.03999)","v":1.18E-2},{"$f":"MIN(OFFSET(Female!P$18,'Female - Rev'!$A21-35,0),0.03999)","v":1.2699999999999999E-2},{"$f":"MIN(OFFSET(Female!Q$18,'Female - Rev'!$A21-35,0),0.03999)","v":1.38E-2},{"$f":"MIN(OFFSET(Female!R$18,'Female - Rev'!$A21-35,0),0.03999)","v":1.52E-2},{"$f":"MIN(OFFSET(Female!S$18,'Female - Rev'!$A21-35,0),0.03999)","v":1.6899999999999998E-2},{"$f":"MIN(OFFSET(Female!T$18,'Female - Rev'!$A21-35,0),0.03999)","v":1.8700000000000001E-2},{"$f":"MIN(OFFSET(Female!U$18,'Female - Rev'!$A21-35,0),0.03999)","v":2.07E-2},{"$f":"MIN(OFFSET(Female!V$18,'Female - Rev'!$A21-35,0),0.03999)","v":2.2499999999999999E-2},{"$f":"MIN(OFFSET(Female!W$18,'Female - Rev'!$A21-35,0),0.03999)","v":2.4199999999999999E-2},{"$f":"MIN(OFFSET(Female!X$18,'Female - Rev'!$A21-35,0),0.03999)","v":2.5499999999999998E-2},{"$f":"MIN(OFFSET(Female!Y$18,'Female - Rev'!$A21-35,0),0.03999)","v":2.5999999999999999E-2},{"$f":"MIN(OFFSET(Female!Z$18,'Female - Rev'!$A21-35,0),0.03999)","v":2.5499999999999998E-2},{"$f":"MIN(OFFSET(Female!AA$18,'Female - Rev'!$A21-35,0),0.03999)","v":2.4E-2},{"$f":"MIN(OFFSET(Female!AB$18,'Female - Rev'!$A21-35,0),0.03999)","v":2.1600000000000001E-2},{"$f":"MIN(OFFSET(Female!AC$18,'Female - Rev'!$A21-35,0),0.03999)","v":1.8499999999999999E-2},{"$f":"MIN(OFFSET(Female!AD$18,'Female - Rev'!$A21-35,0),0.03999)","v":1.4999999999999999E-2},{"$f":"MIN(OFFSET(Female!AE$18,'Female - Rev'!$A21-35,0),0.03999)","v":1.1599999999999999E-2},{"$f":"MIN(OFFSET(Female!AF$18,'Female - Rev'!$A21-35,0),0.03999)","v":8.6E-3},{"$f":"MIN(OFFSET(Female!AG$18,'Female - Rev'!$A21-35,0),0.03999)","v":6.3E-3},{"$f":"MIN(OFFSET(Female!AH$18,'Female - Rev'!$A21-35,0),0.03999)","v":4.7000000000000002E-3},{"$f":"MIN(OFFSET(Female!AI$18,'Female - Rev'!$A21-35,0),0.03999)","v":4.1000000000000003E-3},{"$f":"MIN(OFFSET(Female!AJ$18,'Female - Rev'!$A21-35,0),0.03999)","v":4.3E-3},{"$f":"MIN(OFFSET(Female!AK$18,'Female - Rev'!$A21-35,0),0.03999)","v":5.1000000000000004E-3},{"$f":"MIN(OFFSET(Female!AL$18,'Female - Rev'!$A21-35,0),0.03999)","v":6.1000000000000004E-3},{"$f":"MIN(OFFSET(Female!AM$18,'Female - Rev'!$A21-35,0),0.03999)","v":7.1000000000000004E-3},{"$f":"MIN(OFFSET(Female!AN$18,'Female - Rev'!$A21-35,0),0.03999)","v":7.6E-3},{"$f":"MIN(OFFSET(Female!AO$18,'Female - Rev'!$A21-35,0),0.03999)","v":7.4000000000000003E-3},{"$f":"MIN(OFFSET(Female!AP$18,'Female - Rev'!$A21-35,0),0.03999)","v":6.4999999999999997E-3},{"$f":"MIN(OFFSET(Female!AQ$18,'Female - Rev'!$A21-35,0),0.03999)","v":5.1000000000000004E-3},{"$f":"MIN(OFFSET(Female!AR$18,'Female - Rev'!$A21-35,0),0.03999)","v":3.5999999999999999E-3},{"$f":"MIN(OFFSET(Female!AS$18,'Female - Rev'!$A21-35,0),0.03999)","v":2.0999999999999999E-3},{"$f":"MIN(OFFSET(Female!AT$18,'Female - Rev'!$A21-35,0),0.03999)","v":1E-3},{"$f":"MIN(OFFSET(Female!AU$18,'Female - Rev'!$A21-35,0),0.03999)","v":4.0000000000000002E-4},{"$f":"MIN(OFFSET(Female!AV$18,'Female - Rev'!$A21-35,0),0.03999)","v":4.0000000000000002E-4},{"$f":"MIN(OFFSET(Female!AW$18,'Female - Rev'!$A21-35,0),0.03999)","v":1.1000000000000001E-3},{"$f":"MIN(OFFSET(Female!AX$18,'Female - Rev'!$A21-35,0),0.03999)","v":2.5000000000000001E-3},{"$f":"MIN(OFFSET(Female!AY$18,'Female - Rev'!$A21-35,0),0.03999)","v":4.5999999999999999E-3},{"$f":"MIN(OFFSET(Female!AZ$18,'Female - Rev'!$A21-35,0),0.03999)","v":7.3000000000000001E-3},{"$f":"MIN(OFFSET(Female!BA$18,'Female - Rev'!$A21-35,0),0.03999)","v":1.01E-2},{"$f":"MIN(OFFSET(Female!BB$18,'Female - Rev'!$A21-35,0),0.03999)","v":1.2800000000000001E-2},{"$f":"MIN(OFFSET(Female!BC$18,'Female - Rev'!$A21-35,0),0.03999)","v":1.4999999999999999E-2},{"$f":"MIN(OFFSET(Female!BD$18,'Female - Rev'!$A21-35,0),0.03999)","v":1.66E-2},{"$f":"MIN(OFFSET(Female!BE$18,'Female - Rev'!$A21-35,0),0.03999)","v":1.7299999999999999E-2},{"$f":"MIN(OFFSET(Female!BF$18,'Female - Rev'!$A21-35,0),0.03999)","v":1.7299999999999999E-2},{"$f":"MIN(OFFSET(Female!BG$18,'Female - Rev'!$A21-35,0),0.03999)","v":1.66E-2},{"$f":"MIN(OFFSET(Female!BH$18,'Female - Rev'!$A21-35,0),0.03999)","v":1.54E-2},{"$f":"MIN(OFFSET(Female!BI$18,'Female - Rev'!$A21-35,0),0.03999)","v":1.38E-2},{"$f":"MIN(OFFSET(Female!BJ$18,'Female - Rev'!$A21-35,0),0.03999)","v":1.2E-2},{"$f":"MIN(OFFSET(Female!BK$18,'Female - Rev'!$A21-35,0),0.03999)","v":1.0200000000000001E-2},{"$f":"MIN(OFFSET(Female!BL$18,'Female - Rev'!$A21-35,0),0.03999)","v":8.3999999999999995E-3},{"$f":"MIN(OFFSET(Female!BM$18,'Female - Rev'!$A21-35,0),0.03999)","v":6.7999999999999996E-3},{"$f":"MIN(OFFSET(Female!BN$18,'Female - Rev'!$A21-35,0),0.03999)","v":5.3E-3},{"$f":"MIN(OFFSET(Female!BO$18,'Female - Rev'!$A21-35,0),0.03999)","v":5.7999999999999996E-3},{"$f":"MIN(OFFSET(Female!BP$18,'Female - Rev'!$A21-35,0),0.03999)","v":6.3E-3},{"$f":"MIN(OFFSET(Female!BQ$18,'Female - Rev'!$A21-35,0),0.03999)","v":6.8999999999999999E-3},{"$f":"MIN(OFFSET(Female!BR$18,'Female - Rev'!$A21-35,0),0.03999)","v":7.6E-3},{"$f":"MIN(OFFSET(Female!BS$18,'Female - Rev'!$A21-35,0),0.03999)","v":8.2000000000000007E-3},{"$f":"MIN(OFFSET(Female!BT$18,'Female - Rev'!$A21-35,0),0.03999)","v":8.6E-3},{"$f":"MIN(OFFSET(Female!BU$18,'Female - Rev'!$A21-35,0),0.03999)","v":8.9999999999999993E-3},{"$f":"MIN(OFFSET(Female!BV$18,'Female - Rev'!$A21-35,0),0.03999)","v":9.1000000000000004E-3},{"$f":"MIN(OFFSET(Female!BW$18,'Female - Rev'!$A21-35,0),0.03999)","v":9.1000000000000004E-3},{"$f":"MIN(OFFSET(Female!BX$18,'Female - Rev'!$A21-35,0),0.03999)","v":8.8999999999999999E-3},{"$f":"MIN(OFFSET(Female!BY$18,'Female - Rev'!$A21-35,0),0.03999)","v":8.6E-3},{"$f":"MIN(OFFSET(Female!BZ$18,'Female - Rev'!$A21-35,0),0.03999)","v":8.3999999999999995E-3},{"$f":"MIN(OFFSET(Female!CA$18,'Female - Rev'!$A21-35,0),0.03999)","v":8.3000000000000001E-3},{"$f":"MIN(OFFSET(Female!CB$18,'Female - Rev'!$A21-35,0),0.03999)","v":8.3999999999999995E-3},{"$f":"MIN(OFFSET(Female!CC$18,'Female - Rev'!$A21-35,0),0.03999)","v":8.6E-3},{"$f":"MIN(OFFSET(Female!CD$18,'Female - Rev'!$A21-35,0),0.03999)","v":8.8999999999999999E-3},{"$f":"MIN(OFFSET(Female!CE$18,'Female - Rev'!$A21-35,0),0.03999)","v":9.2999999999999992E-3},{"$f":"MIN(OFFSET(Female!CF$18,'Female - Rev'!$A21-35,0),0.03999)","v":9.7000000000000003E-3},{"$f":"MIN(OFFSET(Female!CG$18,'Female - Rev'!$A21-35,0),0.03999)","v":9.9000000000000008E-3},{"$f":"MIN(OFFSET(Female!CH$18,'Female - Rev'!$A21-35,0),0.03999)","v":0.01}]
[76,76,{"$f":"MIN(OFFSET(Female!B$18,'Female - Rev'!$A22-35,0),0.03999)","v":1.9099999999999999E-2},{"$f":"MIN(OFFSET(Female!C$18,'Female - Rev'!$A22-35,0),0.03999)","v":1.78E-2},{"$f":"MIN(OFFSET(Female!D$18,'Female - Rev'!$A22-35,0),0.03999)","v":1.66E-2},{"$f":"MIN(OFFSET(Female!E$18,'Female - Rev'!$A22-35,0),0.03999)","v":1.54E-2},{"$f":"MIN(OFFSET(Female!F$18,'Female - Rev'!$A22-35,0),0.03999)","v":1.43E-2},{"$f":"MIN(OFFSET(Female!G$18,'Female - Rev'!$A22-35,0),0.03999)","v":1.3299999999999999E-2},{"$f":"MIN(OFFSET(Female!H$18,'Female - Rev'!$A22-35,0),0.03999)","v":1.2500000000000001E-2},{"$f":"MIN(OFFSET(Female!I$18,'Female - Rev'!$A22-35,0),0.03999)","v":1.1900000000000001E-2},{"$f":"MIN(OFFSET(Female!J$18,'Female - Rev'!$A22-35,0),0.03999)","v":1.1599999999999999E-2},{"$f":"MIN(OFFSET(Female!K$18,'Female - Rev'!$A22-35,0),0.03999)","v":1.1299999999999999E-2},{"$f":"MIN(OFFSET(Female!L$18,'Female - Rev'!$A22-35,0),0.03999)","v":1.12E-2},{"$f":"MIN(OFFSET(Female!M$18,'Female - Rev'!$A22-35,0),0.03999)","v":1.1299999999999999E-2},{"$f":"MIN(OFFSET(Female!N$18,'Female - Rev'!$A22-35,0),0.03999)","v":1.15E-2},{"$f":"MIN(OFFSET(Female!O$18,'Female - Rev'!$A22-35,0),0.03999)","v":1.2E-2},{"$f":"MIN(OFFSET(Female!P$18,'Female - Rev'!$A22-35,0),0.03999)","v":1.2800000000000001E-2},{"$f":"MIN(OFFSET(Female!Q$18,'Female - Rev'!$A22-35,0),0.03999)","v":1.38E-2},{"$f":"MIN(OFFSET(Female!R$18,'Female - Rev'!$A22-35,0),0.03999)","v":1.52E-2},{"$f":"MIN(OFFSET(Female!S$18,'Female - Rev'!$A22-35,0),0.03999)","v":1.6799999999999999E-2},{"$f":"MIN(OFFSET(Female!T$18,'Female - Rev'!$A22-35,0),0.03999)","v":1.8599999999999998E-2},{"$f":"MIN(OFFSET(Female!U$18,'Female - Rev'!$A22-35,0),0.03999)","v":2.0500000000000001E-2},{"$f":"MIN(OFFSET(Female!V$18,'Female - Rev'!$A22-35,0),0.03999)","v":2.23E-2},{"$f":"MIN(OFFSET(Female!W$18,'Female - Rev'!$A22-35,0),0.03999)","v":2.4E-2},{"$f":"MIN(OFFSET(Female!X$18,'Female - Rev'!$A22-35,0),0.03999)","v":2.52E-2},{"$f":"MIN(OFFSET(Female!Y$18,'Female - Rev'!$A22-35,0),0.03999)","v":2.5600000000000001E-2},{"$f":"MIN(OFFSET(Female!Z$18,'Female - Rev'!$A22-35,0),0.03999)","v":2.5000000000000001E-2},{"$f":"MIN(OFFSET(Female!AA$18,'Female - Rev'!$A22-35,0),0.03999)","v":2.3300000000000001E-2},{"$f":"MIN(OFFSET(Female!AB$18,'Female - Rev'!$A22-35,0),0.03999)","v":2.07E-2},{"$f":"MIN(OFFSET(Female!AC$18,'Female - Rev'!$A22-35,0),0.03999)","v":1.7399999999999999E-2},{"$f":"MIN(OFFSET(Female!AD$18,'Female - Rev'!$A22-35,0),0.03999)","v":1.3899999999999999E-2},{"$f":"MIN(OFFSET(Female!AE$18,'Female - Rev'!$A22-35,0),0.03999)","v":1.04E-2},{"$f":"MIN(OFFSET(Female!AF$18,'Female - Rev'!$A22-35,0),0.03999)","v":7.4999999999999997E-3},{"$f":"MIN(OFFSET(Female!AG$18,'Female - Rev'!$A22-35,0),0.03999)","v":5.1999999999999998E-3},{"$f":"MIN(OFFSET(Female!AH$18,'Female - Rev'!$A22-35,0),0.03999)","v":3.8E-3},{"$f":"MIN(OFFSET(Female!AI$18,'Female - Rev'!$A22-35,0),0.03999)","v":3.3999999999999998E-3},{"$f":"MIN(OFFSET(Female!AJ$18,'Female - Rev'!$A22-35,0),0.03999)","v":3.8E-3},{"$f":"MIN(OFFSET(Female!AK$18,'Female - Rev'!$A22-35,0),0.03999)","v":4.7999999999999996E-3},{"$f":"MIN(OFFSET(Female!AL$18,'Female - Rev'!$A22-35,0),0.03999)","v":6.0000000000000001E-3},{"$f":"MIN(OFFSET(Female!AM$18,'Female - Rev'!$A22-35,0),0.03999)","v":7.1000000000000004E-3},{"$f":"MIN(OFFSET(Female!AN$18,'Female - Rev'!$A22-35,0),0.03999)","v":7.7000000000000002E-3},{"$f":"MIN(OFFSET(Female!AO$18,'Female - Rev'!$A22-35,0),0.03999)","v":7.4999999999999997E-3},{"$f":"MIN(OFFSET(Female!AP$18,'Female - Rev'!$A22-35,0),0.03999)","v":6.7000000000000002E-3},{"$f":"MIN(OFFSET(Female!AQ$18,'Female - Rev'!$A22-35,0),0.03999)","v":5.4000000000000003E-3},{"$f":"MIN(OFFSET(Female!AR$18,'Female - Rev'!$A22-35,0),0.03999)","v":3.8E-3},{"$f":"MIN(OFFSET(Female!AS$18,'Female - Rev'!$A22-35,0),0.03999)","v":2.3999999999999998E-3},{"$f":"MIN(OFFSET(Female!AT$18,'Female - Rev'!$A22-35,0),0.03999)","v":1.4E-3},{"$f":"MIN(OFFSET(Female!AU$18,'Female - Rev'!$A22-35,0),0.03999)","v":8.0000000000000004E-4},{"$f":"MIN(OFFSET(Female!AV$18,'Female - Rev'!$A22-35,0),0.03999)","v":8.9999999999999998E-4},{"$f":"MIN(OFFSET(Female!AW$18,'Female - Rev'!$A22-35,0),0.03999)","v":1.6000000000000001E-3},{"$f":"MIN(OFFSET(Female!AX$18,'Female - Rev'!$A22-35,0),0.03999)","v":3.0000000000000001E-3},{"$f":"MIN(OFFSET(Female!AY$18,'Female - Rev'!$A22-35,0),0.03999)","v":5.1000000000000004E-3},{"$f":"MIN(OFFSET(Female!AZ$18,'Female - Rev'!$A22-35,0),0.03999)","v":7.7000000000000002E-3},{"$f":"MIN(OFFSET(Female!BA$18,'Female - Rev'!$A22-35,0),0.03999)","v":1.0500000000000001E-2},{"$f":"MIN(OFFSET(Female!BB$18,'Female - Rev'!$A22-35,0),0.03999)","v":1.32E-2},{"$f":"MIN(OFFSET(Female!BC$18,'Female - Rev'!$A22-35,0),0.03999)","v":1.54E-2},{"$f":"MIN(OFFSET(Female!BD$18,'Female - Rev'!$A22-35,0),0.03999)","v":1.6899999999999998E-2},{"$f":"MIN(OFFSET(Female!BE$18,'Female - Rev'!$A22-35,0),0.03999)","v":1.77E-2},{"$f":"MIN(OFFSET(Female!BF$18,'Female - Rev'!$A22-35,0),0.03999)","v":1.78E-2},{"$f":"MIN(OFFSET(Female!BG$18,'Female - Rev'!$A22-35,0),0.03999)","v":1.72E-2},{"$f":"MIN(OFFSET(Female!BH$18,'Female - Rev'!$A22-35,0),0.03999)","v":1.6E-2},{"$f":"MIN(OFFSET(Female!BI$18,'Female - Rev'!$A22-35,0),0.03999)","v":1.44E-2},{"$f":"MIN(OFFSET(Female!BJ$18,'Female - Rev'!$A22-35,0),0.03999)","v":1.2699999999999999E-2},{"$f":"MIN(OFFSET(Female!BK$18,'Female - Rev'!$A22-35,0),0.03999)","v":1.0800000000000001E-2},{"$f":"MIN(OFFSET(Female!BL$18,'Female - Rev'!$A22-35,0),0.03999)","v":9.1000000000000004E-3},{"$f":"MIN(OFFSET(Female!BM$18,'Female - Rev'!$A22-35,0),0.03999)","v":7.4999999999999997E-3},{"$f":"MIN(OFFSET(Female!BN$18,'Female - Rev'!$A22-35,0),0.03999)","v":6.1000000000000004E-3},{"$f":"MIN(OFFSET(Female!BO$18,'Female - Rev'!$A22-35,0),0.03999)","v":6.4999999999999997E-3},{"$f":"MIN(OFFSET(Female!BP$18,'Female - Rev'!$A22-35,0),0.03999)","v":7.0000000000000001E-3},{"$f":"MIN(OFFSET(Female!BQ$18,'Female - Rev'!$A22-35,0),0.03999)","v":7.4999999999999997E-3},{"$f":"MIN(OFFSET(Female!BR$18,'Female - Rev'!$A22-35,0),0.03999)","v":8.0000000000000002E-3},{"$f":"MIN(OFFSET(Female!BS$18,'Female - Rev'!$A22-35,0),0.03999)","v":8.5000000000000006E-3},{"$f":"MIN(OFFSET(Female!BT$18,'Female - Rev'!$A22-35,0),0.03999)","v":8.8000000000000005E-3},{"$f":"MIN(OFFSET(Female!BU$18,'Female - Rev'!$A22-35,0),0.03999)","v":8.8999999999999999E-3},{"$f":"MIN(OFFSET(Female!BV$18,'Female - Rev'!$A22-35,0),0.03999)","v":8.8999999999999999E-3},{"$f":"MIN(OFFSET(Female!BW$18,'Female - Rev'!$A22-35,0),0.03999)","v":8.6999999999999994E-3},{"$f":"MIN(OFFSET(Female!BX$18,'Female - Rev'!$A22-35,0),0.03999)","v":8.3999999999999995E-3},{"$f":"MIN(OFFSET(Female!BY$18,'Female - Rev'!$A22-35,0),0.03999)","v":8.0999999999999996E-3},{"$f":"MIN(OFFSET(Female!BZ$18,'Female - Rev'!$A22-35,0),0.03999)","v":7.9000000000000008E-3},{"$f":"MIN(OFFSET(Female!CA$18,'Female - Rev'!$A22-35,0),0.03999)","v":7.9000000000000008E-3},{"$f":"MIN(OFFSET(Female!CB$18,'Female - Rev'!$A22-35,0),0.03999)","v":8.0999999999999996E-3},{"$f":"MIN(OFFSET(Female!CC$18,'Female - Rev'!$A22-35,0),0.03999)","v":8.3999999999999995E-3},{"$f":"MIN(OFFSET(Female!CD$18,'Female - Rev'!$A22-35,0),0.03999)","v":8.8999999999999999E-3},{"$f":"MIN(OFFSET(Female!CE$18,'Female - Rev'!$A22-35,0),0.03999)","v":9.2999999999999992E-3},{"$f":"MIN(OFFSET(Female!CF$18,'Female - Rev'!$A22-35,0),0.03999)","v":9.7000000000000003E-3},{"$f":"MIN(OFFSET(Female!CG$18,'Female - Rev'!$A22-35,0),0.03999)","v":9.9000000000000008E-3},{"$f":"MIN(OFFSET(Female!CH$18,'Female - Rev'!$A22-35,0),0.03999)","v":0.01}]
[75,75,{"$f":"MIN(OFFSET(Female!B$18,'Female - Rev'!$A23-35,0),0.03999)","v":1.9900000000000001E-2},{"$f":"MIN(OFFSET(Female!C$18,'Female - Rev'!$A23-35,0),0.03999)","v":1.8599999999999998E-2},{"$f":"MIN(OFFSET(Female!D$18,'Female - Rev'!$A23-35,0),0.03999)","v":1.7399999999999999E-2},{"$f":"MIN(OFFSET(Female!E$18,'Female - Rev'!$A23-35,0),0.03999)","v":1.6199999999999999E-2},{"$f":"MIN(OFFSET(Female!F$18,'Female - Rev'!$A23-35,0),0.03999)","v":1.4999999999999999E-2},{"$f":"MIN(OFFSET(Female!G$18,'Female - Rev'!$A23-35,0),0.03999)","v":1.4E-2},{"$f":"MIN(OFFSET(Female!H$18,'Female - Rev'!$A23-35,0),0.03999)","v":1.3100000000000001E-2},{"$f":"MIN(OFFSET(Female!I$18,'Female - Rev'!$A23-35,0),0.03999)","v":1.2500000000000001E-2},{"$f":"MIN(OFFSET(Female!J$18,'Female - Rev'!$A23-35,0),0.03999)","v":1.21E-2},{"$f":"MIN(OFFSET(Female!K$18,'Female - Rev'!$A23-35,0),0.03999)","v":1.18E-2},{"$f":"MIN(OFFSET(Female!L$18,'Female - Rev'!$A23-35,0),0.03999)","v":1.1599999999999999E-2},{"$f":"MIN(OFFSET(Female!M$18,'Female - Rev'!$A23-35,0),0.03999)","v":1.1599999999999999E-2},{"$f":"MIN(OFFSET(Female!N$18,'Female - Rev'!$A23-35,0),0.03999)","v":1.18E-2},{"$f":"MIN(OFFSET(Female!O$18,'Female - Rev'!$A23-35,0),0.03999)","v":1.23E-2},{"$f":"MIN(OFFSET(Female!P$18,'Female - Rev'!$A23-35,0),0.03999)","v":1.2999999999999999E-2},{"$f":"MIN(OFFSET(Female!Q$18,'Female - Rev'!$A23-35,0),0.03999)","v":1.3899999999999999E-2},{"$f":"MIN(OFFSET(Female!R$18,'Female - Rev'!$A23-35,0),0.03999)","v":1.52E-2},{"$f":"MIN(OFFSET(Female!S$18,'Female - Rev'!$A23-35,0),0.03999)","v":1.67E-2},{"$f":"MIN(OFFSET(Female!T$18,'Female - Rev'!$A23-35,0),0.03999)","v":1.8499999999999999E-2},{"$f":"MIN(OFFSET(Female!U$18,'Female - Rev'!$A23-35,0),0.03999)","v":2.0400000000000001E-2},{"$f":"MIN(OFFSET(Female!V$18,'Female - Rev'!$A23-35,0),0.03999)","v":2.2200000000000001E-2},{"$f":"MIN(OFFSET(Female!W$18,'Female - Rev'!$A23-35,0),0.03999)","v":2.3699999999999999E-2},{"$f":"MIN(OFFSET(Female!X$18,'Female - Rev'!$A23-35,0),0.03999)","v":2.4799999999999999E-2},{"$f":"MIN(OFFSET(Female!Y$18,'Female - Rev'!$A23-35,0),0.03999)","v":2.5100000000000001E-2},{"$f":"MIN(OFFSET(Female!Z$18,'Female - Rev'!$A23-35,0),0.03999)","v":2.4299999999999999E-2},{"$f":"MIN(OFFSET(Female!AA$18,'Female - Rev'!$A23-35,0),0.03999)","v":2.24E-2},{"$f":"MIN(OFFSET(Female!AB$18,'Female - Rev'!$A23-35,0),0.03999)","v":1.9699999999999999E-2},{"$f":"MIN(OFFSET(Female!AC$18,'Female - Rev'!$A23-35,0),0.03999)","v":1.6299999999999999E-2},{"$f":"MIN(OFFSET(Female!AD$18,'Female - Rev'!$A23-35,0),0.03999)","v":1.26E-2},{"$f":"MIN(OFFSET(Female!AE$18,'Female - Rev'!$A23-35,0),0.03999)","v":9.1999999999999998E-3},{"$f":"MIN(OFFSET(Female!AF$18,'Female - Rev'!$A23-35,0),0.03999)","v":6.3E-3},{"$f":"MIN(OFFSET(Female!AG$18,'Female - Rev'!$A23-35,0),0.03999)","v":4.1999999999999997E-3},{"$f":"MIN(OFFSET(Female!AH$18,'Female - Rev'!$A23-35,0),0.03999)","v":3.0000000000000001E-3},{"$f":"MIN(OFFSET(Female!AI$18,'Female - Rev'!$A23-35,0),0.03999)","v":2.7000000000000001E-3},{"$f":"MIN(OFFSET(Female!AJ$18,'Female - Rev'!$A23-35,0),0.03999)","v":3.3E-3},{"$f":"MIN(OFFSET(Female!AK$18,'Female - Rev'!$A23-35,0),0.03999)","v":4.4999999999999997E-3},{"$f":"MIN(OFFSET(Female!AL$18,'Female - Rev'!$A23-35,0),0.03999)","v":5.8999999999999999E-3},{"$f":"MIN(OFFSET(Female!AM$18,'Female - Rev'!$A23-35,0),0.03999)","v":7.1000000000000004E-3},{"$f":"MIN(OFFSET(Female!AN$18,'Female - Rev'!$A23-35,0),0.03999)","v":7.7000000000000002E-3},{"$f":"MIN(OFFSET(Female!AO$18,'Female - Rev'!$A23-35,0),0.03999)","v":7.7000000000000002E-3},{"$f":"MIN(OFFSET(Female!AP$18,'Female - Rev'!$A23-35,0),0.03999)","v":6.8999999999999999E-3},{"$f":"MIN(OFFSET(Female!AQ$18,'Female - Rev'!$A23-35,0),0.03999)","v":5.4999999999999997E-3},{"$f":"MIN(OFFSET(Female!AR$18,'Female - Rev'!$A23-35,0),0.03999)","v":4.0000000000000001E-3},{"$f":"MIN(OFFSET(Female!AS$18,'Female - Rev'!$A23-35,0),0.03999)","v":2.7000000000000001E-3},{"$f":"MIN(OFFSET(Female!AT$18,'Female - Rev'!$A23-35,0),0.03999)","v":1.6999999999999999E-3},{"$f":"MIN(OFFSET(Female!AU$18,'Female - Rev'!$A23-35,0),0.03999)","v":1.1999999999999999E-3},{"$f":"MIN(OFFSET(Female!AV$18,'Female - Rev'!$A23-35,0),0.03999)","v":1.2999999999999999E-3},{"$f":"MIN(OFFSET(Female!AW$18,'Female - Rev'!$A23-35,0),0.03999)","v":2E-3},{"$f":"MIN(OFFSET(Female!AX$18,'Female - Rev'!$A23-35,0),0.03999)","v":3.5000000000000001E-3},{"$f":"MIN(OFFSET(Female!AY$18,'Female - Rev'!$A23-35,0),0.03999)","v":5.5999999999999999E-3},{"$f":"MIN(OFFSET(Female!AZ$18,'Female - Rev'!$A23-35,0),0.03999)","v":8.2000000000000007E-3},{"$f":"MIN(OFFSET(Female!BA$18,'Female - Rev'!$A23-35,0),0.03999)","v":1.0999999999999999E-2},{"$f":"MIN(OFFSET(Female!BB$18,'Female - Rev'!$A23-35,0),0.03999)","v":1.3599999999999999E-2},{"$f":"MIN(OFFSET(Female!BC$18,'Female - Rev'!$A23-35,0),0.03999)","v":1.5800000000000002E-2},{"$f":"MIN(OFFSET(Female!BD$18,'Female - Rev'!$A23-35,0),0.03999)","v":1.7399999999999999E-2},{"$f":"MIN(OFFSET(Female!BE$18,'Female - Rev'!$A23-35,0),0.03999)","v":1.8200000000000001E-2},{"$f":"MIN(OFFSET(Female!BF$18,'Female - Rev'!$A23-35,0),0.03999)","v":1.83E-2},{"$f":"MIN(OFFSET(Female!BG$18,'Female - Rev'!$A23-35,0),0.03999)","v":1.78E-2},{"$f":"MIN(OFFSET(Female!BH$18,'Female - Rev'!$A23-35,0),0.03999)","v":1.67E-2},{"$f":"MIN(OFFSET(Female!BI$18,'Female - Rev'!$A23-35,0),0.03999)","v":1.5100000000000001E-2},{"$f":"MIN(OFFSET(Female!BJ$18,'Female - Rev'!$A23-35,0),0.03999)","v":1.3299999999999999E-2},{"$f":"MIN(OFFSET(Female!BK$18,'Female - Rev'!$A23-35,0),0.03999)","v":1.15E-2},{"$f":"MIN(OFFSET(Female!BL$18,'Female - Rev'!$A23-35,0),0.03999)","v":9.7999999999999997E-3},{"$f":"MIN(OFFSET(Female!BM$18,'Female - Rev'!$A23-35,0),0.03999)","v":8.2000000000000007E-3},{"$f":"MIN(OFFSET(Female!BN$18,'Female - Rev'!$A23-35,0),0.03999)","v":6.7999999999999996E-3},{"$f":"MIN(OFFSET(Female!BO$18,'Female - Rev'!$A23-35,0),0.03999)","v":7.1999999999999998E-3},{"$f":"MIN(OFFSET(Female!BP$18,'Female - Rev'!$A23-35,0),0.03999)","v":7.6E-3},{"$f":"MIN(OFFSET(Female!BQ$18,'Female - Rev'!$A23-35,0),0.03999)","v":8.0999999999999996E-3},{"$f":"MIN(OFFSET(Female!BR$18,'Female - Rev'!$A23-35,0),0.03999)","v":8.3999999999999995E-3},{"$f":"MIN(OFFSET(Female!BS$18,'Female - Rev'!$A23-35,0),0.03999)","v":8.6999999999999994E-3},{"$f":"MIN(OFFSET(Female!BT$18,'Female - Rev'!$A23-35,0),0.03999)","v":8.8000000000000005E-3},{"$f":"MIN(OFFSET(Female!BU$18,'Female - Rev'!$A23-35,0),0.03999)","v":8.6999999999999994E-3},{"$f":"MIN(OFFSET(Female!BV$18,'Female - Rev'!$A23-35,0),0.03999)","v":8.5000000000000006E-3},{"$f":"MIN(OFFSET(Female!BW$18,'Female - Rev'!$A23-35,0),0.03999)","v":8.0999999999999996E-3},{"$f":"MIN(OFFSET(Female!BX$18,'Female - Rev'!$A23-35,0),0.03999)","v":7.7999999999999996E-3},{"$f":"MIN(OFFSET(Female!BY$18,'Female - Rev'!$A23-35,0),0.03999)","v":7.4999999999999997E-3},{"$f":"MIN(OFFSET(Female!BZ$18,'Female - Rev'!$A23-35,0),0.03999)","v":7.4000000000000003E-3},{"$f":"MIN(OFFSET(Female!CA$18,'Female - Rev'!$A23-35,0),0.03999)","v":7.4999999999999997E-3},{"$f":"MIN(OFFSET(Female!CB$18,'Female - Rev'!$A23-35,0),0.03999)","v":7.7999999999999996E-3},{"$f":"MIN(OFFSET(Female!CC$18,'Female - Rev'!$A23-35,0),0.03999)","v":8.3000000000000001E-3},{"$f":"MIN(OFFSET(Female!CD$18,'Female - Rev'!$A23-35,0),0.03999)","v":8.8000000000000005E-3},{"$f":"MIN(OFFSET(Female!CE$18,'Female - Rev'!$A23-35,0),0.03999)","v":9.2999999999999992E-3},{"$f":"MIN(OFFSET(Female!CF$18,'Female - Rev'!$A23-35,0),0.03999)","v":9.7000000000000003E-3},{"$f":"MIN(OFFSET(Female!CG$18,'Female - Rev'!$A23-35,0),0.03999)","v":9.9000000000000008E-3},{"$f":"MIN(OFFSET(Female!CH$18,'Female - Rev'!$A23-35,0),0.03999)","v":0.01}]
[74,74,{"$f":"MIN(OFFSET(Female!B$18,'Female - Rev'!$A24-35,0),0.03999)","v":2.0400000000000001E-2},{"$f":"MIN(OFFSET(Female!C$18,'Female - Rev'!$A24-35,0),0.03999)","v":1.9199999999999998E-2},{"$f":"MIN(OFFSET(Female!D$18,'Female - Rev'!$A24-35,0),0.03999)","v":1.7899999999999999E-2},{"$f":"MIN(OFFSET(Female!E$18,'Female - Rev'!$A24-35,0),0.03999)","v":1.67E-2},{"$f":"MIN(OFFSET(Female!F$18,'Female - Rev'!$A24-35,0),0.03999)","v":1.55E-2},{"$f":"MIN(OFFSET(Female!G$18,'Female - Rev'!$A24-35,0),0.03999)","v":1.44E-2},{"$f":"MIN(OFFSET(Female!H$18,'Female - Rev'!$A24-35,0),0.03999)","v":1.35E-2},{"$f":"MIN(OFFSET(Female!I$18,'Female - Rev'!$A24-35,0),0.03999)","v":1.29E-2},{"$f":"MIN(OFFSET(Female!J$18,'Female - Rev'!$A24-35,0),0.03999)","v":1.24E-2},{"$f":"MIN(OFFSET(Female!K$18,'Female - Rev'!$A24-35,0),0.03999)","v":1.21E-2},{"$f":"MIN(OFFSET(Female!L$18,'Female - Rev'!$A24-35,0),0.03999)","v":1.2E-2},{"$f":"MIN(OFFSET(Female!M$18,'Female - Rev'!$A24-35,0),0.03999)","v":1.1900000000000001E-2},{"$f":"MIN(OFFSET(Female!N$18,'Female - Rev'!$A24-35,0),0.03999)","v":1.21E-2},{"$f":"MIN(OFFSET(Female!O$18,'Female - Rev'!$A24-35,0),0.03999)","v":1.2500000000000001E-2},{"$f":"MIN(OFFSET(Female!P$18,'Female - Rev'!$A24-35,0),0.03999)","v":1.3100000000000001E-2},{"$f":"MIN(OFFSET(Female!Q$18,'Female - Rev'!$A24-35,0),0.03999)","v":1.4E-2},{"$f":"MIN(OFFSET(Female!R$18,'Female - Rev'!$A24-35,0),0.03999)","v":1.5299999999999999E-2},{"$f":"MIN(OFFSET(Female!S$18,'Female - Rev'!$A24-35,0),0.03999)","v":1.6799999999999999E-2},{"$f":"MIN(OFFSET(Female!T$18,'Female - Rev'!$A24-35,0),0.03999)","v":1.8499999999999999E-2},{"$f":"MIN(OFFSET(Female!U$18,'Female - Rev'!$A24-35,0),0.03999)","v":2.0299999999999999E-2},{"$f":"MIN(OFFSET(Female!V$18,'Female - Rev'!$A24-35,0),0.03999)","v":2.1999999999999999E-2},{"$f":"MIN(OFFSET(Female!W$18,'Female - Rev'!$A24-35,0),0.03999)","v":2.3400000000000001E-2},{"$f":"MIN(OFFSET(Female!X$18,'Female - Rev'!$A24-35,0),0.03999)","v":2.4400000000000002E-2},{"$f":"MIN(OFFSET(Female!Y$18,'Female - Rev'!$A24-35,0),0.03999)","v":2.4400000000000002E-2},{"$f":"MIN(OFFSET(Female!Z$18,'Female - Rev'!$A24-35,0),0.03999)","v":2.3400000000000001E-2},{"$f":"MIN(OFFSET(Female!AA$18,'Female - Rev'!$A24-35,0),0.03999)","v":2.1399999999999999E-2},{"$f":"MIN(OFFSET(Female!AB$18,'Female - Rev'!$A24-35,0),0.03999)","v":1.84E-2},{"$f":"MIN(OFFSET(Female!AC$18,'Female - Rev'!$A24-35,0),0.03999)","v":1.4999999999999999E-2},{"$f":"MIN(OFFSET(Female!AD$18,'Female - Rev'!$A24-35,0),0.03999)","v":1.1299999999999999E-2},{"$f":"MIN(OFFSET(Female!AE$18,'Female - Rev'!$A24-35,0),0.03999)","v":7.9000000000000008E-3},{"$f":"MIN(OFFSET(Female!AF$18,'Female - Rev'!$A24-35,0),0.03999)","v":5.1999999999999998E-3},{"$f":"MIN(OFFSET(Female!AG$18,'Female - Rev'!$A24-35,0),0.03999)","v":3.2000000000000002E-3},{"$f":"MIN(OFFSET(Female!AH$18,'Female - Rev'!$A24-35,0),0.03999)","v":2.2000000000000001E-3},{"$f":"MIN(OFFSET(Female!AI$18,'Female - Rev'!$A24-35,0),0.03999)","v":2.2000000000000001E-3},{"$f":"MIN(OFFSET(Female!AJ$18,'Female - Rev'!$A24-35,0),0.03999)","v":3.0000000000000001E-3},{"$f":"MIN(OFFSET(Female!AK$18,'Female - Rev'!$A24-35,0),0.03999)","v":4.3E-3},{"$f":"MIN(OFFSET(Female!AL$18,'Female - Rev'!$A24-35,0),0.03999)","v":5.7999999999999996E-3},{"$f":"MIN(OFFSET(Female!AM$18,'Female - Rev'!$A24-35,0),0.03999)","v":7.1000000000000004E-3},{"$f":"MIN(OFFSET(Female!AN$18,'Female - Rev'!$A24-35,0),0.03999)","v":7.7999999999999996E-3},{"$f":"MIN(OFFSET(Female!AO$18,'Female - Rev'!$A24-35,0),0.03999)","v":7.7000000000000002E-3},{"$f":"MIN(OFFSET(Female!AP$18,'Female - Rev'!$A24-35,0),0.03999)","v":6.8999999999999999E-3},{"$f":"MIN(OFFSET(Female!AQ$18,'Female - Rev'!$A24-35,0),0.03999)","v":5.5999999999999999E-3},{"$f":"MIN(OFFSET(Female!AR$18,'Female - Rev'!$A24-35,0),0.03999)","v":4.1999999999999997E-3},{"$f":"MIN(OFFSET(Female!AS$18,'Female - Rev'!$A24-35,0),0.03999)","v":2.8E-3},{"$f":"MIN(OFFSET(Female!AT$18,'Female - Rev'!$A24-35,0),0.03999)","v":1.9E-3},{"$f":"MIN(OFFSET(Female!AU$18,'Female - Rev'!$A24-35,0),0.03999)","v":1.5E-3},{"$f":"MIN(OFFSET(Female!AV$18,'Female - Rev'!$A24-35,0),0.03999)","v":1.6000000000000001E-3},{"$f":"MIN(OFFSET(Female!AW$18,'Female - Rev'!$A24-35,0),0.03999)","v":2.5000000000000001E-3},{"$f":"MIN(OFFSET(Female!AX$18,'Female - Rev'!$A24-35,0),0.03999)","v":4.0000000000000001E-3},{"$f":"MIN(OFFSET(Female!AY$18,'Female - Rev'!$A24-35,0),0.03999)","v":6.1999999999999998E-3},{"$f":"MIN(OFFSET(Female!AZ$18,'Female - Rev'!$A24-35,0),0.03999)","v":8.8000000000000005E-3},{"$f":"MIN(OFFSET(Female!BA$18,'Female - Rev'!$A24-35,0),0.03999)","v":1.15E-2},{"$f":"MIN(OFFSET(Female!BB$18,'Female - Rev'!$A24-35,0),0.03999)","v":1.41E-2},{"$f":"MIN(OFFSET(Female!BC$18,'Female - Rev'!$A24-35,0),0.03999)","v":1.6299999999999999E-2},{"$f":"MIN(OFFSET(Female!BD$18,'Female - Rev'!$A24-35,0),0.03999)","v":1.7899999999999999E-2},{"$f":"MIN(OFFSET(Female!BE$18,'Female - Rev'!$A24-35,0),0.03999)","v":1.8800000000000001E-2},{"$f":"MIN(OFFSET(Female!BF$18,'Female - Rev'!$A24-35,0),0.03999)","v":1.89E-2},{"$f":"MIN(OFFSET(Female!BG$18,'Female - Rev'!$A24-35,0),0.03999)","v":1.84E-2},{"$f":"MIN(OFFSET(Female!BH$18,'Female - Rev'!$A24-35,0),0.03999)","v":1.7299999999999999E-2},{"$f":"MIN(OFFSET(Female!BI$18,'Female - Rev'!$A24-35,0),0.03999)","v":1.5800000000000002E-2},{"$f":"MIN(OFFSET(Female!BJ$18,'Female - Rev'!$A24-35,0),0.03999)","v":1.4E-2},{"$f":"MIN(OFFSET(Female!BK$18,'Female - Rev'!$A24-35,0),0.03999)","v":1.2200000000000001E-2},{"$f":"MIN(OFFSET(Female!BL$18,'Female - Rev'!$A24-35,0),0.03999)","v":1.04E-2},{"$f":"MIN(OFFSET(Female!BM$18,'Female - Rev'!$A24-35,0),0.03999)","v":8.8999999999999999E-3},{"$f":"MIN(OFFSET(Female!BN$18,'Female - Rev'!$A24-35,0),0.03999)","v":7.4999999999999997E-3},{"$f":"MIN(OFFSET(Female!BO$18,'Female - Rev'!$A24-35,0),0.03999)","v":7.7999999999999996E-3},{"$f":"MIN(OFFSET(Female!BP$18,'Female - Rev'!$A24-35,0),0.03999)","v":8.2000000000000007E-3},{"$f":"MIN(OFFSET(Female!BQ$18,'Female - Rev'!$A24-35,0),0.03999)","v":8.5000000000000006E-3},{"$f":"MIN(OFFSET(Female!BR$18,'Female - Rev'!$A24-35,0),0.03999)","v":8.6E-3},{"$f":"MIN(OFFSET(Female!BS$18,'Female - Rev'!$A24-35,0),0.03999)","v":8.6999999999999994E-3},{"$f":"MIN(OFFSET(Female!BT$18,'Female - Rev'!$A24-35,0),0.03999)","v":8.5000000000000006E-3},{"$f":"MIN(OFFSET(Female!BU$18,'Female - Rev'!$A24-35,0),0.03999)","v":8.2000000000000007E-3},{"$f":"MIN(OFFSET(Female!BV$18,'Female - Rev'!$A24-35,0),0.03999)","v":7.7999999999999996E-3},{"$f":"MIN(OFFSET(Female!BW$18,'Female - Rev'!$A24-35,0),0.03999)","v":7.4000000000000003E-3},{"$f":"MIN(OFFSET(Female!BX$18,'Female - Rev'!$A24-35,0),0.03999)","v":7.0000000000000001E-3},{"$f":"MIN(OFFSET(Female!BY$18,'Female - Rev'!$A24-35,0),0.03999)","v":6.7999999999999996E-3},{"$f":"MIN(OFFSET(Female!BZ$18,'Female - Rev'!$A24-35,0),0.03999)","v":6.8999999999999999E-3},{"$f":"MIN(OFFSET(Female!CA$18,'Female - Rev'!$A24-35,0),0.03999)","v":7.1000000000000004E-3},{"$f":"MIN(OFFSET(Female!CB$18,'Female - Rev'!$A24-35,0),0.03999)","v":7.6E-3},{"$f":"MIN(OFFSET(Female!CC$18,'Female - Rev'!$A24-35,0),0.03999)","v":8.2000000000000007E-3},{"$f":"MIN(OFFSET(Female!CD$18,'Female - Rev'!$A24-35,0),0.03999)","v":8.8000000000000005E-3},{"$f":"MIN(OFFSET(Female!CE$18,'Female - Rev'!$A24-35,0),0.03999)","v":9.2999999999999992E-3},{"$f":"MIN(OFFSET(Female!CF$18,'Female - Rev'!$A24-35,0),0.03999)","v":9.7000000000000003E-3},{"$f":"MIN(OFFSET(Female!CG$18,'Female - Rev'!$A24-35,0),0.03999)","v":9.9000000000000008E-3},{"$f":"MIN(OFFSET(Female!CH$18,'Female - Rev'!$A24-35,0),0.03999)","v":0.01}]
[73,73,{"$f":"MIN(OFFSET(Female!B$18,'Female - Rev'!$A25-35,0),0.03999)","v":2.07E-2},{"$f":"MIN(OFFSET(Female!C$18,'Female - Rev'!$A25-35,0),0.03999)","v":1.95E-2},{"$f":"MIN(OFFSET(Female!D$18,'Female - Rev'!$A25-35,0),0.03999)","v":1.8200000000000001E-2},{"$f":"MIN(OFFSET(Female!E$18,'Female - Rev'!$A25-35,0),0.03999)","v":1.7000000000000001E-2},{"$f":"MIN(OFFSET(Female!F$18,'Female - Rev'!$A25-35,0),0.03999)","v":1.5699999999999999E-2},{"$f":"MIN(OFFSET(Female!G$18,'Female - Rev'!$A25-35,0),0.03999)","v":1.46E-2},{"$f":"MIN(OFFSET(Female!H$18,'Female - Rev'!$A25-35,0),0.03999)","v":1.37E-2},{"$f":"MIN(OFFSET(Female!I$18,'Female - Rev'!$A25-35,0),0.03999)","v":1.2999999999999999E-2},{"$f":"MIN(OFFSET(Female!J$18,'Female - Rev'!$A25-35,0),0.03999)","v":1.26E-2},{"$f":"MIN(OFFSET(Female!K$18,'Female - Rev'!$A25-35,0),0.03999)","v":1.23E-2},{"$f":"MIN(OFFSET(Female!L$18,'Female - Rev'!$A25-35,0),0.03999)","v":1.21E-2},{"$f":"MIN(OFFSET(Female!M$18,'Female - Rev'!$A25-35,0),0.03999)","v":1.21E-2},{"$f":"MIN(OFFSET(Female!N$18,'Female - Rev'!$A25-35,0),0.03999)","v":1.23E-2},{"$f":"MIN(OFFSET(Female!O$18,'Female - Rev'!$A25-35,0),0.03999)","v":1.2699999999999999E-2},{"$f":"MIN(OFFSET(Female!P$18,'Female - Rev'!$A25-35,0),0.03999)","v":1.3299999999999999E-2},{"$f":"MIN(OFFSET(Female!Q$18,'Female - Rev'!$A25-35,0),0.03999)","v":1.4200000000000001E-2},{"$f":"MIN(OFFSET(Female!R$18,'Female - Rev'!$A25-35,0),0.03999)","v":1.54E-2},{"$f":"MIN(OFFSET(Female!S$18,'Female - Rev'!$A25-35,0),0.03999)","v":1.6899999999999998E-2},{"$f":"MIN(OFFSET(Female!T$18,'Female - Rev'!$A25-35,0),0.03999)","v":1.8499999999999999E-2},{"$f":"MIN(OFFSET(Female!U$18,'Female - Rev'!$A25-35,0),0.03999)","v":2.0199999999999999E-2},{"$f":"MIN(OFFSET(Female!V$18,'Female - Rev'!$A25-35,0),0.03999)","v":2.18E-2},{"$f":"MIN(OFFSET(Female!W$18,'Female - Rev'!$A25-35,0),0.03999)","v":2.3099999999999999E-2},{"$f":"MIN(OFFSET(Female!X$18,'Female - Rev'!$A25-35,0),0.03999)","v":2.3800000000000002E-2},{"$f":"MIN(OFFSET(Female!Y$18,'Female - Rev'!$A25-35,0),0.03999)","v":2.3599999999999999E-2},{"$f":"MIN(OFFSET(Female!Z$18,'Female - Rev'!$A25-35,0),0.03999)","v":2.24E-2},{"$f":"MIN(OFFSET(Female!AA$18,'Female - Rev'!$A25-35,0),0.03999)","v":2.0199999999999999E-2},{"$f":"MIN(OFFSET(Female!AB$18,'Female - Rev'!$A25-35,0),0.03999)","v":1.7100000000000001E-2},{"$f":"MIN(OFFSET(Female!AC$18,'Female - Rev'!$A25-35,0),0.03999)","v":1.3599999999999999E-2},{"$f":"MIN(OFFSET(Female!AD$18,'Female - Rev'!$A25-35,0),0.03999)","v":0.01},{"$f":"MIN(OFFSET(Female!AE$18,'Female - Rev'!$A25-35,0),0.03999)","v":6.7000000000000002E-3},{"$f":"MIN(OFFSET(Female!AF$18,'Female - Rev'!$A25-35,0),0.03999)","v":4.1000000000000003E-3},{"$f":"MIN(OFFSET(Female!AG$18,'Female - Rev'!$A25-35,0),0.03999)","v":2.3E-3},{"$f":"MIN(OFFSET(Female!AH$18,'Female - Rev'!$A25-35,0),0.03999)","v":1.5E-3},{"$f":"MIN(OFFSET(Female!AI$18,'Female - Rev'!$A25-35,0),0.03999)","v":1.6999999999999999E-3},{"$f":"MIN(OFFSET(Female!AJ$18,'Female - Rev'!$A25-35,0),0.03999)","v":2.7000000000000001E-3},{"$f":"MIN(OFFSET(Female!AK$18,'Female - Rev'!$A25-35,0),0.03999)","v":4.1000000000000003E-3},{"$f":"MIN(OFFSET(Female!AL$18,'Female - Rev'!$A25-35,0),0.03999)","v":5.7000000000000002E-3},{"$f":"MIN(OFFSET(Female!AM$18,'Female - Rev'!$A25-35,0),0.03999)","v":7.1000000000000004E-3},{"$f":"MIN(OFFSET(Female!AN$18,'Female - Rev'!$A25-35,0),0.03999)","v":7.7999999999999996E-3},{"$f":"MIN(OFFSET(Female!AO$18,'Female - Rev'!$A25-35,0),0.03999)","v":7.7000000000000002E-3},{"$f":"MIN(OFFSET(Female!AP$18,'Female - Rev'!$A25-35,0),0.03999)","v":7.0000000000000001E-3},{"$f":"MIN(OFFSET(Female!AQ$18,'Female - Rev'!$A25-35,0),0.03999)","v":5.7000000000000002E-3},{"$f":"MIN(OFFSET(Female!AR$18,'Female - Rev'!$A25-35,0),0.03999)","v":4.3E-3},{"$f":"MIN(OFFSET(Female!AS$18,'Female - Rev'!$A25-35,0),0.03999)","v":3.0000000000000001E-3},{"$f":"MIN(OFFSET(Female!AT$18,'Female - Rev'!$A25-35,0),0.03999)","v":2.0999999999999999E-3},{"$f":"MIN(OFFSET(Female!AU$18,'Female - Rev'!$A25-35,0),0.03999)","v":1.6999999999999999E-3},{"$f":"MIN(OFFSET(Female!AV$18,'Female - Rev'!$A25-35,0),0.03999)","v":2E-3},{"$f":"MIN(OFFSET(Female!AW$18,'Female - Rev'!$A25-35,0),0.03999)","v":2.8999999999999998E-3},{"$f":"MIN(OFFSET(Female!AX$18,'Female - Rev'!$A25-35,0),0.03999)","v":4.5999999999999999E-3},{"$f":"MIN(OFFSET(Female!AY$18,'Female - Rev'!$A25-35,0),0.03999)","v":6.7999999999999996E-3},{"$f":"MIN(OFFSET(Female!AZ$18,'Female - Rev'!$A25-35,0),0.03999)","v":9.4000000000000004E-3},{"$f":"MIN(OFFSET(Female!BA$18,'Female - Rev'!$A25-35,0),0.03999)","v":1.2200000000000001E-2},{"$f":"MIN(OFFSET(Female!BB$18,'Female - Rev'!$A25-35,0),0.03999)","v":1.4800000000000001E-2},{"$f":"MIN(OFFSET(Female!BC$18,'Female - Rev'!$A25-35,0),0.03999)","v":1.6899999999999998E-2},{"$f":"MIN(OFFSET(Female!BD$18,'Female - Rev'!$A25-35,0),0.03999)","v":1.8499999999999999E-2},{"$f":"MIN(OFFSET(Female!BE$18,'Female - Rev'!$A25-35,0),0.03999)","v":1.9400000000000001E-2},{"$f":"MIN(OFFSET(Female!BF$18,'Female - Rev'!$A25-35,0),0.03999)","v":1.95E-2},{"$f":"MIN(OFFSET(Female!BG$18,'Female - Rev'!$A25-35,0),0.03999)","v":1.9E-2},{"$f":"MIN(OFFSET(Female!BH$18,'Female - Rev'!$A25-35,0),0.03999)","v":1.7899999999999999E-2},{"$f":"MIN(OFFSET(Female!BI$18,'Female - Rev'!$A25-35,0),0.03999)","v":1.6400000000000001E-2},{"$f":"MIN(OFFSET(Female!BJ$18,'Female - Rev'!$A25-35,0),0.03999)","v":1.46E-2},{"$f":"MIN(OFFSET(Female!BK$18,'Female - Rev'!$A25-35,0),0.03999)","v":1.2800000000000001E-2},{"$f":"MIN(OFFSET(Female!BL$18,'Female - Rev'!$A25-35,0),0.03999)","v":1.0999999999999999E-2},{"$f":"MIN(OFFSET(Female!BM$18,'Female - Rev'!$A25-35,0),0.03999)","v":9.4000000000000004E-3},{"$f":"MIN(OFFSET(Female!BN$18,'Female - Rev'!$A25-35,0),0.03999)","v":8.0999999999999996E-3},{"$f":"MIN(OFFSET(Female!BO$18,'Female - Rev'!$A25-35,0),0.03999)","v":8.3999999999999995E-3},{"$f":"MIN(OFFSET(Female!BP$18,'Female - Rev'!$A25-35,0),0.03999)","v":8.6E-3},{"$f":"MIN(OFFSET(Female!BQ$18,'Female - Rev'!$A25-35,0),0.03999)","v":8.6999999999999994E-3},{"$f":"MIN(OFFSET(Female!BR$18,'Female - Rev'!$A25-35,0),0.03999)","v":8.6999999999999994E-3},{"$f":"MIN(OFFSET(Female!BS$18,'Female - Rev'!$A25-35,0),0.03999)","v":8.3999999999999995E-3},{"$f":"MIN(OFFSET(Female!BT$18,'Female - Rev'!$A25-35,0),0.03999)","v":8.0000000000000002E-3},{"$f":"MIN(OFFSET(Female!BU$18,'Female - Rev'!$A25-35,0),0.03999)","v":7.4999999999999997E-3},{"$f":"MIN(OFFSET(Female!BV$18,'Female - Rev'!$A25-35,0),0.03999)","v":7.0000000000000001E-3},{"$f":"MIN(OFFSET(Female!BW$18,'Female - Rev'!$A25-35,0),0.03999)","v":6.6E-3},{"$f":"MIN(OFFSET(Female!BX$18,'Female - Rev'!$A25-35,0),0.03999)","v":6.3E-3},{"$f":"MIN(OFFSET(Female!BY$18,'Female - Rev'!$A25-35,0),0.03999)","v":6.1999999999999998E-3},{"$f":"MIN(OFFSET(Female!BZ$18,'Female - Rev'!$A25-35,0),0.03999)","v":6.4000000000000003E-3},{"$f":"MIN(OFFSET(Female!CA$18,'Female - Rev'!$A25-35,0),0.03999)","v":6.8999999999999999E-3},{"$f":"MIN(OFFSET(Female!CB$18,'Female - Rev'!$A25-35,0),0.03999)","v":7.4999999999999997E-3},{"$f":"MIN(OFFSET(Female!CC$18,'Female - Rev'!$A25-35,0),0.03999)","v":8.2000000000000007E-3},{"$f":"MIN(OFFSET(Female!CD$18,'Female - Rev'!$A25-35,0),0.03999)","v":8.8000000000000005E-3},{"$f":"MIN(OFFSET(Female!CE$18,'Female - Rev'!$A25-35,0),0.03999)","v":9.4000000000000004E-3},{"$f":"MIN(OFFSET(Female!CF$18,'Female - Rev'!$A25-35,0),0.03999)","v":9.7000000000000003E-3},{"$f":"MIN(OFFSET(Female!CG$18,'Female - Rev'!$A25-35,0),0.03999)","v":9.9000000000000008E-3},{"$f":"MIN(OFFSET(Female!CH$18,'Female - Rev'!$A25-35,0),0.03999)","v":0.01}]
[72,72,{"$f":"MIN(OFFSET(Female!B$18,'Female - Rev'!$A26-35,0),0.03999)","v":2.0899999999999998E-2},{"$f":"MIN(OFFSET(Female!C$18,'Female - Rev'!$A26-35,0),0.03999)","v":1.9599999999999999E-2},{"$f":"MIN(OFFSET(Female!D$18,'Female - Rev'!$A26-35,0),0.03999)","v":1.83E-2},{"$f":"MIN(OFFSET(Female!E$18,'Female - Rev'!$A26-35,0),0.03999)","v":1.7000000000000001E-2},{"$f":"MIN(OFFSET(Female!F$18,'Female - Rev'!$A26-35,0),0.03999)","v":1.5699999999999999E-2},{"$f":"MIN(OFFSET(Female!G$18,'Female - Rev'!$A26-35,0),0.03999)","v":1.46E-2},{"$f":"MIN(OFFSET(Female!H$18,'Female - Rev'!$A26-35,0),0.03999)","v":1.3599999999999999E-2},{"$f":"MIN(OFFSET(Female!I$18,'Female - Rev'!$A26-35,0),0.03999)","v":1.29E-2},{"$f":"MIN(OFFSET(Female!J$18,'Female - Rev'!$A26-35,0),0.03999)","v":1.2500000000000001E-2},{"$f":"MIN(OFFSET(Female!K$18,'Female - Rev'!$A26-35,0),0.03999)","v":1.2200000000000001E-2},{"$f":"MIN(OFFSET(Female!L$18,'Female - Rev'!$A26-35,0),0.03999)","v":1.21E-2},{"$f":"MIN(OFFSET(Female!M$18,'Female - Rev'!$A26-35,0),0.03999)","v":1.2200000000000001E-2},{"$f":"MIN(OFFSET(Female!N$18,'Female - Rev'!$A26-35,0),0.03999)","v":1.24E-2},{"$f":"MIN(OFFSET(Female!O$18,'Female - Rev'!$A26-35,0),0.03999)","v":1.29E-2},{"$f":"MIN(OFFSET(Female!P$18,'Female - Rev'!$A26-35,0),0.03999)","v":1.35E-2},{"$f":"MIN(OFFSET(Female!Q$18,'Female - Rev'!$A26-35,0),0.03999)","v":1.44E-2},{"$f":"MIN(OFFSET(Female!R$18,'Female - Rev'!$A26-35,0),0.03999)","v":1.5599999999999999E-2},{"$f":"MIN(OFFSET(Female!S$18,'Female - Rev'!$A26-35,0),0.03999)","v":1.7100000000000001E-2},{"$f":"MIN(OFFSET(Female!T$18,'Female - Rev'!$A26-35,0),0.03999)","v":1.8700000000000001E-2},{"$f":"MIN(OFFSET(Female!U$18,'Female - Rev'!$A26-35,0),0.03999)","v":2.0199999999999999E-2},{"$f":"MIN(OFFSET(Female!V$18,'Female - Rev'!$A26-35,0),0.03999)","v":2.1700000000000001E-2},{"$f":"MIN(OFFSET(Female!W$18,'Female - Rev'!$A26-35,0),0.03999)","v":2.2700000000000001E-2},{"$f":"MIN(OFFSET(Female!X$18,'Female - Rev'!$A26-35,0),0.03999)","v":2.3199999999999998E-2},{"$f":"MIN(OFFSET(Female!Y$18,'Female - Rev'!$A26-35,0),0.03999)","v":2.2700000000000001E-2},{"$f":"MIN(OFFSET(Female!Z$18,'Female - Rev'!$A26-35,0),0.03999)","v":2.1299999999999999E-2},{"$f":"MIN(OFFSET(Female!AA$18,'Female - Rev'!$A26-35,0),0.03999)","v":1.89E-2},{"$f":"MIN(OFFSET(Female!AB$18,'Female - Rev'!$A26-35,0),0.03999)","v":1.5800000000000002E-2},{"$f":"MIN(OFFSET(Female!AC$18,'Female - Rev'!$A26-35,0),0.03999)","v":1.2200000000000001E-2},{"$f":"MIN(OFFSET(Female!AD$18,'Female - Rev'!$A26-35,0),0.03999)","v":8.6999999999999994E-3},{"$f":"MIN(OFFSET(Female!AE$18,'Female - Rev'!$A26-35,0),0.03999)","v":5.5999999999999999E-3},{"$f":"MIN(OFFSET(Female!AF$18,'Female - Rev'!$A26-35,0),0.03999)","v":3.2000000000000002E-3},{"$f":"MIN(OFFSET(Female!AG$18,'Female - Rev'!$A26-35,0),0.03999)","v":1.6000000000000001E-3},{"$f":"MIN(OFFSET(Female!AH$18,'Female - Rev'!$A26-35,0),0.03999)","v":1E-3},{"$f":"MIN(OFFSET(Female!AI$18,'Female - Rev'!$A26-35,0),0.03999)","v":1.2999999999999999E-3},{"$f":"MIN(OFFSET(Female!AJ$18,'Female - Rev'!$A26-35,0),0.03999)","v":2.3999999999999998E-3},{"$f":"MIN(OFFSET(Female!AK$18,'Female - Rev'!$A26-35,0),0.03999)","v":4.0000000000000001E-3},{"$f":"MIN(OFFSET(Female!AL$18,'Female - Rev'!$A26-35,0),0.03999)","v":5.7000000000000002E-3},{"$f":"MIN(OFFSET(Female!AM$18,'Female - Rev'!$A26-35,0),0.03999)","v":7.0000000000000001E-3},{"$f":"MIN(OFFSET(Female!AN$18,'Female - Rev'!$A26-35,0),0.03999)","v":7.7999999999999996E-3},{"$f":"MIN(OFFSET(Female!AO$18,'Female - Rev'!$A26-35,0),0.03999)","v":7.7000000000000002E-3},{"$f":"MIN(OFFSET(Female!AP$18,'Female - Rev'!$A26-35,0),0.03999)","v":6.8999999999999999E-3},{"$f":"MIN(OFFSET(Female!AQ$18,'Female - Rev'!$A26-35,0),0.03999)","v":5.7000000000000002E-3},{"$f":"MIN(OFFSET(Female!AR$18,'Female - Rev'!$A26-35,0),0.03999)","v":4.3E-3},{"$f":"MIN(OFFSET(Female!AS$18,'Female - Rev'!$A26-35,0),0.03999)","v":3.0999999999999999E-3},{"$f":"MIN(OFFSET(Female!AT$18,'Female - Rev'!$A26-35,0),0.03999)","v":2.3E-3},{"$f":"MIN(OFFSET(Female!AU$18,'Female - Rev'!$A26-35,0),0.03999)","v":2E-3},{"$f":"MIN(OFFSET(Female!AV$18,'Female - Rev'!$A26-35,0),0.03999)","v":2.3999999999999998E-3},{"$f":"MIN(OFFSET(Female!AW$18,'Female - Rev'!$A26-35,0),0.03999)","v":3.3999999999999998E-3},{"$f":"MIN(OFFSET(Female!AX$18,'Female - Rev'!$A26-35,0),0.03999)","v":5.1999999999999998E-3},{"$f":"MIN(OFFSET(Female!AY$18,'Female - Rev'!$A26-35,0),0.03999)","v":7.4999999999999997E-3},{"$f":"MIN(OFFSET(Female!AZ$18,'Female - Rev'!$A26-35,0),0.03999)","v":1.0200000000000001E-2},{"$f":"MIN(OFFSET(Female!BA$18,'Female - Rev'!$A26-35,0),0.03999)","v":1.2999999999999999E-2},{"$f":"MIN(OFFSET(Female!BB$18,'Female - Rev'!$A26-35,0),0.03999)","v":1.55E-2},{"$f":"MIN(OFFSET(Female!BC$18,'Female - Rev'!$A26-35,0),0.03999)","v":1.77E-2},{"$f":"MIN(OFFSET(Female!BD$18,'Female - Rev'!$A26-35,0),0.03999)","v":1.9199999999999998E-2},{"$f":"MIN(OFFSET(Female!BE$18,'Female - Rev'!$A26-35,0),0.03999)","v":0.02},{"$f":"MIN(OFFSET(Female!BF$18,'Female - Rev'!$A26-35,0),0.03999)","v":2.0199999999999999E-2},{"$f":"MIN(OFFSET(Female!BG$18,'Female - Rev'!$A26-35,0),0.03999)","v":1.9599999999999999E-2},{"$f":"MIN(OFFSET(Female!BH$18,'Female - Rev'!$A26-35,0),0.03999)","v":1.8499999999999999E-2},{"$f":"MIN(OFFSET(Female!BI$18,'Female - Rev'!$A26-35,0),0.03999)","v":1.7000000000000001E-2},{"$f":"MIN(OFFSET(Female!BJ$18,'Female - Rev'!$A26-35,0),0.03999)","v":1.52E-2},{"$f":"MIN(OFFSET(Female!BK$18,'Female - Rev'!$A26-35,0),0.03999)","v":1.3299999999999999E-2},{"$f":"MIN(OFFSET(Female!BL$18,'Female - Rev'!$A26-35,0),0.03999)","v":1.15E-2},{"$f":"MIN(OFFSET(Female!BM$18,'Female - Rev'!$A26-35,0),0.03999)","v":9.9000000000000008E-3},{"$f":"MIN(OFFSET(Female!BN$18,'Female - Rev'!$A26-35,0),0.03999)","v":8.6E-3},{"$f":"MIN(OFFSET(Female!BO$18,'Female - Rev'!$A26-35,0),0.03999)","v":8.8000000000000005E-3},{"$f":"MIN(OFFSET(Female!BP$18,'Female - Rev'!$A26-35,0),0.03999)","v":8.8000000000000005E-3},{"$f":"MIN(OFFSET(Female!BQ$18,'Female - Rev'!$A26-35,0),0.03999)","v":8.6999999999999994E-3},{"$f":"MIN(OFFSET(Female!BR$18,'Female - Rev'!$A26-35,0),0.03999)","v":8.3999999999999995E-3},{"$f":"MIN(OFFSET(Female!BS$18,'Female - Rev'!$A26-35,0),0.03999)","v":7.9000000000000008E-3},{"$f":"MIN(OFFSET(Female!BT$18,'Female - Rev'!$A26-35,0),0.03999)","v":7.3000000000000001E-3},{"$f":"MIN(OFFSET(Female!BU$18,'Female - Rev'!$A26-35,0),0.03999)","v":6.7000000000000002E-3},{"$f":"MIN(OFFSET(Female!BV$18,'Female - Rev'!$A26-35,0),0.03999)","v":6.1000000000000004E-3},{"$f":"MIN(OFFSET(Female!BW$18,'Female - Rev'!$A26-35,0),0.03999)","v":5.7000000000000002E-3},{"$f":"MIN(OFFSET(Female!BX$18,'Female - Rev'!$A26-35,0),0.03999)","v":5.4999999999999997E-3},{"$f":"MIN(OFFSET(Female!BY$18,'Female - Rev'!$A26-35,0),0.03999)","v":5.7000000000000002E-3},{"$f":"MIN(OFFSET(Female!BZ$18,'Female - Rev'!$A26-35,0),0.03999)","v":6.1000000000000004E-3},{"$f":"MIN(OFFSET(Female!CA$18,'Female - Rev'!$A26-35,0),0.03999)","v":6.7999999999999996E-3},{"$f":"MIN(OFFSET(Female!CB$18,'Female - Rev'!$A26-35,0),0.03999)","v":7.4999999999999997E-3},{"$f":"MIN(OFFSET(Female!CC$18,'Female - Rev'!$A26-35,0),0.03999)","v":8.3000000000000001E-3},{"$f":"MIN(OFFSET(Female!CD$18,'Female - Rev'!$A26-35,0),0.03999)","v":8.8999999999999999E-3},{"$f":"MIN(OFFSET(Female!CE$18,'Female - Rev'!$A26-35,0),0.03999)","v":9.4000000000000004E-3},{"$f":"MIN(OFFSET(Female!CF$18,'Female - Rev'!$A26-35,0),0.03999)","v":9.7999999999999997E-3},{"$f":"MIN(OFFSET(Female!CG$18,'Female - Rev'!$A26-35,0),0.03999)","v":0.01},{"$f":"MIN(OFFSET(Female!CH$18,'Female - Rev'!$A26-35,0),0.03999)","v":0.01}]
[71,71,{"$f":"MIN(OFFSET(Female!B$18,'Female - Rev'!$A27-35,0),0.03999)","v":2.1100000000000001E-2},{"$f":"MIN(OFFSET(Female!C$18,'Female - Rev'!$A27-35,0),0.03999)","v":1.9699999999999999E-2},{"$f":"MIN(OFFSET(Female!D$18,'Female - Rev'!$A27-35,0),0.03999)","v":1.83E-2},{"$f":"MIN(OFFSET(Female!E$18,'Female - Rev'!$A27-35,0),0.03999)","v":1.6899999999999998E-2},{"$f":"MIN(OFFSET(Female!F$18,'Female - Rev'!$A27-35,0),0.03999)","v":1.5599999999999999E-2},{"$f":"MIN(OFFSET(Female!G$18,'Female - Rev'!$A27-35,0),0.03999)","v":1.44E-2},{"$f":"MIN(OFFSET(Female!H$18,'Female - Rev'!$A27-35,0),0.03999)","v":1.34E-2},{"$f":"MIN(OFFSET(Female!I$18,'Female - Rev'!$A27-35,0),0.03999)","v":1.2699999999999999E-2},{"$f":"MIN(OFFSET(Female!J$18,'Female - Rev'!$A27-35,0),0.03999)","v":1.23E-2},{"$f":"MIN(OFFSET(Female!K$18,'Female - Rev'!$A27-35,0),0.03999)","v":1.21E-2},{"$f":"MIN(OFFSET(Female!L$18,'Female - Rev'!$A27-35,0),0.03999)","v":1.2E-2},{"$f":"MIN(OFFSET(Female!M$18,'Female - Rev'!$A27-35,0),0.03999)","v":1.21E-2},{"$f":"MIN(OFFSET(Female!N$18,'Female - Rev'!$A27-35,0),0.03999)","v":1.24E-2},{"$f":"MIN(OFFSET(Female!O$18,'Female - Rev'!$A27-35,0),0.03999)","v":1.29E-2},{"$f":"MIN(OFFSET(Female!P$18,'Female - Rev'!$A27-35,0),0.03999)","v":1.37E-2},{"$f":"MIN(OFFSET(Female!Q$18,'Female - Rev'!$A27-35,0),0.03999)","v":1.47E-2},{"$f":"MIN(OFFSET(Female!R$18,'Female - Rev'!$A27-35,0),0.03999)","v":1.5900000000000001E-2},{"$f":"MIN(OFFSET(Female!S$18,'Female - Rev'!$A27-35,0),0.03999)","v":1.7399999999999999E-2},{"$f":"MIN(OFFSET(Female!T$18,'Female - Rev'!$A27-35,0),0.03999)","v":1.89E-2},{"$f":"MIN(OFFSET(Female!U$18,'Female - Rev'!$A27-35,0),0.03999)","v":2.0299999999999999E-2},{"$f":"MIN(OFFSET(Female!V$18,'Female - Rev'!$A27-35,0),0.03999)","v":2.1399999999999999E-2},{"$f":"MIN(OFFSET(Female!W$18,'Female - Rev'!$A27-35,0),0.03999)","v":2.2200000000000001E-2},{"$f":"MIN(OFFSET(Female!X$18,'Female - Rev'!$A27-35,0),0.03999)","v":2.24E-2},{"$f":"MIN(OFFSET(Female!Y$18,'Female - Rev'!$A27-35,0),0.03999)","v":2.18E-2},{"$f":"MIN(OFFSET(Female!Z$18,'Female - Rev'!$A27-35,0),0.03999)","v":2.0199999999999999E-2},{"$f":"MIN(OFFSET(Female!AA$18,'Female - Rev'!$A27-35,0),0.03999)","v":1.7600000000000001E-2},{"$f":"MIN(OFFSET(Female!AB$18,'Female - Rev'!$A27-35,0),0.03999)","v":1.4500000000000001E-2},{"$f":"MIN(OFFSET(Female!AC$18,'Female - Rev'!$A27-35,0),0.03999)","v":1.0999999999999999E-2},{"$f":"MIN(OFFSET(Female!AD$18,'Female - Rev'!$A27-35,0),0.03999)","v":7.4999999999999997E-3},{"$f":"MIN(OFFSET(Female!AE$18,'Female - Rev'!$A27-35,0),0.03999)","v":4.5999999999999999E-3},{"$f":"MIN(OFFSET(Female!AF$18,'Female - Rev'!$A27-35,0),0.03999)","v":2.3999999999999998E-3},{"$f":"MIN(OFFSET(Female!AG$18,'Female - Rev'!$A27-35,0),0.03999)","v":1.1000000000000001E-3},{"$f":"MIN(OFFSET(Female!AH$18,'Female - Rev'!$A27-35,0),0.03999)","v":5.9999999999999995E-4},{"$f":"MIN(OFFSET(Female!AI$18,'Female - Rev'!$A27-35,0),0.03999)","v":1.1000000000000001E-3},{"$f":"MIN(OFFSET(Female!AJ$18,'Female - Rev'!$A27-35,0),0.03999)","v":2.3E-3},{"$f":"MIN(OFFSET(Female!AK$18,'Female - Rev'!$A27-35,0),0.03999)","v":3.8999999999999998E-3},{"$f":"MIN(OFFSET(Female!AL$18,'Female - Rev'!$A27-35,0),0.03999)","v":5.5999999999999999E-3},{"$f":"MIN(OFFSET(Female!AM$18,'Female - Rev'!$A27-35,0),0.03999)","v":7.0000000000000001E-3},{"$f":"MIN(OFFSET(Female!AN$18,'Female - Rev'!$A27-35,0),0.03999)","v":7.7000000000000002E-3},{"$f":"MIN(OFFSET(Female!AO$18,'Female - Rev'!$A27-35,0),0.03999)","v":7.7000000000000002E-3},{"$f":"MIN(OFFSET(Female!AP$18,'Female - Rev'!$A27-35,0),0.03999)","v":6.8999999999999999E-3},{"$f":"MIN(OFFSET(Female!AQ$18,'Female - Rev'!$A27-35,0),0.03999)","v":5.7000000000000002E-3},{"$f":"MIN(OFFSET(Female!AR$18,'Female - Rev'!$A27-35,0),0.03999)","v":4.4000000000000003E-3},{"$f":"MIN(OFFSET(Female!AS$18,'Female - Rev'!$A27-35,0),0.03999)","v":3.2000000000000002E-3},{"$f":"MIN(OFFSET(Female!AT$18,'Female - Rev'!$A27-35,0),0.03999)","v":2.5000000000000001E-3},{"$f":"MIN(OFFSET(Female!AU$18,'Female - Rev'!$A27-35,0),0.03999)","v":2.3E-3},{"$f":"MIN(OFFSET(Female!AV$18,'Female - Rev'!$A27-35,0),0.03999)","v":2.8E-3},{"$f":"MIN(OFFSET(Female!AW$18,'Female - Rev'!$A27-35,0),0.03999)","v":4.0000000000000001E-3},{"$f":"MIN(OFFSET(Female!AX$18,'Female - Rev'!$A27-35,0),0.03999)","v":5.8999999999999999E-3},{"$f":"MIN(OFFSET(Female!AY$18,'Female - Rev'!$A27-35,0),0.03999)","v":8.3000000000000001E-3},{"$f":"MIN(OFFSET(Female!AZ$18,'Female - Rev'!$A27-35,0),0.03999)","v":1.11E-2},{"$f":"MIN(OFFSET(Female!BA$18,'Female - Rev'!$A27-35,0),0.03999)","v":1.38E-2},{"$f":"MIN(OFFSET(Female!BB$18,'Female - Rev'!$A27-35,0),0.03999)","v":1.6400000000000001E-2},{"$f":"MIN(OFFSET(Female!BC$18,'Female - Rev'!$A27-35,0),0.03999)","v":1.8499999999999999E-2},{"$f":"MIN(OFFSET(Female!BD$18,'Female - Rev'!$A27-35,0),0.03999)","v":1.9900000000000001E-2},{"$f":"MIN(OFFSET(Female!BE$18,'Female - Rev'!$A27-35,0),0.03999)","v":2.07E-2},{"$f":"MIN(OFFSET(Female!BF$18,'Female - Rev'!$A27-35,0),0.03999)","v":2.0799999999999999E-2},{"$f":"MIN(OFFSET(Female!BG$18,'Female - Rev'!$A27-35,0),0.03999)","v":2.0199999999999999E-2},{"$f":"MIN(OFFSET(Female!BH$18,'Female - Rev'!$A27-35,0),0.03999)","v":1.9099999999999999E-2},{"$f":"MIN(OFFSET(Female!BI$18,'Female - Rev'!$A27-35,0),0.03999)","v":1.7500000000000002E-2},{"$f":"MIN(OFFSET(Female!BJ$18,'Female - Rev'!$A27-35,0),0.03999)","v":1.5699999999999999E-2},{"$f":"MIN(OFFSET(Female!BK$18,'Female - Rev'!$A27-35,0),0.03999)","v":1.38E-2},{"$f":"MIN(OFFSET(Female!BL$18,'Female - Rev'!$A27-35,0),0.03999)","v":1.1900000000000001E-2},{"$f":"MIN(OFFSET(Female!BM$18,'Female - Rev'!$A27-35,0),0.03999)","v":1.03E-2},{"$f":"MIN(OFFSET(Female!BN$18,'Female - Rev'!$A27-35,0),0.03999)","v":8.8999999999999999E-3},{"$f":"MIN(OFFSET(Female!BO$18,'Female - Rev'!$A27-35,0),0.03999)","v":8.8999999999999999E-3},{"$f":"MIN(OFFSET(Female!BP$18,'Female - Rev'!$A27-35,0),0.03999)","v":8.6999999999999994E-3},{"$f":"MIN(OFFSET(Female!BQ$18,'Female - Rev'!$A27-35,0),0.03999)","v":8.3999999999999995E-3},{"$f":"MIN(OFFSET(Female!BR$18,'Female - Rev'!$A27-35,0),0.03999)","v":7.7999999999999996E-3},{"$f":"MIN(OFFSET(Female!BS$18,'Female - Rev'!$A27-35,0),0.03999)","v":7.1000000000000004E-3},{"$f":"MIN(OFFSET(Female!BT$18,'Female - Rev'!$A27-35,0),0.03999)","v":6.3E-3},{"$f":"MIN(OFFSET(Female!BU$18,'Female - Rev'!$A27-35,0),0.03999)","v":5.5999999999999999E-3},{"$f":"MIN(OFFSET(Female!BV$18,'Female - Rev'!$A27-35,0),0.03999)","v":5.1000000000000004E-3},{"$f":"MIN(OFFSET(Female!BW$18,'Female - Rev'!$A27-35,0),0.03999)","v":4.8999999999999998E-3},{"$f":"MIN(OFFSET(Female!BX$18,'Female - Rev'!$A27-35,0),0.03999)","v":4.8999999999999998E-3},{"$f":"MIN(OFFSET(Female!BY$18,'Female - Rev'!$A27-35,0),0.03999)","v":5.3E-3},{"$f":"MIN(OFFSET(Female!BZ$18,'Female - Rev'!$A27-35,0),0.03999)","v":6.0000000000000001E-3},{"$f":"MIN(OFFSET(Female!CA$18,'Female - Rev'!$A27-35,0),0.03999)","v":6.7999999999999996E-3},{"$f":"MIN(OFFSET(Female!CB$18,'Female - Rev'!$A27-35,0),0.03999)","v":7.6E-3},{"$f":"MIN(OFFSET(Female!CC$18,'Female - Rev'!$A27-35,0),0.03999)","v":8.3999999999999995E-3},{"$f":"MIN(OFFSET(Female!CD$18,'Female - Rev'!$A27-35,0),0.03999)","v":8.9999999999999993E-3},{"$f":"MIN(OFFSET(Female!CE$18,'Female - Rev'!$A27-35,0),0.03999)","v":9.4999999999999998E-3},{"$f":"MIN(OFFSET(Female!CF$18,'Female - Rev'!$A27-35,0),0.03999)","v":9.7999999999999997E-3},{"$f":"MIN(OFFSET(Female!CG$18,'Female - Rev'!$A27-35,0),0.03999)","v":0.01},{"$f":"MIN(OFFSET(Female!CH$18,'Female - Rev'!$A27-35,0),0.03999)","v":0.01}]
[70,70,{"$f":"MIN(OFFSET(Female!B$18,'Female - Rev'!$A28-35,0),0.03999)","v":2.1299999999999999E-2},{"$f":"MIN(OFFSET(Female!C$18,'Female - Rev'!$A28-35,0),0.03999)","v":1.9800000000000002E-2},{"$f":"MIN(OFFSET(Female!D$18,'Female - Rev'!$A28-35,0),0.03999)","v":1.83E-2},{"$f":"MIN(OFFSET(Female!E$18,'Female - Rev'!$A28-35,0),0.03999)","v":1.6799999999999999E-2},{"$f":"MIN(OFFSET(Female!F$18,'Female - Rev'!$A28-35,0),0.03999)","v":1.5299999999999999E-2},{"$f":"MIN(OFFSET(Female!G$18,'Female - Rev'!$A28-35,0),0.03999)","v":1.4E-2},{"$f":"MIN(OFFSET(Female!H$18,'Female - Rev'!$A28-35,0),0.03999)","v":1.2999999999999999E-2},{"$f":"MIN(OFFSET(Female!I$18,'Female - Rev'!$A28-35,0),0.03999)","v":1.23E-2},{"$f":"MIN(OFFSET(Female!J$18,'Female - Rev'!$A28-35,0),0.03999)","v":1.1900000000000001E-2},{"$f":"MIN(OFFSET(Female!K$18,'Female - Rev'!$A28-35,0),0.03999)","v":1.17E-2},{"$f":"MIN(OFFSET(Female!L$18,'Female - Rev'!$A28-35,0),0.03999)","v":1.1599999999999999E-2},{"$f":"MIN(OFFSET(Female!M$18,'Female - Rev'!$A28-35,0),0.03999)","v":1.18E-2},{"$f":"MIN(OFFSET(Female!N$18,'Female - Rev'!$A28-35,0),0.03999)","v":1.2200000000000001E-2},{"$f":"MIN(OFFSET(Female!O$18,'Female - Rev'!$A28-35,0),0.03999)","v":1.2800000000000001E-2},{"$f":"MIN(OFFSET(Female!P$18,'Female - Rev'!$A28-35,0),0.03999)","v":1.37E-2},{"$f":"MIN(OFFSET(Female!Q$18,'Female - Rev'!$A28-35,0),0.03999)","v":1.49E-2},{"$f":"MIN(OFFSET(Female!R$18,'Female - Rev'!$A28-35,0),0.03999)","v":1.6299999999999999E-2},{"$f":"MIN(OFFSET(Female!S$18,'Female - Rev'!$A28-35,0),0.03999)","v":1.77E-2},{"$f":"MIN(OFFSET(Female!T$18,'Female - Rev'!$A28-35,0),0.03999)","v":1.9099999999999999E-2},{"$f":"MIN(OFFSET(Female!U$18,'Female - Rev'!$A28-35,0),0.03999)","v":2.0299999999999999E-2},{"$f":"MIN(OFFSET(Female!V$18,'Female - Rev'!$A28-35,0),0.03999)","v":2.12E-2},{"$f":"MIN(OFFSET(Female!W$18,'Female - Rev'!$A28-35,0),0.03999)","v":2.1700000000000001E-2},{"$f":"MIN(OFFSET(Female!X$18,'Female - Rev'!$A28-35,0),0.03999)","v":2.1600000000000001E-2},{"$f":"MIN(OFFSET(Female!Y$18,'Female - Rev'!$A28-35,0),0.03999)","v":2.0799999999999999E-2},{"$f":"MIN(OFFSET(Female!Z$18,'Female - Rev'!$A28-35,0),0.03999)","v":1.9E-2},{"$f":"MIN(OFFSET(Female!AA$18,'Female - Rev'!$A28-35,0),0.03999)","v":1.6400000000000001E-2},{"$f":"MIN(OFFSET(Female!AB$18,'Female - Rev'!$A28-35,0),0.03999)","v":1.32E-2},{"$f":"MIN(OFFSET(Female!AC$18,'Female - Rev'!$A28-35,0),0.03999)","v":9.7999999999999997E-3},{"$f":"MIN(OFFSET(Female!AD$18,'Female - Rev'!$A28-35,0),0.03999)","v":6.6E-3},{"$f":"MIN(OFFSET(Female!AE$18,'Female - Rev'!$A28-35,0),0.03999)","v":3.8E-3},{"$f":"MIN(OFFSET(Female!AF$18,'Female - Rev'!$A28-35,0),0.03999)","v":1.8E-3},{"$f":"MIN(OFFSET(Female!AG$18,'Female - Rev'!$A28-35,0),0.03999)","v":6.9999999999999999E-4},{"$f":"MIN(OFFSET(Female!AH$18,'Female - Rev'!$A28-35,0),0.03999)","v":4.0000000000000002E-4},{"$f":"MIN(OFFSET(Female!AI$18,'Female - Rev'!$A28-35,0),0.03999)","v":1E-3},{"$f":"MIN(OFFSET(Female!AJ$18,'Female - Rev'!$A28-35,0),0.03999)","v":2.2000000000000001E-3},{"$f":"MIN(OFFSET(Female!AK$18,'Female - Rev'!$A28-35,0),0.03999)","v":3.8999999999999998E-3},{"$f":"MIN(OFFSET(Female!AL$18,'Female - Rev'!$A28-35,0),0.03999)","v":5.4999999999999997E-3},{"$f":"MIN(OFFSET(Female!AM$18,'Female - Rev'!$A28-35,0),0.03999)","v":6.8999999999999999E-3},{"$f":"MIN(OFFSET(Female!AN$18,'Female - Rev'!$A28-35,0),0.03999)","v":7.6E-3},{"$f":"MIN(OFFSET(Female!AO$18,'Female - Rev'!$A28-35,0),0.03999)","v":7.6E-3},{"$f":"MIN(OFFSET(Female!AP$18,'Female - Rev'!$A28-35,0),0.03999)","v":6.8999999999999999E-3},{"$f":"MIN(OFFSET(Female!AQ$18,'Female - Rev'!$A28-35,0),0.03999)","v":5.7000000000000002E-3},{"$f":"MIN(OFFSET(Female!AR$18,'Female - Rev'!$A28-35,0),0.03999)","v":4.4000000000000003E-3},{"$f":"MIN(OFFSET(Female!AS$18,'Female - Rev'!$A28-35,0),0.03999)","v":3.3999999999999998E-3},{"$f":"MIN(OFFSET(Female!AT$18,'Female - Rev'!$A28-35,0),0.03999)","v":2.7000000000000001E-3},{"$f":"MIN(OFFSET(Female!AU$18,'Female - Rev'!$A28-35,0),0.03999)","v":2.7000000000000001E-3},{"$f":"MIN(OFFSET(Female!AV$18,'Female - Rev'!$A28-35,0),0.03999)","v":3.3E-3},{"$f":"MIN(OFFSET(Female!AW$18,'Female - Rev'!$A28-35,0),0.03999)","v":4.5999999999999999E-3},{"$f":"MIN(OFFSET(Female!AX$18,'Female - Rev'!$A28-35,0),0.03999)","v":6.6E-3},{"$f":"MIN(OFFSET(Female!AY$18,'Female - Rev'!$A28-35,0),0.03999)","v":9.1000000000000004E-3},{"$f":"MIN(OFFSET(Female!AZ$18,'Female - Rev'!$A28-35,0),0.03999)","v":1.2E-2},{"$f":"MIN(OFFSET(Female!BA$18,'Female - Rev'!$A28-35,0),0.03999)","v":1.4800000000000001E-2},{"$f":"MIN(OFFSET(Female!BB$18,'Female - Rev'!$A28-35,0),0.03999)","v":1.7299999999999999E-2},{"$f":"MIN(OFFSET(Female!BC$18,'Female - Rev'!$A28-35,0),0.03999)","v":1.9300000000000001E-2},{"$f":"MIN(OFFSET(Female!BD$18,'Female - Rev'!$A28-35,0),0.03999)","v":2.07E-2},{"$f":"MIN(OFFSET(Female!BE$18,'Female - Rev'!$A28-35,0),0.03999)","v":2.1399999999999999E-2},{"$f":"MIN(OFFSET(Female!BF$18,'Female - Rev'!$A28-35,0),0.03999)","v":2.1399999999999999E-2},{"$f":"MIN(OFFSET(Female!BG$18,'Female - Rev'!$A28-35,0),0.03999)","v":2.07E-2},{"$f":"MIN(OFFSET(Female!BH$18,'Female - Rev'!$A28-35,0),0.03999)","v":1.9599999999999999E-2},{"$f":"MIN(OFFSET(Female!BI$18,'Female - Rev'!$A28-35,0),0.03999)","v":1.7899999999999999E-2},{"$f":"MIN(OFFSET(Female!BJ$18,'Female - Rev'!$A28-35,0),0.03999)","v":1.6E-2},{"$f":"MIN(OFFSET(Female!BK$18,'Female - Rev'!$A28-35,0),0.03999)","v":1.41E-2},{"$f":"MIN(OFFSET(Female!BL$18,'Female - Rev'!$A28-35,0),0.03999)","v":1.2200000000000001E-2},{"$f":"MIN(OFFSET(Female!BM$18,'Female - Rev'!$A28-35,0),0.03999)","v":1.04E-2},{"$f":"MIN(OFFSET(Female!BN$18,'Female - Rev'!$A28-35,0),0.03999)","v":8.8999999999999999E-3},{"$f":"MIN(OFFSET(Female!BO$18,'Female - Rev'!$A28-35,0),0.03999)","v":8.6999999999999994E-3},{"$f":"MIN(OFFSET(Female!BP$18,'Female - Rev'!$A28-35,0),0.03999)","v":8.3000000000000001E-3},{"$f":"MIN(OFFSET(Female!BQ$18,'Female - Rev'!$A28-35,0),0.03999)","v":7.6E-3},{"$f":"MIN(OFFSET(Female!BR$18,'Female - Rev'!$A28-35,0),0.03999)","v":6.7999999999999996E-3},{"$f":"MIN(OFFSET(Female!BS$18,'Female - Rev'!$A28-35,0),0.03999)","v":6.0000000000000001E-3},{"$f":"MIN(OFFSET(Female!BT$18,'Female - Rev'!$A28-35,0),0.03999)","v":5.1000000000000004E-3},{"$f":"MIN(OFFSET(Female!BU$18,'Female - Rev'!$A28-35,0),0.03999)","v":4.4999999999999997E-3},{"$f":"MIN(OFFSET(Female!BV$18,'Female - Rev'!$A28-35,0),0.03999)","v":4.1999999999999997E-3},{"$f":"MIN(OFFSET(Female!BW$18,'Female - Rev'!$A28-35,0),0.03999)","v":4.1999999999999997E-3},{"$f":"MIN(OFFSET(Female!BX$18,'Female - Rev'!$A28-35,0),0.03999)","v":4.4999999999999997E-3},{"$f":"MIN(OFFSET(Female!BY$18,'Female - Rev'!$A28-35,0),0.03999)","v":5.1000000000000004E-3},{"$f":"MIN(OFFSET(Female!BZ$18,'Female - Rev'!$A28-35,0),0.03999)","v":6.0000000000000001E-3},{"$f":"MIN(OFFSET(Female!CA$18,'Female - Rev'!$A28-35,0),0.03999)","v":6.8999999999999999E-3},{"$f":"MIN(OFFSET(Female!CB$18,'Female - Rev'!$A28-35,0),0.03999)","v":7.7999999999999996E-3},{"$f":"MIN(OFFSET(Female!CC$18,'Female - Rev'!$A28-35,0),0.03999)","v":8.6E-3},{"$f":"MIN(OFFSET(Female!CD$18,'Female - Rev'!$A28-35,0),0.03999)","v":9.1999999999999998E-3},{"$f":"MIN(OFFSET(Female!CE$18,'Female - Rev'!$A28-35,0),0.03999)","v":9.5999999999999992E-3},{"$f":"MIN(OFFSET(Female!CF$18,'Female - Rev'!$A28-35,0),0.03999)","v":9.9000000000000008E-3},{"$f":"MIN(OFFSET(Female!CG$18,'Female - Rev'!$A28-35,0),0.03999)","v":0.01},{"$f":"MIN(OFFSET(Female!CH$18,'Female - Rev'!$A28-35,0),0.03999)","v":0.01}]
[69,69,{"$f":"MIN(OFFSET(Female!B$18,'Female - Rev'!$A29-35,0),0.03999)","v":2.1700000000000001E-2},{"$f":"MIN(OFFSET(Female!C$18,'Female - Rev'!$A29-35,0),0.03999)","v":0.02},{"$f":"MIN(OFFSET(Female!D$18,'Female - Rev'!$A29-35,0),0.03999)","v":1.83E-2},{"$f":"MIN(OFFSET(Female!E$18,'Female - Rev'!$A29-35,0),0.03999)","v":1.66E-2},{"$f":"MIN(OFFSET(Female!F$18,'Female - Rev'!$A29-35,0),0.03999)","v":1.4999999999999999E-2},{"$f":"MIN(OFFSET(Female!G$18,'Female - Rev'!$A29-35,0),0.03999)","v":1.3599999999999999E-2},{"$f":"MIN(OFFSET(Female!H$18,'Female - Rev'!$A29-35,0),0.03999)","v":1.2500000000000001E-2},{"$f":"MIN(OFFSET(Female!I$18,'Female - Rev'!$A29-35,0),0.03999)","v":1.18E-2},{"$f":"MIN(OFFSET(Female!J$18,'Female - Rev'!$A29-35,0),0.03999)","v":1.14E-2},{"$f":"MIN(OFFSET(Female!K$18,'Female - Rev'!$A29-35,0),0.03999)","v":1.12E-2},{"$f":"MIN(OFFSET(Female!L$18,'Female - Rev'!$A29-35,0),0.03999)","v":1.11E-2},{"$f":"MIN(OFFSET(Female!M$18,'Female - Rev'!$A29-35,0),0.03999)","v":1.1299999999999999E-2},{"$f":"MIN(OFFSET(Female!N$18,'Female - Rev'!$A29-35,0),0.03999)","v":1.18E-2},{"$f":"MIN(OFFSET(Female!O$18,'Female - Rev'!$A29-35,0),0.03999)","v":1.26E-2},{"$f":"MIN(OFFSET(Female!P$18,'Female - Rev'!$A29-35,0),0.03999)","v":1.37E-2},{"$f":"MIN(OFFSET(Female!Q$18,'Female - Rev'!$A29-35,0),0.03999)","v":1.5100000000000001E-2},{"$f":"MIN(OFFSET(Female!R$18,'Female - Rev'!$A29-35,0),0.03999)","v":1.66E-2},{"$f":"MIN(OFFSET(Female!S$18,'Female - Rev'!$A29-35,0),0.03999)","v":1.8100000000000002E-2},{"$f":"MIN(OFFSET(Female!T$18,'Female - Rev'!$A29-35,0),0.03999)","v":1.9300000000000001E-2},{"$f":"MIN(OFFSET(Female!U$18,'Female - Rev'!$A29-35,0),0.03999)","v":2.0199999999999999E-2},{"$f":"MIN(OFFSET(Female!V$18,'Female - Rev'!$A29-35,0),0.03999)","v":2.0799999999999999E-2},{"$f":"MIN(OFFSET(Female!W$18,'Female - Rev'!$A29-35,0),0.03999)","v":2.1000000000000001E-2},{"$f":"MIN(OFFSET(Female!X$18,'Female - Rev'!$A29-35,0),0.03999)","v":2.07E-2},{"$f":"MIN(OFFSET(Female!Y$18,'Female - Rev'!$A29-35,0),0.03999)","v":1.9699999999999999E-2},{"$f":"MIN(OFFSET(Female!Z$18,'Female - Rev'!$A29-35,0),0.03999)","v":1.7899999999999999E-2},{"$f":"MIN(OFFSET(Female!AA$18,'Female - Rev'!$A29-35,0),0.03999)","v":1.5299999999999999E-2},{"$f":"MIN(OFFSET(Female!AB$18,'Female - Rev'!$A29-35,0),0.03999)","v":1.2200000000000001E-2},{"$f":"MIN(OFFSET(Female!AC$18,'Female - Rev'!$A29-35,0),0.03999)","v":8.9999999999999993E-3},{"$f":"MIN(OFFSET(Female!AD$18,'Female - Rev'!$A29-35,0),0.03999)","v":5.8999999999999999E-3},{"$f":"MIN(OFFSET(Female!AE$18,'Female - Rev'!$A29-35,0),0.03999)","v":3.3E-3},{"$f":"MIN(OFFSET(Female!AF$18,'Female - Rev'!$A29-35,0),0.03999)","v":1.5E-3},{"$f":"MIN(OFFSET(Female!AG$18,'Female - Rev'!$A29-35,0),0.03999)","v":5.0000000000000001E-4},{"$f":"MIN(OFFSET(Female!AH$18,'Female - Rev'!$A29-35,0),0.03999)","v":4.0000000000000002E-4},{"$f":"MIN(OFFSET(Female!AI$18,'Female - Rev'!$A29-35,0),0.03999)","v":1E-3},{"$f":"MIN(OFFSET(Female!AJ$18,'Female - Rev'!$A29-35,0),0.03999)","v":2.2000000000000001E-3},{"$f":"MIN(OFFSET(Female!AK$18,'Female - Rev'!$A29-35,0),0.03999)","v":3.8999999999999998E-3},{"$f":"MIN(OFFSET(Female!AL$18,'Female - Rev'!$A29-35,0),0.03999)","v":5.4999999999999997E-3},{"$f":"MIN(OFFSET(Female!AM$18,'Female - Rev'!$A29-35,0),0.03999)","v":6.8999999999999999E-3},{"$f":"MIN(OFFSET(Female!AN$18,'Female - Rev'!$A29-35,0),0.03999)","v":7.6E-3},{"$f":"MIN(OFFSET(Female!AO$18,'Female - Rev'!$A29-35,0),0.03999)","v":7.6E-3},{"$f":"MIN(OFFSET(Female!AP$18,'Female - Rev'!$A29-35,0),0.03999)","v":6.8999999999999999E-3},{"$f":"MIN(OFFSET(Female!AQ$18,'Female - Rev'!$A29-35,0),0.03999)","v":5.7000000000000002E-3},{"$f":"MIN(OFFSET(Female!AR$18,'Female - Rev'!$A29-35,0),0.03999)","v":4.4999999999999997E-3},{"$f":"MIN(OFFSET(Female!AS$18,'Female - Rev'!$A29-35,0),0.03999)","v":3.5999999999999999E-3},{"$f":"MIN(OFFSET(Female!AT$18,'Female - Rev'!$A29-35,0),0.03999)","v":3.0000000000000001E-3},{"$f":"MIN(OFFSET(Female!AU$18,'Female - Rev'!$A29-35,0),0.03999)","v":3.0999999999999999E-3},{"$f":"MIN(OFFSET(Female!AV$18,'Female - Rev'!$A29-35,0),0.03999)","v":3.8999999999999998E-3},{"$f":"MIN(OFFSET(Female!AW$18,'Female - Rev'!$A29-35,0),0.03999)","v":5.3E-3},{"$f":"MIN(OFFSET(Female!AX$18,'Female - Rev'!$A29-35,0),0.03999)","v":7.4000000000000003E-3},{"$f":"MIN(OFFSET(Female!AY$18,'Female - Rev'!$A29-35,0),0.03999)","v":0.01},{"$f":"MIN(OFFSET(Female!AZ$18,'Female - Rev'!$A29-35,0),0.03999)","v":1.29E-2},{"$f":"MIN(OFFSET(Female!BA$18,'Female - Rev'!$A29-35,0),0.03999)","v":1.5699999999999999E-2},{"$f":"MIN(OFFSET(Female!BB$18,'Female - Rev'!$A29-35,0),0.03999)","v":1.8200000000000001E-2},{"$f":"MIN(OFFSET(Female!BC$18,'Female - Rev'!$A29-35,0),0.03999)","v":2.0199999999999999E-2},{"$f":"MIN(OFFSET(Female!BD$18,'Female - Rev'!$A29-35,0),0.03999)","v":2.1499999999999998E-2},{"$f":"MIN(OFFSET(Female!BE$18,'Female - Rev'!$A29-35,0),0.03999)","v":2.2100000000000002E-2},{"$f":"MIN(OFFSET(Female!BF$18,'Female - Rev'!$A29-35,0),0.03999)","v":2.1999999999999999E-2},{"$f":"MIN(OFFSET(Female!BG$18,'Female - Rev'!$A29-35,0),0.03999)","v":2.12E-2},{"$f":"MIN(OFFSET(Female!BH$18,'Female - Rev'!$A29-35,0),0.03999)","v":0.02},{"$f":"MIN(OFFSET(Female!BI$18,'Female - Rev'!$A29-35,0),0.03999)","v":1.8200000000000001E-2},{"$f":"MIN(OFFSET(Female!BJ$18,'Female - Rev'!$A29-35,0),0.03999)","v":1.6299999999999999E-2},{"$f":"MIN(OFFSET(Female!BK$18,'Female - Rev'!$A29-35,0),0.03999)","v":1.4200000000000001E-2},{"$f":"MIN(OFFSET(Female!BL$18,'Female - Rev'!$A29-35,0),0.03999)","v":1.2200000000000001E-2},{"$f":"MIN(OFFSET(Female!BM$18,'Female - Rev'!$A29-35,0),0.03999)","v":1.03E-2},{"$f":"MIN(OFFSET(Female!BN$18,'Female - Rev'!$A29-35,0),0.03999)","v":8.3999999999999995E-3},{"$f":"MIN(OFFSET(Female!BO$18,'Female - Rev'!$A29-35,0),0.03999)","v":8.0000000000000002E-3},{"$f":"MIN(OFFSET(Female!BP$18,'Female - Rev'!$A29-35,0),0.03999)","v":7.3000000000000001E-3},{"$f":"MIN(OFFSET(Female!BQ$18,'Female - Rev'!$A29-35,0),0.03999)","v":6.4999999999999997E-3},{"$f":"MIN(OFFSET(Female!BR$18,'Female - Rev'!$A29-35,0),0.03999)","v":5.4999999999999997E-3},{"$f":"MIN(OFFSET(Female!BS$18,'Female - Rev'!$A29-35,0),0.03999)","v":4.5999999999999999E-3},{"$f":"MIN(OFFSET(Female!BT$18,'Female - Rev'!$A29-35,0),0.03999)","v":3.8999999999999998E-3},{"$f":"MIN(OFFSET(Female!BU$18,'Female - Rev'!$A29-35,0),0.03999)","v":3.3999999999999998E-3},{"$f":"MIN(OFFSET(Female!BV$18,'Female - Rev'!$A29-35,0),0.03999)","v":3.3999999999999998E-3},{"$f":"MIN(OFFSET(Female!BW$18,'Female - Rev'!$A29-35,0),0.03999)","v":3.7000000000000002E-3},{"$f":"MIN(OFFSET(Female!BX$18,'Female - Rev'!$A29-35,0),0.03999)","v":4.3E-3},{"$f":"MIN(OFFSET(Female!BY$18,'Female - Rev'!$A29-35,0),0.03999)","v":5.1000000000000004E-3},{"$f":"MIN(OFFSET(Female!BZ$18,'Female - Rev'!$A29-35,0),0.03999)","v":6.1000000000000004E-3},{"$f":"MIN(OFFSET(Female!CA$18,'Female - Rev'!$A29-35,0),0.03999)","v":7.1000000000000004E-3},{"$f":"MIN(OFFSET(Female!CB$18,'Female - Rev'!$A29-35,0),0.03999)","v":8.0000000000000002E-3},{"$f":"MIN(OFFSET(Female!CC$18,'Female - Rev'!$A29-35,0),0.03999)","v":8.8000000000000005E-3},{"$f":"MIN(OFFSET(Female!CD$18,'Female - Rev'!$A29-35,0),0.03999)","v":9.2999999999999992E-3},{"$f":"MIN(OFFSET(Female!CE$18,'Female - Rev'!$A29-35,0),0.03999)","v":9.7000000000000003E-3},{"$f":"MIN(OFFSET(Female!CF$18,'Female - Rev'!$A29-35,0),0.03999)","v":9.9000000000000008E-3},{"$f":"MIN(OFFSET(Female!CG$18,'Female - Rev'!$A29-35,0),0.03999)","v":0.01},{"$f":"MIN(OFFSET(Female!CH$18,'Female - Rev'!$A29-35,0),0.03999)","v":0.01}]
[68,68,{"$f":"MIN(OFFSET(Female!B$18,'Female - Rev'!$A30-35,0),0.03999)","v":2.23E-2},{"$f":"MIN(OFFSET(Female!C$18,'Female - Rev'!$A30-35,0),0.03999)","v":2.0299999999999999E-2},{"$f":"MIN(OFFSET(Female!D$18,'Female - Rev'!$A30-35,0),0.03999)","v":1.84E-2},{"$f":"MIN(OFFSET(Female!E$18,'Female - Rev'!$A30-35,0),0.03999)","v":1.6500000000000001E-2},{"$f":"MIN(OFFSET(Female!F$18,'Female - Rev'!$A30-35,0),0.03999)","v":1.47E-2},{"$f":"MIN(OFFSET(Female!G$18,'Female - Rev'!$A30-35,0),0.03999)","v":1.32E-2},{"$f":"MIN(OFFSET(Female!H$18,'Female - Rev'!$A30-35,0),0.03999)","v":1.2E-2},{"$f":"MIN(OFFSET(Female!I$18,'Female - Rev'!$A30-35,0),0.03999)","v":1.12E-2},{"$f":"MIN(OFFSET(Female!J$18,'Female - Rev'!$A30-35,0),0.03999)","v":1.0699999999999999E-2},{"$f":"MIN(OFFSET(Female!K$18,'Female - Rev'!$A30-35,0),0.03999)","v":1.0500000000000001E-2},{"$f":"MIN(OFFSET(Female!L$18,'Female - Rev'!$A30-35,0),0.03999)","v":1.0500000000000001E-2},{"$f":"MIN(OFFSET(Female!M$18,'Female - Rev'!$A30-35,0),0.03999)","v":1.0699999999999999E-2},{"$f":"MIN(OFFSET(Female!N$18,'Female - Rev'!$A30-35,0),0.03999)","v":1.14E-2},{"$f":"MIN(OFFSET(Female!O$18,'Female - Rev'!$A30-35,0),0.03999)","v":1.23E-2},{"$f":"MIN(OFFSET(Female!P$18,'Female - Rev'!$A30-35,0),0.03999)","v":1.3599999999999999E-2},{"$f":"MIN(OFFSET(Female!Q$18,'Female - Rev'!$A30-35,0),0.03999)","v":1.52E-2},{"$f":"MIN(OFFSET(Female!R$18,'Female - Rev'!$A30-35,0),0.03999)","v":1.6799999999999999E-2},{"$f":"MIN(OFFSET(Female!S$18,'Female - Rev'!$A30-35,0),0.03999)","v":1.8200000000000001E-2},{"$f":"MIN(OFFSET(Female!T$18,'Female - Rev'!$A30-35,0),0.03999)","v":1.9300000000000001E-2},{"$f":"MIN(OFFSET(Female!U$18,'Female - Rev'!$A30-35,0),0.03999)","v":0.02},{"$f":"MIN(OFFSET(Female!V$18,'Female - Rev'!$A30-35,0),0.03999)","v":2.0299999999999999E-2},{"$f":"MIN(OFFSET(Female!W$18,'Female - Rev'!$A30-35,0),0.03999)","v":2.0299999999999999E-2},{"$f":"MIN(OFFSET(Female!X$18,'Female - Rev'!$A30-35,0),0.03999)","v":1.9800000000000002E-2},{"$f":"MIN(OFFSET(Female!Y$18,'Female - Rev'!$A30-35,0),0.03999)","v":1.8800000000000001E-2},{"$f":"MIN(OFFSET(Female!Z$18,'Female - Rev'!$A30-35,0),0.03999)","v":1.6899999999999998E-2},{"$f":"MIN(OFFSET(Female!AA$18,'Female - Rev'!$A30-35,0),0.03999)","v":1.44E-2},{"$f":"MIN(OFFSET(Female!AB$18,'Female - Rev'!$A30-35,0),0.03999)","v":1.15E-2},{"$f":"MIN(OFFSET(Female!AC$18,'Female - Rev'!$A30-35,0),0.03999)","v":8.3999999999999995E-3},{"$f":"MIN(OFFSET(Female!AD$18,'Female - Rev'!$A30-35,0),0.03999)","v":5.5999999999999999E-3},{"$f":"MIN(OFFSET(Female!AE$18,'Female - Rev'!$A30-35,0),0.03999)","v":3.2000000000000002E-3},{"$f":"MIN(OFFSET(Female!AF$18,'Female - Rev'!$A30-35,0),0.03999)","v":1.5E-3},{"$f":"MIN(OFFSET(Female!AG$18,'Female - Rev'!$A30-35,0),0.03999)","v":5.9999999999999995E-4},{"$f":"MIN(OFFSET(Female!AH$18,'Female - Rev'!$A30-35,0),0.03999)","v":4.0000000000000002E-4},{"$f":"MIN(OFFSET(Female!AI$18,'Female - Rev'!$A30-35,0),0.03999)","v":1.1000000000000001E-3},{"$f":"MIN(OFFSET(Female!AJ$18,'Female - Rev'!$A30-35,0),0.03999)","v":2.3E-3},{"$f":"MIN(OFFSET(Female!AK$18,'Female - Rev'!$A30-35,0),0.03999)","v":3.8999999999999998E-3},{"$f":"MIN(OFFSET(Female!AL$18,'Female - Rev'!$A30-35,0),0.03999)","v":5.4999999999999997E-3},{"$f":"MIN(OFFSET(Female!AM$18,'Female - Rev'!$A30-35,0),0.03999)","v":6.8999999999999999E-3},{"$f":"MIN(OFFSET(Female!AN$18,'Female - Rev'!$A30-35,0),0.03999)","v":7.6E-3},{"$f":"MIN(OFFSET(Female!AO$18,'Female - Rev'!$A30-35,0),0.03999)","v":7.6E-3},{"$f":"MIN(OFFSET(Female!AP$18,'Female - Rev'!$A30-35,0),0.03999)","v":7.0000000000000001E-3},{"$f":"MIN(OFFSET(Female!AQ$18,'Female - Rev'!$A30-35,0),0.03999)","v":5.8999999999999999E-3},{"$f":"MIN(OFFSET(Female!AR$18,'Female - Rev'!$A30-35,0),0.03999)","v":4.7000000000000002E-3},{"$f":"MIN(OFFSET(Female!AS$18,'Female - Rev'!$A30-35,0),0.03999)","v":3.8E-3},{"$f":"MIN(OFFSET(Female!AT$18,'Female - Rev'!$A30-35,0),0.03999)","v":3.3999999999999998E-3},{"$f":"MIN(OFFSET(Female!AU$18,'Female - Rev'!$A30-35,0),0.03999)","v":3.5999999999999999E-3},{"$f":"MIN(OFFSET(Female!AV$18,'Female - Rev'!$A30-35,0),0.03999)","v":4.4999999999999997E-3},{"$f":"MIN(OFFSET(Female!AW$18,'Female - Rev'!$A30-35,0),0.03999)","v":6.0000000000000001E-3},{"$f":"MIN(OFFSET(Female!AX$18,'Female - Rev'!$A30-35,0),0.03999)","v":8.2000000000000007E-3},{"$f":"MIN(OFFSET(Female!AY$18,'Female - Rev'!$A30-35,0),0.03999)","v":1.09E-2},{"$f":"MIN(OFFSET(Female!AZ$18,'Female - Rev'!$A30-35,0),0.03999)","v":1.38E-2},{"$f":"MIN(OFFSET(Female!BA$18,'Female - Rev'!$A30-35,0),0.03999)","v":1.66E-2},{"$f":"MIN(OFFSET(Female!BB$18,'Female - Rev'!$A30-35,0),0.03999)","v":1.9099999999999999E-2},{"$f":"MIN(OFFSET(Female!BC$18,'Female - Rev'!$A30-35,0),0.03999)","v":2.1000000000000001E-2},{"$f":"MIN(OFFSET(Female!BD$18,'Female - Rev'!$A30-35,0),0.03999)","v":2.2200000000000001E-2},{"$f":"MIN(OFFSET(Female!BE$18,'Female - Rev'!$A30-35,0),0.03999)","v":2.2700000000000001E-2},{"$f":"MIN(OFFSET(Female!BF$18,'Female - Rev'!$A30-35,0),0.03999)","v":2.2599999999999999E-2},{"$f":"MIN(OFFSET(Female!BG$18,'Female - Rev'!$A30-35,0),0.03999)","v":2.1700000000000001E-2},{"$f":"MIN(OFFSET(Female!BH$18,'Female - Rev'!$A30-35,0),0.03999)","v":2.0299999999999999E-2},{"$f":"MIN(OFFSET(Female!BI$18,'Female - Rev'!$A30-35,0),0.03999)","v":1.8499999999999999E-2},{"$f":"MIN(OFFSET(Female!BJ$18,'Female - Rev'!$A30-35,0),0.03999)","v":1.6299999999999999E-2},{"$f":"MIN(OFFSET(Female!BK$18,'Female - Rev'!$A30-35,0),0.03999)","v":1.4E-2},{"$f":"MIN(OFFSET(Female!BL$18,'Female - Rev'!$A30-35,0),0.03999)","v":1.18E-2},{"$f":"MIN(OFFSET(Female!BM$18,'Female - Rev'!$A30-35,0),0.03999)","v":9.5999999999999992E-3},{"$f":"MIN(OFFSET(Female!BN$18,'Female - Rev'!$A30-35,0),0.03999)","v":7.4999999999999997E-3},{"$f":"MIN(OFFSET(Female!BO$18,'Female - Rev'!$A30-35,0),0.03999)","v":6.7000000000000002E-3},{"$f":"MIN(OFFSET(Female!BP$18,'Female - Rev'!$A30-35,0),0.03999)","v":5.7999999999999996E-3},{"$f":"MIN(OFFSET(Female!BQ$18,'Female - Rev'!$A30-35,0),0.03999)","v":4.7999999999999996E-3},{"$f":"MIN(OFFSET(Female!BR$18,'Female - Rev'!$A30-35,0),0.03999)","v":3.8999999999999998E-3},{"$f":"MIN(OFFSET(Female!BS$18,'Female - Rev'!$A30-35,0),0.03999)","v":3.0999999999999999E-3},{"$f":"MIN(OFFSET(Female!BT$18,'Female - Rev'!$A30-35,0),0.03999)","v":2.5999999999999999E-3},{"$f":"MIN(OFFSET(Female!BU$18,'Female - Rev'!$A30-35,0),0.03999)","v":2.5000000000000001E-3},{"$f":"MIN(OFFSET(Female!BV$18,'Female - Rev'!$A30-35,0),0.03999)","v":2.7000000000000001E-3},{"$f":"MIN(OFFSET(Female!BW$18,'Female - Rev'!$A30-35,0),0.03999)","v":3.3999999999999998E-3},{"$f":"MIN(OFFSET(Female!BX$18,'Female - Rev'!$A30-35,0),0.03999)","v":4.3E-3},{"$f":"MIN(OFFSET(Female!BY$18,'Female - Rev'!$A30-35,0),0.03999)","v":5.3E-3},{"$f":"MIN(OFFSET(Female!BZ$18,'Female - Rev'!$A30-35,0),0.03999)","v":6.4000000000000003E-3},{"$f":"MIN(OFFSET(Female!CA$18,'Female - Rev'!$A30-35,0),0.03999)","v":7.4000000000000003E-3},{"$f":"MIN(OFFSET(Female!CB$18,'Female - Rev'!$A30-35,0),0.03999)","v":8.3000000000000001E-3},{"$f":"MIN(OFFSET(Female!CC$18,'Female - Rev'!$A30-35,0),0.03999)","v":8.9999999999999993E-3},{"$f":"MIN(OFFSET(Female!CD$18,'Female - Rev'!$A30-35,0),0.03999)","v":9.4000000000000004E-3},{"$f":"MIN(OFFSET(Female!CE$18,'Female - Rev'!$A30-35,0),0.03999)","v":9.7000000000000003E-3},{"$f":"MIN(OFFSET(Female!CF$18,'Female - Rev'!$A30-35,0),0.03999)","v":9.9000000000000008E-3},{"$f":"MIN(OFFSET(Female!CG$18,'Female - Rev'!$A30-35,0),0.03999)","v":0.01},{"$f":"MIN(OFFSET(Female!CH$18,'Female - Rev'!$A30-35,0),0.03999)","v":0.01}]
[67,67,{"$f":"MIN(OFFSET(Female!B$18,'Female - Rev'!$A31-35,0),0.03999)","v":2.3199999999999998E-2},{"$f":"MIN(OFFSET(Female!C$18,'Female - Rev'!$A31-35,0),0.03999)","v":2.1000000000000001E-2},{"$f":"MIN(OFFSET(Female!D$18,'Female - Rev'!$A31-35,0),0.03999)","v":1.8800000000000001E-2},{"$f":"MIN(OFFSET(Female!E$18,'Female - Rev'!$A31-35,0),0.03999)","v":1.66E-2},{"$f":"MIN(OFFSET(Female!F$18,'Female - Rev'!$A31-35,0),0.03999)","v":1.46E-2},{"$f":"MIN(OFFSET(Female!G$18,'Female - Rev'!$A31-35,0),0.03999)","v":1.2800000000000001E-2},{"$f":"MIN(OFFSET(Female!H$18,'Female - Rev'!$A31-35,0),0.03999)","v":1.15E-2},{"$f":"MIN(OFFSET(Female!I$18,'Female - Rev'!$A31-35,0),0.03999)","v":1.06E-2},{"$f":"MIN(OFFSET(Female!J$18,'Female - Rev'!$A31-35,0),0.03999)","v":0.01},{"$f":"MIN(OFFSET(Female!K$18,'Female - Rev'!$A31-35,0),0.03999)","v":9.7000000000000003E-3},{"$f":"MIN(OFFSET(Female!L$18,'Female - Rev'!$A31-35,0),0.03999)","v":9.7000000000000003E-3},{"$f":"MIN(OFFSET(Female!M$18,'Female - Rev'!$A31-35,0),0.03999)","v":1.01E-2},{"$f":"MIN(OFFSET(Female!N$18,'Female - Rev'!$A31-35,0),0.03999)","v":1.0800000000000001E-2},{"$f":"MIN(OFFSET(Female!O$18,'Female - Rev'!$A31-35,0),0.03999)","v":1.2E-2},{"$f":"MIN(OFFSET(Female!P$18,'Female - Rev'!$A31-35,0),0.03999)","v":1.34E-2},{"$f":"MIN(OFFSET(Female!Q$18,'Female - Rev'!$A31-35,0),0.03999)","v":1.5100000000000001E-2},{"$f":"MIN(OFFSET(Female!R$18,'Female - Rev'!$A31-35,0),0.03999)","v":1.6799999999999999E-2},{"$f":"MIN(OFFSET(Female!S$18,'Female - Rev'!$A31-35,0),0.03999)","v":1.8200000000000001E-2},{"$f":"MIN(OFFSET(Female!T$18,'Female - Rev'!$A31-35,0),0.03999)","v":1.9099999999999999E-2},{"$f":"MIN(OFFSET(Female!U$18,'Female - Rev'!$A31-35,0),0.03999)","v":1.9599999999999999E-2},{"$f":"MIN(OFFSET(Female!V$18,'Female - Rev'!$A31-35,0),0.03999)","v":1.9699999999999999E-2},{"$f":"MIN(OFFSET(Female!W$18,'Female - Rev'!$A31-35,0),0.03999)","v":1.95E-2},{"$f":"MIN(OFFSET(Female!X$18,'Female - Rev'!$A31-35,0),0.03999)","v":1.9E-2},{"$f":"MIN(OFFSET(Female!Y$18,'Female - Rev'!$A31-35,0),0.03999)","v":1.7899999999999999E-2},{"$f":"MIN(OFFSET(Female!Z$18,'Female - Rev'!$A31-35,0),0.03999)","v":1.6199999999999999E-2},{"$f":"MIN(OFFSET(Female!AA$18,'Female - Rev'!$A31-35,0),0.03999)","v":1.38E-2},{"$f":"MIN(OFFSET(Female!AB$18,'Female - Rev'!$A31-35,0),0.03999)","v":1.11E-2},{"$f":"MIN(OFFSET(Female!AC$18,'Female - Rev'!$A31-35,0),0.03999)","v":8.2000000000000007E-3},{"$f":"MIN(OFFSET(Female!AD$18,'Female - Rev'!$A31-35,0),0.03999)","v":5.5999999999999999E-3},{"$f":"MIN(OFFSET(Female!AE$18,'Female - Rev'!$A31-35,0),0.03999)","v":3.3E-3},{"$f":"MIN(OFFSET(Female!AF$18,'Female - Rev'!$A31-35,0),0.03999)","v":1.6999999999999999E-3},{"$f":"MIN(OFFSET(Female!AG$18,'Female - Rev'!$A31-35,0),0.03999)","v":8.0000000000000004E-4},{"$f":"MIN(OFFSET(Female!AH$18,'Female - Rev'!$A31-35,0),0.03999)","v":5.9999999999999995E-4},{"$f":"MIN(OFFSET(Female!AI$18,'Female - Rev'!$A31-35,0),0.03999)","v":1.1999999999999999E-3},{"$f":"MIN(OFFSET(Female!AJ$18,'Female - Rev'!$A31-35,0),0.03999)","v":2.3999999999999998E-3},{"$f":"MIN(OFFSET(Female!AK$18,'Female - Rev'!$A31-35,0),0.03999)","v":3.8999999999999998E-3},{"$f":"MIN(OFFSET(Female!AL$18,'Female - Rev'!$A31-35,0),0.03999)","v":5.5999999999999999E-3},{"$f":"MIN(OFFSET(Female!AM$18,'Female - Rev'!$A31-35,0),0.03999)","v":6.8999999999999999E-3},{"$f":"MIN(OFFSET(Female!AN$18,'Female - Rev'!$A31-35,0),0.03999)","v":7.7000000000000002E-3},{"$f":"MIN(OFFSET(Female!AO$18,'Female - Rev'!$A31-35,0),0.03999)","v":7.7999999999999996E-3},{"$f":"MIN(OFFSET(Female!AP$18,'Female - Rev'!$A31-35,0),0.03999)","v":7.1000000000000004E-3},{"$f":"MIN(OFFSET(Female!AQ$18,'Female - Rev'!$A31-35,0),0.03999)","v":6.1000000000000004E-3},{"$f":"MIN(OFFSET(Female!AR$18,'Female - Rev'!$A31-35,0),0.03999)","v":5.0000000000000001E-3},{"$f":"MIN(OFFSET(Female!AS$18,'Female - Rev'!$A31-35,0),0.03999)","v":4.1999999999999997E-3},{"$f":"MIN(OFFSET(Female!AT$18,'Female - Rev'!$A31-35,0),0.03999)","v":3.8999999999999998E-3},{"$f":"MIN(OFFSET(Female!AU$18,'Female - Rev'!$A31-35,0),0.03999)","v":4.1999999999999997E-3},{"$f":"MIN(OFFSET(Female!AV$18,'Female - Rev'!$A31-35,0),0.03999)","v":5.1999999999999998E-3},{"$f":"MIN(OFFSET(Female!AW$18,'Female - Rev'!$A31-35,0),0.03999)","v":6.7999999999999996E-3},{"$f":"MIN(OFFSET(Female!AX$18,'Female - Rev'!$A31-35,0),0.03999)","v":9.1000000000000004E-3},{"$f":"MIN(OFFSET(Female!AY$18,'Female - Rev'!$A31-35,0),0.03999)","v":1.17E-2},{"$f":"MIN(OFFSET(Female!AZ$18,'Female - Rev'!$A31-35,0),0.03999)","v":1.46E-2},{"$f":"MIN(OFFSET(Female!BA$18,'Female - Rev'!$A31-35,0),0.03999)","v":1.7399999999999999E-2},{"$f":"MIN(OFFSET(Female!BB$18,'Female - Rev'!$A31-35,0),0.03999)","v":1.9900000000000001E-2},{"$f":"MIN(OFFSET(Female!BC$18,'Female - Rev'!$A31-35,0),0.03999)","v":2.18E-2},{"$f":"MIN(OFFSET(Female!BD$18,'Female - Rev'!$A31-35,0),0.03999)","v":2.29E-2},{"$f":"MIN(OFFSET(Female!BE$18,'Female - Rev'!$A31-35,0),0.03999)","v":2.3400000000000001E-2},{"$f":"MIN(OFFSET(Female!BF$18,'Female - Rev'!$A31-35,0),0.03999)","v":2.3099999999999999E-2},{"$f":"MIN(OFFSET(Female!BG$18,'Female - Rev'!$A31-35,0),0.03999)","v":2.2200000000000001E-2},{"$f":"MIN(OFFSET(Female!BH$18,'Female - Rev'!$A31-35,0),0.03999)","v":2.06E-2},{"$f":"MIN(OFFSET(Female!BI$18,'Female - Rev'!$A31-35,0),0.03999)","v":1.8499999999999999E-2},{"$f":"MIN(OFFSET(Female!BJ$18,'Female - Rev'!$A31-35,0),0.03999)","v":1.61E-2},{"$f":"MIN(OFFSET(Female!BK$18,'Female - Rev'!$A31-35,0),0.03999)","v":1.3599999999999999E-2},{"$f":"MIN(OFFSET(Female!BL$18,'Female - Rev'!$A31-35,0),0.03999)","v":1.0999999999999999E-2},{"$f":"MIN(OFFSET(Female!BM$18,'Female - Rev'!$A31-35,0),0.03999)","v":8.5000000000000006E-3},{"$f":"MIN(OFFSET(Female!BN$18,'Female - Rev'!$A31-35,0),0.03999)","v":5.8999999999999999E-3},{"$f":"MIN(OFFSET(Female!BO$18,'Female - Rev'!$A31-35,0),0.03999)","v":4.8999999999999998E-3},{"$f":"MIN(OFFSET(Female!BP$18,'Female - Rev'!$A31-35,0),0.03999)","v":3.8999999999999998E-3},{"$f":"MIN(OFFSET(Female!BQ$18,'Female - Rev'!$A31-35,0),0.03999)","v":2.8E-3},{"$f":"MIN(OFFSET(Female!BR$18,'Female - Rev'!$A31-35,0),0.03999)","v":2E-3},{"$f":"MIN(OFFSET(Female!BS$18,'Female - Rev'!$A31-35,0),0.03999)","v":1.5E-3},{"$f":"MIN(OFFSET(Female!BT$18,'Female - Rev'!$A31-35,0),0.03999)","v":1.2999999999999999E-3},{"$f":"MIN(OFFSET(Female!BU$18,'Female - Rev'!$A31-35,0),0.03999)","v":1.6999999999999999E-3},{"$f":"MIN(OFFSET(Female!BV$18,'Female - Rev'!$A31-35,0),0.03999)","v":2.3999999999999998E-3},{"$f":"MIN(OFFSET(Female!BW$18,'Female - Rev'!$A31-35,0),0.03999)","v":3.3E-3},{"$f":"MIN(OFFSET(Female!BX$18,'Female - Rev'!$A31-35,0),0.03999)","v":4.4999999999999997E-3},{"$f":"MIN(OFFSET(Female!BY$18,'Female - Rev'!$A31-35,0),0.03999)","v":5.5999999999999999E-3},{"$f":"MIN(OFFSET(Female!BZ$18,'Female - Rev'!$A31-35,0),0.03999)","v":6.7000000000000002E-3},{"$f":"MIN(OFFSET(Female!CA$18,'Female - Rev'!$A31-35,0),0.03999)","v":7.7999999999999996E-3},{"$f":"MIN(OFFSET(Female!CB$18,'Female - Rev'!$A31-35,0),0.03999)","v":8.6E-3},{"$f":"MIN(OFFSET(Female!CC$18,'Female - Rev'!$A31-35,0),0.03999)","v":9.1999999999999998E-3},{"$f":"MIN(OFFSET(Female!CD$18,'Female - Rev'!$A31-35,0),0.03999)","v":9.5999999999999992E-3},{"$f":"MIN(OFFSET(Female!CE$18,'Female - Rev'!$A31-35,0),0.03999)","v":9.7999999999999997E-3},{"$f":"MIN(OFFSET(Female!CF$18,'Female - Rev'!$A31-35,0),0.03999)","v":9.9000000000000008E-3},{"$f":"MIN(OFFSET(Female!CG$18,'Female - Rev'!$A31-35,0),0.03999)","v":0.01},{"$f":"MIN(OFFSET(Female!CH$18,'Female - Rev'!$A31-35,0),0.03999)","v":0.01}]
[66,66,{"$f":"MIN(OFFSET(Female!B$18,'Female - Rev'!$A32-35,0),0.03999)","v":2.4299999999999999E-2},{"$f":"MIN(OFFSET(Female!C$18,'Female - Rev'!$A32-35,0),0.03999)","v":2.18E-2},{"$f":"MIN(OFFSET(Female!D$18,'Female - Rev'!$A32-35,0),0.03999)","v":1.9400000000000001E-2},{"$f":"MIN(OFFSET(Female!E$18,'Female - Rev'!$A32-35,0),0.03999)","v":1.7000000000000001E-2},{"$f":"MIN(OFFSET(Female!F$18,'Female - Rev'!$A32-35,0),0.03999)","v":1.46E-2},{"$f":"MIN(OFFSET(Female!G$18,'Female - Rev'!$A32-35,0),0.03999)","v":1.26E-2},{"$f":"MIN(OFFSET(Female!H$18,'Female - Rev'!$A32-35,0),0.03999)","v":1.11E-2},{"$f":"MIN(OFFSET(Female!I$18,'Female - Rev'!$A32-35,0),0.03999)","v":0.01},{"$f":"MIN(OFFSET(Female!J$18,'Female - Rev'!$A32-35,0),0.03999)","v":9.2999999999999992E-3},{"$f":"MIN(OFFSET(Female!K$18,'Female - Rev'!$A32-35,0),0.03999)","v":8.8999999999999999E-3},{"$f":"MIN(OFFSET(Female!L$18,'Female - Rev'!$A32-35,0),0.03999)","v":8.8999999999999999E-3},{"$f":"MIN(OFFSET(Female!M$18,'Female - Rev'!$A32-35,0),0.03999)","v":9.4000000000000004E-3},{"$f":"MIN(OFFSET(Female!N$18,'Female - Rev'!$A32-35,0),0.03999)","v":1.03E-2},{"$f":"MIN(OFFSET(Female!O$18,'Female - Rev'!$A32-35,0),0.03999)","v":1.1599999999999999E-2},{"$f":"MIN(OFFSET(Female!P$18,'Female - Rev'!$A32-35,0),0.03999)","v":1.3100000000000001E-2},{"$f":"MIN(OFFSET(Female!Q$18,'Female - Rev'!$A32-35,0),0.03999)","v":1.4800000000000001E-2},{"$f":"MIN(OFFSET(Female!R$18,'Female - Rev'!$A32-35,0),0.03999)","v":1.6400000000000001E-2},{"$f":"MIN(OFFSET(Female!S$18,'Female - Rev'!$A32-35,0),0.03999)","v":1.77E-2},{"$f":"MIN(OFFSET(Female!T$18,'Female - Rev'!$A32-35,0),0.03999)","v":1.8599999999999998E-2},{"$f":"MIN(OFFSET(Female!U$18,'Female - Rev'!$A32-35,0),0.03999)","v":1.89E-2},{"$f":"MIN(OFFSET(Female!V$18,'Female - Rev'!$A32-35,0),0.03999)","v":1.89E-2},{"$f":"MIN(OFFSET(Female!W$18,'Female - Rev'!$A32-35,0),0.03999)","v":1.8700000000000001E-2},{"$f":"MIN(OFFSET(Female!X$18,'Female - Rev'!$A32-35,0),0.03999)","v":1.8200000000000001E-2},{"$f":"MIN(OFFSET(Female!Y$18,'Female - Rev'!$A32-35,0),0.03999)","v":1.72E-2},{"$f":"MIN(OFFSET(Female!Z$18,'Female - Rev'!$A32-35,0),0.03999)","v":1.5699999999999999E-2},{"$f":"MIN(OFFSET(Female!AA$18,'Female - Rev'!$A32-35,0),0.03999)","v":1.3599999999999999E-2},{"$f":"MIN(OFFSET(Female!AB$18,'Female - Rev'!$A32-35,0),0.03999)","v":1.11E-2},{"$f":"MIN(OFFSET(Female!AC$18,'Female - Rev'!$A32-35,0),0.03999)","v":8.3999999999999995E-3},{"$f":"MIN(OFFSET(Female!AD$18,'Female - Rev'!$A32-35,0),0.03999)","v":5.8999999999999999E-3},{"$f":"MIN(OFFSET(Female!AE$18,'Female - Rev'!$A32-35,0),0.03999)","v":3.7000000000000002E-3},{"$f":"MIN(OFFSET(Female!AF$18,'Female - Rev'!$A32-35,0),0.03999)","v":2.0999999999999999E-3},{"$f":"MIN(OFFSET(Female!AG$18,'Female - Rev'!$A32-35,0),0.03999)","v":1.1999999999999999E-3},{"$f":"MIN(OFFSET(Female!AH$18,'Female - Rev'!$A32-35,0),0.03999)","v":8.9999999999999998E-4},{"$f":"MIN(OFFSET(Female!AI$18,'Female - Rev'!$A32-35,0),0.03999)","v":1.4E-3},{"$f":"MIN(OFFSET(Female!AJ$18,'Female - Rev'!$A32-35,0),0.03999)","v":2.5000000000000001E-3},{"$f":"MIN(OFFSET(Female!AK$18,'Female - Rev'!$A32-35,0),0.03999)","v":4.0000000000000001E-3},{"$f":"MIN(OFFSET(Female!AL$18,'Female - Rev'!$A32-35,0),0.03999)","v":5.7000000000000002E-3},{"$f":"MIN(OFFSET(Female!AM$18,'Female - Rev'!$A32-35,0),0.03999)","v":7.0000000000000001E-3},{"$f":"MIN(OFFSET(Female!AN$18,'Female - Rev'!$A32-35,0),0.03999)","v":7.9000000000000008E-3},{"$f":"MIN(OFFSET(Female!AO$18,'Female - Rev'!$A32-35,0),0.03999)","v":8.0000000000000002E-3},{"$f":"MIN(OFFSET(Female!AP$18,'Female - Rev'!$A32-35,0),0.03999)","v":7.4000000000000003E-3},{"$f":"MIN(OFFSET(Female!AQ$18,'Female - Rev'!$A32-35,0),0.03999)","v":6.4000000000000003E-3},{"$f":"MIN(OFFSET(Female!AR$18,'Female - Rev'!$A32-35,0),0.03999)","v":5.3E-3},{"$f":"MIN(OFFSET(Female!AS$18,'Female - Rev'!$A32-35,0),0.03999)","v":4.5999999999999999E-3},{"$f":"MIN(OFFSET(Female!AT$18,'Female - Rev'!$A32-35,0),0.03999)","v":4.4999999999999997E-3},{"$f":"MIN(OFFSET(Female!AU$18,'Female - Rev'!$A32-35,0),0.03999)","v":4.8999999999999998E-3},{"$f":"MIN(OFFSET(Female!AV$18,'Female - Rev'!$A32-35,0),0.03999)","v":6.0000000000000001E-3},{"$f":"MIN(OFFSET(Female!AW$18,'Female - Rev'!$A32-35,0),0.03999)","v":7.7000000000000002E-3},{"$f":"MIN(OFFSET(Female!AX$18,'Female - Rev'!$A32-35,0),0.03999)","v":9.9000000000000008E-3},{"$f":"MIN(OFFSET(Female!AY$18,'Female - Rev'!$A32-35,0),0.03999)","v":1.2500000000000001E-2},{"$f":"MIN(OFFSET(Female!AZ$18,'Female - Rev'!$A32-35,0),0.03999)","v":1.54E-2},{"$f":"MIN(OFFSET(Female!BA$18,'Female - Rev'!$A32-35,0),0.03999)","v":1.8100000000000002E-2},{"$f":"MIN(OFFSET(Female!BB$18,'Female - Rev'!$A32-35,0),0.03999)","v":2.06E-2},{"$f":"MIN(OFFSET(Female!BC$18,'Female - Rev'!$A32-35,0),0.03999)","v":2.24E-2},{"$f":"MIN(OFFSET(Female!BD$18,'Female - Rev'!$A32-35,0),0.03999)","v":2.35E-2},{"$f":"MIN(OFFSET(Female!BE$18,'Female - Rev'!$A32-35,0),0.03999)","v":2.3900000000000001E-2},{"$f":"MIN(OFFSET(Female!BF$18,'Female - Rev'!$A32-35,0),0.03999)","v":2.3599999999999999E-2},{"$f":"MIN(OFFSET(Female!BG$18,'Female - Rev'!$A32-35,0),0.03999)","v":2.2499999999999999E-2},{"$f":"MIN(OFFSET(Female!BH$18,'Female - Rev'!$A32-35,0),0.03999)","v":2.07E-2},{"$f":"MIN(OFFSET(Female!BI$18,'Female - Rev'!$A32-35,0),0.03999)","v":1.84E-2},{"$f":"MIN(OFFSET(Female!BJ$18,'Female - Rev'!$A32-35,0),0.03999)","v":1.5599999999999999E-2},{"$f":"MIN(OFFSET(Female!BK$18,'Female - Rev'!$A32-35,0),0.03999)","v":1.2699999999999999E-2},{"$f":"MIN(OFFSET(Female!BL$18,'Female - Rev'!$A32-35,0),0.03999)","v":9.7000000000000003E-3},{"$f":"MIN(OFFSET(Female!BM$18,'Female - Rev'!$A32-35,0),0.03999)","v":6.7000000000000002E-3},{"$f":"MIN(OFFSET(Female!BN$18,'Female - Rev'!$A32-35,0),0.03999)","v":3.8E-3},{"$f":"MIN(OFFSET(Female!BO$18,'Female - Rev'!$A32-35,0),0.03999)","v":2.5999999999999999E-3},{"$f":"MIN(OFFSET(Female!BP$18,'Female - Rev'!$A32-35,0),0.03999)","v":1.4E-3},{"$f":"MIN(OFFSET(Female!BQ$18,'Female - Rev'!$A32-35,0),0.03999)","v":5.0000000000000001E-4},{"$f":"MIN(OFFSET(Female!BR$18,'Female - Rev'!$A32-35,0),0.03999)","v":0},{"$f":"MIN(OFFSET(Female!BS$18,'Female - Rev'!$A32-35,0),0.03999)","v":-1E-4},{"$f":"MIN(OFFSET(Female!BT$18,'Female - Rev'!$A32-35,0),0.03999)","v":2.9999999999999997E-4},{"$f":"MIN(OFFSET(Female!BU$18,'Female - Rev'!$A32-35,0),0.03999)","v":1.1000000000000001E-3},{"$f":"MIN(OFFSET(Female!BV$18,'Female - Rev'!$A32-35,0),0.03999)","v":2.2000000000000001E-3},{"$f":"MIN(OFFSET(Female!BW$18,'Female - Rev'!$A32-35,0),0.03999)","v":3.5000000000000001E-3},{"$f":"MIN(OFFSET(Female!BX$18,'Female - Rev'!$A32-35,0),0.03999)","v":4.7999999999999996E-3},{"$f":"MIN(OFFSET(Female!BY$18,'Female - Rev'!$A32-35,0),0.03999)","v":6.1000000000000004E-3},{"$f":"MIN(OFFSET(Female!BZ$18,'Female - Rev'!$A32-35,0),0.03999)","v":7.1999999999999998E-3},{"$f":"MIN(OFFSET(Female!CA$18,'Female - Rev'!$A32-35,0),0.03999)","v":8.0999999999999996E-3},{"$f":"MIN(OFFSET(Female!CB$18,'Female - Rev'!$A32-35,0),0.03999)","v":8.8000000000000005E-3},{"$f":"MIN(OFFSET(Female!CC$18,'Female - Rev'!$A32-35,0),0.03999)","v":9.2999999999999992E-3},{"$f":"MIN(OFFSET(Female!CD$18,'Female - Rev'!$A32-35,0),0.03999)","v":9.7000000000000003E-3},{"$f":"MIN(OFFSET(Female!CE$18,'Female - Rev'!$A32-35,0),0.03999)","v":9.7999999999999997E-3},{"$f":"MIN(OFFSET(Female!CF$18,'Female - Rev'!$A32-35,0),0.03999)","v":9.9000000000000008E-3},{"$f":"MIN(OFFSET(Female!CG$18,'Female - Rev'!$A32-35,0),0.03999)","v":0.01},{"$f":"MIN(OFFSET(Female!CH$18,'Female - Rev'!$A32-35,0),0.03999)","v":0.01}]
[65,65,{"$f":"MIN(OFFSET(Female!B$18,'Female - Rev'!$A33-35,0),0.03999)","v":2.5700000000000001E-2},{"$f":"MIN(OFFSET(Female!C$18,'Female - Rev'!$A33-35,0),0.03999)","v":2.29E-2},{"$f":"MIN(OFFSET(Female!D$18,'Female - Rev'!$A33-35,0),0.03999)","v":2.0199999999999999E-2},{"$f":"MIN(OFFSET(Female!E$18,'Female - Rev'!$A33-35,0),0.03999)","v":1.7500000000000002E-2},{"$f":"MIN(OFFSET(Female!F$18,'Female - Rev'!$A33-35,0),0.03999)","v":1.49E-2},{"$f":"MIN(OFFSET(Female!G$18,'Female - Rev'!$A33-35,0),0.03999)","v":1.26E-2},{"$f":"MIN(OFFSET(Female!H$18,'Female - Rev'!$A33-35,0),0.03999)","v":1.0699999999999999E-2},{"$f":"MIN(OFFSET(Female!I$18,'Female - Rev'!$A33-35,0),0.03999)","v":9.4000000000000004E-3},{"$f":"MIN(OFFSET(Female!J$18,'Female - Rev'!$A33-35,0),0.03999)","v":8.6E-3},{"$f":"MIN(OFFSET(Female!K$18,'Female - Rev'!$A33-35,0),0.03999)","v":8.2000000000000007E-3},{"$f":"MIN(OFFSET(Female!L$18,'Female - Rev'!$A33-35,0),0.03999)","v":8.2000000000000007E-3},{"$f":"MIN(OFFSET(Female!M$18,'Female - Rev'!$A33-35,0),0.03999)","v":8.6999999999999994E-3},{"$f":"MIN(OFFSET(Female!N$18,'Female - Rev'!$A33-35,0),0.03999)","v":9.7000000000000003E-3},{"$f":"MIN(OFFSET(Female!O$18,'Female - Rev'!$A33-35,0),0.03999)","v":1.11E-2},{"$f":"MIN(OFFSET(Female!P$18,'Female - Rev'!$A33-35,0),0.03999)","v":1.2699999999999999E-2},{"$f":"MIN(OFFSET(Female!Q$18,'Female - Rev'!$A33-35,0),0.03999)","v":1.43E-2},{"$f":"MIN(OFFSET(Female!R$18,'Female - Rev'!$A33-35,0),0.03999)","v":1.5800000000000002E-2},{"$f":"MIN(OFFSET(Female!S$18,'Female - Rev'!$A33-35,0),0.03999)","v":1.6899999999999998E-2},{"$f":"MIN(OFFSET(Female!T$18,'Female - Rev'!$A33-35,0),0.03999)","v":1.7600000000000001E-2},{"$f":"MIN(OFFSET(Female!U$18,'Female - Rev'!$A33-35,0),0.03999)","v":1.7899999999999999E-2},{"$f":"MIN(OFFSET(Female!V$18,'Female - Rev'!$A33-35,0),0.03999)","v":1.7999999999999999E-2},{"$f":"MIN(OFFSET(Female!W$18,'Female - Rev'!$A33-35,0),0.03999)","v":1.7899999999999999E-2},{"$f":"MIN(OFFSET(Female!X$18,'Female - Rev'!$A33-35,0),0.03999)","v":1.7500000000000002E-2},{"$f":"MIN(OFFSET(Female!Y$18,'Female - Rev'!$A33-35,0),0.03999)","v":1.6799999999999999E-2},{"$f":"MIN(OFFSET(Female!Z$18,'Female - Rev'!$A33-35,0),0.03999)","v":1.55E-2},{"$f":"MIN(OFFSET(Female!AA$18,'Female - Rev'!$A33-35,0),0.03999)","v":1.3599999999999999E-2},{"$f":"MIN(OFFSET(Female!AB$18,'Female - Rev'!$A33-35,0),0.03999)","v":1.14E-2},{"$f":"MIN(OFFSET(Female!AC$18,'Female - Rev'!$A33-35,0),0.03999)","v":8.9999999999999993E-3},{"$f":"MIN(OFFSET(Female!AD$18,'Female - Rev'!$A33-35,0),0.03999)","v":6.6E-3},{"$f":"MIN(OFFSET(Female!AE$18,'Female - Rev'!$A33-35,0),0.03999)","v":4.4000000000000003E-3},{"$f":"MIN(OFFSET(Female!AF$18,'Female - Rev'!$A33-35,0),0.03999)","v":2.7000000000000001E-3},{"$f":"MIN(OFFSET(Female!AG$18,'Female - Rev'!$A33-35,0),0.03999)","v":1.6999999999999999E-3},{"$f":"MIN(OFFSET(Female!AH$18,'Female - Rev'!$A33-35,0),0.03999)","v":1.2999999999999999E-3},{"$f":"MIN(OFFSET(Female!AI$18,'Female - Rev'!$A33-35,0),0.03999)","v":1.6000000000000001E-3},{"$f":"MIN(OFFSET(Female!AJ$18,'Female - Rev'!$A33-35,0),0.03999)","v":2.7000000000000001E-3},{"$f":"MIN(OFFSET(Female!AK$18,'Female - Rev'!$A33-35,0),0.03999)","v":4.1999999999999997E-3},{"$f":"MIN(OFFSET(Female!AL$18,'Female - Rev'!$A33-35,0),0.03999)","v":5.7999999999999996E-3},{"$f":"MIN(OFFSET(Female!AM$18,'Female - Rev'!$A33-35,0),0.03999)","v":7.1999999999999998E-3},{"$f":"MIN(OFFSET(Female!AN$18,'Female - Rev'!$A33-35,0),0.03999)","v":8.0999999999999996E-3},{"$f":"MIN(OFFSET(Female!AO$18,'Female - Rev'!$A33-35,0),0.03999)","v":8.3000000000000001E-3},{"$f":"MIN(OFFSET(Female!AP$18,'Female - Rev'!$A33-35,0),0.03999)","v":7.7000000000000002E-3},{"$f":"MIN(OFFSET(Female!AQ$18,'Female - Rev'!$A33-35,0),0.03999)","v":6.7999999999999996E-3},{"$f":"MIN(OFFSET(Female!AR$18,'Female - Rev'!$A33-35,0),0.03999)","v":5.7999999999999996E-3},{"$f":"MIN(OFFSET(Female!AS$18,'Female - Rev'!$A33-35,0),0.03999)","v":5.1999999999999998E-3},{"$f":"MIN(OFFSET(Female!AT$18,'Female - Rev'!$A33-35,0),0.03999)","v":5.1000000000000004E-3},{"$f":"MIN(OFFSET(Female!AU$18,'Female - Rev'!$A33-35,0),0.03999)","v":5.7000000000000002E-3},{"$f":"MIN(OFFSET(Female!AV$18,'Female - Rev'!$A33-35,0),0.03999)","v":6.8999999999999999E-3},{"$f":"MIN(OFFSET(Female!AW$18,'Female - Rev'!$A33-35,0),0.03999)","v":8.6E-3},{"$f":"MIN(OFFSET(Female!AX$18,'Female - Rev'!$A33-35,0),0.03999)","v":1.0699999999999999E-2},{"$f":"MIN(OFFSET(Female!AY$18,'Female - Rev'!$A33-35,0),0.03999)","v":1.3299999999999999E-2},{"$f":"MIN(OFFSET(Female!AZ$18,'Female - Rev'!$A33-35,0),0.03999)","v":1.6E-2},{"$f":"MIN(OFFSET(Female!BA$18,'Female - Rev'!$A33-35,0),0.03999)","v":1.8700000000000001E-2},{"$f":"MIN(OFFSET(Female!BB$18,'Female - Rev'!$A33-35,0),0.03999)","v":2.1100000000000001E-2},{"$f":"MIN(OFFSET(Female!BC$18,'Female - Rev'!$A33-35,0),0.03999)","v":2.29E-2},{"$f":"MIN(OFFSET(Female!BD$18,'Female - Rev'!$A33-35,0),0.03999)","v":2.4E-2},{"$f":"MIN(OFFSET(Female!BE$18,'Female - Rev'!$A33-35,0),0.03999)","v":2.4400000000000002E-2},{"$f":"MIN(OFFSET(Female!BF$18,'Female - Rev'!$A33-35,0),0.03999)","v":2.3900000000000001E-2},{"$f":"MIN(OFFSET(Female!BG$18,'Female - Rev'!$A33-35,0),0.03999)","v":2.2700000000000001E-2},{"$f":"MIN(OFFSET(Female!BH$18,'Female - Rev'!$A33-35,0),0.03999)","v":2.07E-2},{"$f":"MIN(OFFSET(Female!BI$18,'Female - Rev'!$A33-35,0),0.03999)","v":1.7999999999999999E-2},{"$f":"MIN(OFFSET(Female!BJ$18,'Female - Rev'!$A33-35,0),0.03999)","v":1.4800000000000001E-2},{"$f":"MIN(OFFSET(Female!BK$18,'Female - Rev'!$A33-35,0),0.03999)","v":1.14E-2},{"$f":"MIN(OFFSET(Female!BL$18,'Female - Rev'!$A33-35,0),0.03999)","v":7.9000000000000008E-3},{"$f":"MIN(OFFSET(Female!BM$18,'Female - Rev'!$A33-35,0),0.03999)","v":4.4999999999999997E-3},{"$f":"MIN(OFFSET(Female!BN$18,'Female - Rev'!$A33-35,0),0.03999)","v":1.1000000000000001E-3},{"$f":"MIN(OFFSET(Female!BO$18,'Female - Rev'!$A33-35,0),0.03999)","v":-2.0000000000000001E-4},{"$f":"MIN(OFFSET(Female!BP$18,'Female - Rev'!$A33-35,0),0.03999)","v":-1.1999999999999999E-3},{"$f":"MIN(OFFSET(Female!BQ$18,'Female - Rev'!$A33-35,0),0.03999)","v":-1.8E-3},{"$f":"MIN(OFFSET(Female!BR$18,'Female - Rev'!$A33-35,0),0.03999)","v":-1.9E-3},{"$f":"MIN(OFFSET(Female!BS$18,'Female - Rev'!$A33-35,0),0.03999)","v":-1.5E-3},{"$f":"MIN(OFFSET(Female!BT$18,'Female - Rev'!$A33-35,0),0.03999)","v":-5.9999999999999995E-4},{"$f":"MIN(OFFSET(Female!BU$18,'Female - Rev'!$A33-35,0),0.03999)","v":8.0000000000000004E-4},{"$f":"MIN(OFFSET(Female!BV$18,'Female - Rev'!$A33-35,0),0.03999)","v":2.3E-3},{"$f":"MIN(OFFSET(Female!BW$18,'Female - Rev'!$A33-35,0),0.03999)","v":3.8999999999999998E-3},{"$f":"MIN(OFFSET(Female!BX$18,'Female - Rev'!$A33-35,0),0.03999)","v":5.4000000000000003E-3},{"$f":"MIN(OFFSET(Female!BY$18,'Female - Rev'!$A33-35,0),0.03999)","v":6.6E-3},{"$f":"MIN(OFFSET(Female!BZ$18,'Female - Rev'!$A33-35,0),0.03999)","v":7.7000000000000002E-3},{"$f":"MIN(OFFSET(Female!CA$18,'Female - Rev'!$A33-35,0),0.03999)","v":8.5000000000000006E-3},{"$f":"MIN(OFFSET(Female!CB$18,'Female - Rev'!$A33-35,0),0.03999)","v":9.1000000000000004E-3},{"$f":"MIN(OFFSET(Female!CC$18,'Female - Rev'!$A33-35,0),0.03999)","v":9.4999999999999998E-3},{"$f":"MIN(OFFSET(Female!CD$18,'Female - Rev'!$A33-35,0),0.03999)","v":9.7000000000000003E-3},{"$f":"MIN(OFFSET(Female!CE$18,'Female - Rev'!$A33-35,0),0.03999)","v":9.7999999999999997E-3},{"$f":"MIN(OFFSET(Female!CF$18,'Female - Rev'!$A33-35,0),0.03999)","v":9.9000000000000008E-3},{"$f":"MIN(OFFSET(Female!CG$18,'Female - Rev'!$A33-35,0),0.03999)","v":0.01},{"$f":"MIN(OFFSET(Female!CH$18,'Female - Rev'!$A33-35,0),0.03999)","v":0.01}]
[64,64,{"$f":"MIN(OFFSET(Female!B$18,'Female - Rev'!$A34-35,0),0.03999)","v":2.7099999999999999E-2},{"$f":"MIN(OFFSET(Female!C$18,'Female - Rev'!$A34-35,0),0.03999)","v":2.41E-2},{"$f":"MIN(OFFSET(Female!D$18,'Female - Rev'!$A34-35,0),0.03999)","v":2.1100000000000001E-2},{"$f":"MIN(OFFSET(Female!E$18,'Female - Rev'!$A34-35,0),0.03999)","v":1.8200000000000001E-2},{"$f":"MIN(OFFSET(Female!F$18,'Female - Rev'!$A34-35,0),0.03999)","v":1.5299999999999999E-2},{"$f":"MIN(OFFSET(Female!G$18,'Female - Rev'!$A34-35,0),0.03999)","v":1.2699999999999999E-2},{"$f":"MIN(OFFSET(Female!H$18,'Female - Rev'!$A34-35,0),0.03999)","v":1.06E-2},{"$f":"MIN(OFFSET(Female!I$18,'Female - Rev'!$A34-35,0),0.03999)","v":9.1000000000000004E-3},{"$f":"MIN(OFFSET(Female!J$18,'Female - Rev'!$A34-35,0),0.03999)","v":8.0999999999999996E-3},{"$f":"MIN(OFFSET(Female!K$18,'Female - Rev'!$A34-35,0),0.03999)","v":7.6E-3},{"$f":"MIN(OFFSET(Female!L$18,'Female - Rev'!$A34-35,0),0.03999)","v":7.7000000000000002E-3},{"$f":"MIN(OFFSET(Female!M$18,'Female - Rev'!$A34-35,0),0.03999)","v":8.2000000000000007E-3},{"$f":"MIN(OFFSET(Female!N$18,'Female - Rev'!$A34-35,0),0.03999)","v":9.1999999999999998E-3},{"$f":"MIN(OFFSET(Female!O$18,'Female - Rev'!$A34-35,0),0.03999)","v":1.0500000000000001E-2},{"$f":"MIN(OFFSET(Female!P$18,'Female - Rev'!$A34-35,0),0.03999)","v":1.2E-2},{"$f":"MIN(OFFSET(Female!Q$18,'Female - Rev'!$A34-35,0),0.03999)","v":1.35E-2},{"$f":"MIN(OFFSET(Female!R$18,'Female - Rev'!$A34-35,0),0.03999)","v":1.47E-2},{"$f":"MIN(OFFSET(Female!S$18,'Female - Rev'!$A34-35,0),0.03999)","v":1.5699999999999999E-2},{"$f":"MIN(OFFSET(Female!T$18,'Female - Rev'!$A34-35,0),0.03999)","v":1.6299999999999999E-2},{"$f":"MIN(OFFSET(Female!U$18,'Female - Rev'!$A34-35,0),0.03999)","v":1.67E-2},{"$f":"MIN(OFFSET(Female!V$18,'Female - Rev'!$A34-35,0),0.03999)","v":1.6899999999999998E-2},{"$f":"MIN(OFFSET(Female!W$18,'Female - Rev'!$A34-35,0),0.03999)","v":1.7000000000000001E-2},{"$f":"MIN(OFFSET(Female!X$18,'Female - Rev'!$A34-35,0),0.03999)","v":1.7000000000000001E-2},{"$f":"MIN(OFFSET(Female!Y$18,'Female - Rev'!$A34-35,0),0.03999)","v":1.66E-2},{"$f":"MIN(OFFSET(Female!Z$18,'Female - Rev'!$A34-35,0),0.03999)","v":1.5599999999999999E-2},{"$f":"MIN(OFFSET(Female!AA$18,'Female - Rev'!$A34-35,0),0.03999)","v":1.41E-2},{"$f":"MIN(OFFSET(Female!AB$18,'Female - Rev'!$A34-35,0),0.03999)","v":1.21E-2},{"$f":"MIN(OFFSET(Female!AC$18,'Female - Rev'!$A34-35,0),0.03999)","v":9.9000000000000008E-3},{"$f":"MIN(OFFSET(Female!AD$18,'Female - Rev'!$A34-35,0),0.03999)","v":7.4999999999999997E-3},{"$f":"MIN(OFFSET(Female!AE$18,'Female - Rev'!$A34-35,0),0.03999)","v":5.3E-3},{"$f":"MIN(OFFSET(Female!AF$18,'Female - Rev'!$A34-35,0),0.03999)","v":3.5000000000000001E-3},{"$f":"MIN(OFFSET(Female!AG$18,'Female - Rev'!$A34-35,0),0.03999)","v":2.2000000000000001E-3},{"$f":"MIN(OFFSET(Female!AH$18,'Female - Rev'!$A34-35,0),0.03999)","v":1.6999999999999999E-3},{"$f":"MIN(OFFSET(Female!AI$18,'Female - Rev'!$A34-35,0),0.03999)","v":1.9E-3},{"$f":"MIN(OFFSET(Female!AJ$18,'Female - Rev'!$A34-35,0),0.03999)","v":2.8999999999999998E-3},{"$f":"MIN(OFFSET(Female!AK$18,'Female - Rev'!$A34-35,0),0.03999)","v":4.4000000000000003E-3},{"$f":"MIN(OFFSET(Female!AL$18,'Female - Rev'!$A34-35,0),0.03999)","v":6.0000000000000001E-3},{"$f":"MIN(OFFSET(Female!AM$18,'Female - Rev'!$A34-35,0),0.03999)","v":7.4999999999999997E-3},{"$f":"MIN(OFFSET(Female!AN$18,'Female - Rev'!$A34-35,0),0.03999)","v":8.3999999999999995E-3},{"$f":"MIN(OFFSET(Female!AO$18,'Female - Rev'!$A34-35,0),0.03999)","v":8.6E-3},{"$f":"MIN(OFFSET(Female!AP$18,'Female - Rev'!$A34-35,0),0.03999)","v":8.2000000000000007E-3},{"$f":"MIN(OFFSET(Female!AQ$18,'Female - Rev'!$A34-35,0),0.03999)","v":7.3000000000000001E-3},{"$f":"MIN(OFFSET(Female!AR$18,'Female - Rev'!$A34-35,0),0.03999)","v":6.4000000000000003E-3},{"$f":"MIN(OFFSET(Female!AS$18,'Female - Rev'!$A34-35,0),0.03999)","v":5.8999999999999999E-3},{"$f":"MIN(OFFSET(Female!AT$18,'Female - Rev'!$A34-35,0),0.03999)","v":5.8999999999999999E-3},{"$f":"MIN(OFFSET(Female!AU$18,'Female - Rev'!$A34-35,0),0.03999)","v":6.4999999999999997E-3},{"$f":"MIN(OFFSET(Female!AV$18,'Female - Rev'!$A34-35,0),0.03999)","v":7.7000000000000002E-3},{"$f":"MIN(OFFSET(Female!AW$18,'Female - Rev'!$A34-35,0),0.03999)","v":9.4000000000000004E-3},{"$f":"MIN(OFFSET(Female!AX$18,'Female - Rev'!$A34-35,0),0.03999)","v":1.15E-2},{"$f":"MIN(OFFSET(Female!AY$18,'Female - Rev'!$A34-35,0),0.03999)","v":1.3899999999999999E-2},{"$f":"MIN(OFFSET(Female!AZ$18,'Female - Rev'!$A34-35,0),0.03999)","v":1.6500000000000001E-2},{"$f":"MIN(OFFSET(Female!BA$18,'Female - Rev'!$A34-35,0),0.03999)","v":1.9099999999999999E-2},{"$f":"MIN(OFFSET(Female!BB$18,'Female - Rev'!$A34-35,0),0.03999)","v":2.1399999999999999E-2},{"$f":"MIN(OFFSET(Female!BC$18,'Female - Rev'!$A34-35,0),0.03999)","v":2.3199999999999998E-2},{"$f":"MIN(OFFSET(Female!BD$18,'Female - Rev'!$A34-35,0),0.03999)","v":2.4299999999999999E-2},{"$f":"MIN(OFFSET(Female!BE$18,'Female - Rev'!$A34-35,0),0.03999)","v":2.46E-2},{"$f":"MIN(OFFSET(Female!BF$18,'Female - Rev'!$A34-35,0),0.03999)","v":2.4E-2},{"$f":"MIN(OFFSET(Female!BG$18,'Female - Rev'!$A34-35,0),0.03999)","v":2.2599999999999999E-2},{"$f":"MIN(OFFSET(Female!BH$18,'Female - Rev'!$A34-35,0),0.03999)","v":2.0299999999999999E-2},{"$f":"MIN(OFFSET(Female!BI$18,'Female - Rev'!$A34-35,0),0.03999)","v":1.72E-2},{"$f":"MIN(OFFSET(Female!BJ$18,'Female - Rev'!$A34-35,0),0.03999)","v":1.3599999999999999E-2},{"$f":"MIN(OFFSET(Female!BK$18,'Female - Rev'!$A34-35,0),0.03999)","v":9.5999999999999992E-3},{"$f":"MIN(OFFSET(Female!BL$18,'Female - Rev'!$A34-35,0),0.03999)","v":5.5999999999999999E-3},{"$f":"MIN(OFFSET(Female!BM$18,'Female - Rev'!$A34-35,0),0.03999)","v":1.8E-3},{"$f":"MIN(OFFSET(Female!BN$18,'Female - Rev'!$A34-35,0),0.03999)","v":-1.9E-3},{"$f":"MIN(OFFSET(Female!BO$18,'Female - Rev'!$A34-35,0),0.03999)","v":-3.2000000000000002E-3},{"$f":"MIN(OFFSET(Female!BP$18,'Female - Rev'!$A34-35,0),0.03999)","v":-4.0000000000000001E-3},{"$f":"MIN(OFFSET(Female!BQ$18,'Female - Rev'!$A34-35,0),0.03999)","v":-4.1999999999999997E-3},{"$f":"MIN(OFFSET(Female!BR$18,'Female - Rev'!$A34-35,0),0.03999)","v":-3.7000000000000002E-3},{"$f":"MIN(OFFSET(Female!BS$18,'Female - Rev'!$A34-35,0),0.03999)","v":-2.5999999999999999E-3},{"$f":"MIN(OFFSET(Female!BT$18,'Female - Rev'!$A34-35,0),0.03999)","v":-1.1000000000000001E-3},{"$f":"MIN(OFFSET(Female!BU$18,'Female - Rev'!$A34-35,0),0.03999)","v":6.9999999999999999E-4},{"$f":"MIN(OFFSET(Female!BV$18,'Female - Rev'!$A34-35,0),0.03999)","v":2.7000000000000001E-3},{"$f":"MIN(OFFSET(Female!BW$18,'Female - Rev'!$A34-35,0),0.03999)","v":4.4999999999999997E-3},{"$f":"MIN(OFFSET(Female!BX$18,'Female - Rev'!$A34-35,0),0.03999)","v":6.0000000000000001E-3},{"$f":"MIN(OFFSET(Female!BY$18,'Female - Rev'!$A34-35,0),0.03999)","v":7.1999999999999998E-3},{"$f":"MIN(OFFSET(Female!BZ$18,'Female - Rev'!$A34-35,0),0.03999)","v":8.0999999999999996E-3},{"$f":"MIN(OFFSET(Female!CA$18,'Female - Rev'!$A34-35,0),0.03999)","v":8.8000000000000005E-3},{"$f":"MIN(OFFSET(Female!CB$18,'Female - Rev'!$A34-35,0),0.03999)","v":9.2999999999999992E-3},{"$f":"MIN(OFFSET(Female!CC$18,'Female - Rev'!$A34-35,0),0.03999)","v":9.5999999999999992E-3},{"$f":"MIN(OFFSET(Female!CD$18,'Female - Rev'!$A34-35,0),0.03999)","v":9.7000000000000003E-3},{"$f":"MIN(OFFSET(Female!CE$18,'Female - Rev'!$A34-35,0),0.03999)","v":9.7999999999999997E-3},{"$f":"MIN(OFFSET(Female!CF$18,'Female - Rev'!$A34-35,0),0.03999)","v":9.9000000000000008E-3},{"$f":"MIN(OFFSET(Female!CG$18,'Female - Rev'!$A34-35,0),0.03999)","v":0.01},{"$f":"MIN(OFFSET(Female!CH$18,'Female - Rev'!$A34-35,0),0.03999)","v":0.01}]
[63,63,{"$f":"MIN(OFFSET(Female!B$18,'Female - Rev'!$A35-35,0),0.03999)","v":2.8500000000000001E-2},{"$f":"MIN(OFFSET(Female!C$18,'Female - Rev'!$A35-35,0),0.03999)","v":2.53E-2},{"$f":"MIN(OFFSET(Female!D$18,'Female - Rev'!$A35-35,0),0.03999)","v":2.2100000000000002E-2},{"$f":"MIN(OFFSET(Female!E$18,'Female - Rev'!$A35-35,0),0.03999)","v":1.89E-2},{"$f":"MIN(OFFSET(Female!F$18,'Female - Rev'!$A35-35,0),0.03999)","v":1.5900000000000001E-2},{"$f":"MIN(OFFSET(Female!G$18,'Female - Rev'!$A35-35,0),0.03999)","v":1.3100000000000001E-2},{"$f":"MIN(OFFSET(Female!H$18,'Female - Rev'!$A35-35,0),0.03999)","v":1.0800000000000001E-2},{"$f":"MIN(OFFSET(Female!I$18,'Female - Rev'!$A35-35,0),0.03999)","v":9.1000000000000004E-3},{"$f":"MIN(OFFSET(Female!J$18,'Female - Rev'!$A35-35,0),0.03999)","v":8.0000000000000002E-3},{"$f":"MIN(OFFSET(Female!K$18,'Female - Rev'!$A35-35,0),0.03999)","v":7.4000000000000003E-3},{"$f":"MIN(OFFSET(Female!L$18,'Female - Rev'!$A35-35,0),0.03999)","v":7.4000000000000003E-3},{"$f":"MIN(OFFSET(Female!M$18,'Female - Rev'!$A35-35,0),0.03999)","v":7.7999999999999996E-3},{"$f":"MIN(OFFSET(Female!N$18,'Female - Rev'!$A35-35,0),0.03999)","v":8.6999999999999994E-3},{"$f":"MIN(OFFSET(Female!O$18,'Female - Rev'!$A35-35,0),0.03999)","v":9.9000000000000008E-3},{"$f":"MIN(OFFSET(Female!P$18,'Female - Rev'!$A35-35,0),0.03999)","v":1.11E-2},{"$f":"MIN(OFFSET(Female!Q$18,'Female - Rev'!$A35-35,0),0.03999)","v":1.23E-2},{"$f":"MIN(OFFSET(Female!R$18,'Female - Rev'!$A35-35,0),0.03999)","v":1.3299999999999999E-2},{"$f":"MIN(OFFSET(Female!S$18,'Female - Rev'!$A35-35,0),0.03999)","v":1.4E-2},{"$f":"MIN(OFFSET(Female!T$18,'Female - Rev'!$A35-35,0),0.03999)","v":1.47E-2},{"$f":"MIN(OFFSET(Female!U$18,'Female - Rev'!$A35-35,0),0.03999)","v":1.5299999999999999E-2},{"$f":"MIN(OFFSET(Female!V$18,'Female - Rev'!$A35-35,0),0.03999)","v":1.5800000000000002E-2},{"$f":"MIN(OFFSET(Female!W$18,'Female - Rev'!$A35-35,0),0.03999)","v":1.6299999999999999E-2},{"$f":"MIN(OFFSET(Female!X$18,'Female - Rev'!$A35-35,0),0.03999)","v":1.67E-2},{"$f":"MIN(OFFSET(Female!Y$18,'Female - Rev'!$A35-35,0),0.03999)","v":1.66E-2},{"$f":"MIN(OFFSET(Female!Z$18,'Female - Rev'!$A35-35,0),0.03999)","v":1.61E-2},{"$f":"MIN(OFFSET(Female!AA$18,'Female - Rev'!$A35-35,0),0.03999)","v":1.49E-2},{"$f":"MIN(OFFSET(Female!AB$18,'Female - Rev'!$A35-35,0),0.03999)","v":1.3100000000000001E-2},{"$f":"MIN(OFFSET(Female!AC$18,'Female - Rev'!$A35-35,0),0.03999)","v":1.0999999999999999E-2},{"$f":"MIN(OFFSET(Female!AD$18,'Female - Rev'!$A35-35,0),0.03999)","v":8.6E-3},{"$f":"MIN(OFFSET(Female!AE$18,'Female - Rev'!$A35-35,0),0.03999)","v":6.1999999999999998E-3},{"$f":"MIN(OFFSET(Female!AF$18,'Female - Rev'!$A35-35,0),0.03999)","v":4.1999999999999997E-3},{"$f":"MIN(OFFSET(Female!AG$18,'Female - Rev'!$A35-35,0),0.03999)","v":2.8E-3},{"$f":"MIN(OFFSET(Female!AH$18,'Female - Rev'!$A35-35,0),0.03999)","v":2.0999999999999999E-3},{"$f":"MIN(OFFSET(Female!AI$18,'Female - Rev'!$A35-35,0),0.03999)","v":2.3E-3},{"$f":"MIN(OFFSET(Female!AJ$18,'Female - Rev'!$A35-35,0),0.03999)","v":3.2000000000000002E-3},{"$f":"MIN(OFFSET(Female!AK$18,'Female - Rev'!$A35-35,0),0.03999)","v":4.7000000000000002E-3},{"$f":"MIN(OFFSET(Female!AL$18,'Female - Rev'!$A35-35,0),0.03999)","v":6.3E-3},{"$f":"MIN(OFFSET(Female!AM$18,'Female - Rev'!$A35-35,0),0.03999)","v":7.7000000000000002E-3},{"$f":"MIN(OFFSET(Female!AN$18,'Female - Rev'!$A35-35,0),0.03999)","v":8.6999999999999994E-3},{"$f":"MIN(OFFSET(Female!AO$18,'Female - Rev'!$A35-35,0),0.03999)","v":8.9999999999999993E-3},{"$f":"MIN(OFFSET(Female!AP$18,'Female - Rev'!$A35-35,0),0.03999)","v":8.6999999999999994E-3},{"$f":"MIN(OFFSET(Female!AQ$18,'Female - Rev'!$A35-35,0),0.03999)","v":7.9000000000000008E-3},{"$f":"MIN(OFFSET(Female!AR$18,'Female - Rev'!$A35-35,0),0.03999)","v":7.1000000000000004E-3},{"$f":"MIN(OFFSET(Female!AS$18,'Female - Rev'!$A35-35,0),0.03999)","v":6.7000000000000002E-3},{"$f":"MIN(OFFSET(Female!AT$18,'Female - Rev'!$A35-35,0),0.03999)","v":6.7000000000000002E-3},{"$f":"MIN(OFFSET(Female!AU$18,'Female - Rev'!$A35-35,0),0.03999)","v":7.4000000000000003E-3},{"$f":"MIN(OFFSET(Female!AV$18,'Female - Rev'!$A35-35,0),0.03999)","v":8.6E-3},{"$f":"MIN(OFFSET(Female!AW$18,'Female - Rev'!$A35-35,0),0.03999)","v":1.0200000000000001E-2},{"$f":"MIN(OFFSET(Female!AX$18,'Female - Rev'!$A35-35,0),0.03999)","v":1.2200000000000001E-2},{"$f":"MIN(OFFSET(Female!AY$18,'Female - Rev'!$A35-35,0),0.03999)","v":1.4500000000000001E-2},{"$f":"MIN(OFFSET(Female!AZ$18,'Female - Rev'!$A35-35,0),0.03999)","v":1.6899999999999998E-2},{"$f":"MIN(OFFSET(Female!BA$18,'Female - Rev'!$A35-35,0),0.03999)","v":1.9400000000000001E-2},{"$f":"MIN(OFFSET(Female!BB$18,'Female - Rev'!$A35-35,0),0.03999)","v":2.1600000000000001E-2},{"$f":"MIN(OFFSET(Female!BC$18,'Female - Rev'!$A35-35,0),0.03999)","v":2.3400000000000001E-2},{"$f":"MIN(OFFSET(Female!BD$18,'Female - Rev'!$A35-35,0),0.03999)","v":2.4400000000000002E-2},{"$f":"MIN(OFFSET(Female!BE$18,'Female - Rev'!$A35-35,0),0.03999)","v":2.46E-2},{"$f":"MIN(OFFSET(Female!BF$18,'Female - Rev'!$A35-35,0),0.03999)","v":2.3800000000000002E-2},{"$f":"MIN(OFFSET(Female!BG$18,'Female - Rev'!$A35-35,0),0.03999)","v":2.2100000000000002E-2},{"$f":"MIN(OFFSET(Female!BH$18,'Female - Rev'!$A35-35,0),0.03999)","v":1.9400000000000001E-2},{"$f":"MIN(OFFSET(Female!BI$18,'Female - Rev'!$A35-35,0),0.03999)","v":1.6E-2},{"$f":"MIN(OFFSET(Female!BJ$18,'Female - Rev'!$A35-35,0),0.03999)","v":1.18E-2},{"$f":"MIN(OFFSET(Female!BK$18,'Female - Rev'!$A35-35,0),0.03999)","v":7.4000000000000003E-3},{"$f":"MIN(OFFSET(Female!BL$18,'Female - Rev'!$A35-35,0),0.03999)","v":3.0000000000000001E-3},{"$f":"MIN(OFFSET(Female!BM$18,'Female - Rev'!$A35-35,0),0.03999)","v":-1.1000000000000001E-3},{"$f":"MIN(OFFSET(Female!BN$18,'Female - Rev'!$A35-35,0),0.03999)","v":-4.8999999999999998E-3},{"$f":"MIN(OFFSET(Female!BO$18,'Female - Rev'!$A35-35,0),0.03999)","v":-6.1000000000000004E-3},{"$f":"MIN(OFFSET(Female!BP$18,'Female - Rev'!$A35-35,0),0.03999)","v":-6.4999999999999997E-3},{"$f":"MIN(OFFSET(Female!BQ$18,'Female - Rev'!$A35-35,0),0.03999)","v":-6.1999999999999998E-3},{"$f":"MIN(OFFSET(Female!BR$18,'Female - Rev'!$A35-35,0),0.03999)","v":-5.1000000000000004E-3},{"$f":"MIN(OFFSET(Female!BS$18,'Female - Rev'!$A35-35,0),0.03999)","v":-3.3999999999999998E-3},{"$f":"MIN(OFFSET(Female!BT$18,'Female - Rev'!$A35-35,0),0.03999)","v":-1.2999999999999999E-3},{"$f":"MIN(OFFSET(Female!BU$18,'Female - Rev'!$A35-35,0),0.03999)","v":1E-3},{"$f":"MIN(OFFSET(Female!BV$18,'Female - Rev'!$A35-35,0),0.03999)","v":3.2000000000000002E-3},{"$f":"MIN(OFFSET(Female!BW$18,'Female - Rev'!$A35-35,0),0.03999)","v":5.1999999999999998E-3},{"$f":"MIN(OFFSET(Female!BX$18,'Female - Rev'!$A35-35,0),0.03999)","v":6.7000000000000002E-3},{"$f":"MIN(OFFSET(Female!BY$18,'Female - Rev'!$A35-35,0),0.03999)","v":7.7000000000000002E-3},{"$f":"MIN(OFFSET(Female!BZ$18,'Female - Rev'!$A35-35,0),0.03999)","v":8.5000000000000006E-3},{"$f":"MIN(OFFSET(Female!CA$18,'Female - Rev'!$A35-35,0),0.03999)","v":9.1000000000000004E-3},{"$f":"MIN(OFFSET(Female!CB$18,'Female - Rev'!$A35-35,0),0.03999)","v":9.4000000000000004E-3},{"$f":"MIN(OFFSET(Female!CC$18,'Female - Rev'!$A35-35,0),0.03999)","v":9.5999999999999992E-3},{"$f":"MIN(OFFSET(Female!CD$18,'Female - Rev'!$A35-35,0),0.03999)","v":9.7000000000000003E-3},{"$f":"MIN(OFFSET(Female!CE$18,'Female - Rev'!$A35-35,0),0.03999)","v":9.7999999999999997E-3},{"$f":"MIN(OFFSET(Female!CF$18,'Female - Rev'!$A35-35,0),0.03999)","v":9.9000000000000008E-3},{"$f":"MIN(OFFSET(Female!CG$18,'Female - Rev'!$A35-35,0),0.03999)","v":9.9000000000000008E-3},{"$f":"MIN(OFFSET(Female!CH$18,'Female - Rev'!$A35-35,0),0.03999)","v":0.01}]
[62,62,{"$f":"MIN(OFFSET(Female!B$18,'Female - Rev'!$A36-35,0),0.03999)","v":2.9600000000000001E-2},{"$f":"MIN(OFFSET(Female!C$18,'Female - Rev'!$A36-35,0),0.03999)","v":2.64E-2},{"$f":"MIN(OFFSET(Female!D$18,'Female - Rev'!$A36-35,0),0.03999)","v":2.3099999999999999E-2},{"$f":"MIN(OFFSET(Female!E$18,'Female - Rev'!$A36-35,0),0.03999)","v":1.9699999999999999E-2},{"$f":"MIN(OFFSET(Female!F$18,'Female - Rev'!$A36-35,0),0.03999)","v":1.6500000000000001E-2},{"$f":"MIN(OFFSET(Female!G$18,'Female - Rev'!$A36-35,0),0.03999)","v":1.3599999999999999E-2},{"$f":"MIN(OFFSET(Female!H$18,'Female - Rev'!$A36-35,0),0.03999)","v":1.11E-2},{"$f":"MIN(OFFSET(Female!I$18,'Female - Rev'!$A36-35,0),0.03999)","v":9.2999999999999992E-3},{"$f":"MIN(OFFSET(Female!J$18,'Female - Rev'!$A36-35,0),0.03999)","v":8.0999999999999996E-3},{"$f":"MIN(OFFSET(Female!K$18,'Female - Rev'!$A36-35,0),0.03999)","v":7.4999999999999997E-3},{"$f":"MIN(OFFSET(Female!L$18,'Female - Rev'!$A36-35,0),0.03999)","v":7.3000000000000001E-3},{"$f":"MIN(OFFSET(Female!M$18,'Female - Rev'!$A36-35,0),0.03999)","v":7.6E-3},{"$f":"MIN(OFFSET(Female!N$18,'Female - Rev'!$A36-35,0),0.03999)","v":8.3000000000000001E-3},{"$f":"MIN(OFFSET(Female!O$18,'Female - Rev'!$A36-35,0),0.03999)","v":9.1999999999999998E-3},{"$f":"MIN(OFFSET(Female!P$18,'Female - Rev'!$A36-35,0),0.03999)","v":0.01},{"$f":"MIN(OFFSET(Female!Q$18,'Female - Rev'!$A36-35,0),0.03999)","v":1.0800000000000001E-2},{"$f":"MIN(OFFSET(Female!R$18,'Female - Rev'!$A36-35,0),0.03999)","v":1.15E-2},{"$f":"MIN(OFFSET(Female!S$18,'Female - Rev'!$A36-35,0),0.03999)","v":1.21E-2},{"$f":"MIN(OFFSET(Female!T$18,'Female - Rev'!$A36-35,0),0.03999)","v":1.29E-2},{"$f":"MIN(OFFSET(Female!U$18,'Female - Rev'!$A36-35,0),0.03999)","v":1.37E-2},{"$f":"MIN(OFFSET(Female!V$18,'Female - Rev'!$A36-35,0),0.03999)","v":1.47E-2},{"$f":"MIN(OFFSET(Female!W$18,'Female - Rev'!$A36-35,0),0.03999)","v":1.5699999999999999E-2},{"$f":"MIN(OFFSET(Female!X$18,'Female - Rev'!$A36-35,0),0.03999)","v":1.6500000000000001E-2},{"$f":"MIN(OFFSET(Female!Y$18,'Female - Rev'!$A36-35,0),0.03999)","v":1.7000000000000001E-2},{"$f":"MIN(OFFSET(Female!Z$18,'Female - Rev'!$A36-35,0),0.03999)","v":1.6799999999999999E-2},{"$f":"MIN(OFFSET(Female!AA$18,'Female - Rev'!$A36-35,0),0.03999)","v":1.5900000000000001E-2},{"$f":"MIN(OFFSET(Female!AB$18,'Female - Rev'!$A36-35,0),0.03999)","v":1.43E-2},{"$f":"MIN(OFFSET(Female!AC$18,'Female - Rev'!$A36-35,0),0.03999)","v":1.2200000000000001E-2},{"$f":"MIN(OFFSET(Female!AD$18,'Female - Rev'!$A36-35,0),0.03999)","v":9.7000000000000003E-3},{"$f":"MIN(OFFSET(Female!AE$18,'Female - Rev'!$A36-35,0),0.03999)","v":7.1999999999999998E-3},{"$f":"MIN(OFFSET(Female!AF$18,'Female - Rev'!$A36-35,0),0.03999)","v":5.0000000000000001E-3},{"$f":"MIN(OFFSET(Female!AG$18,'Female - Rev'!$A36-35,0),0.03999)","v":3.3999999999999998E-3},{"$f":"MIN(OFFSET(Female!AH$18,'Female - Rev'!$A36-35,0),0.03999)","v":2.5999999999999999E-3},{"$f":"MIN(OFFSET(Female!AI$18,'Female - Rev'!$A36-35,0),0.03999)","v":2.7000000000000001E-3},{"$f":"MIN(OFFSET(Female!AJ$18,'Female - Rev'!$A36-35,0),0.03999)","v":3.5999999999999999E-3},{"$f":"MIN(OFFSET(Female!AK$18,'Female - Rev'!$A36-35,0),0.03999)","v":5.0000000000000001E-3},{"$f":"MIN(OFFSET(Female!AL$18,'Female - Rev'!$A36-35,0),0.03999)","v":6.6E-3},{"$f":"MIN(OFFSET(Female!AM$18,'Female - Rev'!$A36-35,0),0.03999)","v":8.0000000000000002E-3},{"$f":"MIN(OFFSET(Female!AN$18,'Female - Rev'!$A36-35,0),0.03999)","v":8.9999999999999993E-3},{"$f":"MIN(OFFSET(Female!AO$18,'Female - Rev'!$A36-35,0),0.03999)","v":9.4000000000000004E-3},{"$f":"MIN(OFFSET(Female!AP$18,'Female - Rev'!$A36-35,0),0.03999)","v":9.1999999999999998E-3},{"$f":"MIN(OFFSET(Female!AQ$18,'Female - Rev'!$A36-35,0),0.03999)","v":8.6E-3},{"$f":"MIN(OFFSET(Female!AR$18,'Female - Rev'!$A36-35,0),0.03999)","v":8.0000000000000002E-3},{"$f":"MIN(OFFSET(Female!AS$18,'Female - Rev'!$A36-35,0),0.03999)","v":7.6E-3},{"$f":"MIN(OFFSET(Female!AT$18,'Female - Rev'!$A36-35,0),0.03999)","v":7.7000000000000002E-3},{"$f":"MIN(OFFSET(Female!AU$18,'Female - Rev'!$A36-35,0),0.03999)","v":8.3000000000000001E-3},{"$f":"MIN(OFFSET(Female!AV$18,'Female - Rev'!$A36-35,0),0.03999)","v":9.4000000000000004E-3},{"$f":"MIN(OFFSET(Female!AW$18,'Female - Rev'!$A36-35,0),0.03999)","v":1.0999999999999999E-2},{"$f":"MIN(OFFSET(Female!AX$18,'Female - Rev'!$A36-35,0),0.03999)","v":1.2800000000000001E-2},{"$f":"MIN(OFFSET(Female!AY$18,'Female - Rev'!$A36-35,0),0.03999)","v":1.49E-2},{"$f":"MIN(OFFSET(Female!AZ$18,'Female - Rev'!$A36-35,0),0.03999)","v":1.72E-2},{"$f":"MIN(OFFSET(Female!BA$18,'Female - Rev'!$A36-35,0),0.03999)","v":1.95E-2},{"$f":"MIN(OFFSET(Female!BB$18,'Female - Rev'!$A36-35,0),0.03999)","v":2.1600000000000001E-2},{"$f":"MIN(OFFSET(Female!BC$18,'Female - Rev'!$A36-35,0),0.03999)","v":2.3300000000000001E-2},{"$f":"MIN(OFFSET(Female!BD$18,'Female - Rev'!$A36-35,0),0.03999)","v":2.4299999999999999E-2},{"$f":"MIN(OFFSET(Female!BE$18,'Female - Rev'!$A36-35,0),0.03999)","v":2.4299999999999999E-2},{"$f":"MIN(OFFSET(Female!BF$18,'Female - Rev'!$A36-35,0),0.03999)","v":2.3199999999999998E-2},{"$f":"MIN(OFFSET(Female!BG$18,'Female - Rev'!$A36-35,0),0.03999)","v":2.1100000000000001E-2},{"$f":"MIN(OFFSET(Female!BH$18,'Female - Rev'!$A36-35,0),0.03999)","v":1.8100000000000002E-2},{"$f":"MIN(OFFSET(Female!BI$18,'Female - Rev'!$A36-35,0),0.03999)","v":1.4200000000000001E-2},{"$f":"MIN(OFFSET(Female!BJ$18,'Female - Rev'!$A36-35,0),0.03999)","v":9.7000000000000003E-3},{"$f":"MIN(OFFSET(Female!BK$18,'Female - Rev'!$A36-35,0),0.03999)","v":4.8999999999999998E-3},{"$f":"MIN(OFFSET(Female!BL$18,'Female - Rev'!$A36-35,0),0.03999)","v":2.0000000000000001E-4},{"$f":"MIN(OFFSET(Female!BM$18,'Female - Rev'!$A36-35,0),0.03999)","v":-4.0000000000000001E-3},{"$f":"MIN(OFFSET(Female!BN$18,'Female - Rev'!$A36-35,0),0.03999)","v":-7.7999999999999996E-3},{"$f":"MIN(OFFSET(Female!BO$18,'Female - Rev'!$A36-35,0),0.03999)","v":-8.6999999999999994E-3},{"$f":"MIN(OFFSET(Female!BP$18,'Female - Rev'!$A36-35,0),0.03999)","v":-8.6999999999999994E-3},{"$f":"MIN(OFFSET(Female!BQ$18,'Female - Rev'!$A36-35,0),0.03999)","v":-7.7999999999999996E-3},{"$f":"MIN(OFFSET(Female!BR$18,'Female - Rev'!$A36-35,0),0.03999)","v":-6.1000000000000004E-3},{"$f":"MIN(OFFSET(Female!BS$18,'Female - Rev'!$A36-35,0),0.03999)","v":-3.8E-3},{"$f":"MIN(OFFSET(Female!BT$18,'Female - Rev'!$A36-35,0),0.03999)","v":-1.1999999999999999E-3},{"$f":"MIN(OFFSET(Female!BU$18,'Female - Rev'!$A36-35,0),0.03999)","v":1.4E-3},{"$f":"MIN(OFFSET(Female!BV$18,'Female - Rev'!$A36-35,0),0.03999)","v":3.8999999999999998E-3},{"$f":"MIN(OFFSET(Female!BW$18,'Female - Rev'!$A36-35,0),0.03999)","v":5.8999999999999999E-3},{"$f":"MIN(OFFSET(Female!BX$18,'Female - Rev'!$A36-35,0),0.03999)","v":7.3000000000000001E-3},{"$f":"MIN(OFFSET(Female!BY$18,'Female - Rev'!$A36-35,0),0.03999)","v":8.2000000000000007E-3},{"$f":"MIN(OFFSET(Female!BZ$18,'Female - Rev'!$A36-35,0),0.03999)","v":8.8000000000000005E-3},{"$f":"MIN(OFFSET(Female!CA$18,'Female - Rev'!$A36-35,0),0.03999)","v":9.1999999999999998E-3},{"$f":"MIN(OFFSET(Female!CB$18,'Female - Rev'!$A36-35,0),0.03999)","v":9.4000000000000004E-3},{"$f":"MIN(OFFSET(Female!CC$18,'Female - Rev'!$A36-35,0),0.03999)","v":9.4999999999999998E-3},{"$f":"MIN(OFFSET(Female!CD$18,'Female - Rev'!$A36-35,0),0.03999)","v":9.5999999999999992E-3},{"$f":"MIN(OFFSET(Female!CE$18,'Female - Rev'!$A36-35,0),0.03999)","v":9.7000000000000003E-3},{"$f":"MIN(OFFSET(Female!CF$18,'Female - Rev'!$A36-35,0),0.03999)","v":9.7999999999999997E-3},{"$f":"MIN(OFFSET(Female!CG$18,'Female - Rev'!$A36-35,0),0.03999)","v":9.9000000000000008E-3},{"$f":"MIN(OFFSET(Female!CH$18,'Female - Rev'!$A36-35,0),0.03999)","v":0.01}]
[61,61,{"$f":"MIN(OFFSET(Female!B$18,'Female - Rev'!$A37-35,0),0.03999)","v":3.0499999999999999E-2},{"$f":"MIN(OFFSET(Female!C$18,'Female - Rev'!$A37-35,0),0.03999)","v":2.7199999999999998E-2},{"$f":"MIN(OFFSET(Female!D$18,'Female - Rev'!$A37-35,0),0.03999)","v":2.3900000000000001E-2},{"$f":"MIN(OFFSET(Female!E$18,'Female - Rev'!$A37-35,0),0.03999)","v":2.0500000000000001E-2},{"$f":"MIN(OFFSET(Female!F$18,'Female - Rev'!$A37-35,0),0.03999)","v":1.72E-2},{"$f":"MIN(OFFSET(Female!G$18,'Female - Rev'!$A37-35,0),0.03999)","v":1.43E-2},{"$f":"MIN(OFFSET(Female!H$18,'Female - Rev'!$A37-35,0),0.03999)","v":1.18E-2},{"$f":"MIN(OFFSET(Female!I$18,'Female - Rev'!$A37-35,0),0.03999)","v":0.01},{"$f":"MIN(OFFSET(Female!J$18,'Female - Rev'!$A37-35,0),0.03999)","v":8.6999999999999994E-3},{"$f":"MIN(OFFSET(Female!K$18,'Female - Rev'!$A37-35,0),0.03999)","v":7.9000000000000008E-3},{"$f":"MIN(OFFSET(Female!L$18,'Female - Rev'!$A37-35,0),0.03999)","v":7.6E-3},{"$f":"MIN(OFFSET(Female!M$18,'Female - Rev'!$A37-35,0),0.03999)","v":7.6E-3},{"$f":"MIN(OFFSET(Female!N$18,'Female - Rev'!$A37-35,0),0.03999)","v":7.9000000000000008E-3},{"$f":"MIN(OFFSET(Female!O$18,'Female - Rev'!$A37-35,0),0.03999)","v":8.3000000000000001E-3},{"$f":"MIN(OFFSET(Female!P$18,'Female - Rev'!$A37-35,0),0.03999)","v":8.6999999999999994E-3},{"$f":"MIN(OFFSET(Female!Q$18,'Female - Rev'!$A37-35,0),0.03999)","v":9.1000000000000004E-3},{"$f":"MIN(OFFSET(Female!R$18,'Female - Rev'!$A37-35,0),0.03999)","v":9.4999999999999998E-3},{"$f":"MIN(OFFSET(Female!S$18,'Female - Rev'!$A37-35,0),0.03999)","v":0.01},{"$f":"MIN(OFFSET(Female!T$18,'Female - Rev'!$A37-35,0),0.03999)","v":1.0999999999999999E-2},{"$f":"MIN(OFFSET(Female!U$18,'Female - Rev'!$A37-35,0),0.03999)","v":1.2200000000000001E-2},{"$f":"MIN(OFFSET(Female!V$18,'Female - Rev'!$A37-35,0),0.03999)","v":1.37E-2},{"$f":"MIN(OFFSET(Female!W$18,'Female - Rev'!$A37-35,0),0.03999)","v":1.52E-2},{"$f":"MIN(OFFSET(Female!X$18,'Female - Rev'!$A37-35,0),0.03999)","v":1.66E-2},{"$f":"MIN(OFFSET(Female!Y$18,'Female - Rev'!$A37-35,0),0.03999)","v":1.7600000000000001E-2},{"$f":"MIN(OFFSET(Female!Z$18,'Female - Rev'!$A37-35,0),0.03999)","v":1.78E-2},{"$f":"MIN(OFFSET(Female!AA$18,'Female - Rev'!$A37-35,0),0.03999)","v":1.72E-2},{"$f":"MIN(OFFSET(Female!AB$18,'Female - Rev'!$A37-35,0),0.03999)","v":1.5699999999999999E-2},{"$f":"MIN(OFFSET(Female!AC$18,'Female - Rev'!$A37-35,0),0.03999)","v":1.35E-2},{"$f":"MIN(OFFSET(Female!AD$18,'Female - Rev'!$A37-35,0),0.03999)","v":1.09E-2},{"$f":"MIN(OFFSET(Female!AE$18,'Female - Rev'!$A37-35,0),0.03999)","v":8.2000000000000007E-3},{"$f":"MIN(OFFSET(Female!AF$18,'Female - Rev'!$A37-35,0),0.03999)","v":5.7999999999999996E-3},{"$f":"MIN(OFFSET(Female!AG$18,'Female - Rev'!$A37-35,0),0.03999)","v":4.1000000000000003E-3},{"$f":"MIN(OFFSET(Female!AH$18,'Female - Rev'!$A37-35,0),0.03999)","v":3.2000000000000002E-3},{"$f":"MIN(OFFSET(Female!AI$18,'Female - Rev'!$A37-35,0),0.03999)","v":3.3E-3},{"$f":"MIN(OFFSET(Female!AJ$18,'Female - Rev'!$A37-35,0),0.03999)","v":4.1000000000000003E-3},{"$f":"MIN(OFFSET(Female!AK$18,'Female - Rev'!$A37-35,0),0.03999)","v":5.4000000000000003E-3},{"$f":"MIN(OFFSET(Female!AL$18,'Female - Rev'!$A37-35,0),0.03999)","v":6.8999999999999999E-3},{"$f":"MIN(OFFSET(Female!AM$18,'Female - Rev'!$A37-35,0),0.03999)","v":8.2000000000000007E-3},{"$f":"MIN(OFFSET(Female!AN$18,'Female - Rev'!$A37-35,0),0.03999)","v":9.1999999999999998E-3},{"$f":"MIN(OFFSET(Female!AO$18,'Female - Rev'!$A37-35,0),0.03999)","v":9.7000000000000003E-3},{"$f":"MIN(OFFSET(Female!AP$18,'Female - Rev'!$A37-35,0),0.03999)","v":9.7000000000000003E-3},{"$f":"MIN(OFFSET(Female!AQ$18,'Female - Rev'!$A37-35,0),0.03999)","v":9.2999999999999992E-3},{"$f":"MIN(OFFSET(Female!AR$18,'Female - Rev'!$A37-35,0),0.03999)","v":8.8999999999999999E-3},{"$f":"MIN(OFFSET(Female!AS$18,'Female - Rev'!$A37-35,0),0.03999)","v":8.6E-3},{"$f":"MIN(OFFSET(Female!AT$18,'Female - Rev'!$A37-35,0),0.03999)","v":8.6999999999999994E-3},{"$f":"MIN(OFFSET(Female!AU$18,'Female - Rev'!$A37-35,0),0.03999)","v":9.2999999999999992E-3},{"$f":"MIN(OFFSET(Female!AV$18,'Female - Rev'!$A37-35,0),0.03999)","v":1.03E-2},{"$f":"MIN(OFFSET(Female!AW$18,'Female - Rev'!$A37-35,0),0.03999)","v":1.1599999999999999E-2},{"$f":"MIN(OFFSET(Female!AX$18,'Female - Rev'!$A37-35,0),0.03999)","v":1.32E-2},{"$f":"MIN(OFFSET(Female!AY$18,'Female - Rev'!$A37-35,0),0.03999)","v":1.52E-2},{"$f":"MIN(OFFSET(Female!AZ$18,'Female - Rev'!$A37-35,0),0.03999)","v":1.7299999999999999E-2},{"$f":"MIN(OFFSET(Female!BA$18,'Female - Rev'!$A37-35,0),0.03999)","v":1.95E-2},{"$f":"MIN(OFFSET(Female!BB$18,'Female - Rev'!$A37-35,0),0.03999)","v":2.1499999999999998E-2},{"$f":"MIN(OFFSET(Female!BC$18,'Female - Rev'!$A37-35,0),0.03999)","v":2.3E-2},{"$f":"MIN(OFFSET(Female!BD$18,'Female - Rev'!$A37-35,0),0.03999)","v":2.3800000000000002E-2},{"$f":"MIN(OFFSET(Female!BE$18,'Female - Rev'!$A37-35,0),0.03999)","v":2.35E-2},{"$f":"MIN(OFFSET(Female!BF$18,'Female - Rev'!$A37-35,0),0.03999)","v":2.2200000000000001E-2},{"$f":"MIN(OFFSET(Female!BG$18,'Female - Rev'!$A37-35,0),0.03999)","v":1.9699999999999999E-2},{"$f":"MIN(OFFSET(Female!BH$18,'Female - Rev'!$A37-35,0),0.03999)","v":1.6199999999999999E-2},{"$f":"MIN(OFFSET(Female!BI$18,'Female - Rev'!$A37-35,0),0.03999)","v":1.2E-2},{"$f":"MIN(OFFSET(Female!BJ$18,'Female - Rev'!$A37-35,0),0.03999)","v":7.1000000000000004E-3},{"$f":"MIN(OFFSET(Female!BK$18,'Female - Rev'!$A37-35,0),0.03999)","v":2.0999999999999999E-3},{"$f":"MIN(OFFSET(Female!BL$18,'Female - Rev'!$A37-35,0),0.03999)","v":-2.5000000000000001E-3},{"$f":"MIN(OFFSET(Female!BM$18,'Female - Rev'!$A37-35,0),0.03999)","v":-6.7000000000000002E-3},{"$f":"MIN(OFFSET(Female!BN$18,'Female - Rev'!$A37-35,0),0.03999)","v":-1.0200000000000001E-2},{"$f":"MIN(OFFSET(Female!BO$18,'Female - Rev'!$A37-35,0),0.03999)","v":-1.0800000000000001E-2},{"$f":"MIN(OFFSET(Female!BP$18,'Female - Rev'!$A37-35,0),0.03999)","v":-1.0200000000000001E-2},{"$f":"MIN(OFFSET(Female!BQ$18,'Female - Rev'!$A37-35,0),0.03999)","v":-8.6999999999999994E-3},{"$f":"MIN(OFFSET(Female!BR$18,'Female - Rev'!$A37-35,0),0.03999)","v":-6.4999999999999997E-3},{"$f":"MIN(OFFSET(Female!BS$18,'Female - Rev'!$A37-35,0),0.03999)","v":-3.8E-3},{"$f":"MIN(OFFSET(Female!BT$18,'Female - Rev'!$A37-35,0),0.03999)","v":-8.0000000000000004E-4},{"$f":"MIN(OFFSET(Female!BU$18,'Female - Rev'!$A37-35,0),0.03999)","v":2.0999999999999999E-3},{"$f":"MIN(OFFSET(Female!BV$18,'Female - Rev'!$A37-35,0),0.03999)","v":4.7000000000000002E-3},{"$f":"MIN(OFFSET(Female!BW$18,'Female - Rev'!$A37-35,0),0.03999)","v":6.7000000000000002E-3},{"$f":"MIN(OFFSET(Female!BX$18,'Female - Rev'!$A37-35,0),0.03999)","v":7.9000000000000008E-3},{"$f":"MIN(OFFSET(Female!BY$18,'Female - Rev'!$A37-35,0),0.03999)","v":8.6E-3},{"$f":"MIN(OFFSET(Female!BZ$18,'Female - Rev'!$A37-35,0),0.03999)","v":8.9999999999999993E-3},{"$f":"MIN(OFFSET(Female!CA$18,'Female - Rev'!$A37-35,0),0.03999)","v":9.1999999999999998E-3},{"$f":"MIN(OFFSET(Female!CB$18,'Female - Rev'!$A37-35,0),0.03999)","v":9.2999999999999992E-3},{"$f":"MIN(OFFSET(Female!CC$18,'Female - Rev'!$A37-35,0),0.03999)","v":9.4000000000000004E-3},{"$f":"MIN(OFFSET(Female!CD$18,'Female - Rev'!$A37-35,0),0.03999)","v":9.4000000000000004E-3},{"$f":"MIN(OFFSET(Female!CE$18,'Female - Rev'!$A37-35,0),0.03999)","v":9.5999999999999992E-3},{"$f":"MIN(OFFSET(Female!CF$18,'Female - Rev'!$A37-35,0),0.03999)","v":9.7000000000000003E-3},{"$f":"MIN(OFFSET(Female!CG$18,'Female - Rev'!$A37-35,0),0.03999)","v":9.9000000000000008E-3},{"$f":"MIN(OFFSET(Female!CH$18,'Female - Rev'!$A37-35,0),0.03999)","v":0.01}]
[60,60,{"$f":"MIN(OFFSET(Female!B$18,'Female - Rev'!$A38-35,0),0.03999)","v":3.09E-2},{"$f":"MIN(OFFSET(Female!C$18,'Female - Rev'!$A38-35,0),0.03999)","v":2.7699999999999999E-2},{"$f":"MIN(OFFSET(Female!D$18,'Female - Rev'!$A38-35,0),0.03999)","v":2.4500000000000001E-2},{"$f":"MIN(OFFSET(Female!E$18,'Female - Rev'!$A38-35,0),0.03999)","v":2.12E-2},{"$f":"MIN(OFFSET(Female!F$18,'Female - Rev'!$A38-35,0),0.03999)","v":1.7999999999999999E-2},{"$f":"MIN(OFFSET(Female!G$18,'Female - Rev'!$A38-35,0),0.03999)","v":1.5100000000000001E-2},{"$f":"MIN(OFFSET(Female!H$18,'Female - Rev'!$A38-35,0),0.03999)","v":1.2699999999999999E-2},{"$f":"MIN(OFFSET(Female!I$18,'Female - Rev'!$A38-35,0),0.03999)","v":1.09E-2},{"$f":"MIN(OFFSET(Female!J$18,'Female - Rev'!$A38-35,0),0.03999)","v":9.5999999999999992E-3},{"$f":"MIN(OFFSET(Female!K$18,'Female - Rev'!$A38-35,0),0.03999)","v":8.6E-3},{"$f":"MIN(OFFSET(Female!L$18,'Female - Rev'!$A38-35,0),0.03999)","v":8.0000000000000002E-3},{"$f":"MIN(OFFSET(Female!M$18,'Female - Rev'!$A38-35,0),0.03999)","v":7.6E-3},{"$f":"MIN(OFFSET(Female!N$18,'Female - Rev'!$A38-35,0),0.03999)","v":7.4000000000000003E-3},{"$f":"MIN(OFFSET(Female!O$18,'Female - Rev'!$A38-35,0),0.03999)","v":7.3000000000000001E-3},{"$f":"MIN(OFFSET(Female!P$18,'Female - Rev'!$A38-35,0),0.03999)","v":7.3000000000000001E-3},{"$f":"MIN(OFFSET(Female!Q$18,'Female - Rev'!$A38-35,0),0.03999)","v":7.3000000000000001E-3},{"$f":"MIN(OFFSET(Female!R$18,'Female - Rev'!$A38-35,0),0.03999)","v":7.4000000000000003E-3},{"$f":"MIN(OFFSET(Female!S$18,'Female - Rev'!$A38-35,0),0.03999)","v":8.0000000000000002E-3},{"$f":"MIN(OFFSET(Female!T$18,'Female - Rev'!$A38-35,0),0.03999)","v":9.1000000000000004E-3},{"$f":"MIN(OFFSET(Female!U$18,'Female - Rev'!$A38-35,0),0.03999)","v":1.0800000000000001E-2},{"$f":"MIN(OFFSET(Female!V$18,'Female - Rev'!$A38-35,0),0.03999)","v":1.2800000000000001E-2},{"$f":"MIN(OFFSET(Female!W$18,'Female - Rev'!$A38-35,0),0.03999)","v":1.4999999999999999E-2},{"$f":"MIN(OFFSET(Female!X$18,'Female - Rev'!$A38-35,0),0.03999)","v":1.6899999999999998E-2},{"$f":"MIN(OFFSET(Female!Y$18,'Female - Rev'!$A38-35,0),0.03999)","v":1.84E-2},{"$f":"MIN(OFFSET(Female!Z$18,'Female - Rev'!$A38-35,0),0.03999)","v":1.9E-2},{"$f":"MIN(OFFSET(Female!AA$18,'Female - Rev'!$A38-35,0),0.03999)","v":1.8499999999999999E-2},{"$f":"MIN(OFFSET(Female!AB$18,'Female - Rev'!$A38-35,0),0.03999)","v":1.7100000000000001E-2},{"$f":"MIN(OFFSET(Female!AC$18,'Female - Rev'!$A38-35,0),0.03999)","v":1.4800000000000001E-2},{"$f":"MIN(OFFSET(Female!AD$18,'Female - Rev'!$A38-35,0),0.03999)","v":1.1900000000000001E-2},{"$f":"MIN(OFFSET(Female!AE$18,'Female - Rev'!$A38-35,0),0.03999)","v":8.9999999999999993E-3},{"$f":"MIN(OFFSET(Female!AF$18,'Female - Rev'!$A38-35,0),0.03999)","v":6.4999999999999997E-3},{"$f":"MIN(OFFSET(Female!AG$18,'Female - Rev'!$A38-35,0),0.03999)","v":4.7000000000000002E-3},{"$f":"MIN(OFFSET(Female!AH$18,'Female - Rev'!$A38-35,0),0.03999)","v":3.8E-3},{"$f":"MIN(OFFSET(Female!AI$18,'Female - Rev'!$A38-35,0),0.03999)","v":3.8999999999999998E-3},{"$f":"MIN(OFFSET(Female!AJ$18,'Female - Rev'!$A38-35,0),0.03999)","v":4.5999999999999999E-3},{"$f":"MIN(OFFSET(Female!AK$18,'Female - Rev'!$A38-35,0),0.03999)","v":5.7999999999999996E-3},{"$f":"MIN(OFFSET(Female!AL$18,'Female - Rev'!$A38-35,0),0.03999)","v":7.1999999999999998E-3},{"$f":"MIN(OFFSET(Female!AM$18,'Female - Rev'!$A38-35,0),0.03999)","v":8.5000000000000006E-3},{"$f":"MIN(OFFSET(Female!AN$18,'Female - Rev'!$A38-35,0),0.03999)","v":9.4999999999999998E-3},{"$f":"MIN(OFFSET(Female!AO$18,'Female - Rev'!$A38-35,0),0.03999)","v":1.01E-2},{"$f":"MIN(OFFSET(Female!AP$18,'Female - Rev'!$A38-35,0),0.03999)","v":1.03E-2},{"$f":"MIN(OFFSET(Female!AQ$18,'Female - Rev'!$A38-35,0),0.03999)","v":1.01E-2},{"$f":"MIN(OFFSET(Female!AR$18,'Female - Rev'!$A38-35,0),0.03999)","v":9.7999999999999997E-3},{"$f":"MIN(OFFSET(Female!AS$18,'Female - Rev'!$A38-35,0),0.03999)","v":9.7000000000000003E-3},{"$f":"MIN(OFFSET(Female!AT$18,'Female - Rev'!$A38-35,0),0.03999)","v":9.7999999999999997E-3},{"$f":"MIN(OFFSET(Female!AU$18,'Female - Rev'!$A38-35,0),0.03999)","v":1.03E-2},{"$f":"MIN(OFFSET(Female!AV$18,'Female - Rev'!$A38-35,0),0.03999)","v":1.11E-2},{"$f":"MIN(OFFSET(Female!AW$18,'Female - Rev'!$A38-35,0),0.03999)","v":1.2200000000000001E-2},{"$f":"MIN(OFFSET(Female!AX$18,'Female - Rev'!$A38-35,0),0.03999)","v":1.3599999999999999E-2},{"$f":"MIN(OFFSET(Female!AY$18,'Female - Rev'!$A38-35,0),0.03999)","v":1.5299999999999999E-2},{"$f":"MIN(OFFSET(Female!AZ$18,'Female - Rev'!$A38-35,0),0.03999)","v":1.72E-2},{"$f":"MIN(OFFSET(Female!BA$18,'Female - Rev'!$A38-35,0),0.03999)","v":1.9199999999999998E-2},{"$f":"MIN(OFFSET(Female!BB$18,'Female - Rev'!$A38-35,0),0.03999)","v":2.1000000000000001E-2},{"$f":"MIN(OFFSET(Female!BC$18,'Female - Rev'!$A38-35,0),0.03999)","v":2.24E-2},{"$f":"MIN(OFFSET(Female!BD$18,'Female - Rev'!$A38-35,0),0.03999)","v":2.29E-2},{"$f":"MIN(OFFSET(Female!BE$18,'Female - Rev'!$A38-35,0),0.03999)","v":2.23E-2},{"$f":"MIN(OFFSET(Female!BF$18,'Female - Rev'!$A38-35,0),0.03999)","v":2.0500000000000001E-2},{"$f":"MIN(OFFSET(Female!BG$18,'Female - Rev'!$A38-35,0),0.03999)","v":1.77E-2},{"$f":"MIN(OFFSET(Female!BH$18,'Female - Rev'!$A38-35,0),0.03999)","v":1.3899999999999999E-2},{"$f":"MIN(OFFSET(Female!BI$18,'Female - Rev'!$A38-35,0),0.03999)","v":9.2999999999999992E-3},{"$f":"MIN(OFFSET(Female!BJ$18,'Female - Rev'!$A38-35,0),0.03999)","v":4.4000000000000003E-3},{"$f":"MIN(OFFSET(Female!BK$18,'Female - Rev'!$A38-35,0),0.03999)","v":-5.9999999999999995E-4},{"$f":"MIN(OFFSET(Female!BL$18,'Female - Rev'!$A38-35,0),0.03999)","v":-5.1000000000000004E-3},{"$f":"MIN(OFFSET(Female!BM$18,'Female - Rev'!$A38-35,0),0.03999)","v":-8.8999999999999999E-3},{"$f":"MIN(OFFSET(Female!BN$18,'Female - Rev'!$A38-35,0),0.03999)","v":-1.2E-2},{"$f":"MIN(OFFSET(Female!BO$18,'Female - Rev'!$A38-35,0),0.03999)","v":-1.21E-2},{"$f":"MIN(OFFSET(Female!BP$18,'Female - Rev'!$A38-35,0),0.03999)","v":-1.0999999999999999E-2},{"$f":"MIN(OFFSET(Female!BQ$18,'Female - Rev'!$A38-35,0),0.03999)","v":-8.9999999999999993E-3},{"$f":"MIN(OFFSET(Female!BR$18,'Female - Rev'!$A38-35,0),0.03999)","v":-6.4000000000000003E-3},{"$f":"MIN(OFFSET(Female!BS$18,'Female - Rev'!$A38-35,0),0.03999)","v":-3.3E-3},{"$f":"MIN(OFFSET(Female!BT$18,'Female - Rev'!$A38-35,0),0.03999)","v":-1E-4},{"$f":"MIN(OFFSET(Female!BU$18,'Female - Rev'!$A38-35,0),0.03999)","v":2.8999999999999998E-3},{"$f":"MIN(OFFSET(Female!BV$18,'Female - Rev'!$A38-35,0),0.03999)","v":5.4000000000000003E-3},{"$f":"MIN(OFFSET(Female!BW$18,'Female - Rev'!$A38-35,0),0.03999)","v":7.3000000000000001E-3},{"$f":"MIN(OFFSET(Female!BX$18,'Female - Rev'!$A38-35,0),0.03999)","v":8.3000000000000001E-3},{"$f":"MIN(OFFSET(Female!BY$18,'Female - Rev'!$A38-35,0),0.03999)","v":8.8000000000000005E-3},{"$f":"MIN(OFFSET(Female!BZ$18,'Female - Rev'!$A38-35,0),0.03999)","v":8.9999999999999993E-3},{"$f":"MIN(OFFSET(Female!CA$18,'Female - Rev'!$A38-35,0),0.03999)","v":9.1000000000000004E-3},{"$f":"MIN(OFFSET(Female!CB$18,'Female - Rev'!$A38-35,0),0.03999)","v":9.1000000000000004E-3},{"$f":"MIN(OFFSET(Female!CC$18,'Female - Rev'!$A38-35,0),0.03999)","v":9.1999999999999998E-3},{"$f":"MIN(OFFSET(Female!CD$18,'Female - Rev'!$A38-35,0),0.03999)","v":9.2999999999999992E-3},{"$f":"MIN(OFFSET(Female!CE$18,'Female - Rev'!$A38-35,0),0.03999)","v":9.4999999999999998E-3},{"$f":"MIN(OFFSET(Female!CF$18,'Female - Rev'!$A38-35,0),0.03999)","v":9.7000000000000003E-3},{"$f":"MIN(OFFSET(Female!CG$18,'Female - Rev'!$A38-35,0),0.03999)","v":9.9000000000000008E-3},{"$f":"MIN(OFFSET(Female!CH$18,'Female - Rev'!$A38-35,0),0.03999)","v":0.01}]
[59,59,{"$f":"MIN(OFFSET(Female!B$18,'Female - Rev'!$A39-35,0),0.03999)","v":3.1E-2},{"$f":"MIN(OFFSET(Female!C$18,'Female - Rev'!$A39-35,0),0.03999)","v":2.8000000000000001E-2},{"$f":"MIN(OFFSET(Female!D$18,'Female - Rev'!$A39-35,0),0.03999)","v":2.4899999999999999E-2},{"$f":"MIN(OFFSET(Female!E$18,'Female - Rev'!$A39-35,0),0.03999)","v":2.18E-2},{"$f":"MIN(OFFSET(Female!F$18,'Female - Rev'!$A39-35,0),0.03999)","v":1.8800000000000001E-2},{"$f":"MIN(OFFSET(Female!G$18,'Female - Rev'!$A39-35,0),0.03999)","v":1.6E-2},{"$f":"MIN(OFFSET(Female!H$18,'Female - Rev'!$A39-35,0),0.03999)","v":1.37E-2},{"$f":"MIN(OFFSET(Female!I$18,'Female - Rev'!$A39-35,0),0.03999)","v":1.1900000000000001E-2},{"$f":"MIN(OFFSET(Female!J$18,'Female - Rev'!$A39-35,0),0.03999)","v":1.06E-2},{"$f":"MIN(OFFSET(Female!K$18,'Female - Rev'!$A39-35,0),0.03999)","v":9.4999999999999998E-3},{"$f":"MIN(OFFSET(Female!L$18,'Female - Rev'!$A39-35,0),0.03999)","v":8.5000000000000006E-3},{"$f":"MIN(OFFSET(Female!M$18,'Female - Rev'!$A39-35,0),0.03999)","v":7.6E-3},{"$f":"MIN(OFFSET(Female!N$18,'Female - Rev'!$A39-35,0),0.03999)","v":6.8999999999999999E-3},{"$f":"MIN(OFFSET(Female!O$18,'Female - Rev'!$A39-35,0),0.03999)","v":6.3E-3},{"$f":"MIN(OFFSET(Female!P$18,'Female - Rev'!$A39-35,0),0.03999)","v":5.7000000000000002E-3},{"$f":"MIN(OFFSET(Female!Q$18,'Female - Rev'!$A39-35,0),0.03999)","v":5.4000000000000003E-3},{"$f":"MIN(OFFSET(Female!R$18,'Female - Rev'!$A39-35,0),0.03999)","v":5.4000000000000003E-3},{"$f":"MIN(OFFSET(Female!S$18,'Female - Rev'!$A39-35,0),0.03999)","v":6.1000000000000004E-3},{"$f":"MIN(OFFSET(Female!T$18,'Female - Rev'!$A39-35,0),0.03999)","v":7.6E-3},{"$f":"MIN(OFFSET(Female!U$18,'Female - Rev'!$A39-35,0),0.03999)","v":9.7000000000000003E-3},{"$f":"MIN(OFFSET(Female!V$18,'Female - Rev'!$A39-35,0),0.03999)","v":1.2200000000000001E-2},{"$f":"MIN(OFFSET(Female!W$18,'Female - Rev'!$A39-35,0),0.03999)","v":1.49E-2},{"$f":"MIN(OFFSET(Female!X$18,'Female - Rev'!$A39-35,0),0.03999)","v":1.7399999999999999E-2},{"$f":"MIN(OFFSET(Female!Y$18,'Female - Rev'!$A39-35,0),0.03999)","v":1.9300000000000001E-2},{"$f":"MIN(OFFSET(Female!Z$18,'Female - Rev'!$A39-35,0),0.03999)","v":2.0199999999999999E-2},{"$f":"MIN(OFFSET(Female!AA$18,'Female - Rev'!$A39-35,0),0.03999)","v":1.9800000000000002E-2},{"$f":"MIN(OFFSET(Female!AB$18,'Female - Rev'!$A39-35,0),0.03999)","v":1.84E-2},{"$f":"MIN(OFFSET(Female!AC$18,'Female - Rev'!$A39-35,0),0.03999)","v":1.5900000000000001E-2},{"$f":"MIN(OFFSET(Female!AD$18,'Female - Rev'!$A39-35,0),0.03999)","v":1.29E-2},{"$f":"MIN(OFFSET(Female!AE$18,'Female - Rev'!$A39-35,0),0.03999)","v":9.7999999999999997E-3},{"$f":"MIN(OFFSET(Female!AF$18,'Female - Rev'!$A39-35,0),0.03999)","v":7.1999999999999998E-3},{"$f":"MIN(OFFSET(Female!AG$18,'Female - Rev'!$A39-35,0),0.03999)","v":5.4000000000000003E-3},{"$f":"MIN(OFFSET(Female!AH$18,'Female - Rev'!$A39-35,0),0.03999)","v":4.4999999999999997E-3},{"$f":"MIN(OFFSET(Female!AI$18,'Female - Rev'!$A39-35,0),0.03999)","v":4.4999999999999997E-3},{"$f":"MIN(OFFSET(Female!AJ$18,'Female - Rev'!$A39-35,0),0.03999)","v":5.1999999999999998E-3},{"$f":"MIN(OFFSET(Female!AK$18,'Female - Rev'!$A39-35,0),0.03999)","v":6.3E-3},{"$f":"MIN(OFFSET(Female!AL$18,'Female - Rev'!$A39-35,0),0.03999)","v":7.4999999999999997E-3},{"$f":"MIN(OFFSET(Female!AM$18,'Female - Rev'!$A39-35,0),0.03999)","v":8.6999999999999994E-3},{"$f":"MIN(OFFSET(Female!AN$18,'Female - Rev'!$A39-35,0),0.03999)","v":9.7999999999999997E-3},{"$f":"MIN(OFFSET(Female!AO$18,'Female - Rev'!$A39-35,0),0.03999)","v":1.0500000000000001E-2},{"$f":"MIN(OFFSET(Female!AP$18,'Female - Rev'!$A39-35,0),0.03999)","v":1.0800000000000001E-2},{"$f":"MIN(OFFSET(Female!AQ$18,'Female - Rev'!$A39-35,0),0.03999)","v":1.09E-2},{"$f":"MIN(OFFSET(Female!AR$18,'Female - Rev'!$A39-35,0),0.03999)","v":1.0800000000000001E-2},{"$f":"MIN(OFFSET(Female!AS$18,'Female - Rev'!$A39-35,0),0.03999)","v":1.0800000000000001E-2},{"$f":"MIN(OFFSET(Female!AT$18,'Female - Rev'!$A39-35,0),0.03999)","v":1.09E-2},{"$f":"MIN(OFFSET(Female!AU$18,'Female - Rev'!$A39-35,0),0.03999)","v":1.12E-2},{"$f":"MIN(OFFSET(Female!AV$18,'Female - Rev'!$A39-35,0),0.03999)","v":1.18E-2},{"$f":"MIN(OFFSET(Female!AW$18,'Female - Rev'!$A39-35,0),0.03999)","v":1.2699999999999999E-2},{"$f":"MIN(OFFSET(Female!AX$18,'Female - Rev'!$A39-35,0),0.03999)","v":1.38E-2},{"$f":"MIN(OFFSET(Female!AY$18,'Female - Rev'!$A39-35,0),0.03999)","v":1.52E-2},{"$f":"MIN(OFFSET(Female!AZ$18,'Female - Rev'!$A39-35,0),0.03999)","v":1.6899999999999998E-2},{"$f":"MIN(OFFSET(Female!BA$18,'Female - Rev'!$A39-35,0),0.03999)","v":1.8599999999999998E-2},{"$f":"MIN(OFFSET(Female!BB$18,'Female - Rev'!$A39-35,0),0.03999)","v":2.0199999999999999E-2},{"$f":"MIN(OFFSET(Female!BC$18,'Female - Rev'!$A39-35,0),0.03999)","v":2.1299999999999999E-2},{"$f":"MIN(OFFSET(Female!BD$18,'Female - Rev'!$A39-35,0),0.03999)","v":2.1399999999999999E-2},{"$f":"MIN(OFFSET(Female!BE$18,'Female - Rev'!$A39-35,0),0.03999)","v":2.0500000000000001E-2},{"$f":"MIN(OFFSET(Female!BF$18,'Female - Rev'!$A39-35,0),0.03999)","v":1.84E-2},{"$f":"MIN(OFFSET(Female!BG$18,'Female - Rev'!$A39-35,0),0.03999)","v":1.52E-2},{"$f":"MIN(OFFSET(Female!BH$18,'Female - Rev'!$A39-35,0),0.03999)","v":1.12E-2},{"$f":"MIN(OFFSET(Female!BI$18,'Female - Rev'!$A39-35,0),0.03999)","v":6.4999999999999997E-3},{"$f":"MIN(OFFSET(Female!BJ$18,'Female - Rev'!$A39-35,0),0.03999)","v":1.6000000000000001E-3},{"$f":"MIN(OFFSET(Female!BK$18,'Female - Rev'!$A39-35,0),0.03999)","v":-3.0999999999999999E-3},{"$f":"MIN(OFFSET(Female!BL$18,'Female - Rev'!$A39-35,0),0.03999)","v":-7.1999999999999998E-3},{"$f":"MIN(OFFSET(Female!BM$18,'Female - Rev'!$A39-35,0),0.03999)","v":-1.04E-2},{"$f":"MIN(OFFSET(Female!BN$18,'Female - Rev'!$A39-35,0),0.03999)","v":-1.29E-2},{"$f":"MIN(OFFSET(Female!BO$18,'Female - Rev'!$A39-35,0),0.03999)","v":-1.26E-2},{"$f":"MIN(OFFSET(Female!BP$18,'Female - Rev'!$A39-35,0),0.03999)","v":-1.11E-2},{"$f":"MIN(OFFSET(Female!BQ$18,'Female - Rev'!$A39-35,0),0.03999)","v":-8.6999999999999994E-3},{"$f":"MIN(OFFSET(Female!BR$18,'Female - Rev'!$A39-35,0),0.03999)","v":-5.7000000000000002E-3},{"$f":"MIN(OFFSET(Female!BS$18,'Female - Rev'!$A39-35,0),0.03999)","v":-2.5000000000000001E-3},{"$f":"MIN(OFFSET(Female!BT$18,'Female - Rev'!$A39-35,0),0.03999)","v":8.0000000000000004E-4},{"$f":"MIN(OFFSET(Female!BU$18,'Female - Rev'!$A39-35,0),0.03999)","v":3.7000000000000002E-3},{"$f":"MIN(OFFSET(Female!BV$18,'Female - Rev'!$A39-35,0),0.03999)","v":6.1000000000000004E-3},{"$f":"MIN(OFFSET(Female!BW$18,'Female - Rev'!$A39-35,0),0.03999)","v":7.7000000000000002E-3},{"$f":"MIN(OFFSET(Female!BX$18,'Female - Rev'!$A39-35,0),0.03999)","v":8.6E-3},{"$f":"MIN(OFFSET(Female!BY$18,'Female - Rev'!$A39-35,0),0.03999)","v":8.8000000000000005E-3},{"$f":"MIN(OFFSET(Female!BZ$18,'Female - Rev'!$A39-35,0),0.03999)","v":8.8999999999999999E-3},{"$f":"MIN(OFFSET(Female!CA$18,'Female - Rev'!$A39-35,0),0.03999)","v":8.8999999999999999E-3},{"$f":"MIN(OFFSET(Female!CB$18,'Female - Rev'!$A39-35,0),0.03999)","v":8.8000000000000005E-3},{"$f":"MIN(OFFSET(Female!CC$18,'Female - Rev'!$A39-35,0),0.03999)","v":8.8999999999999999E-3},{"$f":"MIN(OFFSET(Female!CD$18,'Female - Rev'!$A39-35,0),0.03999)","v":9.1000000000000004E-3},{"$f":"MIN(OFFSET(Female!CE$18,'Female - Rev'!$A39-35,0),0.03999)","v":9.2999999999999992E-3},{"$f":"MIN(OFFSET(Female!CF$18,'Female - Rev'!$A39-35,0),0.03999)","v":9.5999999999999992E-3},{"$f":"MIN(OFFSET(Female!CG$18,'Female - Rev'!$A39-35,0),0.03999)","v":9.9000000000000008E-3},{"$f":"MIN(OFFSET(Female!CH$18,'Female - Rev'!$A39-35,0),0.03999)","v":0.01}]
[58,58,{"$f":"MIN(OFFSET(Female!B$18,'Female - Rev'!$A40-35,0),0.03999)","v":3.0599999999999999E-2},{"$f":"MIN(OFFSET(Female!C$18,'Female - Rev'!$A40-35,0),0.03999)","v":2.8000000000000001E-2},{"$f":"MIN(OFFSET(Female!D$18,'Female - Rev'!$A40-35,0),0.03999)","v":2.52E-2},{"$f":"MIN(OFFSET(Female!E$18,'Female - Rev'!$A40-35,0),0.03999)","v":2.24E-2},{"$f":"MIN(OFFSET(Female!F$18,'Female - Rev'!$A40-35,0),0.03999)","v":1.9599999999999999E-2},{"$f":"MIN(OFFSET(Female!G$18,'Female - Rev'!$A40-35,0),0.03999)","v":1.7000000000000001E-2},{"$f":"MIN(OFFSET(Female!H$18,'Female - Rev'!$A40-35,0),0.03999)","v":1.4800000000000001E-2},{"$f":"MIN(OFFSET(Female!I$18,'Female - Rev'!$A40-35,0),0.03999)","v":1.2999999999999999E-2},{"$f":"MIN(OFFSET(Female!J$18,'Female - Rev'!$A40-35,0),0.03999)","v":1.1599999999999999E-2},{"$f":"MIN(OFFSET(Female!K$18,'Female - Rev'!$A40-35,0),0.03999)","v":1.03E-2},{"$f":"MIN(OFFSET(Female!L$18,'Female - Rev'!$A40-35,0),0.03999)","v":8.8999999999999999E-3},{"$f":"MIN(OFFSET(Female!M$18,'Female - Rev'!$A40-35,0),0.03999)","v":7.6E-3},{"$f":"MIN(OFFSET(Female!N$18,'Female - Rev'!$A40-35,0),0.03999)","v":6.3E-3},{"$f":"MIN(OFFSET(Female!O$18,'Female - Rev'!$A40-35,0),0.03999)","v":5.1999999999999998E-3},{"$f":"MIN(OFFSET(Female!P$18,'Female - Rev'!$A40-35,0),0.03999)","v":4.3E-3},{"$f":"MIN(OFFSET(Female!Q$18,'Female - Rev'!$A40-35,0),0.03999)","v":3.7000000000000002E-3},{"$f":"MIN(OFFSET(Female!R$18,'Female - Rev'!$A40-35,0),0.03999)","v":3.7000000000000002E-3},{"$f":"MIN(OFFSET(Female!S$18,'Female - Rev'!$A40-35,0),0.03999)","v":4.5999999999999999E-3},{"$f":"MIN(OFFSET(Female!T$18,'Female - Rev'!$A40-35,0),0.03999)","v":6.4000000000000003E-3},{"$f":"MIN(OFFSET(Female!U$18,'Female - Rev'!$A40-35,0),0.03999)","v":8.8999999999999999E-3},{"$f":"MIN(OFFSET(Female!V$18,'Female - Rev'!$A40-35,0),0.03999)","v":1.1900000000000001E-2},{"$f":"MIN(OFFSET(Female!W$18,'Female - Rev'!$A40-35,0),0.03999)","v":1.5100000000000001E-2},{"$f":"MIN(OFFSET(Female!X$18,'Female - Rev'!$A40-35,0),0.03999)","v":1.7999999999999999E-2},{"$f":"MIN(OFFSET(Female!Y$18,'Female - Rev'!$A40-35,0),0.03999)","v":2.0199999999999999E-2},{"$f":"MIN(OFFSET(Female!Z$18,'Female - Rev'!$A40-35,0),0.03999)","v":2.1299999999999999E-2},{"$f":"MIN(OFFSET(Female!AA$18,'Female - Rev'!$A40-35,0),0.03999)","v":2.1000000000000001E-2},{"$f":"MIN(OFFSET(Female!AB$18,'Female - Rev'!$A40-35,0),0.03999)","v":1.95E-2},{"$f":"MIN(OFFSET(Female!AC$18,'Female - Rev'!$A40-35,0),0.03999)","v":1.7000000000000001E-2},{"$f":"MIN(OFFSET(Female!AD$18,'Female - Rev'!$A40-35,0),0.03999)","v":1.3899999999999999E-2},{"$f":"MIN(OFFSET(Female!AE$18,'Female - Rev'!$A40-35,0),0.03999)","v":1.0699999999999999E-2},{"$f":"MIN(OFFSET(Female!AF$18,'Female - Rev'!$A40-35,0),0.03999)","v":8.0000000000000002E-3},{"$f":"MIN(OFFSET(Female!AG$18,'Female - Rev'!$A40-35,0),0.03999)","v":6.1999999999999998E-3},{"$f":"MIN(OFFSET(Female!AH$18,'Female - Rev'!$A40-35,0),0.03999)","v":5.3E-3},{"$f":"MIN(OFFSET(Female!AI$18,'Female - Rev'!$A40-35,0),0.03999)","v":5.3E-3},{"$f":"MIN(OFFSET(Female!AJ$18,'Female - Rev'!$A40-35,0),0.03999)","v":5.8999999999999999E-3},{"$f":"MIN(OFFSET(Female!AK$18,'Female - Rev'!$A40-35,0),0.03999)","v":6.8999999999999999E-3},{"$f":"MIN(OFFSET(Female!AL$18,'Female - Rev'!$A40-35,0),0.03999)","v":8.0000000000000002E-3},{"$f":"MIN(OFFSET(Female!AM$18,'Female - Rev'!$A40-35,0),0.03999)","v":9.1000000000000004E-3},{"$f":"MIN(OFFSET(Female!AN$18,'Female - Rev'!$A40-35,0),0.03999)","v":1.01E-2},{"$f":"MIN(OFFSET(Female!AO$18,'Female - Rev'!$A40-35,0),0.03999)","v":1.09E-2},{"$f":"MIN(OFFSET(Female!AP$18,'Female - Rev'!$A40-35,0),0.03999)","v":1.14E-2},{"$f":"MIN(OFFSET(Female!AQ$18,'Female - Rev'!$A40-35,0),0.03999)","v":1.17E-2},{"$f":"MIN(OFFSET(Female!AR$18,'Female - Rev'!$A40-35,0),0.03999)","v":1.18E-2},{"$f":"MIN(OFFSET(Female!AS$18,'Female - Rev'!$A40-35,0),0.03999)","v":1.1900000000000001E-2},{"$f":"MIN(OFFSET(Female!AT$18,'Female - Rev'!$A40-35,0),0.03999)","v":1.2E-2},{"$f":"MIN(OFFSET(Female!AU$18,'Female - Rev'!$A40-35,0),0.03999)","v":1.2200000000000001E-2},{"$f":"MIN(OFFSET(Female!AV$18,'Female - Rev'!$A40-35,0),0.03999)","v":1.2500000000000001E-2},{"$f":"MIN(OFFSET(Female!AW$18,'Female - Rev'!$A40-35,0),0.03999)","v":1.3100000000000001E-2},{"$f":"MIN(OFFSET(Female!AX$18,'Female - Rev'!$A40-35,0),0.03999)","v":1.38E-2},{"$f":"MIN(OFFSET(Female!AY$18,'Female - Rev'!$A40-35,0),0.03999)","v":1.49E-2},{"$f":"MIN(OFFSET(Female!AZ$18,'Female - Rev'!$A40-35,0),0.03999)","v":1.6299999999999999E-2},{"$f":"MIN(OFFSET(Female!BA$18,'Female - Rev'!$A40-35,0),0.03999)","v":1.77E-2},{"$f":"MIN(OFFSET(Female!BB$18,'Female - Rev'!$A40-35,0),0.03999)","v":1.89E-2},{"$f":"MIN(OFFSET(Female!BC$18,'Female - Rev'!$A40-35,0),0.03999)","v":1.9699999999999999E-2},{"$f":"MIN(OFFSET(Female!BD$18,'Female - Rev'!$A40-35,0),0.03999)","v":1.95E-2},{"$f":"MIN(OFFSET(Female!BE$18,'Female - Rev'!$A40-35,0),0.03999)","v":1.8200000000000001E-2},{"$f":"MIN(OFFSET(Female!BF$18,'Female - Rev'!$A40-35,0),0.03999)","v":1.5900000000000001E-2},{"$f":"MIN(OFFSET(Female!BG$18,'Female - Rev'!$A40-35,0),0.03999)","v":1.2500000000000001E-2},{"$f":"MIN(OFFSET(Female!BH$18,'Female - Rev'!$A40-35,0),0.03999)","v":8.3000000000000001E-3},{"$f":"MIN(OFFSET(Female!BI$18,'Female - Rev'!$A40-35,0),0.03999)","v":3.7000000000000002E-3},{"$f":"MIN(OFFSET(Female!BJ$18,'Female - Rev'!$A40-35,0),0.03999)","v":-1E-3},{"$f":"MIN(OFFSET(Female!BK$18,'Female - Rev'!$A40-35,0),0.03999)","v":-5.1999999999999998E-3},{"$f":"MIN(OFFSET(Female!BL$18,'Female - Rev'!$A40-35,0),0.03999)","v":-8.6999999999999994E-3},{"$f":"MIN(OFFSET(Female!BM$18,'Female - Rev'!$A40-35,0),0.03999)","v":-1.12E-2},{"$f":"MIN(OFFSET(Female!BN$18,'Female - Rev'!$A40-35,0),0.03999)","v":-1.2999999999999999E-2},{"$f":"MIN(OFFSET(Female!BO$18,'Female - Rev'!$A40-35,0),0.03999)","v":-1.2200000000000001E-2},{"$f":"MIN(OFFSET(Female!BP$18,'Female - Rev'!$A40-35,0),0.03999)","v":-1.03E-2},{"$f":"MIN(OFFSET(Female!BQ$18,'Female - Rev'!$A40-35,0),0.03999)","v":-7.7000000000000002E-3},{"$f":"MIN(OFFSET(Female!BR$18,'Female - Rev'!$A40-35,0),0.03999)","v":-4.5999999999999999E-3},{"$f":"MIN(OFFSET(Female!BS$18,'Female - Rev'!$A40-35,0),0.03999)","v":-1.2999999999999999E-3},{"$f":"MIN(OFFSET(Female!BT$18,'Female - Rev'!$A40-35,0),0.03999)","v":1.8E-3},{"$f":"MIN(OFFSET(Female!BU$18,'Female - Rev'!$A40-35,0),0.03999)","v":4.4999999999999997E-3},{"$f":"MIN(OFFSET(Female!BV$18,'Female - Rev'!$A40-35,0),0.03999)","v":6.6E-3},{"$f":"MIN(OFFSET(Female!BW$18,'Female - Rev'!$A40-35,0),0.03999)","v":8.0000000000000002E-3},{"$f":"MIN(OFFSET(Female!BX$18,'Female - Rev'!$A40-35,0),0.03999)","v":8.6E-3},{"$f":"MIN(OFFSET(Female!BY$18,'Female - Rev'!$A40-35,0),0.03999)","v":8.6E-3},{"$f":"MIN(OFFSET(Female!BZ$18,'Female - Rev'!$A40-35,0),0.03999)","v":8.6E-3},{"$f":"MIN(OFFSET(Female!CA$18,'Female - Rev'!$A40-35,0),0.03999)","v":8.5000000000000006E-3},{"$f":"MIN(OFFSET(Female!CB$18,'Female - Rev'!$A40-35,0),0.03999)","v":8.5000000000000006E-3},{"$f":"MIN(OFFSET(Female!CC$18,'Female - Rev'!$A40-35,0),0.03999)","v":8.6E-3},{"$f":"MIN(OFFSET(Female!CD$18,'Female - Rev'!$A40-35,0),0.03999)","v":8.8000000000000005E-3},{"$f":"MIN(OFFSET(Female!CE$18,'Female - Rev'!$A40-35,0),0.03999)","v":9.1999999999999998E-3},{"$f":"MIN(OFFSET(Female!CF$18,'Female - Rev'!$A40-35,0),0.03999)","v":9.4999999999999998E-3},{"$f":"MIN(OFFSET(Female!CG$18,'Female - Rev'!$A40-35,0),0.03999)","v":9.9000000000000008E-3},{"$f":"MIN(OFFSET(Female!CH$18,'Female - Rev'!$A40-35,0),0.03999)","v":0.01}]
[57,57,{"$f":"MIN(OFFSET(Female!B$18,'Female - Rev'!$A41-35,0),0.03999)","v":3.0099999999999998E-2},{"$f":"MIN(OFFSET(Female!C$18,'Female - Rev'!$A41-35,0),0.03999)","v":2.7799999999999998E-2},{"$f":"MIN(OFFSET(Female!D$18,'Female - Rev'!$A41-35,0),0.03999)","v":2.5499999999999998E-2},{"$f":"MIN(OFFSET(Female!E$18,'Female - Rev'!$A41-35,0),0.03999)","v":2.3E-2},{"$f":"MIN(OFFSET(Female!F$18,'Female - Rev'!$A41-35,0),0.03999)","v":2.0400000000000001E-2},{"$f":"MIN(OFFSET(Female!G$18,'Female - Rev'!$A41-35,0),0.03999)","v":1.7899999999999999E-2},{"$f":"MIN(OFFSET(Female!H$18,'Female - Rev'!$A41-35,0),0.03999)","v":1.5800000000000002E-2},{"$f":"MIN(OFFSET(Female!I$18,'Female - Rev'!$A41-35,0),0.03999)","v":1.41E-2},{"$f":"MIN(OFFSET(Female!J$18,'Female - Rev'!$A41-35,0),0.03999)","v":1.24E-2},{"$f":"MIN(OFFSET(Female!K$18,'Female - Rev'!$A41-35,0),0.03999)","v":1.0800000000000001E-2},{"$f":"MIN(OFFSET(Female!L$18,'Female - Rev'!$A41-35,0),0.03999)","v":9.1000000000000004E-3},{"$f":"MIN(OFFSET(Female!M$18,'Female - Rev'!$A41-35,0),0.03999)","v":7.3000000000000001E-3},{"$f":"MIN(OFFSET(Female!N$18,'Female - Rev'!$A41-35,0),0.03999)","v":5.4999999999999997E-3},{"$f":"MIN(OFFSET(Female!O$18,'Female - Rev'!$A41-35,0),0.03999)","v":4.1000000000000003E-3},{"$f":"MIN(OFFSET(Female!P$18,'Female - Rev'!$A41-35,0),0.03999)","v":2.8999999999999998E-3},{"$f":"MIN(OFFSET(Female!Q$18,'Female - Rev'!$A41-35,0),0.03999)","v":2.3E-3},{"$f":"MIN(OFFSET(Female!R$18,'Female - Rev'!$A41-35,0),0.03999)","v":2.3999999999999998E-3},{"$f":"MIN(OFFSET(Female!S$18,'Female - Rev'!$A41-35,0),0.03999)","v":3.5000000000000001E-3},{"$f":"MIN(OFFSET(Female!T$18,'Female - Rev'!$A41-35,0),0.03999)","v":5.5999999999999999E-3},{"$f":"MIN(OFFSET(Female!U$18,'Female - Rev'!$A41-35,0),0.03999)","v":8.6E-3},{"$f":"MIN(OFFSET(Female!V$18,'Female - Rev'!$A41-35,0),0.03999)","v":1.2E-2},{"$f":"MIN(OFFSET(Female!W$18,'Female - Rev'!$A41-35,0),0.03999)","v":1.55E-2},{"$f":"MIN(OFFSET(Female!X$18,'Female - Rev'!$A41-35,0),0.03999)","v":1.8700000000000001E-2},{"$f":"MIN(OFFSET(Female!Y$18,'Female - Rev'!$A41-35,0),0.03999)","v":2.1100000000000001E-2},{"$f":"MIN(OFFSET(Female!Z$18,'Female - Rev'!$A41-35,0),0.03999)","v":2.2200000000000001E-2},{"$f":"MIN(OFFSET(Female!AA$18,'Female - Rev'!$A41-35,0),0.03999)","v":2.1999999999999999E-2},{"$f":"MIN(OFFSET(Female!AB$18,'Female - Rev'!$A41-35,0),0.03999)","v":2.0500000000000001E-2},{"$f":"MIN(OFFSET(Female!AC$18,'Female - Rev'!$A41-35,0),0.03999)","v":1.7899999999999999E-2},{"$f":"MIN(OFFSET(Female!AD$18,'Female - Rev'!$A41-35,0),0.03999)","v":1.4800000000000001E-2},{"$f":"MIN(OFFSET(Female!AE$18,'Female - Rev'!$A41-35,0),0.03999)","v":1.1599999999999999E-2},{"$f":"MIN(OFFSET(Female!AF$18,'Female - Rev'!$A41-35,0),0.03999)","v":8.8999999999999999E-3},{"$f":"MIN(OFFSET(Female!AG$18,'Female - Rev'!$A41-35,0),0.03999)","v":7.1000000000000004E-3},{"$f":"MIN(OFFSET(Female!AH$18,'Female - Rev'!$A41-35,0),0.03999)","v":6.1999999999999998E-3},{"$f":"MIN(OFFSET(Female!AI$18,'Female - Rev'!$A41-35,0),0.03999)","v":6.1000000000000004E-3},{"$f":"MIN(OFFSET(Female!AJ$18,'Female - Rev'!$A41-35,0),0.03999)","v":6.6E-3},{"$f":"MIN(OFFSET(Female!AK$18,'Female - Rev'!$A41-35,0),0.03999)","v":7.4999999999999997E-3},{"$f":"MIN(OFFSET(Female!AL$18,'Female - Rev'!$A41-35,0),0.03999)","v":8.3999999999999995E-3},{"$f":"MIN(OFFSET(Female!AM$18,'Female - Rev'!$A41-35,0),0.03999)","v":9.4999999999999998E-3},{"$f":"MIN(OFFSET(Female!AN$18,'Female - Rev'!$A41-35,0),0.03999)","v":1.0500000000000001E-2},{"$f":"MIN(OFFSET(Female!AO$18,'Female - Rev'!$A41-35,0),0.03999)","v":1.14E-2},{"$f":"MIN(OFFSET(Female!AP$18,'Female - Rev'!$A41-35,0),0.03999)","v":1.2E-2},{"$f":"MIN(OFFSET(Female!AQ$18,'Female - Rev'!$A41-35,0),0.03999)","v":1.24E-2},{"$f":"MIN(OFFSET(Female!AR$18,'Female - Rev'!$A41-35,0),0.03999)","v":1.2699999999999999E-2},{"$f":"MIN(OFFSET(Female!AS$18,'Female - Rev'!$A41-35,0),0.03999)","v":1.2800000000000001E-2},{"$f":"MIN(OFFSET(Female!AT$18,'Female - Rev'!$A41-35,0),0.03999)","v":1.29E-2},{"$f":"MIN(OFFSET(Female!AU$18,'Female - Rev'!$A41-35,0),0.03999)","v":1.2999999999999999E-2},{"$f":"MIN(OFFSET(Female!AV$18,'Female - Rev'!$A41-35,0),0.03999)","v":1.3100000000000001E-2},{"$f":"MIN(OFFSET(Female!AW$18,'Female - Rev'!$A41-35,0),0.03999)","v":1.34E-2},{"$f":"MIN(OFFSET(Female!AX$18,'Female - Rev'!$A41-35,0),0.03999)","v":1.37E-2},{"$f":"MIN(OFFSET(Female!AY$18,'Female - Rev'!$A41-35,0),0.03999)","v":1.44E-2},{"$f":"MIN(OFFSET(Female!AZ$18,'Female - Rev'!$A41-35,0),0.03999)","v":1.5299999999999999E-2},{"$f":"MIN(OFFSET(Female!BA$18,'Female - Rev'!$A41-35,0),0.03999)","v":1.6299999999999999E-2},{"$f":"MIN(OFFSET(Female!BB$18,'Female - Rev'!$A41-35,0),0.03999)","v":1.7100000000000001E-2},{"$f":"MIN(OFFSET(Female!BC$18,'Female - Rev'!$A41-35,0),0.03999)","v":1.7500000000000002E-2},{"$f":"MIN(OFFSET(Female!BD$18,'Female - Rev'!$A41-35,0),0.03999)","v":1.7000000000000001E-2},{"$f":"MIN(OFFSET(Female!BE$18,'Female - Rev'!$A41-35,0),0.03999)","v":1.55E-2},{"$f":"MIN(OFFSET(Female!BF$18,'Female - Rev'!$A41-35,0),0.03999)","v":1.2999999999999999E-2},{"$f":"MIN(OFFSET(Female!BG$18,'Female - Rev'!$A41-35,0),0.03999)","v":9.5999999999999992E-3},{"$f":"MIN(OFFSET(Female!BH$18,'Female - Rev'!$A41-35,0),0.03999)","v":5.5999999999999999E-3},{"$f":"MIN(OFFSET(Female!BI$18,'Female - Rev'!$A41-35,0),0.03999)","v":1.2999999999999999E-3},{"$f":"MIN(OFFSET(Female!BJ$18,'Female - Rev'!$A41-35,0),0.03999)","v":-3.0000000000000001E-3},{"$f":"MIN(OFFSET(Female!BK$18,'Female - Rev'!$A41-35,0),0.03999)","v":-6.6E-3},{"$f":"MIN(OFFSET(Female!BL$18,'Female - Rev'!$A41-35,0),0.03999)","v":-9.4000000000000004E-3},{"$f":"MIN(OFFSET(Female!BM$18,'Female - Rev'!$A41-35,0),0.03999)","v":-1.12E-2},{"$f":"MIN(OFFSET(Female!BN$18,'Female - Rev'!$A41-35,0),0.03999)","v":-1.2200000000000001E-2},{"$f":"MIN(OFFSET(Female!BO$18,'Female - Rev'!$A41-35,0),0.03999)","v":-1.0999999999999999E-2},{"$f":"MIN(OFFSET(Female!BP$18,'Female - Rev'!$A41-35,0),0.03999)","v":-8.8999999999999999E-3},{"$f":"MIN(OFFSET(Female!BQ$18,'Female - Rev'!$A41-35,0),0.03999)","v":-6.1999999999999998E-3},{"$f":"MIN(OFFSET(Female!BR$18,'Female - Rev'!$A41-35,0),0.03999)","v":-3.0999999999999999E-3},{"$f":"MIN(OFFSET(Female!BS$18,'Female - Rev'!$A41-35,0),0.03999)","v":0},{"$f":"MIN(OFFSET(Female!BT$18,'Female - Rev'!$A41-35,0),0.03999)","v":2.8E-3},{"$f":"MIN(OFFSET(Female!BU$18,'Female - Rev'!$A41-35,0),0.03999)","v":5.1999999999999998E-3},{"$f":"MIN(OFFSET(Female!BV$18,'Female - Rev'!$A41-35,0),0.03999)","v":7.0000000000000001E-3},{"$f":"MIN(OFFSET(Female!BW$18,'Female - Rev'!$A41-35,0),0.03999)","v":8.0999999999999996E-3},{"$f":"MIN(OFFSET(Female!BX$18,'Female - Rev'!$A41-35,0),0.03999)","v":8.3999999999999995E-3},{"$f":"MIN(OFFSET(Female!BY$18,'Female - Rev'!$A41-35,0),0.03999)","v":8.3000000000000001E-3},{"$f":"MIN(OFFSET(Female!BZ$18,'Female - Rev'!$A41-35,0),0.03999)","v":8.0999999999999996E-3},{"$f":"MIN(OFFSET(Female!CA$18,'Female - Rev'!$A41-35,0),0.03999)","v":8.0000000000000002E-3},{"$f":"MIN(OFFSET(Female!CB$18,'Female - Rev'!$A41-35,0),0.03999)","v":8.0999999999999996E-3},{"$f":"MIN(OFFSET(Female!CC$18,'Female - Rev'!$A41-35,0),0.03999)","v":8.2000000000000007E-3},{"$f":"MIN(OFFSET(Female!CD$18,'Female - Rev'!$A41-35,0),0.03999)","v":8.6E-3},{"$f":"MIN(OFFSET(Female!CE$18,'Female - Rev'!$A41-35,0),0.03999)","v":8.9999999999999993E-3},{"$f":"MIN(OFFSET(Female!CF$18,'Female - Rev'!$A41-35,0),0.03999)","v":9.4999999999999998E-3},{"$f":"MIN(OFFSET(Female!CG$18,'Female - Rev'!$A41-35,0),0.03999)","v":9.7999999999999997E-3},{"$f":"MIN(OFFSET(Female!CH$18,'Female - Rev'!$A41-35,0),0.03999)","v":0.01}]
[56,56,{"$f":"MIN(OFFSET(Female!B$18,'Female - Rev'!$A42-35,0),0.03999)","v":2.9499999999999998E-2},{"$f":"MIN(OFFSET(Female!C$18,'Female - Rev'!$A42-35,0),0.03999)","v":2.76E-2},{"$f":"MIN(OFFSET(Female!D$18,'Female - Rev'!$A42-35,0),0.03999)","v":2.5700000000000001E-2},{"$f":"MIN(OFFSET(Female!E$18,'Female - Rev'!$A42-35,0),0.03999)","v":2.3599999999999999E-2},{"$f":"MIN(OFFSET(Female!F$18,'Female - Rev'!$A42-35,0),0.03999)","v":2.12E-2},{"$f":"MIN(OFFSET(Female!G$18,'Female - Rev'!$A42-35,0),0.03999)","v":1.89E-2},{"$f":"MIN(OFFSET(Female!H$18,'Female - Rev'!$A42-35,0),0.03999)","v":1.6799999999999999E-2},{"$f":"MIN(OFFSET(Female!I$18,'Female - Rev'!$A42-35,0),0.03999)","v":1.4800000000000001E-2},{"$f":"MIN(OFFSET(Female!J$18,'Female - Rev'!$A42-35,0),0.03999)","v":1.2999999999999999E-2},{"$f":"MIN(OFFSET(Female!K$18,'Female - Rev'!$A42-35,0),0.03999)","v":1.0999999999999999E-2},{"$f":"MIN(OFFSET(Female!L$18,'Female - Rev'!$A42-35,0),0.03999)","v":8.8999999999999999E-3},{"$f":"MIN(OFFSET(Female!M$18,'Female - Rev'!$A42-35,0),0.03999)","v":6.7000000000000002E-3},{"$f":"MIN(OFFSET(Female!N$18,'Female - Rev'!$A42-35,0),0.03999)","v":4.7000000000000002E-3},{"$f":"MIN(OFFSET(Female!O$18,'Female - Rev'!$A42-35,0),0.03999)","v":3.0000000000000001E-3},{"$f":"MIN(OFFSET(Female!P$18,'Female - Rev'!$A42-35,0),0.03999)","v":1.8E-3},{"$f":"MIN(OFFSET(Female!Q$18,'Female - Rev'!$A42-35,0),0.03999)","v":1.1999999999999999E-3},{"$f":"MIN(OFFSET(Female!R$18,'Female - Rev'!$A42-35,0),0.03999)","v":1.5E-3},{"$f":"MIN(OFFSET(Female!S$18,'Female - Rev'!$A42-35,0),0.03999)","v":2.8999999999999998E-3},{"$f":"MIN(OFFSET(Female!T$18,'Female - Rev'!$A42-35,0),0.03999)","v":5.4000000000000003E-3},{"$f":"MIN(OFFSET(Female!U$18,'Female - Rev'!$A42-35,0),0.03999)","v":8.6E-3},{"$f":"MIN(OFFSET(Female!V$18,'Female - Rev'!$A42-35,0),0.03999)","v":1.23E-2},{"$f":"MIN(OFFSET(Female!W$18,'Female - Rev'!$A42-35,0),0.03999)","v":1.61E-2},{"$f":"MIN(OFFSET(Female!X$18,'Female - Rev'!$A42-35,0),0.03999)","v":1.9400000000000001E-2},{"$f":"MIN(OFFSET(Female!Y$18,'Female - Rev'!$A42-35,0),0.03999)","v":2.18E-2},{"$f":"MIN(OFFSET(Female!Z$18,'Female - Rev'!$A42-35,0),0.03999)","v":2.3E-2},{"$f":"MIN(OFFSET(Female!AA$18,'Female - Rev'!$A42-35,0),0.03999)","v":2.2800000000000001E-2},{"$f":"MIN(OFFSET(Female!AB$18,'Female - Rev'!$A42-35,0),0.03999)","v":2.1299999999999999E-2},{"$f":"MIN(OFFSET(Female!AC$18,'Female - Rev'!$A42-35,0),0.03999)","v":1.8800000000000001E-2},{"$f":"MIN(OFFSET(Female!AD$18,'Female - Rev'!$A42-35,0),0.03999)","v":1.5699999999999999E-2},{"$f":"MIN(OFFSET(Female!AE$18,'Female - Rev'!$A42-35,0),0.03999)","v":1.26E-2},{"$f":"MIN(OFFSET(Female!AF$18,'Female - Rev'!$A42-35,0),0.03999)","v":0.01},{"$f":"MIN(OFFSET(Female!AG$18,'Female - Rev'!$A42-35,0),0.03999)","v":8.2000000000000007E-3},{"$f":"MIN(OFFSET(Female!AH$18,'Female - Rev'!$A42-35,0),0.03999)","v":7.1999999999999998E-3},{"$f":"MIN(OFFSET(Female!AI$18,'Female - Rev'!$A42-35,0),0.03999)","v":7.0000000000000001E-3},{"$f":"MIN(OFFSET(Female!AJ$18,'Female - Rev'!$A42-35,0),0.03999)","v":7.4000000000000003E-3},{"$f":"MIN(OFFSET(Female!AK$18,'Female - Rev'!$A42-35,0),0.03999)","v":8.0999999999999996E-3},{"$f":"MIN(OFFSET(Female!AL$18,'Female - Rev'!$A42-35,0),0.03999)","v":8.9999999999999993E-3},{"$f":"MIN(OFFSET(Female!AM$18,'Female - Rev'!$A42-35,0),0.03999)","v":0.01},{"$f":"MIN(OFFSET(Female!AN$18,'Female - Rev'!$A42-35,0),0.03999)","v":1.11E-2},{"$f":"MIN(OFFSET(Female!AO$18,'Female - Rev'!$A42-35,0),0.03999)","v":1.2E-2},{"$f":"MIN(OFFSET(Female!AP$18,'Female - Rev'!$A42-35,0),0.03999)","v":1.2699999999999999E-2},{"$f":"MIN(OFFSET(Female!AQ$18,'Female - Rev'!$A42-35,0),0.03999)","v":1.32E-2},{"$f":"MIN(OFFSET(Female!AR$18,'Female - Rev'!$A42-35,0),0.03999)","v":1.35E-2},{"$f":"MIN(OFFSET(Female!AS$18,'Female - Rev'!$A42-35,0),0.03999)","v":1.3599999999999999E-2},{"$f":"MIN(OFFSET(Female!AT$18,'Female - Rev'!$A42-35,0),0.03999)","v":1.37E-2},{"$f":"MIN(OFFSET(Female!AU$18,'Female - Rev'!$A42-35,0),0.03999)","v":1.37E-2},{"$f":"MIN(OFFSET(Female!AV$18,'Female - Rev'!$A42-35,0),0.03999)","v":1.37E-2},{"$f":"MIN(OFFSET(Female!AW$18,'Female - Rev'!$A42-35,0),0.03999)","v":1.35E-2},{"$f":"MIN(OFFSET(Female!AX$18,'Female - Rev'!$A42-35,0),0.03999)","v":1.35E-2},{"$f":"MIN(OFFSET(Female!AY$18,'Female - Rev'!$A42-35,0),0.03999)","v":1.3599999999999999E-2},{"$f":"MIN(OFFSET(Female!AZ$18,'Female - Rev'!$A42-35,0),0.03999)","v":1.3899999999999999E-2},{"$f":"MIN(OFFSET(Female!BA$18,'Female - Rev'!$A42-35,0),0.03999)","v":1.44E-2},{"$f":"MIN(OFFSET(Female!BB$18,'Female - Rev'!$A42-35,0),0.03999)","v":1.47E-2},{"$f":"MIN(OFFSET(Female!BC$18,'Female - Rev'!$A42-35,0),0.03999)","v":1.47E-2},{"$f":"MIN(OFFSET(Female!BD$18,'Female - Rev'!$A42-35,0),0.03999)","v":1.3899999999999999E-2},{"$f":"MIN(OFFSET(Female!BE$18,'Female - Rev'!$A42-35,0),0.03999)","v":1.24E-2},{"$f":"MIN(OFFSET(Female!BF$18,'Female - Rev'!$A42-35,0),0.03999)","v":0.01},{"$f":"MIN(OFFSET(Female!BG$18,'Female - Rev'!$A42-35,0),0.03999)","v":6.7999999999999996E-3},{"$f":"MIN(OFFSET(Female!BH$18,'Female - Rev'!$A42-35,0),0.03999)","v":3.2000000000000002E-3},{"$f":"MIN(OFFSET(Female!BI$18,'Female - Rev'!$A42-35,0),0.03999)","v":-5.9999999999999995E-4},{"$f":"MIN(OFFSET(Female!BJ$18,'Female - Rev'!$A42-35,0),0.03999)","v":-4.1999999999999997E-3},{"$f":"MIN(OFFSET(Female!BK$18,'Female - Rev'!$A42-35,0),0.03999)","v":-7.1999999999999998E-3},{"$f":"MIN(OFFSET(Female!BL$18,'Female - Rev'!$A42-35,0),0.03999)","v":-9.1999999999999998E-3},{"$f":"MIN(OFFSET(Female!BM$18,'Female - Rev'!$A42-35,0),0.03999)","v":-1.04E-2},{"$f":"MIN(OFFSET(Female!BN$18,'Female - Rev'!$A42-35,0),0.03999)","v":-1.06E-2},{"$f":"MIN(OFFSET(Female!BO$18,'Female - Rev'!$A42-35,0),0.03999)","v":-9.1999999999999998E-3},{"$f":"MIN(OFFSET(Female!BP$18,'Female - Rev'!$A42-35,0),0.03999)","v":-7.0000000000000001E-3},{"$f":"MIN(OFFSET(Female!BQ$18,'Female - Rev'!$A42-35,0),0.03999)","v":-4.3E-3},{"$f":"MIN(OFFSET(Female!BR$18,'Female - Rev'!$A42-35,0),0.03999)","v":-1.5E-3},{"$f":"MIN(OFFSET(Female!BS$18,'Female - Rev'!$A42-35,0),0.03999)","v":1.2999999999999999E-3},{"$f":"MIN(OFFSET(Female!BT$18,'Female - Rev'!$A42-35,0),0.03999)","v":3.7000000000000002E-3},{"$f":"MIN(OFFSET(Female!BU$18,'Female - Rev'!$A42-35,0),0.03999)","v":5.7000000000000002E-3},{"$f":"MIN(OFFSET(Female!BV$18,'Female - Rev'!$A42-35,0),0.03999)","v":7.1000000000000004E-3},{"$f":"MIN(OFFSET(Female!BW$18,'Female - Rev'!$A42-35,0),0.03999)","v":7.9000000000000008E-3},{"$f":"MIN(OFFSET(Female!BX$18,'Female - Rev'!$A42-35,0),0.03999)","v":8.0000000000000002E-3},{"$f":"MIN(OFFSET(Female!BY$18,'Female - Rev'!$A42-35,0),0.03999)","v":7.7000000000000002E-3},{"$f":"MIN(OFFSET(Female!BZ$18,'Female - Rev'!$A42-35,0),0.03999)","v":7.4999999999999997E-3},{"$f":"MIN(OFFSET(Female!CA$18,'Female - Rev'!$A42-35,0),0.03999)","v":7.4999999999999997E-3},{"$f":"MIN(OFFSET(Female!CB$18,'Female - Rev'!$A42-35,0),0.03999)","v":7.6E-3},{"$f":"MIN(OFFSET(Female!CC$18,'Female - Rev'!$A42-35,0),0.03999)","v":7.9000000000000008E-3},{"$f":"MIN(OFFSET(Female!CD$18,'Female - Rev'!$A42-35,0),0.03999)","v":8.3000000000000001E-3},{"$f":"MIN(OFFSET(Female!CE$18,'Female - Rev'!$A42-35,0),0.03999)","v":8.8999999999999999E-3},{"$f":"MIN(OFFSET(Female!CF$18,'Female - Rev'!$A42-35,0),0.03999)","v":9.4000000000000004E-3},{"$f":"MIN(OFFSET(Female!CG$18,'Female - Rev'!$A42-35,0),0.03999)","v":9.7999999999999997E-3},{"$f":"MIN(OFFSET(Female!CH$18,'Female - Rev'!$A42-35,0),0.03999)","v":0.01}]
[55,55,{"$f":"MIN(OFFSET(Female!B$18,'Female - Rev'!$A43-35,0),0.03999)","v":2.9000000000000001E-2},{"$f":"MIN(OFFSET(Female!C$18,'Female - Rev'!$A43-35,0),0.03999)","v":2.76E-2},{"$f":"MIN(OFFSET(Female!D$18,'Female - Rev'!$A43-35,0),0.03999)","v":2.5999999999999999E-2},{"$f":"MIN(OFFSET(Female!E$18,'Female - Rev'!$A43-35,0),0.03999)","v":2.4199999999999999E-2},{"$f":"MIN(OFFSET(Female!F$18,'Female - Rev'!$A43-35,0),0.03999)","v":2.2100000000000002E-2},{"$f":"MIN(OFFSET(Female!G$18,'Female - Rev'!$A43-35,0),0.03999)","v":1.9800000000000002E-2},{"$f":"MIN(OFFSET(Female!H$18,'Female - Rev'!$A43-35,0),0.03999)","v":1.7500000000000002E-2},{"$f":"MIN(OFFSET(Female!I$18,'Female - Rev'!$A43-35,0),0.03999)","v":1.5299999999999999E-2},{"$f":"MIN(OFFSET(Female!J$18,'Female - Rev'!$A43-35,0),0.03999)","v":1.3100000000000001E-2},{"$f":"MIN(OFFSET(Female!K$18,'Female - Rev'!$A43-35,0),0.03999)","v":1.0800000000000001E-2},{"$f":"MIN(OFFSET(Female!L$18,'Female - Rev'!$A43-35,0),0.03999)","v":8.3999999999999995E-3},{"$f":"MIN(OFFSET(Female!M$18,'Female - Rev'!$A43-35,0),0.03999)","v":5.8999999999999999E-3},{"$f":"MIN(OFFSET(Female!N$18,'Female - Rev'!$A43-35,0),0.03999)","v":3.7000000000000002E-3},{"$f":"MIN(OFFSET(Female!O$18,'Female - Rev'!$A43-35,0),0.03999)","v":2E-3},{"$f":"MIN(OFFSET(Female!P$18,'Female - Rev'!$A43-35,0),0.03999)","v":8.9999999999999998E-4},{"$f":"MIN(OFFSET(Female!Q$18,'Female - Rev'!$A43-35,0),0.03999)","v":5.0000000000000001E-4},{"$f":"MIN(OFFSET(Female!R$18,'Female - Rev'!$A43-35,0),0.03999)","v":1.1000000000000001E-3},{"$f":"MIN(OFFSET(Female!S$18,'Female - Rev'!$A43-35,0),0.03999)","v":2.8E-3},{"$f":"MIN(OFFSET(Female!T$18,'Female - Rev'!$A43-35,0),0.03999)","v":5.5999999999999999E-3},{"$f":"MIN(OFFSET(Female!U$18,'Female - Rev'!$A43-35,0),0.03999)","v":9.1000000000000004E-3},{"$f":"MIN(OFFSET(Female!V$18,'Female - Rev'!$A43-35,0),0.03999)","v":1.2999999999999999E-2},{"$f":"MIN(OFFSET(Female!W$18,'Female - Rev'!$A43-35,0),0.03999)","v":1.6799999999999999E-2},{"$f":"MIN(OFFSET(Female!X$18,'Female - Rev'!$A43-35,0),0.03999)","v":2.01E-2},{"$f":"MIN(OFFSET(Female!Y$18,'Female - Rev'!$A43-35,0),0.03999)","v":2.2499999999999999E-2},{"$f":"MIN(OFFSET(Female!Z$18,'Female - Rev'!$A43-35,0),0.03999)","v":2.3599999999999999E-2},{"$f":"MIN(OFFSET(Female!AA$18,'Female - Rev'!$A43-35,0),0.03999)","v":2.3400000000000001E-2},{"$f":"MIN(OFFSET(Female!AB$18,'Female - Rev'!$A43-35,0),0.03999)","v":2.1899999999999999E-2},{"$f":"MIN(OFFSET(Female!AC$18,'Female - Rev'!$A43-35,0),0.03999)","v":1.9599999999999999E-2},{"$f":"MIN(OFFSET(Female!AD$18,'Female - Rev'!$A43-35,0),0.03999)","v":1.67E-2},{"$f":"MIN(OFFSET(Female!AE$18,'Female - Rev'!$A43-35,0),0.03999)","v":1.38E-2},{"$f":"MIN(OFFSET(Female!AF$18,'Female - Rev'!$A43-35,0),0.03999)","v":1.1299999999999999E-2},{"$f":"MIN(OFFSET(Female!AG$18,'Female - Rev'!$A43-35,0),0.03999)","v":9.4999999999999998E-3},{"$f":"MIN(OFFSET(Female!AH$18,'Female - Rev'!$A43-35,0),0.03999)","v":8.3999999999999995E-3},{"$f":"MIN(OFFSET(Female!AI$18,'Female - Rev'!$A43-35,0),0.03999)","v":8.0000000000000002E-3},{"$f":"MIN(OFFSET(Female!AJ$18,'Female - Rev'!$A43-35,0),0.03999)","v":8.2000000000000007E-3},{"$f":"MIN(OFFSET(Female!AK$18,'Female - Rev'!$A43-35,0),0.03999)","v":8.8000000000000005E-3},{"$f":"MIN(OFFSET(Female!AL$18,'Female - Rev'!$A43-35,0),0.03999)","v":9.7000000000000003E-3},{"$f":"MIN(OFFSET(Female!AM$18,'Female - Rev'!$A43-35,0),0.03999)","v":1.0699999999999999E-2},{"$f":"MIN(OFFSET(Female!AN$18,'Female - Rev'!$A43-35,0),0.03999)","v":1.17E-2},{"$f":"MIN(OFFSET(Female!AO$18,'Female - Rev'!$A43-35,0),0.03999)","v":1.26E-2},{"$f":"MIN(OFFSET(Female!AP$18,'Female - Rev'!$A43-35,0),0.03999)","v":1.3299999999999999E-2},{"$f":"MIN(OFFSET(Female!AQ$18,'Female - Rev'!$A43-35,0),0.03999)","v":1.38E-2},{"$f":"MIN(OFFSET(Female!AR$18,'Female - Rev'!$A43-35,0),0.03999)","v":1.41E-2},{"$f":"MIN(OFFSET(Female!AS$18,'Female - Rev'!$A43-35,0),0.03999)","v":1.43E-2},{"$f":"MIN(OFFSET(Female!AT$18,'Female - Rev'!$A43-35,0),0.03999)","v":1.43E-2},{"$f":"MIN(OFFSET(Female!AU$18,'Female - Rev'!$A43-35,0),0.03999)","v":1.43E-2},{"$f":"MIN(OFFSET(Female!AV$18,'Female - Rev'!$A43-35,0),0.03999)","v":1.4E-2},{"$f":"MIN(OFFSET(Female!AW$18,'Female - Rev'!$A43-35,0),0.03999)","v":1.35E-2},{"$f":"MIN(OFFSET(Female!AX$18,'Female - Rev'!$A43-35,0),0.03999)","v":1.29E-2},{"$f":"MIN(OFFSET(Female!AY$18,'Female - Rev'!$A43-35,0),0.03999)","v":1.24E-2},{"$f":"MIN(OFFSET(Female!AZ$18,'Female - Rev'!$A43-35,0),0.03999)","v":1.21E-2},{"$f":"MIN(OFFSET(Female!BA$18,'Female - Rev'!$A43-35,0),0.03999)","v":1.2E-2},{"$f":"MIN(OFFSET(Female!BB$18,'Female - Rev'!$A43-35,0),0.03999)","v":1.18E-2},{"$f":"MIN(OFFSET(Female!BC$18,'Female - Rev'!$A43-35,0),0.03999)","v":1.15E-2},{"$f":"MIN(OFFSET(Female!BD$18,'Female - Rev'!$A43-35,0),0.03999)","v":1.06E-2},{"$f":"MIN(OFFSET(Female!BE$18,'Female - Rev'!$A43-35,0),0.03999)","v":9.1000000000000004E-3},{"$f":"MIN(OFFSET(Female!BF$18,'Female - Rev'!$A43-35,0),0.03999)","v":7.0000000000000001E-3},{"$f":"MIN(OFFSET(Female!BG$18,'Female - Rev'!$A43-35,0),0.03999)","v":4.3E-3},{"$f":"MIN(OFFSET(Female!BH$18,'Female - Rev'!$A43-35,0),0.03999)","v":1.2999999999999999E-3},{"$f":"MIN(OFFSET(Female!BI$18,'Female - Rev'!$A43-35,0),0.03999)","v":-1.8E-3},{"$f":"MIN(OFFSET(Female!BJ$18,'Female - Rev'!$A43-35,0),0.03999)","v":-4.5999999999999999E-3},{"$f":"MIN(OFFSET(Female!BK$18,'Female - Rev'!$A43-35,0),0.03999)","v":-6.7999999999999996E-3},{"$f":"MIN(OFFSET(Female!BL$18,'Female - Rev'!$A43-35,0),0.03999)","v":-8.3000000000000001E-3},{"$f":"MIN(OFFSET(Female!BM$18,'Female - Rev'!$A43-35,0),0.03999)","v":-8.8000000000000005E-3},{"$f":"MIN(OFFSET(Female!BN$18,'Female - Rev'!$A43-35,0),0.03999)","v":-8.5000000000000006E-3},{"$f":"MIN(OFFSET(Female!BO$18,'Female - Rev'!$A43-35,0),0.03999)","v":-6.8999999999999999E-3},{"$f":"MIN(OFFSET(Female!BP$18,'Female - Rev'!$A43-35,0),0.03999)","v":-4.7000000000000002E-3},{"$f":"MIN(OFFSET(Female!BQ$18,'Female - Rev'!$A43-35,0),0.03999)","v":-2.3E-3},{"$f":"MIN(OFFSET(Female!BR$18,'Female - Rev'!$A43-35,0),0.03999)","v":2.0000000000000001E-4},{"$f":"MIN(OFFSET(Female!BS$18,'Female - Rev'!$A43-35,0),0.03999)","v":2.5000000000000001E-3},{"$f":"MIN(OFFSET(Female!BT$18,'Female - Rev'!$A43-35,0),0.03999)","v":4.4999999999999997E-3},{"$f":"MIN(OFFSET(Female!BU$18,'Female - Rev'!$A43-35,0),0.03999)","v":6.0000000000000001E-3},{"$f":"MIN(OFFSET(Female!BV$18,'Female - Rev'!$A43-35,0),0.03999)","v":7.0000000000000001E-3},{"$f":"MIN(OFFSET(Female!BW$18,'Female - Rev'!$A43-35,0),0.03999)","v":7.4000000000000003E-3},{"$f":"MIN(OFFSET(Female!BX$18,'Female - Rev'!$A43-35,0),0.03999)","v":7.3000000000000001E-3},{"$f":"MIN(OFFSET(Female!BY$18,'Female - Rev'!$A43-35,0),0.03999)","v":7.0000000000000001E-3},{"$f":"MIN(OFFSET(Female!BZ$18,'Female - Rev'!$A43-35,0),0.03999)","v":6.7999999999999996E-3},{"$f":"MIN(OFFSET(Female!CA$18,'Female - Rev'!$A43-35,0),0.03999)","v":6.7999999999999996E-3},{"$f":"MIN(OFFSET(Female!CB$18,'Female - Rev'!$A43-35,0),0.03999)","v":7.1000000000000004E-3},{"$f":"MIN(OFFSET(Female!CC$18,'Female - Rev'!$A43-35,0),0.03999)","v":7.4999999999999997E-3},{"$f":"MIN(OFFSET(Female!CD$18,'Female - Rev'!$A43-35,0),0.03999)","v":8.0999999999999996E-3},{"$f":"MIN(OFFSET(Female!CE$18,'Female - Rev'!$A43-35,0),0.03999)","v":8.6999999999999994E-3},{"$f":"MIN(OFFSET(Female!CF$18,'Female - Rev'!$A43-35,0),0.03999)","v":9.4000000000000004E-3},{"$f":"MIN(OFFSET(Female!CG$18,'Female - Rev'!$A43-35,0),0.03999)","v":9.7999999999999997E-3},{"$f":"MIN(OFFSET(Female!CH$18,'Female - Rev'!$A43-35,0),0.03999)","v":0.01}]
[54,54,{"$f":"MIN(OFFSET(Female!B$18,'Female - Rev'!$A44-35,0),0.03999)","v":2.8799999999999999E-2},{"$f":"MIN(OFFSET(Female!C$18,'Female - Rev'!$A44-35,0),0.03999)","v":2.7699999999999999E-2},{"$f":"MIN(OFFSET(Female!D$18,'Female - Rev'!$A44-35,0),0.03999)","v":2.64E-2},{"$f":"MIN(OFFSET(Female!E$18,'Female - Rev'!$A44-35,0),0.03999)","v":2.4899999999999999E-2},{"$f":"MIN(OFFSET(Female!F$18,'Female - Rev'!$A44-35,0),0.03999)","v":2.2800000000000001E-2},{"$f":"MIN(OFFSET(Female!G$18,'Female - Rev'!$A44-35,0),0.03999)","v":2.0500000000000001E-2},{"$f":"MIN(OFFSET(Female!H$18,'Female - Rev'!$A44-35,0),0.03999)","v":1.7899999999999999E-2},{"$f":"MIN(OFFSET(Female!I$18,'Female - Rev'!$A44-35,0),0.03999)","v":1.54E-2},{"$f":"MIN(OFFSET(Female!J$18,'Female - Rev'!$A44-35,0),0.03999)","v":1.29E-2},{"$f":"MIN(OFFSET(Female!K$18,'Female - Rev'!$A44-35,0),0.03999)","v":1.0200000000000001E-2},{"$f":"MIN(OFFSET(Female!L$18,'Female - Rev'!$A44-35,0),0.03999)","v":7.4999999999999997E-3},{"$f":"MIN(OFFSET(Female!M$18,'Female - Rev'!$A44-35,0),0.03999)","v":4.8999999999999998E-3},{"$f":"MIN(OFFSET(Female!N$18,'Female - Rev'!$A44-35,0),0.03999)","v":2.5999999999999999E-3},{"$f":"MIN(OFFSET(Female!O$18,'Female - Rev'!$A44-35,0),0.03999)","v":1E-3},{"$f":"MIN(OFFSET(Female!P$18,'Female - Rev'!$A44-35,0),0.03999)","v":2.0000000000000001E-4},{"$f":"MIN(OFFSET(Female!Q$18,'Female - Rev'!$A44-35,0),0.03999)","v":2.0000000000000001E-4},{"$f":"MIN(OFFSET(Female!R$18,'Female - Rev'!$A44-35,0),0.03999)","v":1.1000000000000001E-3},{"$f":"MIN(OFFSET(Female!S$18,'Female - Rev'!$A44-35,0),0.03999)","v":3.0999999999999999E-3},{"$f":"MIN(OFFSET(Female!T$18,'Female - Rev'!$A44-35,0),0.03999)","v":6.1000000000000004E-3},{"$f":"MIN(OFFSET(Female!U$18,'Female - Rev'!$A44-35,0),0.03999)","v":9.7000000000000003E-3},{"$f":"MIN(OFFSET(Female!V$18,'Female - Rev'!$A44-35,0),0.03999)","v":1.37E-2},{"$f":"MIN(OFFSET(Female!W$18,'Female - Rev'!$A44-35,0),0.03999)","v":1.7500000000000002E-2},{"$f":"MIN(OFFSET(Female!X$18,'Female - Rev'!$A44-35,0),0.03999)","v":2.0799999999999999E-2},{"$f":"MIN(OFFSET(Female!Y$18,'Female - Rev'!$A44-35,0),0.03999)","v":2.3E-2},{"$f":"MIN(OFFSET(Female!Z$18,'Female - Rev'!$A44-35,0),0.03999)","v":2.41E-2},{"$f":"MIN(OFFSET(Female!AA$18,'Female - Rev'!$A44-35,0),0.03999)","v":2.3800000000000002E-2},{"$f":"MIN(OFFSET(Female!AB$18,'Female - Rev'!$A44-35,0),0.03999)","v":2.2499999999999999E-2},{"$f":"MIN(OFFSET(Female!AC$18,'Female - Rev'!$A44-35,0),0.03999)","v":2.0400000000000001E-2},{"$f":"MIN(OFFSET(Female!AD$18,'Female - Rev'!$A44-35,0),0.03999)","v":1.78E-2},{"$f":"MIN(OFFSET(Female!AE$18,'Female - Rev'!$A44-35,0),0.03999)","v":1.5100000000000001E-2},{"$f":"MIN(OFFSET(Female!AF$18,'Female - Rev'!$A44-35,0),0.03999)","v":1.2800000000000001E-2},{"$f":"MIN(OFFSET(Female!AG$18,'Female - Rev'!$A44-35,0),0.03999)","v":1.09E-2},{"$f":"MIN(OFFSET(Female!AH$18,'Female - Rev'!$A44-35,0),0.03999)","v":9.7000000000000003E-3},{"$f":"MIN(OFFSET(Female!AI$18,'Female - Rev'!$A44-35,0),0.03999)","v":9.1000000000000004E-3},{"$f":"MIN(OFFSET(Female!AJ$18,'Female - Rev'!$A44-35,0),0.03999)","v":8.9999999999999993E-3},{"$f":"MIN(OFFSET(Female!AK$18,'Female - Rev'!$A44-35,0),0.03999)","v":9.4999999999999998E-3},{"$f":"MIN(OFFSET(Female!AL$18,'Female - Rev'!$A44-35,0),0.03999)","v":1.04E-2},{"$f":"MIN(OFFSET(Female!AM$18,'Female - Rev'!$A44-35,0),0.03999)","v":1.14E-2},{"$f":"MIN(OFFSET(Female!AN$18,'Female - Rev'!$A44-35,0),0.03999)","v":1.24E-2},{"$f":"MIN(OFFSET(Female!AO$18,'Female - Rev'!$A44-35,0),0.03999)","v":1.3299999999999999E-2},{"$f":"MIN(OFFSET(Female!AP$18,'Female - Rev'!$A44-35,0),0.03999)","v":1.3899999999999999E-2},{"$f":"MIN(OFFSET(Female!AQ$18,'Female - Rev'!$A44-35,0),0.03999)","v":1.43E-2},{"$f":"MIN(OFFSET(Female!AR$18,'Female - Rev'!$A44-35,0),0.03999)","v":1.4500000000000001E-2},{"$f":"MIN(OFFSET(Female!AS$18,'Female - Rev'!$A44-35,0),0.03999)","v":1.47E-2},{"$f":"MIN(OFFSET(Female!AT$18,'Female - Rev'!$A44-35,0),0.03999)","v":1.47E-2},{"$f":"MIN(OFFSET(Female!AU$18,'Female - Rev'!$A44-35,0),0.03999)","v":1.46E-2},{"$f":"MIN(OFFSET(Female!AV$18,'Female - Rev'!$A44-35,0),0.03999)","v":1.41E-2},{"$f":"MIN(OFFSET(Female!AW$18,'Female - Rev'!$A44-35,0),0.03999)","v":1.32E-2},{"$f":"MIN(OFFSET(Female!AX$18,'Female - Rev'!$A44-35,0),0.03999)","v":1.2E-2},{"$f":"MIN(OFFSET(Female!AY$18,'Female - Rev'!$A44-35,0),0.03999)","v":1.0800000000000001E-2},{"$f":"MIN(OFFSET(Female!AZ$18,'Female - Rev'!$A44-35,0),0.03999)","v":9.7999999999999997E-3},{"$f":"MIN(OFFSET(Female!BA$18,'Female - Rev'!$A44-35,0),0.03999)","v":9.1000000000000004E-3},{"$f":"MIN(OFFSET(Female!BB$18,'Female - Rev'!$A44-35,0),0.03999)","v":8.5000000000000006E-3},{"$f":"MIN(OFFSET(Female!BC$18,'Female - Rev'!$A44-35,0),0.03999)","v":7.9000000000000008E-3},{"$f":"MIN(OFFSET(Female!BD$18,'Female - Rev'!$A44-35,0),0.03999)","v":7.1000000000000004E-3},{"$f":"MIN(OFFSET(Female!BE$18,'Female - Rev'!$A44-35,0),0.03999)","v":5.8999999999999999E-3},{"$f":"MIN(OFFSET(Female!BF$18,'Female - Rev'!$A44-35,0),0.03999)","v":4.3E-3},{"$f":"MIN(OFFSET(Female!BG$18,'Female - Rev'!$A44-35,0),0.03999)","v":2.3999999999999998E-3},{"$f":"MIN(OFFSET(Female!BH$18,'Female - Rev'!$A44-35,0),0.03999)","v":1E-4},{"$f":"MIN(OFFSET(Female!BI$18,'Female - Rev'!$A44-35,0),0.03999)","v":-2.0999999999999999E-3},{"$f":"MIN(OFFSET(Female!BJ$18,'Female - Rev'!$A44-35,0),0.03999)","v":-4.1000000000000003E-3},{"$f":"MIN(OFFSET(Female!BK$18,'Female - Rev'!$A44-35,0),0.03999)","v":-5.7000000000000002E-3},{"$f":"MIN(OFFSET(Female!BL$18,'Female - Rev'!$A44-35,0),0.03999)","v":-6.4999999999999997E-3},{"$f":"MIN(OFFSET(Female!BM$18,'Female - Rev'!$A44-35,0),0.03999)","v":-6.6E-3},{"$f":"MIN(OFFSET(Female!BN$18,'Female - Rev'!$A44-35,0),0.03999)","v":-6.0000000000000001E-3},{"$f":"MIN(OFFSET(Female!BO$18,'Female - Rev'!$A44-35,0),0.03999)","v":-4.3E-3},{"$f":"MIN(OFFSET(Female!BP$18,'Female - Rev'!$A44-35,0),0.03999)","v":-2.3E-3},{"$f":"MIN(OFFSET(Female!BQ$18,'Female - Rev'!$A44-35,0),0.03999)","v":-2.0000000000000001E-4},{"$f":"MIN(OFFSET(Female!BR$18,'Female - Rev'!$A44-35,0),0.03999)","v":1.8E-3},{"$f":"MIN(OFFSET(Female!BS$18,'Female - Rev'!$A44-35,0),0.03999)","v":3.5999999999999999E-3},{"$f":"MIN(OFFSET(Female!BT$18,'Female - Rev'!$A44-35,0),0.03999)","v":5.0000000000000001E-3},{"$f":"MIN(OFFSET(Female!BU$18,'Female - Rev'!$A44-35,0),0.03999)","v":6.0000000000000001E-3},{"$f":"MIN(OFFSET(Female!BV$18,'Female - Rev'!$A44-35,0),0.03999)","v":6.4999999999999997E-3},{"$f":"MIN(OFFSET(Female!BW$18,'Female - Rev'!$A44-35,0),0.03999)","v":6.7000000000000002E-3},{"$f":"MIN(OFFSET(Female!BX$18,'Female - Rev'!$A44-35,0),0.03999)","v":6.4999999999999997E-3},{"$f":"MIN(OFFSET(Female!BY$18,'Female - Rev'!$A44-35,0),0.03999)","v":6.1999999999999998E-3},{"$f":"MIN(OFFSET(Female!BZ$18,'Female - Rev'!$A44-35,0),0.03999)","v":6.0000000000000001E-3},{"$f":"MIN(OFFSET(Female!CA$18,'Female - Rev'!$A44-35,0),0.03999)","v":6.1999999999999998E-3},{"$f":"MIN(OFFSET(Female!CB$18,'Female - Rev'!$A44-35,0),0.03999)","v":6.4999999999999997E-3},{"$f":"MIN(OFFSET(Female!CC$18,'Female - Rev'!$A44-35,0),0.03999)","v":7.1000000000000004E-3},{"$f":"MIN(OFFSET(Female!CD$18,'Female - Rev'!$A44-35,0),0.03999)","v":7.7999999999999996E-3},{"$f":"MIN(OFFSET(Female!CE$18,'Female - Rev'!$A44-35,0),0.03999)","v":8.6E-3},{"$f":"MIN(OFFSET(Female!CF$18,'Female - Rev'!$A44-35,0),0.03999)","v":9.2999999999999992E-3},{"$f":"MIN(OFFSET(Female!CG$18,'Female - Rev'!$A44-35,0),0.03999)","v":9.7999999999999997E-3},{"$f":"MIN(OFFSET(Female!CH$18,'Female - Rev'!$A44-35,0),0.03999)","v":0.01}]
[53,53,{"$f":"MIN(OFFSET(Female!B$18,'Female - Rev'!$A45-35,0),0.03999)","v":2.9100000000000001E-2},{"$f":"MIN(OFFSET(Female!C$18,'Female - Rev'!$A45-35,0),0.03999)","v":2.81E-2},{"$f":"MIN(OFFSET(Female!D$18,'Female - Rev'!$A45-35,0),0.03999)","v":2.7E-2},{"$f":"MIN(OFFSET(Female!E$18,'Female - Rev'!$A45-35,0),0.03999)","v":2.5499999999999998E-2},{"$f":"MIN(OFFSET(Female!F$18,'Female - Rev'!$A45-35,0),0.03999)","v":2.35E-2},{"$f":"MIN(OFFSET(Female!G$18,'Female - Rev'!$A45-35,0),0.03999)","v":2.0899999999999998E-2},{"$f":"MIN(OFFSET(Female!H$18,'Female - Rev'!$A45-35,0),0.03999)","v":1.8100000000000002E-2},{"$f":"MIN(OFFSET(Female!I$18,'Female - Rev'!$A45-35,0),0.03999)","v":1.52E-2},{"$f":"MIN(OFFSET(Female!J$18,'Female - Rev'!$A45-35,0),0.03999)","v":1.23E-2},{"$f":"MIN(OFFSET(Female!K$18,'Female - Rev'!$A45-35,0),0.03999)","v":9.2999999999999992E-3},{"$f":"MIN(OFFSET(Female!L$18,'Female - Rev'!$A45-35,0),0.03999)","v":6.4000000000000003E-3},{"$f":"MIN(OFFSET(Female!M$18,'Female - Rev'!$A45-35,0),0.03999)","v":3.7000000000000002E-3},{"$f":"MIN(OFFSET(Female!N$18,'Female - Rev'!$A45-35,0),0.03999)","v":1.6000000000000001E-3},{"$f":"MIN(OFFSET(Female!O$18,'Female - Rev'!$A45-35,0),0.03999)","v":2.0000000000000001E-4},{"$f":"MIN(OFFSET(Female!P$18,'Female - Rev'!$A45-35,0),0.03999)","v":-4.0000000000000002E-4},{"$f":"MIN(OFFSET(Female!Q$18,'Female - Rev'!$A45-35,0),0.03999)","v":0},{"$f":"MIN(OFFSET(Female!R$18,'Female - Rev'!$A45-35,0),0.03999)","v":1.2999999999999999E-3},{"$f":"MIN(OFFSET(Female!S$18,'Female - Rev'!$A45-35,0),0.03999)","v":3.5000000000000001E-3},{"$f":"MIN(OFFSET(Female!T$18,'Female - Rev'!$A45-35,0),0.03999)","v":6.7000000000000002E-3},{"$f":"MIN(OFFSET(Female!U$18,'Female - Rev'!$A45-35,0),0.03999)","v":1.0500000000000001E-2},{"$f":"MIN(OFFSET(Female!V$18,'Female - Rev'!$A45-35,0),0.03999)","v":1.4500000000000001E-2},{"$f":"MIN(OFFSET(Female!W$18,'Female - Rev'!$A45-35,0),0.03999)","v":1.83E-2},{"$f":"MIN(OFFSET(Female!X$18,'Female - Rev'!$A45-35,0),0.03999)","v":2.1399999999999999E-2},{"$f":"MIN(OFFSET(Female!Y$18,'Female - Rev'!$A45-35,0),0.03999)","v":2.3599999999999999E-2},{"$f":"MIN(OFFSET(Female!Z$18,'Female - Rev'!$A45-35,0),0.03999)","v":2.4500000000000001E-2},{"$f":"MIN(OFFSET(Female!AA$18,'Female - Rev'!$A45-35,0),0.03999)","v":2.4299999999999999E-2},{"$f":"MIN(OFFSET(Female!AB$18,'Female - Rev'!$A45-35,0),0.03999)","v":2.3099999999999999E-2},{"$f":"MIN(OFFSET(Female!AC$18,'Female - Rev'!$A45-35,0),0.03999)","v":2.1299999999999999E-2},{"$f":"MIN(OFFSET(Female!AD$18,'Female - Rev'!$A45-35,0),0.03999)","v":1.9E-2},{"$f":"MIN(OFFSET(Female!AE$18,'Female - Rev'!$A45-35,0),0.03999)","v":1.66E-2},{"$f":"MIN(OFFSET(Female!AF$18,'Female - Rev'!$A45-35,0),0.03999)","v":1.44E-2},{"$f":"MIN(OFFSET(Female!AG$18,'Female - Rev'!$A45-35,0),0.03999)","v":1.2500000000000001E-2},{"$f":"MIN(OFFSET(Female!AH$18,'Female - Rev'!$A45-35,0),0.03999)","v":1.11E-2},{"$f":"MIN(OFFSET(Female!AI$18,'Female - Rev'!$A45-35,0),0.03999)","v":1.03E-2},{"$f":"MIN(OFFSET(Female!AJ$18,'Female - Rev'!$A45-35,0),0.03999)","v":1.01E-2},{"$f":"MIN(OFFSET(Female!AK$18,'Female - Rev'!$A45-35,0),0.03999)","v":1.04E-2},{"$f":"MIN(OFFSET(Female!AL$18,'Female - Rev'!$A45-35,0),0.03999)","v":1.12E-2},{"$f":"MIN(OFFSET(Female!AM$18,'Female - Rev'!$A45-35,0),0.03999)","v":1.21E-2},{"$f":"MIN(OFFSET(Female!AN$18,'Female - Rev'!$A45-35,0),0.03999)","v":1.3100000000000001E-2},{"$f":"MIN(OFFSET(Female!AO$18,'Female - Rev'!$A45-35,0),0.03999)","v":1.38E-2},{"$f":"MIN(OFFSET(Female!AP$18,'Female - Rev'!$A45-35,0),0.03999)","v":1.43E-2},{"$f":"MIN(OFFSET(Female!AQ$18,'Female - Rev'!$A45-35,0),0.03999)","v":1.46E-2},{"$f":"MIN(OFFSET(Female!AR$18,'Female - Rev'!$A45-35,0),0.03999)","v":1.47E-2},{"$f":"MIN(OFFSET(Female!AS$18,'Female - Rev'!$A45-35,0),0.03999)","v":1.4800000000000001E-2},{"$f":"MIN(OFFSET(Female!AT$18,'Female - Rev'!$A45-35,0),0.03999)","v":1.4800000000000001E-2},{"$f":"MIN(OFFSET(Female!AU$18,'Female - Rev'!$A45-35,0),0.03999)","v":1.4500000000000001E-2},{"$f":"MIN(OFFSET(Female!AV$18,'Female - Rev'!$A45-35,0),0.03999)","v":1.38E-2},{"$f":"MIN(OFFSET(Female!AW$18,'Female - Rev'!$A45-35,0),0.03999)","v":1.2500000000000001E-2},{"$f":"MIN(OFFSET(Female!AX$18,'Female - Rev'!$A45-35,0),0.03999)","v":1.0699999999999999E-2},{"$f":"MIN(OFFSET(Female!AY$18,'Female - Rev'!$A45-35,0),0.03999)","v":8.8000000000000005E-3},{"$f":"MIN(OFFSET(Female!AZ$18,'Female - Rev'!$A45-35,0),0.03999)","v":7.1999999999999998E-3},{"$f":"MIN(OFFSET(Female!BA$18,'Female - Rev'!$A45-35,0),0.03999)","v":5.8999999999999999E-3},{"$f":"MIN(OFFSET(Female!BB$18,'Female - Rev'!$A45-35,0),0.03999)","v":5.0000000000000001E-3},{"$f":"MIN(OFFSET(Female!BC$18,'Female - Rev'!$A45-35,0),0.03999)","v":4.4000000000000003E-3},{"$f":"MIN(OFFSET(Female!BD$18,'Female - Rev'!$A45-35,0),0.03999)","v":3.7000000000000002E-3},{"$f":"MIN(OFFSET(Female!BE$18,'Female - Rev'!$A45-35,0),0.03999)","v":3.0999999999999999E-3},{"$f":"MIN(OFFSET(Female!BF$18,'Female - Rev'!$A45-35,0),0.03999)","v":2.2000000000000001E-3},{"$f":"MIN(OFFSET(Female!BG$18,'Female - Rev'!$A45-35,0),0.03999)","v":1.1000000000000001E-3},{"$f":"MIN(OFFSET(Female!BH$18,'Female - Rev'!$A45-35,0),0.03999)","v":-2.0000000000000001E-4},{"$f":"MIN(OFFSET(Female!BI$18,'Female - Rev'!$A45-35,0),0.03999)","v":-1.6000000000000001E-3},{"$f":"MIN(OFFSET(Female!BJ$18,'Female - Rev'!$A45-35,0),0.03999)","v":-2.8E-3},{"$f":"MIN(OFFSET(Female!BK$18,'Female - Rev'!$A45-35,0),0.03999)","v":-3.8E-3},{"$f":"MIN(OFFSET(Female!BL$18,'Female - Rev'!$A45-35,0),0.03999)","v":-4.1999999999999997E-3},{"$f":"MIN(OFFSET(Female!BM$18,'Female - Rev'!$A45-35,0),0.03999)","v":-4.1000000000000003E-3},{"$f":"MIN(OFFSET(Female!BN$18,'Female - Rev'!$A45-35,0),0.03999)","v":-3.3E-3},{"$f":"MIN(OFFSET(Female!BO$18,'Female - Rev'!$A45-35,0),0.03999)","v":-1.6999999999999999E-3},{"$f":"MIN(OFFSET(Female!BP$18,'Female - Rev'!$A45-35,0),0.03999)","v":0},{"$f":"MIN(OFFSET(Female!BQ$18,'Female - Rev'!$A45-35,0),0.03999)","v":1.6000000000000001E-3},{"$f":"MIN(OFFSET(Female!BR$18,'Female - Rev'!$A45-35,0),0.03999)","v":3.0999999999999999E-3},{"$f":"MIN(OFFSET(Female!BS$18,'Female - Rev'!$A45-35,0),0.03999)","v":4.3E-3},{"$f":"MIN(OFFSET(Female!BT$18,'Female - Rev'!$A45-35,0),0.03999)","v":5.1999999999999998E-3},{"$f":"MIN(OFFSET(Female!BU$18,'Female - Rev'!$A45-35,0),0.03999)","v":5.7000000000000002E-3},{"$f":"MIN(OFFSET(Female!BV$18,'Female - Rev'!$A45-35,0),0.03999)","v":5.8999999999999999E-3},{"$f":"MIN(OFFSET(Female!BW$18,'Female - Rev'!$A45-35,0),0.03999)","v":5.7999999999999996E-3},{"$f":"MIN(OFFSET(Female!BX$18,'Female - Rev'!$A45-35,0),0.03999)","v":5.4999999999999997E-3},{"$f":"MIN(OFFSET(Female!BY$18,'Female - Rev'!$A45-35,0),0.03999)","v":5.1999999999999998E-3},{"$f":"MIN(OFFSET(Female!BZ$18,'Female - Rev'!$A45-35,0),0.03999)","v":5.1999999999999998E-3},{"$f":"MIN(OFFSET(Female!CA$18,'Female - Rev'!$A45-35,0),0.03999)","v":5.4999999999999997E-3},{"$f":"MIN(OFFSET(Female!CB$18,'Female - Rev'!$A45-35,0),0.03999)","v":6.0000000000000001E-3},{"$f":"MIN(OFFSET(Female!CC$18,'Female - Rev'!$A45-35,0),0.03999)","v":6.7999999999999996E-3},{"$f":"MIN(OFFSET(Female!CD$18,'Female - Rev'!$A45-35,0),0.03999)","v":7.6E-3},{"$f":"MIN(OFFSET(Female!CE$18,'Female - Rev'!$A45-35,0),0.03999)","v":8.5000000000000006E-3},{"$f":"MIN(OFFSET(Female!CF$18,'Female - Rev'!$A45-35,0),0.03999)","v":9.2999999999999992E-3},{"$f":"MIN(OFFSET(Female!CG$18,'Female - Rev'!$A45-35,0),0.03999)","v":9.7999999999999997E-3},{"$f":"MIN(OFFSET(Female!CH$18,'Female - Rev'!$A45-35,0),0.03999)","v":0.01}]
[52,52,{"$f":"MIN(OFFSET(Female!B$18,'Female - Rev'!$A46-35,0),0.03999)","v":0.03},{"$f":"MIN(OFFSET(Female!C$18,'Female - Rev'!$A46-35,0),0.03999)","v":2.8899999999999999E-2},{"$f":"MIN(OFFSET(Female!D$18,'Female - Rev'!$A46-35,0),0.03999)","v":2.7699999999999999E-2},{"$f":"MIN(OFFSET(Female!E$18,'Female - Rev'!$A46-35,0),0.03999)","v":2.6100000000000002E-2},{"$f":"MIN(OFFSET(Female!F$18,'Female - Rev'!$A46-35,0),0.03999)","v":2.3900000000000001E-2},{"$f":"MIN(OFFSET(Female!G$18,'Female - Rev'!$A46-35,0),0.03999)","v":2.1100000000000001E-2},{"$f":"MIN(OFFSET(Female!H$18,'Female - Rev'!$A46-35,0),0.03999)","v":1.7999999999999999E-2},{"$f":"MIN(OFFSET(Female!I$18,'Female - Rev'!$A46-35,0),0.03999)","v":1.4800000000000001E-2},{"$f":"MIN(OFFSET(Female!J$18,'Female - Rev'!$A46-35,0),0.03999)","v":1.15E-2},{"$f":"MIN(OFFSET(Female!K$18,'Female - Rev'!$A46-35,0),0.03999)","v":8.3000000000000001E-3},{"$f":"MIN(OFFSET(Female!L$18,'Female - Rev'!$A46-35,0),0.03999)","v":5.1999999999999998E-3},{"$f":"MIN(OFFSET(Female!M$18,'Female - Rev'!$A46-35,0),0.03999)","v":2.5999999999999999E-3},{"$f":"MIN(OFFSET(Female!N$18,'Female - Rev'!$A46-35,0),0.03999)","v":5.0000000000000001E-4},{"$f":"MIN(OFFSET(Female!O$18,'Female - Rev'!$A46-35,0),0.03999)","v":-5.9999999999999995E-4},{"$f":"MIN(OFFSET(Female!P$18,'Female - Rev'!$A46-35,0),0.03999)","v":-8.0000000000000004E-4},{"$f":"MIN(OFFSET(Female!Q$18,'Female - Rev'!$A46-35,0),0.03999)","v":-1E-4},{"$f":"MIN(OFFSET(Female!R$18,'Female - Rev'!$A46-35,0),0.03999)","v":1.5E-3},{"$f":"MIN(OFFSET(Female!S$18,'Female - Rev'!$A46-35,0),0.03999)","v":4.0000000000000001E-3},{"$f":"MIN(OFFSET(Female!T$18,'Female - Rev'!$A46-35,0),0.03999)","v":7.3000000000000001E-3},{"$f":"MIN(OFFSET(Female!U$18,'Female - Rev'!$A46-35,0),0.03999)","v":1.12E-2},{"$f":"MIN(OFFSET(Female!V$18,'Female - Rev'!$A46-35,0),0.03999)","v":1.52E-2},{"$f":"MIN(OFFSET(Female!W$18,'Female - Rev'!$A46-35,0),0.03999)","v":1.9E-2},{"$f":"MIN(OFFSET(Female!X$18,'Female - Rev'!$A46-35,0),0.03999)","v":2.1999999999999999E-2},{"$f":"MIN(OFFSET(Female!Y$18,'Female - Rev'!$A46-35,0),0.03999)","v":2.41E-2},{"$f":"MIN(OFFSET(Female!Z$18,'Female - Rev'!$A46-35,0),0.03999)","v":2.5100000000000001E-2},{"$f":"MIN(OFFSET(Female!AA$18,'Female - Rev'!$A46-35,0),0.03999)","v":2.5000000000000001E-2},{"$f":"MIN(OFFSET(Female!AB$18,'Female - Rev'!$A46-35,0),0.03999)","v":2.3900000000000001E-2},{"$f":"MIN(OFFSET(Female!AC$18,'Female - Rev'!$A46-35,0),0.03999)","v":2.23E-2},{"$f":"MIN(OFFSET(Female!AD$18,'Female - Rev'!$A46-35,0),0.03999)","v":2.0299999999999999E-2},{"$f":"MIN(OFFSET(Female!AE$18,'Female - Rev'!$A46-35,0),0.03999)","v":1.8200000000000001E-2},{"$f":"MIN(OFFSET(Female!AF$18,'Female - Rev'!$A46-35,0),0.03999)","v":1.61E-2},{"$f":"MIN(OFFSET(Female!AG$18,'Female - Rev'!$A46-35,0),0.03999)","v":1.4200000000000001E-2},{"$f":"MIN(OFFSET(Female!AH$18,'Female - Rev'!$A46-35,0),0.03999)","v":1.2699999999999999E-2},{"$f":"MIN(OFFSET(Female!AI$18,'Female - Rev'!$A46-35,0),0.03999)","v":1.17E-2},{"$f":"MIN(OFFSET(Female!AJ$18,'Female - Rev'!$A46-35,0),0.03999)","v":1.12E-2},{"$f":"MIN(OFFSET(Female!AK$18,'Female - Rev'!$A46-35,0),0.03999)","v":1.14E-2},{"$f":"MIN(OFFSET(Female!AL$18,'Female - Rev'!$A46-35,0),0.03999)","v":1.2E-2},{"$f":"MIN(OFFSET(Female!AM$18,'Female - Rev'!$A46-35,0),0.03999)","v":1.2800000000000001E-2},{"$f":"MIN(OFFSET(Female!AN$18,'Female - Rev'!$A46-35,0),0.03999)","v":1.3599999999999999E-2},{"$f":"MIN(OFFSET(Female!AO$18,'Female - Rev'!$A46-35,0),0.03999)","v":1.4200000000000001E-2},{"$f":"MIN(OFFSET(Female!AP$18,'Female - Rev'!$A46-35,0),0.03999)","v":1.46E-2},{"$f":"MIN(OFFSET(Female!AQ$18,'Female - Rev'!$A46-35,0),0.03999)","v":1.47E-2},{"$f":"MIN(OFFSET(Female!AR$18,'Female - Rev'!$A46-35,0),0.03999)","v":1.47E-2},{"$f":"MIN(OFFSET(Female!AS$18,'Female - Rev'!$A46-35,0),0.03999)","v":1.47E-2},{"$f":"MIN(OFFSET(Female!AT$18,'Female - Rev'!$A46-35,0),0.03999)","v":1.46E-2},{"$f":"MIN(OFFSET(Female!AU$18,'Female - Rev'!$A46-35,0),0.03999)","v":1.4200000000000001E-2},{"$f":"MIN(OFFSET(Female!AV$18,'Female - Rev'!$A46-35,0),0.03999)","v":1.3100000000000001E-2},{"$f":"MIN(OFFSET(Female!AW$18,'Female - Rev'!$A46-35,0),0.03999)","v":1.1299999999999999E-2},{"$f":"MIN(OFFSET(Female!AX$18,'Female - Rev'!$A46-35,0),0.03999)","v":8.8999999999999999E-3},{"$f":"MIN(OFFSET(Female!AY$18,'Female - Rev'!$A46-35,0),0.03999)","v":6.4000000000000003E-3},{"$f":"MIN(OFFSET(Female!AZ$18,'Female - Rev'!$A46-35,0),0.03999)","v":4.1999999999999997E-3},{"$f":"MIN(OFFSET(Female!BA$18,'Female - Rev'!$A46-35,0),0.03999)","v":2.5000000000000001E-3},{"$f":"MIN(OFFSET(Female!BB$18,'Female - Rev'!$A46-35,0),0.03999)","v":1.5E-3},{"$f":"MIN(OFFSET(Female!BC$18,'Female - Rev'!$A46-35,0),0.03999)","v":1E-3},{"$f":"MIN(OFFSET(Female!BD$18,'Female - Rev'!$A46-35,0),0.03999)","v":8.0000000000000004E-4},{"$f":"MIN(OFFSET(Female!BE$18,'Female - Rev'!$A46-35,0),0.03999)","v":8.0000000000000004E-4},{"$f":"MIN(OFFSET(Female!BF$18,'Female - Rev'!$A46-35,0),0.03999)","v":8.0000000000000004E-4},{"$f":"MIN(OFFSET(Female!BG$18,'Female - Rev'!$A46-35,0),0.03999)","v":5.9999999999999995E-4},{"$f":"MIN(OFFSET(Female!BH$18,'Female - Rev'!$A46-35,0),0.03999)","v":2.0000000000000001E-4},{"$f":"MIN(OFFSET(Female!BI$18,'Female - Rev'!$A46-35,0),0.03999)","v":-2.9999999999999997E-4},{"$f":"MIN(OFFSET(Female!BJ$18,'Female - Rev'!$A46-35,0),0.03999)","v":-8.0000000000000004E-4},{"$f":"MIN(OFFSET(Female!BK$18,'Female - Rev'!$A46-35,0),0.03999)","v":-1.2999999999999999E-3},{"$f":"MIN(OFFSET(Female!BL$18,'Female - Rev'!$A46-35,0),0.03999)","v":-1.6000000000000001E-3},{"$f":"MIN(OFFSET(Female!BM$18,'Female - Rev'!$A46-35,0),0.03999)","v":-1.4E-3},{"$f":"MIN(OFFSET(Female!BN$18,'Female - Rev'!$A46-35,0),0.03999)","v":-6.9999999999999999E-4},{"$f":"MIN(OFFSET(Female!BO$18,'Female - Rev'!$A46-35,0),0.03999)","v":5.9999999999999995E-4},{"$f":"MIN(OFFSET(Female!BP$18,'Female - Rev'!$A46-35,0),0.03999)","v":2E-3},{"$f":"MIN(OFFSET(Female!BQ$18,'Female - Rev'!$A46-35,0),0.03999)","v":3.0999999999999999E-3},{"$f":"MIN(OFFSET(Female!BR$18,'Female - Rev'!$A46-35,0),0.03999)","v":4.0000000000000001E-3},{"$f":"MIN(OFFSET(Female!BS$18,'Female - Rev'!$A46-35,0),0.03999)","v":4.5999999999999999E-3},{"$f":"MIN(OFFSET(Female!BT$18,'Female - Rev'!$A46-35,0),0.03999)","v":5.0000000000000001E-3},{"$f":"MIN(OFFSET(Female!BU$18,'Female - Rev'!$A46-35,0),0.03999)","v":5.0000000000000001E-3},{"$f":"MIN(OFFSET(Female!BV$18,'Female - Rev'!$A46-35,0),0.03999)","v":4.8999999999999998E-3},{"$f":"MIN(OFFSET(Female!BW$18,'Female - Rev'!$A46-35,0),0.03999)","v":4.7000000000000002E-3},{"$f":"MIN(OFFSET(Female!BX$18,'Female - Rev'!$A46-35,0),0.03999)","v":4.4000000000000003E-3},{"$f":"MIN(OFFSET(Female!BY$18,'Female - Rev'!$A46-35,0),0.03999)","v":4.1999999999999997E-3},{"$f":"MIN(OFFSET(Female!BZ$18,'Female - Rev'!$A46-35,0),0.03999)","v":4.3E-3},{"$f":"MIN(OFFSET(Female!CA$18,'Female - Rev'!$A46-35,0),0.03999)","v":4.7999999999999996E-3},{"$f":"MIN(OFFSET(Female!CB$18,'Female - Rev'!$A46-35,0),0.03999)","v":5.4999999999999997E-3},{"$f":"MIN(OFFSET(Female!CC$18,'Female - Rev'!$A46-35,0),0.03999)","v":6.4000000000000003E-3},{"$f":"MIN(OFFSET(Female!CD$18,'Female - Rev'!$A46-35,0),0.03999)","v":7.4000000000000003E-3},{"$f":"MIN(OFFSET(Female!CE$18,'Female - Rev'!$A46-35,0),0.03999)","v":8.3999999999999995E-3},{"$f":"MIN(OFFSET(Female!CF$18,'Female - Rev'!$A46-35,0),0.03999)","v":9.1999999999999998E-3},{"$f":"MIN(OFFSET(Female!CG$18,'Female - Rev'!$A46-35,0),0.03999)","v":9.7999999999999997E-3},{"$f":"MIN(OFFSET(Female!CH$18,'Female - Rev'!$A46-35,0),0.03999)","v":0.01}]
[51,51,{"$f":"MIN(OFFSET(Female!B$18,'Female - Rev'!$A47-35,0),0.03999)","v":3.1399999999999997E-2},{"$f":"MIN(OFFSET(Female!C$18,'Female - Rev'!$A47-35,0),0.03999)","v":3.0099999999999998E-2},{"$f":"MIN(OFFSET(Female!D$18,'Female - Rev'!$A47-35,0),0.03999)","v":2.86E-2},{"$f":"MIN(OFFSET(Female!E$18,'Female - Rev'!$A47-35,0),0.03999)","v":2.6700000000000002E-2},{"$f":"MIN(OFFSET(Female!F$18,'Female - Rev'!$A47-35,0),0.03999)","v":2.4199999999999999E-2},{"$f":"MIN(OFFSET(Female!G$18,'Female - Rev'!$A47-35,0),0.03999)","v":2.1100000000000001E-2},{"$f":"MIN(OFFSET(Female!H$18,'Female - Rev'!$A47-35,0),0.03999)","v":1.77E-2},{"$f":"MIN(OFFSET(Female!I$18,'Female - Rev'!$A47-35,0),0.03999)","v":1.4200000000000001E-2},{"$f":"MIN(OFFSET(Female!J$18,'Female - Rev'!$A47-35,0),0.03999)","v":1.0699999999999999E-2},{"$f":"MIN(OFFSET(Female!K$18,'Female - Rev'!$A47-35,0),0.03999)","v":7.3000000000000001E-3},{"$f":"MIN(OFFSET(Female!L$18,'Female - Rev'!$A47-35,0),0.03999)","v":4.1000000000000003E-3},{"$f":"MIN(OFFSET(Female!M$18,'Female - Rev'!$A47-35,0),0.03999)","v":1.5E-3},{"$f":"MIN(OFFSET(Female!N$18,'Female - Rev'!$A47-35,0),0.03999)","v":-4.0000000000000002E-4},{"$f":"MIN(OFFSET(Female!O$18,'Female - Rev'!$A47-35,0),0.03999)","v":-1.2999999999999999E-3},{"$f":"MIN(OFFSET(Female!P$18,'Female - Rev'!$A47-35,0),0.03999)","v":-1.2999999999999999E-3},{"$f":"MIN(OFFSET(Female!Q$18,'Female - Rev'!$A47-35,0),0.03999)","v":-2.9999999999999997E-4},{"$f":"MIN(OFFSET(Female!R$18,'Female - Rev'!$A47-35,0),0.03999)","v":1.6000000000000001E-3},{"$f":"MIN(OFFSET(Female!S$18,'Female - Rev'!$A47-35,0),0.03999)","v":4.3E-3},{"$f":"MIN(OFFSET(Female!T$18,'Female - Rev'!$A47-35,0),0.03999)","v":7.7999999999999996E-3},{"$f":"MIN(OFFSET(Female!U$18,'Female - Rev'!$A47-35,0),0.03999)","v":1.17E-2},{"$f":"MIN(OFFSET(Female!V$18,'Female - Rev'!$A47-35,0),0.03999)","v":1.5800000000000002E-2},{"$f":"MIN(OFFSET(Female!W$18,'Female - Rev'!$A47-35,0),0.03999)","v":1.95E-2},{"$f":"MIN(OFFSET(Female!X$18,'Female - Rev'!$A47-35,0),0.03999)","v":2.2599999999999999E-2},{"$f":"MIN(OFFSET(Female!Y$18,'Female - Rev'!$A47-35,0),0.03999)","v":2.4799999999999999E-2},{"$f":"MIN(OFFSET(Female!Z$18,'Female - Rev'!$A47-35,0),0.03999)","v":2.58E-2},{"$f":"MIN(OFFSET(Female!AA$18,'Female - Rev'!$A47-35,0),0.03999)","v":2.58E-2},{"$f":"MIN(OFFSET(Female!AB$18,'Female - Rev'!$A47-35,0),0.03999)","v":2.5000000000000001E-2},{"$f":"MIN(OFFSET(Female!AC$18,'Female - Rev'!$A47-35,0),0.03999)","v":2.35E-2},{"$f":"MIN(OFFSET(Female!AD$18,'Female - Rev'!$A47-35,0),0.03999)","v":2.18E-2},{"$f":"MIN(OFFSET(Female!AE$18,'Female - Rev'!$A47-35,0),0.03999)","v":1.9800000000000002E-2},{"$f":"MIN(OFFSET(Female!AF$18,'Female - Rev'!$A47-35,0),0.03999)","v":1.7899999999999999E-2},{"$f":"MIN(OFFSET(Female!AG$18,'Female - Rev'!$A47-35,0),0.03999)","v":1.6E-2},{"$f":"MIN(OFFSET(Female!AH$18,'Female - Rev'!$A47-35,0),0.03999)","v":1.44E-2},{"$f":"MIN(OFFSET(Female!AI$18,'Female - Rev'!$A47-35,0),0.03999)","v":1.32E-2},{"$f":"MIN(OFFSET(Female!AJ$18,'Female - Rev'!$A47-35,0),0.03999)","v":1.2500000000000001E-2},{"$f":"MIN(OFFSET(Female!AK$18,'Female - Rev'!$A47-35,0),0.03999)","v":1.24E-2},{"$f":"MIN(OFFSET(Female!AL$18,'Female - Rev'!$A47-35,0),0.03999)","v":1.2800000000000001E-2},{"$f":"MIN(OFFSET(Female!AM$18,'Female - Rev'!$A47-35,0),0.03999)","v":1.34E-2},{"$f":"MIN(OFFSET(Female!AN$18,'Female - Rev'!$A47-35,0),0.03999)","v":1.4E-2},{"$f":"MIN(OFFSET(Female!AO$18,'Female - Rev'!$A47-35,0),0.03999)","v":1.44E-2},{"$f":"MIN(OFFSET(Female!AP$18,'Female - Rev'!$A47-35,0),0.03999)","v":1.4500000000000001E-2},{"$f":"MIN(OFFSET(Female!AQ$18,'Female - Rev'!$A47-35,0),0.03999)","v":1.44E-2},{"$f":"MIN(OFFSET(Female!AR$18,'Female - Rev'!$A47-35,0),0.03999)","v":1.43E-2},{"$f":"MIN(OFFSET(Female!AS$18,'Female - Rev'!$A47-35,0),0.03999)","v":1.4200000000000001E-2},{"$f":"MIN(OFFSET(Female!AT$18,'Female - Rev'!$A47-35,0),0.03999)","v":1.4E-2},{"$f":"MIN(OFFSET(Female!AU$18,'Female - Rev'!$A47-35,0),0.03999)","v":1.34E-2},{"$f":"MIN(OFFSET(Female!AV$18,'Female - Rev'!$A47-35,0),0.03999)","v":1.1900000000000001E-2},{"$f":"MIN(OFFSET(Female!AW$18,'Female - Rev'!$A47-35,0),0.03999)","v":9.5999999999999992E-3},{"$f":"MIN(OFFSET(Female!AX$18,'Female - Rev'!$A47-35,0),0.03999)","v":6.7000000000000002E-3},{"$f":"MIN(OFFSET(Female!AY$18,'Female - Rev'!$A47-35,0),0.03999)","v":3.5999999999999999E-3},{"$f":"MIN(OFFSET(Female!AZ$18,'Female - Rev'!$A47-35,0),0.03999)","v":1E-3},{"$f":"MIN(OFFSET(Female!BA$18,'Female - Rev'!$A47-35,0),0.03999)","v":-8.0000000000000004E-4},{"$f":"MIN(OFFSET(Female!BB$18,'Female - Rev'!$A47-35,0),0.03999)","v":-1.6999999999999999E-3},{"$f":"MIN(OFFSET(Female!BC$18,'Female - Rev'!$A47-35,0),0.03999)","v":-1.8E-3},{"$f":"MIN(OFFSET(Female!BD$18,'Female - Rev'!$A47-35,0),0.03999)","v":-1.4E-3},{"$f":"MIN(OFFSET(Female!BE$18,'Female - Rev'!$A47-35,0),0.03999)","v":-5.9999999999999995E-4},{"$f":"MIN(OFFSET(Female!BF$18,'Female - Rev'!$A47-35,0),0.03999)","v":2.9999999999999997E-4},{"$f":"MIN(OFFSET(Female!BG$18,'Female - Rev'!$A47-35,0),0.03999)","v":1E-3},{"$f":"MIN(OFFSET(Female!BH$18,'Female - Rev'!$A47-35,0),0.03999)","v":1.4E-3},{"$f":"MIN(OFFSET(Female!BI$18,'Female - Rev'!$A47-35,0),0.03999)","v":1.6999999999999999E-3},{"$f":"MIN(OFFSET(Female!BJ$18,'Female - Rev'!$A47-35,0),0.03999)","v":1.6000000000000001E-3},{"$f":"MIN(OFFSET(Female!BK$18,'Female - Rev'!$A47-35,0),0.03999)","v":1.4E-3},{"$f":"MIN(OFFSET(Female!BL$18,'Female - Rev'!$A47-35,0),0.03999)","v":1.1000000000000001E-3},{"$f":"MIN(OFFSET(Female!BM$18,'Female - Rev'!$A47-35,0),0.03999)","v":1.1999999999999999E-3},{"$f":"MIN(OFFSET(Female!BN$18,'Female - Rev'!$A47-35,0),0.03999)","v":1.6000000000000001E-3},{"$f":"MIN(OFFSET(Female!BO$18,'Female - Rev'!$A47-35,0),0.03999)","v":2.5999999999999999E-3},{"$f":"MIN(OFFSET(Female!BP$18,'Female - Rev'!$A47-35,0),0.03999)","v":3.3999999999999998E-3},{"$f":"MIN(OFFSET(Female!BQ$18,'Female - Rev'!$A47-35,0),0.03999)","v":4.1000000000000003E-3},{"$f":"MIN(OFFSET(Female!BR$18,'Female - Rev'!$A47-35,0),0.03999)","v":4.4000000000000003E-3},{"$f":"MIN(OFFSET(Female!BS$18,'Female - Rev'!$A47-35,0),0.03999)","v":4.4999999999999997E-3},{"$f":"MIN(OFFSET(Female!BT$18,'Female - Rev'!$A47-35,0),0.03999)","v":4.3E-3},{"$f":"MIN(OFFSET(Female!BU$18,'Female - Rev'!$A47-35,0),0.03999)","v":4.1000000000000003E-3},{"$f":"MIN(OFFSET(Female!BV$18,'Female - Rev'!$A47-35,0),0.03999)","v":3.7000000000000002E-3},{"$f":"MIN(OFFSET(Female!BW$18,'Female - Rev'!$A47-35,0),0.03999)","v":3.3999999999999998E-3},{"$f":"MIN(OFFSET(Female!BX$18,'Female - Rev'!$A47-35,0),0.03999)","v":3.2000000000000002E-3},{"$f":"MIN(OFFSET(Female!BY$18,'Female - Rev'!$A47-35,0),0.03999)","v":3.2000000000000002E-3},{"$f":"MIN(OFFSET(Female!BZ$18,'Female - Rev'!$A47-35,0),0.03999)","v":3.5000000000000001E-3},{"$f":"MIN(OFFSET(Female!CA$18,'Female - Rev'!$A47-35,0),0.03999)","v":4.1000000000000003E-3},{"$f":"MIN(OFFSET(Female!CB$18,'Female - Rev'!$A47-35,0),0.03999)","v":5.1000000000000004E-3},{"$f":"MIN(OFFSET(Female!CC$18,'Female - Rev'!$A47-35,0),0.03999)","v":6.1000000000000004E-3},{"$f":"MIN(OFFSET(Female!CD$18,'Female - Rev'!$A47-35,0),0.03999)","v":7.3000000000000001E-3},{"$f":"MIN(OFFSET(Female!CE$18,'Female - Rev'!$A47-35,0),0.03999)","v":8.3000000000000001E-3},{"$f":"MIN(OFFSET(Female!CF$18,'Female - Rev'!$A47-35,0),0.03999)","v":9.1999999999999998E-3},{"$f":"MIN(OFFSET(Female!CG$18,'Female - Rev'!$A47-35,0),0.03999)","v":9.7999999999999997E-3},{"$f":"MIN(OFFSET(Female!CH$18,'Female - Rev'!$A47-35,0),0.03999)","v":0.01}]
[50,50,{"$f":"MIN(OFFSET(Female!B$18,'Female - Rev'!$A48-35,0),0.03999)","v":3.3300000000000003E-2},{"$f":"MIN(OFFSET(Female!C$18,'Female - Rev'!$A48-35,0),0.03999)","v":3.15E-2},{"$f":"MIN(OFFSET(Female!D$18,'Female - Rev'!$A48-35,0),0.03999)","v":2.9600000000000001E-2},{"$f":"MIN(OFFSET(Female!E$18,'Female - Rev'!$A48-35,0),0.03999)","v":2.7199999999999998E-2},{"$f":"MIN(OFFSET(Female!F$18,'Female - Rev'!$A48-35,0),0.03999)","v":2.4299999999999999E-2},{"$f":"MIN(OFFSET(Female!G$18,'Female - Rev'!$A48-35,0),0.03999)","v":2.0899999999999998E-2},{"$f":"MIN(OFFSET(Female!H$18,'Female - Rev'!$A48-35,0),0.03999)","v":1.72E-2},{"$f":"MIN(OFFSET(Female!I$18,'Female - Rev'!$A48-35,0),0.03999)","v":1.35E-2},{"$f":"MIN(OFFSET(Female!J$18,'Female - Rev'!$A48-35,0),0.03999)","v":9.9000000000000008E-3},{"$f":"MIN(OFFSET(Female!K$18,'Female - Rev'!$A48-35,0),0.03999)","v":6.4000000000000003E-3},{"$f":"MIN(OFFSET(Female!L$18,'Female - Rev'!$A48-35,0),0.03999)","v":3.2000000000000002E-3},{"$f":"MIN(OFFSET(Female!M$18,'Female - Rev'!$A48-35,0),0.03999)","v":5.9999999999999995E-4},{"$f":"MIN(OFFSET(Female!N$18,'Female - Rev'!$A48-35,0),0.03999)","v":-1.1999999999999999E-3},{"$f":"MIN(OFFSET(Female!O$18,'Female - Rev'!$A48-35,0),0.03999)","v":-2E-3},{"$f":"MIN(OFFSET(Female!P$18,'Female - Rev'!$A48-35,0),0.03999)","v":-1.8E-3},{"$f":"MIN(OFFSET(Female!Q$18,'Female - Rev'!$A48-35,0),0.03999)","v":-5.0000000000000001E-4},{"$f":"MIN(OFFSET(Female!R$18,'Female - Rev'!$A48-35,0),0.03999)","v":1.6000000000000001E-3},{"$f":"MIN(OFFSET(Female!S$18,'Female - Rev'!$A48-35,0),0.03999)","v":4.4000000000000003E-3},{"$f":"MIN(OFFSET(Female!T$18,'Female - Rev'!$A48-35,0),0.03999)","v":8.0000000000000002E-3},{"$f":"MIN(OFFSET(Female!U$18,'Female - Rev'!$A48-35,0),0.03999)","v":1.2E-2},{"$f":"MIN(OFFSET(Female!V$18,'Female - Rev'!$A48-35,0),0.03999)","v":1.61E-2},{"$f":"MIN(OFFSET(Female!W$18,'Female - Rev'!$A48-35,0),0.03999)","v":1.9900000000000001E-2},{"$f":"MIN(OFFSET(Female!X$18,'Female - Rev'!$A48-35,0),0.03999)","v":2.3199999999999998E-2},{"$f":"MIN(OFFSET(Female!Y$18,'Female - Rev'!$A48-35,0),0.03999)","v":2.5499999999999998E-2},{"$f":"MIN(OFFSET(Female!Z$18,'Female - Rev'!$A48-35,0),0.03999)","v":2.6800000000000001E-2},{"$f":"MIN(OFFSET(Female!AA$18,'Female - Rev'!$A48-35,0),0.03999)","v":2.69E-2},{"$f":"MIN(OFFSET(Female!AB$18,'Female - Rev'!$A48-35,0),0.03999)","v":2.63E-2},{"$f":"MIN(OFFSET(Female!AC$18,'Female - Rev'!$A48-35,0),0.03999)","v":2.5000000000000001E-2},{"$f":"MIN(OFFSET(Female!AD$18,'Female - Rev'!$A48-35,0),0.03999)","v":2.3400000000000001E-2},{"$f":"MIN(OFFSET(Female!AE$18,'Female - Rev'!$A48-35,0),0.03999)","v":2.1499999999999998E-2},{"$f":"MIN(OFFSET(Female!AF$18,'Female - Rev'!$A48-35,0),0.03999)","v":1.9699999999999999E-2},{"$f":"MIN(OFFSET(Female!AG$18,'Female - Rev'!$A48-35,0),0.03999)","v":1.78E-2},{"$f":"MIN(OFFSET(Female!AH$18,'Female - Rev'!$A48-35,0),0.03999)","v":1.6199999999999999E-2},{"$f":"MIN(OFFSET(Female!AI$18,'Female - Rev'!$A48-35,0),0.03999)","v":1.4800000000000001E-2},{"$f":"MIN(OFFSET(Female!AJ$18,'Female - Rev'!$A48-35,0),0.03999)","v":1.3899999999999999E-2},{"$f":"MIN(OFFSET(Female!AK$18,'Female - Rev'!$A48-35,0),0.03999)","v":1.3599999999999999E-2},{"$f":"MIN(OFFSET(Female!AL$18,'Female - Rev'!$A48-35,0),0.03999)","v":1.3599999999999999E-2},{"$f":"MIN(OFFSET(Female!AM$18,'Female - Rev'!$A48-35,0),0.03999)","v":1.3899999999999999E-2},{"$f":"MIN(OFFSET(Female!AN$18,'Female - Rev'!$A48-35,0),0.03999)","v":1.4200000000000001E-2},{"$f":"MIN(OFFSET(Female!AO$18,'Female - Rev'!$A48-35,0),0.03999)","v":1.4200000000000001E-2},{"$f":"MIN(OFFSET(Female!AP$18,'Female - Rev'!$A48-35,0),0.03999)","v":1.41E-2},{"$f":"MIN(OFFSET(Female!AQ$18,'Female - Rev'!$A48-35,0),0.03999)","v":1.38E-2},{"$f":"MIN(OFFSET(Female!AR$18,'Female - Rev'!$A48-35,0),0.03999)","v":1.3599999999999999E-2},{"$f":"MIN(OFFSET(Female!AS$18,'Female - Rev'!$A48-35,0),0.03999)","v":1.34E-2},{"$f":"MIN(OFFSET(Female!AT$18,'Female - Rev'!$A48-35,0),0.03999)","v":1.2999999999999999E-2},{"$f":"MIN(OFFSET(Female!AU$18,'Female - Rev'!$A48-35,0),0.03999)","v":1.21E-2},{"$f":"MIN(OFFSET(Female!AV$18,'Female - Rev'!$A48-35,0),0.03999)","v":1.03E-2},{"$f":"MIN(OFFSET(Female!AW$18,'Female - Rev'!$A48-35,0),0.03999)","v":7.4999999999999997E-3},{"$f":"MIN(OFFSET(Female!AX$18,'Female - Rev'!$A48-35,0),0.03999)","v":4.1000000000000003E-3},{"$f":"MIN(OFFSET(Female!AY$18,'Female - Rev'!$A48-35,0),0.03999)","v":5.9999999999999995E-4},{"$f":"MIN(OFFSET(Female!AZ$18,'Female - Rev'!$A48-35,0),0.03999)","v":-2.2000000000000001E-3},{"$f":"MIN(OFFSET(Female!BA$18,'Female - Rev'!$A48-35,0),0.03999)","v":-3.8999999999999998E-3},{"$f":"MIN(OFFSET(Female!BB$18,'Female - Rev'!$A48-35,0),0.03999)","v":-4.4000000000000003E-3},{"$f":"MIN(OFFSET(Female!BC$18,'Female - Rev'!$A48-35,0),0.03999)","v":-3.8999999999999998E-3},{"$f":"MIN(OFFSET(Female!BD$18,'Female - Rev'!$A48-35,0),0.03999)","v":-2.7000000000000001E-3},{"$f":"MIN(OFFSET(Female!BE$18,'Female - Rev'!$A48-35,0),0.03999)","v":-1.1000000000000001E-3},{"$f":"MIN(OFFSET(Female!BF$18,'Female - Rev'!$A48-35,0),0.03999)","v":5.9999999999999995E-4},{"$f":"MIN(OFFSET(Female!BG$18,'Female - Rev'!$A48-35,0),0.03999)","v":2.2000000000000001E-3},{"$f":"MIN(OFFSET(Female!BH$18,'Female - Rev'!$A48-35,0),0.03999)","v":3.3999999999999998E-3},{"$f":"MIN(OFFSET(Female!BI$18,'Female - Rev'!$A48-35,0),0.03999)","v":4.1000000000000003E-3},{"$f":"MIN(OFFSET(Female!BJ$18,'Female - Rev'!$A48-35,0),0.03999)","v":4.4000000000000003E-3},{"$f":"MIN(OFFSET(Female!BK$18,'Female - Rev'!$A48-35,0),0.03999)","v":4.1999999999999997E-3},{"$f":"MIN(OFFSET(Female!BL$18,'Female - Rev'!$A48-35,0),0.03999)","v":3.7000000000000002E-3},{"$f":"MIN(OFFSET(Female!BM$18,'Female - Rev'!$A48-35,0),0.03999)","v":3.3999999999999998E-3},{"$f":"MIN(OFFSET(Female!BN$18,'Female - Rev'!$A48-35,0),0.03999)","v":3.3E-3},{"$f":"MIN(OFFSET(Female!BO$18,'Female - Rev'!$A48-35,0),0.03999)","v":3.8999999999999998E-3},{"$f":"MIN(OFFSET(Female!BP$18,'Female - Rev'!$A48-35,0),0.03999)","v":4.3E-3},{"$f":"MIN(OFFSET(Female!BQ$18,'Female - Rev'!$A48-35,0),0.03999)","v":4.4000000000000003E-3},{"$f":"MIN(OFFSET(Female!BR$18,'Female - Rev'!$A48-35,0),0.03999)","v":4.1999999999999997E-3},{"$f":"MIN(OFFSET(Female!BS$18,'Female - Rev'!$A48-35,0),0.03999)","v":3.8E-3},{"$f":"MIN(OFFSET(Female!BT$18,'Female - Rev'!$A48-35,0),0.03999)","v":3.3E-3},{"$f":"MIN(OFFSET(Female!BU$18,'Female - Rev'!$A48-35,0),0.03999)","v":2.8E-3},{"$f":"MIN(OFFSET(Female!BV$18,'Female - Rev'!$A48-35,0),0.03999)","v":2.3999999999999998E-3},{"$f":"MIN(OFFSET(Female!BW$18,'Female - Rev'!$A48-35,0),0.03999)","v":2.0999999999999999E-3},{"$f":"MIN(OFFSET(Female!BX$18,'Female - Rev'!$A48-35,0),0.03999)","v":2E-3},{"$f":"MIN(OFFSET(Female!BY$18,'Female - Rev'!$A48-35,0),0.03999)","v":2.0999999999999999E-3},{"$f":"MIN(OFFSET(Female!BZ$18,'Female - Rev'!$A48-35,0),0.03999)","v":2.7000000000000001E-3},{"$f":"MIN(OFFSET(Female!CA$18,'Female - Rev'!$A48-35,0),0.03999)","v":3.5999999999999999E-3},{"$f":"MIN(OFFSET(Female!CB$18,'Female - Rev'!$A48-35,0),0.03999)","v":4.7000000000000002E-3},{"$f":"MIN(OFFSET(Female!CC$18,'Female - Rev'!$A48-35,0),0.03999)","v":5.8999999999999999E-3},{"$f":"MIN(OFFSET(Female!CD$18,'Female - Rev'!$A48-35,0),0.03999)","v":7.1999999999999998E-3},{"$f":"MIN(OFFSET(Female!CE$18,'Female - Rev'!$A48-35,0),0.03999)","v":8.3000000000000001E-3},{"$f":"MIN(OFFSET(Female!CF$18,'Female - Rev'!$A48-35,0),0.03999)","v":9.1999999999999998E-3},{"$f":"MIN(OFFSET(Female!CG$18,'Female - Rev'!$A48-35,0),0.03999)","v":9.7999999999999997E-3},{"$f":"MIN(OFFSET(Female!CH$18,'Female - Rev'!$A48-35,0),0.03999)","v":0.01}]
[49,49,{"$f":"MIN(OFFSET(Female!B$18,'Female - Rev'!$A49-35,0),0.03999)","v":3.5499999999999997E-2},{"$f":"MIN(OFFSET(Female!C$18,'Female - Rev'!$A49-35,0),0.03999)","v":3.3099999999999997E-2},{"$f":"MIN(OFFSET(Female!D$18,'Female - Rev'!$A49-35,0),0.03999)","v":3.0599999999999999E-2},{"$f":"MIN(OFFSET(Female!E$18,'Female - Rev'!$A49-35,0),0.03999)","v":2.7699999999999999E-2},{"$f":"MIN(OFFSET(Female!F$18,'Female - Rev'!$A49-35,0),0.03999)","v":2.4400000000000002E-2},{"$f":"MIN(OFFSET(Female!G$18,'Female - Rev'!$A49-35,0),0.03999)","v":2.07E-2},{"$f":"MIN(OFFSET(Female!H$18,'Female - Rev'!$A49-35,0),0.03999)","v":1.6799999999999999E-2},{"$f":"MIN(OFFSET(Female!I$18,'Female - Rev'!$A49-35,0),0.03999)","v":1.29E-2},{"$f":"MIN(OFFSET(Female!J$18,'Female - Rev'!$A49-35,0),0.03999)","v":9.1999999999999998E-3},{"$f":"MIN(OFFSET(Female!K$18,'Female - Rev'!$A49-35,0),0.03999)","v":5.5999999999999999E-3},{"$f":"MIN(OFFSET(Female!L$18,'Female - Rev'!$A49-35,0),0.03999)","v":2.3999999999999998E-3},{"$f":"MIN(OFFSET(Female!M$18,'Female - Rev'!$A49-35,0),0.03999)","v":-1E-4},{"$f":"MIN(OFFSET(Female!N$18,'Female - Rev'!$A49-35,0),0.03999)","v":-1.9E-3},{"$f":"MIN(OFFSET(Female!O$18,'Female - Rev'!$A49-35,0),0.03999)","v":-2.5999999999999999E-3},{"$f":"MIN(OFFSET(Female!P$18,'Female - Rev'!$A49-35,0),0.03999)","v":-2.3E-3},{"$f":"MIN(OFFSET(Female!Q$18,'Female - Rev'!$A49-35,0),0.03999)","v":-1E-3},{"$f":"MIN(OFFSET(Female!R$18,'Female - Rev'!$A49-35,0),0.03999)","v":1.2999999999999999E-3},{"$f":"MIN(OFFSET(Female!S$18,'Female - Rev'!$A49-35,0),0.03999)","v":4.3E-3},{"$f":"MIN(OFFSET(Female!T$18,'Female - Rev'!$A49-35,0),0.03999)","v":8.0000000000000002E-3},{"$f":"MIN(OFFSET(Female!U$18,'Female - Rev'!$A49-35,0),0.03999)","v":1.2E-2},{"$f":"MIN(OFFSET(Female!V$18,'Female - Rev'!$A49-35,0),0.03999)","v":1.6199999999999999E-2},{"$f":"MIN(OFFSET(Female!W$18,'Female - Rev'!$A49-35,0),0.03999)","v":2.0299999999999999E-2},{"$f":"MIN(OFFSET(Female!X$18,'Female - Rev'!$A49-35,0),0.03999)","v":2.3699999999999999E-2},{"$f":"MIN(OFFSET(Female!Y$18,'Female - Rev'!$A49-35,0),0.03999)","v":2.64E-2},{"$f":"MIN(OFFSET(Female!Z$18,'Female - Rev'!$A49-35,0),0.03999)","v":2.7900000000000001E-2},{"$f":"MIN(OFFSET(Female!AA$18,'Female - Rev'!$A49-35,0),0.03999)","v":2.8299999999999999E-2},{"$f":"MIN(OFFSET(Female!AB$18,'Female - Rev'!$A49-35,0),0.03999)","v":2.7799999999999998E-2},{"$f":"MIN(OFFSET(Female!AC$18,'Female - Rev'!$A49-35,0),0.03999)","v":2.6700000000000002E-2},{"$f":"MIN(OFFSET(Female!AD$18,'Female - Rev'!$A49-35,0),0.03999)","v":2.5100000000000001E-2},{"$f":"MIN(OFFSET(Female!AE$18,'Female - Rev'!$A49-35,0),0.03999)","v":2.3300000000000001E-2},{"$f":"MIN(OFFSET(Female!AF$18,'Female - Rev'!$A49-35,0),0.03999)","v":2.1399999999999999E-2},{"$f":"MIN(OFFSET(Female!AG$18,'Female - Rev'!$A49-35,0),0.03999)","v":1.9699999999999999E-2},{"$f":"MIN(OFFSET(Female!AH$18,'Female - Rev'!$A49-35,0),0.03999)","v":1.7999999999999999E-2},{"$f":"MIN(OFFSET(Female!AI$18,'Female - Rev'!$A49-35,0),0.03999)","v":1.6500000000000001E-2},{"$f":"MIN(OFFSET(Female!AJ$18,'Female - Rev'!$A49-35,0),0.03999)","v":1.54E-2},{"$f":"MIN(OFFSET(Female!AK$18,'Female - Rev'!$A49-35,0),0.03999)","v":1.47E-2},{"$f":"MIN(OFFSET(Female!AL$18,'Female - Rev'!$A49-35,0),0.03999)","v":1.44E-2},{"$f":"MIN(OFFSET(Female!AM$18,'Female - Rev'!$A49-35,0),0.03999)","v":1.4200000000000001E-2},{"$f":"MIN(OFFSET(Female!AN$18,'Female - Rev'!$A49-35,0),0.03999)","v":1.4E-2},{"$f":"MIN(OFFSET(Female!AO$18,'Female - Rev'!$A49-35,0),0.03999)","v":1.37E-2},{"$f":"MIN(OFFSET(Female!AP$18,'Female - Rev'!$A49-35,0),0.03999)","v":1.3299999999999999E-2},{"$f":"MIN(OFFSET(Female!AQ$18,'Female - Rev'!$A49-35,0),0.03999)","v":1.29E-2},{"$f":"MIN(OFFSET(Female!AR$18,'Female - Rev'!$A49-35,0),0.03999)","v":1.2500000000000001E-2},{"$f":"MIN(OFFSET(Female!AS$18,'Female - Rev'!$A49-35,0),0.03999)","v":1.21E-2},{"$f":"MIN(OFFSET(Female!AT$18,'Female - Rev'!$A49-35,0),0.03999)","v":1.1599999999999999E-2},{"$f":"MIN(OFFSET(Female!AU$18,'Female - Rev'!$A49-35,0),0.03999)","v":1.04E-2},{"$f":"MIN(OFFSET(Female!AV$18,'Female - Rev'!$A49-35,0),0.03999)","v":8.3000000000000001E-3},{"$f":"MIN(OFFSET(Female!AW$18,'Female - Rev'!$A49-35,0),0.03999)","v":5.1000000000000004E-3},{"$f":"MIN(OFFSET(Female!AX$18,'Female - Rev'!$A49-35,0),0.03999)","v":1.2999999999999999E-3},{"$f":"MIN(OFFSET(Female!AY$18,'Female - Rev'!$A49-35,0),0.03999)","v":-2.3999999999999998E-3},{"$f":"MIN(OFFSET(Female!AZ$18,'Female - Rev'!$A49-35,0),0.03999)","v":-5.1000000000000004E-3},{"$f":"MIN(OFFSET(Female!BA$18,'Female - Rev'!$A49-35,0),0.03999)","v":-6.4999999999999997E-3},{"$f":"MIN(OFFSET(Female!BB$18,'Female - Rev'!$A49-35,0),0.03999)","v":-6.4999999999999997E-3},{"$f":"MIN(OFFSET(Female!BC$18,'Female - Rev'!$A49-35,0),0.03999)","v":-5.3E-3},{"$f":"MIN(OFFSET(Female!BD$18,'Female - Rev'!$A49-35,0),0.03999)","v":-3.2000000000000002E-3},{"$f":"MIN(OFFSET(Female!BE$18,'Female - Rev'!$A49-35,0),0.03999)","v":-6.9999999999999999E-4},{"$f":"MIN(OFFSET(Female!BF$18,'Female - Rev'!$A49-35,0),0.03999)","v":1.9E-3},{"$f":"MIN(OFFSET(Female!BG$18,'Female - Rev'!$A49-35,0),0.03999)","v":4.1000000000000003E-3},{"$f":"MIN(OFFSET(Female!BH$18,'Female - Rev'!$A49-35,0),0.03999)","v":5.7999999999999996E-3},{"$f":"MIN(OFFSET(Female!BI$18,'Female - Rev'!$A49-35,0),0.03999)","v":6.8999999999999999E-3},{"$f":"MIN(OFFSET(Female!BJ$18,'Female - Rev'!$A49-35,0),0.03999)","v":7.1999999999999998E-3},{"$f":"MIN(OFFSET(Female!BK$18,'Female - Rev'!$A49-35,0),0.03999)","v":6.7999999999999996E-3},{"$f":"MIN(OFFSET(Female!BL$18,'Female - Rev'!$A49-35,0),0.03999)","v":6.0000000000000001E-3},{"$f":"MIN(OFFSET(Female!BM$18,'Female - Rev'!$A49-35,0),0.03999)","v":5.1000000000000004E-3},{"$f":"MIN(OFFSET(Female!BN$18,'Female - Rev'!$A49-35,0),0.03999)","v":4.3E-3},{"$f":"MIN(OFFSET(Female!BO$18,'Female - Rev'!$A49-35,0),0.03999)","v":4.4000000000000003E-3},{"$f":"MIN(OFFSET(Female!BP$18,'Female - Rev'!$A49-35,0),0.03999)","v":4.3E-3},{"$f":"MIN(OFFSET(Female!BQ$18,'Female - Rev'!$A49-35,0),0.03999)","v":3.8999999999999998E-3},{"$f":"MIN(OFFSET(Female!BR$18,'Female - Rev'!$A49-35,0),0.03999)","v":3.3999999999999998E-3},{"$f":"MIN(OFFSET(Female!BS$18,'Female - Rev'!$A49-35,0),0.03999)","v":2.5999999999999999E-3},{"$f":"MIN(OFFSET(Female!BT$18,'Female - Rev'!$A49-35,0),0.03999)","v":1.9E-3},{"$f":"MIN(OFFSET(Female!BU$18,'Female - Rev'!$A49-35,0),0.03999)","v":1.2999999999999999E-3},{"$f":"MIN(OFFSET(Female!BV$18,'Female - Rev'!$A49-35,0),0.03999)","v":8.9999999999999998E-4},{"$f":"MIN(OFFSET(Female!BW$18,'Female - Rev'!$A49-35,0),0.03999)","v":6.9999999999999999E-4},{"$f":"MIN(OFFSET(Female!BX$18,'Female - Rev'!$A49-35,0),0.03999)","v":8.0000000000000004E-4},{"$f":"MIN(OFFSET(Female!BY$18,'Female - Rev'!$A49-35,0),0.03999)","v":1.1999999999999999E-3},{"$f":"MIN(OFFSET(Female!BZ$18,'Female - Rev'!$A49-35,0),0.03999)","v":2E-3},{"$f":"MIN(OFFSET(Female!CA$18,'Female - Rev'!$A49-35,0),0.03999)","v":3.0000000000000001E-3},{"$f":"MIN(OFFSET(Female!CB$18,'Female - Rev'!$A49-35,0),0.03999)","v":4.3E-3},{"$f":"MIN(OFFSET(Female!CC$18,'Female - Rev'!$A49-35,0),0.03999)","v":5.7000000000000002E-3},{"$f":"MIN(OFFSET(Female!CD$18,'Female - Rev'!$A49-35,0),0.03999)","v":7.1000000000000004E-3},{"$f":"MIN(OFFSET(Female!CE$18,'Female - Rev'!$A49-35,0),0.03999)","v":8.3000000000000001E-3},{"$f":"MIN(OFFSET(Female!CF$18,'Female - Rev'!$A49-35,0),0.03999)","v":9.1999999999999998E-3},{"$f":"MIN(OFFSET(Female!CG$18,'Female - Rev'!$A49-35,0),0.03999)","v":9.7999999999999997E-3},{"$f":"MIN(OFFSET(Female!CH$18,'Female - Rev'!$A49-35,0),0.03999)","v":0.01}]
[48,48,{"$f":"MIN(OFFSET(Female!B$18,'Female - Rev'!$A50-35,0),0.03999)","v":3.7699999999999997E-2},{"$f":"MIN(OFFSET(Female!C$18,'Female - Rev'!$A50-35,0),0.03999)","v":3.4700000000000002E-2},{"$f":"MIN(OFFSET(Female!D$18,'Female - Rev'!$A50-35,0),0.03999)","v":3.1600000000000003E-2},{"$f":"MIN(OFFSET(Female!E$18,'Female - Rev'!$A50-35,0),0.03999)","v":2.8199999999999999E-2},{"$f":"MIN(OFFSET(Female!F$18,'Female - Rev'!$A50-35,0),0.03999)","v":2.4500000000000001E-2},{"$f":"MIN(OFFSET(Female!G$18,'Female - Rev'!$A50-35,0),0.03999)","v":2.0400000000000001E-2},{"$f":"MIN(OFFSET(Female!H$18,'Female - Rev'!$A50-35,0),0.03999)","v":1.6400000000000001E-2},{"$f":"MIN(OFFSET(Female!I$18,'Female - Rev'!$A50-35,0),0.03999)","v":1.24E-2},{"$f":"MIN(OFFSET(Female!J$18,'Female - Rev'!$A50-35,0),0.03999)","v":8.6999999999999994E-3},{"$f":"MIN(OFFSET(Female!K$18,'Female - Rev'!$A50-35,0),0.03999)","v":5.1000000000000004E-3},{"$f":"MIN(OFFSET(Female!L$18,'Female - Rev'!$A50-35,0),0.03999)","v":1.9E-3},{"$f":"MIN(OFFSET(Female!M$18,'Female - Rev'!$A50-35,0),0.03999)","v":-6.9999999999999999E-4},{"$f":"MIN(OFFSET(Female!N$18,'Female - Rev'!$A50-35,0),0.03999)","v":-2.3999999999999998E-3},{"$f":"MIN(OFFSET(Female!O$18,'Female - Rev'!$A50-35,0),0.03999)","v":-3.0999999999999999E-3},{"$f":"MIN(OFFSET(Female!P$18,'Female - Rev'!$A50-35,0),0.03999)","v":-2.8E-3},{"$f":"MIN(OFFSET(Female!Q$18,'Female - Rev'!$A50-35,0),0.03999)","v":-1.5E-3},{"$f":"MIN(OFFSET(Female!R$18,'Female - Rev'!$A50-35,0),0.03999)","v":8.0000000000000004E-4},{"$f":"MIN(OFFSET(Female!S$18,'Female - Rev'!$A50-35,0),0.03999)","v":3.8999999999999998E-3},{"$f":"MIN(OFFSET(Female!T$18,'Female - Rev'!$A50-35,0),0.03999)","v":7.7000000000000002E-3},{"$f":"MIN(OFFSET(Female!U$18,'Female - Rev'!$A50-35,0),0.03999)","v":1.1900000000000001E-2},{"$f":"MIN(OFFSET(Female!V$18,'Female - Rev'!$A50-35,0),0.03999)","v":1.6299999999999999E-2},{"$f":"MIN(OFFSET(Female!W$18,'Female - Rev'!$A50-35,0),0.03999)","v":2.0500000000000001E-2},{"$f":"MIN(OFFSET(Female!X$18,'Female - Rev'!$A50-35,0),0.03999)","v":2.4299999999999999E-2},{"$f":"MIN(OFFSET(Female!Y$18,'Female - Rev'!$A50-35,0),0.03999)","v":2.7300000000000001E-2},{"$f":"MIN(OFFSET(Female!Z$18,'Female - Rev'!$A50-35,0),0.03999)","v":2.92E-2},{"$f":"MIN(OFFSET(Female!AA$18,'Female - Rev'!$A50-35,0),0.03999)","v":2.98E-2},{"$f":"MIN(OFFSET(Female!AB$18,'Female - Rev'!$A50-35,0),0.03999)","v":2.9499999999999998E-2},{"$f":"MIN(OFFSET(Female!AC$18,'Female - Rev'!$A50-35,0),0.03999)","v":2.8500000000000001E-2},{"$f":"MIN(OFFSET(Female!AD$18,'Female - Rev'!$A50-35,0),0.03999)","v":2.69E-2},{"$f":"MIN(OFFSET(Female!AE$18,'Female - Rev'!$A50-35,0),0.03999)","v":2.5100000000000001E-2},{"$f":"MIN(OFFSET(Female!AF$18,'Female - Rev'!$A50-35,0),0.03999)","v":2.3199999999999998E-2},{"$f":"MIN(OFFSET(Female!AG$18,'Female - Rev'!$A50-35,0),0.03999)","v":2.1399999999999999E-2},{"$f":"MIN(OFFSET(Female!AH$18,'Female - Rev'!$A50-35,0),0.03999)","v":1.9699999999999999E-2},{"$f":"MIN(OFFSET(Female!AI$18,'Female - Rev'!$A50-35,0),0.03999)","v":1.7999999999999999E-2},{"$f":"MIN(OFFSET(Female!AJ$18,'Female - Rev'!$A50-35,0),0.03999)","v":1.67E-2},{"$f":"MIN(OFFSET(Female!AK$18,'Female - Rev'!$A50-35,0),0.03999)","v":1.5699999999999999E-2},{"$f":"MIN(OFFSET(Female!AL$18,'Female - Rev'!$A50-35,0),0.03999)","v":1.49E-2},{"$f":"MIN(OFFSET(Female!AM$18,'Female - Rev'!$A50-35,0),0.03999)","v":1.43E-2},{"$f":"MIN(OFFSET(Female!AN$18,'Female - Rev'!$A50-35,0),0.03999)","v":1.37E-2},{"$f":"MIN(OFFSET(Female!AO$18,'Female - Rev'!$A50-35,0),0.03999)","v":1.29E-2},{"$f":"MIN(OFFSET(Female!AP$18,'Female - Rev'!$A50-35,0),0.03999)","v":1.2200000000000001E-2},{"$f":"MIN(OFFSET(Female!AQ$18,'Female - Rev'!$A50-35,0),0.03999)","v":1.15E-2},{"$f":"MIN(OFFSET(Female!AR$18,'Female - Rev'!$A50-35,0),0.03999)","v":1.09E-2},{"$f":"MIN(OFFSET(Female!AS$18,'Female - Rev'!$A50-35,0),0.03999)","v":1.04E-2},{"$f":"MIN(OFFSET(Female!AT$18,'Female - Rev'!$A50-35,0),0.03999)","v":9.7999999999999997E-3},{"$f":"MIN(OFFSET(Female!AU$18,'Female - Rev'!$A50-35,0),0.03999)","v":8.3999999999999995E-3},{"$f":"MIN(OFFSET(Female!AV$18,'Female - Rev'!$A50-35,0),0.03999)","v":6.0000000000000001E-3},{"$f":"MIN(OFFSET(Female!AW$18,'Female - Rev'!$A50-35,0),0.03999)","v":2.5000000000000001E-3},{"$f":"MIN(OFFSET(Female!AX$18,'Female - Rev'!$A50-35,0),0.03999)","v":-1.4E-3},{"$f":"MIN(OFFSET(Female!AY$18,'Female - Rev'!$A50-35,0),0.03999)","v":-5.1000000000000004E-3},{"$f":"MIN(OFFSET(Female!AZ$18,'Female - Rev'!$A50-35,0),0.03999)","v":-7.6E-3},{"$f":"MIN(OFFSET(Female!BA$18,'Female - Rev'!$A50-35,0),0.03999)","v":-8.6E-3},{"$f":"MIN(OFFSET(Female!BB$18,'Female - Rev'!$A50-35,0),0.03999)","v":-7.7999999999999996E-3},{"$f":"MIN(OFFSET(Female!BC$18,'Female - Rev'!$A50-35,0),0.03999)","v":-5.7000000000000002E-3},{"$f":"MIN(OFFSET(Female!BD$18,'Female - Rev'!$A50-35,0),0.03999)","v":-2.7000000000000001E-3},{"$f":"MIN(OFFSET(Female!BE$18,'Female - Rev'!$A50-35,0),0.03999)","v":5.9999999999999995E-4},{"$f":"MIN(OFFSET(Female!BF$18,'Female - Rev'!$A50-35,0),0.03999)","v":3.8E-3},{"$f":"MIN(OFFSET(Female!BG$18,'Female - Rev'!$A50-35,0),0.03999)","v":6.4999999999999997E-3},{"$f":"MIN(OFFSET(Female!BH$18,'Female - Rev'!$A50-35,0),0.03999)","v":8.5000000000000006E-3},{"$f":"MIN(OFFSET(Female!BI$18,'Female - Rev'!$A50-35,0),0.03999)","v":9.7000000000000003E-3},{"$f":"MIN(OFFSET(Female!BJ$18,'Female - Rev'!$A50-35,0),0.03999)","v":9.7999999999999997E-3},{"$f":"MIN(OFFSET(Female!BK$18,'Female - Rev'!$A50-35,0),0.03999)","v":8.9999999999999993E-3},{"$f":"MIN(OFFSET(Female!BL$18,'Female - Rev'!$A50-35,0),0.03999)","v":7.6E-3},{"$f":"MIN(OFFSET(Female!BM$18,'Female - Rev'!$A50-35,0),0.03999)","v":6.0000000000000001E-3},{"$f":"MIN(OFFSET(Female!BN$18,'Female - Rev'!$A50-35,0),0.03999)","v":4.4000000000000003E-3},{"$f":"MIN(OFFSET(Female!BO$18,'Female - Rev'!$A50-35,0),0.03999)","v":4.1000000000000003E-3},{"$f":"MIN(OFFSET(Female!BP$18,'Female - Rev'!$A50-35,0),0.03999)","v":3.5999999999999999E-3},{"$f":"MIN(OFFSET(Female!BQ$18,'Female - Rev'!$A50-35,0),0.03999)","v":2.8E-3},{"$f":"MIN(OFFSET(Female!BR$18,'Female - Rev'!$A50-35,0),0.03999)","v":1.9E-3},{"$f":"MIN(OFFSET(Female!BS$18,'Female - Rev'!$A50-35,0),0.03999)","v":1E-3},{"$f":"MIN(OFFSET(Female!BT$18,'Female - Rev'!$A50-35,0),0.03999)","v":2.0000000000000001E-4},{"$f":"MIN(OFFSET(Female!BU$18,'Female - Rev'!$A50-35,0),0.03999)","v":-4.0000000000000002E-4},{"$f":"MIN(OFFSET(Female!BV$18,'Female - Rev'!$A50-35,0),0.03999)","v":-6.9999999999999999E-4},{"$f":"MIN(OFFSET(Female!BW$18,'Female - Rev'!$A50-35,0),0.03999)","v":-6.9999999999999999E-4},{"$f":"MIN(OFFSET(Female!BX$18,'Female - Rev'!$A50-35,0),0.03999)","v":-4.0000000000000002E-4},{"$f":"MIN(OFFSET(Female!BY$18,'Female - Rev'!$A50-35,0),0.03999)","v":2.9999999999999997E-4},{"$f":"MIN(OFFSET(Female!BZ$18,'Female - Rev'!$A50-35,0),0.03999)","v":1.2999999999999999E-3},{"$f":"MIN(OFFSET(Female!CA$18,'Female - Rev'!$A50-35,0),0.03999)","v":2.5999999999999999E-3},{"$f":"MIN(OFFSET(Female!CB$18,'Female - Rev'!$A50-35,0),0.03999)","v":4.1000000000000003E-3},{"$f":"MIN(OFFSET(Female!CC$18,'Female - Rev'!$A50-35,0),0.03999)","v":5.5999999999999999E-3},{"$f":"MIN(OFFSET(Female!CD$18,'Female - Rev'!$A50-35,0),0.03999)","v":7.0000000000000001E-3},{"$f":"MIN(OFFSET(Female!CE$18,'Female - Rev'!$A50-35,0),0.03999)","v":8.3000000000000001E-3},{"$f":"MIN(OFFSET(Female!CF$18,'Female - Rev'!$A50-35,0),0.03999)","v":9.1999999999999998E-3},{"$f":"MIN(OFFSET(Female!CG$18,'Female - Rev'!$A50-35,0),0.03999)","v":9.7999999999999997E-3},{"$f":"MIN(OFFSET(Female!CH$18,'Female - Rev'!$A50-35,0),0.03999)","v":0.01}]
[47,47,{"$f":"MIN(OFFSET(Female!B$18,'Female - Rev'!$A51-35,0),0.03999)","v":3.9800000000000002E-2},{"$f":"MIN(OFFSET(Female!C$18,'Female - Rev'!$A51-35,0),0.03999)","v":3.6200000000000003E-2},{"$f":"MIN(OFFSET(Female!D$18,'Female - Rev'!$A51-35,0),0.03999)","v":3.2599999999999997E-2},{"$f":"MIN(OFFSET(Female!E$18,'Female - Rev'!$A51-35,0),0.03999)","v":2.8799999999999999E-2},{"$f":"MIN(OFFSET(Female!F$18,'Female - Rev'!$A51-35,0),0.03999)","v":2.46E-2},{"$f":"MIN(OFFSET(Female!G$18,'Female - Rev'!$A51-35,0),0.03999)","v":2.0400000000000001E-2},{"$f":"MIN(OFFSET(Female!H$18,'Female - Rev'!$A51-35,0),0.03999)","v":1.6199999999999999E-2},{"$f":"MIN(OFFSET(Female!I$18,'Female - Rev'!$A51-35,0),0.03999)","v":1.2200000000000001E-2},{"$f":"MIN(OFFSET(Female!J$18,'Female - Rev'!$A51-35,0),0.03999)","v":8.3000000000000001E-3},{"$f":"MIN(OFFSET(Female!K$18,'Female - Rev'!$A51-35,0),0.03999)","v":4.7000000000000002E-3},{"$f":"MIN(OFFSET(Female!L$18,'Female - Rev'!$A51-35,0),0.03999)","v":1.5E-3},{"$f":"MIN(OFFSET(Female!M$18,'Female - Rev'!$A51-35,0),0.03999)","v":-1.1000000000000001E-3},{"$f":"MIN(OFFSET(Female!N$18,'Female - Rev'!$A51-35,0),0.03999)","v":-2.8999999999999998E-3},{"$f":"MIN(OFFSET(Female!O$18,'Female - Rev'!$A51-35,0),0.03999)","v":-3.7000000000000002E-3},{"$f":"MIN(OFFSET(Female!P$18,'Female - Rev'!$A51-35,0),0.03999)","v":-3.3999999999999998E-3},{"$f":"MIN(OFFSET(Female!Q$18,'Female - Rev'!$A51-35,0),0.03999)","v":-2.2000000000000001E-3},{"$f":"MIN(OFFSET(Female!R$18,'Female - Rev'!$A51-35,0),0.03999)","v":1E-4},{"$f":"MIN(OFFSET(Female!S$18,'Female - Rev'!$A51-35,0),0.03999)","v":3.3E-3},{"$f":"MIN(OFFSET(Female!T$18,'Female - Rev'!$A51-35,0),0.03999)","v":7.1999999999999998E-3},{"$f":"MIN(OFFSET(Female!U$18,'Female - Rev'!$A51-35,0),0.03999)","v":1.1599999999999999E-2},{"$f":"MIN(OFFSET(Female!V$18,'Female - Rev'!$A51-35,0),0.03999)","v":1.6199999999999999E-2},{"$f":"MIN(OFFSET(Female!W$18,'Female - Rev'!$A51-35,0),0.03999)","v":2.0799999999999999E-2},{"$f":"MIN(OFFSET(Female!X$18,'Female - Rev'!$A51-35,0),0.03999)","v":2.4899999999999999E-2},{"$f":"MIN(OFFSET(Female!Y$18,'Female - Rev'!$A51-35,0),0.03999)","v":2.8299999999999999E-2},{"$f":"MIN(OFFSET(Female!Z$18,'Female - Rev'!$A51-35,0),0.03999)","v":3.0499999999999999E-2},{"$f":"MIN(OFFSET(Female!AA$18,'Female - Rev'!$A51-35,0),0.03999)","v":3.15E-2},{"$f":"MIN(OFFSET(Female!AB$18,'Female - Rev'!$A51-35,0),0.03999)","v":3.1399999999999997E-2},{"$f":"MIN(OFFSET(Female!AC$18,'Female - Rev'!$A51-35,0),0.03999)","v":3.04E-2},{"$f":"MIN(OFFSET(Female!AD$18,'Female - Rev'!$A51-35,0),0.03999)","v":2.8799999999999999E-2},{"$f":"MIN(OFFSET(Female!AE$18,'Female - Rev'!$A51-35,0),0.03999)","v":2.69E-2},{"$f":"MIN(OFFSET(Female!AF$18,'Female - Rev'!$A51-35,0),0.03999)","v":2.5000000000000001E-2},{"$f":"MIN(OFFSET(Female!AG$18,'Female - Rev'!$A51-35,0),0.03999)","v":2.3099999999999999E-2},{"$f":"MIN(OFFSET(Female!AH$18,'Female - Rev'!$A51-35,0),0.03999)","v":2.12E-2},{"$f":"MIN(OFFSET(Female!AI$18,'Female - Rev'!$A51-35,0),0.03999)","v":1.9400000000000001E-2},{"$f":"MIN(OFFSET(Female!AJ$18,'Female - Rev'!$A51-35,0),0.03999)","v":1.78E-2},{"$f":"MIN(OFFSET(Female!AK$18,'Female - Rev'!$A51-35,0),0.03999)","v":1.6500000000000001E-2},{"$f":"MIN(OFFSET(Female!AL$18,'Female - Rev'!$A51-35,0),0.03999)","v":1.5299999999999999E-2},{"$f":"MIN(OFFSET(Female!AM$18,'Female - Rev'!$A51-35,0),0.03999)","v":1.4200000000000001E-2},{"$f":"MIN(OFFSET(Female!AN$18,'Female - Rev'!$A51-35,0),0.03999)","v":1.2999999999999999E-2},{"$f":"MIN(OFFSET(Female!AO$18,'Female - Rev'!$A51-35,0),0.03999)","v":1.18E-2},{"$f":"MIN(OFFSET(Female!AP$18,'Female - Rev'!$A51-35,0),0.03999)","v":1.0699999999999999E-2},{"$f":"MIN(OFFSET(Female!AQ$18,'Female - Rev'!$A51-35,0),0.03999)","v":9.7000000000000003E-3},{"$f":"MIN(OFFSET(Female!AR$18,'Female - Rev'!$A51-35,0),0.03999)","v":8.8999999999999999E-3},{"$f":"MIN(OFFSET(Female!AS$18,'Female - Rev'!$A51-35,0),0.03999)","v":8.3000000000000001E-3},{"$f":"MIN(OFFSET(Female!AT$18,'Female - Rev'!$A51-35,0),0.03999)","v":7.4999999999999997E-3},{"$f":"MIN(OFFSET(Female!AU$18,'Female - Rev'!$A51-35,0),0.03999)","v":6.1000000000000004E-3},{"$f":"MIN(OFFSET(Female!AV$18,'Female - Rev'!$A51-35,0),0.03999)","v":3.5999999999999999E-3},{"$f":"MIN(OFFSET(Female!AW$18,'Female - Rev'!$A51-35,0),0.03999)","v":0},{"$f":"MIN(OFFSET(Female!AX$18,'Female - Rev'!$A51-35,0),0.03999)","v":-3.8999999999999998E-3},{"$f":"MIN(OFFSET(Female!AY$18,'Female - Rev'!$A51-35,0),0.03999)","v":-7.4000000000000003E-3},{"$f":"MIN(OFFSET(Female!AZ$18,'Female - Rev'!$A51-35,0),0.03999)","v":-9.4999999999999998E-3},{"$f":"MIN(OFFSET(Female!BA$18,'Female - Rev'!$A51-35,0),0.03999)","v":-9.7999999999999997E-3},{"$f":"MIN(OFFSET(Female!BB$18,'Female - Rev'!$A51-35,0),0.03999)","v":-8.2000000000000007E-3},{"$f":"MIN(OFFSET(Female!BC$18,'Female - Rev'!$A51-35,0),0.03999)","v":-5.1999999999999998E-3},{"$f":"MIN(OFFSET(Female!BD$18,'Female - Rev'!$A51-35,0),0.03999)","v":-1.4E-3},{"$f":"MIN(OFFSET(Female!BE$18,'Female - Rev'!$A51-35,0),0.03999)","v":2.5999999999999999E-3},{"$f":"MIN(OFFSET(Female!BF$18,'Female - Rev'!$A51-35,0),0.03999)","v":6.3E-3},{"$f":"MIN(OFFSET(Female!BG$18,'Female - Rev'!$A51-35,0),0.03999)","v":9.2999999999999992E-3},{"$f":"MIN(OFFSET(Female!BH$18,'Female - Rev'!$A51-35,0),0.03999)","v":1.14E-2},{"$f":"MIN(OFFSET(Female!BI$18,'Female - Rev'!$A51-35,0),0.03999)","v":1.23E-2},{"$f":"MIN(OFFSET(Female!BJ$18,'Female - Rev'!$A51-35,0),0.03999)","v":1.2E-2},{"$f":"MIN(OFFSET(Female!BK$18,'Female - Rev'!$A51-35,0),0.03999)","v":1.0699999999999999E-2},{"$f":"MIN(OFFSET(Female!BL$18,'Female - Rev'!$A51-35,0),0.03999)","v":8.6E-3},{"$f":"MIN(OFFSET(Female!BM$18,'Female - Rev'!$A51-35,0),0.03999)","v":6.1000000000000004E-3},{"$f":"MIN(OFFSET(Female!BN$18,'Female - Rev'!$A51-35,0),0.03999)","v":3.5999999999999999E-3},{"$f":"MIN(OFFSET(Female!BO$18,'Female - Rev'!$A51-35,0),0.03999)","v":2.8999999999999998E-3},{"$f":"MIN(OFFSET(Female!BP$18,'Female - Rev'!$A51-35,0),0.03999)","v":2E-3},{"$f":"MIN(OFFSET(Female!BQ$18,'Female - Rev'!$A51-35,0),0.03999)","v":8.9999999999999998E-4},{"$f":"MIN(OFFSET(Female!BR$18,'Female - Rev'!$A51-35,0),0.03999)","v":-1E-4},{"$f":"MIN(OFFSET(Female!BS$18,'Female - Rev'!$A51-35,0),0.03999)","v":-1.1000000000000001E-3},{"$f":"MIN(OFFSET(Female!BT$18,'Female - Rev'!$A51-35,0),0.03999)","v":-1.8E-3},{"$f":"MIN(OFFSET(Female!BU$18,'Female - Rev'!$A51-35,0),0.03999)","v":-2.2000000000000001E-3},{"$f":"MIN(OFFSET(Female!BV$18,'Female - Rev'!$A51-35,0),0.03999)","v":-2.3E-3},{"$f":"MIN(OFFSET(Female!BW$18,'Female - Rev'!$A51-35,0),0.03999)","v":-2E-3},{"$f":"MIN(OFFSET(Female!BX$18,'Female - Rev'!$A51-35,0),0.03999)","v":-1.4E-3},{"$f":"MIN(OFFSET(Female!BY$18,'Female - Rev'!$A51-35,0),0.03999)","v":-5.0000000000000001E-4},{"$f":"MIN(OFFSET(Female!BZ$18,'Female - Rev'!$A51-35,0),0.03999)","v":8.0000000000000004E-4},{"$f":"MIN(OFFSET(Female!CA$18,'Female - Rev'!$A51-35,0),0.03999)","v":2.3E-3},{"$f":"MIN(OFFSET(Female!CB$18,'Female - Rev'!$A51-35,0),0.03999)","v":3.8999999999999998E-3},{"$f":"MIN(OFFSET(Female!CC$18,'Female - Rev'!$A51-35,0),0.03999)","v":5.5999999999999999E-3},{"$f":"MIN(OFFSET(Female!CD$18,'Female - Rev'!$A51-35,0),0.03999)","v":7.0000000000000001E-3},{"$f":"MIN(OFFSET(Female!CE$18,'Female - Rev'!$A51-35,0),0.03999)","v":8.3000000000000001E-3},{"$f":"MIN(OFFSET(Female!CF$18,'Female - Rev'!$A51-35,0),0.03999)","v":9.1999999999999998E-3},{"$f":"MIN(OFFSET(Female!CG$18,'Female - Rev'!$A51-35,0),0.03999)","v":9.7999999999999997E-3},{"$f":"MIN(OFFSET(Female!CH$18,'Female - Rev'!$A51-35,0),0.03999)","v":0.01}]
[46,46,{"$f":"MIN(OFFSET(Female!B$18,'Female - Rev'!$A52-35,0),0.03999)","v":3.9989999999999998E-2},{"$f":"MIN(OFFSET(Female!C$18,'Female - Rev'!$A52-35,0),0.03999)","v":3.7600000000000001E-2},{"$f":"MIN(OFFSET(Female!D$18,'Female - Rev'!$A52-35,0),0.03999)","v":3.3599999999999998E-2},{"$f":"MIN(OFFSET(Female!E$18,'Female - Rev'!$A52-35,0),0.03999)","v":2.9399999999999999E-2},{"$f":"MIN(OFFSET(Female!F$18,'Female - Rev'!$A52-35,0),0.03999)","v":2.5000000000000001E-2},{"$f":"MIN(OFFSET(Female!G$18,'Female - Rev'!$A52-35,0),0.03999)","v":2.0500000000000001E-2},{"$f":"MIN(OFFSET(Female!H$18,'Female - Rev'!$A52-35,0),0.03999)","v":1.6199999999999999E-2},{"$f":"MIN(OFFSET(Female!I$18,'Female - Rev'!$A52-35,0),0.03999)","v":1.21E-2},{"$f":"MIN(OFFSET(Female!J$18,'Female - Rev'!$A52-35,0),0.03999)","v":8.0999999999999996E-3},{"$f":"MIN(OFFSET(Female!K$18,'Female - Rev'!$A52-35,0),0.03999)","v":4.4999999999999997E-3},{"$f":"MIN(OFFSET(Female!L$18,'Female - Rev'!$A52-35,0),0.03999)","v":1.1999999999999999E-3},{"$f":"MIN(OFFSET(Female!M$18,'Female - Rev'!$A52-35,0),0.03999)","v":-1.4E-3},{"$f":"MIN(OFFSET(Female!N$18,'Female - Rev'!$A52-35,0),0.03999)","v":-3.3E-3},{"$f":"MIN(OFFSET(Female!O$18,'Female - Rev'!$A52-35,0),0.03999)","v":-4.1000000000000003E-3},{"$f":"MIN(OFFSET(Female!P$18,'Female - Rev'!$A52-35,0),0.03999)","v":-4.0000000000000001E-3},{"$f":"MIN(OFFSET(Female!Q$18,'Female - Rev'!$A52-35,0),0.03999)","v":-2.8E-3},{"$f":"MIN(OFFSET(Female!R$18,'Female - Rev'!$A52-35,0),0.03999)","v":-5.0000000000000001E-4},{"$f":"MIN(OFFSET(Female!S$18,'Female - Rev'!$A52-35,0),0.03999)","v":2.7000000000000001E-3},{"$f":"MIN(OFFSET(Female!T$18,'Female - Rev'!$A52-35,0),0.03999)","v":6.7000000000000002E-3},{"$f":"MIN(OFFSET(Female!U$18,'Female - Rev'!$A52-35,0),0.03999)","v":1.1299999999999999E-2},{"$f":"MIN(OFFSET(Female!V$18,'Female - Rev'!$A52-35,0),0.03999)","v":1.6199999999999999E-2},{"$f":"MIN(OFFSET(Female!W$18,'Female - Rev'!$A52-35,0),0.03999)","v":2.1100000000000001E-2},{"$f":"MIN(OFFSET(Female!X$18,'Female - Rev'!$A52-35,0),0.03999)","v":2.5700000000000001E-2},{"$f":"MIN(OFFSET(Female!Y$18,'Female - Rev'!$A52-35,0),0.03999)","v":2.9399999999999999E-2},{"$f":"MIN(OFFSET(Female!Z$18,'Female - Rev'!$A52-35,0),0.03999)","v":3.2000000000000001E-2},{"$f":"MIN(OFFSET(Female!AA$18,'Female - Rev'!$A52-35,0),0.03999)","v":3.32E-2},{"$f":"MIN(OFFSET(Female!AB$18,'Female - Rev'!$A52-35,0),0.03999)","v":3.32E-2},{"$f":"MIN(OFFSET(Female!AC$18,'Female - Rev'!$A52-35,0),0.03999)","v":3.2300000000000002E-2},{"$f":"MIN(OFFSET(Female!AD$18,'Female - Rev'!$A52-35,0),0.03999)","v":3.0700000000000002E-2},{"$f":"MIN(OFFSET(Female!AE$18,'Female - Rev'!$A52-35,0),0.03999)","v":2.87E-2},{"$f":"MIN(OFFSET(Female!AF$18,'Female - Rev'!$A52-35,0),0.03999)","v":2.6599999999999999E-2},{"$f":"MIN(OFFSET(Female!AG$18,'Female - Rev'!$A52-35,0),0.03999)","v":2.46E-2},{"$f":"MIN(OFFSET(Female!AH$18,'Female - Rev'!$A52-35,0),0.03999)","v":2.2499999999999999E-2},{"$f":"MIN(OFFSET(Female!AI$18,'Female - Rev'!$A52-35,0),0.03999)","v":2.0500000000000001E-2},{"$f":"MIN(OFFSET(Female!AJ$18,'Female - Rev'!$A52-35,0),0.03999)","v":1.8599999999999998E-2},{"$f":"MIN(OFFSET(Female!AK$18,'Female - Rev'!$A52-35,0),0.03999)","v":1.6899999999999998E-2},{"$f":"MIN(OFFSET(Female!AL$18,'Female - Rev'!$A52-35,0),0.03999)","v":1.5299999999999999E-2},{"$f":"MIN(OFFSET(Female!AM$18,'Female - Rev'!$A52-35,0),0.03999)","v":1.38E-2},{"$f":"MIN(OFFSET(Female!AN$18,'Female - Rev'!$A52-35,0),0.03999)","v":1.21E-2},{"$f":"MIN(OFFSET(Female!AO$18,'Female - Rev'!$A52-35,0),0.03999)","v":1.04E-2},{"$f":"MIN(OFFSET(Female!AP$18,'Female - Rev'!$A52-35,0),0.03999)","v":8.8000000000000005E-3},{"$f":"MIN(OFFSET(Female!AQ$18,'Female - Rev'!$A52-35,0),0.03999)","v":7.4999999999999997E-3},{"$f":"MIN(OFFSET(Female!AR$18,'Female - Rev'!$A52-35,0),0.03999)","v":6.4000000000000003E-3},{"$f":"MIN(OFFSET(Female!AS$18,'Female - Rev'!$A52-35,0),0.03999)","v":5.7000000000000002E-3},{"$f":"MIN(OFFSET(Female!AT$18,'Female - Rev'!$A52-35,0),0.03999)","v":5.0000000000000001E-3},{"$f":"MIN(OFFSET(Female!AU$18,'Female - Rev'!$A52-35,0),0.03999)","v":3.5999999999999999E-3},{"$f":"MIN(OFFSET(Female!AV$18,'Female - Rev'!$A52-35,0),0.03999)","v":1.1999999999999999E-3},{"$f":"MIN(OFFSET(Female!AW$18,'Female - Rev'!$A52-35,0),0.03999)","v":-2.2000000000000001E-3},{"$f":"MIN(OFFSET(Female!AX$18,'Female - Rev'!$A52-35,0),0.03999)","v":-5.8999999999999999E-3},{"$f":"MIN(OFFSET(Female!AY$18,'Female - Rev'!$A52-35,0),0.03999)","v":-8.9999999999999993E-3},{"$f":"MIN(OFFSET(Female!AZ$18,'Female - Rev'!$A52-35,0),0.03999)","v":-1.06E-2},{"$f":"MIN(OFFSET(Female!BA$18,'Female - Rev'!$A52-35,0),0.03999)","v":-1.0200000000000001E-2},{"$f":"MIN(OFFSET(Female!BB$18,'Female - Rev'!$A52-35,0),0.03999)","v":-7.7999999999999996E-3},{"$f":"MIN(OFFSET(Female!BC$18,'Female - Rev'!$A52-35,0),0.03999)","v":-4.0000000000000001E-3},{"$f":"MIN(OFFSET(Female!BD$18,'Female - Rev'!$A52-35,0),0.03999)","v":5.0000000000000001E-4},{"$f":"MIN(OFFSET(Female!BE$18,'Female - Rev'!$A52-35,0),0.03999)","v":5.1000000000000004E-3},{"$f":"MIN(OFFSET(Female!BF$18,'Female - Rev'!$A52-35,0),0.03999)","v":9.1000000000000004E-3},{"$f":"MIN(OFFSET(Female!BG$18,'Female - Rev'!$A52-35,0),0.03999)","v":1.2200000000000001E-2},{"$f":"MIN(OFFSET(Female!BH$18,'Female - Rev'!$A52-35,0),0.03999)","v":1.41E-2},{"$f":"MIN(OFFSET(Female!BI$18,'Female - Rev'!$A52-35,0),0.03999)","v":1.46E-2},{"$f":"MIN(OFFSET(Female!BJ$18,'Female - Rev'!$A52-35,0),0.03999)","v":1.37E-2},{"$f":"MIN(OFFSET(Female!BK$18,'Female - Rev'!$A52-35,0),0.03999)","v":1.1599999999999999E-2},{"$f":"MIN(OFFSET(Female!BL$18,'Female - Rev'!$A52-35,0),0.03999)","v":8.6999999999999994E-3},{"$f":"MIN(OFFSET(Female!BM$18,'Female - Rev'!$A52-35,0),0.03999)","v":5.3E-3},{"$f":"MIN(OFFSET(Female!BN$18,'Female - Rev'!$A52-35,0),0.03999)","v":1.9E-3},{"$f":"MIN(OFFSET(Female!BO$18,'Female - Rev'!$A52-35,0),0.03999)","v":8.0000000000000004E-4},{"$f":"MIN(OFFSET(Female!BP$18,'Female - Rev'!$A52-35,0),0.03999)","v":-4.0000000000000002E-4},{"$f":"MIN(OFFSET(Female!BQ$18,'Female - Rev'!$A52-35,0),0.03999)","v":-1.6000000000000001E-3},{"$f":"MIN(OFFSET(Female!BR$18,'Female - Rev'!$A52-35,0),0.03999)","v":-2.7000000000000001E-3},{"$f":"MIN(OFFSET(Female!BS$18,'Female - Rev'!$A52-35,0),0.03999)","v":-3.5000000000000001E-3},{"$f":"MIN(OFFSET(Female!BT$18,'Female - Rev'!$A52-35,0),0.03999)","v":-4.0000000000000001E-3},{"$f":"MIN(OFFSET(Female!BU$18,'Female - Rev'!$A52-35,0),0.03999)","v":-4.1999999999999997E-3},{"$f":"MIN(OFFSET(Female!BV$18,'Female - Rev'!$A52-35,0),0.03999)","v":-3.8999999999999998E-3},{"$f":"MIN(OFFSET(Female!BW$18,'Female - Rev'!$A52-35,0),0.03999)","v":-3.3E-3},{"$f":"MIN(OFFSET(Female!BX$18,'Female - Rev'!$A52-35,0),0.03999)","v":-2.3E-3},{"$f":"MIN(OFFSET(Female!BY$18,'Female - Rev'!$A52-35,0),0.03999)","v":-1.1000000000000001E-3},{"$f":"MIN(OFFSET(Female!BZ$18,'Female - Rev'!$A52-35,0),0.03999)","v":4.0000000000000002E-4},{"$f":"MIN(OFFSET(Female!CA$18,'Female - Rev'!$A52-35,0),0.03999)","v":2.0999999999999999E-3},{"$f":"MIN(OFFSET(Female!CB$18,'Female - Rev'!$A52-35,0),0.03999)","v":3.8999999999999998E-3},{"$f":"MIN(OFFSET(Female!CC$18,'Female - Rev'!$A52-35,0),0.03999)","v":5.5999999999999999E-3},{"$f":"MIN(OFFSET(Female!CD$18,'Female - Rev'!$A52-35,0),0.03999)","v":7.1000000000000004E-3},{"$f":"MIN(OFFSET(Female!CE$18,'Female - Rev'!$A52-35,0),0.03999)","v":8.3000000000000001E-3},{"$f":"MIN(OFFSET(Female!CF$18,'Female - Rev'!$A52-35,0),0.03999)","v":9.2999999999999992E-3},{"$f":"MIN(OFFSET(Female!CG$18,'Female - Rev'!$A52-35,0),0.03999)","v":9.7999999999999997E-3},{"$f":"MIN(OFFSET(Female!CH$18,'Female - Rev'!$A52-35,0),0.03999)","v":0.01}]
[45,45,{"$f":"MIN(OFFSET(Female!B$18,'Female - Rev'!$A53-35,0),0.03999)","v":3.9989999999999998E-2},{"$f":"MIN(OFFSET(Female!C$18,'Female - Rev'!$A53-35,0),0.03999)","v":3.8699999999999998E-2},{"$f":"MIN(OFFSET(Female!D$18,'Female - Rev'!$A53-35,0),0.03999)","v":3.4500000000000003E-2},{"$f":"MIN(OFFSET(Female!E$18,'Female - Rev'!$A53-35,0),0.03999)","v":3.0099999999999998E-2},{"$f":"MIN(OFFSET(Female!F$18,'Female - Rev'!$A53-35,0),0.03999)","v":2.5499999999999998E-2},{"$f":"MIN(OFFSET(Female!G$18,'Female - Rev'!$A53-35,0),0.03999)","v":2.0899999999999998E-2},{"$f":"MIN(OFFSET(Female!H$18,'Female - Rev'!$A53-35,0),0.03999)","v":1.6400000000000001E-2},{"$f":"MIN(OFFSET(Female!I$18,'Female - Rev'!$A53-35,0),0.03999)","v":1.21E-2},{"$f":"MIN(OFFSET(Female!J$18,'Female - Rev'!$A53-35,0),0.03999)","v":8.0999999999999996E-3},{"$f":"MIN(OFFSET(Female!K$18,'Female - Rev'!$A53-35,0),0.03999)","v":4.3E-3},{"$f":"MIN(OFFSET(Female!L$18,'Female - Rev'!$A53-35,0),0.03999)","v":1E-3},{"$f":"MIN(OFFSET(Female!M$18,'Female - Rev'!$A53-35,0),0.03999)","v":-1.6999999999999999E-3},{"$f":"MIN(OFFSET(Female!N$18,'Female - Rev'!$A53-35,0),0.03999)","v":-3.5999999999999999E-3},{"$f":"MIN(OFFSET(Female!O$18,'Female - Rev'!$A53-35,0),0.03999)","v":-4.5999999999999999E-3},{"$f":"MIN(OFFSET(Female!P$18,'Female - Rev'!$A53-35,0),0.03999)","v":-4.4999999999999997E-3},{"$f":"MIN(OFFSET(Female!Q$18,'Female - Rev'!$A53-35,0),0.03999)","v":-3.3999999999999998E-3},{"$f":"MIN(OFFSET(Female!R$18,'Female - Rev'!$A53-35,0),0.03999)","v":-1.1999999999999999E-3},{"$f":"MIN(OFFSET(Female!S$18,'Female - Rev'!$A53-35,0),0.03999)","v":2.0999999999999999E-3},{"$f":"MIN(OFFSET(Female!T$18,'Female - Rev'!$A53-35,0),0.03999)","v":6.3E-3},{"$f":"MIN(OFFSET(Female!U$18,'Female - Rev'!$A53-35,0),0.03999)","v":1.11E-2},{"$f":"MIN(OFFSET(Female!V$18,'Female - Rev'!$A53-35,0),0.03999)","v":1.6299999999999999E-2},{"$f":"MIN(OFFSET(Female!W$18,'Female - Rev'!$A53-35,0),0.03999)","v":2.1600000000000001E-2},{"$f":"MIN(OFFSET(Female!X$18,'Female - Rev'!$A53-35,0),0.03999)","v":2.6499999999999999E-2},{"$f":"MIN(OFFSET(Female!Y$18,'Female - Rev'!$A53-35,0),0.03999)","v":3.0599999999999999E-2},{"$f":"MIN(OFFSET(Female!Z$18,'Female - Rev'!$A53-35,0),0.03999)","v":3.3399999999999999E-2},{"$f":"MIN(OFFSET(Female!AA$18,'Female - Rev'!$A53-35,0),0.03999)","v":3.49E-2},{"$f":"MIN(OFFSET(Female!AB$18,'Female - Rev'!$A53-35,0),0.03999)","v":3.5000000000000003E-2},{"$f":"MIN(OFFSET(Female!AC$18,'Female - Rev'!$A53-35,0),0.03999)","v":3.4200000000000001E-2},{"$f":"MIN(OFFSET(Female!AD$18,'Female - Rev'!$A53-35,0),0.03999)","v":3.2599999999999997E-2},{"$f":"MIN(OFFSET(Female!AE$18,'Female - Rev'!$A53-35,0),0.03999)","v":3.04E-2},{"$f":"MIN(OFFSET(Female!AF$18,'Female - Rev'!$A53-35,0),0.03999)","v":2.8199999999999999E-2},{"$f":"MIN(OFFSET(Female!AG$18,'Female - Rev'!$A53-35,0),0.03999)","v":2.58E-2},{"$f":"MIN(OFFSET(Female!AH$18,'Female - Rev'!$A53-35,0),0.03999)","v":2.35E-2},{"$f":"MIN(OFFSET(Female!AI$18,'Female - Rev'!$A53-35,0),0.03999)","v":2.12E-2},{"$f":"MIN(OFFSET(Female!AJ$18,'Female - Rev'!$A53-35,0),0.03999)","v":1.9E-2},{"$f":"MIN(OFFSET(Female!AK$18,'Female - Rev'!$A53-35,0),0.03999)","v":1.7000000000000001E-2},{"$f":"MIN(OFFSET(Female!AL$18,'Female - Rev'!$A53-35,0),0.03999)","v":1.4999999999999999E-2},{"$f":"MIN(OFFSET(Female!AM$18,'Female - Rev'!$A53-35,0),0.03999)","v":1.2999999999999999E-2},{"$f":"MIN(OFFSET(Female!AN$18,'Female - Rev'!$A53-35,0),0.03999)","v":1.09E-2},{"$f":"MIN(OFFSET(Female!AO$18,'Female - Rev'!$A53-35,0),0.03999)","v":8.6999999999999994E-3},{"$f":"MIN(OFFSET(Female!AP$18,'Female - Rev'!$A53-35,0),0.03999)","v":6.7000000000000002E-3},{"$f":"MIN(OFFSET(Female!AQ$18,'Female - Rev'!$A53-35,0),0.03999)","v":5.0000000000000001E-3},{"$f":"MIN(OFFSET(Female!AR$18,'Female - Rev'!$A53-35,0),0.03999)","v":3.7000000000000002E-3},{"$f":"MIN(OFFSET(Female!AS$18,'Female - Rev'!$A53-35,0),0.03999)","v":3.0000000000000001E-3},{"$f":"MIN(OFFSET(Female!AT$18,'Female - Rev'!$A53-35,0),0.03999)","v":2.3999999999999998E-3},{"$f":"MIN(OFFSET(Female!AU$18,'Female - Rev'!$A53-35,0),0.03999)","v":1.2999999999999999E-3},{"$f":"MIN(OFFSET(Female!AV$18,'Female - Rev'!$A53-35,0),0.03999)","v":-8.9999999999999998E-4},{"$f":"MIN(OFFSET(Female!AW$18,'Female - Rev'!$A53-35,0),0.03999)","v":-3.8999999999999998E-3},{"$f":"MIN(OFFSET(Female!AX$18,'Female - Rev'!$A53-35,0),0.03999)","v":-7.1999999999999998E-3},{"$f":"MIN(OFFSET(Female!AY$18,'Female - Rev'!$A53-35,0),0.03999)","v":-9.7999999999999997E-3},{"$f":"MIN(OFFSET(Female!AZ$18,'Female - Rev'!$A53-35,0),0.03999)","v":-1.0800000000000001E-2},{"$f":"MIN(OFFSET(Female!BA$18,'Female - Rev'!$A53-35,0),0.03999)","v":-9.7000000000000003E-3},{"$f":"MIN(OFFSET(Female!BB$18,'Female - Rev'!$A53-35,0),0.03999)","v":-6.6E-3},{"$f":"MIN(OFFSET(Female!BC$18,'Female - Rev'!$A53-35,0),0.03999)","v":-2.0999999999999999E-3},{"$f":"MIN(OFFSET(Female!BD$18,'Female - Rev'!$A53-35,0),0.03999)","v":2.8999999999999998E-3},{"$f":"MIN(OFFSET(Female!BE$18,'Female - Rev'!$A53-35,0),0.03999)","v":7.7999999999999996E-3},{"$f":"MIN(OFFSET(Female!BF$18,'Female - Rev'!$A53-35,0),0.03999)","v":1.2E-2},{"$f":"MIN(OFFSET(Female!BG$18,'Female - Rev'!$A53-35,0),0.03999)","v":1.49E-2},{"$f":"MIN(OFFSET(Female!BH$18,'Female - Rev'!$A53-35,0),0.03999)","v":1.6400000000000001E-2},{"$f":"MIN(OFFSET(Female!BI$18,'Female - Rev'!$A53-35,0),0.03999)","v":1.6400000000000001E-2},{"$f":"MIN(OFFSET(Female!BJ$18,'Female - Rev'!$A53-35,0),0.03999)","v":1.47E-2},{"$f":"MIN(OFFSET(Female!BK$18,'Female - Rev'!$A53-35,0),0.03999)","v":1.17E-2},{"$f":"MIN(OFFSET(Female!BL$18,'Female - Rev'!$A53-35,0),0.03999)","v":7.9000000000000008E-3},{"$f":"MIN(OFFSET(Female!BM$18,'Female - Rev'!$A53-35,0),0.03999)","v":3.7000000000000002E-3},{"$f":"MIN(OFFSET(Female!BN$18,'Female - Rev'!$A53-35,0),0.03999)","v":-6.9999999999999999E-4},{"$f":"MIN(OFFSET(Female!BO$18,'Female - Rev'!$A53-35,0),0.03999)","v":-2.0999999999999999E-3},{"$f":"MIN(OFFSET(Female!BP$18,'Female - Rev'!$A53-35,0),0.03999)","v":-3.5000000000000001E-3},{"$f":"MIN(OFFSET(Female!BQ$18,'Female - Rev'!$A53-35,0),0.03999)","v":-4.7000000000000002E-3},{"$f":"MIN(OFFSET(Female!BR$18,'Female - Rev'!$A53-35,0),0.03999)","v":-5.7000000000000002E-3},{"$f":"MIN(OFFSET(Female!BS$18,'Female - Rev'!$A53-35,0),0.03999)","v":-6.1999999999999998E-3},{"$f":"MIN(OFFSET(Female!BT$18,'Female - Rev'!$A53-35,0),0.03999)","v":-6.4000000000000003E-3},{"$f":"MIN(OFFSET(Female!BU$18,'Female - Rev'!$A53-35,0),0.03999)","v":-6.1000000000000004E-3},{"$f":"MIN(OFFSET(Female!BV$18,'Female - Rev'!$A53-35,0),0.03999)","v":-5.4000000000000003E-3},{"$f":"MIN(OFFSET(Female!BW$18,'Female - Rev'!$A53-35,0),0.03999)","v":-4.3E-3},{"$f":"MIN(OFFSET(Female!BX$18,'Female - Rev'!$A53-35,0),0.03999)","v":-3.0999999999999999E-3},{"$f":"MIN(OFFSET(Female!BY$18,'Female - Rev'!$A53-35,0),0.03999)","v":-1.6000000000000001E-3},{"$f":"MIN(OFFSET(Female!BZ$18,'Female - Rev'!$A53-35,0),0.03999)","v":1E-4},{"$f":"MIN(OFFSET(Female!CA$18,'Female - Rev'!$A53-35,0),0.03999)","v":2E-3},{"$f":"MIN(OFFSET(Female!CB$18,'Female - Rev'!$A53-35,0),0.03999)","v":3.8999999999999998E-3},{"$f":"MIN(OFFSET(Female!CC$18,'Female - Rev'!$A53-35,0),0.03999)","v":5.5999999999999999E-3},{"$f":"MIN(OFFSET(Female!CD$18,'Female - Rev'!$A53-35,0),0.03999)","v":7.1999999999999998E-3},{"$f":"MIN(OFFSET(Female!CE$18,'Female - Rev'!$A53-35,0),0.03999)","v":8.3999999999999995E-3},{"$f":"MIN(OFFSET(Female!CF$18,'Female - Rev'!$A53-35,0),0.03999)","v":9.2999999999999992E-3},{"$f":"MIN(OFFSET(Female!CG$18,'Female - Rev'!$A53-35,0),0.03999)","v":9.7999999999999997E-3},{"$f":"MIN(OFFSET(Female!CH$18,'Female - Rev'!$A53-35,0),0.03999)","v":0.01}]
[44,44,{"$f":"MIN(OFFSET(Female!B$18,'Female - Rev'!$A54-35,0),0.03999)","v":3.9989999999999998E-2},{"$f":"MIN(OFFSET(Female!C$18,'Female - Rev'!$A54-35,0),0.03999)","v":3.9699999999999999E-2},{"$f":"MIN(OFFSET(Female!D$18,'Female - Rev'!$A54-35,0),0.03999)","v":3.5400000000000001E-2},{"$f":"MIN(OFFSET(Female!E$18,'Female - Rev'!$A54-35,0),0.03999)","v":3.09E-2},{"$f":"MIN(OFFSET(Female!F$18,'Female - Rev'!$A54-35,0),0.03999)","v":2.6200000000000001E-2},{"$f":"MIN(OFFSET(Female!G$18,'Female - Rev'!$A54-35,0),0.03999)","v":2.1499999999999998E-2},{"$f":"MIN(OFFSET(Female!H$18,'Female - Rev'!$A54-35,0),0.03999)","v":1.6799999999999999E-2},{"$f":"MIN(OFFSET(Female!I$18,'Female - Rev'!$A54-35,0),0.03999)","v":1.23E-2},{"$f":"MIN(OFFSET(Female!J$18,'Female - Rev'!$A54-35,0),0.03999)","v":8.0999999999999996E-3},{"$f":"MIN(OFFSET(Female!K$18,'Female - Rev'!$A54-35,0),0.03999)","v":4.1999999999999997E-3},{"$f":"MIN(OFFSET(Female!L$18,'Female - Rev'!$A54-35,0),0.03999)","v":8.0000000000000004E-4},{"$f":"MIN(OFFSET(Female!M$18,'Female - Rev'!$A54-35,0),0.03999)","v":-2E-3},{"$f":"MIN(OFFSET(Female!N$18,'Female - Rev'!$A54-35,0),0.03999)","v":-4.0000000000000001E-3},{"$f":"MIN(OFFSET(Female!O$18,'Female - Rev'!$A54-35,0),0.03999)","v":-5.0000000000000001E-3},{"$f":"MIN(OFFSET(Female!P$18,'Female - Rev'!$A54-35,0),0.03999)","v":-5.0000000000000001E-3},{"$f":"MIN(OFFSET(Female!Q$18,'Female - Rev'!$A54-35,0),0.03999)","v":-3.8999999999999998E-3},{"$f":"MIN(OFFSET(Female!R$18,'Female - Rev'!$A54-35,0),0.03999)","v":-1.6999999999999999E-3},{"$f":"MIN(OFFSET(Female!S$18,'Female - Rev'!$A54-35,0),0.03999)","v":1.6000000000000001E-3},{"$f":"MIN(OFFSET(Female!T$18,'Female - Rev'!$A54-35,0),0.03999)","v":5.8999999999999999E-3},{"$f":"MIN(OFFSET(Female!U$18,'Female - Rev'!$A54-35,0),0.03999)","v":1.11E-2},{"$f":"MIN(OFFSET(Female!V$18,'Female - Rev'!$A54-35,0),0.03999)","v":1.67E-2},{"$f":"MIN(OFFSET(Female!W$18,'Female - Rev'!$A54-35,0),0.03999)","v":2.23E-2},{"$f":"MIN(OFFSET(Female!X$18,'Female - Rev'!$A54-35,0),0.03999)","v":2.75E-2},{"$f":"MIN(OFFSET(Female!Y$18,'Female - Rev'!$A54-35,0),0.03999)","v":3.1899999999999998E-2},{"$f":"MIN(OFFSET(Female!Z$18,'Female - Rev'!$A54-35,0),0.03999)","v":3.49E-2},{"$f":"MIN(OFFSET(Female!AA$18,'Female - Rev'!$A54-35,0),0.03999)","v":3.6499999999999998E-2},{"$f":"MIN(OFFSET(Female!AB$18,'Female - Rev'!$A54-35,0),0.03999)","v":3.6799999999999999E-2},{"$f":"MIN(OFFSET(Female!AC$18,'Female - Rev'!$A54-35,0),0.03999)","v":3.5900000000000001E-2},{"$f":"MIN(OFFSET(Female!AD$18,'Female - Rev'!$A54-35,0),0.03999)","v":3.4299999999999997E-2},{"$f":"MIN(OFFSET(Female!AE$18,'Female - Rev'!$A54-35,0),0.03999)","v":3.2000000000000001E-2},{"$f":"MIN(OFFSET(Female!AF$18,'Female - Rev'!$A54-35,0),0.03999)","v":2.9499999999999998E-2},{"$f":"MIN(OFFSET(Female!AG$18,'Female - Rev'!$A54-35,0),0.03999)","v":2.6800000000000001E-2},{"$f":"MIN(OFFSET(Female!AH$18,'Female - Rev'!$A54-35,0),0.03999)","v":2.41E-2},{"$f":"MIN(OFFSET(Female!AI$18,'Female - Rev'!$A54-35,0),0.03999)","v":2.1399999999999999E-2},{"$f":"MIN(OFFSET(Female!AJ$18,'Female - Rev'!$A54-35,0),0.03999)","v":1.89E-2},{"$f":"MIN(OFFSET(Female!AK$18,'Female - Rev'!$A54-35,0),0.03999)","v":1.6500000000000001E-2},{"$f":"MIN(OFFSET(Female!AL$18,'Female - Rev'!$A54-35,0),0.03999)","v":1.4200000000000001E-2},{"$f":"MIN(OFFSET(Female!AM$18,'Female - Rev'!$A54-35,0),0.03999)","v":1.17E-2},{"$f":"MIN(OFFSET(Female!AN$18,'Female - Rev'!$A54-35,0),0.03999)","v":9.1999999999999998E-3},{"$f":"MIN(OFFSET(Female!AO$18,'Female - Rev'!$A54-35,0),0.03999)","v":6.7000000000000002E-3},{"$f":"MIN(OFFSET(Female!AP$18,'Female - Rev'!$A54-35,0),0.03999)","v":4.3E-3},{"$f":"MIN(OFFSET(Female!AQ$18,'Female - Rev'!$A54-35,0),0.03999)","v":2.3E-3},{"$f":"MIN(OFFSET(Female!AR$18,'Female - Rev'!$A54-35,0),0.03999)","v":8.9999999999999998E-4},{"$f":"MIN(OFFSET(Female!AS$18,'Female - Rev'!$A54-35,0),0.03999)","v":2.9999999999999997E-4},{"$f":"MIN(OFFSET(Female!AT$18,'Female - Rev'!$A54-35,0),0.03999)","v":-1E-4},{"$f":"MIN(OFFSET(Female!AU$18,'Female - Rev'!$A54-35,0),0.03999)","v":-8.0000000000000004E-4},{"$f":"MIN(OFFSET(Female!AV$18,'Female - Rev'!$A54-35,0),0.03999)","v":-2.3999999999999998E-3},{"$f":"MIN(OFFSET(Female!AW$18,'Female - Rev'!$A54-35,0),0.03999)","v":-4.8999999999999998E-3},{"$f":"MIN(OFFSET(Female!AX$18,'Female - Rev'!$A54-35,0),0.03999)","v":-7.7000000000000002E-3},{"$f":"MIN(OFFSET(Female!AY$18,'Female - Rev'!$A54-35,0),0.03999)","v":-9.7000000000000003E-3},{"$f":"MIN(OFFSET(Female!AZ$18,'Female - Rev'!$A54-35,0),0.03999)","v":-1.01E-2},{"$f":"MIN(OFFSET(Female!BA$18,'Female - Rev'!$A54-35,0),0.03999)","v":-8.3999999999999995E-3},{"$f":"MIN(OFFSET(Female!BB$18,'Female - Rev'!$A54-35,0),0.03999)","v":-4.7000000000000002E-3},{"$f":"MIN(OFFSET(Female!BC$18,'Female - Rev'!$A54-35,0),0.03999)","v":2.0000000000000001E-4},{"$f":"MIN(OFFSET(Female!BD$18,'Female - Rev'!$A54-35,0),0.03999)","v":5.5999999999999999E-3},{"$f":"MIN(OFFSET(Female!BE$18,'Female - Rev'!$A54-35,0),0.03999)","v":1.06E-2},{"$f":"MIN(OFFSET(Female!BF$18,'Female - Rev'!$A54-35,0),0.03999)","v":1.47E-2},{"$f":"MIN(OFFSET(Female!BG$18,'Female - Rev'!$A54-35,0),0.03999)","v":1.7299999999999999E-2},{"$f":"MIN(OFFSET(Female!BH$18,'Female - Rev'!$A54-35,0),0.03999)","v":1.83E-2},{"$f":"MIN(OFFSET(Female!BI$18,'Female - Rev'!$A54-35,0),0.03999)","v":1.7500000000000002E-2},{"$f":"MIN(OFFSET(Female!BJ$18,'Female - Rev'!$A54-35,0),0.03999)","v":1.49E-2},{"$f":"MIN(OFFSET(Female!BK$18,'Female - Rev'!$A54-35,0),0.03999)","v":1.0999999999999999E-2},{"$f":"MIN(OFFSET(Female!BL$18,'Female - Rev'!$A54-35,0),0.03999)","v":6.3E-3},{"$f":"MIN(OFFSET(Female!BM$18,'Female - Rev'!$A54-35,0),0.03999)","v":1.1000000000000001E-3},{"$f":"MIN(OFFSET(Female!BN$18,'Female - Rev'!$A54-35,0),0.03999)","v":-4.0000000000000001E-3},{"$f":"MIN(OFFSET(Female!BO$18,'Female - Rev'!$A54-35,0),0.03999)","v":-5.7999999999999996E-3},{"$f":"MIN(OFFSET(Female!BP$18,'Female - Rev'!$A54-35,0),0.03999)","v":-7.1999999999999998E-3},{"$f":"MIN(OFFSET(Female!BQ$18,'Female - Rev'!$A54-35,0),0.03999)","v":-8.3000000000000001E-3},{"$f":"MIN(OFFSET(Female!BR$18,'Female - Rev'!$A54-35,0),0.03999)","v":-8.9999999999999993E-3},{"$f":"MIN(OFFSET(Female!BS$18,'Female - Rev'!$A54-35,0),0.03999)","v":-9.1000000000000004E-3},{"$f":"MIN(OFFSET(Female!BT$18,'Female - Rev'!$A54-35,0),0.03999)","v":-8.8000000000000005E-3},{"$f":"MIN(OFFSET(Female!BU$18,'Female - Rev'!$A54-35,0),0.03999)","v":-7.9000000000000008E-3},{"$f":"MIN(OFFSET(Female!BV$18,'Female - Rev'!$A54-35,0),0.03999)","v":-6.7000000000000002E-3},{"$f":"MIN(OFFSET(Female!BW$18,'Female - Rev'!$A54-35,0),0.03999)","v":-5.3E-3},{"$f":"MIN(OFFSET(Female!BX$18,'Female - Rev'!$A54-35,0),0.03999)","v":-3.7000000000000002E-3},{"$f":"MIN(OFFSET(Female!BY$18,'Female - Rev'!$A54-35,0),0.03999)","v":-1.9E-3},{"$f":"MIN(OFFSET(Female!BZ$18,'Female - Rev'!$A54-35,0),0.03999)","v":0},{"$f":"MIN(OFFSET(Female!CA$18,'Female - Rev'!$A54-35,0),0.03999)","v":2E-3},{"$f":"MIN(OFFSET(Female!CB$18,'Female - Rev'!$A54-35,0),0.03999)","v":4.0000000000000001E-3},{"$f":"MIN(OFFSET(Female!CC$18,'Female - Rev'!$A54-35,0),0.03999)","v":5.7000000000000002E-3},{"$f":"MIN(OFFSET(Female!CD$18,'Female - Rev'!$A54-35,0),0.03999)","v":7.3000000000000001E-3},{"$f":"MIN(OFFSET(Female!CE$18,'Female - Rev'!$A54-35,0),0.03999)","v":8.5000000000000006E-3},{"$f":"MIN(OFFSET(Female!CF$18,'Female - Rev'!$A54-35,0),0.03999)","v":9.2999999999999992E-3},{"$f":"MIN(OFFSET(Female!CG$18,'Female - Rev'!$A54-35,0),0.03999)","v":9.7999999999999997E-3},{"$f":"MIN(OFFSET(Female!CH$18,'Female - Rev'!$A54-35,0),0.03999)","v":0.01}]
[43,43,{"$f":"MIN(OFFSET(Female!B$18,'Female - Rev'!$A55-35,0),0.03999)","v":3.9989999999999998E-2},{"$f":"MIN(OFFSET(Female!C$18,'Female - Rev'!$A55-35,0),0.03999)","v":3.9989999999999998E-2},{"$f":"MIN(OFFSET(Female!D$18,'Female - Rev'!$A55-35,0),0.03999)","v":3.6200000000000003E-2},{"$f":"MIN(OFFSET(Female!E$18,'Female - Rev'!$A55-35,0),0.03999)","v":3.1800000000000002E-2},{"$f":"MIN(OFFSET(Female!F$18,'Female - Rev'!$A55-35,0),0.03999)","v":2.7E-2},{"$f":"MIN(OFFSET(Female!G$18,'Female - Rev'!$A55-35,0),0.03999)","v":2.2100000000000002E-2},{"$f":"MIN(OFFSET(Female!H$18,'Female - Rev'!$A55-35,0),0.03999)","v":1.72E-2},{"$f":"MIN(OFFSET(Female!I$18,'Female - Rev'!$A55-35,0),0.03999)","v":1.2500000000000001E-2},{"$f":"MIN(OFFSET(Female!J$18,'Female - Rev'!$A55-35,0),0.03999)","v":8.0999999999999996E-3},{"$f":"MIN(OFFSET(Female!K$18,'Female - Rev'!$A55-35,0),0.03999)","v":4.0000000000000001E-3},{"$f":"MIN(OFFSET(Female!L$18,'Female - Rev'!$A55-35,0),0.03999)","v":5.0000000000000001E-4},{"$f":"MIN(OFFSET(Female!M$18,'Female - Rev'!$A55-35,0),0.03999)","v":-2.3E-3},{"$f":"MIN(OFFSET(Female!N$18,'Female - Rev'!$A55-35,0),0.03999)","v":-4.3E-3},{"$f":"MIN(OFFSET(Female!O$18,'Female - Rev'!$A55-35,0),0.03999)","v":-5.4000000000000003E-3},{"$f":"MIN(OFFSET(Female!P$18,'Female - Rev'!$A55-35,0),0.03999)","v":-5.4000000000000003E-3},{"$f":"MIN(OFFSET(Female!Q$18,'Female - Rev'!$A55-35,0),0.03999)","v":-4.3E-3},{"$f":"MIN(OFFSET(Female!R$18,'Female - Rev'!$A55-35,0),0.03999)","v":-2.0999999999999999E-3},{"$f":"MIN(OFFSET(Female!S$18,'Female - Rev'!$A55-35,0),0.03999)","v":1.2999999999999999E-3},{"$f":"MIN(OFFSET(Female!T$18,'Female - Rev'!$A55-35,0),0.03999)","v":5.7999999999999996E-3},{"$f":"MIN(OFFSET(Female!U$18,'Female - Rev'!$A55-35,0),0.03999)","v":1.1299999999999999E-2},{"$f":"MIN(OFFSET(Female!V$18,'Female - Rev'!$A55-35,0),0.03999)","v":1.72E-2},{"$f":"MIN(OFFSET(Female!W$18,'Female - Rev'!$A55-35,0),0.03999)","v":2.3199999999999998E-2},{"$f":"MIN(OFFSET(Female!X$18,'Female - Rev'!$A55-35,0),0.03999)","v":2.8799999999999999E-2},{"$f":"MIN(OFFSET(Female!Y$18,'Female - Rev'!$A55-35,0),0.03999)","v":3.3300000000000003E-2},{"$f":"MIN(OFFSET(Female!Z$18,'Female - Rev'!$A55-35,0),0.03999)","v":3.6499999999999998E-2},{"$f":"MIN(OFFSET(Female!AA$18,'Female - Rev'!$A55-35,0),0.03999)","v":3.8100000000000002E-2},{"$f":"MIN(OFFSET(Female!AB$18,'Female - Rev'!$A55-35,0),0.03999)","v":3.8399999999999997E-2},{"$f":"MIN(OFFSET(Female!AC$18,'Female - Rev'!$A55-35,0),0.03999)","v":3.7499999999999999E-2},{"$f":"MIN(OFFSET(Female!AD$18,'Female - Rev'!$A55-35,0),0.03999)","v":3.5700000000000003E-2},{"$f":"MIN(OFFSET(Female!AE$18,'Female - Rev'!$A55-35,0),0.03999)","v":3.3300000000000003E-2},{"$f":"MIN(OFFSET(Female!AF$18,'Female - Rev'!$A55-35,0),0.03999)","v":3.0499999999999999E-2},{"$f":"MIN(OFFSET(Female!AG$18,'Female - Rev'!$A55-35,0),0.03999)","v":2.7400000000000001E-2},{"$f":"MIN(OFFSET(Female!AH$18,'Female - Rev'!$A55-35,0),0.03999)","v":2.4199999999999999E-2},{"$f":"MIN(OFFSET(Female!AI$18,'Female - Rev'!$A55-35,0),0.03999)","v":2.1100000000000001E-2},{"$f":"MIN(OFFSET(Female!AJ$18,'Female - Rev'!$A55-35,0),0.03999)","v":1.8200000000000001E-2},{"$f":"MIN(OFFSET(Female!AK$18,'Female - Rev'!$A55-35,0),0.03999)","v":1.54E-2},{"$f":"MIN(OFFSET(Female!AL$18,'Female - Rev'!$A55-35,0),0.03999)","v":1.2800000000000001E-2},{"$f":"MIN(OFFSET(Female!AM$18,'Female - Rev'!$A55-35,0),0.03999)","v":0.01},{"$f":"MIN(OFFSET(Female!AN$18,'Female - Rev'!$A55-35,0),0.03999)","v":7.1999999999999998E-3},{"$f":"MIN(OFFSET(Female!AO$18,'Female - Rev'!$A55-35,0),0.03999)","v":4.4000000000000003E-3},{"$f":"MIN(OFFSET(Female!AP$18,'Female - Rev'!$A55-35,0),0.03999)","v":1.6999999999999999E-3},{"$f":"MIN(OFFSET(Female!AQ$18,'Female - Rev'!$A55-35,0),0.03999)","v":-5.0000000000000001E-4},{"$f":"MIN(OFFSET(Female!AR$18,'Female - Rev'!$A55-35,0),0.03999)","v":-1.8E-3},{"$f":"MIN(OFFSET(Female!AS$18,'Female - Rev'!$A55-35,0),0.03999)","v":-2.2000000000000001E-3},{"$f":"MIN(OFFSET(Female!AT$18,'Female - Rev'!$A55-35,0),0.03999)","v":-2.2000000000000001E-3},{"$f":"MIN(OFFSET(Female!AU$18,'Female - Rev'!$A55-35,0),0.03999)","v":-2.3E-3},{"$f":"MIN(OFFSET(Female!AV$18,'Female - Rev'!$A55-35,0),0.03999)","v":-3.3E-3},{"$f":"MIN(OFFSET(Female!AW$18,'Female - Rev'!$A55-35,0),0.03999)","v":-5.1999999999999998E-3},{"$f":"MIN(OFFSET(Female!AX$18,'Female - Rev'!$A55-35,0),0.03999)","v":-7.4000000000000003E-3},{"$f":"MIN(OFFSET(Female!AY$18,'Female - Rev'!$A55-35,0),0.03999)","v":-8.8000000000000005E-3},{"$f":"MIN(OFFSET(Female!AZ$18,'Female - Rev'!$A55-35,0),0.03999)","v":-8.6999999999999994E-3},{"$f":"MIN(OFFSET(Female!BA$18,'Female - Rev'!$A55-35,0),0.03999)","v":-6.4999999999999997E-3},{"$f":"MIN(OFFSET(Female!BB$18,'Female - Rev'!$A55-35,0),0.03999)","v":-2.3999999999999998E-3},{"$f":"MIN(OFFSET(Female!BC$18,'Female - Rev'!$A55-35,0),0.03999)","v":2.8999999999999998E-3},{"$f":"MIN(OFFSET(Female!BD$18,'Female - Rev'!$A55-35,0),0.03999)","v":8.3000000000000001E-3},{"$f":"MIN(OFFSET(Female!BE$18,'Female - Rev'!$A55-35,0),0.03999)","v":1.3299999999999999E-2},{"$f":"MIN(OFFSET(Female!BF$18,'Female - Rev'!$A55-35,0),0.03999)","v":1.7000000000000001E-2},{"$f":"MIN(OFFSET(Female!BG$18,'Female - Rev'!$A55-35,0),0.03999)","v":1.9099999999999999E-2},{"$f":"MIN(OFFSET(Female!BH$18,'Female - Rev'!$A55-35,0),0.03999)","v":1.9400000000000001E-2},{"$f":"MIN(OFFSET(Female!BI$18,'Female - Rev'!$A55-35,0),0.03999)","v":1.78E-2},{"$f":"MIN(OFFSET(Female!BJ$18,'Female - Rev'!$A55-35,0),0.03999)","v":1.43E-2},{"$f":"MIN(OFFSET(Female!BK$18,'Female - Rev'!$A55-35,0),0.03999)","v":9.4999999999999998E-3},{"$f":"MIN(OFFSET(Female!BL$18,'Female - Rev'!$A55-35,0),0.03999)","v":3.8999999999999998E-3},{"$f":"MIN(OFFSET(Female!BM$18,'Female - Rev'!$A55-35,0),0.03999)","v":-2.0999999999999999E-3},{"$f":"MIN(OFFSET(Female!BN$18,'Female - Rev'!$A55-35,0),0.03999)","v":-8.0000000000000002E-3},{"$f":"MIN(OFFSET(Female!BO$18,'Female - Rev'!$A55-35,0),0.03999)","v":-9.9000000000000008E-3},{"$f":"MIN(OFFSET(Female!BP$18,'Female - Rev'!$A55-35,0),0.03999)","v":-1.1299999999999999E-2},{"$f":"MIN(OFFSET(Female!BQ$18,'Female - Rev'!$A55-35,0),0.03999)","v":-1.2200000000000001E-2},{"$f":"MIN(OFFSET(Female!BR$18,'Female - Rev'!$A55-35,0),0.03999)","v":-1.24E-2},{"$f":"MIN(OFFSET(Female!BS$18,'Female - Rev'!$A55-35,0),0.03999)","v":-1.2E-2},{"$f":"MIN(OFFSET(Female!BT$18,'Female - Rev'!$A55-35,0),0.03999)","v":-1.11E-2},{"$f":"MIN(OFFSET(Female!BU$18,'Female - Rev'!$A55-35,0),0.03999)","v":-9.7000000000000003E-3},{"$f":"MIN(OFFSET(Female!BV$18,'Female - Rev'!$A55-35,0),0.03999)","v":-7.9000000000000008E-3},{"$f":"MIN(OFFSET(Female!BW$18,'Female - Rev'!$A55-35,0),0.03999)","v":-6.0000000000000001E-3},{"$f":"MIN(OFFSET(Female!BX$18,'Female - Rev'!$A55-35,0),0.03999)","v":-4.0000000000000001E-3},{"$f":"MIN(OFFSET(Female!BY$18,'Female - Rev'!$A55-35,0),0.03999)","v":-2.0999999999999999E-3},{"$f":"MIN(OFFSET(Female!BZ$18,'Female - Rev'!$A55-35,0),0.03999)","v":0},{"$f":"MIN(OFFSET(Female!CA$18,'Female - Rev'!$A55-35,0),0.03999)","v":2.0999999999999999E-3},{"$f":"MIN(OFFSET(Female!CB$18,'Female - Rev'!$A55-35,0),0.03999)","v":4.1000000000000003E-3},{"$f":"MIN(OFFSET(Female!CC$18,'Female - Rev'!$A55-35,0),0.03999)","v":5.8999999999999999E-3},{"$f":"MIN(OFFSET(Female!CD$18,'Female - Rev'!$A55-35,0),0.03999)","v":7.4000000000000003E-3},{"$f":"MIN(OFFSET(Female!CE$18,'Female - Rev'!$A55-35,0),0.03999)","v":8.5000000000000006E-3},{"$f":"MIN(OFFSET(Female!CF$18,'Female - Rev'!$A55-35,0),0.03999)","v":9.4000000000000004E-3},{"$f":"MIN(OFFSET(Female!CG$18,'Female - Rev'!$A55-35,0),0.03999)","v":9.7999999999999997E-3},{"$f":"MIN(OFFSET(Female!CH$18,'Female - Rev'!$A55-35,0),0.03999)","v":0.01}]
[42,42,{"$f":"MIN(OFFSET(Female!B$18,'Female - Rev'!$A56-35,0),0.03999)","v":3.9989999999999998E-2},{"$f":"MIN(OFFSET(Female!C$18,'Female - Rev'!$A56-35,0),0.03999)","v":3.9989999999999998E-2},{"$f":"MIN(OFFSET(Female!D$18,'Female - Rev'!$A56-35,0),0.03999)","v":3.7100000000000001E-2},{"$f":"MIN(OFFSET(Female!E$18,'Female - Rev'!$A56-35,0),0.03999)","v":3.2599999999999997E-2},{"$f":"MIN(OFFSET(Female!F$18,'Female - Rev'!$A56-35,0),0.03999)","v":2.7799999999999998E-2},{"$f":"MIN(OFFSET(Female!G$18,'Female - Rev'!$A56-35,0),0.03999)","v":2.2700000000000001E-2},{"$f":"MIN(OFFSET(Female!H$18,'Female - Rev'!$A56-35,0),0.03999)","v":1.77E-2},{"$f":"MIN(OFFSET(Female!I$18,'Female - Rev'!$A56-35,0),0.03999)","v":1.2699999999999999E-2},{"$f":"MIN(OFFSET(Female!J$18,'Female - Rev'!$A56-35,0),0.03999)","v":8.0000000000000002E-3},{"$f":"MIN(OFFSET(Female!K$18,'Female - Rev'!$A56-35,0),0.03999)","v":3.7000000000000002E-3},{"$f":"MIN(OFFSET(Female!L$18,'Female - Rev'!$A56-35,0),0.03999)","v":1E-4},{"$f":"MIN(OFFSET(Female!M$18,'Female - Rev'!$A56-35,0),0.03999)","v":-2.7000000000000001E-3},{"$f":"MIN(OFFSET(Female!N$18,'Female - Rev'!$A56-35,0),0.03999)","v":-4.7000000000000002E-3},{"$f":"MIN(OFFSET(Female!O$18,'Female - Rev'!$A56-35,0),0.03999)","v":-5.7000000000000002E-3},{"$f":"MIN(OFFSET(Female!P$18,'Female - Rev'!$A56-35,0),0.03999)","v":-5.7000000000000002E-3},{"$f":"MIN(OFFSET(Female!Q$18,'Female - Rev'!$A56-35,0),0.03999)","v":-4.4999999999999997E-3},{"$f":"MIN(OFFSET(Female!R$18,'Female - Rev'!$A56-35,0),0.03999)","v":-2.3E-3},{"$f":"MIN(OFFSET(Female!S$18,'Female - Rev'!$A56-35,0),0.03999)","v":1.1999999999999999E-3},{"$f":"MIN(OFFSET(Female!T$18,'Female - Rev'!$A56-35,0),0.03999)","v":6.0000000000000001E-3},{"$f":"MIN(OFFSET(Female!U$18,'Female - Rev'!$A56-35,0),0.03999)","v":1.17E-2},{"$f":"MIN(OFFSET(Female!V$18,'Female - Rev'!$A56-35,0),0.03999)","v":1.7999999999999999E-2},{"$f":"MIN(OFFSET(Female!W$18,'Female - Rev'!$A56-35,0),0.03999)","v":2.4400000000000002E-2},{"$f":"MIN(OFFSET(Female!X$18,'Female - Rev'!$A56-35,0),0.03999)","v":3.0200000000000001E-2},{"$f":"MIN(OFFSET(Female!Y$18,'Female - Rev'!$A56-35,0),0.03999)","v":3.49E-2},{"$f":"MIN(OFFSET(Female!Z$18,'Female - Rev'!$A56-35,0),0.03999)","v":3.8100000000000002E-2},{"$f":"MIN(OFFSET(Female!AA$18,'Female - Rev'!$A56-35,0),0.03999)","v":3.9699999999999999E-2},{"$f":"MIN(OFFSET(Female!AB$18,'Female - Rev'!$A56-35,0),0.03999)","v":3.9800000000000002E-2},{"$f":"MIN(OFFSET(Female!AC$18,'Female - Rev'!$A56-35,0),0.03999)","v":3.8800000000000001E-2},{"$f":"MIN(OFFSET(Female!AD$18,'Female - Rev'!$A56-35,0),0.03999)","v":3.6900000000000002E-2},{"$f":"MIN(OFFSET(Female!AE$18,'Female - Rev'!$A56-35,0),0.03999)","v":3.4299999999999997E-2},{"$f":"MIN(OFFSET(Female!AF$18,'Female - Rev'!$A56-35,0),0.03999)","v":3.1099999999999999E-2},{"$f":"MIN(OFFSET(Female!AG$18,'Female - Rev'!$A56-35,0),0.03999)","v":2.76E-2},{"$f":"MIN(OFFSET(Female!AH$18,'Female - Rev'!$A56-35,0),0.03999)","v":2.4E-2},{"$f":"MIN(OFFSET(Female!AI$18,'Female - Rev'!$A56-35,0),0.03999)","v":2.0299999999999999E-2},{"$f":"MIN(OFFSET(Female!AJ$18,'Female - Rev'!$A56-35,0),0.03999)","v":1.6899999999999998E-2},{"$f":"MIN(OFFSET(Female!AK$18,'Female - Rev'!$A56-35,0),0.03999)","v":1.38E-2},{"$f":"MIN(OFFSET(Female!AL$18,'Female - Rev'!$A56-35,0),0.03999)","v":1.0800000000000001E-2},{"$f":"MIN(OFFSET(Female!AM$18,'Female - Rev'!$A56-35,0),0.03999)","v":7.7000000000000002E-3},{"$f":"MIN(OFFSET(Female!AN$18,'Female - Rev'!$A56-35,0),0.03999)","v":4.7000000000000002E-3},{"$f":"MIN(OFFSET(Female!AO$18,'Female - Rev'!$A56-35,0),0.03999)","v":1.8E-3},{"$f":"MIN(OFFSET(Female!AP$18,'Female - Rev'!$A56-35,0),0.03999)","v":-1E-3},{"$f":"MIN(OFFSET(Female!AQ$18,'Female - Rev'!$A56-35,0),0.03999)","v":-3.2000000000000002E-3},{"$f":"MIN(OFFSET(Female!AR$18,'Female - Rev'!$A56-35,0),0.03999)","v":-4.3E-3},{"$f":"MIN(OFFSET(Female!AS$18,'Female - Rev'!$A56-35,0),0.03999)","v":-4.3E-3},{"$f":"MIN(OFFSET(Female!AT$18,'Female - Rev'!$A56-35,0),0.03999)","v":-3.7000000000000002E-3},{"$f":"MIN(OFFSET(Female!AU$18,'Female - Rev'!$A56-35,0),0.03999)","v":-3.0999999999999999E-3},{"$f":"MIN(OFFSET(Female!AV$18,'Female - Rev'!$A56-35,0),0.03999)","v":-3.3999999999999998E-3},{"$f":"MIN(OFFSET(Female!AW$18,'Female - Rev'!$A56-35,0),0.03999)","v":-4.5999999999999999E-3},{"$f":"MIN(OFFSET(Female!AX$18,'Female - Rev'!$A56-35,0),0.03999)","v":-6.1999999999999998E-3},{"$f":"MIN(OFFSET(Female!AY$18,'Female - Rev'!$A56-35,0),0.03999)","v":-7.1999999999999998E-3},{"$f":"MIN(OFFSET(Female!AZ$18,'Female - Rev'!$A56-35,0),0.03999)","v":-6.6E-3},{"$f":"MIN(OFFSET(Female!BA$18,'Female - Rev'!$A56-35,0),0.03999)","v":-4.0000000000000001E-3},{"$f":"MIN(OFFSET(Female!BB$18,'Female - Rev'!$A56-35,0),0.03999)","v":2.9999999999999997E-4},{"$f":"MIN(OFFSET(Female!BC$18,'Female - Rev'!$A56-35,0),0.03999)","v":5.5999999999999999E-3},{"$f":"MIN(OFFSET(Female!BD$18,'Female - Rev'!$A56-35,0),0.03999)","v":1.09E-2},{"$f":"MIN(OFFSET(Female!BE$18,'Female - Rev'!$A56-35,0),0.03999)","v":1.55E-2},{"$f":"MIN(OFFSET(Female!BF$18,'Female - Rev'!$A56-35,0),0.03999)","v":1.8800000000000001E-2},{"$f":"MIN(OFFSET(Female!BG$18,'Female - Rev'!$A56-35,0),0.03999)","v":2.0299999999999999E-2},{"$f":"MIN(OFFSET(Female!BH$18,'Female - Rev'!$A56-35,0),0.03999)","v":1.9800000000000002E-2},{"$f":"MIN(OFFSET(Female!BI$18,'Female - Rev'!$A56-35,0),0.03999)","v":1.7399999999999999E-2},{"$f":"MIN(OFFSET(Female!BJ$18,'Female - Rev'!$A56-35,0),0.03999)","v":1.2999999999999999E-2},{"$f":"MIN(OFFSET(Female!BK$18,'Female - Rev'!$A56-35,0),0.03999)","v":7.3000000000000001E-3},{"$f":"MIN(OFFSET(Female!BL$18,'Female - Rev'!$A56-35,0),0.03999)","v":8.0000000000000004E-4},{"$f":"MIN(OFFSET(Female!BM$18,'Female - Rev'!$A56-35,0),0.03999)","v":-5.8999999999999999E-3},{"$f":"MIN(OFFSET(Female!BN$18,'Female - Rev'!$A56-35,0),0.03999)","v":-1.2500000000000001E-2},{"$f":"MIN(OFFSET(Female!BO$18,'Female - Rev'!$A56-35,0),0.03999)","v":-1.4500000000000001E-2},{"$f":"MIN(OFFSET(Female!BP$18,'Female - Rev'!$A56-35,0),0.03999)","v":-1.5699999999999999E-2},{"$f":"MIN(OFFSET(Female!BQ$18,'Female - Rev'!$A56-35,0),0.03999)","v":-1.6199999999999999E-2},{"$f":"MIN(OFFSET(Female!BR$18,'Female - Rev'!$A56-35,0),0.03999)","v":-1.5900000000000001E-2},{"$f":"MIN(OFFSET(Female!BS$18,'Female - Rev'!$A56-35,0),0.03999)","v":-1.49E-2},{"$f":"MIN(OFFSET(Female!BT$18,'Female - Rev'!$A56-35,0),0.03999)","v":-1.3299999999999999E-2},{"$f":"MIN(OFFSET(Female!BU$18,'Female - Rev'!$A56-35,0),0.03999)","v":-1.12E-2},{"$f":"MIN(OFFSET(Female!BV$18,'Female - Rev'!$A56-35,0),0.03999)","v":-8.8999999999999999E-3},{"$f":"MIN(OFFSET(Female!BW$18,'Female - Rev'!$A56-35,0),0.03999)","v":-6.4999999999999997E-3},{"$f":"MIN(OFFSET(Female!BX$18,'Female - Rev'!$A56-35,0),0.03999)","v":-4.1999999999999997E-3},{"$f":"MIN(OFFSET(Female!BY$18,'Female - Rev'!$A56-35,0),0.03999)","v":-2.0999999999999999E-3},{"$f":"MIN(OFFSET(Female!BZ$18,'Female - Rev'!$A56-35,0),0.03999)","v":1E-4},{"$f":"MIN(OFFSET(Female!CA$18,'Female - Rev'!$A56-35,0),0.03999)","v":2.3E-3},{"$f":"MIN(OFFSET(Female!CB$18,'Female - Rev'!$A56-35,0),0.03999)","v":4.3E-3},{"$f":"MIN(OFFSET(Female!CC$18,'Female - Rev'!$A56-35,0),0.03999)","v":6.0000000000000001E-3},{"$f":"MIN(OFFSET(Female!CD$18,'Female - Rev'!$A56-35,0),0.03999)","v":7.4999999999999997E-3},{"$f":"MIN(OFFSET(Female!CE$18,'Female - Rev'!$A56-35,0),0.03999)","v":8.6E-3},{"$f":"MIN(OFFSET(Female!CF$18,'Female - Rev'!$A56-35,0),0.03999)","v":9.4000000000000004E-3},{"$f":"MIN(OFFSET(Female!CG$18,'Female - Rev'!$A56-35,0),0.03999)","v":9.7999999999999997E-3},{"$f":"MIN(OFFSET(Female!CH$18,'Female - Rev'!$A56-35,0),0.03999)","v":0.01}]
[41,41,{"$f":"MIN(OFFSET(Female!B$18,'Female - Rev'!$A57-35,0),0.03999)","v":3.9989999999999998E-2},{"$f":"MIN(OFFSET(Female!C$18,'Female - Rev'!$A57-35,0),0.03999)","v":3.9989999999999998E-2},{"$f":"MIN(OFFSET(Female!D$18,'Female - Rev'!$A57-35,0),0.03999)","v":3.7999999999999999E-2},{"$f":"MIN(OFFSET(Female!E$18,'Female - Rev'!$A57-35,0),0.03999)","v":3.3399999999999999E-2},{"$f":"MIN(OFFSET(Female!F$18,'Female - Rev'!$A57-35,0),0.03999)","v":2.8500000000000001E-2},{"$f":"MIN(OFFSET(Female!G$18,'Female - Rev'!$A57-35,0),0.03999)","v":2.3199999999999998E-2},{"$f":"MIN(OFFSET(Female!H$18,'Female - Rev'!$A57-35,0),0.03999)","v":1.7899999999999999E-2},{"$f":"MIN(OFFSET(Female!I$18,'Female - Rev'!$A57-35,0),0.03999)","v":1.2699999999999999E-2},{"$f":"MIN(OFFSET(Female!J$18,'Female - Rev'!$A57-35,0),0.03999)","v":7.7999999999999996E-3},{"$f":"MIN(OFFSET(Female!K$18,'Female - Rev'!$A57-35,0),0.03999)","v":3.3999999999999998E-3},{"$f":"MIN(OFFSET(Female!L$18,'Female - Rev'!$A57-35,0),0.03999)","v":-2.9999999999999997E-4},{"$f":"MIN(OFFSET(Female!M$18,'Female - Rev'!$A57-35,0),0.03999)","v":-3.2000000000000002E-3},{"$f":"MIN(OFFSET(Female!N$18,'Female - Rev'!$A57-35,0),0.03999)","v":-5.1000000000000004E-3},{"$f":"MIN(OFFSET(Female!O$18,'Female - Rev'!$A57-35,0),0.03999)","v":-6.0000000000000001E-3},{"$f":"MIN(OFFSET(Female!P$18,'Female - Rev'!$A57-35,0),0.03999)","v":-5.7999999999999996E-3},{"$f":"MIN(OFFSET(Female!Q$18,'Female - Rev'!$A57-35,0),0.03999)","v":-4.5999999999999999E-3},{"$f":"MIN(OFFSET(Female!R$18,'Female - Rev'!$A57-35,0),0.03999)","v":-2.3E-3},{"$f":"MIN(OFFSET(Female!S$18,'Female - Rev'!$A57-35,0),0.03999)","v":1.2999999999999999E-3},{"$f":"MIN(OFFSET(Female!T$18,'Female - Rev'!$A57-35,0),0.03999)","v":6.4000000000000003E-3},{"$f":"MIN(OFFSET(Female!U$18,'Female - Rev'!$A57-35,0),0.03999)","v":1.2500000000000001E-2},{"$f":"MIN(OFFSET(Female!V$18,'Female - Rev'!$A57-35,0),0.03999)","v":1.9099999999999999E-2},{"$f":"MIN(OFFSET(Female!W$18,'Female - Rev'!$A57-35,0),0.03999)","v":2.5700000000000001E-2},{"$f":"MIN(OFFSET(Female!X$18,'Female - Rev'!$A57-35,0),0.03999)","v":3.1699999999999999E-2},{"$f":"MIN(OFFSET(Female!Y$18,'Female - Rev'!$A57-35,0),0.03999)","v":3.6499999999999998E-2},{"$f":"MIN(OFFSET(Female!Z$18,'Female - Rev'!$A57-35,0),0.03999)","v":3.9699999999999999E-2},{"$f":"MIN(OFFSET(Female!AA$18,'Female - Rev'!$A57-35,0),0.03999)","v":3.9989999999999998E-2},{"$f":"MIN(OFFSET(Female!AB$18,'Female - Rev'!$A57-35,0),0.03999)","v":3.9989999999999998E-2},{"$f":"MIN(OFFSET(Female!AC$18,'Female - Rev'!$A57-35,0),0.03999)","v":3.9899999999999998E-2},{"$f":"MIN(OFFSET(Female!AD$18,'Female - Rev'!$A57-35,0),0.03999)","v":3.7699999999999997E-2},{"$f":"MIN(OFFSET(Female!AE$18,'Female - Rev'!$A57-35,0),0.03999)","v":3.4799999999999998E-2},{"$f":"MIN(OFFSET(Female!AF$18,'Female - Rev'!$A57-35,0),0.03999)","v":3.1300000000000001E-2},{"$f":"MIN(OFFSET(Female!AG$18,'Female - Rev'!$A57-35,0),0.03999)","v":2.7400000000000001E-2},{"$f":"MIN(OFFSET(Female!AH$18,'Female - Rev'!$A57-35,0),0.03999)","v":2.3199999999999998E-2},{"$f":"MIN(OFFSET(Female!AI$18,'Female - Rev'!$A57-35,0),0.03999)","v":1.9099999999999999E-2},{"$f":"MIN(OFFSET(Female!AJ$18,'Female - Rev'!$A57-35,0),0.03999)","v":1.5100000000000001E-2},{"$f":"MIN(OFFSET(Female!AK$18,'Female - Rev'!$A57-35,0),0.03999)","v":1.15E-2},{"$f":"MIN(OFFSET(Female!AL$18,'Female - Rev'!$A57-35,0),0.03999)","v":8.2000000000000007E-3},{"$f":"MIN(OFFSET(Female!AM$18,'Female - Rev'!$A57-35,0),0.03999)","v":5.0000000000000001E-3},{"$f":"MIN(OFFSET(Female!AN$18,'Female - Rev'!$A57-35,0),0.03999)","v":1.9E-3},{"$f":"MIN(OFFSET(Female!AO$18,'Female - Rev'!$A57-35,0),0.03999)","v":-1E-3},{"$f":"MIN(OFFSET(Female!AP$18,'Female - Rev'!$A57-35,0),0.03999)","v":-3.7000000000000002E-3},{"$f":"MIN(OFFSET(Female!AQ$18,'Female - Rev'!$A57-35,0),0.03999)","v":-5.5999999999999999E-3},{"$f":"MIN(OFFSET(Female!AR$18,'Female - Rev'!$A57-35,0),0.03999)","v":-6.1999999999999998E-3},{"$f":"MIN(OFFSET(Female!AS$18,'Female - Rev'!$A57-35,0),0.03999)","v":-5.7000000000000002E-3},{"$f":"MIN(OFFSET(Female!AT$18,'Female - Rev'!$A57-35,0),0.03999)","v":-4.3E-3},{"$f":"MIN(OFFSET(Female!AU$18,'Female - Rev'!$A57-35,0),0.03999)","v":-3.0000000000000001E-3},{"$f":"MIN(OFFSET(Female!AV$18,'Female - Rev'!$A57-35,0),0.03999)","v":-2.5999999999999999E-3},{"$f":"MIN(OFFSET(Female!AW$18,'Female - Rev'!$A57-35,0),0.03999)","v":-3.2000000000000002E-3},{"$f":"MIN(OFFSET(Female!AX$18,'Female - Rev'!$A57-35,0),0.03999)","v":-4.3E-3},{"$f":"MIN(OFFSET(Female!AY$18,'Female - Rev'!$A57-35,0),0.03999)","v":-4.8999999999999998E-3},{"$f":"MIN(OFFSET(Female!AZ$18,'Female - Rev'!$A57-35,0),0.03999)","v":-4.0000000000000001E-3},{"$f":"MIN(OFFSET(Female!BA$18,'Female - Rev'!$A57-35,0),0.03999)","v":-1.2999999999999999E-3},{"$f":"MIN(OFFSET(Female!BB$18,'Female - Rev'!$A57-35,0),0.03999)","v":3.0999999999999999E-3},{"$f":"MIN(OFFSET(Female!BC$18,'Female - Rev'!$A57-35,0),0.03999)","v":8.2000000000000007E-3},{"$f":"MIN(OFFSET(Female!BD$18,'Female - Rev'!$A57-35,0),0.03999)","v":1.3100000000000001E-2},{"$f":"MIN(OFFSET(Female!BE$18,'Female - Rev'!$A57-35,0),0.03999)","v":1.72E-2},{"$f":"MIN(OFFSET(Female!BF$18,'Female - Rev'!$A57-35,0),0.03999)","v":1.9900000000000001E-2},{"$f":"MIN(OFFSET(Female!BG$18,'Female - Rev'!$A57-35,0),0.03999)","v":2.07E-2},{"$f":"MIN(OFFSET(Female!BH$18,'Female - Rev'!$A57-35,0),0.03999)","v":1.9400000000000001E-2},{"$f":"MIN(OFFSET(Female!BI$18,'Female - Rev'!$A57-35,0),0.03999)","v":1.6199999999999999E-2},{"$f":"MIN(OFFSET(Female!BJ$18,'Female - Rev'!$A57-35,0),0.03999)","v":1.0999999999999999E-2},{"$f":"MIN(OFFSET(Female!BK$18,'Female - Rev'!$A57-35,0),0.03999)","v":4.5999999999999999E-3},{"$f":"MIN(OFFSET(Female!BL$18,'Female - Rev'!$A57-35,0),0.03999)","v":-2.5999999999999999E-3},{"$f":"MIN(OFFSET(Female!BM$18,'Female - Rev'!$A57-35,0),0.03999)","v":-0.01},{"$f":"MIN(OFFSET(Female!BN$18,'Female - Rev'!$A57-35,0),0.03999)","v":-1.7299999999999999E-2},{"$f":"MIN(OFFSET(Female!BO$18,'Female - Rev'!$A57-35,0),0.03999)","v":-1.9199999999999998E-2},{"$f":"MIN(OFFSET(Female!BP$18,'Female - Rev'!$A57-35,0),0.03999)","v":-2.0199999999999999E-2},{"$f":"MIN(OFFSET(Female!BQ$18,'Female - Rev'!$A57-35,0),0.03999)","v":-2.0199999999999999E-2},{"$f":"MIN(OFFSET(Female!BR$18,'Female - Rev'!$A57-35,0),0.03999)","v":-1.9300000000000001E-2},{"$f":"MIN(OFFSET(Female!BS$18,'Female - Rev'!$A57-35,0),0.03999)","v":-1.77E-2},{"$f":"MIN(OFFSET(Female!BT$18,'Female - Rev'!$A57-35,0),0.03999)","v":-1.5299999999999999E-2},{"$f":"MIN(OFFSET(Female!BU$18,'Female - Rev'!$A57-35,0),0.03999)","v":-1.26E-2},{"$f":"MIN(OFFSET(Female!BV$18,'Female - Rev'!$A57-35,0),0.03999)","v":-9.5999999999999992E-3},{"$f":"MIN(OFFSET(Female!BW$18,'Female - Rev'!$A57-35,0),0.03999)","v":-6.7000000000000002E-3},{"$f":"MIN(OFFSET(Female!BX$18,'Female - Rev'!$A57-35,0),0.03999)","v":-4.1999999999999997E-3},{"$f":"MIN(OFFSET(Female!BY$18,'Female - Rev'!$A57-35,0),0.03999)","v":-1.9E-3},{"$f":"MIN(OFFSET(Female!BZ$18,'Female - Rev'!$A57-35,0),0.03999)","v":4.0000000000000002E-4},{"$f":"MIN(OFFSET(Female!CA$18,'Female - Rev'!$A57-35,0),0.03999)","v":2.5999999999999999E-3},{"$f":"MIN(OFFSET(Female!CB$18,'Female - Rev'!$A57-35,0),0.03999)","v":4.4999999999999997E-3},{"$f":"MIN(OFFSET(Female!CC$18,'Female - Rev'!$A57-35,0),0.03999)","v":6.1999999999999998E-3},{"$f":"MIN(OFFSET(Female!CD$18,'Female - Rev'!$A57-35,0),0.03999)","v":7.6E-3},{"$f":"MIN(OFFSET(Female!CE$18,'Female - Rev'!$A57-35,0),0.03999)","v":8.6999999999999994E-3},{"$f":"MIN(OFFSET(Female!CF$18,'Female - Rev'!$A57-35,0),0.03999)","v":9.4000000000000004E-3},{"$f":"MIN(OFFSET(Female!CG$18,'Female - Rev'!$A57-35,0),0.03999)","v":9.9000000000000008E-3},{"$f":"MIN(OFFSET(Female!CH$18,'Female - Rev'!$A57-35,0),0.03999)","v":0.01}]
[40,40,{"$f":"MIN(OFFSET(Female!B$18,'Female - Rev'!$A58-35,0),0.03999)","v":3.9989999999999998E-2},{"$f":"MIN(OFFSET(Female!C$18,'Female - Rev'!$A58-35,0),0.03999)","v":3.9989999999999998E-2},{"$f":"MIN(OFFSET(Female!D$18,'Female - Rev'!$A58-35,0),0.03999)","v":3.8899999999999997E-2},{"$f":"MIN(OFFSET(Female!E$18,'Female - Rev'!$A58-35,0),0.03999)","v":3.4099999999999998E-2},{"$f":"MIN(OFFSET(Female!F$18,'Female - Rev'!$A58-35,0),0.03999)","v":2.9000000000000001E-2},{"$f":"MIN(OFFSET(Female!G$18,'Female - Rev'!$A58-35,0),0.03999)","v":2.3599999999999999E-2},{"$f":"MIN(OFFSET(Female!H$18,'Female - Rev'!$A58-35,0),0.03999)","v":1.7999999999999999E-2},{"$f":"MIN(OFFSET(Female!I$18,'Female - Rev'!$A58-35,0),0.03999)","v":1.26E-2},{"$f":"MIN(OFFSET(Female!J$18,'Female - Rev'!$A58-35,0),0.03999)","v":7.6E-3},{"$f":"MIN(OFFSET(Female!K$18,'Female - Rev'!$A58-35,0),0.03999)","v":3.0000000000000001E-3},{"$f":"MIN(OFFSET(Female!L$18,'Female - Rev'!$A58-35,0),0.03999)","v":-8.0000000000000004E-4},{"$f":"MIN(OFFSET(Female!M$18,'Female - Rev'!$A58-35,0),0.03999)","v":-3.5999999999999999E-3},{"$f":"MIN(OFFSET(Female!N$18,'Female - Rev'!$A58-35,0),0.03999)","v":-5.4000000000000003E-3},{"$f":"MIN(OFFSET(Female!O$18,'Female - Rev'!$A58-35,0),0.03999)","v":-6.1999999999999998E-3},{"$f":"MIN(OFFSET(Female!P$18,'Female - Rev'!$A58-35,0),0.03999)","v":-5.8999999999999999E-3},{"$f":"MIN(OFFSET(Female!Q$18,'Female - Rev'!$A58-35,0),0.03999)","v":-4.4999999999999997E-3},{"$f":"MIN(OFFSET(Female!R$18,'Female - Rev'!$A58-35,0),0.03999)","v":-2.0999999999999999E-3},{"$f":"MIN(OFFSET(Female!S$18,'Female - Rev'!$A58-35,0),0.03999)","v":1.6999999999999999E-3},{"$f":"MIN(OFFSET(Female!T$18,'Female - Rev'!$A58-35,0),0.03999)","v":7.0000000000000001E-3},{"$f":"MIN(OFFSET(Female!U$18,'Female - Rev'!$A58-35,0),0.03999)","v":1.34E-2},{"$f":"MIN(OFFSET(Female!V$18,'Female - Rev'!$A58-35,0),0.03999)","v":2.0400000000000001E-2},{"$f":"MIN(OFFSET(Female!W$18,'Female - Rev'!$A58-35,0),0.03999)","v":2.7199999999999998E-2},{"$f":"MIN(OFFSET(Female!X$18,'Female - Rev'!$A58-35,0),0.03999)","v":3.3399999999999999E-2},{"$f":"MIN(OFFSET(Female!Y$18,'Female - Rev'!$A58-35,0),0.03999)","v":3.8199999999999998E-2},{"$f":"MIN(OFFSET(Female!Z$18,'Female - Rev'!$A58-35,0),0.03999)","v":3.9989999999999998E-2},{"$f":"MIN(OFFSET(Female!AA$18,'Female - Rev'!$A58-35,0),0.03999)","v":3.9989999999999998E-2},{"$f":"MIN(OFFSET(Female!AB$18,'Female - Rev'!$A58-35,0),0.03999)","v":3.9989999999999998E-2},{"$f":"MIN(OFFSET(Female!AC$18,'Female - Rev'!$A58-35,0),0.03999)","v":3.9989999999999998E-2},{"$f":"MIN(OFFSET(Female!AD$18,'Female - Rev'!$A58-35,0),0.03999)","v":3.8199999999999998E-2},{"$f":"MIN(OFFSET(Female!AE$18,'Female - Rev'!$A58-35,0),0.03999)","v":3.49E-2},{"$f":"MIN(OFFSET(Female!AF$18,'Female - Rev'!$A58-35,0),0.03999)","v":3.1099999999999999E-2},{"$f":"MIN(OFFSET(Female!AG$18,'Female - Rev'!$A58-35,0),0.03999)","v":2.6700000000000002E-2},{"$f":"MIN(OFFSET(Female!AH$18,'Female - Rev'!$A58-35,0),0.03999)","v":2.1999999999999999E-2},{"$f":"MIN(OFFSET(Female!AI$18,'Female - Rev'!$A58-35,0),0.03999)","v":1.7299999999999999E-2},{"$f":"MIN(OFFSET(Female!AJ$18,'Female - Rev'!$A58-35,0),0.03999)","v":1.2800000000000001E-2},{"$f":"MIN(OFFSET(Female!AK$18,'Female - Rev'!$A58-35,0),0.03999)","v":8.6999999999999994E-3},{"$f":"MIN(OFFSET(Female!AL$18,'Female - Rev'!$A58-35,0),0.03999)","v":5.1000000000000004E-3},{"$f":"MIN(OFFSET(Female!AM$18,'Female - Rev'!$A58-35,0),0.03999)","v":1.8E-3},{"$f":"MIN(OFFSET(Female!AN$18,'Female - Rev'!$A58-35,0),0.03999)","v":-1.1000000000000001E-3},{"$f":"MIN(OFFSET(Female!AO$18,'Female - Rev'!$A58-35,0),0.03999)","v":-3.8E-3},{"$f":"MIN(OFFSET(Female!AP$18,'Female - Rev'!$A58-35,0),0.03999)","v":-6.1999999999999998E-3},{"$f":"MIN(OFFSET(Female!AQ$18,'Female - Rev'!$A58-35,0),0.03999)","v":-7.6E-3},{"$f":"MIN(OFFSET(Female!AR$18,'Female - Rev'!$A58-35,0),0.03999)","v":-7.6E-3},{"$f":"MIN(OFFSET(Female!AS$18,'Female - Rev'!$A58-35,0),0.03999)","v":-6.3E-3},{"$f":"MIN(OFFSET(Female!AT$18,'Female - Rev'!$A58-35,0),0.03999)","v":-4.1000000000000003E-3},{"$f":"MIN(OFFSET(Female!AU$18,'Female - Rev'!$A58-35,0),0.03999)","v":-2E-3},{"$f":"MIN(OFFSET(Female!AV$18,'Female - Rev'!$A58-35,0),0.03999)","v":-8.9999999999999998E-4},{"$f":"MIN(OFFSET(Female!AW$18,'Female - Rev'!$A58-35,0),0.03999)","v":-1E-3},{"$f":"MIN(OFFSET(Female!AX$18,'Female - Rev'!$A58-35,0),0.03999)","v":-1.8E-3},{"$f":"MIN(OFFSET(Female!AY$18,'Female - Rev'!$A58-35,0),0.03999)","v":-2.0999999999999999E-3},{"$f":"MIN(OFFSET(Female!AZ$18,'Female - Rev'!$A58-35,0),0.03999)","v":-1.1999999999999999E-3},{"$f":"MIN(OFFSET(Female!BA$18,'Female - Rev'!$A58-35,0),0.03999)","v":1.6000000000000001E-3},{"$f":"MIN(OFFSET(Female!BB$18,'Female - Rev'!$A58-35,0),0.03999)","v":5.7000000000000002E-3},{"$f":"MIN(OFFSET(Female!BC$18,'Female - Rev'!$A58-35,0),0.03999)","v":1.04E-2},{"$f":"MIN(OFFSET(Female!BD$18,'Female - Rev'!$A58-35,0),0.03999)","v":1.47E-2},{"$f":"MIN(OFFSET(Female!BE$18,'Female - Rev'!$A58-35,0),0.03999)","v":1.8200000000000001E-2},{"$f":"MIN(OFFSET(Female!BF$18,'Female - Rev'!$A58-35,0),0.03999)","v":2.01E-2},{"$f":"MIN(OFFSET(Female!BG$18,'Female - Rev'!$A58-35,0),0.03999)","v":2.0199999999999999E-2},{"$f":"MIN(OFFSET(Female!BH$18,'Female - Rev'!$A58-35,0),0.03999)","v":1.8200000000000001E-2},{"$f":"MIN(OFFSET(Female!BI$18,'Female - Rev'!$A58-35,0),0.03999)","v":1.43E-2},{"$f":"MIN(OFFSET(Female!BJ$18,'Female - Rev'!$A58-35,0),0.03999)","v":8.5000000000000006E-3},{"$f":"MIN(OFFSET(Female!BK$18,'Female - Rev'!$A58-35,0),0.03999)","v":1.4E-3},{"$f":"MIN(OFFSET(Female!BL$18,'Female - Rev'!$A58-35,0),0.03999)","v":-6.4000000000000003E-3},{"$f":"MIN(OFFSET(Female!BM$18,'Female - Rev'!$A58-35,0),0.03999)","v":-1.44E-2},{"$f":"MIN(OFFSET(Female!BN$18,'Female - Rev'!$A58-35,0),0.03999)","v":-2.2200000000000001E-2},{"$f":"MIN(OFFSET(Female!BO$18,'Female - Rev'!$A58-35,0),0.03999)","v":-2.4E-2},{"$f":"MIN(OFFSET(Female!BP$18,'Female - Rev'!$A58-35,0),0.03999)","v":-2.46E-2},{"$f":"MIN(OFFSET(Female!BQ$18,'Female - Rev'!$A58-35,0),0.03999)","v":-2.41E-2},{"$f":"MIN(OFFSET(Female!BR$18,'Female - Rev'!$A58-35,0),0.03999)","v":-2.2499999999999999E-2},{"$f":"MIN(OFFSET(Female!BS$18,'Female - Rev'!$A58-35,0),0.03999)","v":-2.01E-2},{"$f":"MIN(OFFSET(Female!BT$18,'Female - Rev'!$A58-35,0),0.03999)","v":-1.7100000000000001E-2},{"$f":"MIN(OFFSET(Female!BU$18,'Female - Rev'!$A58-35,0),0.03999)","v":-1.3599999999999999E-2},{"$f":"MIN(OFFSET(Female!BV$18,'Female - Rev'!$A58-35,0),0.03999)","v":-1.01E-2},{"$f":"MIN(OFFSET(Female!BW$18,'Female - Rev'!$A58-35,0),0.03999)","v":-6.7999999999999996E-3},{"$f":"MIN(OFFSET(Female!BX$18,'Female - Rev'!$A58-35,0),0.03999)","v":-4.0000000000000001E-3},{"$f":"MIN(OFFSET(Female!BY$18,'Female - Rev'!$A58-35,0),0.03999)","v":-1.6000000000000001E-3},{"$f":"MIN(OFFSET(Female!BZ$18,'Female - Rev'!$A58-35,0),0.03999)","v":6.9999999999999999E-4},{"$f":"MIN(OFFSET(Female!CA$18,'Female - Rev'!$A58-35,0),0.03999)","v":2.8999999999999998E-3},{"$f":"MIN(OFFSET(Female!CB$18,'Female - Rev'!$A58-35,0),0.03999)","v":4.7999999999999996E-3},{"$f":"MIN(OFFSET(Female!CC$18,'Female - Rev'!$A58-35,0),0.03999)","v":6.4000000000000003E-3},{"$f":"MIN(OFFSET(Female!CD$18,'Female - Rev'!$A58-35,0),0.03999)","v":7.7000000000000002E-3},{"$f":"MIN(OFFSET(Female!CE$18,'Female - Rev'!$A58-35,0),0.03999)","v":8.6999999999999994E-3},{"$f":"MIN(OFFSET(Female!CF$18,'Female - Rev'!$A58-35,0),0.03999)","v":9.4000000000000004E-3},{"$f":"MIN(OFFSET(Female!CG$18,'Female - Rev'!$A58-35,0),0.03999)","v":9.9000000000000008E-3},{"$f":"MIN(OFFSET(Female!CH$18,'Female - Rev'!$A58-35,0),0.03999)","v":0.01}]
[39,39,{"$f":"MIN(OFFSET(Female!B$18,'Female - Rev'!$A59-35,0),0.03999)","v":3.9989999999999998E-2},{"$f":"MIN(OFFSET(Female!C$18,'Female - Rev'!$A59-35,0),0.03999)","v":3.9989999999999998E-2},{"$f":"MIN(OFFSET(Female!D$18,'Female - Rev'!$A59-35,0),0.03999)","v":3.9800000000000002E-2},{"$f":"MIN(OFFSET(Female!E$18,'Female - Rev'!$A59-35,0),0.03999)","v":3.4799999999999998E-2},{"$f":"MIN(OFFSET(Female!F$18,'Female - Rev'!$A59-35,0),0.03999)","v":2.9399999999999999E-2},{"$f":"MIN(OFFSET(Female!G$18,'Female - Rev'!$A59-35,0),0.03999)","v":2.3599999999999999E-2},{"$f":"MIN(OFFSET(Female!H$18,'Female - Rev'!$A59-35,0),0.03999)","v":1.7899999999999999E-2},{"$f":"MIN(OFFSET(Female!I$18,'Female - Rev'!$A59-35,0),0.03999)","v":1.24E-2},{"$f":"MIN(OFFSET(Female!J$18,'Female - Rev'!$A59-35,0),0.03999)","v":7.1999999999999998E-3},{"$f":"MIN(OFFSET(Female!K$18,'Female - Rev'!$A59-35,0),0.03999)","v":2.5999999999999999E-3},{"$f":"MIN(OFFSET(Female!L$18,'Female - Rev'!$A59-35,0),0.03999)","v":-1.1999999999999999E-3},{"$f":"MIN(OFFSET(Female!M$18,'Female - Rev'!$A59-35,0),0.03999)","v":-4.0000000000000001E-3},{"$f":"MIN(OFFSET(Female!N$18,'Female - Rev'!$A59-35,0),0.03999)","v":-5.7000000000000002E-3},{"$f":"MIN(OFFSET(Female!O$18,'Female - Rev'!$A59-35,0),0.03999)","v":-6.1999999999999998E-3},{"$f":"MIN(OFFSET(Female!P$18,'Female - Rev'!$A59-35,0),0.03999)","v":-5.7999999999999996E-3},{"$f":"MIN(OFFSET(Female!Q$18,'Female - Rev'!$A59-35,0),0.03999)","v":-4.3E-3},{"$f":"MIN(OFFSET(Female!R$18,'Female - Rev'!$A59-35,0),0.03999)","v":-1.6999999999999999E-3},{"$f":"MIN(OFFSET(Female!S$18,'Female - Rev'!$A59-35,0),0.03999)","v":2.3999999999999998E-3},{"$f":"MIN(OFFSET(Female!T$18,'Female - Rev'!$A59-35,0),0.03999)","v":7.9000000000000008E-3},{"$f":"MIN(OFFSET(Female!U$18,'Female - Rev'!$A59-35,0),0.03999)","v":1.4500000000000001E-2},{"$f":"MIN(OFFSET(Female!V$18,'Female - Rev'!$A59-35,0),0.03999)","v":2.1700000000000001E-2},{"$f":"MIN(OFFSET(Female!W$18,'Female - Rev'!$A59-35,0),0.03999)","v":2.8799999999999999E-2},{"$f":"MIN(OFFSET(Female!X$18,'Female - Rev'!$A59-35,0),0.03999)","v":3.5000000000000003E-2},{"$f":"MIN(OFFSET(Female!Y$18,'Female - Rev'!$A59-35,0),0.03999)","v":3.9800000000000002E-2},{"$f":"MIN(OFFSET(Female!Z$18,'Female - Rev'!$A59-35,0),0.03999)","v":3.9989999999999998E-2},{"$f":"MIN(OFFSET(Female!AA$18,'Female - Rev'!$A59-35,0),0.03999)","v":3.9989999999999998E-2},{"$f":"MIN(OFFSET(Female!AB$18,'Female - Rev'!$A59-35,0),0.03999)","v":3.9989999999999998E-2},{"$f":"MIN(OFFSET(Female!AC$18,'Female - Rev'!$A59-35,0),0.03999)","v":3.9989999999999998E-2},{"$f":"MIN(OFFSET(Female!AD$18,'Female - Rev'!$A59-35,0),0.03999)","v":3.8300000000000001E-2},{"$f":"MIN(OFFSET(Female!AE$18,'Female - Rev'!$A59-35,0),0.03999)","v":3.4599999999999999E-2},{"$f":"MIN(OFFSET(Female!AF$18,'Female - Rev'!$A59-35,0),0.03999)","v":3.04E-2},{"$f":"MIN(OFFSET(Female!AG$18,'Female - Rev'!$A59-35,0),0.03999)","v":2.5600000000000001E-2},{"$f":"MIN(OFFSET(Female!AH$18,'Female - Rev'!$A59-35,0),0.03999)","v":2.0299999999999999E-2},{"$f":"MIN(OFFSET(Female!AI$18,'Female - Rev'!$A59-35,0),0.03999)","v":1.4999999999999999E-2},{"$f":"MIN(OFFSET(Female!AJ$18,'Female - Rev'!$A59-35,0),0.03999)","v":0.01},{"$f":"MIN(OFFSET(Female!AK$18,'Female - Rev'!$A59-35,0),0.03999)","v":5.4999999999999997E-3},{"$f":"MIN(OFFSET(Female!AL$18,'Female - Rev'!$A59-35,0),0.03999)","v":1.6999999999999999E-3},{"$f":"MIN(OFFSET(Female!AM$18,'Female - Rev'!$A59-35,0),0.03999)","v":-1.5E-3},{"$f":"MIN(OFFSET(Female!AN$18,'Female - Rev'!$A59-35,0),0.03999)","v":-4.1999999999999997E-3},{"$f":"MIN(OFFSET(Female!AO$18,'Female - Rev'!$A59-35,0),0.03999)","v":-6.4999999999999997E-3},{"$f":"MIN(OFFSET(Female!AP$18,'Female - Rev'!$A59-35,0),0.03999)","v":-8.3000000000000001E-3},{"$f":"MIN(OFFSET(Female!AQ$18,'Female - Rev'!$A59-35,0),0.03999)","v":-9.1000000000000004E-3},{"$f":"MIN(OFFSET(Female!AR$18,'Female - Rev'!$A59-35,0),0.03999)","v":-8.3000000000000001E-3},{"$f":"MIN(OFFSET(Female!AS$18,'Female - Rev'!$A59-35,0),0.03999)","v":-6.1000000000000004E-3},{"$f":"MIN(OFFSET(Female!AT$18,'Female - Rev'!$A59-35,0),0.03999)","v":-3.0000000000000001E-3},{"$f":"MIN(OFFSET(Female!AU$18,'Female - Rev'!$A59-35,0),0.03999)","v":-1E-4},{"$f":"MIN(OFFSET(Female!AV$18,'Female - Rev'!$A59-35,0),0.03999)","v":1.6000000000000001E-3},{"$f":"MIN(OFFSET(Female!AW$18,'Female - Rev'!$A59-35,0),0.03999)","v":1.9E-3},{"$f":"MIN(OFFSET(Female!AX$18,'Female - Rev'!$A59-35,0),0.03999)","v":1.2999999999999999E-3},{"$f":"MIN(OFFSET(Female!AY$18,'Female - Rev'!$A59-35,0),0.03999)","v":1E-3},{"$f":"MIN(OFFSET(Female!AZ$18,'Female - Rev'!$A59-35,0),0.03999)","v":1.8E-3},{"$f":"MIN(OFFSET(Female!BA$18,'Female - Rev'!$A59-35,0),0.03999)","v":4.3E-3},{"$f":"MIN(OFFSET(Female!BB$18,'Female - Rev'!$A59-35,0),0.03999)","v":8.0000000000000002E-3},{"$f":"MIN(OFFSET(Female!BC$18,'Female - Rev'!$A59-35,0),0.03999)","v":1.21E-2},{"$f":"MIN(OFFSET(Female!BD$18,'Female - Rev'!$A59-35,0),0.03999)","v":1.5699999999999999E-2},{"$f":"MIN(OFFSET(Female!BE$18,'Female - Rev'!$A59-35,0),0.03999)","v":1.83E-2},{"$f":"MIN(OFFSET(Female!BF$18,'Female - Rev'!$A59-35,0),0.03999)","v":1.9599999999999999E-2},{"$f":"MIN(OFFSET(Female!BG$18,'Female - Rev'!$A59-35,0),0.03999)","v":1.89E-2},{"$f":"MIN(OFFSET(Female!BH$18,'Female - Rev'!$A59-35,0),0.03999)","v":1.6299999999999999E-2},{"$f":"MIN(OFFSET(Female!BI$18,'Female - Rev'!$A59-35,0),0.03999)","v":1.18E-2},{"$f":"MIN(OFFSET(Female!BJ$18,'Female - Rev'!$A59-35,0),0.03999)","v":5.5999999999999999E-3},{"$f":"MIN(OFFSET(Female!BK$18,'Female - Rev'!$A59-35,0),0.03999)","v":-1.9E-3},{"$f":"MIN(OFFSET(Female!BL$18,'Female - Rev'!$A59-35,0),0.03999)","v":-1.0200000000000001E-2},{"$f":"MIN(OFFSET(Female!BM$18,'Female - Rev'!$A59-35,0),0.03999)","v":-1.8599999999999998E-2},{"$f":"MIN(OFFSET(Female!BN$18,'Female - Rev'!$A59-35,0),0.03999)","v":-2.7E-2},{"$f":"MIN(OFFSET(Female!BO$18,'Female - Rev'!$A59-35,0),0.03999)","v":-2.86E-2},{"$f":"MIN(OFFSET(Female!BP$18,'Female - Rev'!$A59-35,0),0.03999)","v":-2.8799999999999999E-2},{"$f":"MIN(OFFSET(Female!BQ$18,'Female - Rev'!$A59-35,0),0.03999)","v":-2.7699999999999999E-2},{"$f":"MIN(OFFSET(Female!BR$18,'Female - Rev'!$A59-35,0),0.03999)","v":-2.5499999999999998E-2},{"$f":"MIN(OFFSET(Female!BS$18,'Female - Rev'!$A59-35,0),0.03999)","v":-2.23E-2},{"$f":"MIN(OFFSET(Female!BT$18,'Female - Rev'!$A59-35,0),0.03999)","v":-1.8499999999999999E-2},{"$f":"MIN(OFFSET(Female!BU$18,'Female - Rev'!$A59-35,0),0.03999)","v":-1.44E-2},{"$f":"MIN(OFFSET(Female!BV$18,'Female - Rev'!$A59-35,0),0.03999)","v":-1.03E-2},{"$f":"MIN(OFFSET(Female!BW$18,'Female - Rev'!$A59-35,0),0.03999)","v":-6.6E-3},{"$f":"MIN(OFFSET(Female!BX$18,'Female - Rev'!$A59-35,0),0.03999)","v":-3.7000000000000002E-3},{"$f":"MIN(OFFSET(Female!BY$18,'Female - Rev'!$A59-35,0),0.03999)","v":-1.1999999999999999E-3},{"$f":"MIN(OFFSET(Female!BZ$18,'Female - Rev'!$A59-35,0),0.03999)","v":1.1000000000000001E-3},{"$f":"MIN(OFFSET(Female!CA$18,'Female - Rev'!$A59-35,0),0.03999)","v":3.2000000000000002E-3},{"$f":"MIN(OFFSET(Female!CB$18,'Female - Rev'!$A59-35,0),0.03999)","v":5.0000000000000001E-3},{"$f":"MIN(OFFSET(Female!CC$18,'Female - Rev'!$A59-35,0),0.03999)","v":6.6E-3},{"$f":"MIN(OFFSET(Female!CD$18,'Female - Rev'!$A59-35,0),0.03999)","v":7.7999999999999996E-3},{"$f":"MIN(OFFSET(Female!CE$18,'Female - Rev'!$A59-35,0),0.03999)","v":8.8000000000000005E-3},{"$f":"MIN(OFFSET(Female!CF$18,'Female - Rev'!$A59-35,0),0.03999)","v":9.4999999999999998E-3},{"$f":"MIN(OFFSET(Female!CG$18,'Female - Rev'!$A59-35,0),0.03999)","v":9.9000000000000008E-3},{"$f":"MIN(OFFSET(Female!CH$18,'Female - Rev'!$A59-35,0),0.03999)","v":0.01}]
[38,38,{"$f":"MIN(OFFSET(Female!B$18,'Female - Rev'!$A60-35,0),0.03999)","v":3.9989999999999998E-2},{"$f":"MIN(OFFSET(Female!C$18,'Female - Rev'!$A60-35,0),0.03999)","v":3.9989999999999998E-2},{"$f":"MIN(OFFSET(Female!D$18,'Female - Rev'!$A60-35,0),0.03999)","v":3.9989999999999998E-2},{"$f":"MIN(OFFSET(Female!E$18,'Female - Rev'!$A60-35,0),0.03999)","v":3.5400000000000001E-2},{"$f":"MIN(OFFSET(Female!F$18,'Female - Rev'!$A60-35,0),0.03999)","v":2.9499999999999998E-2},{"$f":"MIN(OFFSET(Female!G$18,'Female - Rev'!$A60-35,0),0.03999)","v":2.35E-2},{"$f":"MIN(OFFSET(Female!H$18,'Female - Rev'!$A60-35,0),0.03999)","v":1.7600000000000001E-2},{"$f":"MIN(OFFSET(Female!I$18,'Female - Rev'!$A60-35,0),0.03999)","v":1.2E-2},{"$f":"MIN(OFFSET(Female!J$18,'Female - Rev'!$A60-35,0),0.03999)","v":6.7999999999999996E-3},{"$f":"MIN(OFFSET(Female!K$18,'Female - Rev'!$A60-35,0),0.03999)","v":2.2000000000000001E-3},{"$f":"MIN(OFFSET(Female!L$18,'Female - Rev'!$A60-35,0),0.03999)","v":-1.6000000000000001E-3},{"$f":"MIN(OFFSET(Female!M$18,'Female - Rev'!$A60-35,0),0.03999)","v":-4.3E-3},{"$f":"MIN(OFFSET(Female!N$18,'Female - Rev'!$A60-35,0),0.03999)","v":-5.7999999999999996E-3},{"$f":"MIN(OFFSET(Female!O$18,'Female - Rev'!$A60-35,0),0.03999)","v":-6.1999999999999998E-3},{"$f":"MIN(OFFSET(Female!P$18,'Female - Rev'!$A60-35,0),0.03999)","v":-5.4999999999999997E-3},{"$f":"MIN(OFFSET(Female!Q$18,'Female - Rev'!$A60-35,0),0.03999)","v":-3.8999999999999998E-3},{"$f":"MIN(OFFSET(Female!R$18,'Female - Rev'!$A60-35,0),0.03999)","v":-1E-3},{"$f":"MIN(OFFSET(Female!S$18,'Female - Rev'!$A60-35,0),0.03999)","v":3.2000000000000002E-3},{"$f":"MIN(OFFSET(Female!T$18,'Female - Rev'!$A60-35,0),0.03999)","v":8.8999999999999999E-3},{"$f":"MIN(OFFSET(Female!U$18,'Female - Rev'!$A60-35,0),0.03999)","v":1.5699999999999999E-2},{"$f":"MIN(OFFSET(Female!V$18,'Female - Rev'!$A60-35,0),0.03999)","v":2.3099999999999999E-2},{"$f":"MIN(OFFSET(Female!W$18,'Female - Rev'!$A60-35,0),0.03999)","v":3.0200000000000001E-2},{"$f":"MIN(OFFSET(Female!X$18,'Female - Rev'!$A60-35,0),0.03999)","v":3.6499999999999998E-2},{"$f":"MIN(OFFSET(Female!Y$18,'Female - Rev'!$A60-35,0),0.03999)","v":3.9989999999999998E-2},{"$f":"MIN(OFFSET(Female!Z$18,'Female - Rev'!$A60-35,0),0.03999)","v":3.9989999999999998E-2},{"$f":"MIN(OFFSET(Female!AA$18,'Female - Rev'!$A60-35,0),0.03999)","v":3.9989999999999998E-2},{"$f":"MIN(OFFSET(Female!AB$18,'Female - Rev'!$A60-35,0),0.03999)","v":3.9989999999999998E-2},{"$f":"MIN(OFFSET(Female!AC$18,'Female - Rev'!$A60-35,0),0.03999)","v":3.9989999999999998E-2},{"$f":"MIN(OFFSET(Female!AD$18,'Female - Rev'!$A60-35,0),0.03999)","v":3.7999999999999999E-2},{"$f":"MIN(OFFSET(Female!AE$18,'Female - Rev'!$A60-35,0),0.03999)","v":3.39E-2},{"$f":"MIN(OFFSET(Female!AF$18,'Female - Rev'!$A60-35,0),0.03999)","v":2.92E-2},{"$f":"MIN(OFFSET(Female!AG$18,'Female - Rev'!$A60-35,0),0.03999)","v":2.4E-2},{"$f":"MIN(OFFSET(Female!AH$18,'Female - Rev'!$A60-35,0),0.03999)","v":1.8200000000000001E-2},{"$f":"MIN(OFFSET(Female!AI$18,'Female - Rev'!$A60-35,0),0.03999)","v":1.23E-2},{"$f":"MIN(OFFSET(Female!AJ$18,'Female - Rev'!$A60-35,0),0.03999)","v":6.7999999999999996E-3},{"$f":"MIN(OFFSET(Female!AK$18,'Female - Rev'!$A60-35,0),0.03999)","v":2E-3},{"$f":"MIN(OFFSET(Female!AL$18,'Female - Rev'!$A60-35,0),0.03999)","v":-1.9E-3},{"$f":"MIN(OFFSET(Female!AM$18,'Female - Rev'!$A60-35,0),0.03999)","v":-4.8999999999999998E-3},{"$f":"MIN(OFFSET(Female!AN$18,'Female - Rev'!$A60-35,0),0.03999)","v":-7.1000000000000004E-3},{"$f":"MIN(OFFSET(Female!AO$18,'Female - Rev'!$A60-35,0),0.03999)","v":-8.8999999999999999E-3},{"$f":"MIN(OFFSET(Female!AP$18,'Female - Rev'!$A60-35,0),0.03999)","v":-0.01},{"$f":"MIN(OFFSET(Female!AQ$18,'Female - Rev'!$A60-35,0),0.03999)","v":-9.9000000000000008E-3},{"$f":"MIN(OFFSET(Female!AR$18,'Female - Rev'!$A60-35,0),0.03999)","v":-8.3000000000000001E-3},{"$f":"MIN(OFFSET(Female!AS$18,'Female - Rev'!$A60-35,0),0.03999)","v":-5.1000000000000004E-3},{"$f":"MIN(OFFSET(Female!AT$18,'Female - Rev'!$A60-35,0),0.03999)","v":-1.1000000000000001E-3},{"$f":"MIN(OFFSET(Female!AU$18,'Female - Rev'!$A60-35,0),0.03999)","v":2.5000000000000001E-3},{"$f":"MIN(OFFSET(Female!AV$18,'Female - Rev'!$A60-35,0),0.03999)","v":4.7000000000000002E-3},{"$f":"MIN(OFFSET(Female!AW$18,'Female - Rev'!$A60-35,0),0.03999)","v":5.1999999999999998E-3},{"$f":"MIN(OFFSET(Female!AX$18,'Female - Rev'!$A60-35,0),0.03999)","v":4.7000000000000002E-3},{"$f":"MIN(OFFSET(Female!AY$18,'Female - Rev'!$A60-35,0),0.03999)","v":4.3E-3},{"$f":"MIN(OFFSET(Female!AZ$18,'Female - Rev'!$A60-35,0),0.03999)","v":4.7999999999999996E-3},{"$f":"MIN(OFFSET(Female!BA$18,'Female - Rev'!$A60-35,0),0.03999)","v":6.7000000000000002E-3},{"$f":"MIN(OFFSET(Female!BB$18,'Female - Rev'!$A60-35,0),0.03999)","v":9.7000000000000003E-3},{"$f":"MIN(OFFSET(Female!BC$18,'Female - Rev'!$A60-35,0),0.03999)","v":1.2999999999999999E-2},{"$f":"MIN(OFFSET(Female!BD$18,'Female - Rev'!$A60-35,0),0.03999)","v":1.5800000000000002E-2},{"$f":"MIN(OFFSET(Female!BE$18,'Female - Rev'!$A60-35,0),0.03999)","v":1.77E-2},{"$f":"MIN(OFFSET(Female!BF$18,'Female - Rev'!$A60-35,0),0.03999)","v":1.8200000000000001E-2},{"$f":"MIN(OFFSET(Female!BG$18,'Female - Rev'!$A60-35,0),0.03999)","v":1.7000000000000001E-2},{"$f":"MIN(OFFSET(Female!BH$18,'Female - Rev'!$A60-35,0),0.03999)","v":1.3899999999999999E-2},{"$f":"MIN(OFFSET(Female!BI$18,'Female - Rev'!$A60-35,0),0.03999)","v":8.9999999999999993E-3},{"$f":"MIN(OFFSET(Female!BJ$18,'Female - Rev'!$A60-35,0),0.03999)","v":2.5999999999999999E-3},{"$f":"MIN(OFFSET(Female!BK$18,'Female - Rev'!$A60-35,0),0.03999)","v":-5.1999999999999998E-3},{"$f":"MIN(OFFSET(Female!BL$18,'Female - Rev'!$A60-35,0),0.03999)","v":-1.38E-2},{"$f":"MIN(OFFSET(Female!BM$18,'Female - Rev'!$A60-35,0),0.03999)","v":-2.2700000000000001E-2},{"$f":"MIN(OFFSET(Female!BN$18,'Female - Rev'!$A60-35,0),0.03999)","v":-3.1600000000000003E-2},{"$f":"MIN(OFFSET(Female!BO$18,'Female - Rev'!$A60-35,0),0.03999)","v":-3.2899999999999999E-2},{"$f":"MIN(OFFSET(Female!BP$18,'Female - Rev'!$A60-35,0),0.03999)","v":-3.2599999999999997E-2},{"$f":"MIN(OFFSET(Female!BQ$18,'Female - Rev'!$A60-35,0),0.03999)","v":-3.09E-2},{"$f":"MIN(OFFSET(Female!BR$18,'Female - Rev'!$A60-35,0),0.03999)","v":-2.8000000000000001E-2},{"$f":"MIN(OFFSET(Female!BS$18,'Female - Rev'!$A60-35,0),0.03999)","v":-2.41E-2},{"$f":"MIN(OFFSET(Female!BT$18,'Female - Rev'!$A60-35,0),0.03999)","v":-1.9599999999999999E-2},{"$f":"MIN(OFFSET(Female!BU$18,'Female - Rev'!$A60-35,0),0.03999)","v":-1.49E-2},{"$f":"MIN(OFFSET(Female!BV$18,'Female - Rev'!$A60-35,0),0.03999)","v":-1.03E-2},{"$f":"MIN(OFFSET(Female!BW$18,'Female - Rev'!$A60-35,0),0.03999)","v":-6.3E-3},{"$f":"MIN(OFFSET(Female!BX$18,'Female - Rev'!$A60-35,0),0.03999)","v":-3.2000000000000002E-3},{"$f":"MIN(OFFSET(Female!BY$18,'Female - Rev'!$A60-35,0),0.03999)","v":-8.0000000000000004E-4},{"$f":"MIN(OFFSET(Female!BZ$18,'Female - Rev'!$A60-35,0),0.03999)","v":1.5E-3},{"$f":"MIN(OFFSET(Female!CA$18,'Female - Rev'!$A60-35,0),0.03999)","v":3.5000000000000001E-3},{"$f":"MIN(OFFSET(Female!CB$18,'Female - Rev'!$A60-35,0),0.03999)","v":5.3E-3},{"$f":"MIN(OFFSET(Female!CC$18,'Female - Rev'!$A60-35,0),0.03999)","v":6.7999999999999996E-3},{"$f":"MIN(OFFSET(Female!CD$18,'Female - Rev'!$A60-35,0),0.03999)","v":8.0000000000000002E-3},{"$f":"MIN(OFFSET(Female!CE$18,'Female - Rev'!$A60-35,0),0.03999)","v":8.8999999999999999E-3},{"$f":"MIN(OFFSET(Female!CF$18,'Female - Rev'!$A60-35,0),0.03999)","v":9.4999999999999998E-3},{"$f":"MIN(OFFSET(Female!CG$18,'Female - Rev'!$A60-35,0),0.03999)","v":9.9000000000000008E-3},{"$f":"MIN(OFFSET(Female!CH$18,'Female - Rev'!$A60-35,0),0.03999)","v":0.01}]
[37,37,{"$f":"MIN(OFFSET(Female!B$18,'Female - Rev'!$A61-35,0),0.03999)","v":3.9989999999999998E-2},{"$f":"MIN(OFFSET(Female!C$18,'Female - Rev'!$A61-35,0),0.03999)","v":3.9989999999999998E-2},{"$f":"MIN(OFFSET(Female!D$18,'Female - Rev'!$A61-35,0),0.03999)","v":3.9989999999999998E-2},{"$f":"MIN(OFFSET(Female!E$18,'Female - Rev'!$A61-35,0),0.03999)","v":3.5900000000000001E-2},{"$f":"MIN(OFFSET(Female!F$18,'Female - Rev'!$A61-35,0),0.03999)","v":2.9600000000000001E-2},{"$f":"MIN(OFFSET(Female!G$18,'Female - Rev'!$A61-35,0),0.03999)","v":2.3300000000000001E-2},{"$f":"MIN(OFFSET(Female!H$18,'Female - Rev'!$A61-35,0),0.03999)","v":1.72E-2},{"$f":"MIN(OFFSET(Female!I$18,'Female - Rev'!$A61-35,0),0.03999)","v":1.1599999999999999E-2},{"$f":"MIN(OFFSET(Female!J$18,'Female - Rev'!$A61-35,0),0.03999)","v":6.4999999999999997E-3},{"$f":"MIN(OFFSET(Female!K$18,'Female - Rev'!$A61-35,0),0.03999)","v":1.9E-3},{"$f":"MIN(OFFSET(Female!L$18,'Female - Rev'!$A61-35,0),0.03999)","v":-1.8E-3},{"$f":"MIN(OFFSET(Female!M$18,'Female - Rev'!$A61-35,0),0.03999)","v":-4.4000000000000003E-3},{"$f":"MIN(OFFSET(Female!N$18,'Female - Rev'!$A61-35,0),0.03999)","v":-5.7999999999999996E-3},{"$f":"MIN(OFFSET(Female!O$18,'Female - Rev'!$A61-35,0),0.03999)","v":-6.0000000000000001E-3},{"$f":"MIN(OFFSET(Female!P$18,'Female - Rev'!$A61-35,0),0.03999)","v":-5.1000000000000004E-3},{"$f":"MIN(OFFSET(Female!Q$18,'Female - Rev'!$A61-35,0),0.03999)","v":-3.2000000000000002E-3},{"$f":"MIN(OFFSET(Female!R$18,'Female - Rev'!$A61-35,0),0.03999)","v":-2.0000000000000001E-4},{"$f":"MIN(OFFSET(Female!S$18,'Female - Rev'!$A61-35,0),0.03999)","v":4.1999999999999997E-3},{"$f":"MIN(OFFSET(Female!T$18,'Female - Rev'!$A61-35,0),0.03999)","v":0.01},{"$f":"MIN(OFFSET(Female!U$18,'Female - Rev'!$A61-35,0),0.03999)","v":1.6899999999999998E-2},{"$f":"MIN(OFFSET(Female!V$18,'Female - Rev'!$A61-35,0),0.03999)","v":2.4299999999999999E-2},{"$f":"MIN(OFFSET(Female!W$18,'Female - Rev'!$A61-35,0),0.03999)","v":3.15E-2},{"$f":"MIN(OFFSET(Female!X$18,'Female - Rev'!$A61-35,0),0.03999)","v":3.78E-2},{"$f":"MIN(OFFSET(Female!Y$18,'Female - Rev'!$A61-35,0),0.03999)","v":3.9989999999999998E-2},{"$f":"MIN(OFFSET(Female!Z$18,'Female - Rev'!$A61-35,0),0.03999)","v":3.9989999999999998E-2},{"$f":"MIN(OFFSET(Female!AA$18,'Female - Rev'!$A61-35,0),0.03999)","v":3.9989999999999998E-2},{"$f":"MIN(OFFSET(Female!AB$18,'Female - Rev'!$A61-35,0),0.03999)","v":3.9989999999999998E-2},{"$f":"MIN(OFFSET(Female!AC$18,'Female - Rev'!$A61-35,0),0.03999)","v":3.9989999999999998E-2},{"$f":"MIN(OFFSET(Female!AD$18,'Female - Rev'!$A61-35,0),0.03999)","v":3.7499999999999999E-2},{"$f":"MIN(OFFSET(Female!AE$18,'Female - Rev'!$A61-35,0),0.03999)","v":3.3000000000000002E-2},{"$f":"MIN(OFFSET(Female!AF$18,'Female - Rev'!$A61-35,0),0.03999)","v":2.7799999999999998E-2},{"$f":"MIN(OFFSET(Female!AG$18,'Female - Rev'!$A61-35,0),0.03999)","v":2.1999999999999999E-2},{"$f":"MIN(OFFSET(Female!AH$18,'Female - Rev'!$A61-35,0),0.03999)","v":1.5699999999999999E-2},{"$f":"MIN(OFFSET(Female!AI$18,'Female - Rev'!$A61-35,0),0.03999)","v":9.2999999999999992E-3},{"$f":"MIN(OFFSET(Female!AJ$18,'Female - Rev'!$A61-35,0),0.03999)","v":3.3999999999999998E-3},{"$f":"MIN(OFFSET(Female!AK$18,'Female - Rev'!$A61-35,0),0.03999)","v":-1.6000000000000001E-3},{"$f":"MIN(OFFSET(Female!AL$18,'Female - Rev'!$A61-35,0),0.03999)","v":-5.4999999999999997E-3},{"$f":"MIN(OFFSET(Female!AM$18,'Female - Rev'!$A61-35,0),0.03999)","v":-8.0000000000000002E-3},{"$f":"MIN(OFFSET(Female!AN$18,'Female - Rev'!$A61-35,0),0.03999)","v":-9.5999999999999992E-3},{"$f":"MIN(OFFSET(Female!AO$18,'Female - Rev'!$A61-35,0),0.03999)","v":-1.0699999999999999E-2},{"$f":"MIN(OFFSET(Female!AP$18,'Female - Rev'!$A61-35,0),0.03999)","v":-1.0999999999999999E-2},{"$f":"MIN(OFFSET(Female!AQ$18,'Female - Rev'!$A61-35,0),0.03999)","v":-0.01},{"$f":"MIN(OFFSET(Female!AR$18,'Female - Rev'!$A61-35,0),0.03999)","v":-7.4999999999999997E-3},{"$f":"MIN(OFFSET(Female!AS$18,'Female - Rev'!$A61-35,0),0.03999)","v":-3.5000000000000001E-3},{"$f":"MIN(OFFSET(Female!AT$18,'Female - Rev'!$A61-35,0),0.03999)","v":1.2999999999999999E-3},{"$f":"MIN(OFFSET(Female!AU$18,'Female - Rev'!$A61-35,0),0.03999)","v":5.5999999999999999E-3},{"$f":"MIN(OFFSET(Female!AV$18,'Female - Rev'!$A61-35,0),0.03999)","v":8.2000000000000007E-3},{"$f":"MIN(OFFSET(Female!AW$18,'Female - Rev'!$A61-35,0),0.03999)","v":8.8999999999999999E-3},{"$f":"MIN(OFFSET(Female!AX$18,'Female - Rev'!$A61-35,0),0.03999)","v":8.3000000000000001E-3},{"$f":"MIN(OFFSET(Female!AY$18,'Female - Rev'!$A61-35,0),0.03999)","v":7.4999999999999997E-3},{"$f":"MIN(OFFSET(Female!AZ$18,'Female - Rev'!$A61-35,0),0.03999)","v":7.4999999999999997E-3},{"$f":"MIN(OFFSET(Female!BA$18,'Female - Rev'!$A61-35,0),0.03999)","v":8.6999999999999994E-3},{"$f":"MIN(OFFSET(Female!BB$18,'Female - Rev'!$A61-35,0),0.03999)","v":1.0800000000000001E-2},{"$f":"MIN(OFFSET(Female!BC$18,'Female - Rev'!$A61-35,0),0.03999)","v":1.32E-2},{"$f":"MIN(OFFSET(Female!BD$18,'Female - Rev'!$A61-35,0),0.03999)","v":1.5100000000000001E-2},{"$f":"MIN(OFFSET(Female!BE$18,'Female - Rev'!$A61-35,0),0.03999)","v":1.6199999999999999E-2},{"$f":"MIN(OFFSET(Female!BF$18,'Female - Rev'!$A61-35,0),0.03999)","v":1.61E-2},{"$f":"MIN(OFFSET(Female!BG$18,'Female - Rev'!$A61-35,0),0.03999)","v":1.44E-2},{"$f":"MIN(OFFSET(Female!BH$18,'Female - Rev'!$A61-35,0),0.03999)","v":1.11E-2},{"$f":"MIN(OFFSET(Female!BI$18,'Female - Rev'!$A61-35,0),0.03999)","v":6.1000000000000004E-3},{"$f":"MIN(OFFSET(Female!BJ$18,'Female - Rev'!$A61-35,0),0.03999)","v":-4.0000000000000002E-4},{"$f":"MIN(OFFSET(Female!BK$18,'Female - Rev'!$A61-35,0),0.03999)","v":-8.2000000000000007E-3},{"$f":"MIN(OFFSET(Female!BL$18,'Female - Rev'!$A61-35,0),0.03999)","v":-1.7000000000000001E-2},{"$f":"MIN(OFFSET(Female!BM$18,'Female - Rev'!$A61-35,0),0.03999)","v":-2.63E-2},{"$f":"MIN(OFFSET(Female!BN$18,'Female - Rev'!$A61-35,0),0.03999)","v":-3.5700000000000003E-2},{"$f":"MIN(OFFSET(Female!BO$18,'Female - Rev'!$A61-35,0),0.03999)","v":-3.6700000000000003E-2},{"$f":"MIN(OFFSET(Female!BP$18,'Female - Rev'!$A61-35,0),0.03999)","v":-3.5999999999999997E-2},{"$f":"MIN(OFFSET(Female!BQ$18,'Female - Rev'!$A61-35,0),0.03999)","v":-3.3599999999999998E-2},{"$f":"MIN(OFFSET(Female!BR$18,'Female - Rev'!$A61-35,0),0.03999)","v":-0.03},{"$f":"MIN(OFFSET(Female!BS$18,'Female - Rev'!$A61-35,0),0.03999)","v":-2.5399999999999999E-2},{"$f":"MIN(OFFSET(Female!BT$18,'Female - Rev'!$A61-35,0),0.03999)","v":-2.0299999999999999E-2},{"$f":"MIN(OFFSET(Female!BU$18,'Female - Rev'!$A61-35,0),0.03999)","v":-1.4999999999999999E-2},{"$f":"MIN(OFFSET(Female!BV$18,'Female - Rev'!$A61-35,0),0.03999)","v":-1.01E-2},{"$f":"MIN(OFFSET(Female!BW$18,'Female - Rev'!$A61-35,0),0.03999)","v":-5.7999999999999996E-3},{"$f":"MIN(OFFSET(Female!BX$18,'Female - Rev'!$A61-35,0),0.03999)","v":-2.7000000000000001E-3},{"$f":"MIN(OFFSET(Female!BY$18,'Female - Rev'!$A61-35,0),0.03999)","v":-2.9999999999999997E-4},{"$f":"MIN(OFFSET(Female!BZ$18,'Female - Rev'!$A61-35,0),0.03999)","v":1.9E-3},{"$f":"MIN(OFFSET(Female!CA$18,'Female - Rev'!$A61-35,0),0.03999)","v":3.8E-3},{"$f":"MIN(OFFSET(Female!CB$18,'Female - Rev'!$A61-35,0),0.03999)","v":5.4999999999999997E-3},{"$f":"MIN(OFFSET(Female!CC$18,'Female - Rev'!$A61-35,0),0.03999)","v":6.8999999999999999E-3},{"$f":"MIN(OFFSET(Female!CD$18,'Female - Rev'!$A61-35,0),0.03999)","v":8.0999999999999996E-3},{"$f":"MIN(OFFSET(Female!CE$18,'Female - Rev'!$A61-35,0),0.03999)","v":8.8999999999999999E-3},{"$f":"MIN(OFFSET(Female!CF$18,'Female - Rev'!$A61-35,0),0.03999)","v":9.4999999999999998E-3},{"$f":"MIN(OFFSET(Female!CG$18,'Female - Rev'!$A61-35,0),0.03999)","v":9.9000000000000008E-3},{"$f":"MIN(OFFSET(Female!CH$18,'Female - Rev'!$A61-35,0),0.03999)","v":0.01}]
[36,36,{"$f":"MIN(OFFSET(Female!B$18,'Female - Rev'!$A62-35,0),0.03999)","v":3.9989999999999998E-2},{"$f":"MIN(OFFSET(Female!C$18,'Female - Rev'!$A62-35,0),0.03999)","v":3.9989999999999998E-2},{"$f":"MIN(OFFSET(Female!D$18,'Female - Rev'!$A62-35,0),0.03999)","v":3.9989999999999998E-2},{"$f":"MIN(OFFSET(Female!E$18,'Female - Rev'!$A62-35,0),0.03999)","v":3.6299999999999999E-2},{"$f":"MIN(OFFSET(Female!F$18,'Female - Rev'!$A62-35,0),0.03999)","v":2.9600000000000001E-2},{"$f":"MIN(OFFSET(Female!G$18,'Female - Rev'!$A62-35,0),0.03999)","v":2.29E-2},{"$f":"MIN(OFFSET(Female!H$18,'Female - Rev'!$A62-35,0),0.03999)","v":1.67E-2},{"$f":"MIN(OFFSET(Female!I$18,'Female - Rev'!$A62-35,0),0.03999)","v":1.11E-2},{"$f":"MIN(OFFSET(Female!J$18,'Female - Rev'!$A62-35,0),0.03999)","v":6.1999999999999998E-3},{"$f":"MIN(OFFSET(Female!K$18,'Female - Rev'!$A62-35,0),0.03999)","v":1.8E-3},{"$f":"MIN(OFFSET(Female!L$18,'Female - Rev'!$A62-35,0),0.03999)","v":-1.6999999999999999E-3},{"$f":"MIN(OFFSET(Female!M$18,'Female - Rev'!$A62-35,0),0.03999)","v":-4.3E-3},{"$f":"MIN(OFFSET(Female!N$18,'Female - Rev'!$A62-35,0),0.03999)","v":-5.5999999999999999E-3},{"$f":"MIN(OFFSET(Female!O$18,'Female - Rev'!$A62-35,0),0.03999)","v":-5.7000000000000002E-3},{"$f":"MIN(OFFSET(Female!P$18,'Female - Rev'!$A62-35,0),0.03999)","v":-4.5999999999999999E-3},{"$f":"MIN(OFFSET(Female!Q$18,'Female - Rev'!$A62-35,0),0.03999)","v":-2.5000000000000001E-3},{"$f":"MIN(OFFSET(Female!R$18,'Female - Rev'!$A62-35,0),0.03999)","v":6.9999999999999999E-4},{"$f":"MIN(OFFSET(Female!S$18,'Female - Rev'!$A62-35,0),0.03999)","v":5.3E-3},{"$f":"MIN(OFFSET(Female!T$18,'Female - Rev'!$A62-35,0),0.03999)","v":1.11E-2},{"$f":"MIN(OFFSET(Female!U$18,'Female - Rev'!$A62-35,0),0.03999)","v":1.7999999999999999E-2},{"$f":"MIN(OFFSET(Female!V$18,'Female - Rev'!$A62-35,0),0.03999)","v":2.53E-2},{"$f":"MIN(OFFSET(Female!W$18,'Female - Rev'!$A62-35,0),0.03999)","v":3.2399999999999998E-2},{"$f":"MIN(OFFSET(Female!X$18,'Female - Rev'!$A62-35,0),0.03999)","v":3.8699999999999998E-2},{"$f":"MIN(OFFSET(Female!Y$18,'Female - Rev'!$A62-35,0),0.03999)","v":3.9989999999999998E-2},{"$f":"MIN(OFFSET(Female!Z$18,'Female - Rev'!$A62-35,0),0.03999)","v":3.9989999999999998E-2},{"$f":"MIN(OFFSET(Female!AA$18,'Female - Rev'!$A62-35,0),0.03999)","v":3.9989999999999998E-2},{"$f":"MIN(OFFSET(Female!AB$18,'Female - Rev'!$A62-35,0),0.03999)","v":3.9989999999999998E-2},{"$f":"MIN(OFFSET(Female!AC$18,'Female - Rev'!$A62-35,0),0.03999)","v":3.9989999999999998E-2},{"$f":"MIN(OFFSET(Female!AD$18,'Female - Rev'!$A62-35,0),0.03999)","v":3.6799999999999999E-2},{"$f":"MIN(OFFSET(Female!AE$18,'Female - Rev'!$A62-35,0),0.03999)","v":3.1699999999999999E-2},{"$f":"MIN(OFFSET(Female!AF$18,'Female - Rev'!$A62-35,0),0.03999)","v":2.6100000000000002E-2},{"$f":"MIN(OFFSET(Female!AG$18,'Female - Rev'!$A62-35,0),0.03999)","v":1.9900000000000001E-2},{"$f":"MIN(OFFSET(Female!AH$18,'Female - Rev'!$A62-35,0),0.03999)","v":1.3100000000000001E-2},{"$f":"MIN(OFFSET(Female!AI$18,'Female - Rev'!$A62-35,0),0.03999)","v":6.3E-3},{"$f":"MIN(OFFSET(Female!AJ$18,'Female - Rev'!$A62-35,0),0.03999)","v":0},{"$f":"MIN(OFFSET(Female!AK$18,'Female - Rev'!$A62-35,0),0.03999)","v":-5.0000000000000001E-3},{"$f":"MIN(OFFSET(Female!AL$18,'Female - Rev'!$A62-35,0),0.03999)","v":-8.6999999999999994E-3},{"$f":"MIN(OFFSET(Female!AM$18,'Female - Rev'!$A62-35,0),0.03999)","v":-1.0699999999999999E-2},{"$f":"MIN(OFFSET(Female!AN$18,'Female - Rev'!$A62-35,0),0.03999)","v":-1.1599999999999999E-2},{"$f":"MIN(OFFSET(Female!AO$18,'Female - Rev'!$A62-35,0),0.03999)","v":-1.1900000000000001E-2},{"$f":"MIN(OFFSET(Female!AP$18,'Female - Rev'!$A62-35,0),0.03999)","v":-1.12E-2},{"$f":"MIN(OFFSET(Female!AQ$18,'Female - Rev'!$A62-35,0),0.03999)","v":-9.4000000000000004E-3},{"$f":"MIN(OFFSET(Female!AR$18,'Female - Rev'!$A62-35,0),0.03999)","v":-6.1000000000000004E-3},{"$f":"MIN(OFFSET(Female!AS$18,'Female - Rev'!$A62-35,0),0.03999)","v":-1.4E-3},{"$f":"MIN(OFFSET(Female!AT$18,'Female - Rev'!$A62-35,0),0.03999)","v":4.0000000000000001E-3},{"$f":"MIN(OFFSET(Female!AU$18,'Female - Rev'!$A62-35,0),0.03999)","v":8.8999999999999999E-3},{"$f":"MIN(OFFSET(Female!AV$18,'Female - Rev'!$A62-35,0),0.03999)","v":1.1900000000000001E-2},{"$f":"MIN(OFFSET(Female!AW$18,'Female - Rev'!$A62-35,0),0.03999)","v":1.26E-2},{"$f":"MIN(OFFSET(Female!AX$18,'Female - Rev'!$A62-35,0),0.03999)","v":1.18E-2},{"$f":"MIN(OFFSET(Female!AY$18,'Female - Rev'!$A62-35,0),0.03999)","v":1.0500000000000001E-2},{"$f":"MIN(OFFSET(Female!AZ$18,'Female - Rev'!$A62-35,0),0.03999)","v":9.7000000000000003E-3},{"$f":"MIN(OFFSET(Female!BA$18,'Female - Rev'!$A62-35,0),0.03999)","v":0.01},{"$f":"MIN(OFFSET(Female!BB$18,'Female - Rev'!$A62-35,0),0.03999)","v":1.11E-2},{"$f":"MIN(OFFSET(Female!BC$18,'Female - Rev'!$A62-35,0),0.03999)","v":1.2500000000000001E-2},{"$f":"MIN(OFFSET(Female!BD$18,'Female - Rev'!$A62-35,0),0.03999)","v":1.35E-2},{"$f":"MIN(OFFSET(Female!BE$18,'Female - Rev'!$A62-35,0),0.03999)","v":1.4E-2},{"$f":"MIN(OFFSET(Female!BF$18,'Female - Rev'!$A62-35,0),0.03999)","v":1.34E-2},{"$f":"MIN(OFFSET(Female!BG$18,'Female - Rev'!$A62-35,0),0.03999)","v":1.15E-2},{"$f":"MIN(OFFSET(Female!BH$18,'Female - Rev'!$A62-35,0),0.03999)","v":8.0999999999999996E-3},{"$f":"MIN(OFFSET(Female!BI$18,'Female - Rev'!$A62-35,0),0.03999)","v":3.0999999999999999E-3},{"$f":"MIN(OFFSET(Female!BJ$18,'Female - Rev'!$A62-35,0),0.03999)","v":-3.2000000000000002E-3},{"$f":"MIN(OFFSET(Female!BK$18,'Female - Rev'!$A62-35,0),0.03999)","v":-1.09E-2},{"$f":"MIN(OFFSET(Female!BL$18,'Female - Rev'!$A62-35,0),0.03999)","v":-1.9800000000000002E-2},{"$f":"MIN(OFFSET(Female!BM$18,'Female - Rev'!$A62-35,0),0.03999)","v":-2.9399999999999999E-2},{"$f":"MIN(OFFSET(Female!BN$18,'Female - Rev'!$A62-35,0),0.03999)","v":-3.9399999999999998E-2},{"$f":"MIN(OFFSET(Female!BO$18,'Female - Rev'!$A62-35,0),0.03999)","v":-0.04},{"$f":"MIN(OFFSET(Female!BP$18,'Female - Rev'!$A62-35,0),0.03999)","v":-3.8699999999999998E-2},{"$f":"MIN(OFFSET(Female!BQ$18,'Female - Rev'!$A62-35,0),0.03999)","v":-3.5700000000000003E-2},{"$f":"MIN(OFFSET(Female!BR$18,'Female - Rev'!$A62-35,0),0.03999)","v":-3.15E-2},{"$f":"MIN(OFFSET(Female!BS$18,'Female - Rev'!$A62-35,0),0.03999)","v":-2.63E-2},{"$f":"MIN(OFFSET(Female!BT$18,'Female - Rev'!$A62-35,0),0.03999)","v":-2.06E-2},{"$f":"MIN(OFFSET(Female!BU$18,'Female - Rev'!$A62-35,0),0.03999)","v":-1.4999999999999999E-2},{"$f":"MIN(OFFSET(Female!BV$18,'Female - Rev'!$A62-35,0),0.03999)","v":-9.7000000000000003E-3},{"$f":"MIN(OFFSET(Female!BW$18,'Female - Rev'!$A62-35,0),0.03999)","v":-5.3E-3},{"$f":"MIN(OFFSET(Female!BX$18,'Female - Rev'!$A62-35,0),0.03999)","v":-2.0999999999999999E-3},{"$f":"MIN(OFFSET(Female!BY$18,'Female - Rev'!$A62-35,0),0.03999)","v":2.0000000000000001E-4},{"$f":"MIN(OFFSET(Female!BZ$18,'Female - Rev'!$A62-35,0),0.03999)","v":2.3E-3},{"$f":"MIN(OFFSET(Female!CA$18,'Female - Rev'!$A62-35,0),0.03999)","v":4.1000000000000003E-3},{"$f":"MIN(OFFSET(Female!CB$18,'Female - Rev'!$A62-35,0),0.03999)","v":5.7999999999999996E-3},{"$f":"MIN(OFFSET(Female!CC$18,'Female - Rev'!$A62-35,0),0.03999)","v":7.1000000000000004E-3},{"$f":"MIN(OFFSET(Female!CD$18,'Female - Rev'!$A62-35,0),0.03999)","v":8.2000000000000007E-3},{"$f":"MIN(OFFSET(Female!CE$18,'Female - Rev'!$A62-35,0),0.03999)","v":8.8999999999999999E-3},{"$f":"MIN(OFFSET(Female!CF$18,'Female - Rev'!$A62-35,0),0.03999)","v":9.4999999999999998E-3},{"$f":"MIN(OFFSET(Female!CG$18,'Female - Rev'!$A62-35,0),0.03999)","v":9.9000000000000008E-3},{"$f":"MIN(OFFSET(Female!CH$18,'Female - Rev'!$A62-35,0),0.03999)","v":0.01}]
[35,35,{"$f":"MIN(OFFSET(Female!B$18,'Female - Rev'!$A63-35,0),0.03999)","v":3.9989999999999998E-2},{"$f":"MIN(OFFSET(Female!C$18,'Female - Rev'!$A63-35,0),0.03999)","v":3.9989999999999998E-2},{"$f":"MIN(OFFSET(Female!D$18,'Female - Rev'!$A63-35,0),0.03999)","v":3.9989999999999998E-2},{"$f":"MIN(OFFSET(Female!E$18,'Female - Rev'!$A63-35,0),0.03999)","v":3.6900000000000002E-2},{"$f":"MIN(OFFSET(Female!F$18,'Female - Rev'!$A63-35,0),0.03999)","v":2.9600000000000001E-2},{"$f":"MIN(OFFSET(Female!G$18,'Female - Rev'!$A63-35,0),0.03999)","v":2.2599999999999999E-2},{"$f":"MIN(OFFSET(Female!H$18,'Female - Rev'!$A63-35,0),0.03999)","v":1.6199999999999999E-2},{"$f":"MIN(OFFSET(Female!I$18,'Female - Rev'!$A63-35,0),0.03999)","v":1.0699999999999999E-2},{"$f":"MIN(OFFSET(Female!J$18,'Female - Rev'!$A63-35,0),0.03999)","v":5.8999999999999999E-3},{"$f":"MIN(OFFSET(Female!K$18,'Female - Rev'!$A63-35,0),0.03999)","v":1.8E-3},{"$f":"MIN(OFFSET(Female!L$18,'Female - Rev'!$A63-35,0),0.03999)","v":-1.5E-3},{"$f":"MIN(OFFSET(Female!M$18,'Female - Rev'!$A63-35,0),0.03999)","v":-3.8999999999999998E-3},{"$f":"MIN(OFFSET(Female!N$18,'Female - Rev'!$A63-35,0),0.03999)","v":-5.1999999999999998E-3},{"$f":"MIN(OFFSET(Female!O$18,'Female - Rev'!$A63-35,0),0.03999)","v":-5.1999999999999998E-3},{"$f":"MIN(OFFSET(Female!P$18,'Female - Rev'!$A63-35,0),0.03999)","v":-4.0000000000000001E-3},{"$f":"MIN(OFFSET(Female!Q$18,'Female - Rev'!$A63-35,0),0.03999)","v":-1.6000000000000001E-3},{"$f":"MIN(OFFSET(Female!R$18,'Female - Rev'!$A63-35,0),0.03999)","v":1.8E-3},{"$f":"MIN(OFFSET(Female!S$18,'Female - Rev'!$A63-35,0),0.03999)","v":6.4000000000000003E-3},{"$f":"MIN(OFFSET(Female!T$18,'Female - Rev'!$A63-35,0),0.03999)","v":1.2200000000000001E-2},{"$f":"MIN(OFFSET(Female!U$18,'Female - Rev'!$A63-35,0),0.03999)","v":1.89E-2},{"$f":"MIN(OFFSET(Female!V$18,'Female - Rev'!$A63-35,0),0.03999)","v":2.5999999999999999E-2},{"$f":"MIN(OFFSET(Female!W$18,'Female - Rev'!$A63-35,0),0.03999)","v":3.3000000000000002E-2},{"$f":"MIN(OFFSET(Female!X$18,'Female - Rev'!$A63-35,0),0.03999)","v":3.9100000000000003E-2},{"$f":"MIN(OFFSET(Female!Y$18,'Female - Rev'!$A63-35,0),0.03999)","v":3.9989999999999998E-2},{"$f":"MIN(OFFSET(Female!Z$18,'Female - Rev'!$A63-35,0),0.03999)","v":3.9989999999999998E-2},{"$f":"MIN(OFFSET(Female!AA$18,'Female - Rev'!$A63-35,0),0.03999)","v":3.9989999999999998E-2},{"$f":"MIN(OFFSET(Female!AB$18,'Female - Rev'!$A63-35,0),0.03999)","v":3.9989999999999998E-2},{"$f":"MIN(OFFSET(Female!AC$18,'Female - Rev'!$A63-35,0),0.03999)","v":3.9989999999999998E-2},{"$f":"MIN(OFFSET(Female!AD$18,'Female - Rev'!$A63-35,0),0.03999)","v":3.5799999999999998E-2},{"$f":"MIN(OFFSET(Female!AE$18,'Female - Rev'!$A63-35,0),0.03999)","v":3.04E-2},{"$f":"MIN(OFFSET(Female!AF$18,'Female - Rev'!$A63-35,0),0.03999)","v":2.4299999999999999E-2},{"$f":"MIN(OFFSET(Female!AG$18,'Female - Rev'!$A63-35,0),0.03999)","v":1.77E-2},{"$f":"MIN(OFFSET(Female!AH$18,'Female - Rev'!$A63-35,0),0.03999)","v":1.0500000000000001E-2},{"$f":"MIN(OFFSET(Female!AI$18,'Female - Rev'!$A63-35,0),0.03999)","v":3.3E-3},{"$f":"MIN(OFFSET(Female!AJ$18,'Female - Rev'!$A63-35,0),0.03999)","v":-3.0999999999999999E-3},{"$f":"MIN(OFFSET(Female!AK$18,'Female - Rev'!$A63-35,0),0.03999)","v":-8.0999999999999996E-3},{"$f":"MIN(OFFSET(Female!AL$18,'Female - Rev'!$A63-35,0),0.03999)","v":-1.14E-2},{"$f":"MIN(OFFSET(Female!AM$18,'Female - Rev'!$A63-35,0),0.03999)","v":-1.2800000000000001E-2},{"$f":"MIN(OFFSET(Female!AN$18,'Female - Rev'!$A63-35,0),0.03999)","v":-1.2999999999999999E-2},{"$f":"MIN(OFFSET(Female!AO$18,'Female - Rev'!$A63-35,0),0.03999)","v":-1.23E-2},{"$f":"MIN(OFFSET(Female!AP$18,'Female - Rev'!$A63-35,0),0.03999)","v":-1.0800000000000001E-2},{"$f":"MIN(OFFSET(Female!AQ$18,'Female - Rev'!$A63-35,0),0.03999)","v":-8.2000000000000007E-3},{"$f":"MIN(OFFSET(Female!AR$18,'Female - Rev'!$A63-35,0),0.03999)","v":-4.1999999999999997E-3},{"$f":"MIN(OFFSET(Female!AS$18,'Female - Rev'!$A63-35,0),0.03999)","v":1.1000000000000001E-3},{"$f":"MIN(OFFSET(Female!AT$18,'Female - Rev'!$A63-35,0),0.03999)","v":7.0000000000000001E-3},{"$f":"MIN(OFFSET(Female!AU$18,'Female - Rev'!$A63-35,0),0.03999)","v":1.23E-2},{"$f":"MIN(OFFSET(Female!AV$18,'Female - Rev'!$A63-35,0),0.03999)","v":1.55E-2},{"$f":"MIN(OFFSET(Female!AW$18,'Female - Rev'!$A63-35,0),0.03999)","v":1.6199999999999999E-2},{"$f":"MIN(OFFSET(Female!AX$18,'Female - Rev'!$A63-35,0),0.03999)","v":1.5100000000000001E-2},{"$f":"MIN(OFFSET(Female!AY$18,'Female - Rev'!$A63-35,0),0.03999)","v":1.32E-2},{"$f":"MIN(OFFSET(Female!AZ$18,'Female - Rev'!$A63-35,0),0.03999)","v":1.15E-2},{"$f":"MIN(OFFSET(Female!BA$18,'Female - Rev'!$A63-35,0),0.03999)","v":1.06E-2},{"$f":"MIN(OFFSET(Female!BB$18,'Female - Rev'!$A63-35,0),0.03999)","v":1.06E-2},{"$f":"MIN(OFFSET(Female!BC$18,'Female - Rev'!$A63-35,0),0.03999)","v":1.0999999999999999E-2},{"$f":"MIN(OFFSET(Female!BD$18,'Female - Rev'!$A63-35,0),0.03999)","v":1.12E-2},{"$f":"MIN(OFFSET(Female!BE$18,'Female - Rev'!$A63-35,0),0.03999)","v":1.12E-2},{"$f":"MIN(OFFSET(Female!BF$18,'Female - Rev'!$A63-35,0),0.03999)","v":1.04E-2},{"$f":"MIN(OFFSET(Female!BG$18,'Female - Rev'!$A63-35,0),0.03999)","v":8.3999999999999995E-3},{"$f":"MIN(OFFSET(Female!BH$18,'Female - Rev'!$A63-35,0),0.03999)","v":5.1000000000000004E-3},{"$f":"MIN(OFFSET(Female!BI$18,'Female - Rev'!$A63-35,0),0.03999)","v":5.0000000000000001E-4},{"$f":"MIN(OFFSET(Female!BJ$18,'Female - Rev'!$A63-35,0),0.03999)","v":-5.5999999999999999E-3},{"$f":"MIN(OFFSET(Female!BK$18,'Female - Rev'!$A63-35,0),0.03999)","v":-1.2999999999999999E-2},{"$f":"MIN(OFFSET(Female!BL$18,'Female - Rev'!$A63-35,0),0.03999)","v":-2.1899999999999999E-2},{"$f":"MIN(OFFSET(Female!BM$18,'Female - Rev'!$A63-35,0),0.03999)","v":-3.1899999999999998E-2},{"$f":"MIN(OFFSET(Female!BN$18,'Female - Rev'!$A63-35,0),0.03999)","v":-4.24E-2},{"$f":"MIN(OFFSET(Female!BO$18,'Female - Rev'!$A63-35,0),0.03999)","v":-4.2599999999999999E-2},{"$f":"MIN(OFFSET(Female!BP$18,'Female - Rev'!$A63-35,0),0.03999)","v":-4.0800000000000003E-2},{"$f":"MIN(OFFSET(Female!BQ$18,'Female - Rev'!$A63-35,0),0.03999)","v":-3.7199999999999997E-2},{"$f":"MIN(OFFSET(Female!BR$18,'Female - Rev'!$A63-35,0),0.03999)","v":-3.2399999999999998E-2},{"$f":"MIN(OFFSET(Female!BS$18,'Female - Rev'!$A63-35,0),0.03999)","v":-2.6700000000000002E-2},{"$f":"MIN(OFFSET(Female!BT$18,'Female - Rev'!$A63-35,0),0.03999)","v":-2.06E-2},{"$f":"MIN(OFFSET(Female!BU$18,'Female - Rev'!$A63-35,0),0.03999)","v":-1.46E-2},{"$f":"MIN(OFFSET(Female!BV$18,'Female - Rev'!$A63-35,0),0.03999)","v":-9.1999999999999998E-3},{"$f":"MIN(OFFSET(Female!BW$18,'Female - Rev'!$A63-35,0),0.03999)","v":-4.7000000000000002E-3},{"$f":"MIN(OFFSET(Female!BX$18,'Female - Rev'!$A63-35,0),0.03999)","v":-1.5E-3},{"$f":"MIN(OFFSET(Female!BY$18,'Female - Rev'!$A63-35,0),0.03999)","v":6.9999999999999999E-4},{"$f":"MIN(OFFSET(Female!BZ$18,'Female - Rev'!$A63-35,0),0.03999)","v":2.7000000000000001E-3},{"$f":"MIN(OFFSET(Female!CA$18,'Female - Rev'!$A63-35,0),0.03999)","v":4.4999999999999997E-3},{"$f":"MIN(OFFSET(Female!CB$18,'Female - Rev'!$A63-35,0),0.03999)","v":6.0000000000000001E-3},{"$f":"MIN(OFFSET(Female!CC$18,'Female - Rev'!$A63-35,0),0.03999)","v":7.1999999999999998E-3},{"$f":"MIN(OFFSET(Female!CD$18,'Female - Rev'!$A63-35,0),0.03999)","v":8.2000000000000007E-3},{"$f":"MIN(OFFSET(Female!CE$18,'Female - Rev'!$A63-35,0),0.03999)","v":8.8999999999999999E-3},{"$f":"MIN(OFFSET(Female!CF$18,'Female - Rev'!$A63-35,0),0.03999)","v":9.4999999999999998E-3},{"$f":"MIN(OFFSET(Female!CG$18,'Female - Rev'!$A63-35,0),0.03999)","v":9.9000000000000008E-3},{"$f":"MIN(OFFSET(Female!CH$18,'Female - Rev'!$A63-35,0),0.03999)","v":0.01}]

{"sheet":"Heat Maps","index":5,"n_rows":0,"n_cols":0,"rows_kept":0,"cut":false,"hidden":false,"merged":[]}