Workbook

Sheet Disclaimer
A1: Disclaimer:
A2: The report, its accompanying models, software tools and other associated documentation do not represent an official position, statement, or endorsement of the Society of Actuaries (SOA). The SOA and the author make no representation or warranty, expressed or implied, regarding the software as to quality, accuracy, reliability, suitability or otherwise, and DISCLAIM ANY EXPRESS OR IMPLIED WARRANTY OF MERCHANTABILITY OR FITNESS FOR ANY PARTICULAR PURPOSE. SOA and the author make no representation or warranty of non-infringement of proprietary rights of others with respect to the software. Further, the SOA and the author make no warranty that the software is free from errors, defects, worms, viruses or other elements or codes that manifest contaminating or destructive properties. The user assumes all risks relating to the use, outputs, analyses, results and performance of the software, regardless of whether the software is used alone or with other software. NEITHER THE SOA NOR THE AUTHOR SHALL BE LIABLE FOR ANY LOSS OR DAMAGE ARISING FROM THE USE OF, RELIANCE ON, OR THE PERFORMANCE OF THE SOFTWARE OR ITS ACCOMPANYING INSTRUCTIONS OR DOCUMENTATION. IN NO EVENT SHALL THE SOA OR THE AUTHOR BE LIABLE FOR ANY INDIRECT, INCIDENTAL OR CONSEQUENTIAL DAMAGES (INCLUDING LOST PROFITS) EVEN IF APPRISED OF THE POSSIBILITY OF SUCH DAMAGES.

Sheet Monte Carlo Trials
A1: Random or Fixed | B1: Fixed
A2: Key Inputs | D2: Log Normal factors:
A3: Mean | B3: ='Back Testing'!E89 -> 0.099763279 | D3: mu | E3: =LN(1+B3)-E4^2/2 -> 0.089424839 | I3: Back tested results (1950 - 2010) | J3: ='Back Testing'!E90 -> 0.093667805 | K3: ='Back Testing'!E90-'Back Testing'!O90 -> 0.016534223
A4: Std Dev | B4: ='Back Testing'!E91 -> 0.11744718 | D4: sigma | E4: =(LN(1+(B4^2/((1+B3)^2))))^0.5 -> 0.10649053 | Z4: Notes about Median, Arithmetic mean and Geometric mean (all forward looking):
A5: Distribution Type | B5: 1 | C5: 1 = Log Normal, 2 = Normal | J5: Threshold tied to 7.5% | Q5: Threshold tied to expected 5 yr Geometric average (not the median)
B6: Year 1 | C6: Year 2 | D6: Year 3 | E6: Year 4 | F6: Year 5 | J6: Compounded Five Year | K6: Mean Skim tied to 7.5% threshold | L6: Net | M6: Real 5th year net | N6: Average net mean rate (Forward Looking Arithmetic rate) | Q6: Compounded Five Year | R6: Skim tied to Geometric Average | S6: Net | T6: Real 5th year net | U6: Average net mean rate (Forward Looking Arithmetic rate) | W6: Average gross mean rate (Forward Looking Arithmetic rate) | AA6: The Medians are determined on line 12. As long as the distribution is log normal, the gross median will approximate the theorectical number that can be derived from other formulas using the values in cells B3 and B4 (generally about B3 - B4^2/2). | AC6: The Arithmetic mean should equal (approximate) the value in cell B3 regardless of the values in B4 and B5. In the model the Arithmetic mean is the (average of the cumulative returns)^1/n where n is number of years (e.g. 5 in our model). This is effectively dollar weighted (no gain or loss) | AE6: The gross Geometric mean should can also be estimated by formula and unlike the other two values, changes with time horizon. In the model the Goemetric mean is the average of (cumulative returns^1/n) where n is number of years (e.g. 5 in our model). This is effectively not dollar weighted.
A7: Calc Mean | B7: =AVERAGE(B$17:B$2016) -> 0.095917927 | C7: =AVERAGE(C$17:C$2016) -> 0.09826936 | D7: =AVERAGE(D$17:D$2016) -> 0.10505482 | E7: =AVERAGE(E$17:E$2016) -> 0.098105054 | F7: =AVERAGE(F$17:F$2016) -> 0.098228613 | I7: Calc Mean | J7: =AVERAGE(J17:J2016) -> 0.094210922 | K7: =AVERAGE(K17:K2016) -> 0.015625776 | L7: =J7-K7 -> 0.078585145 | M7: =AVERAGE(M17:M2016) -> 0.082602837 | N7: =AVERAGE(N17:N2016)^0.2-1 -> 0.080792054 | P7: Calc Mean | Q7: =AVERAGE(Q17:Q2016) -> 0.094210922 | R7: =AVERAGE(R17:R2016) -> 0.01017192 | S7: =Q7-R7 -> 0.084039002 | T7: =AVERAGE(T17:T2016) -> 0.072430917 | U7: =AVERAGE(U17:U2016)^0.2-1 -> 0.086729911 | W7: =AVERAGE(W17:W2016)^0.2-1 -> 0.098944653 | X7: =W7-U7 -> 0.012214742
A8: Calc Std Dev | B8: =STDEV(B$17:B$2016) -> 0.11663749 | C8: =STDEV(C$17:C$2016) -> 0.11723695 | D8: =STDEV(D$17:D$2016) -> 0.11848984 | E8: =STDEV(E$17:E$2016) -> 0.11374314 | F8: =STDEV(F$17:F$2016) -> 0.11443596 | I8: Calc Std Dev | J8: =STDEV(J17:J2016)*(5^0.5) -> 0.11396298 | K8: =STDEV(K17:K2016)*(5^0.5) -> 0.040761729 | M8: =STDEV(M17:M2016) -> 0.10813545 | P8: Calc Std Dev | Q8: =STDEV(Q17:Q2016)*(5^0.5) -> 0.11396298 | R8: =STDEV(R17:R2016)*(5^0.5) -> 0.033736337 | T8: =STDEV(T17:T2016)*(5^0.5) -> 0.23585118 | X8: vs.
A9: Percentile | I9: Percentile | P9: Percentile | X9: =R7 -> 0.01017192
A10: 10 | B10: =PERCENTILE(B$17:B$2016,(100-$A10)/100) -> 0.24642968 | C10: =PERCENTILE(C$17:C$2016,(100-$A10)/100) -> 0.24728464 | D10: =PERCENTILE(D$17:D$2016,(100-$A10)/100) -> 0.25772465 | E10: =PERCENTILE(E$17:E$2016,(100-$A10)/100) -> 0.24740911 | F10: =PERCENTILE(F$17:F$2016,(100-$A10)/100) -> 0.24900544 | I10: 10 | J10: =PERCENTILE(J$17:J$2016,(100-$I10)/100) -> 0.15969547 | K10: =PERCENTILE(K$17:K$2016,(100-$I10)/100) -> 0.042347736 | M10: =PERCENTILE(M$17:M$2016,(100-$I10)/100) -> 0.22530549 | P10: 10 | Q10: =PERCENTILE(Q$17:Q$2016,(100-$P10)/100) -> 0.15969547 | R10: =PERCENTILE(R$17:R$2016,(100-$P10)/100) -> 0.032742275 | T10: =PERCENTILE(T$17:T$2016,(100-$P10)/100) -> 0.21015071
A11: 25 | B11: =PERCENTILE(B$17:B$2016,(100-$A11)/100) -> 0.16874043 | C11: =PERCENTILE(C$17:C$2016,(100-$A11)/100) -> 0.17542029 | D11: =PERCENTILE(D$17:D$2016,(100-$A11)/100) -> 0.17926923 | E11: =PERCENTILE(E$17:E$2016,(100-$A11)/100) -> 0.16949522 | F11: =PERCENTILE(F$17:F$2016,(100-$A11)/100) -> 0.17191734 | I11: 25 | J11: =PERCENTILE(J$17:J$2016,(100-$I11)/100) -> 0.12855203 | K11: =PERCENTILE(K$17:K$2016,(100-$I11)/100) -> 0.026776015 | M11: =PERCENTILE(M$17:M$2016,(100-$I11)/100) -> 0.15400761 | P11: 25 | Q11: =PERCENTILE(Q$17:Q$2016,(100-$P11)/100) -> 0.12855203 | R11: =PERCENTILE(R$17:R$2016,(100-$P11)/100) -> 0.017170554 | T11: =PERCENTILE(T$17:T$2016,(100-$P11)/100) -> 0.14295988
A12: 50 | B12: =PERCENTILE(B$17:B$2016,(100-$A12)/100) -> 0.090673837 | C12: =PERCENTILE(C$17:C$2016,(100-$A12)/100) -> 0.09373153 | D12: =PERCENTILE(D$17:D$2016,(100-$A12)/100) -> 0.097489386 | E12: =PERCENTILE(E$17:E$2016,(100-$A12)/100) -> 0.089351137 | F12: =PERCENTILE(F$17:F$2016,(100-$A12)/100) -> 0.094177485 | I12: 50 | J12: =PERCENTILE(J$17:J$2016,(100-$I12)/100) -> 0.092497573 | K12: =PERCENTILE(K$17:K$2016,(100-$I12)/100) -> 0.0087487864 | M12: =PERCENTILE(M$17:M$2016,(100-$I12)/100) -> 0.077266524 | P12: 50 | Q12: =PERCENTILE(Q$17:Q$2016,(100-$P12)/100) -> 0.092497573 | R12: =PERCENTILE(R$17:R$2016,(100-$P12)/100) -> 0 | T12: =PERCENTILE(T$17:T$2016,(100-$P12)/100) -> 0.067303219
A13: 75 | B13: =PERCENTILE(B$17:B$2016,(100-$A13)/100) -> 0.017252289 | C13: =PERCENTILE(C$17:C$2016,(100-$A13)/100) -> 0.016239133 | D13: =PERCENTILE(D$17:D$2016,(100-$A13)/100) -> 0.022842916 | E13: =PERCENTILE(E$17:E$2016,(100-$A13)/100) -> 0.02089157 | F13: =PERCENTILE(F$17:F$2016,(100-$A13)/100) -> 0.018381635 | I13: 75 | J13: =PERCENTILE(J$17:J$2016,(100-$I13)/100) -> 0.05908193 | K13: =PERCENTILE(K$17:K$2016,(100-$I13)/100) -> 0 | M13: =PERCENTILE(M$17:M$2016,(100-$I13)/100) -> 0.0064056521 | P13: 75 | Q13: =PERCENTILE(Q$17:Q$2016,(100-$P13)/100) -> 0.05908193 | R13: =PERCENTILE(R$17:R$2016,(100-$P13)/100) -> 0 | T13: =PERCENTILE(T$17:T$2016,(100-$P13)/100) -> -0.001447811
A14: 90 | B14: =PERCENTILE(B$17:B$2016,(100-$A14)/100) -> -0.052702247 | C14: =PERCENTILE(C$17:C$2016,(100-$A14)/100) -> -0.051473524 | D14: =PERCENTILE(D$17:D$2016,(100-$A14)/100) -> -0.037104084 | E14: =PERCENTILE(E$17:E$2016,(100-$A14)/100) -> -0.040529776 | F14: =PERCENTILE(F$17:F$2016,(100-$A14)/100) -> -0.046146656 | I14: 90 | J14: =PERCENTILE(J$17:J$2016,(100-$I14)/100) -> 0.030402929 | K14: =PERCENTILE(K$17:K$2016,(100-$I14)/100) -> 0 | M14: =PERCENTILE(M$17:M$2016,(100-$I14)/100) -> -0.053373213 | P14: 90 | Q14: =PERCENTILE(Q$17:Q$2016,(100-$P14)/100) -> 0.030402929 | R14: =PERCENTILE(R$17:R$2016,(100-$P14)/100) -> 0 | T14: =PERCENTILE(T$17:T$2016,(100-$P14)/100) -> -0.060818099
A16: Trial | I16: Trial | N16: Accumulation | P16: Trial | U16: Accumulation | W16: Accumulation
A17: 1 | B17: =IF($B$5=1,EXP($E$3+$E$4*NORMINV(IF($B$1="Random",'Random Generator'!B2,'Random Generator'!H2),0,1))-1,NORMINV(IF($B$1="Random",'Random Generator'!B2,'Random Generator'!H2),$B$3,$B$4)) -> 0.079146698 | C17: =IF($B$5=1,EXP($E$3+$E$4*NORMINV(IF($B$1="Random",'Random Generator'!C2,'Random Generator'!I2),0,1))-1,NORMINV(IF($B$1="Random",'Random Generator'!C2,'Random Generator'!I2),$B$3,$B$4)) -> 0.036641231 | D17: =IF($B$5=1,EXP($E$3+$E$4*NORMINV(IF($B$1="Random",'Random Generator'!D2,'Random Generator'!J2),0,1))-1,NORMINV(IF($B$1="Random",'Random Generator'!D2,'Random Generator'!J2),$B$3,$B$4)) -> 0.012268585 | E17: =IF($B$5=1,EXP($E$3+$E$4*NORMINV(IF($B$1="Random",'Random Generator'!E2,'Random Generator'!K2),0,1))-1,NORMINV(IF($B$1="Random",'Random Generator'!E2,'Random Generator'!K2),$B$3,$B$4)) -> 0.23117862 | F17: =IF($B$5=1,EXP($E$3+$E$4*NORMINV(IF($B$1="Random",'Random Generator'!F2,'Random Generator'!L2),0,1))-1,NORMINV(IF($B$1="Random",'Random Generator'!F2,'Random Generator'!L2),$B$3,$B$4)) -> 0.23765988 | I17: 1 | J17: {=GEOMEAN(B17:F17+1)-1} -> 0.11528387 | K17: =MAX((J17-0.075)/2,0) -> 0.020141934 | M17: =F17-K17 -> 0.21751795 | N17: =(1+J17-K17)^5 -> 1.5752593 | P17: 1 | Q17: =J17 -> 0.11528387 | R17: =MAX((Q17-Q$7)/2,0) -> 0.010536473 | T17: =M17-R17 -> 0.20698147 | U17: =(1+Q17-R17)^5 -> 1.6455646 | W17: =(1+Q17)^5 -> 1.7255482
A18: =A17+1 -> 2 | B18: =IF($B$5=1,EXP($E$3+$E$4*NORMINV(IF($B$1="Random",'Random Generator'!B3,'Random Generator'!H3),0,1))-1,NORMINV(IF($B$1="Random",'Random Generator'!B3,'Random Generator'!H3),$B$3,$B$4)) -> 0.015565823 | C18: =IF($B$5=1,EXP($E$3+$E$4*NORMINV(IF($B$1="Random",'Random Generator'!C3,'Random Generator'!I3),0,1))-1,NORMINV(IF($B$1="Random",'Random Generator'!C3,'Random Generator'!I3),$B$3,$B$4)) -> -0.069899619 | D18: =IF($B$5=1,EXP($E$3+$E$4*NORMINV(IF($B$1="Random",'Random Generator'!D3,'Random Generator'!J3),0,1))-1,NORMINV(IF($B$1="Random",'Random Generator'!D3,'Random Generator'!J3),$B$3,$B$4)) -> 0.1252479 | E18: =IF($B$5=1,EXP($E$3+$E$4*NORMINV(IF($B$1="Random",'Random Generator'!E3,'Random Generator'!K3),0,1))-1,NORMINV(IF($B$1="Random",'Random Generator'!E3,'Random Generator'!K3),$B$3,$B$4)) -> -0.05031561 | F18: =IF($B$5=1,EXP($E$3+$E$4*NORMINV(IF($B$1="Random",'Random Generator'!F3,'Random Generator'!L3),0,1))-1,NORMINV(IF($B$1="Random",'Random Generator'!F3,'Random Generator'!L3),$B$3,$B$4)) -> 0.069735954 | I18: =I17+1 -> 2 | J18: {=GEOMEAN(B18:F18+1)-1} -> 0.015473046 | K18: =MAX((J18-0.075)/2,0) -> 0 | M18: =F18-K18 -> 0.069735954 | N18: =(1+J18-K18)^5 -> 1.0797967 | P18: =P17+1 -> 2 | Q18: =J18 -> 0.015473046 | R18: =MAX((Q18-Q$7)/2,0) -> 0 | T18: =M18-R18 -> 0.069735954 | U18: =(1+Q18-R18)^5 -> 1.0797967 | W18: =(1+Q18)^5 -> 1.0797967
A19: =A18+1 -> 3 | B19: =IF($B$5=1,EXP($E$3+$E$4*NORMINV(IF($B$1="Random",'Random Generator'!B4,'Random Generator'!H4),0,1))-1,NORMINV(IF($B$1="Random",'Random Generator'!B4,'Random Generator'!H4),$B$3,$B$4)) -> 0.21861244 | C19: =IF($B$5=1,EXP($E$3+$E$4*NORMINV(IF($B$1="Random",'Random Generator'!C4,'Random Generator'!I4),0,1))-1,NORMINV(IF($B$1="Random",'Random Generator'!C4,'Random Generator'!I4),$B$3,$B$4)) -> -0.017970725 | D19: =IF($B$5=1,EXP($E$3+$E$4*NORMINV(IF($B$1="Random",'Random Generator'!D4,'Random Generator'!J4),0,1))-1,NORMINV(IF($B$1="Random",'Random Generator'!D4,'Random Generator'!J4),$B$3,$B$4)) -> 0.30123767 | E19: =IF($B$5=1,EXP($E$3+$E$4*NORMINV(IF($B$1="Random",'Random Generator'!E4,'Random Generator'!K4),0,1))-1,NORMINV(IF($B$1="Random",'Random Generator'!E4,'Random Generator'!K4),$B$3,$B$4)) -> 0.22274612 | F19: =IF($B$5=1,EXP($E$3+$E$4*NORMINV(IF($B$1="Random",'Random Generator'!F4,'Random Generator'!L4),0,1))-1,NORMINV(IF($B$1="Random",'Random Generator'!F4,'Random Generator'!L4),$B$3,$B$4)) -> 0.041378008 | I19: =I18+1 -> 3 | J19: {=GEOMEAN(B19:F19+1)-1} -> 0.14672234 | K19: =MAX((J19-0.075)/2,0) -> 0.035861169 | M19: =F19-K19 -> 0.0055168387 | N19: =(1+J19-K19)^5 -> 1.6916049 | P19: =P18+1 -> 3 | Q19: =J19 -> 0.14672234 | R19: =MAX((Q19-Q$7)/2,0) -> 0.026255708 | T19: =M19-R19 -> -0.020738869 | U19: =(1+Q19-R19)^5 -> 1.766016 | W19: =(1+Q19)^5 -> 1.9828569
A20: =A19+1 -> 4 | B20: =IF($B$5=1,EXP($E$3+$E$4*NORMINV(IF($B$1="Random",'Random Generator'!B5,'Random Generator'!H5),0,1))-1,NORMINV(IF($B$1="Random",'Random Generator'!B5,'Random Generator'!H5),$B$3,$B$4)) -> 0.12104267 | C20: =IF($B$5=1,EXP($E$3+$E$4*NORMINV(IF($B$1="Random",'Random Generator'!C5,'Random Generator'!I5),0,1))-1,NORMINV(IF($B$1="Random",'Random Generator'!C5,'Random Generator'!I5),$B$3,$B$4)) -> -0.1269294 | D20: =IF($B$5=1,EXP($E$3+$E$4*NORMINV(IF($B$1="Random",'Random Generator'!D5,'Random Generator'!J5),0,1))-1,NORMINV(IF($B$1="Random",'Random Generator'!D5,'Random Generator'!J5),$B$3,$B$4)) -> 0.0019378064 | E20: =IF($B$5=1,EXP($E$3+$E$4*NORMINV(IF($B$1="Random",'Random Generator'!E5,'Random Generator'!K5),0,1))-1,NORMINV(IF($B$1="Random",'Random Generator'!E5,'Random Generator'!K5),$B$3,$B$4)) -> -0.17395677 | F20: =IF($B$5=1,EXP($E$3+$E$4*NORMINV(IF($B$1="Random",'Random Generator'!F5,'Random Generator'!L5),0,1))-1,NORMINV(IF($B$1="Random",'Random Generator'!F5,'Random Generator'!L5),$B$3,$B$4)) -> 0.036235782 | I20: =I19+1 -> 4 | J20: {=GEOMEAN(B20:F20+1)-1} -> -0.034405627 | K20: =MAX((J20-0.075)/2,0) -> 0 | M20: =F20-K20 -> 0.036235782 | N20: =(1+J20-K20)^5 -> 0.83940902 | P20: =P19+1 -> 4 | Q20: =J20 -> -0.034405627 | R20: =MAX((Q20-Q$7)/2,0) -> 0 | T20: =M20-R20 -> 0.036235782 | U20: =(1+Q20-R20)^5 -> 0.83940902 | W20: =(1+Q20)^5 -> 0.83940902
A21: =A20+1 -> 5 | B21: =IF($B$5=1,EXP($E$3+$E$4*NORMINV(IF($B$1="Random",'Random Generator'!B6,'Random Generator'!H6),0,1))-1,NORMINV(IF($B$1="Random",'Random Generator'!B6,'Random Generator'!H6),$B$3,$B$4)) -> -0.0040970621 | C21: =IF($B$5=1,EXP($E$3+$E$4*NORMINV(IF($B$1="Random",'Random Generator'!C6,'Random Generator'!I6),0,1))-1,NORMINV(IF($B$1="Random",'Random Generator'!C6,'Random Generator'!I6),$B$3,$B$4)) -> 0.003930786 | D21: =IF($B$5=1,EXP($E$3+$E$4*NORMINV(IF($B$1="Random",'Random Generator'!D6,'Random Generator'!J6),0,1))-1,NORMINV(IF($B$1="Random",'Random Generator'!D6,'Random Generator'!J6),$B$3,$B$4)) -> 0.11005456 | E21: =IF($B$5=1,EXP($E$3+$E$4*NORMINV(IF($B$1="Random",'Random Generator'!E6,'Random Generator'!K6),0,1))-1,NORMINV(IF($B$1="Random",'Random Generator'!E6,'Random Generator'!K6),$B$3,$B$4)) -> 0.032896727 | F21: =IF($B$5=1,EXP($E$3+$E$4*NORMINV(IF($B$1="Random",'Random Generator'!F6,'Random Generator'!L6),0,1))-1,NORMINV(IF($B$1="Random",'Random Generator'!F6,'Random Generator'!L6),$B$3,$B$4)) -> -0.040512306 | I21: =I20+1 -> 5 | J21: {=GEOMEAN(B21:F21+1)-1} -> 0.019230201 | K21: =MAX((J21-0.075)/2,0) -> 0 | M21: =F21-K21 -> -0.040512306 | N21: =(1+J21-K21)^5 -> 1.0999208 | P21: =P20+1 -> 5 | Q21: =J21 -> 0.019230201 | R21: =MAX((Q21-Q$7)/2,0) -> 0 | T21: =M21-R21 -> -0.040512306 | U21: =(1+Q21-R21)^5 -> 1.0999208 | W21: =(1+Q21)^5 -> 1.0999208
A22: =A21+1 -> 6 | B22: =IF($B$5=1,EXP($E$3+$E$4*NORMINV(IF($B$1="Random",'Random Generator'!B7,'Random Generator'!H7),0,1))-1,NORMINV(IF($B$1="Random",'Random Generator'!B7,'Random Generator'!H7),$B$3,$B$4)) -> 0.15877511 | C22: =IF($B$5=1,EXP($E$3+$E$4*NORMINV(IF($B$1="Random",'Random Generator'!C7,'Random Generator'!I7),0,1))-1,NORMINV(IF($B$1="Random",'Random Generator'!C7,'Random Generator'!I7),$B$3,$B$4)) -> -0.062414751 | D22: =IF($B$5=1,EXP($E$3+$E$4*NORMINV(IF($B$1="Random",'Random Generator'!D7,'Random Generator'!J7),0,1))-1,NORMINV(IF($B$1="Random",'Random Generator'!D7,'Random Generator'!J7),$B$3,$B$4)) -> 0.18621309 | E22: =IF($B$5=1,EXP($E$3+$E$4*NORMINV(IF($B$1="Random",'Random Generator'!E7,'Random Generator'!K7),0,1))-1,NORMINV(IF($B$1="Random",'Random Generator'!E7,'Random Generator'!K7),$B$3,$B$4)) -> 0.02116593 | F22: =IF($B$5=1,EXP($E$3+$E$4*NORMINV(IF($B$1="Random",'Random Generator'!F7,'Random Generator'!L7),0,1))-1,NORMINV(IF($B$1="Random",'Random Generator'!F7,'Random Generator'!L7),$B$3,$B$4)) -> 0.38687807 | I22: =I21+1 -> 6 | J22: {=GEOMEAN(B22:F22+1)-1} -> 0.12787624 | K22: =MAX((J22-0.075)/2,0) -> 0.026438119 | M22: =F22-K22 -> 0.36043995 | N22: =(1+J22-K22)^5 -> 1.6210653 | P22: =P21+1 -> 6 | Q22: =J22 -> 0.12787624 | R22: =MAX((Q22-Q$7)/2,0) -> 0.016832658 | T22: =M22-R22 -> 0.34360729 | U22: =(1+Q22-R22)^5 -> 1.6929942 | W22: =(1+Q22)^5 -> 1.8251864
A23: =A22+1 -> 7 | B23: =IF($B$5=1,EXP($E$3+$E$4*NORMINV(IF($B$1="Random",'Random Generator'!B8,'Random Generator'!H8),0,1))-1,NORMINV(IF($B$1="Random",'Random Generator'!B8,'Random Generator'!H8),$B$3,$B$4)) -> 0.32758665 | C23: =IF($B$5=1,EXP($E$3+$E$4*NORMINV(IF($B$1="Random",'Random Generator'!C8,'Random Generator'!I8),0,1))-1,NORMINV(IF($B$1="Random",'Random Generator'!C8,'Random Generator'!I8),$B$3,$B$4)) -> 0.079773439 | D23: =IF($B$5=1,EXP($E$3+$E$4*NORMINV(IF($B$1="Random",'Random Generator'!D8,'Random Generator'!J8),0,1))-1,NORMINV(IF($B$1="Random",'Random Generator'!D8,'Random Generator'!J8),$B$3,$B$4)) -> 0.17155293 | E23: =IF($B$5=1,EXP($E$3+$E$4*NORMINV(IF($B$1="Random",'Random Generator'!E8,'Random Generator'!K8),0,1))-1,NORMINV(IF($B$1="Random",'Random Generator'!E8,'Random Generator'!K8),$B$3,$B$4)) -> -0.054805583 | F23: =IF($B$5=1,EXP($E$3+$E$4*NORMINV(IF($B$1="Random",'Random Generator'!F8,'Random Generator'!L8),0,1))-1,NORMINV(IF($B$1="Random",'Random Generator'!F8,'Random Generator'!L8),$B$3,$B$4)) -> 0.18217047 | I23: =I22+1 -> 7 | J23: {=GEOMEAN(B23:F23+1)-1} -> 0.13415324 | K23: =MAX((J23-0.075)/2,0) -> 0.029576619 | M23: =F23-K23 -> 0.15259385 | N23: =(1+J23-K23)^5 -> 1.6442931 | P23: =P22+1 -> 7 | Q23: =J23 -> 0.13415324 | R23: =MAX((Q23-Q$7)/2,0) -> 0.019971158 | T23: =M23-R23 -> 0.13262269 | U23: =(1+Q23-R23)^5 -> 1.7170417 | W23: =(1+Q23)^5 -> 1.8765437
A24: =A23+1 -> 8 | B24: =IF($B$5=1,EXP($E$3+$E$4*NORMINV(IF($B$1="Random",'Random Generator'!B9,'Random Generator'!H9),0,1))-1,NORMINV(IF($B$1="Random",'Random Generator'!B9,'Random Generator'!H9),$B$3,$B$4)) -> 0.14071974 | C24: =IF($B$5=1,EXP($E$3+$E$4*NORMINV(IF($B$1="Random",'Random Generator'!C9,'Random Generator'!I9),0,1))-1,NORMINV(IF($B$1="Random",'Random Generator'!C9,'Random Generator'!I9),$B$3,$B$4)) -> 0.10779149 | D24: =IF($B$5=1,EXP($E$3+$E$4*NORMINV(IF($B$1="Random",'Random Generator'!D9,'Random Generator'!J9),0,1))-1,NORMINV(IF($B$1="Random",'Random Generator'!D9,'Random Generator'!J9),$B$3,$B$4)) -> 0.21793241 | E24: =IF($B$5=1,EXP($E$3+$E$4*NORMINV(IF($B$1="Random",'Random Generator'!E9,'Random Generator'!K9),0,1))-1,NORMINV(IF($B$1="Random",'Random Generator'!E9,'Random Generator'!K9),$B$3,$B$4)) -> 0.075028419 | F24: =IF($B$5=1,EXP($E$3+$E$4*NORMINV(IF($B$1="Random",'Random Generator'!F9,'Random Generator'!L9),0,1))-1,NORMINV(IF($B$1="Random",'Random Generator'!F9,'Random Generator'!L9),$B$3,$B$4)) -> -0.01729166 | I24: =I23+1 -> 8 | J24: {=GEOMEAN(B24:F24+1)-1} -> 0.10209987 | K24: =MAX((J24-0.075)/2,0) -> 0.013549934 | M24: =F24-K24 -> -0.030841595 | N24: =(1+J24-K24)^5 -> 1.5284167 | P24: =P23+1 -> 8 | Q24: =J24 -> 0.10209987 | R24: =MAX((Q24-Q$7)/2,0) -> 0.0039444737 | T24: =M24-R24 -> -0.034786068 | U24: =(1+Q24-R24)^5 -> 1.5970518 | W24: =(1+Q24)^5 -> 1.6259409
A25: =A24+1 -> 9 | B25: =IF($B$5=1,EXP($E$3+$E$4*NORMINV(IF($B$1="Random",'Random Generator'!B10,'Random Generator'!H10),0,1))-1,NORMINV(IF($B$1="Random",'Random Generator'!B10,'Random Generator'!H10),$B$3,$B$4)) -> 0.096755995 | C25: =IF($B$5=1,EXP($E$3+$E$4*NORMINV(IF($B$1="Random",'Random Generator'!C10,'Random Generator'!I10),0,1))-1,NORMINV(IF($B$1="Random",'Random Generator'!C10,'Random Generator'!I10),$B$3,$B$4)) -> -0.025438014 | D25: =IF($B$5=1,EXP($E$3+$E$4*NORMINV(IF($B$1="Random",'Random Generator'!D10,'Random Generator'!J10),0,1))-1,NORMINV(IF($B$1="Random",'Random Generator'!D10,'Random Generator'!J10),$B$3,$B$4)) -> 0.34595693 | E25: =IF($B$5=1,EXP($E$3+$E$4*NORMINV(IF($B$1="Random",'Random Generator'!E10,'Random Generator'!K10),0,1))-1,NORMINV(IF($B$1="Random",'Random Generator'!E10,'Random Generator'!K10),$B$3,$B$4)) -> 0.12400389 | F25: =IF($B$5=1,EXP($E$3+$E$4*NORMINV(IF($B$1="Random",'Random Generator'!F10,'Random Generator'!L10),0,1))-1,NORMINV(IF($B$1="Random",'Random Generator'!F10,'Random Generator'!L10),$B$3,$B$4)) -> -0.031428461 | I25: =I24+1 -> 9 | J25: {=GEOMEAN(B25:F25+1)-1} -> 0.093880883 | K25: =MAX((J25-0.075)/2,0) -> 0.0094404413 | M25: =F25-K25 -> -0.040868903 | N25: =(1+J25-K25)^5 -> 1.4997833 | P25: =P24+1 -> 9 | Q25: =J25 -> 0.093880883 | R25: =MAX((Q25-Q$7)/2,0) -> 0 | T25: =M25-R25 -> -0.040868903 | U25: =(1+Q25-R25)^5 -> 1.5662106 | W25: =(1+Q25)^5 -> 1.5662106
A26: =A25+1 -> 10 | B26: =IF($B$5=1,EXP($E$3+$E$4*NORMINV(IF($B$1="Random",'Random Generator'!B11,'Random Generator'!H11),0,1))-1,NORMINV(IF($B$1="Random",'Random Generator'!B11,'Random Generator'!H11),$B$3,$B$4)) -> 0.15964264 | C26: =IF($B$5=1,EXP($E$3+$E$4*NORMINV(IF($B$1="Random",'Random Generator'!C11,'Random Generator'!I11),0,1))-1,NORMINV(IF($B$1="Random",'Random Generator'!C11,'Random Generator'!I11),$B$3,$B$4)) -> 0.070231887 | D26: =IF($B$5=1,EXP($E$3+$E$4*NORMINV(IF($B$1="Random",'Random Generator'!D11,'Random Generator'!J11),0,1))-1,NORMINV(IF($B$1="Random",'Random Generator'!D11,'Random Generator'!J11),$B$3,$B$4)) -> 0.10328988 | E26: =IF($B$5=1,EXP($E$3+$E$4*NORMINV(IF($B$1="Random",'Random Generator'!E11,'Random Generator'!K11),0,1))-1,NORMINV(IF($B$1="Random",'Random Generator'!E11,'Random Generator'!K11),$B$3,$B$4)) -> 0.038415578 | F26: =IF($B$5=1,EXP($E$3+$E$4*NORMINV(IF($B$1="Random",'Random Generator'!F11,'Random Generator'!L11),0,1))-1,NORMINV(IF($B$1="Random",'Random Generator'!F11,'Random Generator'!L11),$B$3,$B$4)) -> -0.051545987 | I26: =I25+1 -> 10 | J26: {=GEOMEAN(B26:F26+1)-1} -> 0.06163648 | K26: =MAX((J26-0.075)/2,0) -> 0 | M26: =F26-K26 -> -0.051545987 | N26: =(1+J26-K26)^5 -> 1.3485876 | P26: =P25+1 -> 10 | Q26: =J26 -> 0.06163648 | R26: =MAX((Q26-Q$7)/2,0) -> 0 | T26: =M26-R26 -> -0.051545987 | U26: =(1+Q26-R26)^5 -> 1.3485876 | W26: =(1+Q26)^5 -> 1.3485876
A27: =A26+1 -> 11 | B27: =IF($B$5=1,EXP($E$3+$E$4*NORMINV(IF($B$1="Random",'Random Generator'!B12,'Random Generator'!H12),0,1))-1,NORMINV(IF($B$1="Random",'Random Generator'!B12,'Random Generator'!H12),$B$3,$B$4)) -> 0.064830326 | C27: =IF($B$5=1,EXP($E$3+$E$4*NORMINV(IF($B$1="Random",'Random Generator'!C12,'Random Generator'!I12),0,1))-1,NORMINV(IF($B$1="Random",'Random Generator'!C12,'Random Generator'!I12),$B$3,$B$4)) -> 0.16320675 | D27: =IF($B$5=1,EXP($E$3+$E$4*NORMINV(IF($B$1="Random",'Random Generator'!D12,'Random Generator'!J12),0,1))-1,NORMINV(IF($B$1="Random",'Random Generator'!D12,'Random Generator'!J12),$B$3,$B$4)) -> 0.058156622 | E27: =IF($B$5=1,EXP($E$3+$E$4*NORMINV(IF($B$1="Random",'Random Generator'!E12,'Random Generator'!K12),0,1))-1,NORMINV(IF($B$1="Random",'Random Generator'!E12,'Random Generator'!K12),$B$3,$B$4)) -> 0.085975227 | F27: =IF($B$5=1,EXP($E$3+$E$4*NORMINV(IF($B$1="Random",'Random Generator'!F12,'Random Generator'!L12),0,1))-1,NORMINV(IF($B$1="Random",'Random Generator'!F12,'Random Generator'!L12),$B$3,$B$4)) -> 0.16473066 | I27: =I26+1 -> 11 | J27: {=GEOMEAN(B27:F27+1)-1} -> 0.10638567 | K27: =MAX((J27-0.075)/2,0) -> 0.015692834 | M27: =F27-K27 -> 0.14903783 | N27: =(1+J27-K27)^5 -> 1.5435201 | P27: =P26+1 -> 11 | Q27: =J27 -> 0.10638567 | R27: =MAX((Q27-Q$7)/2,0) -> 0.0060873735 | T27: =M27-R27 -> 0.14295046 | U27: =(1+Q27-R27)^5 -> 1.6126949 | W27: =(1+Q27)^5 -> 1.6578022
A28: =A27+1 -> 12 | B28: =IF($B$5=1,EXP($E$3+$E$4*NORMINV(IF($B$1="Random",'Random Generator'!B13,'Random Generator'!H13),0,1))-1,NORMINV(IF($B$1="Random",'Random Generator'!B13,'Random Generator'!H13),$B$3,$B$4)) -> 0.045832972 | C28: =IF($B$5=1,EXP($E$3+$E$4*NORMINV(IF($B$1="Random",'Random Generator'!C13,'Random Generator'!I13),0,1))-1,NORMINV(IF($B$1="Random",'Random Generator'!C13,'Random Generator'!I13),$B$3,$B$4)) -> 0.0096021754 | D28: =IF($B$5=1,EXP($E$3+$E$4*NORMINV(IF($B$1="Random",'Random Generator'!D13,'Random Generator'!J13),0,1))-1,NORMINV(IF($B$1="Random",'Random Generator'!D13,'Random Generator'!J13),$B$3,$B$4)) -> 0.15991555 | E28: =IF($B$5=1,EXP($E$3+$E$4*NORMINV(IF($B$1="Random",'Random Generator'!E13,'Random Generator'!K13),0,1))-1,NORMINV(IF($B$1="Random",'Random Generator'!E13,'Random Generator'!K13),$B$3,$B$4)) -> 0.033657813 | F28: =IF($B$5=1,EXP($E$3+$E$4*NORMINV(IF($B$1="Random",'Random Generator'!F13,'Random Generator'!L13),0,1))-1,NORMINV(IF($B$1="Random",'Random Generator'!F13,'Random Generator'!L13),$B$3,$B$4)) -> 0.1703988 | I28: =I27+1 -> 12 | J28: {=GEOMEAN(B28:F28+1)-1} -> 0.081807348 | K28: =MAX((J28-0.075)/2,0) -> 0.0034036742 | M28: =F28-K28 -> 0.16699512 | N28: =(1+J28-K28)^5 -> 1.4585012 | P28: =P27+1 -> 12 | Q28: =J28 -> 0.081807348 | R28: =MAX((Q28-Q$7)/2,0) -> 0 | T28: =M28-R28 -> 0.16699512 | U28: =(1+Q28-R28)^5 -> 1.4816637 | W28: =(1+Q28)^5 -> 1.4816637
A29: =A28+1 -> 13 | B29: =IF($B$5=1,EXP($E$3+$E$4*NORMINV(IF($B$1="Random",'Random Generator'!B14,'Random Generator'!H14),0,1))-1,NORMINV(IF($B$1="Random",'Random Generator'!B14,'Random Generator'!H14),$B$3,$B$4)) -> -0.069150686 | C29: =IF($B$5=1,EXP($E$3+$E$4*NORMINV(IF($B$1="Random",'Random Generator'!C14,'Random Generator'!I14),0,1))-1,NORMINV(IF($B$1="Random",'Random Generator'!C14,'Random Generator'!I14),$B$3,$B$4)) -> -0.0011431998 | D29: =IF($B$5=1,EXP($E$3+$E$4*NORMINV(IF($B$1="Random",'Random Generator'!D14,'Random Generator'!J14),0,1))-1,NORMINV(IF($B$1="Random",'Random Generator'!D14,'Random Generator'!J14),$B$3,$B$4)) -> -0.017755249 | E29: =IF($B$5=1,EXP($E$3+$E$4*NORMINV(IF($B$1="Random",'Random Generator'!E14,'Random Generator'!K14),0,1))-1,NORMINV(IF($B$1="Random",'Random Generator'!E14,'Random Generator'!K14),$B$3,$B$4)) -> -0.0039951598 | F29: =IF($B$5=1,EXP($E$3+$E$4*NORMINV(IF($B$1="Random",'Random Generator'!F14,'Random Generator'!L14),0,1))-1,NORMINV(IF($B$1="Random",'Random Generator'!F14,'Random Generator'!L14),$B$3,$B$4)) -> 0.079999847 | I29: =I28+1 -> 13 | J29: {=GEOMEAN(B29:F29+1)-1} -> -0.0035454496 | K29: =MAX((J29-0.075)/2,0) -> 0 | M29: =F29-K29 -> 0.079999847 | N29: =(1+J29-K29)^5 -> 0.98239801 | P29: =P28+1 -> 13 | Q29: =J29 -> -0.0035454496 | R29: =MAX((Q29-Q$7)/2,0) -> 0 | T29: =M29-R29 -> 0.079999847 | U29: =(1+Q29-R29)^5 -> 0.98239801 | W29: =(1+Q29)^5 -> 0.98239801
... A2016: =A2015+1 -> 2000 | B2016: =IF($B$5=1,EXP($E$3+$E$4*NORMINV(IF($B$1="Random",'Random Generator'!B2001,'Random Generator'!H2001),0,1))-1,NORMINV(IF($B$1="Random",'Random Generator'!B2001,'Random Generator'!H2001),$B$3,$B$4)) -> 0.24707309 | C2016: =IF($B$5=1,EXP($E$3+$E$4*NORMINV(IF($B$1="Random",'Random Generator'!C2001,'Random Generator'!I2001),0,1))-1,NORMINV(IF($B$1="Random",'Random Generator'!C2001,'Random Generator'!I2001),$B$3,$B$4)) -> 0.11867414 | D2016: =IF($B$5=1,EXP($E$3+$E$4*NORMINV(IF($B$1="Random",'Random Generator'!D2001,'Random Generator'!J2001),0,1))-1,NORMINV(IF($B$1="Random",'Random Generator'!D2001,'Random Generator'!J2001),$B$3,$B$4)) -> 0.015713231 | E2016: =IF($B$5=1,EXP($E$3+$E$4*NORMINV(IF($B$1="Random",'Random Generator'!E2001,'Random Generator'!K2001),0,1))-1,NORMINV(IF($B$1="Random",'Random Generator'!E2001,'Random Generator'!K2001),$B$3,$B$4)) -> 0.05142486 | F2016: =IF($B$5=1,EXP($E$3+$E$4*NORMINV(IF($B$1="Random",'Random Generator'!F2001,'Random Generator'!L2001),0,1))-1,NORMINV(IF($B$1="Random",'Random Generator'!F2001,'Random Generator'!L2001),$B$3,$B$4)) -> 0.032821009 | I2016: =I2015+1 -> 2000 | J2016: {=GEOMEAN(B2016:F2016+1)-1} -> 0.09001879 | K2016: =MAX((J2016-0.075)/2,0) -> 0.007509395 | M2016: =F2016-K2016 -> 0.025311614 | N2016: =(1+J2016-K2016)^5 -> 1.4864776 | P2016: =P2015+1 -> 2000 | Q2016: =J2016 -> 0.09001879 | R2016: =MAX((Q2016-Q$7)/2,0) -> 0 | T2016: =M2016-R2016 -> 0.025311614 | U2016: =(1+Q2016-R2016)^5 -> 1.5387566 | W2016: =(1+Q2016)^5 -> 1.5387566

Sheet Back Testing
C1: ='Allocation Modeling'!C1 -> 0.6 | D1: =1-C1 -> 0.4 | J1: Five year | K1: 50% of excess | L1: Return up
A2: Period Ending | C2: S&P 500 | D2: Lehman Bros/Barclays | E2: Blended | G2: Five year Average | H2: 50% of excess above 7.5% | I2: Return net of skim | J2: Average | K2: above 7.5% | L2: to 7.5% | O2: Annual less Skim Blended
A3: 10043 | B3: 1927 | C3: 0.2644 | D3: 0.0683 | E3: =$C$1*C3+$D$1*D3 -> 0.18596 | H3: (Skim)
A4: 10409 | B4: 1928 | C4: 0.359 | D4: 0.0483 | E4: =$C$1*C4+$D$1*D4 -> 0.23472
A5: 10774 | B5: 1929 | C5: 0.4948 | D5: 0.0239 | E5: =$C$1*C5+$D$1*D5 -> 0.30644
A6: 11139 | B6: 1930 | C6: -0.2284 | D6: 0.0872 | E6: =$C$1*C6+$D$1*D6 -> -0.10216
A7: 11504 | B7: 1931 | C7: -0.2345 | D7: 0.0902 | E7: =$C$1*C7+$D$1*D7 -> -0.10462 | G7: =AVERAGE(E3:E7) -> 0.104068 | H7: =MAX(0,0.5*(G7-0.075)) -> 0.014534 | I7: =G7-H7 -> 0.089534 | J7: =1+G7 -> 1.104068 | K7: =1+H7 -> 1.014534 | L7: =1+I7 -> 1.089534 | O7: =E7-H7 -> -0.119154 | P7: =1+O7 -> 0.880846
A8: 11870 | B8: 1932 | C8: -0.6756 | D8: -0.0791 | E8: =$C$1*C8+$D$1*D8 -> -0.437 | G8: =AVERAGE(E4:E8) -> -0.020524 | H8: =MAX(0,0.5*(G8-0.075)) -> 0 | I8: =G8-H8 -> -0.020524 | J8: =(1+G8)*J7 -> 1.0814081 | K8: =(1+H8)*K7 -> 1.014534 | L8: =(1+I8)*L7 -> 1.0671724 | O8: =E8-H8 -> -0.437 | P8: =(1+O8)*P7 -> 0.4959163
A9: 12235 | B9: 1933 | C9: 1.629 | D9: 0.1921 | E9: =$C$1*C9+$D$1*D9 -> 1.05424 | G9: =AVERAGE(E5:E9) -> 0.14338 | H9: =MAX(0,0.5*(G9-0.075)) -> 0.03419 | I9: =G9-H9 -> 0.10919 | J9: =(1+G9)*J8 -> 1.2364604 | K9: =(1+H9)*K8 -> 1.0492209 | L9: =(1+I9)*L8 -> 1.183697 | O9: =E9-H9 -> 1.02005 | P9: =(1+O9)*P8 -> 1.0017757
A10: 12600 | B10: 1934 | C10: -0.0609 | D10: 0.1291 | E10: =$C$1*C10+$D$1*D10 -> 0.0151 | G10: =AVERAGE(E6:E10) -> 0.085112 | H10: =MAX(0,0.5*(G10-0.075)) -> 0.005056 | I10: =G10-H10 -> 0.080056 | J10: =(1+G10)*J9 -> 1.341698 | K10: =(1+H10)*K9 -> 1.0545258 | L10: =(1+I10)*L9 -> 1.278459 | O10: =E10-H10 -> 0.010044 | P10: =(1+O10)*P9 -> 1.0118376
A11: 12965 | B11: 1935 | C11: 0.0956 | D11: 0.1073 | E11: =$C$1*C11+$D$1*D11 -> 0.10028 | G11: =AVERAGE(E7:E11) -> 0.1256 | H11: =MAX(0,0.5*(G11-0.075)) -> 0.0253 | I11: =G11-H11 -> 0.1003 | J11: =(1+G11)*J10 -> 1.5102153 | K11: =(1+H11)*K10 -> 1.0812053 | L11: =(1+I11)*L10 -> 1.4066884 | O11: =E11-H11 -> 0.07498 | P11: =(1+O11)*P10 -> 1.0877051
A12: 13331 | B12: 1936 | C12: 0.5151 | D12: 0.0646 | E12: =$C$1*C12+$D$1*D12 -> 0.3349 | G12: =AVERAGE(E8:E12) -> 0.213504 | H12: =MAX(0,0.5*(G12-0.075)) -> 0.069252 | I12: =G12-H12 -> 0.144252 | J12: =(1+G12)*J11 -> 1.8326523 | K12: =(1+H12)*K11 -> 1.1560809 | L12: =(1+I12)*L11 -> 1.6096061 | O12: =E12-H12 -> 0.265648 | P12: =(1+O12)*P11 -> 1.3766518
A13: 13696 | B13: 1937 | C13: 0.0853 | D13: 0.0317 | E13: =$C$1*C13+$D$1*D13 -> 0.06386 | G13: =AVERAGE(E9:E13) -> 0.313676 | H13: =MAX(0,0.5*(G13-0.075)) -> 0.119338 | I13: =G13-H13 -> 0.194338 | J13: =(1+G13)*J12 -> 2.4075113 | K13: =(1+H13)*K12 -> 1.2940453 | L13: =(1+I13)*L12 -> 1.9224137 | O13: =E13-H13 -> -0.055478 | P13: =(1+O13)*P12 -> 1.3002779
A14: 14061 | B14: 1938 | C14: -0.1997 | D14: 0.046 | E14: =$C$1*C14+$D$1*D14 -> -0.10142 | G14: =AVERAGE(E10:E14) -> 0.082544 | H14: =MAX(0,0.5*(G14-0.075)) -> 0.003772 | I14: =G14-H14 -> 0.078772 | J14: =(1+G14)*J13 -> 2.606237 | K14: =(1+H14)*K13 -> 1.2989264 | L14: =(1+I14)*L13 -> 2.0738461 | O14: =E14-H14 -> -0.105192 | P14: =(1+O14)*P13 -> 1.1634991
A15: 14426 | B15: 1939 | C15: -0.0185 | D15: 0.067 | E15: =$C$1*C15+$D$1*D15 -> 0.0157 | G15: =AVERAGE(E11:E15) -> 0.082664 | H15: =MAX(0,0.5*(G15-0.075)) -> 0.003832 | I15: =G15-H15 -> 0.078832 | J15: =(1+G15)*J14 -> 2.8216789 | K15: =(1+H15)*K14 -> 1.3039039 | L15: =(1+I15)*L14 -> 2.2373315 | O15: =E15-H15 -> 0.011868 | P15: =(1+O15)*P14 -> 1.1773075
A16: 14792 | B16: 1940 | C16: -0.0266 | D16: 0.0263 | E16: =$C$1*C16+$D$1*D16 -> -0.00544 | G16: =AVERAGE(E12:E16) -> 0.06152 | H16: =MAX(0,0.5*(G16-0.075)) -> 0 | I16: =G16-H16 -> 0.06152 | J16: =(1+G16)*J15 -> 2.9952686 | K16: =(1+H16)*K15 -> 1.3039039 | L16: =(1+I16)*L15 -> 2.3749721 | O16: =E16-H16 -> -0.00544 | P16: =(1+O16)*P15 -> 1.170903
A17: 15157 | B17: 1941 | C17: 0.0567 | D17: 0.0395 | E17: =$C$1*C17+$D$1*D17 -> 0.04982 | G17: =AVERAGE(E13:E17) -> 0.004504 | H17: =MAX(0,0.5*(G17-0.075)) -> 0 | I17: =G17-H17 -> 0.004504 | J17: =(1+G17)*J16 -> 3.0087593 | K17: =(1+H17)*K16 -> 1.3039039 | L17: =(1+I17)*L16 -> 2.385669 | O17: =E17-H17 -> 0.04982 | P17: =(1+O17)*P16 -> 1.2292373
A18: 15522 | B18: 1942 | C18: -0.093 | D18: 0.0213 | E18: =$C$1*C18+$D$1*D18 -> -0.04728 | G18: =AVERAGE(E14:E18) -> -0.017724 | H18: =MAX(0,0.5*(G18-0.075)) -> 0 | I18: =G18-H18 -> -0.017724 | J18: =(1+G18)*J17 -> 2.9554321 | K18: =(1+H18)*K17 -> 1.3039039 | L18: =(1+I18)*L17 -> 2.3433854 | O18: =E18-H18 -> -0.04728 | P18: =(1+O18)*P17 -> 1.171119
A19: 15887 | B19: 1943 | C19: 0.5763 | D19: 0.0362 | E19: =$C$1*C19+$D$1*D19 -> 0.36026 | G19: =AVERAGE(E15:E19) -> 0.074612 | H19: =MAX(0,0.5*(G19-0.075)) -> 0 | I19: =G19-H19 -> 0.074612 | J19: =(1+G19)*J18 -> 3.1759428 | K19: =(1+H19)*K18 -> 1.3039039 | L19: =(1+I19)*L18 -> 2.5182301 | O19: =E19-H19 -> 0.36026 | P19: =(1+O19)*P18 -> 1.5930263
... A80: 38168 | B80: 2004 | C80: 0.1911 | D80: 0.0033 | E80: =$C$1*C80+$D$1*D80 -> 0.11598 | G80: =AVERAGE(E76:E80) -> 0.020716 | H80: =MAX(0,0.5*(G80-0.075)) -> 0 | I80: =G80-H80 -> 0.020716 | J80: =(1+G80)*J79 -> 1391.6414 | K80: =(1+H80)*K79 -> 4.0076278 | L80: =(1+I80)*L79 -> 402.47264 | O80: =E80-H80 -> 0.11598 | P80: =(1+O80)*P79 -> 161.65849
A81: 38533 | B81: 2005 | C81: 0.0631 | D81: 0.0681 | E81: =MIN($C$1*C81,100)+MIN($D$1*D81,100) -> 0.0651 | G81: =AVERAGE(E77:E81) -> 0.021304 | H81: =MAX(0,0.5*(G81-0.075)) -> 0 | I81: =G81-H81 -> 0.021304 | J81: =(1+G81)*J80 -> 1421.289 | K81: =(1+H81)*K80 -> 4.0076278 | L81: =(1+I81)*L80 -> 411.04691 | O81: =E81-H81 -> 0.0651 | P81: =(1+O81)*P80 -> 172.18245
A82: 38898 | B82: 2006 | C82: 0.0863 | D82: -0.0081 | E82: =MIN($C$1*C82,100)+MIN($D$1*D82,100) -> 0.04854 | G82: =AVERAGE(E78:E82) -> 0.039836 | H82: =MAX(0,0.5*(G82-0.075)) -> 0 | I82: =G82-H82 -> 0.039836 | J82: =(1+G82)*J81 -> 1477.9074 | K82: =(1+H82)*K81 -> 4.0076278 | L82: =(1+I82)*L81 -> 427.42138 | O82: =E82-H82 -> 0.04854 | P82: =(1+O82)*P81 -> 180.54019
A83: 39263 | B83: 2007 | C83: 0.2059 | D83: 0.0612 | E83: =MIN($C$1*C83,100)+MIN($D$1*D83,100) -> 0.14802 | G83: =AVERAGE(E79:E83) -> 0.084112 | H83: =MAX(0,0.5*(G83-0.075)) -> 0.004556 | I83: =G83-H83 -> 0.079556 | J83: =(1+G83)*J82 -> 1602.2172 | K83: =(1+H83)*K82 -> 4.0258865 | L83: =(1+I83)*L82 -> 461.42531 | O83: =E83-H83 -> 0.143464 | P83: =(1+O83)*P82 -> 206.44121
A84: 39629 | B84: 2008 | C84: -0.1312 | D84: 0.0712 | E84: =MIN($C$1*C84,100)+MIN($D$1*D84,100) -> -0.05024 | G84: =AVERAGE(E80:E84) -> 0.06548 | H84: =MAX(0,0.5*(G84-0.075)) -> 0 | I84: =G84-H84 -> 0.06548 | J84: =(1+G84)*J83 -> 1707.1303 | K84: =(1+H84)*K83 -> 4.0258865 | L84: =(1+I84)*L83 -> 491.63944 | O84: =E84-H84 -> -0.05024 | P84: =(1+O84)*P83 -> 196.0696
A85: 39994 | B85: 2009 | C85: -0.2621 | D85: 0.0605 | E85: =MIN($C$1*C85,100)+MIN($D$1*D85,100) -> -0.13306 | G85: =AVERAGE(E81:E85) -> 0.015672 | H85: =MAX(0,0.5*(G85-0.075)) -> 0 | I85: =G85-H85 -> 0.015672 | J85: =(1+G85)*J84 -> 1733.8845 | K85: =(1+H85)*K84 -> 4.0258865 | L85: =(1+I85)*L84 -> 499.34441 | O85: =E85-H85 -> -0.13306 | P85: =(1+O85)*P84 -> 169.98058
A86: 40359 | B86: 2010 | C86: 0.1443 | D86: 0.095 | E86: =MIN($C$1*C86,100)+MIN($D$1*D86,100) -> 0.12458 | G86: =AVERAGE(E82:E86) -> 0.027568 | H86: =MAX(0,0.5*(G86-0.075)) -> 0 | I86: =G86-H86 -> 0.027568 | J86: =(1+G86)*J85 -> 1781.6842 | K86: =(1+H86)*K85 -> 4.0258865 | L86: =(1+I86)*L85 -> 513.11034 | O86: =E86-H86 -> 0.12458 | P86: =(1+O86)*P85 -> 191.15676
C88: =C2 -> S&P 500 | D88: =D2 -> Lehman Bros/Barclays | E88: =E2 -> Blended | G88: =G2 -> Five year Average | H88: =H2 -> 50% of excess above 7.5% | I88: =I2 -> Return net of skim | J88: =J2 -> Average | K88: =K2 -> above 7.5% | L88: =L2 -> to 7.5% | O88: =O2 -> Annual less Skim Blended
A89: since 1950 | B89: mean | C89: =AVERAGE(C$26:C$86) -> 0.12465574 | D89: =AVERAGE(D$26:D$86) -> 0.06242459 | E89: =AVERAGE(E$26:E$86) -> 0.099763279 | F89: mean | G89: =AVERAGE(G$26:G$86) -> 0.099792459 | H89: =AVERAGE(H$26:H$86) -> 0.017281836 | I89: =AVERAGE(I$26:I$86) -> 0.082510623 | N89: mean | O89: =AVERAGE(O$26:O$86) -> 0.082481443
B90: geometric | C90: {=GEOMEAN(C26:C86+1)-1} -> 0.11094998 | D90: {=GEOMEAN(D26:D86+1)-1} -> 0.059864491 | E90: {=GEOMEAN(E26:E86+1)-1} -> 0.093667805 | F90: geometric | G90: {=GEOMEAN(G26:G86+1)-1} -> 0.098562012 | H90: {=GEOMEAN(H26:H86+1)-1} -> 0.017071898 | I90: {=GEOMEAN(I26:I86+1)-1} -> 0.081999496 | N90: geometric | O90: {=GEOMEAN(O26:O86+1)-1} -> 0.077133581
B91: stdev | C91: =STDEV(C$26:C$86) -> 0.17493207 | D91: =STDEV(D$26:D$86) -> 0.075505688 | E91: =STDEV(E$26:E$86) -> 0.11744718 | F91: stdev | G91: =STDEV(G$26:G$86) -> 0.052766651 | H91: =STDEV(H$26:H$86) -> 0.02100007 | I91: =STDEV(I$26:I$86) -> 0.033435801 | N91: stdev | O91: =STDEV(O$26:O$86) -> 0.10907913
E92: =(E91^2)/2 -> 0.0068969205 | F92: StDev2/2 | G92: =(G91^2)/2 -> 0.0013921597 | H92: =(H91^2)/2 -> 0.00022050148 | I92: =(I91^2)/2 -> 0.0005589764 | N92: StDev2/2 | O92: =(O91^2)/2 -> 0.0059491285
A95: Since 1980 | B95: mean | C95: =AVERAGE(C$56:C$86) -> 0.12386774 | D95: =AVERAGE(D$56:D$86) -> 0.087735484 | E95: =AVERAGE(E$56:E$86) -> 0.10941484 | F95: mean | G95: =AVERAGE(G$56:G$86) -> 0.11297832 | H95: =AVERAGE(H$56:H$86) -> 0.024303032 | I95: =AVERAGE(I$56:I$86) -> 0.08867529 | N95: mean | O95: =AVERAGE(O$56:O$86) -> 0.085111806
B96: geometric | C96: {=GEOMEAN(C56:C86+1)-1} -> 0.108481 | D96: {=GEOMEAN(D56:D86+1)-1} -> 0.085225739 | E96: {=GEOMEAN(E56:E86+1)-1} -> 0.10255666 | F96: geometric | G96: {=GEOMEAN(G56:G86+1)-1} -> 0.11131597 | H96: {=GEOMEAN(H56:H86+1)-1} -> 0.024026958 | I96: {=GEOMEAN(I56:I86+1)-1} -> 0.087991355 | N96: geometric | O96: {=GEOMEAN(O56:O86+1)-1} -> 0.079284831
B97: stdev | C97: =STDEV(C$56:C$86) -> 0.18627522 | D97: =STDEV(D$56:D$86) -> 0.076778163 | E97: =STDEV(E$56:E$86) -> 0.12710367 | F97: stdev | G97: =STDEV(G$56:G$86) -> 0.061870355 | H97: =STDEV(H$56:H$86) -> 0.024300407 | I97: =STDEV(I$56:I$86) -> 0.03902076 | N97: stdev | O97: =STDEV(O$56:O$86) -> 0.11593901
E98: =(E97^2)/2 -> 0.0080776717 | F98: StDev2/2 | G98: =(G97^2)/2 -> 0.0019139704 | H98: =(H97^2)/2 -> 0.00029525488 | I98: =(I97^2)/2 -> 0.00076130987 | N98: StDev2/2 | O98: =(O97^2)/2 -> 0.0067209268

Sheet Random Generator
A1: Trial | B1: Random Numbers | H1: Fixed Trial
A2: 1 | B2: =RAND() -> 0.52639925 | C2: =RAND() -> 0.25484175 | D2: =RAND() -> 0.28357401 | E2: =RAND() -> 0.53917243 | F2: =RAND() -> 0.37021094 | H2: 0.45047407 | I2: 0.30789753 | J2: 0.23415323 | K2: 0.86719245 | L2: 0.87748822
A3: =A2+1 -> 2 | B3: =RAND() -> 0.47043805 | C3: =RAND() -> 0.33583696 | D3: =RAND() -> 0.38396034 | E3: =RAND() -> 0.55395037 | F3: =RAND() -> 0.7698871 | H3: 0.24362181 | I3: 0.064229532 | J3: 0.60579151 | K3: 0.092662749 | L3: 0.41811694
A4: =A3+1 -> 3 | B4: =RAND() -> 0.73652863 | C4: =RAND() -> 0.34406304 | D4: =RAND() -> 0.93445221 | E4: =RAND() -> 0.22037936 | F4: =RAND() -> 0.13881038 | H4: 0.84539461 | I4: 0.15623962 | J4: 0.94875759 | K4: 0.85283712 | L4: 0.32311424
A5: =A4+1 -> 4 | B5: =RAND() -> 0.3968137 | C5: =RAND() -> 0.55271029 | D5: =RAND() -> 0.2655422 | E5: =RAND() -> 0.44490441 | F5: =RAND() -> 0.53108297 | H5: 0.59219979 | I5: 0.017240508 | J5: 0.20566221 | K5: 0.0042149635 | L5: 0.30660659
A6: =A5+1 -> 5 | B6: =RAND() -> 0.54418806 | C6: =RAND() -> 0.32044275 | D6: =RAND() -> 0.82312821 | E6: =RAND() -> 0.86228882 | F6: =RAND() -> 0.41682141 | H6: 0.18989127 | I6: 0.21101487 | J6: 0.55595064 | K6: 0.29604838 | L6: 0.1097054
A7: =A6+1 -> 6 | B7: =RAND() -> 0.65654824 | C7: =RAND() -> 0.57287496 | D7: =RAND() -> 0.799473 | E7: =RAND() -> 0.84305467 | F7: =RAND() -> 0.57056833 | H7: 0.70680455 | I7: 0.074237359 | J7: 0.77751699 | K7: 0.26009259 | L7: 0.98717498
A8: =A7+1 -> 7 | B8: =RAND() -> 0.84548652 | C8: =RAND() -> 0.69872625 | D8: =RAND() -> 0.31367179 | E8: =RAND() -> 0.35129949 | F8: =RAND() -> 0.30112097 | H8: 0.96570988 | I8: 0.45263312 | J8: 0.74120209 | K8: 0.085493846 | L8: 0.76784757
A9: =A8+1 -> 8 | B9: =RAND() -> 0.90317877 | C9: =RAND() -> 0.91745113 | D9: =RAND() -> 0.57109759 | E9: =RAND() -> 0.93713921 | F9: =RAND() -> 0.43886965 | H9: 0.65417026 | I9: 0.54837087 | J9: 0.84414435 | K9: 0.43629534 | L9: 0.15779965
A10: =A9+1 -> 9 | B10: =RAND() -> 0.74544044 | C10: =RAND() -> 0.65914773 | D10: =RAND() -> 0.12987352 | E10: =RAND() -> 0.18753868 | F10: =RAND() -> 0.57226942 | H10: 0.51098226 | I10: 0.13969045 | J10: 0.97442529 | K10: 0.60178862 | L10: 0.12722421
A11: =A10+1 -> 10 | B11: =RAND() -> 0.4965026 | C11: =RAND() -> 0.80486856 | D11: =RAND() -> 0.65340156 | E11: =RAND() -> 0.21158464 | F11: =RAND() -> 0.3022751 | H11: 0.70921781 | I11: 0.41981738 | J11: 0.53319728 | K11: 0.3135689 | L11: 0.090658873
A12: =A11+1 -> 11 | B12: =RAND() -> 0.77872699 | C12: =RAND() -> 0.57391843 | D12: =RAND() -> 0.076262727 | E12: =RAND() -> 0.88400243 | F12: =RAND() -> 0.55247132 | H12: 0.40134183 | I12: 0.7190151 | J12: 0.37869324 | K12: 0.47399524 | L12: 0.72314588
A13: =A12+1 -> 12 | B13: =RAND() -> 0.11303144 | C13: =RAND() -> 0.99089527 | D13: =RAND() -> 0.49293212 | E13: =RAND() -> 0.15914932 | F13: =RAND() -> 0.011619347 | H13: 0.33763676 | I13: 0.22662573 | J13: 0.7099747 | K13: 0.29844323 | L13: 0.73819819
A14: =A13+1 -> 13 | B14: =RAND() -> 0.70588732 | C14: =RAND() -> 0.97180789 | D14: =RAND() -> 0.062873648 | E14: =RAND() -> 0.16617795 | F14: =RAND() -> 0.48755912 | H14: 0.06518452 | I14: 0.1975275 | J14: 0.15673365 | K14: 0.19015201 | L14: 0.45341311
... A2001: =A2000+1 -> 2000 | B2001: =RAND() -> 0.88175492 | C2001: =RAND() -> 0.20140855 | D2001: =RAND() -> 0.19605376 | E2001: =RAND() -> 0.87243005 | F2001: =RAND() -> 0.12152123 | H2001: 0.89133752 | I2001: 0.58447151 | J2001: 0.24404916 | K2001: 0.35612133 | L2001: 0.29581051

Sheet Allocation Modeling
A1: % Allocation to Equity | C1: 0.6
A3: % Equity | B3: Geometric Mean | C3: Skim | D3: Arithmetic Mean | E3: Skim
B4: ='Monte Carlo Trials'!Q7 -> 0.094210922 | C4: ='Monte Carlo Trials'!R7 -> 0.01017192 | D4: ='Monte Carlo Trials'!W7 -> 0.098944653 | E4: ='Monte Carlo Trials'!X7 -> 0.012214742
A5: 0 | B5: 0.059926096 | C5: 0.0065685684 | D5: 0.061965641 | E5: 0.0074333991
A6: 0.01 | B6: 0.060563279 | C6: 0.006549435 | D6: 0.062589756 | E6: 0.0074086164
A7: 0.02 | B7: 0.061198127 | C7: 0.0065335258 | D7: 0.063213577 | E7: 0.0073879397
A8: 0.03 | B8: 0.061830642 | C8: 0.0065208652 | D8: 0.063837104 | E8: 0.0073713917
A9: 0.04 | B9: 0.062460828 | C9: 0.0065114727 | D9: 0.064460336 | E9: 0.0073589903
A10: 0.05 | B10: 0.063088687 | C10: 0.0065053633 | D10: 0.065083272 | E10: 0.0073507484
A11: 0.06 | B11: 0.063714222 | C11: 0.0065025464 | D11: 0.065705912 | E11: 0.0073466742
A12: 0.07 | B12: 0.064337436 | C12: 0.0065030268 | D12: 0.066328257 | E12: 0.0073467705
A13: 0.08 | B13: 0.064958334 | C13: 0.0065068037 | D13: 0.066950306 | E13: 0.0073510353
A14: 0.09 | B14: 0.065576919 | C14: 0.0065138715 | D14: 0.06757206 | E14: 0.0073594612
A15: 0.1 | B15: 0.066193196 | C15: 0.0065242193 | D15: 0.068193519 | E15: 0.0073720359
A16: 0.11 | B16: 0.06680717 | C16: 0.0065378313 | D16: 0.068814686 | E16: 0.0073887422
... A105: 1 | B105: 0.11306665 | C105: 0.015019724 | D105: 0.12320772 | E105: 0.019496204
